Workbook

Sheet MODELO ESTUDIO MERCADO
A1: ESTUDIO DE MERCADO
F2: COTIZACIÒN No. 1 | I2: COTIZACIÒN No. 2 | L2: COTIZACIÒN No. 3 | O2: ECOFULMINAR
A3: N° | B3: UNSPSC | C3: DESCRIPCIÓN | D3: UNIDAD DE MEDIDA | E3: CANTIDAD PROYECTADA | F3: VR UNITARIO | G3: VR TOTAL | H3: DESVIACIÓN COT.1 | I3: VR UNITARIO | J3: VR TOTAL | K3: DESVIACIÓN COT.2 | L3: VR UNITARIO | M3: VR TOTAL | N3: DESVIACIÓN COT3. | O3: VR UNITARIO | P3: VR TOTAL | Q3: DESVIACIÓN COT4. | R3: COTIZACIÓN 5 | S3: DESVIACIÓN COT.5 | T3: COTIZACIÓN 6 | U3: DESVIACIÓN COT.6 | V3: COTIZACIÓN 7 | W3: DESVIACIÓN COT.7 | X3: COTIZACIÓN 8 | Y3: DESVIACIÓN COT.8 | Z3: PROMEDIO (PRECIO DE REFERENCIA UNITARIO) | AA3: VR TOTAL DE REFERENCIA | AB3: CANT MINIMAS | AC3: NECESIDAD MINIMA
A4: 1 | B4: 72102103 | C4: Transporte de agua residual desde la PTAR hasta el sitio de disposición final | D4: Barril | E4: 310 | F4: 13244 | G4: =F4*E4 -> 4105640 | H4: =IF('MODELO ESTUDIO MERCADO'!$F4>0,ABS(1-'MODELO ESTUDIO MERCADO'!$F4/'MODELO ESTUDIO MERCADO'!$Z4),"") -> 0.079062652 | I4: 14500 | J4: =I4*E4 -> 4495000 | K4: =IF('MODELO ESTUDIO MERCADO'!$I4>0,ABS(1-'MODELO ESTUDIO MERCADO'!$I4/'MODELO ESTUDIO MERCADO'!$Z4),"") -> 0.008274807 | L4: 15400 | M4: =L4*E4 -> 4774000 | N4: =IF('MODELO ESTUDIO MERCADO'!$L4>0,ABS(1-'MODELO ESTUDIO MERCADO'!$L4/'MODELO ESTUDIO MERCADO'!$Z4),"") -> 0.070857381 | S4: =IF('MODELO ESTUDIO MERCADO'!$R4>0,ABS(1-'MODELO ESTUDIO MERCADO'!$R4/'MODELO ESTUDIO MERCADO'!$Z4),"") | U4: =IF('MODELO ESTUDIO MERCADO'!$T4>0,ABS(1-'MODELO ESTUDIO MERCADO'!$T4/'MODELO ESTUDIO MERCADO'!$Z4),"") | W4: =IF('MODELO ESTUDIO MERCADO'!$V4>0,ABS(1-'MODELO ESTUDIO MERCADO'!$V4/'MODELO ESTUDIO MERCADO'!$Z4),"") | Y4: =IF('MODELO ESTUDIO MERCADO'!$X4>0,ABS(1-'MODELO ESTUDIO MERCADO'!$X4/'MODELO ESTUDIO MERCADO'!$Z4),"") | Z4: =IF(SUM('MODELO ESTUDIO MERCADO'!$F4,'MODELO ESTUDIO MERCADO'!$I4,'MODELO ESTUDIO MERCADO'!$L4,'MODELO ESTUDIO MERCADO'!$O4,'MODELO ESTUDIO MERCADO'!$R4,'MODELO ESTUDIO MERCADO'!$T4,'MODELO ESTUDIO MERCADO'!$V4,'MODELO ESTUDIO MERCADO'!$X4)>0,TRUNC(AVERAGE('MODELO ESTUDIO MERCADO'!$F4,'MODELO ESTUDIO MERCADO'!$I4,'MODELO ESTUDIO MERCADO'!$L4,'MODELO ESTUDIO MERCADO'!$O4,'MODELO ESTUDIO MERCADO'!$R4,'MODELO ESTUDIO MERCADO'!$T4,'MODELO ESTUDIO MERCADO'!$V4,'MODELO ESTUDIO MERCADO'!$X4)),"SIN DATOS") -> 14381 | AA4: =Z4*E4 -> 4458110 | AB4: =E4 -> 310 | AC4: =Z4*AB4 -> 4458110
A5: 2 | B5: 72102103 | C5: Transporte de lodos desde la PTAR hasta el sitio de disposición final | D5: Barril | E5: 296 | F5: 17850 | G5: =F5*E5 -> 5283600 | H5: =IF('MODELO ESTUDIO MERCADO'!$F5>0,ABS(1-'MODELO ESTUDIO MERCADO'!$F5/'MODELO ESTUDIO MERCADO'!$Z5),"") -> 0.062992126 | I5: 19800 | J5: =I5*E5 -> 5860800 | K5: =IF('MODELO ESTUDIO MERCADO'!$I5>0,ABS(1-'MODELO ESTUDIO MERCADO'!$I5/'MODELO ESTUDIO MERCADO'!$Z5),"") -> 0.039370079 | L5: 19500 | M5: =L5*E5 -> 5772000 | N5: =IF('MODELO ESTUDIO MERCADO'!$L5>0,ABS(1-'MODELO ESTUDIO MERCADO'!$L5/'MODELO ESTUDIO MERCADO'!$Z5),"") -> 0.023622047 | S5: =IF('MODELO ESTUDIO MERCADO'!$R5>0,ABS(1-'MODELO ESTUDIO MERCADO'!$R5/'MODELO ESTUDIO MERCADO'!$Z5),"") | U5: =IF('MODELO ESTUDIO MERCADO'!$T5>0,ABS(1-'MODELO ESTUDIO MERCADO'!$T5/'MODELO ESTUDIO MERCADO'!$Z5),"") | W5: =IF('MODELO ESTUDIO MERCADO'!$V5>0,ABS(1-'MODELO ESTUDIO MERCADO'!$V5/'MODELO ESTUDIO MERCADO'!$Z5),"") | Y5: =IF('MODELO ESTUDIO MERCADO'!$X5>0,ABS(1-'MODELO ESTUDIO MERCADO'!$X5/'MODELO ESTUDIO MERCADO'!$Z5),"") | Z5: =IF(SUM('MODELO ESTUDIO MERCADO'!$F5,'MODELO ESTUDIO MERCADO'!$I5,'MODELO ESTUDIO MERCADO'!$L5,'MODELO ESTUDIO MERCADO'!$O5,'MODELO ESTUDIO MERCADO'!$R5,'MODELO ESTUDIO MERCADO'!$T5,'MODELO ESTUDIO MERCADO'!$V5,'MODELO ESTUDIO MERCADO'!$X5)>0,TRUNC(AVERAGE('MODELO ESTUDIO MERCADO'!$F5,'MODELO ESTUDIO MERCADO'!$I5,'MODELO ESTUDIO MERCADO'!$L5,'MODELO ESTUDIO MERCADO'!$O5,'MODELO ESTUDIO MERCADO'!$R5,'MODELO ESTUDIO MERCADO'!$T5,'MODELO ESTUDIO MERCADO'!$V5,'MODELO ESTUDIO MERCADO'!$X5)),"SIN DATOS") -> 19050 | AA5: =Z5*E5 -> 5638800 | AB5: =E5 -> 296 | AC5: =Z5*AB5 -> 5638800
A6: 3 | B6: 72102103 | C6: Tratamiento y disposición final de agua residual | D6: Barril | E6: 310 | F6: 20230 | G6: =F6*E6 -> 6271300 | H6: =IF('MODELO ESTUDIO MERCADO'!$F6>0,ABS(1-'MODELO ESTUDIO MERCADO'!$F6/'MODELO ESTUDIO MERCADO'!$Z6),"") -> 0.18609287 | I6: 14280 | J6: =I6*E6 -> 4426800 | K6: =IF('MODELO ESTUDIO MERCADO'!$I6>0,ABS(1-'MODELO ESTUDIO MERCADO'!$I6/'MODELO ESTUDIO MERCADO'!$Z6),"") -> 0.16275797 | L6: 16660 | M6: =L6*E6 -> 5164600 | N6: =IF('MODELO ESTUDIO MERCADO'!$L6>0,ABS(1-'MODELO ESTUDIO MERCADO'!$L6/'MODELO ESTUDIO MERCADO'!$Z6),"") -> 0.023217636 | S6: =IF('MODELO ESTUDIO MERCADO'!$R6>0,ABS(1-'MODELO ESTUDIO MERCADO'!$R6/'MODELO ESTUDIO MERCADO'!$Z6),"") | U6: =IF('MODELO ESTUDIO MERCADO'!$T6>0,ABS(1-'MODELO ESTUDIO MERCADO'!$T6/'MODELO ESTUDIO MERCADO'!$Z6),"") | W6: =IF('MODELO ESTUDIO MERCADO'!$V6>0,ABS(1-'MODELO ESTUDIO MERCADO'!$V6/'MODELO ESTUDIO MERCADO'!$Z6),"") | Y6: =IF('MODELO ESTUDIO MERCADO'!$X6>0,ABS(1-'MODELO ESTUDIO MERCADO'!$X6/'MODELO ESTUDIO MERCADO'!$Z6),"") | Z6: =IF(SUM('MODELO ESTUDIO MERCADO'!$F6,'MODELO ESTUDIO MERCADO'!$I6,'MODELO ESTUDIO MERCADO'!$L6,'MODELO ESTUDIO MERCADO'!$O6,'MODELO ESTUDIO MERCADO'!$R6,'MODELO ESTUDIO MERCADO'!$T6,'MODELO ESTUDIO MERCADO'!$V6,'MODELO ESTUDIO MERCADO'!$X6)>0,TRUNC(AVERAGE('MODELO ESTUDIO MERCADO'!$F6,'MODELO ESTUDIO MERCADO'!$I6,'MODELO ESTUDIO MERCADO'!$L6,'MODELO ESTUDIO MERCADO'!$O6,'MODELO ESTUDIO MERCADO'!$R6,'MODELO ESTUDIO MERCADO'!$T6,'MODELO ESTUDIO MERCADO'!$V6,'MODELO ESTUDIO MERCADO'!$X6)),"SIN DATOS") -> 17056 | AA6: =Z6*E6 -> 5287360 | AB6: =E6 -> 310 | AC6: =Z6*AB6 -> 5287360
A7: 4 | B7: 72102103 | C7: Tratamiento y disposición final de lodos | D7: Barril | E7: 296 | F7: 29750 | G7: =F7*E7 -> 8806000 | H7: =IF('MODELO ESTUDIO MERCADO'!$F7>0,ABS(1-'MODELO ESTUDIO MERCADO'!$F7/'MODELO ESTUDIO MERCADO'!$Z7),"") -> 0.2195122 | I7: 20825 | J7: =I7*E7 -> 6164200 | K7: =IF('MODELO ESTUDIO MERCADO'!$I7>0,ABS(1-'MODELO ESTUDIO MERCADO'!$I7/'MODELO ESTUDIO MERCADO'!$Z7),"") -> 0.14634146 | L7: 22610 | M7: =L7*E7 -> 6692560 | N7: =IF('MODELO ESTUDIO MERCADO'!$L7>0,ABS(1-'MODELO ESTUDIO MERCADO'!$L7/'MODELO ESTUDIO MERCADO'!$Z7),"") -> 0.073170732 | S7: =IF('MODELO ESTUDIO MERCADO'!$R7>0,ABS(1-'MODELO ESTUDIO MERCADO'!$R7/'MODELO ESTUDIO MERCADO'!$Z7),"") | U7: =IF('MODELO ESTUDIO MERCADO'!$T7>0,ABS(1-'MODELO ESTUDIO MERCADO'!$T7/'MODELO ESTUDIO MERCADO'!$Z7),"") | W7: =IF('MODELO ESTUDIO MERCADO'!$V7>0,ABS(1-'MODELO ESTUDIO MERCADO'!$V7/'MODELO ESTUDIO MERCADO'!$Z7),"") | Y7: =IF('MODELO ESTUDIO MERCADO'!$X7>0,ABS(1-'MODELO ESTUDIO MERCADO'!$X7/'MODELO ESTUDIO MERCADO'!$Z7),"") | Z7: =IF(SUM('MODELO ESTUDIO MERCADO'!$F7,'MODELO ESTUDIO MERCADO'!$I7,'MODELO ESTUDIO MERCADO'!$L7,'MODELO ESTUDIO MERCADO'!$O7,'MODELO ESTUDIO MERCADO'!$R7,'MODELO ESTUDIO MERCADO'!$T7,'MODELO ESTUDIO MERCADO'!$V7,'MODELO ESTUDIO MERCADO'!$X7)>0,TRUNC(AVERAGE('MODELO ESTUDIO MERCADO'!$F7,'MODELO ESTUDIO MERCADO'!$I7,'MODELO ESTUDIO MERCADO'!$L7,'MODELO ESTUDIO MERCADO'!$O7,'MODELO ESTUDIO MERCADO'!$R7,'MODELO ESTUDIO MERCADO'!$T7,'MODELO ESTUDIO MERCADO'!$V7,'MODELO ESTUDIO MERCADO'!$X7)),"SIN DATOS") -> 24395 | AA7: =Z7*E7 -> 7220920 | AB7: =E7 -> 296 | AC7: =Z7*AB7 -> 7220920
A8: 5 | B8: 72102103 | C8: Limpieza de PTAR y retro lavado del lecho filtrante | D8: Unidad | E8: 1 | F8: 2499000 | G8: =F8*E8 -> 2499000 | H8: =IF('MODELO ESTUDIO MERCADO'!$F8>0,ABS(1-'MODELO ESTUDIO MERCADO'!$F8/'MODELO ESTUDIO MERCADO'!$Z8),"") -> 0.067796762 | I8: 2142000 | J8: =I8*E8 -> 2142000 | K8: =IF('MODELO ESTUDIO MERCADO'!$I8>0,ABS(1-'MODELO ESTUDIO MERCADO'!$I8/'MODELO ESTUDIO MERCADO'!$Z8),"") -> 0.084745632 | L8: 2380000 | M8: =L8*E8 -> 2380000 | N8: =IF('MODELO ESTUDIO MERCADO'!$L8>0,ABS(1-'MODELO ESTUDIO MERCADO'!$L8/'MODELO ESTUDIO MERCADO'!$Z8),"") -> 0.016949297 | S8: =IF('MODELO ESTUDIO MERCADO'!$R8>0,ABS(1-'MODELO ESTUDIO MERCADO'!$R8/'MODELO ESTUDIO MERCADO'!$Z8),"") | U8: =IF('MODELO ESTUDIO MERCADO'!$T8>0,ABS(1-'MODELO ESTUDIO MERCADO'!$T8/'MODELO ESTUDIO MERCADO'!$Z8),"") | W8: =IF('MODELO ESTUDIO MERCADO'!$V8>0,ABS(1-'MODELO ESTUDIO MERCADO'!$V8/'MODELO ESTUDIO MERCADO'!$Z8),"") | Y8: =IF('MODELO ESTUDIO MERCADO'!$X8>0,ABS(1-'MODELO ESTUDIO MERCADO'!$X8/'MODELO ESTUDIO MERCADO'!$Z8),"") | Z8: =IF(SUM('MODELO ESTUDIO MERCADO'!$F8,'MODELO ESTUDIO MERCADO'!$I8,'MODELO ESTUDIO MERCADO'!$L8,'MODELO ESTUDIO MERCADO'!$O8,'MODELO ESTUDIO MERCADO'!$R8,'MODELO ESTUDIO MERCADO'!$T8,'MODELO ESTUDIO MERCADO'!$V8,'MODELO ESTUDIO MERCADO'!$X8)>0,TRUNC(AVERAGE('MODELO ESTUDIO MERCADO'!$F8,'MODELO ESTUDIO MERCADO'!$I8,'MODELO ESTUDIO MERCADO'!$L8,'MODELO ESTUDIO MERCADO'!$O8,'MODELO ESTUDIO MERCADO'!$R8,'MODELO ESTUDIO MERCADO'!$T8,'MODELO ESTUDIO MERCADO'!$V8,'MODELO ESTUDIO MERCADO'!$X8)),"SIN DATOS") -> 2340333 | AA8: =Z8*E8 -> 2340333 | AB8: =E8 -> 1 | AC8: =Z8*AB8 -> 2340333
A9: 6 | B9: 72102103 | C9: Limpieza de caja de inspección de agua residual | D9: Unidad | E9: 1 | F9: 1103130 | G9: =F9*E9 -> 1103130 | H9: =IF('MODELO ESTUDIO MERCADO'!$F9>0,ABS(1-'MODELO ESTUDIO MERCADO'!$F9/'MODELO ESTUDIO MERCADO'!$Z9),"") -> 0.19510142 | I9: 952000 | J9: =I9*E9 -> 952000 | K9: =IF('MODELO ESTUDIO MERCADO'!$I9>0,ABS(1-'MODELO ESTUDIO MERCADO'!$I9/'MODELO ESTUDIO MERCADO'!$Z9),"") -> 0.031371236 | L9: 714000 | M9: =L9*E9 -> 714000 | N9: =IF('MODELO ESTUDIO MERCADO'!$L9>0,ABS(1-'MODELO ESTUDIO MERCADO'!$L9/'MODELO ESTUDIO MERCADO'!$Z9),"") -> 0.22647157 | S9: =IF('MODELO ESTUDIO MERCADO'!$R9>0,ABS(1-'MODELO ESTUDIO MERCADO'!$R9/'MODELO ESTUDIO MERCADO'!$Z9),"") | U9: =IF('MODELO ESTUDIO MERCADO'!$T9>0,ABS(1-'MODELO ESTUDIO MERCADO'!$T9/'MODELO ESTUDIO MERCADO'!$Z9),"") | W9: =IF('MODELO ESTUDIO MERCADO'!$V9>0,ABS(1-'MODELO ESTUDIO MERCADO'!$V9/'MODELO ESTUDIO MERCADO'!$Z9),"") | Y9: =IF('MODELO ESTUDIO MERCADO'!$X9>0,ABS(1-'MODELO ESTUDIO MERCADO'!$X9/'MODELO ESTUDIO MERCADO'!$Z9),"") | Z9: =IF(SUM('MODELO ESTUDIO MERCADO'!$F9,'MODELO ESTUDIO MERCADO'!$I9,'MODELO ESTUDIO MERCADO'!$L9,'MODELO ESTUDIO MERCADO'!$O9,'MODELO ESTUDIO MERCADO'!$R9,'MODELO ESTUDIO MERCADO'!$T9,'MODELO ESTUDIO MERCADO'!$V9,'MODELO ESTUDIO MERCADO'!$X9)>0,TRUNC(AVERAGE('MODELO ESTUDIO MERCADO'!$F9,'MODELO ESTUDIO MERCADO'!$I9,'MODELO ESTUDIO MERCADO'!$L9,'MODELO ESTUDIO MERCADO'!$O9,'MODELO ESTUDIO MERCADO'!$R9,'MODELO ESTUDIO MERCADO'!$T9,'MODELO ESTUDIO MERCADO'!$V9,'MODELO ESTUDIO MERCADO'!$X9)),"SIN DATOS") -> 923043 | AA9: =Z9*E9 -> 923043 | AB9: =E9 -> 1 | AC9: =Z9*AB9 -> 923043
A10: 7 | C10: Limpieza del Sistema Séptico integrado | D10: Unidad | E10: 1 | F10: 1103130 | G10: =F10*E10 -> 1103130 | H10: =IF('MODELO ESTUDIO MERCADO'!$F10>0,ABS(1-'MODELO ESTUDIO MERCADO'!$F10/'MODELO ESTUDIO MERCADO'!$Z10),"") -> 0.049880151 | I10: 1309000 | J10: =I10*E10 -> 1309000 | K10: =IF('MODELO ESTUDIO MERCADO'!$I10>0,ABS(1-'MODELO ESTUDIO MERCADO'!$I10/'MODELO ESTUDIO MERCADO'!$Z10),"") -> 0.12743456 | L10: 1071000 | M10: =L10*E10 -> 1071000 | N10: =IF('MODELO ESTUDIO MERCADO'!$L10>0,ABS(1-'MODELO ESTUDIO MERCADO'!$L10/'MODELO ESTUDIO MERCADO'!$Z10),"") -> 0.077553545 | Z10: =IF(SUM('MODELO ESTUDIO MERCADO'!$F10,'MODELO ESTUDIO MERCADO'!$I10,'MODELO ESTUDIO MERCADO'!$L10,'MODELO ESTUDIO MERCADO'!$O10,'MODELO ESTUDIO MERCADO'!$R10,'MODELO ESTUDIO MERCADO'!$T10,'MODELO ESTUDIO MERCADO'!$V10,'MODELO ESTUDIO MERCADO'!$X10)>0,TRUNC(AVERAGE('MODELO ESTUDIO MERCADO'!$F10,'MODELO ESTUDIO MERCADO'!$I10,'MODELO ESTUDIO MERCADO'!$L10,'MODELO ESTUDIO MERCADO'!$O10,'MODELO ESTUDIO MERCADO'!$R10,'MODELO ESTUDIO MERCADO'!$T10,'MODELO ESTUDIO MERCADO'!$V10,'MODELO ESTUDIO MERCADO'!$X10)),"SIN DATOS") -> 1161043 | AA10: =Z10*E10 -> 1161043 | AB10: =E10 -> 1 | AC10: =Z10*AB10 -> 1161043
A11: 8 | B11: 72102103 | C11: Limpieza de trampas de grasa | D11: Unidad | E11: 3 | F11: 2238390 | G11: =F11*E11 -> 6715170 | H11: =IF('MODELO ESTUDIO MERCADO'!$F11>0,ABS(1-'MODELO ESTUDIO MERCADO'!$F11/'MODELO ESTUDIO MERCADO'!$Z11),"") -> 0.23182711 | I11: 1428000 | J11: =I11*E11 -> 4284000 | K11: =IF('MODELO ESTUDIO MERCADO'!$I11>0,ABS(1-'MODELO ESTUDIO MERCADO'!$I11/'MODELO ESTUDIO MERCADO'!$Z11),"") -> 0.21414538 | L11: 1785000 | M11: =L11*E11 -> 5355000 | N11: =IF('MODELO ESTUDIO MERCADO'!$L11>0,ABS(1-'MODELO ESTUDIO MERCADO'!$L11/'MODELO ESTUDIO MERCADO'!$Z11),"") -> 0.017681729 | S11: =IF('MODELO ESTUDIO MERCADO'!$R11>0,ABS(1-'MODELO ESTUDIO MERCADO'!$R11/'MODELO ESTUDIO MERCADO'!$Z11),"") | U11: =IF('MODELO ESTUDIO MERCADO'!$T11>0,ABS(1-'MODELO ESTUDIO MERCADO'!$T11/'MODELO ESTUDIO MERCADO'!$Z11),"") | W11: =IF('MODELO ESTUDIO MERCADO'!$V11>0,ABS(1-'MODELO ESTUDIO MERCADO'!$V11/'MODELO ESTUDIO MERCADO'!$Z11),"") | Y11: =IF('MODELO ESTUDIO MERCADO'!$X11>0,ABS(1-'MODELO ESTUDIO MERCADO'!$X11/'MODELO ESTUDIO MERCADO'!$Z11),"") | Z11: =IF(SUM('MODELO ESTUDIO MERCADO'!$F11,'MODELO ESTUDIO MERCADO'!$I11,'MODELO ESTUDIO MERCADO'!$L11,'MODELO ESTUDIO MERCADO'!$O11,'MODELO ESTUDIO MERCADO'!$R11,'MODELO ESTUDIO MERCADO'!$T11,'MODELO ESTUDIO MERCADO'!$V11,'MODELO ESTUDIO MERCADO'!$X11)>0,TRUNC(AVERAGE('MODELO ESTUDIO MERCADO'!$F11,'MODELO ESTUDIO MERCADO'!$I11,'MODELO ESTUDIO MERCADO'!$L11,'MODELO ESTUDIO MERCADO'!$O11,'MODELO ESTUDIO MERCADO'!$R11,'MODELO ESTUDIO MERCADO'!$T11,'MODELO ESTUDIO MERCADO'!$V11,'MODELO ESTUDIO MERCADO'!$X11)),"SIN DATOS") -> 1817130 | AA11: =Z11*E11 -> 5451390 | AB11: 2 | AC11: =Z11*AB11 -> 3634260
A12: TOTAL | G12: =SUM(G4:G11) -> 35886970 | J12: =SUM(J4:J11) -> 29633800 | M12: =SUM(M4:M11) -> 31923160 | AA12: =SUM(AA4:AA11) -> 32480999 | AC12: =SUM(AC4:AC11) -> 30663869
