Workbook
Name ExportarAExcelSQL: ALBAÑILES!$A$1:$E$185

Sheet AGULARES
A2: PRODUCTO | B2: UNDMEDI | C2: CANT | D2: IVA | E2: TOTAL
A3: CEMENTO GRIS X 50 K CORONA ALION | B3: Unidad | C3: 1 | D3: 0.19 | E3: 50730
A4: CEMENTO BLANCO X 40 KLOS | B4: Unidad | C4: 1 | D4: 0.19 | E4: 112848
A5: CEMENTO GRIS X KILO | B5: Unidad | C5: 1 | D5: 0.19 | E5: 1864
A6: CEMENTO BLANCO X KILO | B6: Unidad | C6: 1 | D6: 0.19 | E6: 4141
A7: VARILLA CORRUGADA 1/2 X 6 MTRS CPTA | B7: Unidad | C7: 1 | D7: 0.19 | E7: 42965
A8: VARILLA CORRUGADA 3/4 X 6MTROS CPTA | B8: Unidad | C8: 1 | D8: 0.19 | E8: 98353
A9: VARILLA 3/8 CORRUGADA LEGT X 6 | B9: Unidad | C9: 1 | D9: 0.19 | E9: 24847
A10: VARILLA CORRUGADA 1/4 CPTA | B10: Unidad | C10: 1 | D10: 0.19 | E10: 12217
A11: VARILLA COPPERWELD 2,40 FINA | B11: Unidad | C11: 1 | D11: 0.19 | E11: 96283
A12: GRAPA P/VARILLA COPERWELD | B12: Unidad | C12: 1 | D12: 0.19 | E12: 14494
A13: ADOBE 10X20X40 RAYADO 3 HUECOS | B13: Unidad | C13: 1 | D13: 0 | E13: 3002
A14: ADOBE TOLETE 12 SAN CRIST | B14: Unidad | C14: 1 | D14: 0 | E14: 3624
... A186: TELA ASFALTICA PERMOFRA FINA X 20 MTS | B186: Unidad | C186: 1 | D186: 0.19 | E186: 138730
A187: TOTAL | E187: 14745240

Sheet SERVIFER
A2: FERRETERIA SERVIFER
A3: Electricos y Materiales para la construcción
A4: NIT. 15.322.343 - 8 Régimen Común
A5: Carrera 21 # 20 - 41. Teléfonos 853.69-69 - Yarumal - Antioquia
A7: SEÑORES: MUNICIPIO DE YARUMAL
B9: COTIACION # 24501
C10: 31 DE ENERO DEL 2024
A11: PRODUCTO | B11: UNDMEDI | C11: CANT | D11: IVA | E11: TOTAL
A12: 010252 CEMENTO GRIS X 50 K CORONA ALION | B12: Unidad | C12: 1 | D12: 0.19 | E12: 49980
A13: 010059 CEMENTO BLANCO X 40 KLOS | B13: Unidad | C13: 1 | D13: 0.19 | E13: 111180
A14: 010061 CEMENTO GRIS X KILO | B14: Unidad | C14: 1 | D14: 0.19 | E14: 1836
A15: 010060 CEMENTO BLANCO X KILO | B15: Unidad | C15: 1 | D15: 0.19 | E15: 4080
A16: 180104 VARILLA CORRUGADA 1/2 X 6 MTRS CPTA | B16: Unidad | C16: 1 | D16: 0.19 | E16: 42330
A17: 180106 VARILLA CORRUGADA 3/4 X 6MTROS CPTA | B17: Unidad | C17: 1 | D17: 0.19 | E17: 96900
A18: 180098 VARILLA 3/8 CORRUGADA LEGT X 6 | B18: Unidad | C18: 1 | D18: 0.19 | E18: 24480
A19: 180105 VARILLA CORRUGADA 1/4 CPTA | B19: Unidad | C19: 1 | D19: 0.19 | E19: 12036
A20: 170628 VARILLA COPPERWELD 2,40 FINA | B20: Unidad | C20: 1 | D20: 0.19 | E20: 94860
A21: 080931 GRAPA P/VARILLA COPERWELD | B21: Unidad | C21: 1 | D21: 0.19 | E21: 14280
A22: 010001 ADOBE 10X20X40 RAYADO 3 HUECOS | B22: Unidad | C22: 1 | D22: 0 | E22: 2958
A23: 010013 ADOBE TOLETE 12 SAN CRIST | B23: Unidad | C23: 1 | D23: 0 | E23: 3570
... A195: 010161 TELA ASFALTICA PERMOFRA FINA X 20 MTS | B195: Unidad | C195: 1 | D195: 0.19 | E195: 136680
E197: =SUM(E12:E196) -> 14527330
A200: Atentamente,
A206: JOSE E. VELEZ
A207: FERRETERIA SERVIFER

Sheet ALBAÑILES
A1: Inventario | B1: UnidadMedida | C1: Cantidad | D1: Iva | E1: ValorUnitariosinIva | F1: IVA | G1: Total
A2: 010252 CEMENTO GRIS X 50 K CORONA ALION | B2: Unidad | C2: 1 | D2: 0.19 | E2: 41176.471 | F2: =D2*E2 -> 7823.5294 | G2: =F2+E2 -> 49000
A3: 010059 CEMENTO BLANCO X 40 KLOS | B3: Unidad | C3: 1 | D3: 0.19 | E3: 91596.639 | F3: =D3*E3 -> 17403.361 | G3: =F3+E3 -> 109000
A4: 010061 CEMENTO GRIS X KILO | B4: Unidad | C4: 1 | D4: 0.19 | E4: 1512.605 | F4: =D4*E4 -> 287.39496 | G4: =F4+E4 -> 1800
A5: 010060 CEMENTO BLANCO X KILO | B5: Unidad | C5: 1 | D5: 0.19 | E5: 3361.3445 | F5: =D5*E5 -> 638.65546 | G5: =F5+E5 -> 4000
A6: 180104 VARILLA CORRUGADA 1/2 X 6 MTRS CPTA | B6: Unidad | C6: 1 | D6: 0.19 | E6: 34873.95 | F6: =D6*E6 -> 6626.0504 | G6: =F6+E6 -> 41500
A7: 180106 VARILLA CORRUGADA 3/4 X 6MTROS CPTA | B7: Unidad | C7: 1 | D7: 0.19 | E7: 79831.933 | F7: =D7*E7 -> 15168.067 | G7: =F7+E7 -> 95000
A8: 180098 VARILLA 3/8 CORRUGADA LEGT X 6 | B8: Unidad | C8: 1 | D8: 0.19 | E8: 20168.067 | F8: =D8*E8 -> 3831.9328 | G8: =F8+E8 -> 24000
A9: 180105 VARILLA CORRUGADA 1/4 CPTA | B9: Unidad | C9: 1 | D9: 0.19 | E9: 9915.9664 | F9: =D9*E9 -> 1884.0336 | G9: =F9+E9 -> 11800
A10: 170628 VARILLA COPPERWELD 2,40 FINA | B10: Unidad | C10: 1 | D10: 0.19 | E10: 78151.261 | F10: =D10*E10 -> 14848.739 | G10: =F10+E10 -> 93000
A11: 080931 GRAPA P/VARILLA COPERWELD | B11: Unidad | C11: 1 | D11: 0.19 | E11: 11764.706 | F11: =D11*E11 -> 2235.2941 | G11: =F11+E11 -> 14000
A12: 010001 ADOBE 10X20X40 RAYADO 3 HUECOS | B12: Unidad | C12: 1 | D12: 0 | E12: 2900 | F12: =D12*E12 -> 0 | G12: =F12+E12 -> 2900
A13: 010013 ADOBE TOLETE 12 SAN CRIST | B13: Unidad | C13: 1 | D13: 0 | E13: 3500 | F13: =D13*E13 -> 0 | G13: =F13+E13 -> 3500
... A185: 010161 TELA ASFALTICA PERMOFRA FINA X 20 MTS | B185: Unidad | C185: 1 | D185: 0.19 | E185: 112605.04 | F185: =D185*E185 -> 21394.958 | G185: =F185+E185 -> 134000
F186: TOTAL | G186: =SUM(G2:G185) -> 14242480

Sheet PROMEDIO
B2: FORMULARIO UNO PROPUESTA ECONÓMICA (RELACIONE EL PROCESO CONTRACTUAL)
D5: FERRETERIA AGUILARES | E5: FERRETERIA SERVIFER | F5: FERRETERIA ALBAÑILES
A6: PRODUCTO | B6: UNDMEDI | C6: CANT | D6: VLR UNITARIO | E6: VLR UNITARIO | F6: VLR UNITARIO | G6: PROMEDIO VLR UNITARIO | H6: VLR TOTAL
A7: CEMENTO GRIS X 50 K CORONA ALION | B7: Unidad | C7: 100 | D7: 50730 | E7: =+SERVIFER!E12 -> 49980 | F7: =+ALBAÑILES!G2 -> 49000 | H7: =ROUND(C7*G7,0) -> 0
A8: VARILLA CORRUGADA 1/2 X 6 MTRS CPTA | B8: Unidad | C8: 20 | D8: =+AGULARES!E7 -> 42965 | E8: =+SERVIFER!E16 -> 42330 | F8: =+ALBAÑILES!G6 -> 41500 | H8: =ROUND(C8*G8,0) -> 0
A9: VARILLA CORRUGADA 3/4 X 6MTROS CPTA | B9: Unidad | C9: 20 | D9: =+AGULARES!E8 -> 98353 | E9: =+SERVIFER!E17 -> 96900 | F9: =+ALBAÑILES!G7 -> 95000 | H9: =ROUND(C9*G9,0) -> 0
A10: VARILLA 3/8 CORRUGADA LEGT X 6 | B10: Unidad | C10: 20 | D10: =+AGULARES!E9 -> 24847 | E10: =+SERVIFER!E18 -> 24480 | F10: =+ALBAÑILES!G8 -> 24000 | H10: =ROUND(C10*G10,0) -> 0
A11: ADOBE 10X20X40 RAYADO 3 HUECOS | B11: Unidad | C11: 100 | D11: =+AGULARES!E13 -> 3002 | E11: =+SERVIFER!E22 -> 2958 | F11: =+ALBAÑILES!G12 -> 2900 | H11: =ROUND(C11*G11,0) -> 0
A12: TUBO SANITARIO 4 X 6 FINO | B12: Unidad | C12: 15 | D12: =+AGULARES!E60 -> 151154 | E12: =+SERVIFER!E69 -> 148920 | F12: =+ALBAÑILES!G59 -> 146000 | H12: =ROUND(C12*G12,0) -> 0
A13: TEJA COLOMBIT P7 NRO 4 | B13: Unidad | C13: 50 | D13: =+AGULARES!E132 -> 40584 | E13: =+SERVIFER!E141 -> 39984 | F13: =+ALBAÑILES!G131 -> 39200 | H13: =ROUND(C13*G13,0) -> 0
A14: TEJA COLOMBIT P7 NRO 6 | B14: Unidad | C14: 100 | D14: =+AGULARES!E133 -> 61083 | E14: =+SERVIFER!E142 -> 60180 | F14: =+ALBAÑILES!G132 -> 59000 | H14: =ROUND(C14*G14,0) -> 0
A15: TEJA COLOMBIT P7 NRO 8 | B15: Unidad | C15: 100 | D15: =+AGULARES!E134 -> 81375 | E15: =+SERVIFER!E143 -> 80172 | F15: =+ALBAÑILES!G133 -> 78600 | H15: =ROUND(C15*G15,0) -> 0
A16: TEJA COLOMBIT P7 NRO 10 | B16: Unidad | C16: 50 | D16: =+AGULARES!E135 -> 102495 | E16: =+SERVIFER!E144 -> 100980 | F16: =+ALBAÑILES!G134 -> 99000 | H16: =ROUND(C16*G16,0) -> 0
A17: AMARRADERA ETERNIT | B17: Unidad | C17: 200 | D17: =+AGULARES!E140 -> 362 | E17: =+SERVIFER!E149 -> 357 | F17: =+ALBAÑILES!G139 -> 350 | H17: =ROUND(C17*G17,0) -> 0
A18: GANCHO ETERNIT FINO | B18: Unidad | C18: 200 | D18: =+AGULARES!E142 -> 1087 | E18: =+SERVIFER!E151 -> 1071 | F18: =+ALBAÑILES!G141 -> 1050 | H18: =ROUND(C18*G18,0) -> 0
A19: TUBO PRESION DE 1/2 500 RDE 9 | B19: Unidad | C19: 15 | D19: =+AGULARES!E145 -> 22259 | E19: =+SERVIFER!E154 -> 21930 | F19: =+ALBAÑILES!G144 -> 21500 | H19: =ROUND(C19*G19,0) -> 0
A20: ZINC LISO 2.70 | B20: Unidad | C20: 30 | D20: =+AGULARES!E179 -> 44725 | E20: =+SERVIFER!E188 -> 44064 | F20: =+ALBAÑILES!G178 -> 43200 | H20: =ROUND(C20*G20,0) -> 0
A21: ZINC CORR.CAL 35 X 3.5 CORP | B21: Unidad | C21: 50 | D21: =+AGULARES!E180 -> 47624 | E21: =+SERVIFER!E189 -> 46920 | F21: =+ALBAÑILES!G179 -> 46000 | H21: =ROUND(C21*G21,0) -> 0
A22: POLISOMBRA NEGRA 65% 4X100 X MTRO | B22: Unidad | C22: 10 | D22: =+AGULARES!E185 -> 12424 | E22: =+SERVIFER!E194 -> 12240 | F22: =+ALBAÑILES!G184 -> 12000 | H22: =ROUND(C22*G22,0) -> 0
A24: TOTAL | H24: =SUM(H5:H20) -> 0
A25: Nombre de la empresa y representante legal
A26: firma
