Workbook

Sheet 9000
A1: *Ingresos Operacionales = Ingresos de actividades ordinarias + Otros ingresos+Participación en las ganancias (pérdidas) de asociadas y negocios conjuntos que se contabilicen utilizando el método de la participación
A2: 9.000 más grandes por ingresos* año 2.022 y su comparativo año 2.021 (NORMATIVIDAD INTERNACIONAL)
A3: Miles de pesos
J5: AÑO 2022 | O5: AÑO 2021
A6: RANKING | B6: NIT | C6: RAZON SOCIAL | D6: SUPERVISOR | E6: REGIÓN | F6: DEPARTAMENTO DOMICILIO | G6: CIUDAD DOMICILIO | H6: CIIU | I6: MACROSECTOR | J6: INGRESOS OPERACIONALES 2022* | K6: GANANCIA (PERDIDA) 2022 | L6: TOTAL ACTIVOS 2022 | M6: TOTAL PASIVOS 2022 | N6: TOTAL PATRIMONIO 2022 | O6: INGRESOS OPERACIONALES 2021* | P6: GANANCIA (PERDIDA) 2021 | Q6: TOTAL ACTIVOS 2021 | R6: TOTAL PASIVOS 2021 | S6: TOTAL PATRIMONIO 2021 | T6: GRUPO EN NIIF
A7: 1001 | B7: 901109174 | C7: FRUBANA SAS | D7: SUPERSOCIEDADES | E7: Bogotá - Cundinamarca | F7: BOGOTA D.C. | G7: BOGOTA D.C. | H7: G4631 - Comercio al por mayor de productos alimenticios | I7: COMERCIO | J7: 254941426 | K7: -97977861 | L7: 45570083 | M7: 15031823 | N7: 30538260 | O7: 94323160 | P7: -61233042 | Q7: 21064489 | R7: 17754637 | S7: 3309852 | T7: 40 NIIF Pymes - Individual Grupo 2
A8: 1002 | B8: 900614334 | C8: YILCOQUE SAS | D8: SUPERSOCIEDADES | E8: Centro - Oriente | F8: NORTE DE SANTANDER | G8: CUCUTA | H8: C1910 - Fabricación de productos de hornos de coquc | I8: MANUFACTURA | J8: 254604949 | K8: 24750909 | L8: 131234448 | M8: 68252011 | N8: 62982437 | O8: 176218496 | P8: 31967792 | Q8: 91439105 | R8: 53207577 | S8: 38231528 | T8: 10 NIIF Plenas - Individual Grupo 1
A9: 1003 | B9: 900757947 | C9: GE HEALTHCARE COLOMBIA SAS | D9: SUPERSOCIEDADES | E9: Bogotá - Cundinamarca | F9: BOGOTA D.C. | G9: BOGOTA D.C. | H9: G4659 - Comercio al por mayor de otros tipos de maquinaria y equipo n.c.p. | I9: COMERCIO | J9: 254413935 | K9: 4642599 | L9: 301217396 | M9: 198633401 | N9: 102583995 | O9: 192326496 | P9: 1280955 | Q9: 242438492 | R9: 144497096 | S9: 97941396 | T9: 10 NIIF Plenas - Individual Grupo 1
A10: 1004 | B10: 890307885 | C10: PLASTICOS ESPECIALES S.A.S | D10: SUPERSOCIEDADES | E10: Costa Pacífica | F10: VALLE | G10: YUMBO | H10: C2229 - Fabricación de artículos de plástico n.c.p. | I10: MANUFACTURA | J10: 254151051 | K10: 4480789 | L10: 273726965 | M10: 180481457 | N10: 93245508 | O10: 194444256 | P10: 8584189 | Q10: 246508558 | R10: 149682311 | S10: 96826247 | T10: 10 NIIF Plenas - Individual Grupo 1
A11: 1005 | B11: 900535018 | C11: FERRERO LATIN AMERICA DEVELOPING MARKETS S A S | D11: SUPERSOCIEDADES | E11: Bogotá - Cundinamarca | F11: BOGOTA D.C. | G11: BOGOTA D.C. | H11: G4631 - Comercio al por mayor de productos alimenticios | I11: COMERCIO | J11: 254137052 | K11: 15036878 | L11: 164526741 | M11: 78315492 | N11: 86211249 | O11: 244867888 | P11: 20544551 | Q11: 137061772 | R11: 65887401 | S11: 71174371 | T11: 10 NIIF Plenas - Individual Grupo 1
A12: 1006 | B12: 860030605 | C12: FIRMENICH S.A. | D12: SUPERSOCIEDADES | E12: Bogotá - Cundinamarca | F12: BOGOTA D.C. | G12: BOGOTA D.C. | H12: C2029 - Fabricación de otros productos químicos n.c.p. | I12: MANUFACTURA | J12: 253337486 | K12: 15632265 | L12: 222094941 | M12: 190810389 | N12: 31284552 | O12: 219278944 | P12: 19619382 | Q12: 163300757 | R12: 104697471 | S12: 58603286 | T12: 10 NIIF Plenas - Individual Grupo 1
A13: 1007 | B13: 900216225 | C13: SOLDADURAS WEST ARCO SAS | D13: SUPERSOCIEDADES | E13: Bogotá - Cundinamarca | F13: CUNDINAMARCA | G13: MOSQUERA | H13: C2410 - Industrias básicas de hierro y de aceri | I13: MANUFACTURA | J13: 253273371 | K13: 33018757 | L13: 149755031 | M13: 73959622 | N13: 75795409 | O13: 195296064 | P13: 23381022 | Q13: 111452234 | R13: 68675582 | S13: 42776652 | T13: 10 NIIF Plenas - Individual Grupo 1
A14: 1008 | B14: 890101138 | C14: PELAEZ HERMANOS SA | D14: SUPERSOCIEDADES | E14: Bogotá - Cundinamarca | F14: BOGOTA D.C. | G14: BOGOTA D.C. | H14: G4530 - Comercio de partes, piezas (autopartes) y accesorios (lujos) para vehículos automotoreo | I14: COMERCIO | J14: 253214063 | K14: 30154933 | L14: 188126338 | M14: 34361475 | N14: 153764863 | O14: 201476960 | P14: 25914866 | Q14: 151214249 | R14: 20810038 | S14: 130404211 | T14: 20 NIIF Plenas - Separado Grupo 1
A15: 1009 | B15: 806014553 | C15: TUVACOL S.A. | D15: SUPERSOCIEDADES | E15: Costa Atlántica | F15: ATLANTICO | G15: BARRANQUILLA | H15: G4663 - Comercio al por mayor de materiales de construcción, artículos de ferretería, pinturas, productos de vidrio, equipo y materiales de fontanería y calefacción | I15: COMERCIO | J15: 253137715 | K15: 19885912 | L15: 265450844 | M15: 163560400 | N15: 101890444 | O15: 158280400 | P15: 16909749 | Q15: 194092767 | R15: 121871137 | S15: 72221630 | T15: 10 NIIF Plenas - Individual Grupo 1
A16: 1010 | B16: 800159244 | C16: AUTOMOTORA NORTE Y SUR LTDA | D16: SUPERSOCIEDADES | E16: Costa Pacífica | F16: VALLE | G16: CALI | H16: G4511 - Comercio de vehículos automotores nuevos | I16: COMERCIO | J16: 252065640 | K16: 10279263 | L16: 40976634 | M16: 25632039 | N16: 15344595 | O16: 171354512 | P16: 6244695 | Q16: 34326911 | R16: 20147806 | S16: 14179105 | T16: 40 NIIF Pymes - Individual Grupo 2
A17: 1011 | B17: 890205091 | C17: PRECOCIDOS DEL ORIENTE S.A.S | D17: SUPERSOCIEDADES | E17: Centro - Oriente | F17: SANTANDER | G17: BUCARAMANGA | H17: C1051 - Elaboración de productos de molinería | I17: MANUFACTURA | J17: 251897882 | K17: 7176302 | L17: 206377143 | M17: 155748775 | N17: 50628368 | O17: 181949232 | P17: 5753159 | Q17: 144101220 | R17: 100649154 | S17: 43452066 | T17: 40 NIIF Pymes - Individual Grupo 2
A18: 1012 | B18: 836000548 | C18: AGROINSUMOS S.A.S | D18: SUPERSOCIEDADES | E18: Costa Pacífica | F18: VALLE | G18: CARTAGO | H18: G4620 - Comercio al por mayor de materias primas agropecuarias; animales vivos | I18: COMERCIO | J18: 251699111 | K18: 8224994 | L18: 93099974 | M18: 71489185 | N18: 21610789 | O18: 202626400 | P18: 7784495 | Q18: 80423434 | R18: 59204563 | S18: 21218871 | T18: 40 NIIF Pymes - Individual Grupo 2
... A2535: 3529 | B2535: 900034278 | C2535: SOLUTEC INGENIERIA SAS | D2535: SUPERSOCIEDADES | E2535: Costa Atlántica | F2535: ATLANTICO | G2535: BARRANQUILLA | H2535: F4290 - Construcción de otras obras de ingeniería civil | I2535: CONSTRUCCIÓN | J2535: 63307344 | K2535: 7480064 | L2535: 57842024 | M2535: 40064882 | N2535: 17777142 | O2535: 12417707 | P2535: 1775968 | Q2535: 27051922 | R2535: 18856091 | S2535: 8195831 | T2535: 40 NIIF Pymes - Individual Grupo 2
A2536: 3530 | B2536: 830065974 | D2536: SUPERSOCIEDADES | E2536: Bogotá - Cundinamarca | F2536: BOGOTA D.C. | G2536: BOGOTA D.C. | H2536: N7730 - Alquiler y arrendamiento de otros tipos de maquinaria, equipo y bienes tangibles n.c.p. | I2536: SERVICIOS | J2536: 63302308 | K2536: -22515119 | L2536: 79092806 | M2536: 103715609 | N2536: -24622803 | O2536: 49667128 | P2536: -27177035 | Q2536: 82213804 | R2536: 117725825 | S2536: -35512021 | T2536: 20 NIIF Plenas - Separado Grupo 1
A2537: 3531 | B2537: 830022535 | C2537: PRODUCTIVIDAD EMPRESARIAL SAS | D2537: SUPERSOCIEDADES | E2537: Bogotá - Cundinamarca | F2537: BOGOTA D.C. | G2537: BOGOTA D.C. | H2537: N7830 - Otras actividades de provisión de talento human | I2537: SERVICIOS | J2537: 63278523 | K2537: 107060 | L2537: 8865126 | M2537: 6630721 | N2537: 2234405 | O2537: 45476872 | P2537: 168379 | Q2537: 8940319 | R2537: 6812974 | S2537: 2127345 | T2537: 40 NIIF Pymes - Individual Grupo 2
A2538: 3532 | B2538: 900565437 | C2538: INVERSIONES FONCARBON S.A.S. | D2538: SUPERSOCIEDADES | E2538: Bogotá - Cundinamarca | F2538: BOGOTA D.C. | G2538: BOGOTA D.C. | H2538: B0510 - Extracción de hulla (carbón de piedra) | I2538: MINERO-HIDROCARBUROS | J2538: 63250167 | K2538: 3490904 | L2538: 14669431 | M2538: 8272911 | N2538: 6396520 | O2538: 47907936 | P2538: 2555616 | Q2538: 6119903 | R2538: 3240330 | S2538: 2879573 | T2538: 40 NIIF Pymes - Individual Grupo 2
A2539: 3533 | B2539: 900405205 | C2539: SUPERAGRO GLOBAL SAS | D2539: SUPERSOCIEDADES | E2539: Centro - Oriente | F2539: BOYACA | G2539: COMBITA | H2539: G4664 - Comercio al por mayor de productos químicos básicos, cauchos y plásticos en formas primarias y productos químicos de uso agropecuario | I2539: COMERCIO | J2539: 63241828 | K2539: 1921573 | L2539: 26065965 | M2539: 17751327 | N2539: 8314638 | O2539: 54846084 | P2539: 1688692 | Q2539: 24677401 | R2539: 16763509 | S2539: 7913892 | T2539: 40 NIIF Pymes - Individual Grupo 2
A2540: 3534 | B2540: 901338917 | C2540: OVERACTIVE SAS | D2540: SUPERSOCIEDADES | E2540: Bogotá - Cundinamarca | F2540: BOGOTA D.C. | G2540: BOGOTA D.C. | H2540: J6202 - Actividades de consultoría informática y actividades de administración de instalaciones informáticas | I2540: SERVICIOS | J2540: 63178534 | K2540: 1612162 | L2540: 7458064 | M2540: 5288484 | N2540: 2169580 | O2540: 38380624 | P2540: 161302 | Q2540: 4016079 | R2540: 3458661 | S2540: 557418 | T2540: 40 NIIF Pymes - Individual Grupo 2
A2541: 3535 | B2541: 900164052 | C2541: AYE ASOCIADOS LTDA | D2541: SUPERSOCIEDADES | E2541: Otros | F2541: HUILA | G2541: NEIVA | H2541: G4731 - Comercio al por menor de combustible para automotores | I2541: COMERCIO | J2541: 63145894 | K2541: 881587 | L2541: 15136718 | M2541: 7331315 | N2541: 7805403 | O2541: 53452728 | P2541: 979263 | Q2541: 12162751 | R2541: 5238935 | S2541: 6923816 | T2541: 40 NIIF Pymes - Individual Grupo 2
A2542: 3536 | B2542: 900298862 | C2542: ACEITES MORICHAL SAS | D2542: SUPERSOCIEDADES | E2542: Otros | F2542: META | G2542: VILLAVICENCIO | H2542: A0130 - Propagación de plantas (actividades de los viveros, excepto viveros forestales) | I2542: AGROPECUARIO | J2542: 63140748 | K2542: 2379859 | L2542: 21007182 | M2542: 7088207 | N2542: 13918975 | O2542: 47202040 | P2542: 1968557 | Q2542: 20302231 | R2542: 8522902 | S2542: 11779329 | T2542: 40 NIIF Pymes - Individual Grupo 2
A2543: 3537 | B2543: 900584632 | C2543: CARBOTRANS COLOMBIA SAS | D2543: SUPERSOCIEDADES | E2543: Bogotá - Cundinamarca | F2543: CUNDINAMARCA | G2543: UBATE | H2543: B0510 - Extracción de hulla (carbón de piedr c | I2543: MINERO-HIDROCARBUROS | J2543: 63136485 | K2543: 9982692 | L2543: 39376931 | M2543: 13886162 | N2543: 25490769 | O2543: 42025000 | P2543: 7186328 | Q2543: 24881946 | R2543: 9277588 | S2543: 15604358 | T2543: 40 NIIF Pymes - Individual Grupo 2
A2544: 3538 | B2544: 800249401 | C2544: INTERNACIONAL DE CELULARES SA | D2544: SUPERSOCIEDADES | E2544: Bogotá - Cundinamarca | F2544: BOGOTA D.C. | G2544: BOGOTA D.C. | H2544: G4769 - Comercio al por menor de otros artículos culturales y de entretenimiento n.c.p. en establecimientos especializados | I2544: COMERCIO | J2544: 63113781 | K2544: 515777 | L2544: 37460059 | M2544: 26324076 | N2544: 11135983 | O2544: 61636184 | P2544: 315696 | Q2544: 29095857 | R2544: 18475648 | S2544: 10620209 | T2544: 50 NIIF Pymes - Separado Grupo 2
A2545: 3539 | B2545: 800215494 | C2545: MARCALI INTERNACIONAL S.A. | D2545: SUPERSOCIEDADES | E2545: Bogotá - Cundinamarca | F2545: BOGOTA D.C. | G2545: BOGOTA D.C. | H2545: G4511 - Comercio de vehículos automotores nuevos | I2545: COMERCIO | J2545: 63101984 | K2545: 556730 | L2545: 24985361 | M2545: 20925635 | N2545: 4059726 | O2545: 59704676 | P2545: 893109 | Q2545: 18523838 | R2545: 15020842 | S2545: 3502996 | T2545: 10 NIIF Plenas - Individual Grupo 1
A2546: 3540 | B2546: 800185056 | C2546: TAESMET SAS | D2546: SUPERSOCIEDADES | E2546: Bogotá - Cundinamarca | F2546: BOGOTA D.C. | G2546: BOGOTA D.C. | H2546: C2511 - Fabricación de productos metálicos para uso estructural | I2546: MANUFACTURA | J2546: 63069485 | K2546: 1692051 | L2546: 45029367 | M2546: 20576120 | N2546: 24453247 | O2546: 43952932 | P2546: 944453 | Q2546: 49165797 | R2546: 25551604 | S2546: 23614193 | T2546: 40 NIIF Pymes - Individual Grupo 2
A2547: 3541 | B2547: 901102514 | C2547: OCEANIC PAINTS SAS | D2547: SUPERSOCIEDADES | E2547: Antioquia | F2547: ANTIOQUIA | G2547: MEDELLIN | H2547: C2022 - Fabricación de pinturas, barnices y revestimientos similares, tintas para impresión y masillas | I2547: MANUFACTURA | J2547: 63039912 | K2547: 3117474 | L2547: 22064796 | M2547: 10128621 | N2547: 11936175 | O2547: 49739072 | P2547: 2447913 | Q2547: 17205693 | R2547: 5941472 | S2547: 11264221 | T2547: 10 NIIF Plenas - Individual Grupo 1
A2548: 3542 | B2548: 900209000 | C2548: MAPLE OIL TOOLS SAS | D2548: SUPERSOCIEDADES | E2548: Centro - Oriente | F2548: SANTANDER | G2548: BUCARAMANGA | H2548: C2593 - Fabricación de artículos de cuchillería, herramientas de mano y artículos de ferretería | I2548: MANUFACTURA | J2548: 63014569 | K2548: 2296529 | L2548: 35525625 | M2548: 29059451 | N2548: 6466174 | O2548: 34104356 | P2548: 422500 | Q2548: 29200628 | R2548: 23030983 | S2548: 6169645 | T2548: 40 NIIF Pymes - Individual Grupo 2
... A9006: 10000 | B9006: 900107634 | C9006: UNIFY LTDA | D9006: SUPERSOCIEDADES | E9006: Bogotá - Cundinamarca | F9006: BOGOTA D.C. | G9006: BOGOTA D.C. | H9006: J6190 - Otras actividades de telecomunicaciones | I9006: SERVICIOS | J9006: 15663979 | K9006: -382329 | L9006: 32664662 | M9006: 23944960 | N9006: 8719702 | O9006: 14159010 | P9006: -879504 | Q9006: 25947267 | R9006: 16845236 | S9006: 9102031 | T9006: 10 NIIF Plenas - Individual Grupo 1

Sheet Supersociedades
A1: RANKING | B1: NIT | C1: RAZON SOCIAL | D1: SUPERVISOR | E1: REGIÓN | F1: DEPARTAMENTO DOMICILIO | G1: CIUDAD DOMICILIO | H1: CIIU | I1: MACROSECTOR | J1: INGRESOS OPERACIONALES 2022* | K1: GANANCIA (PERDIDA) 2022 | L1: GANANCIA (PERDIDA) POR ACTIVIDADES DE OPERACIÓN 2022 | M1: TOTAL ACTIVOS 2022 | N1: TOTAL PASIVOS 2022 | O1: TOTAL PATRIMONIO 2022 | P1: INGRESOS OPERACIONALES 2021* | Q1: GANANCIA (PERDIDA) 2021 | R1: GANANCIA (PERDIDA) POR ACTIVIDADES DE OPERACIÓN 2021 | S1: TOTAL ACTIVOS 2021 | T1: TOTAL PASIVOS 2021 | U1: TOTAL PATRIMONIO 2021 | V1: GRUPO EN NIIF
A2: 1001 | B2: 901109174 | C2: FRUBANA SAS | D2: SUPERSOCIEDADES | E2: Bogotá - Cundinamarca | F2: BOGOTA D.C. | G2: BOGOTA D.C. | H2: G4631 - Comercio al por mayor de productos alimenticios | I2: COMERCIO | J2: 254941426 | K2: -97977861 | L2: -95714794 | M2: 45570083 | N2: 15031823 | O2: 30538260 | P2: 94323160 | Q2: -61233042 | R2: -59881736 | S2: 21064489 | T2: 17754637 | U2: 3309852 | V2: 40 NIIF Pymes - Individual Grupo 2
A3: 1002 | B3: 900614334 | C3: YILCOQUE SAS | D3: SUPERSOCIEDADES | E3: Centro - Oriente | F3: NORTE DE SANTANDER | G3: CUCUTA | H3: C1910 - Fabricación de productos de hornos de coquc | I3: MANUFACTURA | J3: 254604949 | K3: 24750909 | L3: 34192251 | M3: 131234448 | N3: 68252011 | O3: 62982437 | P3: 176218496 | Q3: 31967792 | R3: 38213069 | S3: 91439105 | T3: 53207577 | U3: 38231528 | V3: 10 NIIF Plenas - Individual Grupo 1
A4: 1003 | B4: 900757947 | C4: GE HEALTHCARE COLOMBIA SAS | D4: SUPERSOCIEDADES | E4: Bogotá - Cundinamarca | F4: BOGOTA D.C. | G4: BOGOTA D.C. | H4: G4659 - Comercio al por mayor de otros tipos de maquinaria y equipo n.c.p. | I4: COMERCIO | J4: 254413935 | K4: 4642599 | L4: 20071884 | M4: 301217396 | N4: 198633401 | O4: 102583995 | P4: 192326496 | Q4: 1280955 | R4: 20013860 | S4: 242438492 | T4: 144497096 | U4: 97941396 | V4: 10 NIIF Plenas - Individual Grupo 1
A5: 1004 | B5: 890307885 | C5: PLASTICOS ESPECIALES S.A.S | D5: SUPERSOCIEDADES | E5: Costa Pacífica | F5: VALLE | G5: YUMBO | H5: C2229 - Fabricación de artículos de plástico n.c.p. | I5: MANUFACTURA | J5: 254151051 | K5: 4480789 | L5: 16799541 | M5: 273726965 | N5: 180481457 | O5: 93245508 | P5: 194444256 | Q5: 8584189 | R5: 13234624 | S5: 246508558 | T5: 149682311 | U5: 96826247 | V5: 10 NIIF Plenas - Individual Grupo 1
A6: 1005 | B6: 900535018 | C6: FERRERO LATIN AMERICA DEVELOPING MARKETS S A S | D6: SUPERSOCIEDADES | E6: Bogotá - Cundinamarca | F6: BOGOTA D.C. | G6: BOGOTA D.C. | H6: G4631 - Comercio al por mayor de productos alimenticios | I6: COMERCIO | J6: 254137052 | K6: 15036878 | L6: 25936351 | M6: 164526741 | N6: 78315492 | O6: 86211249 | P6: 244867888 | Q6: 20544551 | R6: 32192748 | S6: 137061772 | T6: 65887401 | U6: 71174371 | V6: 10 NIIF Plenas - Individual Grupo 1
A7: 1006 | B7: 860030605 | C7: FIRMENICH S.A. | D7: SUPERSOCIEDADES | E7: Bogotá - Cundinamarca | F7: BOGOTA D.C. | G7: BOGOTA D.C. | H7: C2029 - Fabricación de otros productos químicos n.c.p. | I7: MANUFACTURA | J7: 253337486 | K7: 15632265 | L7: 26745641 | M7: 222094941 | N7: 190810389 | O7: 31284552 | P7: 219278944 | Q7: 19619382 | R7: 23704190 | S7: 163300757 | T7: 104697471 | U7: 58603286 | V7: 10 NIIF Plenas - Individual Grupo 1
A8: 1007 | B8: 900216225 | C8: SOLDADURAS WEST ARCO SAS | D8: SUPERSOCIEDADES | E8: Bogotá - Cundinamarca | F8: CUNDINAMARCA | G8: MOSQUERA | H8: C2410 - Industrias básicas de hierro y de aceri | I8: MANUFACTURA | J8: 253273371 | K8: 33018757 | L8: 55617139 | M8: 149755031 | N8: 73959622 | O8: 75795409 | P8: 195296064 | Q8: 23381022 | R8: 37827912 | S8: 111452234 | T8: 68675582 | U8: 42776652 | V8: 10 NIIF Plenas - Individual Grupo 1
A9: 1008 | B9: 890101138 | C9: PELAEZ HERMANOS SA | D9: SUPERSOCIEDADES | E9: Bogotá - Cundinamarca | F9: BOGOTA D.C. | G9: BOGOTA D.C. | H9: G4530 - Comercio de partes, piezas (autopartes) y accesorios (lujos) para vehículos automotoreo | I9: COMERCIO | J9: 253214063 | K9: 30154933 | L9: 43681503 | M9: 188126338 | N9: 34361475 | O9: 153764863 | P9: 201476960 | Q9: 25914866 | R9: 34730698 | S9: 151214249 | T9: 20810038 | U9: 130404211 | V9: 20 NIIF Plenas - Separado Grupo 1
A10: 1009 | B10: 806014553 | C10: TUVACOL S.A. | D10: SUPERSOCIEDADES | E10: Costa Atlántica | F10: ATLANTICO | G10: BARRANQUILLA | H10: G4663 - Comercio al por mayor de materiales de construcción, artículos de ferretería, pinturas, productos de vidrio, equipo y materiales de fontanería y calefacción | I10: COMERCIO | J10: 253137715 | K10: 19885912 | L10: 37563828 | M10: 265450844 | N10: 163560400 | O10: 101890444 | P10: 158280400 | Q10: 16909749 | R10: 29702795 | S10: 194092767 | T10: 121871137 | U10: 72221630 | V10: 10 NIIF Plenas - Individual Grupo 1
A11: 1010 | B11: 800159244 | C11: AUTOMOTORA NORTE Y SUR LTDA | D11: SUPERSOCIEDADES | E11: Costa Pacífica | F11: VALLE | G11: CALI | H11: G4511 - Comercio de vehículos automotores nuevos | I11: COMERCIO | J11: 252065640 | K11: 10279263 | L11: 16605849 | M11: 40976634 | N11: 25632039 | O11: 15344595 | P11: 171354512 | Q11: 6244695 | R11: 9381524 | S11: 34326911 | T11: 20147806 | U11: 14179105 | V11: 40 NIIF Pymes - Individual Grupo 2
A12: 1011 | B12: 890205091 | C12: PRECOCIDOS DEL ORIENTE S.A.S | D12: SUPERSOCIEDADES | E12: Centro - Oriente | F12: SANTANDER | G12: BUCARAMANGA | H12: C1051 - Elaboración de productos de molinería | I12: MANUFACTURA | J12: 251897882 | K12: 7176302 | L12: 11249559 | M12: 206377143 | N12: 155748775 | O12: 50628368 | P12: 181949232 | Q12: 5753159 | R12: 8504907 | S12: 144101220 | T12: 100649154 | U12: 43452066 | V12: 40 NIIF Pymes - Individual Grupo 2
A13: 1012 | B13: 836000548 | C13: AGROINSUMOS S.A.S | D13: SUPERSOCIEDADES | E13: Costa Pacífica | F13: VALLE | G13: CARTAGO | H13: G4620 - Comercio al por mayor de materias primas agropecuarias; animales vivos | I13: COMERCIO | J13: 251699111 | K13: 8224994 | L13: 14722716 | M13: 93099974 | N13: 71489185 | O13: 21610789 | P13: 202626400 | Q13: 7784495 | R13: 13634634 | S13: 80423434 | T13: 59204563 | U13: 21218871 | V13: 40 NIIF Pymes - Individual Grupo 2
... A2285: 3529 | B2285: 900034278 | C2285: SOLUTEC INGENIERIA SAS | D2285: SUPERSOCIEDADES | E2285: Costa Atlántica | F2285: ATLANTICO | G2285: BARRANQUILLA | H2285: F4290 - Construcción de otras obras de ingeniería civil | I2285: CONSTRUCCIÓN | J2285: 63307344 | K2285: 7480064 | L2285: 14042306 | M2285: 57842024 | N2285: 40064882 | O2285: 17777142 | P2285: 12417707 | Q2285: 1775968 | R2285: 2601774 | S2285: 27051922 | T2285: 18856091 | U2285: 8195831 | V2285: 40 NIIF Pymes - Individual Grupo 2
A2286: 3530 | B2286: 830065974 | D2286: SUPERSOCIEDADES | E2286: Bogotá - Cundinamarca | F2286: BOGOTA D.C. | G2286: BOGOTA D.C. | H2286: N7730 - Alquiler y arrendamiento de otros tipos de maquinaria, equipo y bienes tangibles n.c.p. | I2286: SERVICIOS | J2286: 63302308 | K2286: -22515119 | L2286: -18384467 | M2286: 79092806 | N2286: 103715609 | O2286: -24622803 | P2286: 49667128 | Q2286: -27177035 | R2286: -22629447 | S2286: 82213804 | T2286: 117725825 | U2286: -35512021 | V2286: 20 NIIF Plenas - Separado Grupo 1
A2287: 3531 | B2287: 830022535 | C2287: PRODUCTIVIDAD EMPRESARIAL SAS | D2287: SUPERSOCIEDADES | E2287: Bogotá - Cundinamarca | F2287: BOGOTA D.C. | G2287: BOGOTA D.C. | H2287: N7830 - Otras actividades de provisión de talento human | I2287: SERVICIOS | J2287: 63278523 | K2287: 107060 | L2287: 1020415 | M2287: 8865126 | N2287: 6630721 | O2287: 2234405 | P2287: 45476872 | Q2287: 168379 | R2287: 613646 | S2287: 8940319 | T2287: 6812974 | U2287: 2127345 | V2287: 40 NIIF Pymes - Individual Grupo 2
A2288: 3532 | B2288: 900565437 | C2288: INVERSIONES FONCARBON S.A.S. | D2288: SUPERSOCIEDADES | E2288: Bogotá - Cundinamarca | F2288: BOGOTA D.C. | G2288: BOGOTA D.C. | H2288: B0510 - Extracción de hulla (carbón de piedra) | I2288: MINERO-HIDROCARBUROS | J2288: 63250167 | K2288: 3490904 | L2288: 5667207 | M2288: 14669431 | N2288: 8272911 | O2288: 6396520 | P2288: 47907936 | Q2288: 2555616 | R2288: 3913631 | S2288: 6119903 | T2288: 3240330 | U2288: 2879573 | V2288: 40 NIIF Pymes - Individual Grupo 2
A2289: 3533 | B2289: 900405205 | C2289: SUPERAGRO GLOBAL SAS | D2289: SUPERSOCIEDADES | E2289: Centro - Oriente | F2289: BOYACA | G2289: COMBITA | H2289: G4664 - Comercio al por mayor de productos químicos básicos, cauchos y plásticos en formas primarias y productos químicos de uso agropecuario | I2289: COMERCIO | J2289: 63241828 | K2289: 1921573 | L2289: 3636147 | M2289: 26065965 | N2289: 17751327 | O2289: 8314638 | P2289: 54846084 | Q2289: 1688692 | R2289: 2976515 | S2289: 24677401 | T2289: 16763509 | U2289: 7913892 | V2289: 40 NIIF Pymes - Individual Grupo 2
A2290: 3534 | B2290: 901338917 | C2290: OVERACTIVE SAS | D2290: SUPERSOCIEDADES | E2290: Bogotá - Cundinamarca | F2290: BOGOTA D.C. | G2290: BOGOTA D.C. | H2290: J6202 - Actividades de consultoría informática y actividades de administración de instalaciones informáticas | I2290: SERVICIOS | J2290: 63178534 | K2290: 1612162 | L2290: 4113680 | M2290: 7458064 | N2290: 5288484 | O2290: 2169580 | P2290: 38380624 | Q2290: 161302 | R2290: 1095929 | S2290: 4016079 | T2290: 3458661 | U2290: 557418 | V2290: 40 NIIF Pymes - Individual Grupo 2
A2291: 3535 | B2291: 900164052 | C2291: AYE ASOCIADOS LTDA | D2291: SUPERSOCIEDADES | E2291: Otros | F2291: HUILA | G2291: NEIVA | H2291: G4731 - Comercio al por menor de combustible para automotores | I2291: COMERCIO | J2291: 63145894 | K2291: 881587 | L2291: 1957252 | M2291: 15136718 | N2291: 7331315 | O2291: 7805403 | P2291: 53452728 | Q2291: 979263 | R2291: 1804930 | S2291: 12162751 | T2291: 5238935 | U2291: 6923816 | V2291: 40 NIIF Pymes - Individual Grupo 2
A2292: 3536 | B2292: 900298862 | C2292: ACEITES MORICHAL SAS | D2292: SUPERSOCIEDADES | E2292: Otros | F2292: META | G2292: VILLAVICENCIO | H2292: A0130 - Propagación de plantas (actividades de los viveros, excepto viveros forestales) | I2292: AGROPECUARIO | J2292: 63140748 | K2292: 2379859 | L2292: 3633064 | M2292: 21007182 | N2292: 7088207 | O2292: 13918975 | P2292: 47202040 | Q2292: 1968557 | R2292: 2917876 | S2292: 20302231 | T2292: 8522902 | U2292: 11779329 | V2292: 40 NIIF Pymes - Individual Grupo 2
A2293: 3537 | B2293: 900584632 | C2293: CARBOTRANS COLOMBIA SAS | D2293: SUPERSOCIEDADES | E2293: Bogotá - Cundinamarca | F2293: CUNDINAMARCA | G2293: UBATE | H2293: B0510 - Extracción de hulla (carbón de piedr c | I2293: MINERO-HIDROCARBUROS | J2293: 63136485 | K2293: 9982692 | L2293: 15783695 | M2293: 39376931 | N2293: 13886162 | O2293: 25490769 | P2293: 42025000 | Q2293: 7186328 | R2293: 10691996 | S2293: 24881946 | T2293: 9277588 | U2293: 15604358 | V2293: 40 NIIF Pymes - Individual Grupo 2
A2294: 3538 | B2294: 800249401 | C2294: INTERNACIONAL DE CELULARES SA | D2294: SUPERSOCIEDADES | E2294: Bogotá - Cundinamarca | F2294: BOGOTA D.C. | G2294: BOGOTA D.C. | H2294: G4769 - Comercio al por menor de otros artículos culturales y de entretenimiento n.c.p. en establecimientos especializados | I2294: COMERCIO | J2294: 63113781 | K2294: 515777 | L2294: 2164292 | M2294: 37460059 | N2294: 26324076 | O2294: 11135983 | P2294: 61636184 | Q2294: 315696 | R2294: 1110250 | S2294: 29095857 | T2294: 18475648 | U2294: 10620209 | V2294: 50 NIIF Pymes - Separado Grupo 2
A2295: 3539 | B2295: 800215494 | C2295: MARCALI INTERNACIONAL S.A. | D2295: SUPERSOCIEDADES | E2295: Bogotá - Cundinamarca | F2295: BOGOTA D.C. | G2295: BOGOTA D.C. | H2295: G4511 - Comercio de vehículos automotores nuevos | I2295: COMERCIO | J2295: 63101984 | K2295: 556730 | L2295: 2318863 | M2295: 24985361 | N2295: 20925635 | O2295: 4059726 | P2295: 59704676 | Q2295: 893109 | R2295: 1938690 | S2295: 18523838 | T2295: 15020842 | U2295: 3502996 | V2295: 10 NIIF Plenas - Individual Grupo 1
A2296: 3540 | B2296: 800185056 | C2296: TAESMET SAS | D2296: SUPERSOCIEDADES | E2296: Bogotá - Cundinamarca | F2296: BOGOTA D.C. | G2296: BOGOTA D.C. | H2296: C2511 - Fabricación de productos metálicos para uso estructural | I2296: MANUFACTURA | J2296: 63069485 | K2296: 1692051 | L2296: 6837183 | M2296: 45029367 | N2296: 20576120 | O2296: 24453247 | P2296: 43952932 | Q2296: 944453 | R2296: 5076094 | S2296: 49165797 | T2296: 25551604 | U2296: 23614193 | V2296: 40 NIIF Pymes - Individual Grupo 2
A2297: 3541 | B2297: 901102514 | C2297: OCEANIC PAINTS SAS | D2297: SUPERSOCIEDADES | E2297: Antioquia | F2297: ANTIOQUIA | G2297: MEDELLIN | H2297: C2022 - Fabricación de pinturas, barnices y revestimientos similares, tintas para impresión y masillas | I2297: MANUFACTURA | J2297: 63039912 | K2297: 3117474 | L2297: 4602199 | M2297: 22064796 | N2297: 10128621 | O2297: 11936175 | P2297: 49739072 | Q2297: 2447913 | R2297: 3577008 | S2297: 17205693 | T2297: 5941472 | U2297: 11264221 | V2297: 10 NIIF Plenas - Individual Grupo 1
A2298: 3542 | B2298: 900209000 | C2298: MAPLE OIL TOOLS SAS | D2298: SUPERSOCIEDADES | E2298: Centro - Oriente | F2298: SANTANDER | G2298: BUCARAMANGA | H2298: C2593 - Fabricación de artículos de cuchillería, herramientas de mano y artículos de ferretería | I2298: MANUFACTURA | J2298: 63014569 | K2298: 2296529 | L2298: 5994806 | M2298: 35525625 | N2298: 29059451 | O2298: 6466174 | P2298: 34104356 | Q2298: 422500 | R2298: 2138719 | S2298: 29200628 | T2298: 23030983 | U2298: 6169645 | V2298: 40 NIIF Pymes - Individual Grupo 2
... A8120: 10000 | B8120: 900107634 | C8120: UNIFY LTDA | D8120: SUPERSOCIEDADES | E8120: Bogotá - Cundinamarca | F8120: BOGOTA D.C. | G8120: BOGOTA D.C. | H8120: J6190 - Otras actividades de telecomunicaciones | I8120: SERVICIOS | J8120: 15663979 | K8120: -382329 | L8120: 871379 | M8120: 32664662 | N8120: 23944960 | O8120: 8719702 | P8120: 14159010 | Q8120: -879504 | R8120: -1423773 | S8120: 25947267 | T8120: 16845236 | U8120: 9102031 | V8120: 10 NIIF Plenas - Individual Grupo 1

Sheet vigilancia
A1: RANKING | B1: NIT | C1: RAZON SOCIAL | D1: SUPERVISOR | E1: REGIÓN | F1: DEPARTAMENTO DOMICILIO | G1: CIUDAD DOMICILIO | H1: CIIU | I1: MACROSECTOR | J1: INGRESOS OPERACIONALES 2022* | K1: GANANCIA (PERDIDA) 2022 | L1: GANANCIA (PERDIDA) POR ACTIVIDADES DE OPERACIÓN 2022 | M1: TOTAL ACTIVOS 2022 | N1: TOTAL PASIVOS 2022 | O1: TOTAL PATRIMONIO 2022 | P1: INGRESOS OPERACIONALES 2021* | Q1: GANANCIA (PERDIDA) 2021 | R1: GANANCIA (PERDIDA) POR ACTIVIDADES DE OPERACIÓN 2021 | S1: TOTAL ACTIVOS 2021 | T1: TOTAL PASIVOS 2021 | U1: TOTAL PATRIMONIO 2021 | V1: GRUPO EN NIIF
A2: 2502 | B2: 802006730 | C2: INTERGLOBAL SEGURIDAD Y VIGILANCIA LTDA | D2: SUPERSOCIEDADES | E2: Costa Atlántica | F2: ATLANTICO | G2: BARRANQUILLA | H2: N8010 - Actividades de seguridad privada | I2: SERVICIOS | J2: 93962216 | K2: 4542978 | L2: 6592757 | M2: 61857759 | N2: 31102496 | O2: 30755263 | P2: 83288848 | Q2: 1908572 | R2: 3023996 | S2: 54501729 | T2: 29123528 | U2: 25378201 | V2: 40 NIIF Pymes - Individual Grupo 2
A3: 3212 | B3: 860051945 | C3: ALPHA SEGURIDAD PRIVADA LTDA | D3: SUPERSOCIEDADES | E3: Bogotá - Cundinamarca | F3: BOGOTA D.C. | G3: BOGOTA D.C. | H3: N8010 - Actividades de seguridad privada | I3: SERVICIOS | J3: 70589852 | K3: 1586080 | L3: 4035289 | M3: 30423931 | N3: 17455701 | O3: 12968230 | P3: 56046788 | Q3: 1954073 | R3: 2965921 | S3: 25669606 | T3: 13026000 | U3: 12643606 | V3: 10 NIIF Plenas - Individual Grupo 1
A4: 3654 | B4: 860514568 | C4: SEGURIDAD CENTRAL LIMITADA | D4: SUPERSOCIEDADES | E4: Bogotá - Cundinamarca | F4: BOGOTA D.C. | G4: BOGOTA D.C. | H4: N8010 - Actividades de seguridad privada | I4: SERVICIOS | J4: 60827510 | K4: 1019091 | L4: 1567832 | M4: 11620163 | N4: 3054269 | O4: 8565894 | P4: 26123572 | Q4: 1009131 | R4: 1462509 | S4: 11606867 | T4: 3208689 | U4: 8398178 | V4: 40 NIIF Pymes - Individual Grupo 2
A5: 5413 | B5: 901050298 | C5: Proteccion de Infraestructura Colombia Protinco Ltda | D5: SUPERSOCIEDADES | E5: Costa Pacífica | F5: VALLE | G5: CALI | H5: N8010 - Actividades de seguridad privada | I5: SERVICIOS | J5: 37370391 | K5: 3018899 | L5: 5262507 | M5: 14094432 | N5: 10130506 | O5: 3963926 | P5: 24344452 | Q5: 3421562 | R5: 4997463 | S5: 9636331 | T5: 5269742 | U5: 4366589 | V5: 40 NIIF Pymes - Individual Grupo 2
A6: 5907 | B6: 860526793 | C6: PROTEVIS LIMITADA PROTECCIÓN VIGILANCIA SEGURIDAD EN REORGANIZACIÓN | D6: SUPERSOCIEDADES | E6: Bogotá - Cundinamarca | F6: BOGOTA D.C. | G6: BOGOTA D.C. | H6: N8010 - Actividades de seguridad privada | I6: SERVICIOS | J6: 33352752 | K6: -112417 | L6: 209283 | M6: 14657294 | N6: 3448030 | O6: 11209264 | P6: 25205768 | Q6: 867799 | R6: 1474400 | S6: 15994174 | T6: 4672492 | U6: 11321682 | V6: 40 NIIF Pymes - Individual Grupo 2
A7: 6943 | B7: 839000088 | C7: LAOS SEGURIDAD LTDA | D7: SUPERSOCIEDADES | E7: Otros | F7: HUILA | G7: NEIVA | H7: N8010 - Actividades de seguridad privada | I7: SERVICIOS | J7: 26767821 | K7: 898007 | L7: 1547179 | M7: 16119754 | N7: 4835624 | O7: 11284130 | P7: 30578854 | Q7: 1248019 | R7: 2180409 | S7: 15099960 | T7: 4813614 | U7: 10286346 | V7: 40 NIIF Pymes - Individual Grupo 2
A8: 7422 | B8: 860353684 | C8: SALVAGUARDAR LTDA | D8: SUPERSOCIEDADES | E8: Bogotá - Cundinamarca | F8: BOGOTA D.C. | G8: BOGOTA D.C. | H8: N8010 - Actividades de seguridad privada | I8: SERVICIOS | J8: 24497750 | K8: 788528 | L8: 1291952 | M8: 8985580 | N8: 3741414 | O8: 5244166 | P8: 21183592 | Q8: 509965 | R8: 622692 | S8: 8693630 | T8: 3663399 | U8: 5030231 | V8: 40 NIIF Pymes - Individual Grupo 2
A9: 7738 | B9: 860072115 | C9: MEGASEGURIDAD LTDA | D9: SUPERSOCIEDADES | E9: Bogotá - Cundinamarca | F9: BOGOTA D.C. | G9: BOGOTA D.C. | H9: N8010 - Actividades de seguridad privada | I9: SERVICIOS | J9: 23034844 | K9: 1466203 | L9: 2290721 | M9: 14317109 | N9: 4089661 | O9: 10227448 | P9: 16578483 | Q9: 215167 | R9: 285302 | S9: 11139062 | T9: 2377817 | U9: 8761245 | V9: 40 NIIF Pymes - Individual Grupo 2
A10: 9018 | B10: 900055281 | C10: 1.Teg Seguridad Ltda | D10: SUPERSOCIEDADES | E10: Antioquia | F10: ANTIOQUIA | G10: ENVIGADO | H10: N8010 - Actividades de seguridad privada | I10: SERVICIOS | J10: 18351624 | K10: -1350 | L10: 640040 | M10: 7741469 | N10: 7691984 | O10: 49485 | P10: 18675500 | Q10: -1657003 | R10: -1232533 | S10: 8499057 | T10: 8201133 | U10: 297924 | V10: 40 NIIF Pymes - Individual Grupo 2
A11: 9118 | B11: 860035200 | C11: ATALAYA 1 SECURITY GROUP LTDA EN REORGANIZACION | D11: SUPERSOCIEDADES | E11: Bogotá - Cundinamarca | F11: BOGOTA D.C. | G11: BOGOTA D.C. | H11: N8020 - Actividades de servicios de sistemas de seguridad | I11: SERVICIOS | J11: 18092032 | K11: 398090 | L11: 749114 | M11: 12317818 | N11: 4260218 | O11: 8057600 | P11: 22733996 | Q11: -1054196 | R11: -853672 | S11: 11134386 | T11: 3689232 | U11: 7445154 | V11: 40 NIIF Pymes - Individual Grupo 2

Sheet resultados
B1: NIT | C1: RAZON SOCIAL | D1: LIQUIDEZ | E1: ENDEUDAMIENTO | F1: RENTABILIDAD DE L ACTIVO | G1: RENTABILIDAD DEL PATRIMONIO
B2: =+vigilancia!B2 -> 802006730 | C2: =+vigilancia!C2 -> INTERGLOBAL SEGURIDAD Y VIGILANCIA LTDA | D2: =+vigilancia!M2/vigilancia!N2 -> 1.9888358 | E2: =+vigilancia!N2/vigilancia!M2 -> 0.50280671 | F2: =+vigilancia!L2/vigilancia!M2 -> 0.10657931 | G2: =+vigilancia!L2/vigilancia!O2 -> 0.21436191
B3: =+vigilancia!B3 -> 860051945 | C3: =+vigilancia!C3 -> ALPHA SEGURIDAD PRIVADA LTDA | D3: =+vigilancia!M3/vigilancia!N3 -> 1.7429223 | E3: =+vigilancia!N3/vigilancia!M3 -> 0.57374903 | F3: =+vigilancia!L3/vigilancia!M3 -> 0.13263536 | G3: =+vigilancia!L3/vigilancia!O3 -> 0.31116729
B4: =+vigilancia!B4 -> 860514568 | C4: =+vigilancia!C4 -> SEGURIDAD CENTRAL LIMITADA | D4: =+vigilancia!M4/vigilancia!N4 -> 3.8045644 | E4: =+vigilancia!N4/vigilancia!M4 -> 0.26284218 | F4: =+vigilancia!L4/vigilancia!M4 -> 0.13492341 | G4: =+vigilancia!L4/vigilancia!O4 -> 0.18303192
B5: =+vigilancia!B5 -> 901050298 | C5: =+vigilancia!C5 -> Proteccion de Infraestructura Colombia Protinco Ltda | D5: =+vigilancia!M5/vigilancia!N5 -> 1.3912861 | E5: =+vigilancia!N5/vigilancia!M5 -> 0.71875944 | F5: =+vigilancia!L5/vigilancia!M5 -> 0.37337489 | G5: =+vigilancia!L5/vigilancia!O5 -> 1.3275997
B6: =+vigilancia!B6 -> 860526793 | C6: =+vigilancia!C6 -> PROTEVIS LIMITADA PROTECCIÓN VIGILANCIA SEGURIDAD EN REORGANIZACIÓN | D6: =+vigilancia!M6/vigilancia!N6 -> 4.2509184 | E6: =+vigilancia!N6/vigilancia!M6 -> 0.23524329 | F6: =+vigilancia!L6/vigilancia!M6 -> 0.01427842 | G6: =+vigilancia!L6/vigilancia!O6 -> 0.018670539
B7: =+vigilancia!B7 -> 839000088 | C7: =+vigilancia!C7 -> LAOS SEGURIDAD LTDA | D7: =+vigilancia!M7/vigilancia!N7 -> 3.3335416 | E7: =+vigilancia!N7/vigilancia!M7 -> 0.29998125 | F7: =+vigilancia!L7/vigilancia!M7 -> 0.095980311 | G7: =+vigilancia!L7/vigilancia!O7 -> 0.13711106
B8: =+vigilancia!B8 -> 860353684 | C8: =+vigilancia!C8 -> SALVAGUARDAR LTDA | D8: =+vigilancia!M8/vigilancia!N8 -> 2.4016535 | E8: =+vigilancia!N8/vigilancia!M8 -> 0.4163798 | F8: =+vigilancia!L8/vigilancia!M8 -> 0.14378059 | G8: =+vigilancia!L8/vigilancia!O8 -> 0.24635986
B9: =+vigilancia!B9 -> 860072115 | C9: =+vigilancia!C9 -> MEGASEGURIDAD LTDA | D9: =+vigilancia!M9/vigilancia!N9 -> 3.5008058 | E9: =+vigilancia!N9/vigilancia!M9 -> 0.28564852 | F9: =+vigilancia!L9/vigilancia!M9 -> 0.15999885 | G9: =+vigilancia!L9/vigilancia!O9 -> 0.22397777
B10: =+vigilancia!B10 -> 900055281 | C10: =+vigilancia!C10 -> 1.Teg Seguridad Ltda | D10: =+vigilancia!M10/vigilancia!N10 -> 1.0064333 | E10: =+vigilancia!N10/vigilancia!M10 -> 0.9936078 | F10: =+vigilancia!L10/vigilancia!M10 -> 0.082676815 | G10: =+vigilancia!L10/vigilancia!O10 -> 12.93402
B11: =+vigilancia!B11 -> 860035200 | C11: =+vigilancia!C11 -> ATALAYA 1 SECURITY GROUP LTDA EN REORGANIZACION | D11: =+vigilancia!M11/vigilancia!N11 -> 2.8913586 | E11: =+vigilancia!N11/vigilancia!M11 -> 0.34585817 | F11: =+vigilancia!L11/vigilancia!M11 -> 0.060815479 | G11: =+vigilancia!L11/vigilancia!O11 -> 0.092969867
B12: =+vigilancia!B12 -> 0 | C12: =+vigilancia!C12 -> 0 | D12: =+vigilancia!M12/vigilancia!N12 -> #DIV/0! | E12: =+vigilancia!N12/vigilancia!M12 -> #DIV/0! | F12: =+vigilancia!L12/vigilancia!M12 -> #DIV/0! | G12: =+vigilancia!L12/vigilancia!O12 -> #DIV/0!
B13: =+vigilancia!B13 -> 0 | C13: =+vigilancia!C13 -> 0 | D13: =+vigilancia!M13/vigilancia!N13 -> #DIV/0! | E13: =+vigilancia!N13/vigilancia!M13 -> #DIV/0! | F13: =+vigilancia!L13/vigilancia!M13 -> #DIV/0! | G13: =+vigilancia!L13/vigilancia!O13 -> #DIV/0!
... B16: =+vigilancia!B16 -> 0 | C16: =+vigilancia!C16 -> 0 | D16: =+vigilancia!M16/vigilancia!N16 -> #DIV/0! | E16: =+vigilancia!N16/vigilancia!M16 -> #DIV/0! | F16: =+vigilancia!L16/vigilancia!M16 -> #DIV/0! | G16: =+vigilancia!L16/vigilancia!O16 -> #DIV/0!
B17: =+vigilancia!B17 -> 0 | C17: =+vigilancia!C17 -> 0 | D17: =+vigilancia!M17/vigilancia!N17 -> #DIV/0! | E17: =+vigilancia!N17/vigilancia!M17 -> #DIV/0! | F17: =+vigilancia!L17/vigilancia!M17 -> #DIV/0! | G17: =+vigilancia!L17/vigilancia!O17 -> #DIV/0! | K17: =13/36 -> 0.36111111
B18: =+vigilancia!B18 -> 0 | C18: =+vigilancia!C18 -> 0 | D18: =+vigilancia!M18/vigilancia!N18 -> #DIV/0! | E18: =+vigilancia!N18/vigilancia!M18 -> #DIV/0! | F18: =+vigilancia!L18/vigilancia!M18 -> #DIV/0! | G18: =+vigilancia!L18/vigilancia!O18 -> #DIV/0!
B19: =+vigilancia!B19 -> 0 | C19: =+vigilancia!C19 -> 0 | D19: =+vigilancia!M19/vigilancia!N19 -> #DIV/0! | E19: =+vigilancia!N19/vigilancia!M19 -> #DIV/0! | F19: =+vigilancia!L19/vigilancia!M19 -> #DIV/0! | G19: =+vigilancia!L19/vigilancia!O19 -> #DIV/0!
B20: =+vigilancia!B20 -> 0 | C20: =+vigilancia!C20 -> 0 | D20: =+vigilancia!M20/vigilancia!N20 -> #DIV/0! | E20: =+vigilancia!N20/vigilancia!M20 -> #DIV/0! | F20: =+vigilancia!L20/vigilancia!M20 -> #DIV/0! | G20: =+vigilancia!L20/vigilancia!O20 -> #DIV/0!
B21: =+vigilancia!B21 -> 0 | C21: =+vigilancia!C21 -> 0 | D21: =+vigilancia!M21/vigilancia!N21 -> #DIV/0! | E21: =+vigilancia!N21/vigilancia!M21 -> #DIV/0! | F21: =+vigilancia!L21/vigilancia!M21 -> #DIV/0! | G21: =+vigilancia!L21/vigilancia!O21 -> #DIV/0! | L21: =20/36 -> 0.55555556
B22: =+vigilancia!B22 -> 0 | C22: =+vigilancia!C22 -> 0 | D22: =+vigilancia!M22/vigilancia!N22 -> #DIV/0! | E22: =+vigilancia!N22/vigilancia!M22 -> #DIV/0! | F22: =+vigilancia!L22/vigilancia!M22 -> #DIV/0! | G22: =+vigilancia!L22/vigilancia!O22 -> #DIV/0!
B23: =+vigilancia!B23 -> 0 | C23: =+vigilancia!C23 -> 0 | D23: =+vigilancia!M23/vigilancia!N23 -> #DIV/0! | E23: =+vigilancia!N23/vigilancia!M23 -> #DIV/0! | F23: =+vigilancia!L23/vigilancia!M23 -> #DIV/0! | G23: =+vigilancia!L23/vigilancia!O23 -> #DIV/0!
B24: =+vigilancia!B24 -> 0 | C24: =+vigilancia!C24 -> 0 | D24: =+vigilancia!M24/vigilancia!N24 -> #DIV/0! | E24: =+vigilancia!N24/vigilancia!M24 -> #DIV/0! | F24: =+vigilancia!L24/vigilancia!M24 -> #DIV/0! | G24: =+vigilancia!L24/vigilancia!O24 -> #DIV/0!
B25: =+vigilancia!B25 -> 0 | C25: =+vigilancia!C25 -> 0 | D25: =+vigilancia!M25/vigilancia!N25 -> #DIV/0! | E25: =+vigilancia!N25/vigilancia!M25 -> #DIV/0! | F25: =+vigilancia!L25/vigilancia!M25 -> #DIV/0! | G25: =+vigilancia!L25/vigilancia!O25 -> #DIV/0!
B26: =+vigilancia!B26 -> 0 | C26: =+vigilancia!C26 -> 0 | D26: =+vigilancia!M26/vigilancia!N26 -> #DIV/0! | E26: =+vigilancia!N26/vigilancia!M26 -> #DIV/0! | F26: =+vigilancia!L26/vigilancia!M26 -> #DIV/0! | G26: =+vigilancia!L26/vigilancia!O26 -> #DIV/0!
B27: =+vigilancia!B27 -> 0 | C27: =+vigilancia!C27 -> 0 | D27: =+vigilancia!M27/vigilancia!N27 -> #DIV/0! | E27: =+vigilancia!N27/vigilancia!M27 -> #DIV/0! | F27: =+vigilancia!L27/vigilancia!M27 -> #DIV/0! | G27: =+vigilancia!L27/vigilancia!O27 -> #DIV/0!
B28: =+vigilancia!B28 -> 0 | C28: =+vigilancia!C28 -> 0 | D28: =+vigilancia!M28/vigilancia!N28 -> #DIV/0! | E28: =+vigilancia!N28/vigilancia!M28 -> #DIV/0! | F28: =+vigilancia!L28/vigilancia!M28 -> #DIV/0! | G28: =+vigilancia!L28/vigilancia!O28 -> #DIV/0!
B29: =+vigilancia!B29 -> 0 | C29: =+vigilancia!C29 -> 0 | D29: =+vigilancia!M29/vigilancia!N29 -> #DIV/0! | E29: =+vigilancia!N29/vigilancia!M29 -> #DIV/0! | F29: =+vigilancia!L29/vigilancia!M29 -> #DIV/0! | G29: =+vigilancia!L29/vigilancia!O29 -> #DIV/0!
B30: =+vigilancia!B30 -> 0 | C30: =+vigilancia!C30 -> 0 | D30: =+vigilancia!M30/vigilancia!N30 -> #DIV/0! | E30: =+vigilancia!N30/vigilancia!M30 -> #DIV/0! | F30: =+vigilancia!L30/vigilancia!M30 -> #DIV/0! | G30: =+vigilancia!L30/vigilancia!O30 -> #DIV/0!
B31: =+vigilancia!B31 -> 0 | C31: =+vigilancia!C31 -> 0 | D31: =+vigilancia!M31/vigilancia!N31 -> #DIV/0! | E31: =+vigilancia!N31/vigilancia!M31 -> #DIV/0! | F31: =+vigilancia!L31/vigilancia!M31 -> #DIV/0! | G31: =+vigilancia!L31/vigilancia!O31 -> #DIV/0!
B32: =+vigilancia!B32 -> 0 | C32: =+vigilancia!C32 -> 0 | D32: =+vigilancia!M32/vigilancia!N32 -> #DIV/0! | E32: =+vigilancia!N32/vigilancia!M32 -> #DIV/0! | F32: =+vigilancia!L32/vigilancia!M32 -> #DIV/0! | G32: =+vigilancia!L32/vigilancia!O32 -> #DIV/0!
B33: =+vigilancia!B33 -> 0 | C33: =+vigilancia!C33 -> 0 | D33: =+vigilancia!M33/vigilancia!N33 -> #DIV/0! | E33: =+vigilancia!N33/vigilancia!M33 -> #DIV/0! | F33: =+vigilancia!L33/vigilancia!M33 -> #DIV/0! | G33: =+vigilancia!L33/vigilancia!O33 -> #DIV/0!
... B37: =+vigilancia!B37 -> 0 | C37: =+vigilancia!C37 -> 0 | D37: =+vigilancia!M37/vigilancia!N37 -> #DIV/0! | E37: =+vigilancia!N37/vigilancia!M37 -> #DIV/0! | F37: =+vigilancia!L37/vigilancia!M37 -> #DIV/0! | G37: =+vigilancia!L37/vigilancia!O37 -> #DIV/0!
B70: RESULTADOS INDICADORES | D70: =SUM(D2:D11)/10 -> 2.631232 | E70: =SUM(E2:E11)/10 -> 0.46348762 | F70: =SUM(F2:F11)/10 -> 0.13050434 | G70: =SUM(G2:G11)/10 -> 1.568927
B72: CAPACIDAD FINANCIERA | C72: ÍNDICE DE LIQUIDEZ Activo corriente/pasivo corriente | D72: Igual o superior a 2,6 veces
C73: ÍNDICE DE ENDEUDAMIENTO Pasivo total/ activo total | D73: Menor o igual a 0.5
C74: RAZÓN DE COBERTURA DE INTERESES Utilidad Operacional / Gastos de Intereses | D74: Igual o superior a 0.015 o Indeterminado
C75: CAPITAL DE TRABAJO Activo Corriente menos Pasivo Corriente | D75: IGUAL O MAYOR (0.5) veces el presupuesto oficial. | J75: =5/36 -> 0.13888889
B78: CAPACIDAD DEORGANIZACIÓN | C78: RENTABILIDAD DEL PATRIMONIO Utilidad Operacional / Patrimonio | D78: Mayor o igual a 0.16
C80: RENTABILIDAD DEL ACTIVO Utilidad Operacional / Activo Total | D80: Mayor o igual a 0.1
C83: PROMEDIO PONDERADO ENDEUDAMIENTO 50%
...
