Workbook

Sheet TOTAL
A1: ITEM | B1: ACTIVIDAD | C1: UN | D1: CANTIDAD | E1: VR. UNITARIO | F1: VR. TOTAL
A2: 1 | B2: PRELIMINARES
A3: 1.01 | B3: DEMOLICION DE ENCHAPE DE PISOS Y PAREDES | C3: m² | D3: ='MATERIALES COMPUEST'!D5+'TALLER ELECTRICOS '!D3+'SERVOS Y PINTURAS '!D3+'LAB INSPECC'!D3+'DEPOT T 53'!D3+MISCELANEOS!D3+'ECONOMATO '!D3+'MALLA PERIMETRAL '!D3+'BOG MPT6 '!D3+'ESCAM '!D3+'SANIDAD '!D3+VIVIENDAS!D3 -> 853.91 | E3: 43704.15 | F3: =D3*E3 -> 37319411
A4: 1.02 | B4: DEMOLICIÓN POYOS DUCHAS | C4: ml | D4: ='MATERIALES COMPUEST'!D6+'TALLER ELECTRICOS '!D4+'SERVOS Y PINTURAS '!D4+'LAB INSPECC'!D4+'DEPOT T 53'!D4+MISCELANEOS!D4+'ECONOMATO '!D4+'MALLA PERIMETRAL '!D4+'BOG MPT6 '!D4+'ESCAM '!D4+'SANIDAD '!D4+VIVIENDAS!D4 -> 4.6 | E4: 12300.17 | F4: =D4*E4 -> 56580.782
A5: 1.03 | B5: DESMONTE PUERTAS Y VENTANAS | C5: m² | D5: ='MATERIALES COMPUEST'!D7+'TALLER ELECTRICOS '!D5+'SERVOS Y PINTURAS '!D5+'LAB INSPECC'!D5+'DEPOT T 53'!D5+MISCELANEOS!D5+'ECONOMATO '!D5+'MALLA PERIMETRAL '!D5+'BOG MPT6 '!D5+'ESCAM '!D5+'SANIDAD '!D5+VIVIENDAS!D5 -> 13.78 | E5: 5770.56 | F5: =D5*E5 -> 79518.317
A6: 1.04 | B6: DEMOLICIÓN DE GUARDA ESCOBA. | C6: m | D6: ='MATERIALES COMPUEST'!D8+'TALLER ELECTRICOS '!D6+'SERVOS Y PINTURAS '!D6+'LAB INSPECC'!D6+'DEPOT T 53'!D6+MISCELANEOS!D6+'ECONOMATO '!D6+'MALLA PERIMETRAL '!D6+'BOG MPT6 '!D6+'ESCAM '!D6+'SANIDAD '!D6+VIVIENDAS!D6 -> 319.81 | E6: 3274.08 | F6: =D6*E6 -> 1047083.5
A7: 1.05 | B7: ESCARIFICADO DE PINTURA EN PAREDES | C7: m² | D7: ='MATERIALES COMPUEST'!D9+'TALLER ELECTRICOS '!D7+'SERVOS Y PINTURAS '!D7+'LAB INSPECC'!D7+'DEPOT T 53'!D7+MISCELANEOS!D7+'ECONOMATO '!D7+'MALLA PERIMETRAL '!D7+'BOG MPT6 '!D7+'ESCAM '!D7+'SANIDAD '!D7+VIVIENDAS!D7 -> 64 | E7: 3577.1 | F7: =D7*E7 -> 228934.4
A8: 1.06 | B8: DESMONTE DE CIELO RASO, INCLUYE DESMONTE DE ESTRUCTURA | C8: m² | D8: ='MATERIALES COMPUEST'!D10+'TALLER ELECTRICOS '!D8+'SERVOS Y PINTURAS '!D8+'LAB INSPECC'!D8+'DEPOT T 53'!D8+MISCELANEOS!D8+'ECONOMATO '!D8+'MALLA PERIMETRAL '!D8+'BOG MPT6 '!D8+'ESCAM '!D8+'SANIDAD '!D8+VIVIENDAS!D8 -> 653.53 | E8: 11910.09 | F8: =D8*E8 -> 7783601.1
A9: 1.07 | B9: DESMONTE Y REINSTALACION DE PUERTA METALICA TIPO HANGAR MARCOS, RIELES Y ANGULOS | C9: m² | D9: ='MATERIALES COMPUEST'!D11+'TALLER ELECTRICOS '!D9+'SERVOS Y PINTURAS '!D9+'LAB INSPECC'!D9+'DEPOT T 53'!D9+MISCELANEOS!D9+'ECONOMATO '!D9+'MALLA PERIMETRAL '!D9+'BOG MPT6 '!D9+'ESCAM '!D9+'SANIDAD '!D9+VIVIENDAS!D9 -> 41.41 | E9: 57761.86 | F9: =D9*E9 -> 2391918.6
A10: 1.08 | B10: ESCARIFICADO DE PAÑETE EN PAREDES | C10: m² | D10: ='MATERIALES COMPUEST'!D12+'TALLER ELECTRICOS '!D10+'SERVOS Y PINTURAS '!D10+'LAB INSPECC'!D10+'DEPOT T 53'!D10+MISCELANEOS!D10+'ECONOMATO '!D10+'MALLA PERIMETRAL '!D10+'BOG MPT6 '!D10+'ESCAM '!D10+'SANIDAD '!D10+VIVIENDAS!D10 -> 11.98 | E10: 5561.38 | F10: =D10*E10 -> 66625.332
A11: 1.09 | B11: DESMONTE DE ESTRUCTURA EN MADERA Y METALICA PARA CUBIERTA | C11: m² | D11: ='MATERIALES COMPUEST'!D13+'TALLER ELECTRICOS '!D11+'SERVOS Y PINTURAS '!D11+'LAB INSPECC'!D11+'DEPOT T 53'!D11+MISCELANEOS!D11+'ECONOMATO '!D11+'MALLA PERIMETRAL '!D11+'BOG MPT6 '!D11+'ESCAM '!D11+'SANIDAD '!D11+VIVIENDAS!D11 -> 500.22 | E11: 16984.01 | F11: =D11*E11 -> 8495741.5
A12: 1.1 | B12: DEMOLICIÓN DE CERRAMIENTO EXISTENTE EN MALLA ESLABONADA CON TUBERÍA DE ACERO GALVANIZADO DE +-2" Y ANTEPECHO DE ALTURA APROXIMADA DE 0.60MTS. INCLUYE EL RETIRO DEL MATERIAL DEMOLIDO. | C12: m² | D12: ='MATERIALES COMPUEST'!D14+'TALLER ELECTRICOS '!D12+'SERVOS Y PINTURAS '!D12+'LAB INSPECC'!D12+'DEPOT T 53'!D12+MISCELANEOS!D12+'ECONOMATO '!D12+'MALLA PERIMETRAL '!D12+'BOG MPT6 '!D12+'ESCAM '!D12+'SANIDAD '!D12+VIVIENDAS!D12 -> 128 | E12: 30132.38 | F12: =D12*E12 -> 3856944.6
A13: 1.11 | B13: DEMOLICIÓN MUROS 0.15M | C13: m² | D13: ='MATERIALES COMPUEST'!D15+'TALLER ELECTRICOS '!D13+'SERVOS Y PINTURAS '!D13+'LAB INSPECC'!D13+'DEPOT T 53'!D13+MISCELANEOS!D13+'ECONOMATO '!D13+'MALLA PERIMETRAL '!D13+'BOG MPT6 '!D13+'ESCAM '!D13+'SANIDAD '!D13+VIVIENDAS!D13 -> 31.9 | E13: 7079.05 | F13: =D13*E13 -> 225821.7
A14: 1.12 | B14: DEMOLICIÓN PLACAS MACIZAS 0.15M | C14: m² | D14: ='MATERIALES COMPUEST'!D16+'TALLER ELECTRICOS '!D14+'SERVOS Y PINTURAS '!D14+'LAB INSPECC'!D14+'DEPOT T 53'!D14+MISCELANEOS!D14+'ECONOMATO '!D14+'MALLA PERIMETRAL '!D14+'BOG MPT6 '!D14+'ESCAM '!D14+'SANIDAD '!D14+VIVIENDAS!D14 -> 34.48 | E14: 59816.37 | F14: =D14*E14 -> 2062468.4
... A17: 1.15 | B17: DESMONTE CANAL AGUAS LLUVIAS | C17: ml | D17: ='MATERIALES COMPUEST'!D19+'TALLER ELECTRICOS '!D17+'SERVOS Y PINTURAS '!D17+'LAB INSPECC'!D17+'DEPOT T 53'!D17+MISCELANEOS!D17+'ECONOMATO '!D17+'MALLA PERIMETRAL '!D17+'BOG MPT6 '!D17+'ESCAM '!D17+'SANIDAD '!D17+VIVIENDAS!D17 -> 62.5 | E17: 14991.53 | F17: =D17*E17 -> 936970.62
B18: Total PRELIMINARES | F18: =SUM(F3:F17) -> 74896722
A19: 2 | B19: MOVIMIENTO DE TIERRAS
A20: 2.01 | B20: RELLENO Y COMPACTACIÓN CON MATERIAL DE EXCAVACIÓN SELECCIONADO | C20: m³ | D20: ='MATERIALES COMPUEST'!D22+'TALLER ELECTRICOS '!D20+'SERVOS Y PINTURAS '!D20+'LAB INSPECC'!D20+'DEPOT T 53'!D20+MISCELANEOS!D20+'ECONOMATO '!D20+'MALLA PERIMETRAL '!D20+'BOG MPT6 '!D20+'ESCAM '!D20+'SANIDAD '!D20+VIVIENDAS!D20 -> 9.1 | E20: 18941.08 | F20: =D20*E20 -> 172363.83
A21: 2.02 | B21: TRANSPORTE DE MATERIAL/SOBRANTE U OTRO Y DISPOSICIÓN FINAL DE SOBRANTES A SITIO AUTORIZADO. | C21: m³ | D21: ='MATERIALES COMPUEST'!D23+'TALLER ELECTRICOS '!D21+'SERVOS Y PINTURAS '!D21+'LAB INSPECC'!D21+'DEPOT T 53'!D21+MISCELANEOS!D21+'ECONOMATO '!D21+'MALLA PERIMETRAL '!D21+'BOG MPT6 '!D21+'ESCAM '!D21+'SANIDAD '!D21+VIVIENDAS!D21 -> 147 | E21: 50091.05 | F21: =D21*E21 -> 7363384.4
A22: 2.03 | B22: EXCAVACION MANUAL EN TERRENO CONSISTENTE, NO INCLUYE CARGUE, RETIRO Y DISPOSICION FINAL DE EXCAVACION | C22: m³ | D22: ='MATERIALES COMPUEST'!D24+'TALLER ELECTRICOS '!D22+'SERVOS Y PINTURAS '!D22+'LAB INSPECC'!D22+'DEPOT T 53'!D22+MISCELANEOS!D22+'ECONOMATO '!D22+'MALLA PERIMETRAL '!D22+'BOG MPT6 '!D22+'ESCAM '!D22+'SANIDAD '!D22+VIVIENDAS!D22 -> 10 | E22: 19478.87 | F22: =D22*E22 -> 194788.7
A23: 2.04 | B23: EXCAVACIÓN MANUAL EN MATERIAL COMÚN. INCLUYE CARGUE, TRANSPORTE Y DISPOSICIÓN FINAL DE SOBRANTES A SITIO AUTORIZADO DE 0 - 2,00 MTS. | C23: m³ | D23: ='MATERIALES COMPUEST'!D25+'TALLER ELECTRICOS '!D23+'SERVOS Y PINTURAS '!D23+'LAB INSPECC'!D23+'DEPOT T 53'!D23+MISCELANEOS!D23+'ECONOMATO '!D23+'MALLA PERIMETRAL '!D23+'BOG MPT6 '!D23+'ESCAM '!D23+'SANIDAD '!D23+VIVIENDAS!D23 -> 2 | E23: 41556.66 | F23: =D23*E23 -> 83113.32
B24: Total MOVIMIENTO DE TIERRAS | F24: =SUM(F20:F23) -> 7813650.2
A25: 3 | B25: CIMENTACIÓN
A26: 3.01 | B26: SOLADO DE LIMPIEZA EN CONCRETO DE 2.000 PSI DE E=0.05 M SEGÚN PLANOS. INCLUYE MATERIALES, MANO DE OBRA, EQUIPOS Y HERRAMIENTAS NECESARIAS | C26: m² | D26: ='MATERIALES COMPUEST'!D28+'TALLER ELECTRICOS '!D26+'SERVOS Y PINTURAS '!D26+'LAB INSPECC'!D26+'DEPOT T 53'!D26+MISCELANEOS!D26+'ECONOMATO '!D26+'MALLA PERIMETRAL '!D26+'BOG MPT6 '!D26+'ESCAM '!D26+'SANIDAD '!D26+VIVIENDAS!D26 -> 2.62 | E26: 25198.68 | F26: =D26*E26 -> 66020.542
A27: 3.02 | B27: VIGAS DE CIMENTACION EN CONCRETO DE 3.000 PSI IMPERMEABILIZADO SEGÚN PLANOS. INCLUYE MANO DE OBRA, FORMALETAS, EQUIPOS Y HERRAMIENTAS NECESARIAS, NO INCLUYE ACERO DE REFUERZO. | C27: m³ | D27: ='MATERIALES COMPUEST'!D29+'TALLER ELECTRICOS '!D27+'SERVOS Y PINTURAS '!D27+'LAB INSPECC'!D27+'DEPOT T 53'!D27+MISCELANEOS!D27+'ECONOMATO '!D27+'MALLA PERIMETRAL '!D27+'BOG MPT6 '!D27+'ESCAM '!D27+'SANIDAD '!D27+VIVIENDAS!D27 -> 0.52 | E27: 746916.81 | F27: =D27*E27 -> 388396.74
A28: 3.03 | B28: PLACA DE CONTRAPISO EN CONCRETO DE 3.000 PSI IMPERMEABILIZADO, SEGÚN PLANOS. INCLUYE MANO DE OBRA, FORMALETAS, EQUIPOS Y HERRAMIENTAS NECESARIAS, E=0.15 M, NO INCLUYE ACERO DE REFUERZO | C28: m² | D28: ='MATERIALES COMPUEST'!D30+'TALLER ELECTRICOS '!D28+'SERVOS Y PINTURAS '!D28+'LAB INSPECC'!D28+'DEPOT T 53'!D28+MISCELANEOS!D28+'ECONOMATO '!D28+'MALLA PERIMETRAL '!D28+'BOG MPT6 '!D28+'ESCAM '!D28+'SANIDAD '!D28+VIVIENDAS!D28 -> 42.74 | E28: 158491.85 | F28: =D28*E28 -> 6773941.7
A29: 3.04 | B29: MALLA ELECTROSOLDADA FY 485 MPA -NTC 5806, INCLUYE ALAMBRE NEGRO TRASIEGO, MANEJO | C29: kg | D29: ='MATERIALES COMPUEST'!D31+'TALLER ELECTRICOS '!D29+'SERVOS Y PINTURAS '!D29+'LAB INSPECC'!D29+'DEPOT T 53'!D29+MISCELANEOS!D29+'ECONOMATO '!D29+'MALLA PERIMETRAL '!D29+'BOG MPT6 '!D29+'ESCAM '!D29+'SANIDAD '!D29+VIVIENDAS!D29 -> 291.34 | E29: 4821.48 | F29: =D29*E29 -> 1404690
B30: Total CIMENTACIÓN | F30: =SUM(F26:F29) -> 8633048.9
A31: 4 | B31: ESTRUCTURA
A32: 4.01 | B32: VIGAS AEREAS EN CONCRETO DE 3.000 PSI SEGÚN PLANOS. INCLUYE MANO DE OBRA, FORMALETAS, EQUIPOS Y HERRAMIENTAS NECESARIAS, NO INCLUYE ACERO DE REFUERZO | C32: m³ | D32: ='MATERIALES COMPUEST'!D34+'TALLER ELECTRICOS '!D32+'SERVOS Y PINTURAS '!D32+'LAB INSPECC'!D32+'DEPOT T 53'!D32+MISCELANEOS!D32+'ECONOMATO '!D32+'MALLA PERIMETRAL '!D32+'BOG MPT6 '!D32+'ESCAM '!D32+'SANIDAD '!D32+VIVIENDAS!D32 -> 0.52 | E32: 741920.57 | F32: =D32*E32 -> 385798.7
A33: 4.02 | B33: COLUMNA EN CONCRETO DE 3.000 PSI SEGÚN PLANOS. INCLUYE MANO DE OBRA, FORMALETAS, EQUIPOS Y HERRAMIENTAS NECESARIAS, NO INCLUYE ACERO DE REFUERZO | C33: m³ | D33: ='MATERIALES COMPUEST'!D35+'TALLER ELECTRICOS '!D33+'SERVOS Y PINTURAS '!D33+'LAB INSPECC'!D33+'DEPOT T 53'!D33+MISCELANEOS!D33+'ECONOMATO '!D33+'MALLA PERIMETRAL '!D33+'BOG MPT6 '!D33+'ESCAM '!D33+'SANIDAD '!D33+VIVIENDAS!D33 -> 0.38 | E33: 784064.81 | F33: =D33*E33 -> 297944.63
A34: 4.03 | B34: ACERO DE REFUERZO ESTRUCTURAL FY: 420 MPA GR 60 -NTC 2289 | C34: kg | D34: ='MATERIALES COMPUEST'!D36+'TALLER ELECTRICOS '!D34+'SERVOS Y PINTURAS '!D34+'LAB INSPECC'!D34+'DEPOT T 53'!D34+MISCELANEOS!D34+'ECONOMATO '!D34+'MALLA PERIMETRAL '!D34+'BOG MPT6 '!D34+'ESCAM '!D34+'SANIDAD '!D34+VIVIENDAS!D34 -> 436 | E34: 6549.36 | F34: =D34*E34 -> 2855521
A35: 4.04 | B35: RIEL METALICO PARA PUERTA METALICA TIPO HANGAR. INCLUYE CAMBIO DE RODAMIENTOS Y TODOS LOS ELEMENTOS ESTRUCTURALES PARA SU MONTAJE Y CORRECTO FUNCIONAMIENTO COMO TAMBIÉN PINTURA EN ANTICORROSIVO Y ESMALTE. | C35: kg | D35: ='MATERIALES COMPUEST'!D37+'TALLER ELECTRICOS '!D35+'SERVOS Y PINTURAS '!D35+'LAB INSPECC'!D35+'DEPOT T 53'!D35+MISCELANEOS!D35+'ECONOMATO '!D35+'MALLA PERIMETRAL '!D35+'BOG MPT6 '!D35+'ESCAM '!D35+'SANIDAD '!D35+VIVIENDAS!D35 -> 90 | E35: 25703.33 | F35: =D35*E35 -> 2313299.7
A36: 4.05 | B36: PERFILERIA ESTRUCTURAL EN ACERO A500 GR C. INCLUYE TODOS LOS ELEMENTOS ESTRUCTURALES PARA SU MONTAJE Y CORRECTO FUNCIONAMIENTO COMO TAMBIÉN PINTURA EN ANTICORROSIVO, ESMALTE, CONEXIONES, PLATINAS, ANCLAJES Y SOLDADURA. | C36: kg | D36: ='MATERIALES COMPUEST'!D38+'TALLER ELECTRICOS '!D36+'SERVOS Y PINTURAS '!D36+'LAB INSPECC'!D36+'DEPOT T 53'!D36+MISCELANEOS!D36+'ECONOMATO '!D36+'MALLA PERIMETRAL '!D36+'BOG MPT6 '!D36+'ESCAM '!D36+'SANIDAD '!D36+VIVIENDAS!D36 -> 4476.8283 | E36: 23685.69 | F36: =D36*E36 -> 1.0603677e+08
A37: 4.06 | B37: ESTRUCTURA METÁLICA EN ACERO ESTRUCTURAL, TALES COMO PERFILES, PLATINAS, CORREAS Y DEMÁS ELEMENTOS. INCLUYE MONTAJE, APLICACION DE SIKAPERMACOR SERIE 82 TIPO SIKA O SIMILAR A UN ESPESOR DE PELÍCULA SECA DE 10.0 A 12.0 MILS, ESMALTE URETANO SERIE 36 TIPO S | C37: kg | D37: ='MATERIALES COMPUEST'!D39+'TALLER ELECTRICOS '!D37+'SERVOS Y PINTURAS '!D37+'LAB INSPECC'!D37+'DEPOT T 53'!D37+MISCELANEOS!D37+'ECONOMATO '!D37+'MALLA PERIMETRAL '!D37+'BOG MPT6 '!D37+'ESCAM '!D37+'SANIDAD '!D37+VIVIENDAS!D37 -> 600 | E37: 20839.02 | F37: =D37*E37 -> 12503412
B38: Total ESTRUCTURA | F38: =SUM(F32:F37) -> 1.2439274e+08
A39: 5 | B39: INSTALACIONES HIDROSANITARIAS
A40: 5.01 | B40: CIMENTACION Y ATRAQUE DE TUBERIA | C40: m³ | D40: ='MATERIALES COMPUEST'!D42+'TALLER ELECTRICOS '!D40+'SERVOS Y PINTURAS '!D40+'LAB INSPECC'!D40+'DEPOT T 53'!D40+MISCELANEOS!D40+'ECONOMATO '!D40+'MALLA PERIMETRAL '!D40+'BOG MPT6 '!D40+'ESCAM '!D40+'SANIDAD '!D40+VIVIENDAS!D40 -> 1.68 | E40: 78626.05 | F40: =D40*E40 -> 132091.76
A41: 5.02 | B41: REGATA PARA INSTALACIÓN DE TUBERÍA DE Ø 1/2" A Ø 2" (INCLUYE RESANE) | C41: m | D41: ='MATERIALES COMPUEST'!D43+'TALLER ELECTRICOS '!D41+'SERVOS Y PINTURAS '!D41+'LAB INSPECC'!D41+'DEPOT T 53'!D41+MISCELANEOS!D41+'ECONOMATO '!D41+'MALLA PERIMETRAL '!D41+'BOG MPT6 '!D41+'ESCAM '!D41+'SANIDAD '!D41+VIVIENDAS!D41 -> 96.8 | E41: 5836.55 | F41: =D41*E41 -> 564978.04
A42: 5.03 | B42: CONEXIÓN A RED HIDRÁULICA EXISTENTE Ø 1/2" . | C42: un | D42: ='MATERIALES COMPUEST'!D44+'TALLER ELECTRICOS '!D42+'SERVOS Y PINTURAS '!D42+'LAB INSPECC'!D42+'DEPOT T 53'!D42+MISCELANEOS!D42+'ECONOMATO '!D42+'MALLA PERIMETRAL '!D42+'BOG MPT6 '!D42+'ESCAM '!D42+'SANIDAD '!D42+VIVIENDAS!D42 -> 2 | E42: 17241.7 | F42: =D42*E42 -> 34483.4
...

Sheet MATERIALES COMPUEST
B1: FORMATO DE OFERTA ECONOMICA
A3: ITEM | B3: ACTIVIDAD | C3: UN | D3: CANTIDAD | E3: VR. UNITARIO | F3: VR. TOTAL
A4: 1 | B4: PRELIMINARES
A5: 1.01 | B5: DEMOLICION DE ENCHAPE DE PISOS Y PAREDES | C5: m² | E5: 43704.15 | F5: =D5*E5 -> 0
A6: 1.02 | B6: DEMOLICIÓN POYOS DUCHAS | C6: ml | E6: 12300.17 | F6: =D6*E6 -> 0
A7: 1.03 | B7: DESMONTE PUERTAS Y VENTANAS | C7: m² | E7: 5770.56 | F7: =D7*E7 -> 0
A8: 1.04 | B8: DEMOLICIÓN DE GUARDA ESCOBA. | C8: m | E8: 3274.08 | F8: =D8*E8 -> 0
A9: 1.05 | B9: ESCARIFICADO DE PINTURA EN PAREDES | C9: m² | E9: 3577.1 | F9: =D9*E9 -> 0
A10: 1.06 | B10: DESMONTE DE CIELO RASO, INCLUYE DESMONTE DE ESTRUCTURA | C10: m² | D10: 105.47 | F10: =D10*E10 -> 0
A11: 1.07 | B11: DESMONTE Y REINSTALACION DE PUERTA METALICA TIPO HANGAR MARCOS, RIELES Y ANGULOS | C11: m² | D11: 30 | F11: =D11*E11 -> 0
A12: 1.08 | B12: ESCARIFICADO DE PAÑETE EN PAREDES | C12: m² | E12: 5561.38 | F12: =D12*E12 -> 0
A13: 1.09 | B13: DESMONTE DE ESTRUCTURA EN MADERA Y METALICA PARA CUBIERTA | C13: m² | E13: 16984.01 | F13: =D13*E13 -> 0
A14: 1.1 | B14: DEMOLICIÓN DE CERRAMIENTO EXISTENTE EN MALLA ESLABONADA CON TUBERÍA DE ACERO GALVANIZADO DE +-2" Y ANTEPECHO DE ALTURA APROXIMADA DE 0.60MTS. INCLUYE EL RETIRO DEL MATERIAL DEMOLIDO. | C14: m² | E14: 30132.38 | F14: =D14*E14 -> 0
A15: 1.11 | B15: DEMOLICIÓN MUROS 0.15M | C15: m² | E15: 7079.05 | F15: =D15*E15 -> 0
A16: 1.12 | B16: DEMOLICIÓN PLACAS MACIZAS 0.15M | C16: m² | E16: 59816.37 | F16: =D16*E16 -> 0
A17: 1.13 | B17: DESMONTE APARATOS SANITARIOS | C17: un | E17: 5663.24 | F17: =D17*E17 -> 0
A18: 1.14 | B18: DESMONTE CUBIERTAS ASBESTO CEMENTO | C18: m² | E18: 9095.52 | F18: =D18*E18 -> 0
A19: 1.15 | B19: DESMONTE CANAL AGUAS LLUVIAS | C19: ml | E19: 14991.53 | F19: =D19*E19 -> 0
B20: Total PRELIMINARES | F20: =SUM(F5:F19) -> 0
A21: 2 | B21: MOVIMIENTO DE TIERRAS
A22: 2.01 | B22: RELLENO Y COMPACTACIÓN CON MATERIAL DE EXCAVACIÓN SELECCIONADO | C22: m³ | E22: 18941.08 | F22: =D22*E22 -> 0
A23: 2.02 | B23: TRANSPORTE DE MATERIAL/SOBRANTE U OTRO Y DISPOSICIÓN FINAL DE SOBRANTES A SITIO AUTORIZADO. | C23: m³ | D23: 6 | F23: =D23*E23 -> 0
A24: 2.03 | B24: EXCAVACION MANUAL EN TERRENO CONSISTENTE, NO INCLUYE CARGUE, RETIRO Y DISPOSICION FINAL DE EXCAVACION | C24: m³ | E24: 19478.87 | F24: =D24*E24 -> 0
A25: 2.04 | B25: EXCAVACIÓN MANUAL EN MATERIAL COMÚN. INCLUYE CARGUE, TRANSPORTE Y DISPOSICIÓN FINAL DE SOBRANTES A SITIO AUTORIZADO DE 0 - 2,00 MTS. | C25: m³ | E25: 41556.66 | F25: =D25*E25 -> 0
B26: Total MOVIMIENTO DE TIERRAS | F26: =SUM(F22:F25) -> 0
A27: 3 | B27: CIMENTACIÓN
A28: 3.01 | B28: SOLADO DE LIMPIEZA EN CONCRETO DE 2.000 PSI DE E=0.05 M SEGÚN PLANOS. INCLUYE MATERIALES, MANO DE OBRA, EQUIPOS Y HERRAMIENTAS NECESARIAS | C28: m² | E28: 25198.68 | F28: =D28*E28 -> 0
A29: 3.02 | B29: VIGAS DE CIMENTACION EN CONCRETO DE 3.000 PSI IMPERMEABILIZADO SEGÚN PLANOS. INCLUYE MANO DE OBRA, FORMALETAS, EQUIPOS Y HERRAMIENTAS NECESARIAS, NO INCLUYE ACERO DE REFUERZO. | C29: m³ | E29: 746916.81 | F29: =D29*E29 -> 0
A30: 3.03 | B30: PLACA DE CONTRAPISO EN CONCRETO DE 3.000 PSI IMPERMEABILIZADO, SEGÚN PLANOS. INCLUYE MANO DE OBRA, FORMALETAS, EQUIPOS Y HERRAMIENTAS NECESARIAS, E=0.15 M, NO INCLUYE ACERO DE REFUERZO | C30: m² | E30: 158491.85 | F30: =D30*E30 -> 0
A31: 3.04 | B31: MALLA ELECTROSOLDADA FY 485 MPA -NTC 5806, INCLUYE ALAMBRE NEGRO TRASIEGO, MANEJO | C31: kg | E31: 4821.48 | F31: =D31*E31 -> 0
B32: Total CIMENTACIÓN | F32: =SUM(F28:F31) -> 0
A33: 4 | B33: ESTRUCTURA
A34: 4.01 | B34: VIGAS AEREAS EN CONCRETO DE 3.000 PSI SEGÚN PLANOS. INCLUYE MANO DE OBRA, FORMALETAS, EQUIPOS Y HERRAMIENTAS NECESARIAS, NO INCLUYE ACERO DE REFUERZO | C34: m³ | E34: 741920.57 | F34: =D34*E34 -> 0
A35: 4.02 | B35: COLUMNA EN CONCRETO DE 3.000 PSI SEGÚN PLANOS. INCLUYE MANO DE OBRA, FORMALETAS, EQUIPOS Y HERRAMIENTAS NECESARIAS, NO INCLUYE ACERO DE REFUERZO | C35: m³ | E35: 784064.81 | F35: =D35*E35 -> 0
A36: 4.03 | B36: ACERO DE REFUERZO ESTRUCTURAL FY: 420 MPA GR 60 -NTC 2289 | C36: kg | E36: 6549.36 | F36: =D36*E36 -> 0
A37: 4.04 | B37: RIEL METALICO PARA PUERTA METALICA TIPO HANGAR. INCLUYE CAMBIO DE RODAMIENTOS Y TODOS LOS ELEMENTOS ESTRUCTURALES PARA SU MONTAJE Y CORRECTO FUNCIONAMIENTO COMO TAMBIÉN PINTURA EN ANTICORROSIVO Y ESMALTE. | C37: kg | D37: 90 | F37: =D37*E37 -> 0
A38: 4.05 | B38: PERFILERIA ESTRUCTURAL EN ACERO A500 GR C. INCLUYE TODOS LOS ELEMENTOS ESTRUCTURALES PARA SU MONTAJE Y CORRECTO FUNCIONAMIENTO COMO TAMBIÉN PINTURA EN ANTICORROSIVO, ESMALTE, CONEXIONES, PLATINAS, ANCLAJES Y SOLDADURA. | C38: kg | E38: 23685.69 | F38: =D38*E38 -> 0
A39: 4.06 | B39: ESTRUCTURA METÁLICA EN ACERO ESTRUCTURAL, TALES COMO PERFILES, PLATINAS, CORREAS Y DEMÁS ELEMENTOS. INCLUYE MONTAJE, APLICACION DE SIKAPERMACOR SERIE 82 TIPO SIKA O SIMILAR A UN ESPESOR DE PELÍCULA SECA DE 10.0 A 12.0 MILS, ESMALTE URETANO SERIE 36 TIPO S | C39: kg | E39: 20839.02 | F39: =D39*E39 -> 0
B40: Total ESTRUCTURA | F40: =SUM(F34:F39) -> 0
A41: 5 | B41: INSTALACIONES HIDROSANITARIAS
...

Sheet TALLER ELECTRICOS 
A1: ITEM | B1: ACTIVIDAD | C1: UN | D1: CANTIDAD | E1: VR. UNITARIO | F1: VR. TOTAL
A2: 1 | B2: PRELIMINARES
A3: 1.01 | B3: DEMOLICION DE ENCHAPE DE PISOS Y PAREDES | C3: m² | D3: 94.6 | F3: =D3*E3 -> 0
A4: 1.02 | B4: DEMOLICIÓN POYOS DUCHAS | C4: ml | D4: 2.3 | F4: =D4*E4 -> 0
A5: 1.03 | B5: DESMONTE PUERTAS Y VENTANAS | C5: m² | D5: 0.82 | F5: =D5*E5 -> 0
A6: 1.04 | B6: DEMOLICIÓN DE GUARDA ESCOBA. | C6: m | F6: =D6*E6 -> 0
A7: 1.05 | B7: ESCARIFICADO DE PINTURA EN PAREDES | C7: m² | F7: =D7*E7 -> 0
A8: 1.06 | B8: DESMONTE DE CIELO RASO, INCLUYE DESMONTE DE ESTRUCTURA | C8: m² | D8: 350 | F8: =D8*E8 -> 0
A9: 1.07 | B9: DESMONTE Y REINSTALACION DE PUERTA METALICA TIPO HANGAR MARCOS, RIELES Y ANGULOS | C9: m² | F9: =D9*E9 -> 0
A10: 1.08 | B10: ESCARIFICADO DE PAÑETE EN PAREDES | C10: m² | D10: 4 | F10: =D10*E10 -> 0
A11: 1.09 | B11: DESMONTE DE ESTRUCTURA EN MADERA Y METALICA PARA CUBIERTA | C11: m² | F11: =D11*E11 -> 0
A12: 1.1 | B12: DEMOLICIÓN DE CERRAMIENTO EXISTENTE EN MALLA ESLABONADA CON TUBERÍA DE ACERO GALVANIZADO DE +-2" Y ANTEPECHO DE ALTURA APROXIMADA DE 0.60MTS. INCLUYE EL RETIRO DEL MATERIAL DEMOLIDO. | C12: m² | F12: =D12*E12 -> 0
A13: 1.11 | B13: DEMOLICIÓN MUROS 0.15M | C13: m² | D13: 0.3 | F13: =D13*E13 -> 0
A14: 1.12 | B14: DEMOLICIÓN PLACAS MACIZAS 0.15M | C14: m² | D14: 8.8 | F14: =D14*E14 -> 0
A15: 1.13 | B15: DESMONTE APARATOS SANITARIOS | C15: un | D15: 7 | F15: =D15*E15 -> 0
A16: 1.14 | B16: DESMONTE CUBIERTAS ASBESTO CEMENTO | C16: m² | E16: 9095.52 | F16: =D16*E16 -> 0
A17: 1.15 | B17: DESMONTE CANAL AGUAS LLUVIAS | C17: ml | E17: 14991.53 | F17: =D17*E17 -> 0
B18: Total PRELIMINARES | F18: =SUM(F3:F17) -> 0
A19: 2 | B19: MOVIMIENTO DE TIERRAS
A20: 2.01 | B20: RELLENO Y COMPACTACIÓN CON MATERIAL DE EXCAVACIÓN SELECCIONADO | C20: m³ | D20: 3.5 | F20: =D20*E20 -> 0
A21: 2.02 | B21: TRANSPORTE DE MATERIAL/SOBRANTE U OTRO Y DISPOSICIÓN FINAL DE SOBRANTES A SITIO AUTORIZADO. | C21: m³ | D21: 18 | F21: =D21*E21 -> 0
A22: 2.03 | B22: EXCAVACION MANUAL EN TERRENO CONSISTENTE, NO INCLUYE CARGUE, RETIRO Y DISPOSICION FINAL DE EXCAVACION | C22: m³ | D22: 4.4 | F22: =D22*E22 -> 0
A23: 2.04 | B23: EXCAVACIÓN MANUAL EN MATERIAL COMÚN. INCLUYE CARGUE, TRANSPORTE Y DISPOSICIÓN FINAL DE SOBRANTES A SITIO AUTORIZADO DE 0 - 2,00 MTS. | C23: m³ | E23: 41556.66 | F23: =D23*E23 -> 0
B24: Total MOVIMIENTO DE TIERRAS | F24: =SUM(F20:F23) -> 0
A25: 3 | B25: CIMENTACIÓN
A26: 3.01 | B26: SOLADO DE LIMPIEZA EN CONCRETO DE 2.000 PSI DE E=0.05 M SEGÚN PLANOS. INCLUYE MATERIALES, MANO DE OBRA, EQUIPOS Y HERRAMIENTAS NECESARIAS | C26: m² | E26: 25198.68 | F26: =D26*E26 -> 0
A27: 3.02 | B27: VIGAS DE CIMENTACION EN CONCRETO DE 3.000 PSI IMPERMEABILIZADO SEGÚN PLANOS. INCLUYE MANO DE OBRA, FORMALETAS, EQUIPOS Y HERRAMIENTAS NECESARIAS, NO INCLUYE ACERO DE REFUERZO. | C27: m³ | E27: 746916.81 | F27: =D27*E27 -> 0
A28: 3.03 | B28: PLACA DE CONTRAPISO EN CONCRETO DE 3.000 PSI IMPERMEABILIZADO, SEGÚN PLANOS. INCLUYE MANO DE OBRA, FORMALETAS, EQUIPOS Y HERRAMIENTAS NECESARIAS, E=0.15 M, NO INCLUYE ACERO DE REFUERZO | C28: m² | D28: 8.8 | F28: =D28*E28 -> 0
A29: 3.04 | B29: MALLA ELECTROSOLDADA FY 485 MPA -NTC 5806, INCLUYE ALAMBRE NEGRO TRASIEGO, MANEJO | C29: kg | D29: 18.2 | F29: =D29*E29 -> 0
B30: Total CIMENTACIÓN | F30: =SUM(F26:F29) -> 0
A31: 4 | B31: ESTRUCTURA
A32: 4.01 | B32: VIGAS AEREAS EN CONCRETO DE 3.000 PSI SEGÚN PLANOS. INCLUYE MANO DE OBRA, FORMALETAS, EQUIPOS Y HERRAMIENTAS NECESARIAS, NO INCLUYE ACERO DE REFUERZO | C32: m³ | E32: 741920.57 | F32: =D32*E32 -> 0
A33: 4.02 | B33: COLUMNA EN CONCRETO DE 3.000 PSI SEGÚN PLANOS. INCLUYE MANO DE OBRA, FORMALETAS, EQUIPOS Y HERRAMIENTAS NECESARIAS, NO INCLUYE ACERO DE REFUERZO | C33: m³ | E33: 784064.81 | F33: =D33*E33 -> 0
A34: 4.03 | B34: ACERO DE REFUERZO ESTRUCTURAL FY: 420 MPA GR 60 -NTC 2289 | C34: kg | E34: 6549.36 | F34: =D34*E34 -> 0
A35: 4.04 | B35: RIEL METALICO PARA PUERTA METALICA TIPO HANGAR. INCLUYE CAMBIO DE RODAMIENTOS Y TODOS LOS ELEMENTOS ESTRUCTURALES PARA SU MONTAJE Y CORRECTO FUNCIONAMIENTO COMO TAMBIÉN PINTURA EN ANTICORROSIVO Y ESMALTE. | C35: kg | E35: 25703.33 | F35: =D35*E35 -> 0
A36: 4.05 | B36: PERFILERIA ESTRUCTURAL EN ACERO A500 GR C. INCLUYE TODOS LOS ELEMENTOS ESTRUCTURALES PARA SU MONTAJE Y CORRECTO FUNCIONAMIENTO COMO TAMBIÉN PINTURA EN ANTICORROSIVO, ESMALTE, CONEXIONES, PLATINAS, ANCLAJES Y SOLDADURA. | C36: kg | E36: 23685.69 | F36: =D36*E36 -> 0
A37: 4.06 | B37: ESTRUCTURA METÁLICA EN ACERO ESTRUCTURAL, TALES COMO PERFILES, PLATINAS, CORREAS Y DEMÁS ELEMENTOS. INCLUYE MONTAJE, APLICACION DE SIKAPERMACOR SERIE 82 TIPO SIKA O SIMILAR A UN ESPESOR DE PELÍCULA SECA DE 10.0 A 12.0 MILS, ESMALTE URETANO SERIE 36 TIPO S | C37: kg | E37: 20839.02 | F37: =D37*E37 -> 0
B38: Total ESTRUCTURA | F38: =SUM(F32:F37) -> 0
A39: 5 | B39: INSTALACIONES HIDROSANITARIAS
A40: 5.01 | B40: CIMENTACION Y ATRAQUE DE TUBERIA | C40: m³ | E40: 78626.05 | F40: =D40*E40 -> 0
...

Sheet SERVOS Y PINTURAS 
A1: ITEM | B1: ACTIVIDAD | C1: UN | D1: CANTIDAD | E1: VR. UNITARIO | F1: VR. TOTAL
A2: 1 | B2: PRELIMINARES
A3: 1.01 | B3: DEMOLICION DE ENCHAPE DE PISOS Y PAREDES | C3: m² | E3: 43704.15 | F3: =D3*E3 -> 0
A4: 1.02 | B4: DEMOLICIÓN POYOS DUCHAS | C4: ml | E4: 12300.17 | F4: =D4*E4 -> 0
A5: 1.03 | B5: DESMONTE PUERTAS Y VENTANAS | C5: m² | E5: 5770.56 | F5: =D5*E5 -> 0
A6: 1.04 | B6: DEMOLICIÓN DE GUARDA ESCOBA. | C6: m | E6: 3274.08 | F6: =D6*E6 -> 0
A7: 1.05 | B7: ESCARIFICADO DE PINTURA EN PAREDES | C7: m² | D7: 6 | F7: =D7*E7 -> 0
A8: 1.06 | B8: DESMONTE DE CIELO RASO, INCLUYE DESMONTE DE ESTRUCTURA | C8: m² | D8: 16.57 | F8: =D8*E8 -> 0
A9: 1.07 | B9: DESMONTE Y REINSTALACION DE PUERTA METALICA TIPO HANGAR MARCOS, RIELES Y ANGULOS | C9: m² | D9: 11.41 | F9: =D9*E9 -> 0
A10: 1.08 | B10: ESCARIFICADO DE PAÑETE EN PAREDES | C10: m² | F10: =D10*E10 -> 0
A11: 1.09 | B11: DESMONTE DE ESTRUCTURA EN MADERA Y METALICA PARA CUBIERTA | C11: m² | F11: =D11*E11 -> 0
A12: 1.1 | B12: DEMOLICIÓN DE CERRAMIENTO EXISTENTE EN MALLA ESLABONADA CON TUBERÍA DE ACERO GALVANIZADO DE +-2" Y ANTEPECHO DE ALTURA APROXIMADA DE 0.60MTS. INCLUYE EL RETIRO DEL MATERIAL DEMOLIDO. | C12: m² | F12: =D12*E12 -> 0
A13: 1.11 | B13: DEMOLICIÓN MUROS 0.15M | C13: m² | F13: =D13*E13 -> 0
A14: 1.12 | B14: DEMOLICIÓN PLACAS MACIZAS 0.15M | C14: m² | F14: =D14*E14 -> 0
A15: 1.13 | B15: DESMONTE APARATOS SANITARIOS | C15: un | F15: =D15*E15 -> 0
A16: 1.14 | B16: DESMONTE CUBIERTAS ASBESTO CEMENTO | C16: m² | D16: 321.84 | F16: =D16*E16 -> 0 | H16: 8494.86 | I16: =+D16*H16 -> 2733985.7 | J16: =+F16-I16 -> -2733985.7
A17: 1.15 | B17: DESMONTE CANAL AGUAS LLUVIAS | C17: ml | E17: 14991.53 | F17: =D17*E17 -> 0
B18: Total PRELIMINARES | F18: =SUM(F3:F17) -> 0
A19: 2 | B19: MOVIMIENTO DE TIERRAS
A20: 2.01 | B20: RELLENO Y COMPACTACIÓN CON MATERIAL DE EXCAVACIÓN SELECCIONADO | C20: m³ | E20: 18941.08 | F20: =D20*E20 -> 0
A21: 2.02 | B21: TRANSPORTE DE MATERIAL/SOBRANTE U OTRO Y DISPOSICIÓN FINAL DE SOBRANTES A SITIO AUTORIZADO. | C21: m³ | D21: 18 | F21: =D21*E21 -> 0
A22: 2.03 | B22: EXCAVACION MANUAL EN TERRENO CONSISTENTE, NO INCLUYE CARGUE, RETIRO Y DISPOSICION FINAL DE EXCAVACION | C22: m³ | E22: 19478.87 | F22: =D22*E22 -> 0
A23: 2.04 | B23: EXCAVACIÓN MANUAL EN MATERIAL COMÚN. INCLUYE CARGUE, TRANSPORTE Y DISPOSICIÓN FINAL DE SOBRANTES A SITIO AUTORIZADO DE 0 - 2,00 MTS. | C23: m³ | E23: 41556.66 | F23: =D23*E23 -> 0
B24: Total MOVIMIENTO DE TIERRAS | F24: =SUM(F20:F23) -> 0
A25: 3 | B25: CIMENTACIÓN
A26: 3.01 | B26: SOLADO DE LIMPIEZA EN CONCRETO DE 2.000 PSI DE E=0.05 M SEGÚN PLANOS. INCLUYE MATERIALES, MANO DE OBRA, EQUIPOS Y HERRAMIENTAS NECESARIAS | C26: m² | E26: 25198.68 | F26: =D26*E26 -> 0
A27: 3.02 | B27: VIGAS DE CIMENTACION EN CONCRETO DE 3.000 PSI IMPERMEABILIZADO SEGÚN PLANOS. INCLUYE MANO DE OBRA, FORMALETAS, EQUIPOS Y HERRAMIENTAS NECESARIAS, NO INCLUYE ACERO DE REFUERZO. | C27: m³ | E27: 746916.81 | F27: =D27*E27 -> 0
A28: 3.03 | B28: PLACA DE CONTRAPISO EN CONCRETO DE 3.000 PSI IMPERMEABILIZADO, SEGÚN PLANOS. INCLUYE MANO DE OBRA, FORMALETAS, EQUIPOS Y HERRAMIENTAS NECESARIAS, E=0.15 M, NO INCLUYE ACERO DE REFUERZO | C28: m² | E28: 158491.85 | F28: =D28*E28 -> 0
A29: 3.04 | B29: MALLA ELECTROSOLDADA FY 485 MPA -NTC 5806, INCLUYE ALAMBRE NEGRO TRASIEGO, MANEJO | C29: kg | E29: 4821.48 | F29: =D29*E29 -> 0
B30: Total CIMENTACIÓN | F30: =SUM(F26:F29) -> 0
A31: 4 | B31: ESTRUCTURA
A32: 4.01 | B32: VIGAS AEREAS EN CONCRETO DE 3.000 PSI SEGÚN PLANOS. INCLUYE MANO DE OBRA, FORMALETAS, EQUIPOS Y HERRAMIENTAS NECESARIAS, NO INCLUYE ACERO DE REFUERZO | C32: m³ | E32: 741920.57 | F32: =D32*E32 -> 0
A33: 4.02 | B33: COLUMNA EN CONCRETO DE 3.000 PSI SEGÚN PLANOS. INCLUYE MANO DE OBRA, FORMALETAS, EQUIPOS Y HERRAMIENTAS NECESARIAS, NO INCLUYE ACERO DE REFUERZO | C33: m³ | E33: 784064.81 | F33: =D33*E33 -> 0
A34: 4.03 | B34: ACERO DE REFUERZO ESTRUCTURAL FY: 420 MPA GR 60 -NTC 2289 | C34: kg | E34: 6549.36 | F34: =D34*E34 -> 0
A35: 4.04 | B35: RIEL METALICO PARA PUERTA METALICA TIPO HANGAR. INCLUYE CAMBIO DE RODAMIENTOS Y TODOS LOS ELEMENTOS ESTRUCTURALES PARA SU MONTAJE Y CORRECTO FUNCIONAMIENTO COMO TAMBIÉN PINTURA EN ANTICORROSIVO Y ESMALTE. | C35: kg | E35: 25703.33 | F35: =D35*E35 -> 0
A36: 4.05 | B36: PERFILERIA ESTRUCTURAL EN ACERO A500 GR C. INCLUYE TODOS LOS ELEMENTOS ESTRUCTURALES PARA SU MONTAJE Y CORRECTO FUNCIONAMIENTO COMO TAMBIÉN PINTURA EN ANTICORROSIVO, ESMALTE, CONEXIONES, PLATINAS, ANCLAJES Y SOLDADURA. | C36: kg | D36: 700 | F36: =D36*E36 -> 0
A37: 4.06 | B37: ESTRUCTURA METÁLICA EN ACERO ESTRUCTURAL, TALES COMO PERFILES, PLATINAS, CORREAS Y DEMÁS ELEMENTOS. INCLUYE MONTAJE, APLICACION DE SIKAPERMACOR SERIE 82 TIPO SIKA O SIMILAR A UN ESPESOR DE PELÍCULA SECA DE 10.0 A 12.0 MILS, ESMALTE URETANO SERIE 36 TIPO S | C37: kg | E37: 20839.02 | F37: =D37*E37 -> 0
B38: Total ESTRUCTURA | F38: =SUM(F32:F37) -> 0
A39: 5 | B39: INSTALACIONES HIDROSANITARIAS
A40: 5.01 | B40: CIMENTACION Y ATRAQUE DE TUBERIA | C40: m³ | E40: 78626.05 | F40: =D40*E40 -> 0
...

Sheet LAB INSPECC
A1: ITEM | B1: ACTIVIDAD | C1: UN | D1: CANTIDAD | E1: VR. UNITARIO | F1: VR. TOTAL
A2: 1 | B2: PRELIMINARES
A3: 1.01 | B3: DEMOLICION DE ENCHAPE DE PISOS Y PAREDES | C3: m² | D3: 91.2 | F3: =D3*E3 -> 0
A4: 1.02 | B4: DEMOLICIÓN POYOS DUCHAS | C4: ml | F4: =D4*E4 -> 0
A5: 1.03 | B5: DESMONTE PUERTAS Y VENTANAS | C5: m² | F5: =D5*E5 -> 0
A6: 1.04 | B6: DEMOLICIÓN DE GUARDA ESCOBA. | C6: m | D6: 134.91 | F6: =D6*E6 -> 0
A7: 1.05 | B7: ESCARIFICADO DE PINTURA EN PAREDES | C7: m² | F7: =D7*E7 -> 0
A8: 1.06 | B8: DESMONTE DE CIELO RASO, INCLUYE DESMONTE DE ESTRUCTURA | C8: m² | F8: =D8*E8 -> 0
A9: 1.07 | B9: DESMONTE Y REINSTALACION DE PUERTA METALICA TIPO HANGAR MARCOS, RIELES Y ANGULOS | C9: m² | F9: =D9*E9 -> 0
A10: 1.08 | B10: ESCARIFICADO DE PAÑETE EN PAREDES | C10: m² | D10: 5.48 | F10: =D10*E10 -> 0
A11: 1.09 | B11: DESMONTE DE ESTRUCTURA EN MADERA Y METALICA PARA CUBIERTA | C11: m² | E11: 16984.01 | F11: =D11*E11 -> 0
A12: 1.1 | B12: DEMOLICIÓN DE CERRAMIENTO EXISTENTE EN MALLA ESLABONADA CON TUBERÍA DE ACERO GALVANIZADO DE +-2" Y ANTEPECHO DE ALTURA APROXIMADA DE 0.60MTS. INCLUYE EL RETIRO DEL MATERIAL DEMOLIDO. | C12: m² | E12: 30132.38 | F12: =D12*E12 -> 0
A13: 1.11 | B13: DEMOLICIÓN MUROS 0.15M | C13: m² | E13: 7079.05 | F13: =D13*E13 -> 0
A14: 1.12 | B14: DEMOLICIÓN PLACAS MACIZAS 0.15M | C14: m² | E14: 59816.37 | F14: =D14*E14 -> 0
A15: 1.13 | B15: DESMONTE APARATOS SANITARIOS | C15: un | E15: 5663.24 | F15: =D15*E15 -> 0
A16: 1.14 | B16: DESMONTE CUBIERTAS ASBESTO CEMENTO | C16: m² | E16: 9095.52 | F16: =D16*E16 -> 0
A17: 1.15 | B17: DESMONTE CANAL AGUAS LLUVIAS | C17: ml | E17: 14991.53 | F17: =D17*E17 -> 0
B18: Total PRELIMINARES | F18: =SUM(F3:F17) -> 0
A19: 2 | B19: MOVIMIENTO DE TIERRAS
A20: 2.01 | B20: RELLENO Y COMPACTACIÓN CON MATERIAL DE EXCAVACIÓN SELECCIONADO | C20: m³ | E20: 18941.08 | F20: =D20*E20 -> 0
A21: 2.02 | B21: TRANSPORTE DE MATERIAL/SOBRANTE U OTRO Y DISPOSICIÓN FINAL DE SOBRANTES A SITIO AUTORIZADO. | C21: m³ | D21: 6 | F21: =D21*E21 -> 0
A22: 2.03 | B22: EXCAVACION MANUAL EN TERRENO CONSISTENTE, NO INCLUYE CARGUE, RETIRO Y DISPOSICION FINAL DE EXCAVACION | C22: m³ | E22: 19478.87 | F22: =D22*E22 -> 0
A23: 2.04 | B23: EXCAVACIÓN MANUAL EN MATERIAL COMÚN. INCLUYE CARGUE, TRANSPORTE Y DISPOSICIÓN FINAL DE SOBRANTES A SITIO AUTORIZADO DE 0 - 2,00 MTS. | C23: m³ | E23: 41556.66 | F23: =D23*E23 -> 0
B24: Total MOVIMIENTO DE TIERRAS | F24: =SUM(F20:F23) -> 0
A25: 3 | B25: CIMENTACIÓN
A26: 3.01 | B26: SOLADO DE LIMPIEZA EN CONCRETO DE 2.000 PSI DE E=0.05 M SEGÚN PLANOS. INCLUYE MATERIALES, MANO DE OBRA, EQUIPOS Y HERRAMIENTAS NECESARIAS | C26: m² | E26: 25198.68 | F26: =D26*E26 -> 0
A27: 3.02 | B27: VIGAS DE CIMENTACION EN CONCRETO DE 3.000 PSI IMPERMEABILIZADO SEGÚN PLANOS. INCLUYE MANO DE OBRA, FORMALETAS, EQUIPOS Y HERRAMIENTAS NECESARIAS, NO INCLUYE ACERO DE REFUERZO. | C27: m³ | E27: 746916.81 | F27: =D27*E27 -> 0
A28: 3.03 | B28: PLACA DE CONTRAPISO EN CONCRETO DE 3.000 PSI IMPERMEABILIZADO, SEGÚN PLANOS. INCLUYE MANO DE OBRA, FORMALETAS, EQUIPOS Y HERRAMIENTAS NECESARIAS, E=0.15 M, NO INCLUYE ACERO DE REFUERZO | C28: m² | E28: 158491.85 | F28: =D28*E28 -> 0
A29: 3.04 | B29: MALLA ELECTROSOLDADA FY 485 MPA -NTC 5806, INCLUYE ALAMBRE NEGRO TRASIEGO, MANEJO | C29: kg | E29: 4821.48 | F29: =D29*E29 -> 0
B30: Total CIMENTACIÓN | F30: =SUM(F26:F29) -> 0
A31: 4 | B31: ESTRUCTURA
A32: 4.01 | B32: VIGAS AEREAS EN CONCRETO DE 3.000 PSI SEGÚN PLANOS. INCLUYE MANO DE OBRA, FORMALETAS, EQUIPOS Y HERRAMIENTAS NECESARIAS, NO INCLUYE ACERO DE REFUERZO | C32: m³ | E32: 741920.57 | F32: =D32*E32 -> 0
A33: 4.02 | B33: COLUMNA EN CONCRETO DE 3.000 PSI SEGÚN PLANOS. INCLUYE MANO DE OBRA, FORMALETAS, EQUIPOS Y HERRAMIENTAS NECESARIAS, NO INCLUYE ACERO DE REFUERZO | C33: m³ | E33: 784064.81 | F33: =D33*E33 -> 0
A34: 4.03 | B34: ACERO DE REFUERZO ESTRUCTURAL FY: 420 MPA GR 60 -NTC 2289 | C34: kg | E34: 6549.36 | F34: =D34*E34 -> 0
A35: 4.04 | B35: RIEL METALICO PARA PUERTA METALICA TIPO HANGAR. INCLUYE CAMBIO DE RODAMIENTOS Y TODOS LOS ELEMENTOS ESTRUCTURALES PARA SU MONTAJE Y CORRECTO FUNCIONAMIENTO COMO TAMBIÉN PINTURA EN ANTICORROSIVO Y ESMALTE. | C35: kg | E35: 25703.33 | F35: =D35*E35 -> 0
A36: 4.05 | B36: PERFILERIA ESTRUCTURAL EN ACERO A500 GR C. INCLUYE TODOS LOS ELEMENTOS ESTRUCTURALES PARA SU MONTAJE Y CORRECTO FUNCIONAMIENTO COMO TAMBIÉN PINTURA EN ANTICORROSIVO, ESMALTE, CONEXIONES, PLATINAS, ANCLAJES Y SOLDADURA. | C36: kg | E36: 23685.69 | F36: =D36*E36 -> 0
A37: 4.06 | B37: ESTRUCTURA METÁLICA EN ACERO ESTRUCTURAL, TALES COMO PERFILES, PLATINAS, CORREAS Y DEMÁS ELEMENTOS. INCLUYE MONTAJE, APLICACION DE SIKAPERMACOR SERIE 82 TIPO SIKA O SIMILAR A UN ESPESOR DE PELÍCULA SECA DE 10.0 A 12.0 MILS, ESMALTE URETANO SERIE 36 TIPO S | C37: kg | E37: 20839.02 | F37: =D37*E37 -> 0
B38: Total ESTRUCTURA | F38: =SUM(F32:F37) -> 0
A39: 5 | B39: INSTALACIONES HIDROSANITARIAS
A40: 5.01 | B40: CIMENTACION Y ATRAQUE DE TUBERIA | C40: m³ | E40: 78626.05 | F40: =D40*E40 -> 0
...

Sheet DEPOT T 53
A1: ITEM | B1: ACTIVIDAD | C1: UN | D1: CANTIDAD | E1: VR. UNITARIO | F1: VR. TOTAL
A2: 1 | B2: PRELIMINARES
A3: 1.01 | B3: DEMOLICION DE ENCHAPE DE PISOS Y PAREDES | C3: m² | E3: 43704.15 | F3: =D3*E3 -> 0
A4: 1.02 | B4: DEMOLICIÓN POYOS DUCHAS | C4: ml | E4: 12300.17 | F4: =D4*E4 -> 0
A5: 1.03 | B5: DESMONTE PUERTAS Y VENTANAS | C5: m² | D5: 8 | F5: =D5*E5 -> 0
A6: 1.04 | B6: DEMOLICIÓN DE GUARDA ESCOBA. | C6: m | F6: =D6*E6 -> 0
A7: 1.05 | B7: ESCARIFICADO DE PINTURA EN PAREDES | C7: m² | F7: =D7*E7 -> 0
A8: 1.06 | B8: DESMONTE DE CIELO RASO, INCLUYE DESMONTE DE ESTRUCTURA | C8: m² | F8: =D8*E8 -> 0
A9: 1.07 | B9: DESMONTE Y REINSTALACION DE PUERTA METALICA TIPO HANGAR MARCOS, RIELES Y ANGULOS | C9: m² | F9: =D9*E9 -> 0
A10: 1.08 | B10: ESCARIFICADO DE PAÑETE EN PAREDES | C10: m² | F10: =D10*E10 -> 0
A11: 1.09 | B11: DESMONTE DE ESTRUCTURA EN MADERA Y METALICA PARA CUBIERTA | C11: m² | F11: =D11*E11 -> 0
A12: 1.1 | B12: DEMOLICIÓN DE CERRAMIENTO EXISTENTE EN MALLA ESLABONADA CON TUBERÍA DE ACERO GALVANIZADO DE +-2" Y ANTEPECHO DE ALTURA APROXIMADA DE 0.60MTS. INCLUYE EL RETIRO DEL MATERIAL DEMOLIDO. | C12: m² | D12: 8 | F12: =D12*E12 -> 0
A13: 1.11 | B13: DEMOLICIÓN MUROS 0.15M | C13: m² | D13: 3 | F13: =D13*E13 -> 0
A14: 1.12 | B14: DEMOLICIÓN PLACAS MACIZAS 0.15M | C14: m² | F14: =D14*E14 -> 0
A15: 1.13 | B15: DESMONTE APARATOS SANITARIOS | C15: un | F15: =D15*E15 -> 0
A16: 1.14 | B16: DESMONTE CUBIERTAS ASBESTO CEMENTO | C16: m² | D16: 102 | F16: =D16*E16 -> 0
A17: 1.15 | B17: DESMONTE CANAL AGUAS LLUVIAS | C17: ml | D17: 62.5 | F17: =D17*E17 -> 0
B18: Total PRELIMINARES | F18: =SUM(F3:F17) -> 0
A19: 2 | B19: MOVIMIENTO DE TIERRAS
A20: 2.01 | B20: RELLENO Y COMPACTACIÓN CON MATERIAL DE EXCAVACIÓN SELECCIONADO | C20: m³ | E20: 18941.08 | F20: =D20*E20 -> 0
A21: 2.02 | B21: TRANSPORTE DE MATERIAL/SOBRANTE U OTRO Y DISPOSICIÓN FINAL DE SOBRANTES A SITIO AUTORIZADO. | C21: m³ | E21: 50091.05 | F21: =D21*E21 -> 0
A22: 2.03 | B22: EXCAVACION MANUAL EN TERRENO CONSISTENTE, NO INCLUYE CARGUE, RETIRO Y DISPOSICION FINAL DE EXCAVACION | C22: m³ | E22: 19478.87 | F22: =D22*E22 -> 0
A23: 2.04 | B23: EXCAVACIÓN MANUAL EN MATERIAL COMÚN. INCLUYE CARGUE, TRANSPORTE Y DISPOSICIÓN FINAL DE SOBRANTES A SITIO AUTORIZADO DE 0 - 2,00 MTS. | C23: m³ | E23: 41556.66 | F23: =D23*E23 -> 0
B24: Total MOVIMIENTO DE TIERRAS | F24: =SUM(F20:F23) -> 0
A25: 3 | B25: CIMENTACIÓN
A26: 3.01 | B26: SOLADO DE LIMPIEZA EN CONCRETO DE 2.000 PSI DE E=0.05 M SEGÚN PLANOS. INCLUYE MATERIALES, MANO DE OBRA, EQUIPOS Y HERRAMIENTAS NECESARIAS | C26: m² | E26: 25198.68 | F26: =D26*E26 -> 0
A27: 3.02 | B27: VIGAS DE CIMENTACION EN CONCRETO DE 3.000 PSI IMPERMEABILIZADO SEGÚN PLANOS. INCLUYE MANO DE OBRA, FORMALETAS, EQUIPOS Y HERRAMIENTAS NECESARIAS, NO INCLUYE ACERO DE REFUERZO. | C27: m³ | E27: 746916.81 | F27: =D27*E27 -> 0
A28: 3.03 | B28: PLACA DE CONTRAPISO EN CONCRETO DE 3.000 PSI IMPERMEABILIZADO, SEGÚN PLANOS. INCLUYE MANO DE OBRA, FORMALETAS, EQUIPOS Y HERRAMIENTAS NECESARIAS, E=0.15 M, NO INCLUYE ACERO DE REFUERZO | C28: m² | E28: 158491.85 | F28: =D28*E28 -> 0
A29: 3.04 | B29: MALLA ELECTROSOLDADA FY 485 MPA -NTC 5806, INCLUYE ALAMBRE NEGRO TRASIEGO, MANEJO | C29: kg | E29: 4821.48 | F29: =D29*E29 -> 0
B30: Total CIMENTACIÓN | F30: =SUM(F26:F29) -> 0
A31: 4 | B31: ESTRUCTURA
A32: 4.01 | B32: VIGAS AEREAS EN CONCRETO DE 3.000 PSI SEGÚN PLANOS. INCLUYE MANO DE OBRA, FORMALETAS, EQUIPOS Y HERRAMIENTAS NECESARIAS, NO INCLUYE ACERO DE REFUERZO | C32: m³ | E32: 741920.57 | F32: =D32*E32 -> 0
A33: 4.02 | B33: COLUMNA EN CONCRETO DE 3.000 PSI SEGÚN PLANOS. INCLUYE MANO DE OBRA, FORMALETAS, EQUIPOS Y HERRAMIENTAS NECESARIAS, NO INCLUYE ACERO DE REFUERZO | C33: m³ | E33: 784064.81 | F33: =D33*E33 -> 0
A34: 4.03 | B34: ACERO DE REFUERZO ESTRUCTURAL FY: 420 MPA GR 60 -NTC 2289 | C34: kg | E34: 6549.36 | F34: =D34*E34 -> 0
A35: 4.04 | B35: RIEL METALICO PARA PUERTA METALICA TIPO HANGAR. INCLUYE CAMBIO DE RODAMIENTOS Y TODOS LOS ELEMENTOS ESTRUCTURALES PARA SU MONTAJE Y CORRECTO FUNCIONAMIENTO COMO TAMBIÉN PINTURA EN ANTICORROSIVO Y ESMALTE. | C35: kg | E35: 25703.33 | F35: =D35*E35 -> 0
A36: 4.05 | B36: PERFILERIA ESTRUCTURAL EN ACERO A500 GR C. INCLUYE TODOS LOS ELEMENTOS ESTRUCTURALES PARA SU MONTAJE Y CORRECTO FUNCIONAMIENTO COMO TAMBIÉN PINTURA EN ANTICORROSIVO, ESMALTE, CONEXIONES, PLATINAS, ANCLAJES Y SOLDADURA. | C36: kg | D36: 150 | F36: =D36*E36 -> 0
A37: 4.06 | B37: ESTRUCTURA METÁLICA EN ACERO ESTRUCTURAL, TALES COMO PERFILES, PLATINAS, CORREAS Y DEMÁS ELEMENTOS. INCLUYE MONTAJE, APLICACION DE SIKAPERMACOR SERIE 82 TIPO SIKA O SIMILAR A UN ESPESOR DE PELÍCULA SECA DE 10.0 A 12.0 MILS, ESMALTE URETANO SERIE 36 TIPO S | C37: kg | D37: 600 | F37: =D37*E37 -> 0
B38: Total ESTRUCTURA | F38: =SUM(F32:F37) -> 0
A39: 5 | B39: INSTALACIONES HIDROSANITARIAS
A40: 5.01 | B40: CIMENTACION Y ATRAQUE DE TUBERIA | C40: m³ | E40: 78626.05 | F40: =D40*E40 -> 0
...

Sheet MISCELANEOS
A1: ITEM | B1: ACTIVIDAD | C1: UN | D1: CANTIDAD | E1: VR. UNITARIO | F1: VR. TOTAL
A2: 1 | B2: PRELIMINARES
A3: 1.01 | B3: DEMOLICION DE ENCHAPE DE PISOS Y PAREDES | C3: m² | D3: 59.5 | F3: =D3*E3 -> 0
A4: 1.02 | B4: DEMOLICIÓN POYOS DUCHAS | C4: ml | F4: =D4*E4 -> 0
A5: 1.03 | B5: DESMONTE PUERTAS Y VENTANAS | C5: m² | F5: =D5*E5 -> 0
A6: 1.04 | B6: DEMOLICIÓN DE GUARDA ESCOBA. | C6: m | F6: =D6*E6 -> 0
A7: 1.05 | B7: ESCARIFICADO DE PINTURA EN PAREDES | C7: m² | F7: =D7*E7 -> 0
A8: 1.06 | B8: DESMONTE DE CIELO RASO, INCLUYE DESMONTE DE ESTRUCTURA | C8: m² | D8: 147.7 | F8: =D8*E8 -> 0
A9: 1.07 | B9: DESMONTE Y REINSTALACION DE PUERTA METALICA TIPO HANGAR MARCOS, RIELES Y ANGULOS | C9: m² | F9: =D9*E9 -> 0
A10: 1.08 | B10: ESCARIFICADO DE PAÑETE EN PAREDES | C10: m² | F10: =D10*E10 -> 0
A11: 1.09 | B11: DESMONTE DE ESTRUCTURA EN MADERA Y METALICA PARA CUBIERTA | C11: m² | D11: 498.2 | F11: =D11*E11 -> 0
A12: 1.1 | B12: DEMOLICIÓN DE CERRAMIENTO EXISTENTE EN MALLA ESLABONADA CON TUBERÍA DE ACERO GALVANIZADO DE +-2" Y ANTEPECHO DE ALTURA APROXIMADA DE 0.60MTS. INCLUYE EL RETIRO DEL MATERIAL DEMOLIDO. | C12: m² | F12: =D12*E12 -> 0
A13: 1.11 | B13: DEMOLICIÓN MUROS 0.15M | C13: m² | F13: =D13*E13 -> 0
A14: 1.12 | B14: DEMOLICIÓN PLACAS MACIZAS 0.15M | C14: m² | F14: =D14*E14 -> 0
A15: 1.13 | B15: DESMONTE APARATOS SANITARIOS | C15: un | F15: =D15*E15 -> 0
A16: 1.14 | B16: DESMONTE CUBIERTAS ASBESTO CEMENTO | C16: m² | D16: 498.2 | F16: =D16*E16 -> 0
A17: 1.15 | B17: DESMONTE CANAL AGUAS LLUVIAS | C17: ml | E17: 14991.53 | F17: =D17*E17 -> 0
B18: Total PRELIMINARES | F18: =SUM(F3:F17) -> 0
A19: 2 | B19: MOVIMIENTO DE TIERRAS
A20: 2.01 | B20: RELLENO Y COMPACTACIÓN CON MATERIAL DE EXCAVACIÓN SELECCIONADO | C20: m³ | E20: 18941.08 | F20: =D20*E20 -> 0
A21: 2.02 | B21: TRANSPORTE DE MATERIAL/SOBRANTE U OTRO Y DISPOSICIÓN FINAL DE SOBRANTES A SITIO AUTORIZADO. | C21: m³ | D21: 42 | F21: =D21*E21 -> 0
A22: 2.03 | B22: EXCAVACION MANUAL EN TERRENO CONSISTENTE, NO INCLUYE CARGUE, RETIRO Y DISPOSICION FINAL DE EXCAVACION | C22: m³ | E22: 19478.87 | F22: =D22*E22 -> 0
A23: 2.04 | B23: EXCAVACIÓN MANUAL EN MATERIAL COMÚN. INCLUYE CARGUE, TRANSPORTE Y DISPOSICIÓN FINAL DE SOBRANTES A SITIO AUTORIZADO DE 0 - 2,00 MTS. | C23: m³ | E23: 41556.66 | F23: =D23*E23 -> 0
B24: Total MOVIMIENTO DE TIERRAS | F24: =SUM(F20:F23) -> 0
A25: 3 | B25: CIMENTACIÓN
A26: 3.01 | B26: SOLADO DE LIMPIEZA EN CONCRETO DE 2.000 PSI DE E=0.05 M SEGÚN PLANOS. INCLUYE MATERIALES, MANO DE OBRA, EQUIPOS Y HERRAMIENTAS NECESARIAS | C26: m² | E26: 25198.68 | F26: =D26*E26 -> 0
A27: 3.02 | B27: VIGAS DE CIMENTACION EN CONCRETO DE 3.000 PSI IMPERMEABILIZADO SEGÚN PLANOS. INCLUYE MANO DE OBRA, FORMALETAS, EQUIPOS Y HERRAMIENTAS NECESARIAS, NO INCLUYE ACERO DE REFUERZO. | C27: m³ | E27: 746916.81 | F27: =D27*E27 -> 0
A28: 3.03 | B28: PLACA DE CONTRAPISO EN CONCRETO DE 3.000 PSI IMPERMEABILIZADO, SEGÚN PLANOS. INCLUYE MANO DE OBRA, FORMALETAS, EQUIPOS Y HERRAMIENTAS NECESARIAS, E=0.15 M, NO INCLUYE ACERO DE REFUERZO | C28: m² | E28: 158491.85 | F28: =D28*E28 -> 0
A29: 3.04 | B29: MALLA ELECTROSOLDADA FY 485 MPA -NTC 5806, INCLUYE ALAMBRE NEGRO TRASIEGO, MANEJO | C29: kg | E29: 4821.48 | F29: =D29*E29 -> 0
B30: Total CIMENTACIÓN | F30: =SUM(F26:F29) -> 0
A31: 4 | B31: ESTRUCTURA
A32: 4.01 | B32: VIGAS AEREAS EN CONCRETO DE 3.000 PSI SEGÚN PLANOS. INCLUYE MANO DE OBRA, FORMALETAS, EQUIPOS Y HERRAMIENTAS NECESARIAS, NO INCLUYE ACERO DE REFUERZO | C32: m³ | E32: 741920.57 | F32: =D32*E32 -> 0
A33: 4.02 | B33: COLUMNA EN CONCRETO DE 3.000 PSI SEGÚN PLANOS. INCLUYE MANO DE OBRA, FORMALETAS, EQUIPOS Y HERRAMIENTAS NECESARIAS, NO INCLUYE ACERO DE REFUERZO | C33: m³ | E33: 784064.81 | F33: =D33*E33 -> 0
A34: 4.03 | B34: ACERO DE REFUERZO ESTRUCTURAL FY: 420 MPA GR 60 -NTC 2289 | C34: kg | E34: 6549.36 | F34: =D34*E34 -> 0
A35: 4.04 | B35: RIEL METALICO PARA PUERTA METALICA TIPO HANGAR. INCLUYE CAMBIO DE RODAMIENTOS Y TODOS LOS ELEMENTOS ESTRUCTURALES PARA SU MONTAJE Y CORRECTO FUNCIONAMIENTO COMO TAMBIÉN PINTURA EN ANTICORROSIVO Y ESMALTE. | C35: kg | E35: 25703.33 | F35: =D35*E35 -> 0
A36: 4.05 | B36: PERFILERIA ESTRUCTURAL EN ACERO A500 GR C. INCLUYE TODOS LOS ELEMENTOS ESTRUCTURALES PARA SU MONTAJE Y CORRECTO FUNCIONAMIENTO COMO TAMBIÉN PINTURA EN ANTICORROSIVO, ESMALTE, CONEXIONES, PLATINAS, ANCLAJES Y SOLDADURA. | C36: kg | D36: 3341 | F36: =D36*E36 -> 0
A37: 4.06 | B37: ESTRUCTURA METÁLICA EN ACERO ESTRUCTURAL, TALES COMO PERFILES, PLATINAS, CORREAS Y DEMÁS ELEMENTOS. INCLUYE MONTAJE, APLICACION DE SIKAPERMACOR SERIE 82 TIPO SIKA O SIMILAR A UN ESPESOR DE PELÍCULA SECA DE 10.0 A 12.0 MILS, ESMALTE URETANO SERIE 36 TIPO S | C37: kg | E37: 20839.02 | F37: =D37*E37 -> 0
B38: Total ESTRUCTURA | F38: =SUM(F32:F37) -> 0
A39: 5 | B39: INSTALACIONES HIDROSANITARIAS
A40: 5.01 | B40: CIMENTACION Y ATRAQUE DE TUBERIA | C40: m³ | E40: 78626.05 | F40: =D40*E40 -> 0
...

Sheet ECONOMATO 
A1: ITEM | B1: ACTIVIDAD | C1: UN | D1: CANTIDAD | E1: VR. UNITARIO | F1: VR. TOTAL
A2: 1 | B2: PRELIMINARES
A3: 1.01 | B3: DEMOLICION DE ENCHAPE DE PISOS Y PAREDES | C3: m² | D3: 89.71 | F3: =D3*E3 -> 0
A4: 1.02 | B4: DEMOLICIÓN POYOS DUCHAS | C4: ml | F4: =D4*E4 -> 0
A5: 1.03 | B5: DESMONTE PUERTAS Y VENTANAS | C5: m² | F5: =D5*E5 -> 0
A6: 1.04 | B6: DEMOLICIÓN DE GUARDA ESCOBA. | C6: m | D6: 52.9 | F6: =D6*E6 -> 0
A7: 1.05 | B7: ESCARIFICADO DE PINTURA EN PAREDES | C7: m² | D7: 46 | F7: =D7*E7 -> 0
A8: 1.06 | B8: DESMONTE DE CIELO RASO, INCLUYE DESMONTE DE ESTRUCTURA | C8: m² | F8: =D8*E8 -> 0
A9: 1.07 | B9: DESMONTE Y REINSTALACION DE PUERTA METALICA TIPO HANGAR MARCOS, RIELES Y ANGULOS | C9: m² | F9: =D9*E9 -> 0
A10: 1.08 | B10: ESCARIFICADO DE PAÑETE EN PAREDES | C10: m² | F10: =D10*E10 -> 0
A11: 1.09 | B11: DESMONTE DE ESTRUCTURA EN MADERA Y METALICA PARA CUBIERTA | C11: m² | D11: 2.02 | F11: =D11*E11 -> 0
A12: 1.1 | B12: DEMOLICIÓN DE CERRAMIENTO EXISTENTE EN MALLA ESLABONADA CON TUBERÍA DE ACERO GALVANIZADO DE +-2" Y ANTEPECHO DE ALTURA APROXIMADA DE 0.60MTS. INCLUYE EL RETIRO DEL MATERIAL DEMOLIDO. | C12: m² | F12: =D12*E12 -> 0
A13: 1.11 | B13: DEMOLICIÓN MUROS 0.15M | C13: m² | F13: =D13*E13 -> 0
A14: 1.12 | B14: DEMOLICIÓN PLACAS MACIZAS 0.15M | C14: m² | F14: =D14*E14 -> 0
A15: 1.13 | B15: DESMONTE APARATOS SANITARIOS | C15: un | F15: =D15*E15 -> 0
A16: 1.14 | B16: DESMONTE CUBIERTAS ASBESTO CEMENTO | C16: m² | D16: 207.25 | F16: =D16*E16 -> 0
A17: 1.15 | B17: DESMONTE CANAL AGUAS LLUVIAS | C17: ml | E17: 14991.53 | F17: =D17*E17 -> 0
B18: Total PRELIMINARES | F18: =SUM(F3:F17) -> 0
A19: 2 | B19: MOVIMIENTO DE TIERRAS
A20: 2.01 | B20: RELLENO Y COMPACTACIÓN CON MATERIAL DE EXCAVACIÓN SELECCIONADO | C20: m³ | E20: 18941.08 | F20: =D20*E20 -> 0
A21: 2.02 | B21: TRANSPORTE DE MATERIAL/SOBRANTE U OTRO Y DISPOSICIÓN FINAL DE SOBRANTES A SITIO AUTORIZADO. | C21: m³ | D21: 42 | F21: =D21*E21 -> 0
A22: 2.03 | B22: EXCAVACION MANUAL EN TERRENO CONSISTENTE, NO INCLUYE CARGUE, RETIRO Y DISPOSICION FINAL DE EXCAVACION | C22: m³ | E22: 19478.87 | F22: =D22*E22 -> 0
A23: 2.04 | B23: EXCAVACIÓN MANUAL EN MATERIAL COMÚN. INCLUYE CARGUE, TRANSPORTE Y DISPOSICIÓN FINAL DE SOBRANTES A SITIO AUTORIZADO DE 0 - 2,00 MTS. | C23: m³ | E23: 41556.66 | F23: =D23*E23 -> 0
B24: Total MOVIMIENTO DE TIERRAS | F24: =SUM(F20:F23) -> 0
A25: 3 | B25: CIMENTACIÓN
A26: 3.01 | B26: SOLADO DE LIMPIEZA EN CONCRETO DE 2.000 PSI DE E=0.05 M SEGÚN PLANOS. INCLUYE MATERIALES, MANO DE OBRA, EQUIPOS Y HERRAMIENTAS NECESARIAS | C26: m² | E26: 25198.68 | F26: =D26*E26 -> 0
A27: 3.02 | B27: VIGAS DE CIMENTACION EN CONCRETO DE 3.000 PSI IMPERMEABILIZADO SEGÚN PLANOS. INCLUYE MANO DE OBRA, FORMALETAS, EQUIPOS Y HERRAMIENTAS NECESARIAS, NO INCLUYE ACERO DE REFUERZO. | C27: m³ | E27: 746916.81 | F27: =D27*E27 -> 0
A28: 3.03 | B28: PLACA DE CONTRAPISO EN CONCRETO DE 3.000 PSI IMPERMEABILIZADO, SEGÚN PLANOS. INCLUYE MANO DE OBRA, FORMALETAS, EQUIPOS Y HERRAMIENTAS NECESARIAS, E=0.15 M, NO INCLUYE ACERO DE REFUERZO | C28: m² | E28: 158491.85 | F28: =D28*E28 -> 0
A29: 3.04 | B29: MALLA ELECTROSOLDADA FY 485 MPA -NTC 5806, INCLUYE ALAMBRE NEGRO TRASIEGO, MANEJO | C29: kg | E29: 4821.48 | F29: =D29*E29 -> 0
B30: Total CIMENTACIÓN | F30: =SUM(F26:F29) -> 0
A31: 4 | B31: ESTRUCTURA
A32: 4.01 | B32: VIGAS AEREAS EN CONCRETO DE 3.000 PSI SEGÚN PLANOS. INCLUYE MANO DE OBRA, FORMALETAS, EQUIPOS Y HERRAMIENTAS NECESARIAS, NO INCLUYE ACERO DE REFUERZO | C32: m³ | E32: 741920.57 | F32: =D32*E32 -> 0
A33: 4.02 | B33: COLUMNA EN CONCRETO DE 3.000 PSI SEGÚN PLANOS. INCLUYE MANO DE OBRA, FORMALETAS, EQUIPOS Y HERRAMIENTAS NECESARIAS, NO INCLUYE ACERO DE REFUERZO | C33: m³ | E33: 784064.81 | F33: =D33*E33 -> 0
A34: 4.03 | B34: ACERO DE REFUERZO ESTRUCTURAL FY: 420 MPA GR 60 -NTC 2289 | C34: kg | E34: 6549.36 | F34: =D34*E34 -> 0
A35: 4.04 | B35: RIEL METALICO PARA PUERTA METALICA TIPO HANGAR. INCLUYE CAMBIO DE RODAMIENTOS Y TODOS LOS ELEMENTOS ESTRUCTURALES PARA SU MONTAJE Y CORRECTO FUNCIONAMIENTO COMO TAMBIÉN PINTURA EN ANTICORROSIVO Y ESMALTE. | C35: kg | E35: 25703.33 | F35: =D35*E35 -> 0
A36: 4.05 | B36: PERFILERIA ESTRUCTURAL EN ACERO A500 GR C. INCLUYE TODOS LOS ELEMENTOS ESTRUCTURALES PARA SU MONTAJE Y CORRECTO FUNCIONAMIENTO COMO TAMBIÉN PINTURA EN ANTICORROSIVO, ESMALTE, CONEXIONES, PLATINAS, ANCLAJES Y SOLDADURA. | C36: kg | D36: 200 | F36: =D36*E36 -> 0
A37: 4.06 | B37: ESTRUCTURA METÁLICA EN ACERO ESTRUCTURAL, TALES COMO PERFILES, PLATINAS, CORREAS Y DEMÁS ELEMENTOS. INCLUYE MONTAJE, APLICACION DE SIKAPERMACOR SERIE 82 TIPO SIKA O SIMILAR A UN ESPESOR DE PELÍCULA SECA DE 10.0 A 12.0 MILS, ESMALTE URETANO SERIE 36 TIPO S | C37: kg | E37: 20839.02 | F37: =D37*E37 -> 0
B38: Total ESTRUCTURA | F38: =SUM(F32:F37) -> 0
A39: 5 | B39: INSTALACIONES HIDROSANITARIAS
A40: 5.01 | B40: CIMENTACION Y ATRAQUE DE TUBERIA | C40: m³ | E40: 78626.05 | F40: =D40*E40 -> 0
...

Sheet MALLA PERIMETRAL 
A1: ITEM | B1: ACTIVIDAD | C1: UN | D1: CANTIDAD | E1: VR. UNITARIO | F1: VR. TOTAL
A2: 1 | B2: PRELIMINARES
A3: 1.01 | B3: DEMOLICION DE ENCHAPE DE PISOS Y PAREDES | C3: m² | E3: 43704.15 | F3: =D3*E3 -> 0
A4: 1.02 | B4: DEMOLICIÓN POYOS DUCHAS | C4: ml | E4: 12300.17 | F4: =D4*E4 -> 0
A5: 1.03 | B5: DESMONTE PUERTAS Y VENTANAS | C5: m² | E5: 5770.56 | F5: =D5*E5 -> 0
A6: 1.04 | B6: DEMOLICIÓN DE GUARDA ESCOBA. | C6: m | E6: 3274.08 | F6: =D6*E6 -> 0
A7: 1.05 | B7: ESCARIFICADO DE PINTURA EN PAREDES | C7: m² | E7: 3577.1 | F7: =D7*E7 -> 0
A8: 1.06 | B8: DESMONTE DE CIELO RASO, INCLUYE DESMONTE DE ESTRUCTURA | C8: m² | E8: 11910.09 | F8: =D8*E8 -> 0
A9: 1.07 | B9: DESMONTE Y REINSTALACION DE PUERTA METALICA TIPO HANGAR MARCOS, RIELES Y ANGULOS | C9: m² | E9: 57761.86 | F9: =D9*E9 -> 0
A10: 1.08 | B10: ESCARIFICADO DE PAÑETE EN PAREDES | C10: m² | E10: 5561.38 | F10: =D10*E10 -> 0
A11: 1.09 | B11: DESMONTE DE ESTRUCTURA EN MADERA Y METALICA PARA CUBIERTA | C11: m² | E11: 16984.01 | F11: =D11*E11 -> 0
A12: 1.1 | B12: DEMOLICIÓN DE CERRAMIENTO EXISTENTE EN MALLA ESLABONADA CON TUBERÍA DE ACERO GALVANIZADO DE +-2" Y ANTEPECHO DE ALTURA APROXIMADA DE 0.60MTS. INCLUYE EL RETIRO DEL MATERIAL DEMOLIDO. | C12: m² | D12: 120 | F12: =D12*E12 -> 0
A13: 1.11 | B13: DEMOLICIÓN MUROS 0.15M | C13: m² | E13: 7079.05 | F13: =D13*E13 -> 0
A14: 1.12 | B14: DEMOLICIÓN PLACAS MACIZAS 0.15M | C14: m² | E14: 59816.37 | F14: =D14*E14 -> 0
A15: 1.13 | B15: DESMONTE APARATOS SANITARIOS | C15: un | E15: 5663.24 | F15: =D15*E15 -> 0
A16: 1.14 | B16: DESMONTE CUBIERTAS ASBESTO CEMENTO | C16: m² | E16: 9095.52 | F16: =D16*E16 -> 0
A17: 1.15 | B17: DESMONTE CANAL AGUAS LLUVIAS | C17: ml | E17: 14991.53 | F17: =D17*E17 -> 0
B18: Total PRELIMINARES | F18: =SUM(F3:F17) -> 0
A19: 2 | B19: MOVIMIENTO DE TIERRAS
A20: 2.01 | B20: RELLENO Y COMPACTACIÓN CON MATERIAL DE EXCAVACIÓN SELECCIONADO | C20: m³ | E20: 18941.08 | F20: =D20*E20 -> 0
A21: 2.02 | B21: TRANSPORTE DE MATERIAL/SOBRANTE U OTRO Y DISPOSICIÓN FINAL DE SOBRANTES A SITIO AUTORIZADO. | C21: m³ | E21: 50091.05 | F21: =D21*E21 -> 0
A22: 2.03 | B22: EXCAVACION MANUAL EN TERRENO CONSISTENTE, NO INCLUYE CARGUE, RETIRO Y DISPOSICION FINAL DE EXCAVACION | C22: m³ | E22: 19478.87 | F22: =D22*E22 -> 0
A23: 2.04 | B23: EXCAVACIÓN MANUAL EN MATERIAL COMÚN. INCLUYE CARGUE, TRANSPORTE Y DISPOSICIÓN FINAL DE SOBRANTES A SITIO AUTORIZADO DE 0 - 2,00 MTS. | C23: m³ | E23: 41556.66 | F23: =D23*E23 -> 0
B24: Total MOVIMIENTO DE TIERRAS | F24: =SUM(F20:F23) -> 0
A25: 3 | B25: CIMENTACIÓN
A26: 3.01 | B26: SOLADO DE LIMPIEZA EN CONCRETO DE 2.000 PSI DE E=0.05 M SEGÚN PLANOS. INCLUYE MATERIALES, MANO DE OBRA, EQUIPOS Y HERRAMIENTAS NECESARIAS | C26: m² | E26: 25198.68 | F26: =D26*E26 -> 0
A27: 3.02 | B27: VIGAS DE CIMENTACION EN CONCRETO DE 3.000 PSI IMPERMEABILIZADO SEGÚN PLANOS. INCLUYE MANO DE OBRA, FORMALETAS, EQUIPOS Y HERRAMIENTAS NECESARIAS, NO INCLUYE ACERO DE REFUERZO. | C27: m³ | E27: 746916.81 | F27: =D27*E27 -> 0
A28: 3.03 | B28: PLACA DE CONTRAPISO EN CONCRETO DE 3.000 PSI IMPERMEABILIZADO, SEGÚN PLANOS. INCLUYE MANO DE OBRA, FORMALETAS, EQUIPOS Y HERRAMIENTAS NECESARIAS, E=0.15 M, NO INCLUYE ACERO DE REFUERZO | C28: m² | E28: 158491.85 | F28: =D28*E28 -> 0
A29: 3.04 | B29: MALLA ELECTROSOLDADA FY 485 MPA -NTC 5806, INCLUYE ALAMBRE NEGRO TRASIEGO, MANEJO | C29: kg | E29: 4821.48 | F29: =D29*E29 -> 0
B30: Total CIMENTACIÓN | F30: =SUM(F26:F29) -> 0
A31: 4 | B31: ESTRUCTURA
A32: 4.01 | B32: VIGAS AEREAS EN CONCRETO DE 3.000 PSI SEGÚN PLANOS. INCLUYE MANO DE OBRA, FORMALETAS, EQUIPOS Y HERRAMIENTAS NECESARIAS, NO INCLUYE ACERO DE REFUERZO | C32: m³ | E32: 741920.57 | F32: =D32*E32 -> 0
A33: 4.02 | B33: COLUMNA EN CONCRETO DE 3.000 PSI SEGÚN PLANOS. INCLUYE MANO DE OBRA, FORMALETAS, EQUIPOS Y HERRAMIENTAS NECESARIAS, NO INCLUYE ACERO DE REFUERZO | C33: m³ | E33: 784064.81 | F33: =D33*E33 -> 0
A34: 4.03 | B34: ACERO DE REFUERZO ESTRUCTURAL FY: 420 MPA GR 60 -NTC 2289 | C34: kg | E34: 6549.36 | F34: =D34*E34 -> 0
A35: 4.04 | B35: RIEL METALICO PARA PUERTA METALICA TIPO HANGAR. INCLUYE CAMBIO DE RODAMIENTOS Y TODOS LOS ELEMENTOS ESTRUCTURALES PARA SU MONTAJE Y CORRECTO FUNCIONAMIENTO COMO TAMBIÉN PINTURA EN ANTICORROSIVO Y ESMALTE. | C35: kg | E35: 25703.33 | F35: =D35*E35 -> 0
A36: 4.05 | B36: PERFILERIA ESTRUCTURAL EN ACERO A500 GR C. INCLUYE TODOS LOS ELEMENTOS ESTRUCTURALES PARA SU MONTAJE Y CORRECTO FUNCIONAMIENTO COMO TAMBIÉN PINTURA EN ANTICORROSIVO, ESMALTE, CONEXIONES, PLATINAS, ANCLAJES Y SOLDADURA. | C36: kg | E36: 23685.69 | F36: =D36*E36 -> 0
A37: 4.06 | B37: ESTRUCTURA METÁLICA EN ACERO ESTRUCTURAL, TALES COMO PERFILES, PLATINAS, CORREAS Y DEMÁS ELEMENTOS. INCLUYE MONTAJE, APLICACION DE SIKAPERMACOR SERIE 82 TIPO SIKA O SIMILAR A UN ESPESOR DE PELÍCULA SECA DE 10.0 A 12.0 MILS, ESMALTE URETANO SERIE 36 TIPO S | C37: kg | E37: 20839.02 | F37: =D37*E37 -> 0
B38: Total ESTRUCTURA | F38: =SUM(F32:F37) -> 0
A39: 5 | B39: INSTALACIONES HIDROSANITARIAS
A40: 5.01 | B40: CIMENTACION Y ATRAQUE DE TUBERIA | C40: m³ | E40: 78626.05 | F40: =D40*E40 -> 0
...

Sheet BOG MPT6 
A1: ITEM | B1: ACTIVIDAD | C1: UN | D1: CANTIDAD | E1: VR. UNITARIO | F1: VR. TOTAL
A2: 1 | B2: PRELIMINARES
A3: 1.01 | B3: DEMOLICION DE ENCHAPE DE PISOS Y PAREDES | C3: m² | D3: 296.5 | F3: =D3*E3 -> 0
A4: 1.02 | B4: DEMOLICIÓN POYOS DUCHAS | C4: ml | F4: =D4*E4 -> 0
A5: 1.03 | B5: DESMONTE PUERTAS Y VENTANAS | C5: m² | F5: =D5*E5 -> 0
A6: 1.04 | B6: DEMOLICIÓN DE GUARDA ESCOBA. | C6: m | F6: =D6*E6 -> 0
A7: 1.05 | B7: ESCARIFICADO DE PINTURA EN PAREDES | C7: m² | F7: =D7*E7 -> 0
A8: 1.06 | B8: DESMONTE DE CIELO RASO, INCLUYE DESMONTE DE ESTRUCTURA | C8: m² | D8: 33.79 | F8: =D8*E8 -> 0
A9: 1.07 | B9: DESMONTE Y REINSTALACION DE PUERTA METALICA TIPO HANGAR MARCOS, RIELES Y ANGULOS | C9: m² | F9: =D9*E9 -> 0
A10: 1.08 | B10: ESCARIFICADO DE PAÑETE EN PAREDES | C10: m² | D10: 2.5 | F10: =D10*E10 -> 0
A11: 1.09 | B11: DESMONTE DE ESTRUCTURA EN MADERA Y METALICA PARA CUBIERTA | C11: m² | F11: =D11*E11 -> 0
A12: 1.1 | B12: DEMOLICIÓN DE CERRAMIENTO EXISTENTE EN MALLA ESLABONADA CON TUBERÍA DE ACERO GALVANIZADO DE +-2" Y ANTEPECHO DE ALTURA APROXIMADA DE 0.60MTS. INCLUYE EL RETIRO DEL MATERIAL DEMOLIDO. | C12: m² | F12: =D12*E12 -> 0
A13: 1.11 | B13: DEMOLICIÓN MUROS 0.15M | C13: m² | F13: =D13*E13 -> 0
A14: 1.12 | B14: DEMOLICIÓN PLACAS MACIZAS 0.15M | C14: m² | F14: =D14*E14 -> 0
A15: 1.13 | B15: DESMONTE APARATOS SANITARIOS | C15: un | D15: 6 | F15: =D15*E15 -> 0
A16: 1.14 | B16: DESMONTE CUBIERTAS ASBESTO CEMENTO | C16: m² | E16: 9095.52 | F16: =D16*E16 -> 0
A17: 1.15 | B17: DESMONTE CANAL AGUAS LLUVIAS | C17: ml | E17: 14991.53 | F17: =D17*E17 -> 0
B18: Total PRELIMINARES | F18: =SUM(F3:F17) -> 0
A19: 2 | B19: MOVIMIENTO DE TIERRAS
A20: 2.01 | B20: RELLENO Y COMPACTACIÓN CON MATERIAL DE EXCAVACIÓN SELECCIONADO | C20: m³ | E20: 18941.08 | F20: =D20*E20 -> 0
A21: 2.02 | B21: TRANSPORTE DE MATERIAL/SOBRANTE U OTRO Y DISPOSICIÓN FINAL DE SOBRANTES A SITIO AUTORIZADO. | C21: m³ | E21: 50091.05 | F21: =D21*E21 -> 0
A22: 2.03 | B22: EXCAVACION MANUAL EN TERRENO CONSISTENTE, NO INCLUYE CARGUE, RETIRO Y DISPOSICION FINAL DE EXCAVACION | C22: m³ | E22: 19478.87 | F22: =D22*E22 -> 0
A23: 2.04 | B23: EXCAVACIÓN MANUAL EN MATERIAL COMÚN. INCLUYE CARGUE, TRANSPORTE Y DISPOSICIÓN FINAL DE SOBRANTES A SITIO AUTORIZADO DE 0 - 2,00 MTS. | C23: m³ | E23: 41556.66 | F23: =D23*E23 -> 0
B24: Total MOVIMIENTO DE TIERRAS | F24: =SUM(F20:F23) -> 0
A25: 3 | B25: CIMENTACIÓN
A26: 3.01 | B26: SOLADO DE LIMPIEZA EN CONCRETO DE 2.000 PSI DE E=0.05 M SEGÚN PLANOS. INCLUYE MATERIALES, MANO DE OBRA, EQUIPOS Y HERRAMIENTAS NECESARIAS | C26: m² | E26: 25198.68 | F26: =D26*E26 -> 0
A27: 3.02 | B27: VIGAS DE CIMENTACION EN CONCRETO DE 3.000 PSI IMPERMEABILIZADO SEGÚN PLANOS. INCLUYE MANO DE OBRA, FORMALETAS, EQUIPOS Y HERRAMIENTAS NECESARIAS, NO INCLUYE ACERO DE REFUERZO. | C27: m³ | E27: 746916.81 | F27: =D27*E27 -> 0
A28: 3.03 | B28: PLACA DE CONTRAPISO EN CONCRETO DE 3.000 PSI IMPERMEABILIZADO, SEGÚN PLANOS. INCLUYE MANO DE OBRA, FORMALETAS, EQUIPOS Y HERRAMIENTAS NECESARIAS, E=0.15 M, NO INCLUYE ACERO DE REFUERZO | C28: m² | E28: 158491.85 | F28: =D28*E28 -> 0
A29: 3.04 | B29: MALLA ELECTROSOLDADA FY 485 MPA -NTC 5806, INCLUYE ALAMBRE NEGRO TRASIEGO, MANEJO | C29: kg | D29: 229.58 | F29: =D29*E29 -> 0
B30: Total CIMENTACIÓN | F30: =SUM(F26:F29) -> 0
A31: 4 | B31: ESTRUCTURA
A32: 4.01 | B32: VIGAS AEREAS EN CONCRETO DE 3.000 PSI SEGÚN PLANOS. INCLUYE MANO DE OBRA, FORMALETAS, EQUIPOS Y HERRAMIENTAS NECESARIAS, NO INCLUYE ACERO DE REFUERZO | C32: m³ | E32: 741920.57 | F32: =D32*E32 -> 0
A33: 4.02 | B33: COLUMNA EN CONCRETO DE 3.000 PSI SEGÚN PLANOS. INCLUYE MANO DE OBRA, FORMALETAS, EQUIPOS Y HERRAMIENTAS NECESARIAS, NO INCLUYE ACERO DE REFUERZO | C33: m³ | E33: 784064.81 | F33: =D33*E33 -> 0
A34: 4.03 | B34: ACERO DE REFUERZO ESTRUCTURAL FY: 420 MPA GR 60 -NTC 2289 | C34: kg | E34: 6549.36 | F34: =D34*E34 -> 0
A35: 4.04 | B35: RIEL METALICO PARA PUERTA METALICA TIPO HANGAR. INCLUYE CAMBIO DE RODAMIENTOS Y TODOS LOS ELEMENTOS ESTRUCTURALES PARA SU MONTAJE Y CORRECTO FUNCIONAMIENTO COMO TAMBIÉN PINTURA EN ANTICORROSIVO Y ESMALTE. | C35: kg | E35: 25703.33 | F35: =D35*E35 -> 0
A36: 4.05 | B36: PERFILERIA ESTRUCTURAL EN ACERO A500 GR C. INCLUYE TODOS LOS ELEMENTOS ESTRUCTURALES PARA SU MONTAJE Y CORRECTO FUNCIONAMIENTO COMO TAMBIÉN PINTURA EN ANTICORROSIVO, ESMALTE, CONEXIONES, PLATINAS, ANCLAJES Y SOLDADURA. | C36: kg | E36: 23685.69 | F36: =D36*E36 -> 0
A37: 4.06 | B37: ESTRUCTURA METÁLICA EN ACERO ESTRUCTURAL, TALES COMO PERFILES, PLATINAS, CORREAS Y DEMÁS ELEMENTOS. INCLUYE MONTAJE, APLICACION DE SIKAPERMACOR SERIE 82 TIPO SIKA O SIMILAR A UN ESPESOR DE PELÍCULA SECA DE 10.0 A 12.0 MILS, ESMALTE URETANO SERIE 36 TIPO S | C37: kg | E37: 20839.02 | F37: =D37*E37 -> 0
B38: Total ESTRUCTURA | F38: =SUM(F32:F37) -> 0
A39: 5 | B39: INSTALACIONES HIDROSANITARIAS
A40: 5.01 | B40: CIMENTACION Y ATRAQUE DE TUBERIA | C40: m³ | E40: 78626.05 | F40: =D40*E40 -> 0
...

Sheet ESCAM 
A1: ITEM | B1: ACTIVIDAD | C1: UN | D1: CANTIDAD | E1: VR. UNITARIO | F1: VR. TOTAL
A2: 1 | B2: PRELIMINARES
A3: 1.01 | B3: DEMOLICION DE ENCHAPE DE PISOS Y PAREDES | C3: m² | E3: 43704.15 | F3: =D3*E3 -> 0
A4: 1.02 | B4: DEMOLICIÓN POYOS DUCHAS | C4: ml | E4: 12300.17 | F4: =D4*E4 -> 0
A5: 1.03 | B5: DESMONTE PUERTAS Y VENTANAS | C5: m² | E5: 5770.56 | F5: =D5*E5 -> 0
A6: 1.04 | B6: DEMOLICIÓN DE GUARDA ESCOBA. | C6: m | E6: 3274.08 | F6: =D6*E6 -> 0
A7: 1.05 | B7: ESCARIFICADO DE PINTURA EN PAREDES | C7: m² | E7: 3577.1 | F7: =D7*E7 -> 0
A8: 1.06 | B8: DESMONTE DE CIELO RASO, INCLUYE DESMONTE DE ESTRUCTURA | C8: m² | E8: 11910.09 | F8: =D8*E8 -> 0
A9: 1.07 | B9: DESMONTE Y REINSTALACION DE PUERTA METALICA TIPO HANGAR MARCOS, RIELES Y ANGULOS | C9: m² | E9: 57761.86 | F9: =D9*E9 -> 0
A10: 1.08 | B10: ESCARIFICADO DE PAÑETE EN PAREDES | C10: m² | E10: 5561.38 | F10: =D10*E10 -> 0
A11: 1.09 | B11: DESMONTE DE ESTRUCTURA EN MADERA Y METALICA PARA CUBIERTA | C11: m² | E11: 16984.01 | F11: =D11*E11 -> 0
A12: 1.1 | B12: DEMOLICIÓN DE CERRAMIENTO EXISTENTE EN MALLA ESLABONADA CON TUBERÍA DE ACERO GALVANIZADO DE +-2" Y ANTEPECHO DE ALTURA APROXIMADA DE 0.60MTS. INCLUYE EL RETIRO DEL MATERIAL DEMOLIDO. | C12: m² | E12: 30132.38 | F12: =D12*E12 -> 0
A13: 1.11 | B13: DEMOLICIÓN MUROS 0.15M | C13: m² | E13: 7079.05 | F13: =D13*E13 -> 0
A14: 1.12 | B14: DEMOLICIÓN PLACAS MACIZAS 0.15M | C14: m² | E14: 59816.37 | F14: =D14*E14 -> 0
... A17: 1.15 | B17: DESMONTE CANAL AGUAS LLUVIAS | C17: ml | E17: 14991.53 | F17: =D17*E17 -> 0
B18: Total PRELIMINARES | F18: =SUM(F3:F17) -> 0
A19: 2 | B19: MOVIMIENTO DE TIERRAS
A20: 2.01 | B20: RELLENO Y COMPACTACIÓN CON MATERIAL DE EXCAVACIÓN SELECCIONADO | C20: m³ | E20: 18941.08 | F20: =D20*E20 -> 0
A21: 2.02 | B21: TRANSPORTE DE MATERIAL/SOBRANTE U OTRO Y DISPOSICIÓN FINAL DE SOBRANTES A SITIO AUTORIZADO. | C21: m³ | E21: 50091.05 | F21: =D21*E21 -> 0
A22: 2.03 | B22: EXCAVACION MANUAL EN TERRENO CONSISTENTE, NO INCLUYE CARGUE, RETIRO Y DISPOSICION FINAL DE EXCAVACION | C22: m³ | E22: 19478.87 | F22: =D22*E22 -> 0
A23: 2.04 | B23: EXCAVACIÓN MANUAL EN MATERIAL COMÚN. INCLUYE CARGUE, TRANSPORTE Y DISPOSICIÓN FINAL DE SOBRANTES A SITIO AUTORIZADO DE 0 - 2,00 MTS. | C23: m³ | E23: 41556.66 | F23: =D23*E23 -> 0
B24: Total MOVIMIENTO DE TIERRAS | F24: =SUM(F20:F23) -> 0
A25: 3 | B25: CIMENTACIÓN
A26: 3.01 | B26: SOLADO DE LIMPIEZA EN CONCRETO DE 2.000 PSI DE E=0.05 M SEGÚN PLANOS. INCLUYE MATERIALES, MANO DE OBRA, EQUIPOS Y HERRAMIENTAS NECESARIAS | C26: m² | E26: 25198.68 | F26: =D26*E26 -> 0
