Workbook
Name \0: #REF!
Name \a: #REF!
Name \b: '[1]APU PVC'!#REF!
Name \c: '[1]APU PVC'!#REF!
Name \e: '[1]APU PVC'!#REF!
Name \i: '[1]APU PVC'!#REF!
Name \L: #REF!
Name \m: '[1]APU PVC'!#REF!
Name \P: #REF!
Name \r: '[1]APU PVC'!#REF!
Name \t: '[1]APU PVC'!#REF!
Name \x: '[1]APU PVC'!#REF!
Name \z: #REF!
Name _: #REF!
Name _________________________________apu1: [2]INSUMOS!#REF!
Name ________________________________apu1: [2]INSUMOS!#REF!
Name _______________________________apu1: [2]INSUMOS!#REF!
Name ______________________________apu1: [2]INSUMOS!#REF!
Name _____________________________dot1: #REF!
Name _____________________________err2: #REF!
Name _____________________________err4: #REF!
Name _____________________________inf2: #REF!
Name ____________________________apu1: [2]INSUMOS!#REF!
Name ___________________________apu1: [2]INSUMOS!#REF!
Name ___________________________dot1: #REF!
Name ___________________________err2: #REF!
Name ___________________________err4: #REF!
Name ___________________________inf2: #REF!
Name __________________________apu1: [2]INSUMOS!#REF!
Name __________________________dot1: #REF!
Name __________________________err2: #REF!
Name __________________________err4: #REF!
Name __________________________inf2: #REF!
Name _________________________apu1: [2]INSUMOS!#REF!
Name _________________________dot1: #REF!
Name _________________________err2: #REF!
Name _________________________err4: #REF!
Name _________________________inf2: #REF!
Name ________________________apu1: [2]INSUMOS!#REF!
Name _______________________apu1: [2]INSUMOS!#REF!
Name _______________________dot1: #REF!
Name _______________________err2: #REF!
Name _______________________err4: #REF!
Name _______________________inf2: #REF!
Name _____________________apu1: [2]INSUMOS!#REF!
Name _____________________dot1: #REF!
Name _____________________err2: #REF!
Name _____________________err4: #REF!
Name _____________________inf2: #REF!
Name ____________________apu1: [2]INSUMOS!#REF!
Name ____________________dot1: #REF!
Name ____________________err2: #REF!
Name ____________________err4: #REF!
Name ____________________inf2: #REF!
Name ___________________apu1: [2]INSUMOS!#REF!
Name ___________________dot1: #REF!
Name ___________________err2: #REF!
Name ___________________err4: #REF!
Name ___________________inf2: #REF!
Name __________________apu1: [2]INSUMOS!#REF!

Sheet PTO INTERV
C1: DEPARTAMENTO DEL ATLANTICO GOBERNACIÓN DEL ATLÁNTICO REPÚBLICA DE COLOMBIA
A2: OBJETO: | C2: INTERVENTORIA TECNICA, ADMINISTRATIVA, FINANCIERA, JURIDICA, AMBIENTAL Y SST A LA OBRA QUE TIENE POR OBJETO EL MANTENIMIENTO, MEJORAMIENTO Y/O REHABILITACION O RECONSTRUCCIÓN DE LA RED VIAL DEL DEPARTAMENTO DEL ATLÁNTICO
A3: PLAZO INTERVENTORIA (AÑO) | C3: 6 | D3: MESES | F3: VALOR SALARIO MÍNIMO 2024 | J3: 1300000
A4: PRESUPUESTO INTERVENTORIA
A5: ITEM | B5: DESCRIPCION | J5: VALOR
A6: CONCEPTO | C6: CANT. | E6: COSTO MES | F6: F.M. | G6: COSTO TOTAL MENSUAL | H6: DEDICACIÓN | I6: TOTAL MES
A8: A | B8: PERSONAL PROFESIONAL
A9: 1 | B9: DIRECTOR DE INTERVENTORIA | C9: 1 | E9: 7500000 | F9: =FM!E45 -> 2.25 | G9: =+E9*F9 -> 16875000 | H9: 0.5 | I9: =C3 -> 6 | J9: =+G9*H9*I9*C9 -> 50625000
A10: 2 | B10: RESIDENTE DE INTERVENTORIA | C10: 2 | E10: 5000000 | F10: =$F$9 -> 2.25 | G10: =+E10*F10 -> 11250000 | H10: 1 | I10: =$I$9 -> 6 | J10: =+G10*H10*I10*C10 -> 135000000
A11: 3 | B11: ESPECIALISTA HIDRÁULICO | C11: 1 | E11: 6500000 | F11: =$F$9 -> 2.25 | G11: =+E11*F11 -> 14625000 | H11: 0.5 | I11: =$I$9 -> 6 | J11: =+G11*H11*I11*C11 -> 43875000
A12: 4 | B12: ESPECIALISTA EN VIAS | C12: 1 | E12: =$E$11 -> 6500000 | F12: =$F$9 -> 2.25 | G12: =+E12*F12 -> 14625000 | H12: 0.5 | I12: =$I$9 -> 6 | J12: =+G12*H12*I12*C12 -> 43875000
A13: 5 | B13: ESPECIALISTA EN GEOTECNIA | C13: 1 | E13: =$E$11 -> 6500000 | F13: =$F$9 -> 2.25 | G13: =+E13*F13 -> 14625000 | H13: 0.5 | I13: =$I$9 -> 6 | J13: =+G13*H13*I13*C13 -> 43875000
A14: 6 | B14: ESPECIALISTA EN ESTRUCTURAS | C14: 1 | E14: =$E$11 -> 6500000 | F14: =$F$9 -> 2.25 | G14: =+E14*F14 -> 14625000 | H14: 0.5 | I14: =$I$9 -> 6 | J14: =+G14*H14*I14*C14 -> 43875000
A15: 7 | B15: PROFESIONAL DEL AREA AMBIENTAL | C15: 1 | E15: 4000000 | F15: =$F$9 -> 2.25 | G15: =+E15*F15 -> 9000000 | H15: 1 | I15: =$I$9 -> 6 | J15: =+G15*H15*I15*C15 -> 54000000
A16: 8 | B16: PROFESIONAL DEL AREA SST | C16: 1 | E16: 3000000 | F16: =$F$9 -> 2.25 | G16: =+E16*F16 -> 6750000 | H16: 1 | I16: =$I$9 -> 6 | J16: =+G16*H16*I16*C16 -> 40500000
A17: 9 | B17: PROFESIONAL SOCIAL | C17: 1 | E17: 2500000 | F17: =FM!F45 -> 2.3 | G17: =+E17*F17 -> 5750000 | H17: 1 | I17: =$I$9 -> 6 | J17: =+G17*H17*I17*C17 -> 34500000
A18: 10 | B18: ESPECIALISTA JURÍDICO | C18: 1 | E18: =E11 -> 6500000 | F18: =$F$9 -> 2.25 | G18: =+E18*F18 -> 14625000 | H18: 0.5 | I18: =$I$9 -> 6 | J18: =+G18*H18*I18*C18 -> 43875000
J19: =+G19*H19*I19*C19 -> 0
A20: SUBTOTAL A. COSTO DE PERSONAL PROFESIONAL | J20: =SUM(J9:J19) -> 534000000
A22: ITEM | B22: CONCEPTO | C22: CANT. | E22: COSTO MES | F22: F.M. | G22: COSTO TOTAL MENSUAL | H22: DEDICACION | I22: TOTAL MES | J22: VALOR
A24: B | B24: PERSONAL TECNICO AUXILIAR
A25: 1 | B25: INSPECTOR DE INTERVENTORIA | C25: 2 | E25: 2000000 | F25: =FM!F45 -> 2.3 | G25: =+E25*F25 -> 4600000 | H25: 1 | I25: =$I$9 -> 6 | J25: =+G25*H25*I25*C25 -> 55200000
A26: 2 | B26: TOPÓGRAFO | C26: 2 | E26: 1900000 | F26: =FM!F45 -> 2.3 | G26: =+E26*F26 -> 4370000 | H26: 1 | I26: =$I$9 -> 6 | J26: =+G26*H26*I26*C26 -> 52440000
A27: 3 | B27: CADENERO | C27: =C26*2 -> 4 | E27: 1500000 | F27: =F25 -> 2.3 | G27: =+E27*F27 -> 3450000 | H27: 1 | I27: =$I$9 -> 6 | J27: =+G27*H27*I27*C27 -> 82800000
A28: 4 | B28: CONTADOR PÚBLICO | C28: 1 | E28: 2000000 | F28: =FM!F45 -> 2.3 | G28: =+E28*F28 -> 4600000 | H28: 1 | I28: =$I$9 -> 6 | J28: =+G28*H28*I28*C28 -> 27600000
A29: 5 | B29: SECRETARIA | C29: 1 | E29: 1600000 | F29: =+F25 -> 2.3 | G29: =+E29*F29 -> 3680000 | H29: 1 | I29: =$I$9 -> 6 | J29: =+G29*H29*I29*C29 -> 22080000
A31: SUBTOTAL B. PERSONAL TECNICO AUXILIAR | J31: =SUM(J25:J30) -> 240120000
A33: COSTOS ADMINISTRATIVOS
A35: ITEM | B35: CONCEPTO | C35: CANT. | E35: UNIDAD | G35: COSTO X UNIDAD | H35: DEDICACION | I35: TOTAL MES | J35: VALOR
A37: C | B37: INSUMOS (OTROS COSTOS ADMINISTRATIVOS)
A38: 1 | B38: ARRIENDO DE EQUIPO TOPOGRAFIA (NIVEL - ESTACION TOTAL) | C38: =C26 -> 2 | E38: MES | G38: 2800000 | H38: 1 | I38: =ROUND(H38*$C$3,0) -> 6 | J38: =+C38*G38*H38*I38 -> 33600000
A39: 2 | B39: ARRIENDO DE OFICINA Y ALQUILER DE MOBILIARIO (GENERAL PARA EL PROYECTO) | C39: 1 | E39: MES | G39: 3000000 | H39: 1 | I39: =ROUND(H39*$C$3,0) -> 6 | J39: =+C39*G39*H39*I39 -> 18000000
A40: 3 | B40: EQUIPOS DE COMUNICACIONES | C40: 1 | E40: MES | G40: 1777692.5 | H40: 1 | I40: =ROUND(H40*$C$3,0) -> 6 | J40: =+C40*G40*H40*I40 -> 10666155
A41: 4 | B41: CAMIONETA 4X4 (INCLUYE COMBUSTIBLE) | C41: 2 | E41: MES | G41: 8000000 | H41: 1 | I41: =ROUND(H41*$C$3,0) -> 6 | J41: =+C41*G41*H41*I41 -> 96000000
A42: 5 | B42: PAPELERIA Y GASTOS DE ALQUILER DE EQUIPOS DE COMPUTO (INCLUYE OFFIMATICA) | C42: 1 | E42: MES | G42: 1000000 | H42: 1 | I42: =ROUND(H42*$C$3,0) -> 6 | J42: =+C42*G42*H42*I42 -> 6000000
A43: 8 | B43: ENSAYOS DE LABORATORIO Y CONTROL DE CALIDAD | C43: 1 | E43: MES | G43: 3500000 | H43: 1 | I43: =ROUND(H43*$C$3,0) -> 6 | J43: =+C43*G43*H43*I43 -> 21000000
A44: 9 | B44: REGISTROS FOTOGRÁFICOS, VIDEOS E INFORMES, ELABORACIÓN DE PLANOS RECORD | C44: 1 | E44: MES | G44: 1000000 | H44: 1 | I44: =ROUND(H44*$C$3,0) -> 6 | J44: =+C44*G44*H44*I44 -> 6000000
A46: SUBTOTAL C. INSUMOS (OTROS COSTOS ADMINISTRATIVOS) | J46: =SUM(J38:J45) -> 1.9126615e+08
A48: TOTAL BASICO D = A+B+C :COSTOS PERSONAL PROFESIONAL + COSTOS PERSONAL TÉCNICO AUXILIAR + OTROS COSTOS ADMINISTRATIVOS | J48: =ROUND(+J20+J31+J46,0) -> 965386155
A50: SUBTOTAL VALOR INTERVENTORÍA | J50: =+J48 -> 965386155 | M50: =L52/1300000 -> 883.69963
...

Sheet PROPUESTA ECONOMICA
C1: DEPARTAMENTO DEL ATLANTICO GOBERNACIÓN DEL ATLÁNTICO REPÚBLICA DE COLOMBIA
A2: OBJETO: | C2: ='PTO INTERV'!C2 -> INTERVENTORIA TECNICA, ADMINISTRATIVA, FINANCIERA, JURIDICA, AMBIENTAL Y SST A LA OBRA QUE TIENE POR OBJETO EL MANTENIMIENTO, MEJORAMIENTO Y/O REHABILITACION O RECONSTRUCCIÓN DE LA RED VIAL DEL DEPARTAMENTO DEL ATLÁNTICO
A3: PLAZO INTERVENTORIA (AÑO) | C3: 6 | D3: MESES | F3: VALOR SALARIO MÍNIMO 2024 | J3: 1300000
A4: PROPUESTA ECONÓMICA
A5: ITEM | B5: DESCRIPCION | J5: VALOR
A6: CONCEPTO | C6: CANT. | E6: COSTO MES | F6: F.M. | G6: COSTO TOTAL MENSUAL | H6: DEDICACIÓN | I6: TOTAL MES
A8: A | B8: PERSONAL PROFESIONAL
A9: 1 | B9: DIRECTOR DE INTERVENTORIA | C9: 1 | F9: =FM!E45 -> 2.25 | G9: =+E9*F9 -> 0 | H9: 0.5 | I9: =C3 -> 6 | J9: =+G9*H9*I9*C9 -> 0
A10: 2 | B10: RESIDENTE DE INTERVENTORIA | C10: 2 | F10: =$F$9 -> 2.25 | G10: =+E10*F10 -> 0 | H10: 1 | I10: =$I$9 -> 6 | J10: =+G10*H10*I10*C10 -> 0
A11: 3 | B11: ESPECIALISTA HIDRÁULICO | C11: 1 | F11: =$F$9 -> 2.25 | G11: =+E11*F11 -> 0 | H11: 0.5 | I11: =$I$9 -> 6 | J11: =+G11*H11*I11*C11 -> 0
A12: 4 | B12: ESPECIALISTA EN VIAS | C12: 1 | F12: =$F$9 -> 2.25 | G12: =+E12*F12 -> 0 | H12: 0.5 | I12: =$I$9 -> 6 | J12: =+G12*H12*I12*C12 -> 0
A13: 5 | B13: ESPECIALISTA EN GEOTECNIA | C13: 1 | F13: =$F$9 -> 2.25 | G13: =+E13*F13 -> 0 | H13: 0.5 | I13: =$I$9 -> 6 | J13: =+G13*H13*I13*C13 -> 0
A14: 6 | B14: ESPECIALISTA EN ESTRUCTURAS | C14: 1 | F14: =$F$9 -> 2.25 | G14: =+E14*F14 -> 0 | H14: 0.5 | I14: =$I$9 -> 6 | J14: =+G14*H14*I14*C14 -> 0
A15: 7 | B15: PROFESIONAL DEL AREA AMBIENTAL | C15: 1 | F15: =$F$9 -> 2.25 | G15: =+E15*F15 -> 0 | H15: 1 | I15: =$I$9 -> 6 | J15: =+G15*H15*I15*C15 -> 0
A16: 8 | B16: PROFESIONAL DEL AREA SST | C16: 1 | F16: =$F$9 -> 2.25 | G16: =+E16*F16 -> 0 | H16: 1 | I16: =$I$9 -> 6 | J16: =+G16*H16*I16*C16 -> 0
A17: 9 | B17: PROFESIONAL SOCIAL | C17: 1 | F17: =FM!F45 -> 2.3 | G17: =+E17*F17 -> 0 | H17: 1 | I17: =$I$9 -> 6 | J17: =+G17*H17*I17*C17 -> 0
A18: 10 | B18: ESPECIALISTA JURÍDICO | C18: 1 | F18: =$F$9 -> 2.25 | G18: =+E18*F18 -> 0 | H18: 0.5 | I18: =$I$9 -> 6 | J18: =+G18*H18*I18*C18 -> 0
J19: =+G19*H19*I19*C19 -> 0
A20: SUBTOTAL A. COSTO DE PERSONAL PROFESIONAL | J20: =SUM(J9:J19) -> 0
A22: ITEM | B22: CONCEPTO | C22: CANT. | E22: COSTO MES | F22: F.M. | G22: COSTO TOTAL MENSUAL | H22: DEDICACION | I22: TOTAL MES | J22: VALOR
A24: B | B24: PERSONAL TECNICO AUXILIAR
A25: 1 | B25: INSPECTOR DE INTERVENTORIA | C25: 2 | F25: =FM!F45 -> 2.3 | G25: =+E25*F25 -> 0 | H25: 1 | I25: =$I$9 -> 6 | J25: =+G25*H25*I25*C25 -> 0
A26: 2 | B26: TOPÓGRAFO | C26: 2 | F26: =FM!F45 -> 2.3 | G26: =+E26*F26 -> 0 | H26: 1 | I26: =$I$9 -> 6 | J26: =+G26*H26*I26*C26 -> 0
A27: 3 | B27: CADENERO | C27: =C26*2 -> 4 | F27: =F25 -> 2.3 | G27: =+E27*F27 -> 0 | H27: 1 | I27: =$I$9 -> 6 | J27: =+G27*H27*I27*C27 -> 0
A28: 4 | B28: CONTADOR PÚBLICO | C28: 1 | F28: =FM!F45 -> 2.3 | G28: =+E28*F28 -> 0 | H28: 1 | I28: =$I$9 -> 6 | J28: =+G28*H28*I28*C28 -> 0
A29: 5 | B29: SECRETARIA | C29: 1 | F29: =+F25 -> 2.3 | G29: =+E29*F29 -> 0 | H29: 1 | I29: =$I$9 -> 6 | J29: =+G29*H29*I29*C29 -> 0
A31: SUBTOTAL B. PERSONAL TECNICO AUXILIAR | J31: =SUM(J25:J30) -> 0
A33: COSTOS ADMINISTRATIVOS
A35: ITEM | B35: CONCEPTO | C35: CANT. | E35: UNIDAD | G35: COSTO X UNIDAD | H35: DEDICACION | I35: TOTAL MES | J35: VALOR
A37: C | B37: INSUMOS (OTROS COSTOS ADMINISTRATIVOS)
A38: 1 | B38: ARRIENDO DE EQUIPO TOPOGRAFIA (NIVEL - ESTACION TOTAL) | C38: =C26 -> 2 | E38: MES | H38: 1 | I38: =ROUND(H38*$C$3,0) -> 6 | J38: =+C38*G38*H38*I38 -> 0
A39: 2 | B39: ARRIENDO DE OFICINA Y ALQUILER DE MOBILIARIO (GENERAL PARA EL PROYECTO) | C39: 1 | E39: MES | H39: 1 | I39: =ROUND(H39*$C$3,0) -> 6 | J39: =+C39*G39*H39*I39 -> 0
A40: 3 | B40: EQUIPOS DE COMUNICACIONES | C40: 1 | E40: MES | H40: 1 | I40: =ROUND(H40*$C$3,0) -> 6 | J40: =+C40*G40*H40*I40 -> 0
A41: 4 | B41: CAMIONETA 4X4 (INCLUYE COMBUSTIBLE) | C41: 2 | E41: MES | H41: 1 | I41: =ROUND(H41*$C$3,0) -> 6 | J41: =+C41*G41*H41*I41 -> 0
A42: 5 | B42: PAPELERIA Y GASTOS DE ALQUILER DE EQUIPOS DE COMPUTO (INCLUYE OFFIMATICA) | C42: 1 | E42: MES | H42: 1 | I42: =ROUND(H42*$C$3,0) -> 6 | J42: =+C42*G42*H42*I42 -> 0
A43: 8 | B43: ENSAYOS DE LABORATORIO Y CONTROL DE CALIDAD | C43: 1 | E43: MES | H43: 1 | I43: =ROUND(H43*$C$3,0) -> 6 | J43: =+C43*G43*H43*I43 -> 0
A44: 9 | B44: REGISTROS FOTOGRÁFICOS, VIDEOS E INFORMES, ELABORACIÓN DE PLANOS RECORD | C44: 1 | E44: MES | H44: 1 | I44: =ROUND(H44*$C$3,0) -> 6 | J44: =+C44*G44*H44*I44 -> 0
A46: SUBTOTAL C. INSUMOS (OTROS COSTOS ADMINISTRATIVOS) | J46: =SUM(J38:J45) -> 0
A48: TOTAL BASICO D = A+B+C :COSTOS PERSONAL PROFESIONAL + COSTOS PERSONAL TÉCNICO AUXILIAR + OTROS COSTOS ADMINISTRATIVOS | J48: =ROUND(+J20+J31+J46,0) -> 0
A50: SUBTOTAL VALOR INTERVENTORÍA | J50: =+J48 -> 0
...

Sheet FM
C2: CÁLCULO DEL FACTOR MULTIPLICADOR
D3: CONCEPTO | E3: PORCENTAJE (SALARIOS MAYORES A 2 SMMLV) | F3: PORCENTAJE (SALARIOS MENORES A 2 SMMLV)
C4: 1 | D4: Salarios y Prestaciones Sociales de Personal facturable
D5: Salarios | E5: 1 | F5: 1
D6: Prima anual Legal | E6: 0.0833 | F6: 0.0833
D7: Pensiones | E7: 0.12 | F7: 0.12
D8: Cesantías | E8: 0.0833 | F8: 0.0833
D9: Intereses de cesantías | E9: 0.01 | F9: 0.01
D10: Seguros Médicos | E10: 0 | F10: 0
D11: Caja de Compensación familiar | E11: 0.04 | F11: 0.04
D12: SENA | E12: 0 | F12: 0
D13: ICBF | E13: 0 | F13: 0
D14: Otros | E14: 0.02 | F14: 0.02
D15: Vacaciones y ausencias justificadas | E15: 0.1258 | F15: 0.1258
D16: Subsidio de transporte | E16: 0 | F16: 0.1246
... D18: ARL | E18: 0.0696 | F18: 0.0696
D19: Sub-Total: | E19: =SUM(E5:E18) -> 1.552 | F19: =SUM(F5:F18) -> 1.6826
C20: 2 | D20: Gastos Directos
D21: Arriendo oficina central | E21: 0.04 | F21: 0.03
D22: Papelería y útiles de oficina | E22: 0.02 | F22: 0.01
D23: Sub-Total: | E23: =SUM(E21:E22) -> 0.06 | F23: =SUM(F21:F22) -> 0.04
C24: 3 | D24: Gastos Generales
D25: Contabilidad y asesoría legal | E25: 0.03 | F25: 0.03
D26: Servicios | E26: 0.03 | F26: 0.02
D27: Aseo | E27: 0.03 | F27: 0.01
D28: Seguro de robo e incendio | E28: 0.03 | F28: 0.015
D29: Documentación técnica | E29: 0.02 | F29: 0.02
D30: Depreciación de muebles y equipos | E30: 0.03 | F30: 0.015
D31: Sub-Total: | E31: =SUM(E25:E30) -> 0.17 | F31: =SUM(F25:F30) -> 0.11
C32: 4 | D32: Costos Directos no Reembolsables
D33: Edición de propuestas | E33: 0.02 | F33: 0.01
D34: Pólizas y seguros | E34: 0.03 | F34: 0.03
D35: Correo y otros | E35: 0.01 | F35: 0.01
D36: Costos bancarios y financieros | E36: 0.02 | F36: 0.02
D37: Salarios de personal administrativo | E37: 0.03 | F37: 0.03
D38: Prestaciones personal administrativo | E38: 0.02 | F38: 0.02
D39: Costos de Implementación del sistema de calidad | E39: 0.03 | F39: 0.03
D40: Tasas, impuestos y contribuciones | E40: 0.2424 | F40: =E40 -> 0.2424
D41: Sub-Total: | E41: =SUM(E33:E40) -> 0.4024 | F41: =SUM(F33:F40) -> 0.3924
C42: TOTAL FACTOR MULTIPLICADOR | E42: =E19+E23+E31+E41 -> 2.1844 | F42: =F19+F23+F31+F41 -> 2.225
...

Sheet OFERTA ECONOMICA
A1: SISTEMA ESTRATÉGICO DE TRANSPORTE PÚBLICO DE SANTA MARTA - SETP.
A3: OBJETO: | C3: CONSTRUCCIÓN DE LAS OBRAS CIVILES, ARQUITECTÓNICAS, HIDRÁULICAS, ELÉCTRICAS, ALUMBRADO PÚBLICO Y TODAS AQUELLAS ACTIVIDADES NECESARIAS PARA LA CONSTRUCCION DE PATIO TALLER – TERMINAL TRANSFERENCIA: MAMATOCO
B4: DURACIÓN CONTRATO | C4: 14 | D4: MESES | F4: SALARIO MÍNIMO 2022 | J4: 1000000
A5: OFERTA ECONOMICA
A6: ITEM | B6: DESCRIPCION | J6: VALOR
A7: CONCEPTO | C7: CANT. | D7: CANT. SALRIOS M. | E7: COSTO MES | F7: F.M. | G7: COSTO TOTAL MENSUAL | H7: DEDICACIÓN | I7: TOTAL MES
A9: A | B9: PERSONAL PROFESIONAL
A10: 1 | B10: Director de Obra | C10: 1 | G10: 0 | H10: 1 | I10: 15 | J10: 0
A11: 2 | B11: Especialista En Geotecnia Y Diseño De Pavimentos | C11: 1 | G11: 0 | H11: 0.3 | I11: 14 | J11: 0
A12: 3 | B12: Especialista En Diseños Hidráulicos | C12: 1 | G12: 0 | H12: 0.3 | I12: 14 | J12: 0
A13: 4 | B13: Especialista En Estructuras | C13: 1 | G13: 0 | H13: 0.3 | I13: 14 | J13: 0
A14: 5 | B14: Ingeniero Eléctrico o Electricista | C14: 1 | G14: 0 | H14: 0.3 | I14: 14 | J14: 0
A15: 6 | B15: Ingeniero Civil Residente De Obra | C15: 2 | G15: 0 | H15: 1 | I15: 14 | J15: 0
A16: 7 | B16: Ingeniero o Arquitecto Resdidente de Urbanismo y Espacio Publico | C16: 1 | G16: 0 | H16: 1 | I16: 14 | J16: 0
A17: 8 | B17: Ingeniero Ambiental Residente | C17: 1 | G17: 0 | H17: 1 | I17: 14 | J17: 0
A18: 9 | B18: Profesional En Acompañamiento Social | C18: 1 | G18: 0 | H18: 1 | I18: 14 | J18: 0
A19: 10 | B19: Auxiliar En Acompañamiento Social | C19: 1 | G19: 0 | H19: 1 | I19: 14 | J19: 0
A20: 11 | B20: Profesional En Seguridad Industrial Y Salud Ocupacional O Seguridad Y Salud En El Trabajo | C20: 1 | G20: 0 | H20: 1 | I20: 14 | J20: 0
A21: 12 | B21: Auxiliar En Seguridad industrial Y Salud Ocupacional O seguridad y salud en El trabajo | C21: 1 | G21: 0 | H21: 1 | I21: 14 | J21: 0
A22: SUBTOTAL A. COSTO DE PERSONAL PROFESIONAL | J22: 0
A24: ITEM | B24: CONCEPTO | C24: CANT. | D24: CANT. SALRIOS M. | E24: COSTO MES | F24: F.M. | G24: COSTO TOTAL MENSUAL | H24: DEDICACION | I24: TOTAL MES | J24: VALOR
A26: B | B26: PERSONAL TECNICO AUXILIAR
A27: 1 | B27: Secretaria | C27: 1 | G27: 0 | H27: 1 | I27: 15 | J27: 0
A28: 2 | B28: Topógrafo | C28: 1 | G28: 0 | H28: 1 | I28: 14 | J28: 0
A29: 3 | B29: Cadenero l | C29: 2 | G29: 0 | H29: 1 | I29: 14 | J29: 0
A30: 4 | B30: Cadenero ll | C30: 2 | G30: 0 | H30: 1 | I30: 14 | J30: 0
A31: 5 | B31: Laboratorista - Inspector de control de calidad | C31: 1 | G31: 0 | H31: 1 | I31: 14 | J31: 0
A32: 6 | B32: Inspector De Obra | C32: 1 | G32: 0 | H32: 1 | I32: 14 | J32: 0
A33: 7 | B33: Conductor camioneta | C33: 1 | G33: 0 | H33: 1 | I33: 14 | J33: 0
A34: SUBTOTAL B. PERSONAL TECNICO AUXILIAR | J34: 0
A38: ITEM | B38: CONCEPTO | C38: CANT. | E38: UNIDAD | G38: COSTO X UNIDAD | H38: DEDICACION | I38: TOTAL MES | J38: VALOR
A40: C | B40: INSUMOS (OTROS COSTOS ADMINISTRATIVOS)
A41: 1 | B41: ARRIENDO DE EQUIPO TOPOGRAFIA (NIVEL - ESTACION TOTAL) | C41: 1.5 | E41: MES | H41: 1 | I41: 14 | J41: 0
A42: 2 | B42: ARRIENDO DE OFICINA (GENERAL PARA EL PROYECTO) | C42: 1 | E42: MES | H42: 1 | I42: 14 | J42: 0
A43: 3 | B43: ADMINISTRACIÓN, SERVICIOS PUBLICOS, INTERNET. | C43: 1 | E43: MES | H43: 1 | I43: 14 | J43: 0
A44: 4 | B44: TRANSPORTE TERRESTRE Y GASTOS DE DESPLAZAMIENTOS (VEHÍCULOS) | C44: 1 | E44: MES | H44: 1 | I44: 14 | J44: 0
A45: 5 | B45: BIOSEGURIDAD | C45: 1 | E45: GLOBAL | H45: 1 | I45: 14 | J45: 0
A46: 6 | B46: ENSAYOS DE LABORATORIO | C46: 1 | E46: MES | H46: 1 | I46: 14 | J46: 0
A47: 7 | B47: ALQUILER CAMIONETA SIN CONDUTOR | C47: 1 | E47: MES | H47: 1 | I47: 14 | J47: 0
A48: SUBTOTAL C. INSUMOS (OTROS COSTOS ADMINISTRATIVOS) | J48: 0
...

Sheet FCT PREST
A1: CALCULO DE PRESTACIONES SOCIALES
B2: RIESGO V | E2: RIESGO I
A3: CONCEPTO | B3: % APORTE EMPLEADO | C3: % APORTE EMPLEADOR | D3: % TOTAL | G3: % TOTAL
A4: Subsidio de transporte | C4: 140606 | D4: =C4+B4 -> 140606 | F4: 88211 | G4: =F4+E4 -> 88211
A5: PRESTACIONES LEGALES
A6: Cesantias | C6: =1/12 -> 0.083333333 | D6: =C6+B6 -> 0.083333333 | F6: =1/12 -> 0.083333333 | G6: =F6+E6 -> 0.083333333
A7: Intereses a cesantia | C7: =0.12*C6 -> 0.01 | D7: =C7+B7 -> 0.01 | F7: =0.12*F6 -> 0.01 | G7: =F7+E7 -> 0.01
A8: Primas | C8: =1/12 -> 0.083333333 | D8: =C8+B8 -> 0.083333333 | F8: =1/12 -> 0.083333333 | G8: =F8+E8 -> 0.083333333
A9: Vacaciones | C9: =1/24 -> 0.041666667 | D9: =C9+B9 -> 0.041666667 | F9: =1/24 -> 0.041666667 | G9: =F9+E9 -> 0.041666667
A10: Dotacion y calzado | C10: 0.0105 | D10: =C10+B10 -> 0.0105 | F10: 0.0105 | G10: =F10+E10 -> 0.0105
A11: APORTES PATRONALES SEGURIDAD SOCIAL | G11: =F11+E11 -> 0
A12: Salud (4.0+8.5 = 12.5) | B12: 0.04 | C12: 0.085 | D12: =C12+B12 -> 0.125 | E12: 0.04 | F12: 0.085 | G12: =F12+E12 -> 0.125
A13: Pension (4+ 12 = 16 ) | B13: 0.04 | C13: 0.12 | D13: =C13+B13 -> 0.16 | E13: 0.04 | F13: 0.12 | G13: =F13+E13 -> 0.16
A14: Riesgo profesional | C14: 0.0696 | D14: =C14+B14 -> 0.0696 | F14: 0.00522 | G14: =F14 -> 0.00522
A15: PAGOS PARAFISCALES | G15: =F15+E15 -> 0
A16: Sena- Base Salarial | C16: 0.02 | D16: =C16+B16 -> 0.02 | F16: 0.02 | G16: =F16+E16 -> 0.02
A17: ICBF-Base Salarial | C17: 0.03 | D17: =C17+B17 -> 0.03 | F17: 0.03 | G17: =F17+E17 -> 0.03
A18: FIC | C18: 0.04 | D18: =C18+B18 -> 0.04 | F18: 0.04 | G18: =F18+E18 -> 0.04
A19: PRESTACIONES | B19: =SUM(B12:B18) -> 0.08 | C19: =SUM(C6:C18) -> 0.59343333 | D19: =SUM(D6:D18) -> 0.67343333 | F19: =SUM(F6:F18) -> 0.52905333 | G19: =SUM(G6:G18) -> 0.60905333
A25: CALCULO DEL FACTOR DIA HABIL
A26: SALARIO DIA HABIL | B26: =B39/30+C4/30 -> 43353.533
A27: Total Días del Año (A) | B27: 365
A28: Días No laborados (B) | B28: =+B29+B30+B31 -> 64
A29: Domingos | B29: 52
A30: Días Feriados | B30: 10
A31: Permisos remunerados | B31: 2
A32: Otros
A33: Días hábiles (C)=(A) - (B) | B33: =B27-B28 -> 301
A34: FACTOR DIA HABIL (C) / (A) | B34: =B33/B27 -> 0.82465753
A36: PRESTACIONES SALARIO INTEGRAL | B36: =+#REF!+#REF!+#REF!+#REF!+#REF!+#REF!+#REF!+#REF! -> #REF! | C36: =+#REF!+#REF!+#REF!+#REF!+#REF!+#REF!+#REF!+#REF! -> #REF!
A38: SUBSIDIO TRANSPORTE | B38: 140606
A39: SALARIO MINIMO MENSUAL | B39: 1160000

Sheet Hoja1
D1: =1160000 -> 1160000
C2: N° Salarios | D2: Base
A3: 1 | B3: Director de Obra | C3: 4 | D3: =+$D$1*C3 -> 4640000
A4: 2 | B4: Especialista En Geotecnia Y Diseño De Pavimentos | C4: 3.7 | D4: =+$D$1*C4 -> 4292000
A5: 3 | B5: Especialista En Diseños Hidráulicos | C5: 3.7 | D5: =+$D$1*C5 -> 4292000
A6: 4 | B6: Especialista En Urbanismo y Espacio Publico | C6: 3.7 | D6: =+$D$1*C6 -> 4292000
A7: 5 | B7: Ingeniero Eléctrico o Electricista | C7: 3.2 | D7: =+$D$1*C7 -> 3712000
A8: 6 | B8: Ingeniero Civil Residente De Obra | C8: 3.2 | D8: =+$D$1*C8 -> 3712000
A9: 7 | B9: Ingeniero o Arquitecto Resdidente de Urbanismo y Espacio Publico | C9: 3.2 | D9: =+$D$1*C9 -> 3712000
A10: 8 | B10: Ingeniero Topografo | C10: 2 | D10: =+$D$1*C10 -> 2320000
A11: 9 | B11: Ingeniero Ambiental Residente | C11: 2.5 | D11: =+$D$1*C11 -> 2900000
A12: 10 | B12: Residente Forestal Residente | C12: 2.5 | D12: =+$D$1*C12 -> 2900000
A13: 11 | B13: Profesional En Acompañamiento Social | C13: 2.3 | D13: =+$D$1*C13 -> 2668000
A14: 12 | B14: Auxiliar En Acompañamiento Social | C14: 2 | D14: =+$D$1*C14 -> 2320000
... A30: 28 | B30: Especialista En Estructuras | C30: 3.8 | D30: =+$D$1*C30 -> 4408000
