Workbook

Sheet FICHA TÉCNICA
B2: LOTE 1
H3: REGIONAL NORORIENTE | J3: TOTAL REGIONAL | K3: REGIONAL NORTE | M3: TOTAL REGIONAL | O3: REGIONAL ORIENTE | Q3: TOTAL REGIONAL | R3: REGIONAL SUR | T3: TOTAL REGIONAL | V3: CANTIDAD TOTAL | W3: CODIGO UNSPSC
B4: ITEM | C4: ESPECIFICACIONES | D4: PRESENTACION | E4: VIGENCIA | F4: REGIONAL BOGOTA | G4: REGIONAL NOROCCIDENTE | H4: SECCIONAL BUCARAMANGA | I4: SECCIONAL CUCUTA | K4: SECCIONAL BARRANQUILLA | L4: SECCIONAL SINCELEJO | N4: REGIONAL OCCIDENTE | O4: SECCIONAL TUNJA | P4: SECCIONAL VILLAVICENCIO | R4: SECCIONAL IBAGUE | S4: SECCIONAL NEIVA | U4: REGIONAL SUROCCIDENTE
B5: 1 | C5: Prueba inmunocromatográfica para detectar la presencia de semenogelina humana en muestras forenses. Con validación documentada por el fabricante, Sensibilidad de al menos 100 nL de fluido seminal humano y sin reacción cruzada con otros fluidos biológicos o semen de otras especies animales. | D5: Kit de 25 pruebas | E5: Mínimo 12 meses a partir de la entrega | F5: 40 | G5: 0 | H5: 0 | I5: 10 | J5: =H5+I5 -> 10 | K5: 20 | L5: 10 | M5: =L5+K5 -> 30 | N5: 10 | O5: 8 | P5: 4 | Q5: =P5+O5 -> 12 | R5: 10 | S5: 20 | T5: =S5+R5 -> 30 | U5: 45 | V5: =U5+T5+Q5+N5+M5+J5+G5+F5 -> 177 | W5: 12352200 41115800 41116000 41116100 41116200 41181500
B7: LOTE 2
H8: REGIONAL NORORIENTE | J8: TOTAL REGIONAL | K8: REGIONAL NORTE | M8: TOTAL REGIONAL | O8: REGIONAL ORIENTE | Q8: TOTAL REGIONAL | R8: REGIONAL SUR | T8: TOTAL REGIONAL | V8: CANTIDAD TOTAL | W8: CODIGO UNSPSC
B9: ITEM | C9: ESPECIFICACIONES | D9: PRESENTACION | E9: VIGENCIA | F9: REGIONAL BOGOTA | G9: REGIONAL NOROCCIDENTE | H9: SECCIONAL BUCARAMANGA | I9: SECCIONAL CUCUTA | K9: SECCIONAL BARRANQUILLA | L9: SECCIONAL SINCELEJO | N9: REGIONAL OCCIDENTE | O9: SECCIONAL TUNJA | P9: SECCIONAL VILLAVICENCIO | R9: SECCIONAL IBAGUE | S9: SECCIONAL NEIVA | U9: REGIONAL SUROCCIDENTE
B10: 2 | C10: Prueba inmunocromatográfica para detección rápida de la hemoglobina humana (Hb) en muestras forenses. con validación documentada por el fabricante, sensibilidad de al menos 20 ng/ml de Hb humana y sin reacción cruzada con sangre de otras especies animales | D10: Kit de 30 pruebas | E10: Mínimo 12 meses a partir de la entrega | F10: 100 | G10: 15 | H10: 20 | I10: 20 | J10: =I10+H10 -> 40 | K10: 30 | L10: 5 | M10: =L10+K10 -> 35 | N10: 6 | O10: 5 | P10: 17 | Q10: =P10+O10 -> 22 | R10: 2 | S10: 3 | T10: =S10+R10 -> 5 | U10: 40 | V10: =U10+T10+Q10+N10+M10+J10+G10+F10 -> 263 | W10: 12352200 41115800 41116000 41116100 41116200 41181500
B11: 3 | C11: Prueba inmunocromatográfica para detección rápida α-amilasa humana en muestras forenses. Con validación documentada por el fabricante que demuestre una sensibilidad de 50 mlU/ml o 10 nL de α-amilasa humana y ausencia de reacción cruzada con saliva de otras especies animales.. | D11: Kit de 40 pruebas | E11: Mínimo 12 meses a partir de la entrega | F11: 50 | G11: 0 | H11: 10 | I11: 10 | J11: =I11+H11 -> 20 | K11: 10 | L11: 3 | M11: =L11+K11 -> 13 | N11: 2 | O11: 2 | P11: 5 | Q11: =P11+O11 -> 7 | R11: 2 | S11: 3 | T11: =S11+R11 -> 5 | U11: 5 | V11: =U11+T11+Q11+N11+M11+J11+G11+F11 -> 102
B12: 4 | C12: Prueba inmunocromatográfica para detección semicuantitativa rápida de antígeno prostático específico (PSA) para identificar fluido seminal en muestras forenses. Con estudios de validación documentados por el fabricante, sensibilidad de al menos 1 ng/ml de PSA humano y sin reacción cruzada con fluido seminal de otras especies animales | D12: Kit de 40 pruebas | E12: Mínimo 12 meses a partir de la entrega | F12: 70 | G12: 20 | H12: 20 | I12: 20 | J12: =I12+H12 -> 40 | K12: 10 | L12: 5 | M12: =L12+K12 -> 15 | N12: 6 | O12: 8 | P12: 20 | Q12: =P12+O12 -> 28 | R12: 1 | S12: 0 | T12: =S12+R12 -> 1 | U12: 20 | V12: =U12+T12+Q12+N12+M12+J12+G12+F12 -> 200
B14: LOTE 3
H15: REGIONAL NORORIENTE | J15: TOTAL REGIONAL | K15: REGIONAL NORTE | M15: TOTAL REGIONAL | O15: REGIONAL ORIENTE | Q15: TOTAL REGIONAL | R15: REGIONAL SUR | T15: TOTAL REGIONAL | V15: CANTIDAD TOTAL | W15: CODIGO UNSPSC
B16: ITEM | C16: ESPECIFICACIONES | D16: PRESENTACION | E16: VIGENCIA | F16: REGIONAL BOGOTA | G16: REGIONAL NOROCCIDENTE | H16: SECCIONAL BUCARAMANGA | I16: SECCIONAL CUCUTA | K16: SECCIONAL BARRANQUILLA | L16: SECCIONAL SINCELEJO | N16: REGIONAL OCCIDENTE | O16: SECCIONAL TUNJA | P16: SECCIONAL VILLAVICENCIO | R16: SECCIONAL IBAGUE | S16: SECCIONAL NEIVA | U16: REGIONAL SUROCCIDENTE
B17: 5 | C17: Estándar de α-Amilasa de saliva humana en polvo liofilizado, Tipo XIII-A, 300-1,500 unidades/mg de proteína. Referencia: A1031-1KU. | D17: Frasco por 1000 Units | E17: Mínimo 12 meses a partir de la entrega Temperatura de almacenamiento: −20°C | F17: 3 | G17: 1 | H17: 0 | I17: 0 | J17: =I17+H17 -> 0 | K17: 0 | L17: 0 | M17: =L17+K17 -> 0 | N17: 0 | O17: 0 | P17: 0 | Q17: =P17+O17 -> 0 | R17: 1 | S17: 0 | T17: =S17+R17 -> 1 | U17: 1 | V17: =U17+T17+Q17+N17+M17+J17+G17+F17 -> 6 | W17: 12161500 41116000

Sheet ESTUDIO DE MERCADO 
B2: LOTE 1 | AJ2: VALOR TOTAL DEL PROCESO
H3: REGIONAL NORORIENTE | J3: TOTAL REGIONAL | K3: REGIONAL NORTE | M3: TOTAL REGIONAL | O3: REGIONAL ORIENTE | Q3: TOTAL REGIONAL | R3: REGIONAL SUR | T3: TOTAL REGIONAL | V3: CANTIDAD TOTAL | W3: FRIMA 1 | X3: HISTORICO 2022 | Y3: HISTORICO 2023 | Z3: DESVIACION ESTANDAR | AA3: PROMEDIO | AB3: COEFICIENTE VARIACIÓN | AC3: MEDIA GEOMETRICA | AD3: MEDIA ARMONICA | AF3: VALOR PROMEDIO UNITARIO | AG3: VALOR PROMEDIO POR ITEM | AH3: VALOR LOTE
B4: ITEM | C4: ESPECIFICACIONES | D4: PRESENTACION | E4: VIGENCIA | F4: REGIONAL BOGOTA | G4: REGIONAL NOROCCIDENTE | H4: SECCIONAL BUCARAMANGA | I4: SECCIONAL CUCUTA | K4: SECCIONAL BARRANQUILLA | L4: SECCIONAL SINCELEJO | N4: REGIONAL OCCIDENTE | O4: SECCIONAL TUNJA | P4: SECCIONAL VILLAVICENCIO | R4: SECCIONAL IBAGUE | S4: SECCIONAL NEIVA | U4: REGIONAL SUROCCIDENTE | W4: VALOR UNITARIO CON IVA | X4: VALOR UNITARIO INDEXADO | Y4: VALOR UNITARIO MAS IPC ( 9,28)
B5: 1 | C5: Prueba inmunocromatográfica para detectar la presencia de semenogelina humana en muestras forenses. Con validación documentada por el fabricante, Sensibilidad de al menos 100 nL de fluido seminal humano y sin reacción cruzada con otros fluidos biológicos o semen de otras especies animales. | D5: Kit de 25 pruebas | E5: Mínimo 12 meses a partir de la entrega | F5: 40 | G5: 0 | H5: 0 | I5: 10 | J5: =H5+I5 -> 10 | K5: 20 | L5: 10 | M5: =L5+K5 -> 30 | N5: 10 | O5: 8 | P5: 4 | Q5: =P5+O5 -> 12 | R5: 10 | S5: 20 | T5: =S5+R5 -> 30 | U5: 45 | V5: =U5+T5+Q5+N5+M5+J5+G5+F5 -> 177 | X5: 1334377 | Y5: 1411330 | Z5: =_xlfn.STDEV.S(X5,Y5) -> 54413.988 | AA5: =AVERAGE(X5,Y5) -> 1372853.5 | AB5: =Z5/AA5 -> 0.039635684 | AC5: =GEOMEAN(X5,Y5) -> 1372314.2 | AD5: =HARMEAN(X5:Y5) -> 1371775.1 | AE5: =IF(AB5>=30%,"ARMONICA","GEOMETRICA") -> GEOMETRICA | AF5: =ROUND((+AC5),0) -> 1372314 | AG5: =+AF5*V5 -> 242899578 | AH5: =+AG5 -> 242899578 | AJ5: =+AH5+AH10+AH17 -> 727805384
B7: LOTE 2
H8: REGIONAL NORORIENTE | J8: TOTAL REGIONAL | K8: REGIONAL NORTE | M8: TOTAL REGIONAL | O8: REGIONAL ORIENTE | Q8: TOTAL REGIONAL | R8: REGIONAL SUR | T8: TOTAL REGIONAL | V8: CANTIDAD TOTAL | W8: FRIMA 1 | X8: HISTORICO 2022 | Y8: HISTORICO 2023 | AC8: MEDIA GEOMETRICA | AF8: VALOR PROMEDIO UNITARIO | AG8: VALOR PROMEDIO POR ITEM | AH8: VALOR LOTE
B9: ITEM | C9: ESPECIFICACIONES | D9: PRESENTACION | E9: VIGENCIA | F9: REGIONAL BOGOTA | G9: REGIONAL NOROCCIDENTE | H9: SECCIONAL BUCARAMANGA | I9: SECCIONAL CUCUTA | K9: SECCIONAL BARRANQUILLA | L9: SECCIONAL SINCELEJO | N9: REGIONAL OCCIDENTE | O9: SECCIONAL TUNJA | P9: SECCIONAL VILLAVICENCIO | R9: SECCIONAL IBAGUE | S9: SECCIONAL NEIVA | U9: REGIONAL SUROCCIDENTE | W9: VALOR UNITARIO CON IVA | X9: VALOR UNITARIO INDEXADO | Y9: VALOR UNITARIO MAS IPC ( 9,28)
B10: 2 | C10: Prueba inmunocromatográfica para detección rápida de la hemoglobina humana (Hb) en muestras forenses. con validación documentada por el fabricante, sensibilidad de al menos 20 ng/ml de Hb humana y sin reacción cruzada con sangre de otras especies animales | D10: Kit de 30 pruebas | E10: Mínimo 12 meses a partir de la entrega | F10: 100 | G10: 15 | H10: 20 | I10: 20 | J10: =I10+H10 -> 40 | K10: 30 | L10: 5 | M10: =L10+K10 -> 35 | N10: 6 | O10: 5 | P10: 17 | Q10: =P10+O10 -> 22 | R10: 2 | S10: 3 | T10: =S10+R10 -> 5 | U10: 40 | V10: =U10+T10+Q10+N10+M10+J10+G10+F10 -> 263 | X10: 662989 | Y10: 891684 | Z10: =_xlfn.STDEV.S(X10,Y10) -> 161711.79 | AA10: =AVERAGE(X10,Y10) -> 777336.5 | AB10: =Z10/AA10 -> 0.20803318 | AC10: =GEOMEAN(X10,Y10) -> 768880.15 | AD10: =HARMEAN(X10:Y10) -> 760515.79 | AE10: =IF(AB10>=30%,"ARMONICA","GEOMETRICA") -> GEOMETRICA | AF10: =ROUND((+AC10),0) -> 768880 | AG10: =+AF10*V10 -> 202215440 | AH10: =SUM(AG10:AG12) -> 477094400
B11: 3 | C11: Prueba inmunocromatográfica para detección rápida α-amilasa humana en muestras forenses. Con validación documentada por el fabricante que demuestre una sensibilidad de 50 mlU/ml o 10 nL de α-amilasa humana y ausencia de reacción cruzada con saliva de otras especies animales.. | D11: Kit de 40 pruebas | E11: Mínimo 12 meses a partir de la entrega | F11: 50 | G11: 0 | H11: 10 | I11: 10 | J11: =I11+H11 -> 20 | K11: 10 | L11: 3 | M11: =L11+K11 -> 13 | N11: 2 | O11: 2 | P11: 5 | Q11: =P11+O11 -> 7 | R11: 2 | S11: 3 | T11: =S11+R11 -> 5 | U11: 5 | V11: =U11+T11+Q11+N11+M11+J11+G11+F11 -> 102 | X11: 913534 | Y11: 1119485 | Z11: =_xlfn.STDEV.S(X11,Y11) -> 145629.35 | AA11: =AVERAGE(X11,Y11) -> 1016509.5 | AB11: =Z11/AA11 -> 0.14326413 | AC11: =GEOMEAN(X11,Y11) -> 1011280.2 | AD11: =HARMEAN(X11:Y11) -> 1006077.8 | AE11: =IF(AB11>=30%,"ARMONICA","GEOMETRICA") -> GEOMETRICA | AF11: =ROUND((+AC11),0) -> 1011280 | AG11: =+AF11*V11 -> 103150560
B12: 4 | C12: Prueba inmunocromatográfica para detección semicuantitativa rápida de antígeno prostático específico (PSA) para identificar fluido seminal en muestras forenses. Con estudios de validación documentados por el fabricante, sensibilidad de al menos 1 ng/ml de PSA humano y sin reacción cruzada con fluido seminal de otras especies animales | D12: Kit de 40 pruebas | E12: Mínimo 12 meses a partir de la entrega | F12: 70 | G12: 20 | H12: 20 | I12: 20 | J12: =I12+H12 -> 40 | K12: 10 | L12: 5 | M12: =L12+K12 -> 15 | N12: 6 | O12: 8 | P12: 20 | Q12: =P12+O12 -> 28 | R12: 1 | S12: 0 | T12: =S12+R12 -> 1 | U12: 20 | V12: =U12+T12+Q12+N12+M12+J12+G12+F12 -> 200 | X12: 881146 | Y12: 836713 | Z12: =_xlfn.STDEV.S(X12,Y12) -> 31418.876 | AA12: =AVERAGE(X12,Y12) -> 858929.5 | AB12: =Z12/AA12 -> 0.036579109 | AC12: =GEOMEAN(X12,Y12) -> 858642.13 | AD12: =HARMEAN(X12:Y12) -> 858354.86 | AE12: =IF(AB12>=30%,"ARMONICA","GEOMETRICA") -> GEOMETRICA | AF12: =ROUND((+AC12),0) -> 858642 | AG12: =+AF12*V12 -> 171728400
B14: LOTE 3
H15: REGIONAL NORORIENTE | J15: TOTAL REGIONAL | K15: REGIONAL NORTE | M15: TOTAL REGIONAL | O15: REGIONAL ORIENTE | Q15: TOTAL REGIONAL | R15: REGIONAL SUR | T15: TOTAL REGIONAL | V15: CANTIDAD TOTAL | W15: QUIMITRONICA | X15: HISTORICO 2022 | Y15: HISTORICO 2023 | AC15: MEDIA GEOMETRICA | AF15: VALOR PROMEDIO UNITARIO | AG15: VALOR PROMEDIO POR ITEM | AH15: VALOR LOTE
B16: ITEM | C16: ESPECIFICACIONES | D16: PRESENTACION | E16: VIGENCIA | F16: REGIONAL BOGOTA | G16: REGIONAL NOROCCIDENTE | H16: SECCIONAL BUCARAMANGA | I16: SECCIONAL CUCUTA | K16: SECCIONAL BARRANQUILLA | L16: SECCIONAL SINCELEJO | N16: REGIONAL OCCIDENTE | O16: SECCIONAL TUNJA | P16: SECCIONAL VILLAVICENCIO | R16: SECCIONAL IBAGUE | S16: SECCIONAL NEIVA | U16: REGIONAL SUROCCIDENTE | W16: VALOR UNITARIO CON IVA | X16: VALOR UNITARIO INDEXADO | Y16: VALOR UNITARIO MAS IPC ( 9,28)
B17: 5 | C17: Estándar de α-Amilasa de saliva humana en polvo liofilizado, Tipo XIII-A, 300-1,500 unidades/mg de proteína. Referencia: A1031-1KU. | D17: Frasco por 1000 Units | E17: Mínimo 12 meses a partir de la entrega Temperatura de almacenamiento: −20°C | F17: 3 | G17: 1 | H17: 0 | I17: 0 | J17: =I17+H17 -> 0 | K17: 0 | L17: 0 | M17: =L17+K17 -> 0 | N17: 0 | O17: 0 | P17: 0 | Q17: =P17+O17 -> 0 | R17: 1 | S17: 0 | T17: =S17+R17 -> 1 | U17: 1 | V17: =U17+T17+Q17+N17+M17+J17+G17+F17 -> 6 | W17: 1309000 | Y17: 1294840 | Z17: =_xlfn.STDEV.S(W17,Y17) -> 10012.632 | AA17: =AVERAGE(W17,Y17) -> 1301920 | AB17: =Z17/AA17 -> 0.0076906661 | AC17: =GEOMEAN(W17,Y17) -> 1301900.7 | AD17: =HARMEAN(W17,Y17) -> 1301881.5 | AE17: =IF(AB17>=30%,"ARMONICA","GEOMETRICA") -> GEOMETRICA | AF17: =ROUND((+AC17),0) -> 1301901 | AG17: =+AF17*V17 -> 7811406 | AH17: =+AG17 -> 7811406

Sheet REGIONALZIACION 
B2: LOTE 1
H3: REGIONAL NORORIENTE | J3: TOTAL REGIONAL | K3: REGIONAL NORTE | M3: TOTAL REGIONAL | O3: REGIONAL ORIENTE | Q3: TOTAL REGIONAL | R3: REGIONAL SUR | T3: TOTAL REGIONAL | V3: CANTIDAD TOTAL | W3: VALOR PROMEDIO UNITARIO | X3: VALOR PROMEDIO POR ITEM | Y3: VALOR LOTE | AB3: REGIONAL NORORIENTE | AD3: TOTAL REGIONAL | AE3: REGIONAL NORTE | AG3: TOTAL REGIONAL | AI3: REGIONAL ORIENTE | AK3: TOTAL REGIONAL | AL3: REGIONAL SUR | AN3: TOTAL REGIONAL | AP3: CANTIDAD TOTAL POR ITEM | AQ3: VALOR LOTE
B4: ITEM | C4: ESPECIFICACIONES | D4: PRESENTACION | E4: VIGENCIA | F4: REGIONAL BOGOTA | G4: REGIONAL NOROCCIDENTE | H4: SECCIONAL BUCARAMANGA | I4: SECCIONAL CUCUTA | K4: SECCIONAL BARRANQUILLA | L4: SECCIONAL SINCELEJO | N4: REGIONAL OCCIDENTE | O4: SECCIONAL TUNJA | P4: SECCIONAL VILLAVICENCIO | R4: SECCIONAL IBAGUE | S4: SECCIONAL NEIVA | U4: REGIONAL SUROCCIDENTE | Z4: REGIONAL BOGOTA | AA4: REGIONAL NOROCCIDENTE | AB4: SECCIONAL BUCARAMANGA | AC4: SECCIONAL CUCUTA | AE4: SECCIONAL BARRANQUILLA | AF4: SECCIONAL SINCELEJO | AH4: REGIONAL OCCIDENTE | AI4: SECCIONAL TUNJA | AJ4: SECCIONAL VILLAVICENCIO | AL4: SECCIONAL IBAGUE | AM4: SECCIONAL NEIVA | AO4: REGIONAL SUROCCIDENTE
B5: 1 | C5: Prueba inmunocromatográfica para detectar la presencia de semenogelina humana en muestras forenses. Con validación documentada por el fabricante, Sensibilidad de al menos 100 nL de fluido seminal humano y sin reacción cruzada con otros fluidos biológicos o semen de otras especies animales. | D5: Kit de 25 pruebas | E5: Mínimo 12 meses a partir de la entrega | F5: 40 | G5: 0 | H5: 0 | I5: 10 | J5: =H5+I5 -> 10 | K5: 20 | L5: 10 | M5: =L5+K5 -> 30 | N5: 10 | O5: 8 | P5: 4 | Q5: =P5+O5 -> 12 | R5: 10 | S5: 20 | T5: =S5+R5 -> 30 | U5: 45 | V5: =+F5+G5+H5+I5+K5+L5+N5+O5+P5+R5+S5+U5 -> 177 | W5: =+'ESTUDIO DE MERCADO '!AF5 -> 1372314 | X5: =W5*V5 -> 242899578 | Y5: =X5 -> 242899578 | Z5: =W5*F5 -> 54892560 | AA5: =W5*G5 -> 0 | AB5: =W5*H5 -> 0 | AC5: =W5*I5 -> 13723140 | AD5: =SUM(AB5:AC5) -> 13723140 | AE5: =W5*K5 -> 27446280 | AF5: =W5*L5 -> 13723140 | AG5: =AE5+AF5 -> 41169420 | AH5: =W5*N5 -> 13723140 | AI5: =W5*O5 -> 10978512 | AJ5: =W5*P5 -> 5489256 | AK5: =AJ5+AI5 -> 16467768 | AL5: =W5*R5 -> 13723140 | AM5: =W5*S5 -> 27446280 | AN5: =AM5+AL5 -> 41169420 | AO5: =W5*U5 -> 61754130 | AP5: =AO5+AN5+AK5+AG5+AD5+AA5+Z5+AH5 -> 242899578 | AQ5: =AP5 -> 242899578
Z6: =Z5 -> 54892560 | AA6: =AA5 -> 0 | AB6: =AD5 -> 13723140 | AE6: =AG5 -> 41169420 | AH6: =AH5 -> 13723140 | AI6: =AK5 -> 16467768 | AL6: =AN5 -> 41169420 | AO6: =AO5 -> 61754130 | AP6: =AO6+AL6+AI6+AH6+AE6+AB6+AA6+Z6 -> 242899578
B8: LOTE 2
H9: REGIONAL NORORIENTE | J9: TOTAL REGIONAL | K9: REGIONAL NORTE | M9: TOTAL REGIONAL | O9: REGIONAL ORIENTE | Q9: TOTAL REGIONAL | R9: REGIONAL SUR | T9: TOTAL REGIONAL | V9: CANTIDAD TOTAL | W9: VALOR PROMEDIO UNITARIO | X9: VALOR PROMEDIO POR ITEM | Y9: VALOR LOTE | AB9: REGIONAL NORORIENTE | AD9: TOTAL REGIONAL | AE9: REGIONAL NORTE | AG9: TOTAL REGIONAL | AI9: REGIONAL ORIENTE | AK9: TOTAL REGIONAL | AL9: REGIONAL SUR | AN9: TOTAL REGIONAL | AP9: CANTIDAD TOTAL POR ITEM | AQ9: VALOR LOTE
B10: ITEM | C10: ESPECIFICACIONES | D10: PRESENTACION | E10: VIGENCIA | F10: REGIONAL BOGOTA | G10: REGIONAL NOROCCIDENTE | H10: SECCIONAL BUCARAMANGA | I10: SECCIONAL CUCUTA | K10: SECCIONAL BARRANQUILLA | L10: SECCIONAL SINCELEJO | N10: REGIONAL OCCIDENTE | O10: SECCIONAL TUNJA | P10: SECCIONAL VILLAVICENCIO | R10: SECCIONAL IBAGUE | S10: SECCIONAL NEIVA | U10: REGIONAL SUROCCIDENTE | Z10: REGIONAL BOGOTA | AA10: REGIONAL NOROCCIDENTE | AB10: SECCIONAL BUCARAMANGA | AC10: SECCIONAL CUCUTA | AE10: SECCIONAL BARRANQUILLA | AF10: SECCIONAL SINCELEJO | AH10: REGIONAL OCCIDENTE | AI10: SECCIONAL TUNJA | AJ10: SECCIONAL VILLAVICENCIO | AL10: SECCIONAL IBAGUE | AM10: SECCIONAL NEIVA | AO10: REGIONAL SUROCCIDENTE
B11: 2 | C11: Prueba inmunocromatográfica para detección rápida de la hemoglobina humana (Hb) en muestras forenses. con validación documentada por el fabricante, sensibilidad de al menos 20 ng/ml de Hb humana y sin reacción cruzada con sangre de otras especies animales | D11: Kit de 30 pruebas | E11: Mínimo 12 meses a partir de la entrega | F11: 100 | G11: 15 | H11: 20 | I11: 20 | J11: =I11+H11 -> 40 | K11: 30 | L11: 5 | M11: =L11+K11 -> 35 | N11: 6 | O11: 5 | P11: 17 | Q11: =P11+O11 -> 22 | R11: 2 | S11: 3 | T11: =S11+R11 -> 5 | U11: 40 | V11: =U11+T11+Q11+N11+M11+J11+G11+F11 -> 263 | W11: =+'ESTUDIO DE MERCADO '!AF10 -> 768880 | X11: =W11*V11 -> 202215440 | Y11: =SUM(X11:X13) -> 477094400 | Z11: =W11*F11 -> 76888000 | AA11: =W11*G11 -> 11533200 | AB11: =W11*H11 -> 15377600 | AC11: =W11*I11 -> 15377600 | AD11: =AC11+AB11 -> 30755200 | AE11: =W11*K11 -> 23066400 | AF11: =W11*L11 -> 3844400 | AG11: =AE11+AF11 -> 26910800 | AH11: =W11*N11 -> 4613280 | AI11: =W11*O11 -> 3844400 | AJ11: =W11*P11 -> 13070960 | AK11: =AI11+AJ11 -> 16915360 | AL11: =W11*R11 -> 1537760 | AM11: =W11*S11 -> 2306640 | AN11: =AL11+AM11 -> 3844400 | AO11: =W11*U11 -> 30755200 | AP11: =AO11+AN11+AK11+AH11+AG11+AD11+AA11+Z11 -> 202215440 | AQ11: =SUM(AP11:AP13) -> 477094400
B12: 3 | C12: Prueba inmunocromatográfica para detección rápida α-amilasa humana en muestras forenses. Con validación documentada por el fabricante que demuestre una sensibilidad de 50 mlU/ml o 10 nL de α-amilasa humana y ausencia de reacción cruzada con saliva de otras especies animales.. | D12: Kit de 40 pruebas | E12: Mínimo 12 meses a partir de la entrega | F12: 50 | G12: 0 | H12: 10 | I12: 10 | J12: =I12+H12 -> 20 | K12: 10 | L12: 3 | M12: =L12+K12 -> 13 | N12: 2 | O12: 2 | P12: 5 | Q12: =P12+O12 -> 7 | R12: 2 | S12: 3 | T12: =S12+R12 -> 5 | U12: 5 | V12: =U12+T12+Q12+N12+M12+J12+G12+F12 -> 102 | W12: =+'ESTUDIO DE MERCADO '!AF11 -> 1011280 | X12: =W12*V12 -> 103150560 | Z12: =W12*F12 -> 50564000 | AA12: =W12*G12 -> 0 | AB12: =W12*H12 -> 10112800 | AC12: =W12*I12 -> 10112800 | AD12: =AC12+AB12 -> 20225600 | AE12: =W12*K12 -> 10112800 | AF12: =W12*L12 -> 3033840 | AG12: =AE12+AF12 -> 13146640 | AH12: =W12*N12 -> 2022560 | AI12: =W12*O12 -> 2022560 | AJ12: =W12*P12 -> 5056400 | AK12: =AJ12+AI12 -> 7078960 | AL12: =W12*R12 -> 2022560 | AM12: =W12*S12 -> 3033840 | AN12: =AM12+AL12 -> 5056400 | AO12: =W12*U12 -> 5056400 | AP12: =AO12+AN12+AK12+AH12+AG12+AD12+AA12+Z12 -> 103150560
B13: 4 | C13: Prueba inmunocromatográfica para detección semicuantitativa rápida de antígeno prostático específico (PSA) para identificar fluido seminal en muestras forenses. Con estudios de validación documentados por el fabricante, sensibilidad de al menos 1 ng/ml de PSA humano y sin reacción cruzada con fluido seminal de otras especies animales | D13: Kit de 40 pruebas | E13: Mínimo 12 meses a partir de la entrega | F13: 70 | G13: 20 | H13: 20 | I13: 20 | J13: =I13+H13 -> 40 | K13: 10 | L13: 5 | M13: =L13+K13 -> 15 | N13: 6 | O13: 8 | P13: 20 | Q13: =P13+O13 -> 28 | R13: 1 | S13: 0 | T13: =S13+R13 -> 1 | U13: 20 | V13: =U13+T13+Q13+N13+M13+J13+G13+F13 -> 200 | W13: =+'ESTUDIO DE MERCADO '!AF12 -> 858642 | X13: =W13*V13 -> 171728400 | Z13: =W13*F13 -> 60104940 | AA13: =W13*G13 -> 17172840 | AB13: =W13*H13 -> 17172840 | AC13: =W13*I13 -> 17172840 | AD13: =AC13+AB13 -> 34345680 | AE13: =W13*K13 -> 8586420 | AF13: =W13*L13 -> 4293210 | AG13: =AE13+AF13 -> 12879630 | AH13: =W13*N13 -> 5151852 | AI13: =W13*O13 -> 6869136 | AJ13: =W13*P13 -> 17172840 | AK13: =AJ13+AI13 -> 24041976 | AL13: =W13*R13 -> 858642 | AM13: =W13*S13 -> 0 | AN13: =AM13+AL13 -> 858642 | AO13: =W13*U13 -> 17172840 | AP13: =AO13+AN13+AK13+AH13+AG13+AD13+AA13+Z13 -> 171728400
Z14: =SUM(Z11:Z13) -> 187556940 | AA14: =SUM(AA11:AA13) -> 28706040 | AB14: =SUM(AD11:AD13) -> 85326480 | AE14: =SUM(AG11:AG13) -> 52937070 | AH14: =SUM(AH11:AH13) -> 11787692 | AI14: =SUM(AK11:AK13) -> 48036296 | AL14: =SUM(AN11:AN13) -> 9759442 | AO14: =SUM(AO11:AO13) -> 52984440 | AP14: =SUM(AP11:AP13) -> 477094400 | AQ14: =AO14+AL14+AI14+AH14+AE14+AB14+AA14+Z14 -> 477094400
B16: LOTE 2
H17: REGIONAL NORORIENTE | J17: TOTAL REGIONAL | K17: REGIONAL NORTE | M17: TOTAL REGIONAL | O17: REGIONAL ORIENTE | Q17: TOTAL REGIONAL | R17: REGIONAL SUR | T17: TOTAL REGIONAL | V17: CANTIDAD TOTAL | W17: VALOR PROMEDIO UNITARIO | X17: VALOR PROMEDIO POR ITEM | Y17: VALOR LOTE | AB17: REGIONAL NORORIENTE | AD17: TOTAL REGIONAL | AE17: REGIONAL NORTE | AG17: TOTAL REGIONAL | AI17: REGIONAL ORIENTE | AK17: TOTAL REGIONAL | AL17: REGIONAL SUR | AN17: TOTAL REGIONAL | AP17: CANTIDAD TOTAL POR ITEM | AQ17: VALOR LOTE
B18: ITEM | C18: ESPECIFICACIONES | D18: PRESENTACION | E18: VIGENCIA | F18: REGIONAL BOGOTA | G18: REGIONAL NOROCCIDENTE | H18: SECCIONAL BUCARAMANGA | I18: SECCIONAL CUCUTA | K18: SECCIONAL BARRANQUILLA | L18: SECCIONAL SINCELEJO | N18: REGIONAL OCCIDENTE | O18: SECCIONAL TUNJA | P18: SECCIONAL VILLAVICENCIO | R18: SECCIONAL IBAGUE | S18: SECCIONAL NEIVA | U18: REGIONAL SUROCCIDENTE | Z18: REGIONAL BOGOTA | AA18: REGIONAL NOROCCIDENTE | AB18: SECCIONAL BUCARAMANGA | AC18: SECCIONAL CUCUTA | AE18: SECCIONAL BARRANQUILLA | AF18: SECCIONAL SINCELEJO | AH18: REGIONAL OCCIDENTE | AI18: SECCIONAL TUNJA | AJ18: SECCIONAL VILLAVICENCIO | AL18: SECCIONAL IBAGUE | AM18: SECCIONAL NEIVA | AO18: REGIONAL SUROCCIDENTE
B19: 5 | C19: Estándar de α-Amilasa de saliva humana en polvo liofilizado, Tipo XIII-A, 300-1,500 unidades/mg de proteína. Referencia: A1031-1KU. | D19: Frasco por 1000 Units | E19: Mínimo 12 meses a partir de la entrega Temperatura de almacenamiento: −20°C | F19: 3 | G19: 1 | H19: 0 | I19: 0 | J19: =I19+H19 -> 0 | K19: 0 | L19: 0 | M19: =L19+K19 -> 0 | N19: 0 | O19: 0 | P19: 0 | Q19: =P19+O19 -> 0 | R19: 1 | S19: 0 | T19: =S19+R19 -> 1 | U19: 1 | V19: =U19+T19+Q19+N19+M19+J19+G19+F19 -> 6 | W19: =+'ESTUDIO DE MERCADO '!AF17 -> 1301901 | X19: =W19*V19 -> 7811406 | Y19: =X19 -> 7811406 | Z19: =W19*F19 -> 3905703 | AA19: =W19*G19 -> 1301901 | AB19: =W19*H19 -> 0 | AC19: =W19*I19 -> 0 | AD19: =AC19+AB19 -> 0 | AE19: =W19*K19 -> 0 | AF19: =W19*L19 -> 0 | AG19: =AE19+AF19 -> 0 | AH19: =W19*N19 -> 0 | AI19: =W19*O19 -> 0 | AJ19: =W19*P19 -> 0 | AK19: =AI19+AJ19 -> 0 | AL19: =W19*R19 -> 1301901 | AM19: =W19*S19 -> 0 | AN19: =AM19+AL19 -> 1301901 | AO19: =W19*U19 -> 1301901 | AP19: =AO19+AN19+AK19+AH19+AG19+AD19+AA19+Z19 -> 7811406 | AQ19: =AP19 -> 7811406
Z20: =Z19 -> 3905703 | AA20: =AA19 -> 1301901 | AB20: =AD19 -> 0 | AE20: =AG19 -> 0 | AH20: =AH19 -> 0 | AI20: =AK19 -> 0 | AL20: =AN19 -> 1301901 | AO20: =AO19 -> 1301901 | AP20: =AO20+AL20+AI20+AH20+AE20+AB20+AA20+Z20 -> 7811406
C22: REGIONAL | D22: VALOR
C23: BOGOTA | D23: =Z20+Z14+Z6 -> 246355203
C24: NOROCCIDENTE | D24: =AA20+AA14+AA6 -> 30007941
C25: NORORIENTE | D25: =AB20+AB14+AB6 -> 99049620
C26: NORTE | D26: =AE20+AE14+AE6 -> 94106490
C27: OCCIDENTE | D27: =AH20+AH14+AH6 -> 25510832
C28: ORIENTE | D28: =AI20+AI14+AI6 -> 64504064
C29: SUR | D29: =AL20+AL14+AL6 -> 52230763
C30: SUROCCIDENTE | D30: =AO20+AO14+AO6 -> 116040471
C31: VALOR TOTAL PROCESO | D31: =SUM(D23:D30) -> 727805384
