Workbook
Name \0: #REF!
Name \0: #REF!
Name \0: #REF!
Name \00: #REF!
Name \00: #REF!
Name \00: #REF!
Name \a: #REF!
Name \a: #REF!
Name \a: #REF!
Name \AA: [1]LIQUIDACION!#REF!
Name \AA: [1]LIQUIDACION!#REF!
Name \AA: [1]LIQUIDACION!#REF!
Name \b: [2]STRSUMM0!#REF!
Name \b: [2]STRSUMM0!#REF!
Name \b: [2]STRSUMM0!#REF!
Name \bb: [2]STRSUMM0!#REF!
Name \bb: [2]STRSUMM0!#REF!
Name \bb: [2]STRSUMM0!#REF!
Name \E: #REF!
Name \E: #REF!
Name \E: #REF!
Name \EE: #REF!
Name \EE: #REF!
Name \EE: #REF!
Name \G: #REF!
Name \G: #REF!
Name \G: #REF!
Name \k: '[3]7422CW00'!#REF!
Name \k: '[3]7422CW00'!#REF!
Name \k: '[3]7422CW00'!#REF!
Name \l: [4]STRSUMM0!#REF!
Name \l: [4]STRSUMM0!#REF!
Name \l: [4]STRSUMM0!#REF!
Name \M: #REF!
Name \M: #REF!
Name \M: #REF!
Name \ñ: '[5]7422CW00'!#REF!
Name \ñ: '[5]7422CW00'!#REF!
Name \ñ: '[5]7422CW00'!#REF!
Name \P: #REF!
Name \P: #REF!
Name \P: #REF!
Name \R: #REF!
Name \R: #REF!
Name \R: #REF!
Name \s: #REF!
Name \s: #REF!
Name \s: #REF!
Name \V: #REF!
Name \V: #REF!
Name \V: #REF!
Name \X: 'AU CAIS'!ERR
Name \X: [0]!ERR
Name \Z: 'AU CAIS'!ERR
Name \Z: [0]!ERR
Name _________AFC1: [6]INV!$A$25:$D$28
Name _________AFC3: [6]INV!$F$25:$I$28
Name _________AFC5: [6]INV!$K$25:$N$28
Name _________BGC1: [6]INV!$A$5:$D$8
Name _________BGC3: [6]INV!$F$5:$I$8

Sheet APU
A2: 002 | C2: MOVIMIENTO DE TIERRAS | D2: Capitulo
A3: 002.001 | B3: - | C3: EXCAVACIÓN EN ZANJA - MATERIAL COMÚN - 0.0 A 2.0 M | D3: Actividad | E3: M3 | H3: =SUM(H4:H6) -> 33654
A4: 002.001 | B4: C22 | C4: CUADRILLA AA TIPO 4 (1 OFICIAL + 4 AYUDANTE) (Albañileria) | D4: Cuadrilla | E4: HR | F4: 0.6 | G4: 51509 | H4: =+ROUND(F4*G4,0) -> 30905
A5: 002.001 | B5: E36 | C5: EQUIPO MANEJO DE AGUAS DIFERENTE A AGUAS RESIDUALES | D5: Equipos | E5: DIA | F5: 0.033 | G5: 63233 | H5: =+ROUND(F5*G5,0) -> 2087
A6: 002.001 | B6: H2 | C6: EQUIPO BASICO (HERRAMIENTA MENOR) | D6: Herramienta | E6: UND | F6: 0.2 | G6: 3311 | H6: =+ROUND(F6*G6,0) -> 662
A8: 002A | C8: CIMIENTOS | D8: Capitulo
A9: 002A.007 | B9: - | C9: SUMINISTRO, TRANSPORTE E INSTALACION CONCRETO CICLOPEO CIMIENTOS (60% Concreto 3000 psi y 40% piedra media zonga) | D9: Actividad | E9: M3 | H9: =SUM(H10:H15) -> 520631
A10: 002A.007 | B10: AB5 | C10: CONCRETO 3000 psi - 21 Mpa | D10: Analisis | E10: M3 | F10: 0.618 | G10: 554104 | H10: =+ROUND(F10*G10,0) -> 342436
A11: 002A.007 | B11: C22 | C11: CUADRILLA AA TIPO 4 (1 OFICIAL + 4 AYUDANTE) (Albañileria) | D11: Cuadrilla | E11: HR | F11: 2.5 | G11: 51509 | H11: =+ROUND(F11*G11,0) -> 128773
A12: 002A.007 | B12: E12 | C12: EQUIPO DE TRANSPORTE | D12: Equipos | E12: DIA | F12: 0.041 | G12: 171308 | H12: =+ROUND(F12*G12,0) -> 7024
A13: 002A.007 | B13: H2 | C13: EQUIPO BASICO (HERRAMIENTA MENOR) | D13: Herramienta | E13: UND | F13: 0.5 | G13: 3311 | H13: =+ROUND(F13*G13,0) -> 1656
A14: 002A.007 | B14: I1565 | C14: ACARREO INTERNO | D14: Insumo | E14: UND | F14: 5.7 | G14: 1733 | H14: =+ROUND(F14*G14,0) -> 9878
A15: 002A.007 | B15: I37 | C15: PIEDRA MEDIA ZONGA | D15: Insumo | E15: M3 | F15: 0.412 | G15: 74913 | H15: =+ROUND(F15*G15,0) -> 30864
A17: 006 | C17: MAMPOSTERIA | D17: Capitulo
A18: 006.001 | B18: - | C18: SUMINISTRO, TRANSPORTE E INSTALACION MURO EN BLOQUE Nº4 Arcilla 33*23*9 cm. | D18: Actividad | E18: M2 | H18: =SUM(H19:H24) -> 58495
A19: 006.001 | B19: AB21 | C19: MORTERO 1:4 | D19: Analisis | E19: M3 | F19: 0.013 | G19: 512038 | H19: =+ROUND(F19*G19,0) -> 6656
A20: 006.001 | B20: C1 | C20: CUADRILLA AA TIPO 1 (1 OFICIAL + 1 AYUDANTE) (Albañileria) | D20: Cuadrilla | E20: HR | F20: 1.1 | G20: 23915 | H20: =+ROUND(F20*G20,0) -> 26307
A21: 006.001 | B21: E12 | C21: EQUIPO DE TRANSPORTE | D21: Equipos | E21: DIA | F21: 0.0033 | G21: 171308 | H21: =+ROUND(F21*G21,0) -> 565
A22: 006.001 | B22: H2 | C22: EQUIPO BASICO (HERRAMIENTA MENOR) | D22: Herramienta | E22: UND | F22: 0.1 | G22: 3311 | H22: =+ROUND(F22*G22,0) -> 331
A23: 006.001 | B23: I1565 | C23: ACARREO INTERNO | D23: Insumo | E23: UND | F23: 1.1 | G23: 1733 | H23: =+ROUND(F23*G23,0) -> 1906
A24: 006.001 | B24: I951 | C24: BLOQUE Nº 4 ARCILLA | D24: Insumo | E24: UND | F24: 12.915 | G24: 1760 | H24: =+ROUND(F24*G24,0) -> 22730
A26: 007 | C26: INSTALACIONES HIDRAULICAS | D26: Capitulo
A27: 007.128 | B27: - | C27: SUMINISTRO, TRANSPORTE E INSTALACIÓN DE LLAVE DE PASO TIPO RED WHITE 1/2" | D27: Actividad | E27: UND | H27: =SUM(H28:H36) -> 54355
A28: 007.128 | B28: C2 | C28: CUADRILLA BB TIPO 1 (1 OFICIAL + 1 AYUDANTE) (Instalaciones) | D28: Cuadrilla | E28: HR | F28: 0.25 | G28: 26303 | H28: =+ROUND(F28*G28,0) -> 6576
A29: 007.128 | B29: E12 | C29: EQUIPO DE TRANSPORTE | D29: Equipos | E29: DIA | F29: 0.0025 | G29: 171308 | H29: =+ROUND(F29*G29,0) -> 428
A30: 007.128 | B30: H2 | C30: EQUIPO BASICO (HERRAMIENTA MENOR) | D30: Herramienta | E30: UND | F30: 0.18 | G30: 3311 | H30: =+ROUND(F30*G30,0) -> 596
A31: 007.128 | B31: I1565 | C31: ACARREO INTERNO | D31: Insumo | E31: UND | F31: 0.3 | G31: 1733 | H31: =+ROUND(F31*G31,0) -> 520
A32: 007.128 | B32: I1700 | C32: LIMPIADOR REM PVC 760 GMS(1/4) | D32: Insumo | E32: UND | F32: 0.007 | G32: 59203 | H32: =+ROUND(F32*G32,0) -> 414
A33: 007.128 | B33: I545 | C33: ADAPTADOR MACHO PRESION PVC - 1/2 | D33: Insumo | E33: UND | F33: 1 | G33: 543 | H33: =+ROUND(F33*G33,0) -> 543
A34: 007.128 | B34: I569 | C34: CINTA TEFLON 10 M 1/2" | D34: Insumo | E34: UND | F34: 0.02 | G34: 1215 | H34: =+ROUND(F34*G34,0) -> 24
A35: 007.128 | B35: I647 | C35: SOLDADURA PVC LIQUIDA 1/4 | D35: Insumo | E35: UND | F35: 0.007 | G35: 122942 | H35: =+ROUND(F35*G35,0) -> 861
A36: 007.128 | B36: I878 | C36: REGISTRO O LLAVE DE PASO TIPO RED WHITE 1/2" ACUEDUCTO | D36: Insumo | E36: UND | F36: 1 | G36: 44393 | H36: =+ROUND(F36*G36,0) -> 44393
A38: 08B | C38: INSTALACIONES ELECTRICAS - REDES INTERNAS | D38: Capitulo
A39: 08B.266 | B39: - | C39: SUMINISTRO, TRANSPORTE E INSTALACION LUMINARIA PANEL LED DE INCRUSTAR-REF. 9PULG-24W TIPO PALNETA O SIMILAR | D39: Actividad | E39: UND | H39: =SUM(H40:H46) -> 141309
A40: 08B.266 | B40: C13 | C40: CUADRILLA FF TIPO 2 (1 OFICIAL + 2 AYUDANTE) (Electricas) | D40: Cuadrilla | E40: HR | F40: 0.8 | G40: 47718 | H40: =+ROUND(F40*G40,0) -> 38174
A41: 08B.266 | B41: E1 | C41: ANDAMIO METALICO CERTIFICADO, INCLUYE ESCALERILLA CON BARANDAS Y PLATAFORMAS DE TRABAJO | D41: Equipos | E41: UND | F41: 0.4 | G41: 9475 | H41: =+ROUND(F41*G41,0) -> 3790
A42: 08B.266 | B42: E12 | C42: EQUIPO DE TRANSPORTE | D42: Equipos | E42: DIA | F42: 0.03 | G42: 171308 | H42: =+ROUND(F42*G42,0) -> 5139
A43: 08B.266 | B43: H2 | C43: EQUIPO BASICO (HERRAMIENTA MENOR) | D43: Herramienta | E43: UND | F43: 0.5 | G43: 3311 | H43: =+ROUND(F43*G43,0) -> 1656
A44: 08B.266 | B44: I1110 | C44: ACCESORIOS DE FIJACION | D44: Insumo | E44: UND | F44: 4 | G44: 2341 | H44: =+ROUND(F44*G44,0) -> 9364
A45: 08B.266 | B45: I1565 | C45: ACARREO INTERNO | D45: Insumo | E45: UND | F45: 1.2 | G45: 1733 | H45: =+ROUND(F45*G45,0) -> 2080
...

Sheet AU CAIS
A1: PROYECTO | B1: BASE A.U OBRA / SECRETARIA DE OBRAS PÚBLICAS
A3: Valor estimado de la Obra (Costo Directo). | C3: Valor | E3: ='PRESUPUESTO CAI'!K552 -> 3.197131e+08
A4: Plazo estimado de ejecución | C4: Meses | E4: 3
C5: Días | E5: =+E4*30 -> 90
A7: CAPITULO | B7: TIPO DE GASTO | C7: UN | D7: CANTIDAD | E7: DEDICACIÓN (del tiempo de la obra) | F7: VALOR UNITARIO (mes) | G7: Factor Prestacional | H7: VALOR TOTAL | I7: SUMA | J7: PORCENTAJE
A9: 1 | B9: GASTOS GENERALES. | J9: =+J10 -> 0.15708766
A10: 1.1 | B10: MANO DE OBRA Y GASTOS DE OFICINA | I10: =SUM(H11:H22) -> 50222981 | J10: =+I10/$E$3 -> 0.15708766 | K10: =SUM(J11:J23) -> 0.15708766
B11: Director(a) de Obra | C11: Un | D11: 1 | E11: 0 | F11: 6500000 | G11: 0.5483 | H11: =+D11*E11*F11*(1+G11)*$E$4 -> 0 | J11: =+H11/$E$3 -> 0
B12: Ingeniero(a) Civil Residente | C12: Un | D12: 1 | E12: 1 | F12: 4200000 | G12: 0.5483 | H12: =+D12*E12*F12*(1+G12)*$E$4 -> 19508580 | J12: =+H12/$E$3 -> 0.06101902
B13: Técnico constructor como Maestro de obra (Inspector de Obra) | C13: Un | D13: 1 | E13: 1 | F13: 2690000 | G13: 0.5483 | H13: =+D13*E13*F13*(1+G13)*$E$4 -> 12494781 | J13: =+H13/$E$3 -> 0.039081229
B14: Técnico Electricista | C14: Un | D14: 1 | E14: 0.25 | F14: 2690000 | G14: 0.5483 | H14: =+D14*E14*F14*(1+G14)*$E$4 -> 3123695.2 | J14: =+H14/$E$3 -> 0.0097703074
B15: Profesional en Segruidad y Salud en el Trabajo - HSEQ | C15: Un | D15: 1 | E15: 1 | F15: 3250000 | G15: 0.5483 | H15: =+D15*E15*F15*(1+G15)*$E$4 -> 15095925 | J15: =+H15/$E$3 -> 0.047217099
B16: Trabajador(a) social | C16: Un | D16: 1 | E16: 0 | F16: 3250000 | G16: 0.5483 | H16: =+D16*E16*F16*(1+G16)*$E$4 -> 0 | J16: =+H16/$E$3 -> 0
B17: Ingeniero(a) Ambiental | C17: Un | D17: 1 | E17: 0 | F17: 3250000 | G17: 0.5483 | H17: =+D17*E17*F17*(1+G17)*$E$4 -> 0 | J17: =+H17/$E$3 -> 0
B18: Secretaria con prestaciones | C18: Un | D18: 1 | E18: 0 | F18: 1300000 | G18: 0.6995 | H18: =+D18*E18*F18*(1+G18)*$E$4 -> 0 | J18: =+H18/$E$3 -> 0
B20: Oficina y/o campamento (Equipo de Oficina, Escritorio, pc, impresora, sillas, papeleria, consumo servicios publicos etc) | C20: Mes | D20: 1 | E20: 0 | F20: 800000 | H20: =+D20*E20*F20*E4 -> 0 | J20: =+H20/$E$3 -> 0
B21: Plan Manejo Tránsito | C21: Un | D21: 0 | E21: 1 | F21: 1000000 | H21: =+D21*E21*F21*E5 -> 0 | J21: =+H21/$E$3 -> 0
B22: Ensayos de laboratorio | C22: Gl | D22: 0 | E22: 1 | F22: 500000 | H22: =D22*E22*F22*E4 -> 0 | J22: =+H22/$E$3 -> 0
J23: =+H23/$E$3 -> 0
A24: 2 | B24: GASTOS INDIRECTOS. | J24: =J25+J28+J34+J38 -> 0.22839015 | K24: =SUM(K28:K46) -> 0.22839015
A25: 2.1 | B25: LEGALIZACION.
B26: Factor de formula circular | G26: 1.4355
A28: 2.2 | B28: POLIZAS | I28: =SUM(H29:H32) -> 3899210.2 | J28: =+I28/$E$3 -> 0.012195966 | K28: =SUM(J29:J32) -> 0.012195966
B29: Cumplimiento del contrato | C29: % | D29: 0.0006 | F29: =+$E$3 -> 3.197131e+08 | G29: =+$G$26 -> 1.4355 | H29: =+(((F29*G29*D29)/365)*($E$5+120))*1.19 -> 188533.39 | J29: =+H29/$E$3 -> 0.00058969553
B30: Estabilidad de la obra | C30: % | D30: 0.0009 | F30: =+$E$3 -> 3.197131e+08 | G30: =+$G$26 -> 1.4355 | H30: =+(((F30*G30*D30)/365)*(1825))*1.19 -> 2457667.4 | J30: =+H30/$E$3 -> 0.0076871025
B31: Pago de salarios, prestaciones sociales legales e indemnizaciones laborales | C31: % | D31: 0.0005 | F31: =+$E$3 -> 3.197131e+08 | G31: =+$G$26 -> 1.4355 | H31: =+(((F31*G31*D31)/365)*($E$5+1095))*1.19 -> 886555.81 | J31: =+H31/$E$3 -> 0.002772973
B32: Resposabilidad civil extracontractual | C32: % | D32: 0.0025 | F32: 348000000 | G32: =+$G$26 -> 1.4355 | H32: =+(((F32*G32*D32)/365)*($E$5+0))*1.19 -> 366453.65 | J32: =+H32/$E$3 -> 0.0011461953
A34: 2.3 | B34: VALLAS Y SEÑALIZACIÓN | I34: =SUM(H35:H36) -> 3720000 | J34: =+I34/$E$3 -> 0.011635432 | K34: =SUM(J35:J36) -> 0.011635432
B35: Valla (8 metros cuadrados en lona) | C35: Un | D35: 1 | E35: 1 | F35: 720000 | H35: =+D35*F35 -> 720000 | J35: =+H35/$E$3 -> 0.0022520191
B36: Señalización obra (señalizacion vertical, delineadores y cinta) etc | C36: Gb | D36: 1 | F36: 3000000 | H36: =+F36*D36 -> 3000000 | J36: =+H36/$E$3 -> 0.0093834128
A38: 2.4 | B38: IMPUESTOS Y VALORES AGREGADOS | I38: =SUM(H39:H46) -> 65400112 | J38: =+I38/$E$3 -> 0.20455875 | K38: =SUM(J39:J46) -> 0.20455875
B39: Contribución Especial (Seguridad Ciudadana) | C39: % | D39: 0.05 | F39: =+$E$3 -> 3.197131e+08 | G39: =+$G$26 -> 1.4355 | H39: =+D39*F39*G39 -> 22947408 | J39: =+H39/$E$3 -> 0.071775
B40: Estampillas para el bienestar del adulto mayor | C40: % | D40: 0.02 | F40: =+$E$3 -> 3.197131e+08 | G40: =+$G$26 -> 1.4355 | H40: =+D40*F40*G40 -> 9178963.1 | J40: =+H40/$E$3 -> 0.02871
B41: Estampillas Pro - Universidades. | C41: % | D41: 0.02 | F41: =+$E$3 -> 3.197131e+08 | G41: =+$G$26 -> 1.4355 | H41: =+D41*F41*G41 -> 9178963.1 | J41: =+H41/$E$3 -> 0.02871
B42: Tasa Pro Deporte y Recreación | C42: % | D42: 0.005 | F42: =+$E$3 -> 3.197131e+08 | G42: =+$G$26 -> 1.4355 | H42: =+D42*F42*G42 -> 2294740.8 | J42: =+H42/$E$3 -> 0.0071775
B43: Estampilla Pro Cultura | C43: % | D43: 0.02 | F43: =+$E$3 -> 3.197131e+08 | G43: =+$G$26 -> 1.4355 | H43: =+D43*F43*G43 -> 9178963.1 | J43: =+H43/$E$3 -> 0.02871
B44: Estampilla Pro Justicia Familiar | C44: % | D44: 0.02 | F44: =+$E$3 -> 3.197131e+08 | G44: =+$G$26 -> 1.4355 | H44: =+D44*F44*G44 -> 9178963.1 | J44: =+H44/$E$3 -> 0.02871
B45: 4/1000 (transacciones financieras) | C45: % | D45: 0.004 | F45: =+$E$3 -> 3.197131e+08 | G45: =+$G$26 -> 1.4355 | H45: =+D45*F45*G45 -> 1835792.6 | J45: =+H45/$E$3 -> 0.005742
B46: Industria y Comercio 3,5 x 1.000 sobre valor total. | C46: % | D46: 0.0035 | F46: =+$E$3 -> 3.197131e+08 | G46: =+$G$26 -> 1.4355 | H46: =+D46*F46*G46 -> 1606318.5 | J46: =+H46/$E$3 -> 0.00502425
B47: TOTAL GASTOS INDIRECTOS DE ADMINISTRACION. | I47: =SUM(I10:I46) -> 1.232423e+08 | J47: =+ROUND((J9+J24),4) -> 0.3855 | K47: =+J24+J9 -> 0.3854778
...

Sheet PRESUPUESTO CAI
C3: Código | D3: CCE-EICP-FM-14 | E3: Versión | F3: 2
C4: FORMULARIO 1
C5: PRESUPUESTO OFICIAL
C6: [Las Entidades Estatales deben usar el presente formulario para determinar el Presupuesto Oficial del Proceso de Contratación y solo pueden modificar o ajustar aquello que en este se permite expresamente] [El presente formulario aplica para los procesos de contratación que tengan como forma de pago precios unitarios. Tratándose de otras modalidades de precio, la Entidad debe ajustarlo cuando corresponde a: precio global, llave en mano, administración delegada, reembolso de gastos o cualquier otra forma de precio.]
C8: Adicionalmente, cuando el proceso de contratación es estructurado por precios unitarios, la Entidad debe aplicar las notas 1, 2 y 3 del presente formulario y las casillas de "Descripción", "Porcentaje" de la Administración, Utilidad y total A.U. resaltadas en color amarillo. Tratándose de otras modalidades de precio, la Entidad puede o no configurar los mismos aspectos.
C9: “REPARACIONES LOCATIVAS DE BIENES INMUEBLES PROPIEDAD DEL MUNICIPIO DE MANIZALES, DESTINADOS AL USO DE LA POLICÍA NACIONAL DE COLOMBIA, Y DE LA SECRETARIA DEL INTERIOR DEL MUNICIPIO DE MANIZALES"
C10: CAI VILLAHERMOSA | M10: 1
D11: ITEM DE PAGO | E11: ESPECIFICACIONES | G11: DESCRIPCION | H11: UND. | I11: CANTIDAD | J11: VALOR UNITARIO | K11: VALOR TOTAL
C12: 019 | E12: PINTURA | G12: PINTURA | N12: ='AU CAIS'!G29 -> 1.4355
D13: 019.001 | G13: SUMINISTRO, TRANSPORTE E INSTALACION ESTUCO Y VINILO 3 MANOS SOBRE MURO INTERIOR (INCLUYE ESTUCO, 1 MANO EN PINTURA TIPO 2 Y DOS MANOS EN PINTURA TIPO 1, FILOS Y DILATACIONES). COLOR SEGÚN DISEÑO POR M2 | H13: M2 | I13: 37 | J13: =APU!$H$207*N13 -> 33490.215 | K13: =ROUND(J13*I13,0) -> 1239138 | N13: =$N$12 -> 1.4355 | O13: =J13/$N$12 -> 23330 | P13: =O13*I13 -> 863210
D14: 019.007 | G14: SUMINISTRO, TRANSPORTE E INSTALACION ESTUCO Y VINILO 3 MANOS BAJO PLACA INTERIOR (INCLUYE ESTUCO, 1 MANO EN PINTURA TIPO 2 Y DOS MANOS EN PINTURA TIPO 1, FILOS Y DILATACIONES). COLOR SEGÚN DISEÑO. | H14: M2 | I14: 30 | J14: =APU!$H$229*N14 -> 34922.844 | K14: =ROUND(J14*I14,0) -> 1047685 | N14: =$N$12 -> 1.4355 | O14: =J14/$N$12 -> 24328 | P14: =O14*I14 -> 729840
D15: 19014 | G15: SUMINISTRO, TRANSPORTE E INSTALACION ESTUCO Y PINTURA TIPO KORAZA O SIMILAR 3 MANOS FACHADAS (INCLUYE ESTUCO, 1 MANO EN PINTURA TIPO 2 Y DOS MANOS EN PINTURA TIPO KORAZA O SIMILAR, FILOS Y DILATACIONES). COLOR SEGÚN DISEÑO. | H15: M2 | I15: 39 | J15: =APU!$H$249*N15 -> 39100.149 | K15: =ROUND(J15*I15,0) -> 1524906 | N15: =$N$12 -> 1.4355 | O15: =J15/$N$12 -> 27238 | P15: =O15*I15 -> 1062282
C16: 08B | E16: PINTURA | G16: INSTALACIONES ELECTRICAS - REDES INTERNAS | N16: =$N$12 -> 1.4355 | O16: =J16/$N$12 -> 0 | P16: =O16*I16 -> 0
D17: 08B.304 | G17: DESMONTE DE LÁMPARAS DE SOBREPONER, INCRUSTAR O SIMILAR. ALTURA < 3 METROS (INCLUYE ESCALERA CERTIFICADA) | H17: UND | I17: 3 | J17: =APU!$H$56*N17 -> 32445.171 | K17: =ROUND(J17*I17,0) -> 97336 | N17: =$N$12 -> 1.4355 | O17: =J17/$N$12 -> 22602 | P17: =O17*I17 -> 67806
D18: 08B.303 | G18: SUMINISTRO, TRANSPORTE E INSTALACION DE LUMINARIA DE SOBREPONER TIPO BALA PANEL LED REDONDO, 24W BLANCO OPAL. INCLUYE DRIVER SC | H18: UND | I18: 3 | J18: =APU!$H$48*N18 -> 83724.102 | K18: =ROUND(J18*I18,0) -> 251172 | N18: =$N$12 -> 1.4355 | O18: =J18/$N$12 -> 58324 | P18: =O18*I18 -> 174972
C19: 015 | E19: PINTURA | G19: APARATOS SANITARIOS | N19: =$N$12 -> 1.4355 | O19: =J19/$N$12 -> 0 | P19: =O19*I19 -> 0
D20: 015.013 | G20: SUMINISTRO, TRANSPORTE E INSTALACION LAVAMANOS SOBREPONER Linea MARSELLA Color Blanco Ref. 13011000 Tipo Corona o Similar. (Incluye conjunto griferia tipo galaxia 8" o similar, desagüe automatico, sifón botella, grapas 2 und, acople). | H20: UND | I20: 1 | J20: =APU!$H$163*N20 -> 499765.02 | K20: =ROUND(J20*I20,0) -> 499765 | N20: =$N$12 -> 1.4355 | O20: =J20/$N$12 -> 348147 | P20: =O20*I20 -> 348147
D21: 015.004 | G21: SUMINISTRO, TRANSPORTE E INSTALACION SANITARIO Tipo MONTECARLO REDONDO Color Blanco Ref. 02618100-1 Tipo Corona o Similar. (conjunto sanitario que incluye sanitario one piece, tapa, griferia, accesorios de conexión e instalación.) | H21: UND | I21: 1 | J21: =APU!$H$156*N21 -> 1021371.2 | K21: =ROUND(J21*I21,0) -> 1021371 | N21: =$N$12 -> 1.4355 | O21: =J21/$N$12 -> 711509 | P21: =O21*I21 -> 711509
C22: 022 | G22: ASEO GENERAL Y LIMPIEZA | N22: =$N$12 -> 1.4355 | O22: =J22/$N$12 -> 0 | P22: =O22*I22 -> 0
C23: 022.001 | D23: - | G23: ASEO GENERAL | H23: M2 | I23: 80 | J23: =+APU!$H$446*N23 -> 4319.4195 | K23: =ROUND(J23*I23,0) -> 345554 | M23: 2 | N23: =$N$12 -> 1.4355 | O23: =J23/$N$12 -> 3009 | P23: =O23*I23 -> 240720
C24: 030.002 | G24: JORNAL AYUDANTE | H24: DIA | I24: 5 | J24: =+APU!$H$450*N24 -> 105629.83 | K24: =ROUND(J24*I24,0) -> 528149 | N24: =$N$12 -> 1.4355 | O24: =J24/$N$12 -> 73584 | P24: =O24*I24 -> 367920
C25: Subtotal | K25: =SUM(K13:K24) -> 6555076 | N25: =$N$12 -> 1.4355 | O25: =J25/$N$12 -> 0 | P25: =O25*I25 -> 0 | Q25: =SUM(P11:P24) -> 4566406 | R25: =+K25*N25 -> 9409811.6 | S25: =+Q25-R25 -> -4843405.6
C26: CAI OLAYA | N26: =$N$12 -> 1.4355 | O26: =J26/$N$12 -> 0 | P26: =O26*I26 -> 0
C27: 019 | E27: PINTURA | G27: PINTURA | N27: =$N$12 -> 1.4355 | O27: =J27/$N$12 -> 0 | P27: =O27*I27 -> 0
D28: 019.001 | G28: SUMINISTRO, TRANSPORTE E INSTALACION ESTUCO Y VINILO 3 MANOS SOBRE MURO INTERIOR (INCLUYE ESTUCO, 1 MANO EN PINTURA TIPO 2 Y DOS MANOS EN PINTURA TIPO 1, FILOS Y DILATACIONES). COLOR SEGÚN DISEÑO POR M2 | H28: M2 | I28: 37 | J28: =APU!$H$207*N28 -> 33490.215 | K28: =ROUND(J28*I28,0) -> 1239138 | N28: =$N$12 -> 1.4355 | O28: =J28/$N$12 -> 23330 | P28: =O28*I28 -> 863210
D29: 019.007 | G29: SUMINISTRO, TRANSPORTE E INSTALACION ESTUCO Y VINILO 3 MANOS BAJO PLACA INTERIOR (INCLUYE ESTUCO, 1 MANO EN PINTURA TIPO 2 Y DOS MANOS EN PINTURA TIPO 1, FILOS Y DILATACIONES). COLOR SEGÚN DISEÑO. | H29: M2 | I29: 30 | J29: =APU!$H$229*N29 -> 34922.844 | K29: =ROUND(J29*I29,0) -> 1047685 | N29: =$N$12 -> 1.4355 | O29: =J29/$N$12 -> 24328 | P29: =O29*I29 -> 729840
D30: 19014 | G30: SUMINISTRO, TRANSPORTE E INSTALACION ESTUCO Y PINTURA TIPO KORAZA O SIMILAR 3 MANOS FACHADAS (INCLUYE ESTUCO, 1 MANO EN PINTURA TIPO 2 Y DOS MANOS EN PINTURA TIPO KORAZA O SIMILAR, FILOS Y DILATACIONES). COLOR SEGÚN DISEÑO. | H30: M2 | I30: 48 | J30: =APU!$H$249*N30 -> 39100.149 | K30: =ROUND(J30*I30,0) -> 1876807 | N30: =$N$12 -> 1.4355 | O30: =J30/$N$12 -> 27238 | P30: =O30*I30 -> 1307424
C31: 028 | E31: PINTURA | G31: DESMONTES | N31: =$N$12 -> 1.4355 | O31: =J31/$N$12 -> 0 | P31: =O31*I31 -> 0
D32: 028.005 | G32: DESMONTE APARATOS SANITARIOS | H32: UND | I32: 2 | J32: =APU!$H$302*N32 -> 73666.989 | K32: =ROUND(J32*I32,0) -> 147334 | N32: =$N$12 -> 1.4355 | O32: =J32/$N$12 -> 51318 | P32: =O32*I32 -> 102636
C33: 08B | E33: PINTURA | G33: INSTALACIONES ELECTRICAS - REDES INTERNAS | N33: =$N$12 -> 1.4355 | O33: =J33/$N$12 -> 0 | P33: =O33*I33 -> 0
D34: 08B.304 | G34: DESMONTE DE LÁMPARAS DE SOBREPONER, INCRUSTAR O SIMILAR. ALTURA < 3 METROS (INCLUYE ESCALERA CERTIFICADA) | H34: UND | I34: 3 | J34: =APU!$H$56*N34 -> 32445.171 | K34: =ROUND(J34*I34,0) -> 97336 | N34: =$N$12 -> 1.4355 | O34: =J34/$N$12 -> 22602 | P34: =O34*I34 -> 67806
D35: 08B.303 | G35: SUMINISTRO, TRANSPORTE E INSTALACION DE LUMINARIA DE SOBREPONER TIPO BALA PANEL LED REDONDO, 24W BLANCO OPAL. INCLUYE DRIVER SC | H35: UND | I35: 3 | J35: =APU!$H$48*N35 -> 83724.102 | K35: =ROUND(J35*I35,0) -> 251172 | N35: =$N$12 -> 1.4355 | O35: =J35/$N$12 -> 58324 | P35: =O35*I35 -> 174972
C36: 015 | E36: PINTURA | G36: APARATOS SANITARIOS | N36: =$N$12 -> 1.4355 | O36: =J36/$N$12 -> 0 | P36: =O36*I36 -> 0
D37: 015.013 | G37: SUMINISTRO, TRANSPORTE E INSTALACION LAVAMANOS SOBREPONER Linea MARSELLA Color Blanco Ref. 13011000 Tipo Corona o Similar. (Incluye conjunto griferia tipo galaxia 8" o similar, desagüe automatico, sifón botella, grapas 2 und, acople). | H37: UND | I37: 1 | J37: =APU!$H$163*N37 -> 499765.02 | K37: =ROUND(J37*I37,0) -> 499765 | N37: =$N$12 -> 1.4355 | O37: =J37/$N$12 -> 348147 | P37: =O37*I37 -> 348147
D38: 015.004 | G38: SUMINISTRO, TRANSPORTE E INSTALACION SANITARIO Tipo MONTECARLO REDONDO Color Blanco Ref. 02618100-1 Tipo Corona o Similar. (conjunto sanitario que incluye sanitario one piece, tapa, griferia, accesorios de conexión e instalación.) | H38: UND | I38: 1 | J38: =APU!$H$156*N38 -> 1021371.2 | K38: =ROUND(J38*I38,0) -> 1021371 | N38: =$N$12 -> 1.4355 | O38: =J38/$N$12 -> 711509 | P38: =O38*I38 -> 711509
C39: 016 | E39: PINTURA | G39: CARPINTERIA EN MADERA | N39: =$N$12 -> 1.4355 | O39: =J39/$N$12 -> 0 | P39: =O39*I39 -> 0
D40: 016.017 | G40: SUMINISTRO, TRANSPORTE E INSTALACION DE MUEBLE BAJO MESON ANCHO: 0.60 M. CON FACHADA: MADECOR 19 MM. INTERIOR: MADECOR 15 MM. TIPO PIZANO O SIMILAR. ACABADO: SEGÚN PINTA SELECCIONADA DE CARTA COLORES MADECOR. (INCLUYE HOJAS PARA PUERTAS CON 2 RANURAS HORIZONTALES PINTADAS Y CON MARQUETE EN CANTO DECORATIVO. INTERIOR CON UN (1) ENTREPAÑO, TAPA SOBRE EL POYO DEL MUEBLE, HERRAJES, MANIJAS, SUMINISTRO DE TODOS LOS ACCESORIOS NECESARIOS PARA GARANTIZAR UNA CORRECTA INSTALACIÓN). | H40: M2 | I40: 4 | J40: =APU!$H$173*N40 -> 682504.17 | K40: =ROUND(J40*I40,0) -> 2730017 | N40: =$N$12 -> 1.4355 | O40: =J40/$N$12 -> 475447 | P40: =O40*I40 -> 1901788
C41: 022 | G41: ASEO GENERAL Y LIMPIEZA | N41: =$N$12 -> 1.4355 | O41: =J41/$N$12 -> 0 | P41: =O41*I41 -> 0
C42: 022.001 | D42: - | G42: ASEO GENERAL | H42: M2 | I42: 35 | J42: =+APU!$H$446*N42 -> 4319.4195 | K42: =ROUND(J42*I42,0) -> 151180 | N42: =$N$12 -> 1.4355 | O42: =J42/$N$12 -> 3009 | P42: =O42*I42 -> 105315
C43: 030.002 | G43: JORNAL AYUDANTE | H43: DIA | I43: 5 | J43: =+APU!$H$450*N43 -> 105629.83 | K43: =ROUND(J43*I43,0) -> 528149 | N43: =$N$12 -> 1.4355 | O43: =J43/$N$12 -> 73584 | P43: =O43*I43 -> 367920
...

Sheet CONSOLIDADO CAI
F2: =#REF! -> #REF!
B3: DEPENDENCIA | C3: PROPIEDAD | D3: ESTADO | E3: COSTO DIRECTO | F3: COSTO TOTAL AU
B4: Estación de policía Manizales | C4: ALCALDIA DE MANIZALES
B5: Estación de policía Ciudadela Del Norte | C5: ALCALDIA DE MANIZALES
B6: Estación de policía Terminal | C6: POLICÍA
B7: Estación de policía Aeropuerto | C7: INFI-CALDAS
B8: Estación de policía Cuchilla Del Salado | C8: ALCALDIA DE MANIZALES | D8: TERMINADO | E8: ='PRESUPUESTO CAI'!K353 -> 45529704 | F8: =$E8*$F2 -> #REF!
B9: Subestación de policía Villaneria | C9: POLICÍA
B10: Subestación de policía San Peregrino | C10: ALCALDIA DE MANIZALES | D10: TERMINADO | E10: ='PRESUPUESTO CAI'!K470 -> 32051945 | F10: =F2*E10 -> #REF!
B11: Subestación de policía La Linda | C11: JAC LA LINDA
B12: Subestación de policía La Violeta | C12: JAC LA VIOLETA
B13: Subestación de policía Alto Lisboa | C13: JAC LISBOA
B14: Subestación de policía La Cabaña | C14: ALCALDIA DE MANIZALES
B15: Subestación de policía Alto Bonito | C15: ALCALDIA DE MANIZALES | D15: TERMINADO | E15: ='PRESUPUESTO CAI'!K520 -> 29867165 | F15: =F2*E15 -> #REF!
B16: Subestación de policía Malteria | C16: ALCALDIA DE MANIZALES | D16: TERMINADO | E16: ='PRESUPUESTO CAI'!K286 -> 32290527 | F16: =F2*E16 -> #REF!
B17: Subestación de policía Tres Puertas | C17: SUCESORES LIBORIO
B18: Subestación de policía Alto Tablazo | C18: ALCALDIA DE MANIZALES | D18: TERMINADO | E18: ='PRESUPUESTO CAI'!K500 -> 33963362 | F18: =$E18*$F2 -> #REF!
B19: Subestación de policía Las Pavas | C19: ALCALDIA DE MANIZALES | D19: TERMINADO | E19: ='PRESUPUESTO CAI'!K309 -> 35738268
B20: Subestación de policía Alto De Letras | C20: ALCALDIA HERVEO
B21: Subestación de policía KM 41 | C21: ALCALDIA DE MANIZALES | D21: TERMINADO | E21: ='PRESUPUESTO CAI'!K539 -> 20355466 | F21: =F2*E21 -> #REF!
B22: CAI Carmen | C22: ALCALDIA DE MANIZALES | D22: TERMINADO | E22: ='PRESUPUESTO CAI'!K423 -> 7520145.7 | F22: =E22*F2 -> #REF!
B23: CAI Villahermosa | C23: ALCALDIA DE MANIZALES | D23: TERMINADO | E23: ='PRESUPUESTO CAI'!K25 -> 6555076 | F23: =E23*F2 -> #REF!
B24: CAI Olaya | C24: ALCALDIA DE MANIZALES | D24: TERMINADO | E24: ='PRESUPUESTO CAI'!K44 -> 9589954 | F24: =E24*F2 -> #REF!
B25: CAI Samaria | C25: ALCALDIA DE MANIZALES | D25: TERMINADO | E25: ='PRESUPUESTO CAI'!K63 -> 8012060 | F25: =E25*F2 -> #REF!
B26: CAI Alfonso Lopez | C26: ALCALDIA DE MANIZALES | D26: TERMINADO | E26: ='PRESUPUESTO CAI'!K442 -> 9298452 | F26: =E26*F2 -> #REF!
B27: CAI Aranjuez | C27: ALCALDIA DE MANIZALES | D27: TERMINADO | E27: ='PRESUPUESTO CAI'!K86 -> 12444736 | F27: =E27*F2 -> #REF!
B28: CAI Chipre | C28: ALCALDIA DE MANIZALES | D28: TERMINADO | E28: ='PRESUPUESTO CAI'!K397 -> 11137418 | F28: =E28*F2 -> #REF!
B29: CAI Fatima | C29: ALCALDIA DE MANIZALES | D29: TERMINADO | E29: ='PRESUPUESTO CAI'!K218 -> 21718768 | F29: =E29*F2 -> #REF!
B30: CAI Galán | C30: ALCALDIA DE MANIZALES | D30: TERMINADO | E30: ='PRESUPUESTO CAI'!K381 -> 30807574 | F30: =E30*F2 -> #REF!
B31: CAI San Sebastián | C31: ALCALDIA DE MANIZALES | D31: TERMINADO | E31: ='PRESUPUESTO CAI'!K100 -> 6343590 | F31: =E31*F2 -> #REF!
B32: CAI Estambul | C32: ALCALDIA DE MANIZALES | D32: TERMINADO | E32: ='PRESUPUESTO CAI'!K265 -> 13350055 | F32: =E32*F2 -> #REF!
B33: CAI Campin | C33: ALCALDIA DE MANIZALES | D33: TERMINADO | E33: ='PRESUPUESTO CAI'!K114 -> 5833231 | F33: =E33*F2 -> #REF!
B34: CAI Liborio | C34: ALCALDIA DE MANIZALES | D34: TERMINADO | E34: ='PRESUPUESTO CAI'!K328 -> 9298452 | F34: =E34*F2 -> #REF!
B35: CAI Leonora | C35: ALCALDIA DE MANIZALES | D35: TERMINADO | E35: ='PRESUPUESTO CAI'!#REF! -> #REF! | F35: =E35*F2 -> #REF!
B36: CAI Enea | C36: ALCALDIA DE MANIZALES | D36: TERMINADO | E36: ='PRESUPUESTO CAI'!K238 -> 13940963 | F36: =E36*F2 -> #REF!
B37: CAI Sultana | C37: ALCALDIA DE MANIZALES | D37: TERMINADO | E37: ='PRESUPUESTO CAI'!K142 -> 11321161 | F37: =E37*F2 -> #REF!
B38: CAI Nevado | C38: MINISTERIO DE VIVIENDA
B39: CAI Terraza | C39: INFI MANIZALES
B40: CAI Centro | C40: INFI MANIZALES
B41: CAI Florida | C41: ALCALDIA DE VILLAMARIA
...

Sheet CONSOLIDADO INSPECCIONES
G2: =#REF! -> #REF!
B3: N | C3: Dependencia | D3: Necedidades | E3: Estado | F3: COSTO DIRECTO | G3: COSTO TOTAL AU
B4: 1 | C4: Inspeccion 1 | D4: moviliario y computo | E4: no se requirio | F4: no
B5: 2 | C5: Inspeccion 2 | D5: reparaciones locativas | E5: terminado | F5: 3962290 | G5: =F5*G2 -> #REF!
B6: 3 | C6: Inspeccion 3 | D6: moviliario y computo | E6: no se requirio | F6: no
B7: 4 | C7: Inspeccion 4 | D7: reparaciones locativas | E7: terminado | F7: =#REF! -> #REF! | G7: =F7*G2 -> #REF!
B8: 5 | C8: Inspeccion 5 | D8: reparaciones locativas | E8: terminado | F8: =#REF! -> #REF! | G8: =F8*G2 -> #REF!
B9: 6 | C9: Inspeccion 6 | D9: moviliario y computo | E9: no se requirio | F9: no
B10: 7 | C10: Inspeccion 7 | D10: reparaciones locativas | E10: terminado | F10: =#REF! -> #REF! | G10: =F10*G2 -> #REF!
B11: 8 | C11: Inspeccion 8 | D11: reparaciones locativas | E11: terminado | F11: =#REF! -> #REF! | G11: =F11*G2 -> #REF!
B12: 9 | C12: Inspeccion 9 | D12: moviliario y computo | E12: no se requirio
B13: 10 | C13: Inspeccion 10 | D13: reparaciones locativas | E13: no se requirio
B14: 11 | C14: Inspeccion 11 | D14: reparaciones locativas | E14: terminado | F14: =#REF! -> #REF! | G14: =F14*G2 -> #REF!
B15: 12 | C15: Inspeccion 12 | D15: moviliario y computo | E15: no se requirio | F15: no
B16: 13 | C16: Inspeccion Permanente
B17: 14 | C17: Corregimiento Colombia | D17: reparaciones locativas | E17: terminado | F17: =#REF! -> #REF! | G17: =F17*G2 -> #REF!
B18: 15 | C18: Corregimiento Rio Blanco | D18: reparaciones locativas | E18: terminado | F18: Contempldo en inspeccion 11
B19: 16 | C19: Corregimiento Panorama | D19: reparaciones locativas | E19: terminado | F19: 580653 | G19: =F19*G2 -> #REF!
B20: 17 | C20: Corregimiento Remanso | D20: moviliario y computo | E20: no se requirio
B21: 18 | C21: Corregimiento Tablazo | D21: moviliario y computo | E21: no se requirio | F21: Contempldo en comisaria 2
B22: 19 | C22: Comisaria 1 | E22: terminado | F22: =#REF! -> #REF! | G22: =F22*G2 -> #REF!
B23: 20 | C23: Comisaria 2 | E23: terminado | F23: =#REF! -> #REF! | G23: =F23*G2 -> #REF!
B24: 21 | C24: Comisaria 3 | E24: no se requirio | F24: no
B25: 22 | C25: Comisaria 4 | E25: no se requirio | F25: no
B26: 23 | C26: UPV | D26: reparaciones locativas | E26: terminado | F26: 7066263 | G26: =F26*G2 -> #REF!
B27: 24 | C27: Unidad de victimas | E27: por visitar | F27: =#REF! -> #REF! | G27: =F27*G2 -> #REF!
B28: 25 | C28: Inspeccion Pesas y Medidas | E28: terminado | F28: =#REF! -> #REF! | G28: =F28*G2 -> #REF!
B29: 26 | C29: Despacho | E29: por visitar | F29: no
B30: 27 | C30: PPL | E30: terminado | F30: =#REF! -> #REF! | G30: =F30*G2 -> #REF!
F31: =F30+F28+F27+F26+F23+F22+F17+F14+F11+F10+F8+F7+F5 -> #REF! | G31: =#REF! -> #REF!
