Workbook

Sheet Indicadores financieros
D1: CAPACIDAD FINANCIERA (CF) | H1: CAPACIDAD ORGANIZACIONAL (CO)
B2: NIT | C2: Razón social de la sociedad | D2: Índice de liquidez | E2: Índice de endeudamiento | F2: Razón de cobertura de intereses | G2: Capital de trabajo | H2: Rentabilidad sobre el patrimonio (RP) | I2: Rentabilidad sobre activos (RA)
B3: 810002618 | C3: INGENIEROS CALDERON Y JARAMILLO SAS | D3: ='Estado de situacion financiera'!V3/'Estado de situacion financiera'!AX3 -> 1.2280029 | G3: ='Estado de situacion financiera'!V3-'Estado de situacion financiera'!AX3 -> 2178796 | H3: ='Estado de resultado integral'!U3/'Estado de situacion financiera'!BR3 -> 1.6456208 | I3: ='Estado de resultado integral'!U3/'Estado de situacion financiera'!AL3 -> 0.48100492
B4: 800000296 | C4: ZR INGENIERIA SA | D4: ='Estado de situacion financiera'!V4/'Estado de situacion financiera'!AX4 -> 21.808157 | E4: ='Estado de situacion financiera'!BI3/'Estado de situacion financiera'!AL3 -> 0.70770611 | G4: ='Estado de situacion financiera'!V4-'Estado de situacion financiera'!AX4 -> 2323418 | H4: ='Estado de resultado integral'!U4/'Estado de situacion financiera'!BR4 -> -0.011608405 | I4: ='Estado de resultado integral'!U4/'Estado de situacion financiera'!AL4 -> -0.0062793119
B5: 800009612 | C5: JUAN HARKERS SAS | D5: ='Estado de situacion financiera'!V5/'Estado de situacion financiera'!AX5 -> 7.0497271 | E5: ='Estado de situacion financiera'!BI4/'Estado de situacion financiera'!AL4 -> 0.45907195 | G5: ='Estado de situacion financiera'!V5-'Estado de situacion financiera'!AX5 -> 290399 | H5: ='Estado de resultado integral'!U5/'Estado de situacion financiera'!BR5 -> 0.011853945 | I5: ='Estado de resultado integral'!U5/'Estado de situacion financiera'!AL5 -> 0.010175242
B6: 800012888 | C6: SOFAN INGENIERIA SAS | D6: ='Estado de situacion financiera'!V6/'Estado de situacion financiera'!AX6 -> 4.5796243 | E6: ='Estado de situacion financiera'!BI5/'Estado de situacion financiera'!AL5 -> 0.14161553 | F6: ='Estado de resultado integral'!U6/'Estado de resultado integral'!W6 -> 5.2425689 | G6: ='Estado de situacion financiera'!V6-'Estado de situacion financiera'!AX6 -> 12274403 | H6: ='Estado de resultado integral'!U6/'Estado de situacion financiera'!BR6 -> 0.18766724 | I6: ='Estado de resultado integral'!U6/'Estado de situacion financiera'!AL6 -> 0.10830839
B7: 800015079 | C7: ESGUERRA Y GOMEZ SAS | D7: ='Estado de situacion financiera'!V7/'Estado de situacion financiera'!AX7 -> 2.1847046 | E7: ='Estado de situacion financiera'!BI6/'Estado de situacion financiera'!AL6 -> 0.42287005 | G7: ='Estado de situacion financiera'!V7-'Estado de situacion financiera'!AX7 -> 957034 | H7: ='Estado de resultado integral'!U7/'Estado de situacion financiera'!BR7 -> -0.060145292 | I7: ='Estado de resultado integral'!U7/'Estado de situacion financiera'!AL7 -> -0.028993681
B8: 800016281 | C8: CONSTRUCCIONES CIVILES Y PAVIMENTOS S.A.S | D8: ='Estado de situacion financiera'!V8/'Estado de situacion financiera'!AX8 -> 3.6964785 | E8: ='Estado de situacion financiera'!BI7/'Estado de situacion financiera'!AL7 -> 0.51793931 | F8: ='Estado de resultado integral'!U8/'Estado de resultado integral'!W8 -> 1.432637 | G8: ='Estado de situacion financiera'!V8-'Estado de situacion financiera'!AX8 -> 14267855 | H8: ='Estado de resultado integral'!U8/'Estado de situacion financiera'!BR8 -> 0.021210598 | I8: ='Estado de resultado integral'!U8/'Estado de situacion financiera'!AL8 -> 0.016083116
B9: 800019654 | C9: ESGAMO INGENIEROS CONSTRUCTORES S.A.S | D9: ='Estado de situacion financiera'!V9/'Estado de situacion financiera'!AX9 -> 3.7844421 | E9: ='Estado de situacion financiera'!BI8/'Estado de situacion financiera'!AL8 -> 0.24174149 | G9: ='Estado de situacion financiera'!V9-'Estado de situacion financiera'!AX9 -> 5451804 | H9: ='Estado de resultado integral'!U9/'Estado de situacion financiera'!BR9 -> -0.039323361 | I9: ='Estado de resultado integral'!U9/'Estado de situacion financiera'!AL9 -> -0.0263074
B10: 800032838 | C10: CONSTRUCTORA BG SAS | D10: ='Estado de situacion financiera'!V10/'Estado de situacion financiera'!AX10 -> 45.71915 | E10: ='Estado de situacion financiera'!BI9/'Estado de situacion financiera'!AL9 -> 0.33099819 | F10: ='Estado de resultado integral'!U10/'Estado de resultado integral'!W10 -> 41.110261 | G10: ='Estado de situacion financiera'!V10-'Estado de situacion financiera'!AX10 -> 3064022 | H10: ='Estado de resultado integral'!U10/'Estado de situacion financiera'!BR10 -> 0.017039625 | I10: ='Estado de resultado integral'!U10/'Estado de situacion financiera'!AL10 -> 0.011548041
B11: 800041077 | C11: JORGE USCATEGUI Y ASOCIADOS LTDA | D11: ='Estado de situacion financiera'!V11/'Estado de situacion financiera'!AX11 -> 3.4389896 | E11: ='Estado de situacion financiera'!BI10/'Estado de situacion financiera'!AL10 -> 0.32228313 | G11: ='Estado de situacion financiera'!V11-'Estado de situacion financiera'!AX11 -> 669249 | H11: ='Estado de resultado integral'!U11/'Estado de situacion financiera'!BR11 -> 0.18493277 | I11: ='Estado de resultado integral'!U11/'Estado de situacion financiera'!AL11 -> 0.13987293
B12: 800042119 | C12: VICPAR S A | D12: ='Estado de situacion financiera'!V12/'Estado de situacion financiera'!AX12 -> 1.5862867 | E12: ='Estado de situacion financiera'!BI11/'Estado de situacion financiera'!AL11 -> 0.24365524 | F12: ='Estado de resultado integral'!U12/'Estado de resultado integral'!W12 -> 0.84134339 | G12: ='Estado de situacion financiera'!V12-'Estado de situacion financiera'!AX12 -> 4557524 | H12: ='Estado de resultado integral'!U12/'Estado de situacion financiera'!BR12 -> 0.045688599 | I12: ='Estado de resultado integral'!U12/'Estado de situacion financiera'!AL12 -> 0.030264423
B13: 800043769 | C13: SERVICIOS DE DRAGADOS Y CONSTRUCCIONES SAS | D13: ='Estado de situacion financiera'!V13/'Estado de situacion financiera'!AX13 -> 4.1158298 | E13: ='Estado de situacion financiera'!BI12/'Estado de situacion financiera'!AL12 -> 0.33759354 | F13: ='Estado de resultado integral'!U13/'Estado de resultado integral'!W13 -> 2.2689771 | G13: ='Estado de situacion financiera'!V13-'Estado de situacion financiera'!AX13 -> 6296148 | H13: ='Estado de resultado integral'!U13/'Estado de situacion financiera'!BR13 -> 0.14432406 | I13: ='Estado de resultado integral'!U13/'Estado de situacion financiera'!AL13 -> 0.083176058
B14: 800043977 | C14: COZADEL SAS | D14: ='Estado de situacion financiera'!V14/'Estado de situacion financiera'!AX14 -> 1.070716 | E14: ='Estado de situacion financiera'!BI13/'Estado de situacion financiera'!AL13 -> 0.42368544 | F14: ='Estado de resultado integral'!U14/'Estado de resultado integral'!W14 -> 1.109939 | G14: ='Estado de situacion financiera'!V14-'Estado de situacion financiera'!AX14 -> 859291 | H14: ='Estado de resultado integral'!U14/'Estado de situacion financiera'!BR14 -> 0.66907468 | I14: ='Estado de resultado integral'!U14/'Estado de situacion financiera'!AL14 -> 0.074239136
B15: 800044735 | C15: SERVI-METAL SAS | D15: ='Estado de situacion financiera'!V15/'Estado de situacion financiera'!AX15 -> 2.7737484 | E15: ='Estado de situacion financiera'!BI14/'Estado de situacion financiera'!AL14 -> 0.88904208 | F15: ='Estado de resultado integral'!U15/'Estado de resultado integral'!W15 -> 8.2972705 | G15: ='Estado de situacion financiera'!V15-'Estado de situacion financiera'!AX15 -> 2925085 | H15: ='Estado de resultado integral'!U15/'Estado de situacion financiera'!BR15 -> 0.078857404 | I15: ='Estado de resultado integral'!U15/'Estado de situacion financiera'!AL15 -> 0.056409526
B16: 800045199 | C16: CONSTRUDISEÑOS AGROEQUIPOS COMERCIAL CONACOM SAS | D16: ='Estado de situacion financiera'!V16/'Estado de situacion financiera'!AX16 -> 2.1249223 | E16: ='Estado de situacion financiera'!BI15/'Estado de situacion financiera'!AL15 -> 0.28466418 | F16: ='Estado de resultado integral'!U16/'Estado de resultado integral'!W16 -> 6.0216766 | G16: ='Estado de situacion financiera'!V16-'Estado de situacion financiera'!AX16 -> 1705326 | H16: ='Estado de resultado integral'!U16/'Estado de situacion financiera'!BR16 -> 0.13004034 | I16: ='Estado de resultado integral'!U16/'Estado de situacion financiera'!AL16 -> 0.089295973
B17: 800049960 | C17: TECNITENQUES INGENIEROS S.AS. EN REORGANIZACION | D17: ='Estado de situacion financiera'!V17/'Estado de situacion financiera'!AX17 -> 1.5238718 | E17: ='Estado de situacion financiera'!BI16/'Estado de situacion financiera'!AL16 -> 0.313321 | F17: ='Estado de resultado integral'!U17/'Estado de resultado integral'!W17 -> 14.125877 | G17: ='Estado de situacion financiera'!V17-'Estado de situacion financiera'!AX17 -> 11911111 | H17: ='Estado de resultado integral'!U17/'Estado de situacion financiera'!BR17 -> 0.093303756 | I17: ='Estado de resultado integral'!U17/'Estado de situacion financiera'!AL17 -> 0.050363122
B18: 800050326 | C18: IOV Y CIA S.A.S | D18: ='Estado de situacion financiera'!V18/'Estado de situacion financiera'!AX18 -> 1.7671139 | E18: ='Estado de situacion financiera'!BI17/'Estado de situacion financiera'!AL17 -> 0.46022407 | G18: ='Estado de situacion financiera'!V18-'Estado de situacion financiera'!AX18 -> 891216 | H18: ='Estado de resultado integral'!U18/'Estado de situacion financiera'!BR18 -> 0.024313437 | I18: ='Estado de resultado integral'!U18/'Estado de situacion financiera'!AL18 -> 0.015895289
B19: 800050699 | C19: ALEMAN BELLO S.A.S. | D19: ='Estado de situacion financiera'!V19/'Estado de situacion financiera'!AX19 -> 3.1098105 | E19: ='Estado de situacion financiera'!BI18/'Estado de situacion financiera'!AL18 -> 0.34623438 | G19: ='Estado de situacion financiera'!V19-'Estado de situacion financiera'!AX19 -> 2779956 | H19: ='Estado de resultado integral'!U19/'Estado de situacion financiera'!BR19 -> 0.054093576 | I19: ='Estado de resultado integral'!U19/'Estado de situacion financiera'!AL19 -> 0.027620445
B20: 800055215 | C20: Valores Rivera Vergara SAS | D20: ='Estado de situacion financiera'!V20/'Estado de situacion financiera'!AX20 -> 2.9422275 | E20: ='Estado de situacion financiera'!BI19/'Estado de situacion financiera'!AL19 -> 0.48939509 | G20: ='Estado de situacion financiera'!V20-'Estado de situacion financiera'!AX20 -> 2348829 | H20: ='Estado de resultado integral'!U20/'Estado de situacion financiera'!BR20 -> 0.60178598 | I20: ='Estado de resultado integral'!U20/'Estado de situacion financiera'!AL20 -> 0.39195324
B21: 800055393 | C21: INTRICON SA | D21: ='Estado de situacion financiera'!V21/'Estado de situacion financiera'!AX21 -> 10.024338 | E21: ='Estado de situacion financiera'!BI20/'Estado de situacion financiera'!AL20 -> 0.34868333 | F21: ='Estado de resultado integral'!U21/'Estado de resultado integral'!W21 -> 5.561823 | G21: ='Estado de situacion financiera'!V21-'Estado de situacion financiera'!AX21 -> 15221604 | H21: ='Estado de resultado integral'!U21/'Estado de situacion financiera'!BR21 -> 0.079148642 | I21: ='Estado de resultado integral'!U21/'Estado de situacion financiera'!AL21 -> 0.030721781
B22: 800056653 | C22: GAVIRIA Y BORBON ASOCIADOS LTDA | D22: ='Estado de situacion financiera'!V22/'Estado de situacion financiera'!AX22 -> 2.6752062 | E22: ='Estado de situacion financiera'!BI21/'Estado de situacion financiera'!AL21 -> 0.61184703 | G22: ='Estado de situacion financiera'!V22-'Estado de situacion financiera'!AX22 -> 965810 | H22: ='Estado de resultado integral'!U22/'Estado de situacion financiera'!BR22 -> 0.068080147 | I22: ='Estado de resultado integral'!U22/'Estado de situacion financiera'!AL22 -> 0.024862171
B23: 800063392 | C23: Alfa SAIT S.A.S.BIC | D23: ='Estado de situacion financiera'!V23/'Estado de situacion financiera'!AX23 -> 1.5261612 | E23: ='Estado de situacion financiera'!BI22/'Estado de situacion financiera'!AL22 -> 0.63481026 | F23: ='Estado de resultado integral'!U23/'Estado de resultado integral'!W23 -> 6.1890194 | G23: ='Estado de situacion financiera'!V23-'Estado de situacion financiera'!AX23 -> 2025802 | H23: ='Estado de resultado integral'!U23/'Estado de situacion financiera'!BR23 -> 0.34540752 | I23: ='Estado de resultado integral'!U23/'Estado de situacion financiera'!AL23 -> 0.13857194
B24: 800067647 | C24: Colserpetrol SAS | D24: ='Estado de situacion financiera'!V24/'Estado de situacion financiera'!AX24 -> 4.1424736 | E24: ='Estado de situacion financiera'!BI23/'Estado de situacion financiera'!AL23 -> 0.5988161 | G24: ='Estado de situacion financiera'!V24-'Estado de situacion financiera'!AX24 -> 6859429 | H24: ='Estado de resultado integral'!U24/'Estado de situacion financiera'!BR24 -> 0.017414236 | I24: ='Estado de resultado integral'!U24/'Estado de situacion financiera'!AL24 -> 0.013986395
B25: 800071658 | C25: SOCIEDAD CONSTRUCTORA DE PROECTOS SAS | D25: ='Estado de situacion financiera'!V25/'Estado de situacion financiera'!AX25 -> 3.6084043 | E25: ='Estado de situacion financiera'!BI24/'Estado de situacion financiera'!AL24 -> 0.19684129 | F25: ='Estado de resultado integral'!U25/'Estado de resultado integral'!W25 -> 4.229436 | G25: ='Estado de situacion financiera'!V25-'Estado de situacion financiera'!AX25 -> 2460333 | H25: ='Estado de resultado integral'!U25/'Estado de situacion financiera'!BR25 -> 0.090812733 | I25: ='Estado de resultado integral'!U25/'Estado de situacion financiera'!AL25 -> 0.057280214
B26: 800071993 | C26: MANSER INGENIERIA SAS | D26: ='Estado de situacion financiera'!V26/'Estado de situacion financiera'!AX26 -> 111.11318 | E26: ='Estado de situacion financiera'!BI25/'Estado de situacion financiera'!AL25 -> 0.36924908 | G26: ='Estado de situacion financiera'!V26-'Estado de situacion financiera'!AX26 -> 4001623 | H26: ='Estado de resultado integral'!U26/'Estado de situacion financiera'!BR26 -> -0.016196677 | I26: ='Estado de resultado integral'!U26/'Estado de situacion financiera'!AL26 -> -0.013959994
B27: 800072941 | C27: INVERSIONES Y CONSTRUCCIONES DONADO SAS | D27: ='Estado de situacion financiera'!V27/'Estado de situacion financiera'!AX27 -> 2.1447968 | E27: ='Estado de situacion financiera'!BI26/'Estado de situacion financiera'!AL26 -> 0.13809521 | G27: ='Estado de situacion financiera'!V27-'Estado de situacion financiera'!AX27 -> 123353 | H27: ='Estado de resultado integral'!U27/'Estado de situacion financiera'!BR27 -> 0.022096846 | I27: ='Estado de resultado integral'!U27/'Estado de situacion financiera'!AL27 -> 0.014839153
B28: 800075337 | C28: SUELOS INGENIERIA SAS | D28: ='Estado de situacion financiera'!V28/'Estado de situacion financiera'!AX28 -> 2.1623815 | E28: ='Estado de situacion financiera'!BI27/'Estado de situacion financiera'!AL27 -> 0.32844926 | F28: ='Estado de resultado integral'!U28/'Estado de resultado integral'!W28 -> 2.3000167 | G28: ='Estado de situacion financiera'!V28-'Estado de situacion financiera'!AX28 -> 1886143 | H28: ='Estado de resultado integral'!U28/'Estado de situacion financiera'!BR28 -> 0.024709019 | I28: ='Estado de resultado integral'!U28/'Estado de situacion financiera'!AL28 -> 0.009278982
B29: 800075746 | C29: SINFOROSO ROBLEDO Y CIA S.A.S. | D29: ='Estado de situacion financiera'!V29/'Estado de situacion financiera'!AX29 -> 38.295653 | E29: ='Estado de situacion financiera'!BI28/'Estado de situacion financiera'!AL28 -> 0.62446984 | G29: ='Estado de situacion financiera'!V29-'Estado de situacion financiera'!AX29 -> 811628 | H29: ='Estado de resultado integral'!U29/'Estado de situacion financiera'!BR29 -> 0.023152847 | I29: ='Estado de resultado integral'!U29/'Estado de situacion financiera'!AL29 -> 0.022835845
B30: 800075951 | C30: GARPER CONSTRUCCIONES Y MAQUINARIA SAS | D30: ='Estado de situacion financiera'!V30/'Estado de situacion financiera'!AX30 -> 2.7812312 | E30: ='Estado de situacion financiera'!BI29/'Estado de situacion financiera'!AL29 -> 0.013691692 | G30: ='Estado de situacion financiera'!V30-'Estado de situacion financiera'!AX30 -> 222132 | H30: ='Estado de resultado integral'!U30/'Estado de situacion financiera'!BR30 -> -0.018002577 | I30: ='Estado de resultado integral'!U30/'Estado de situacion financiera'!AL30 -> -0.011554185
B31: 800078011 | C31: ICMO SOCIEDAD POR ACCIONES SIMPLIFICADA | D31: ='Estado de situacion financiera'!V31/'Estado de situacion financiera'!AX31 -> 1.4142572 | E31: ='Estado de situacion financiera'!BI30/'Estado de situacion financiera'!AL30 -> 0.35819273 | G31: ='Estado de situacion financiera'!V31-'Estado de situacion financiera'!AX31 -> 5487672 | H31: ='Estado de resultado integral'!U31/'Estado de situacion financiera'!BR31 -> 0.030274556 | I31: ='Estado de resultado integral'!U31/'Estado de situacion financiera'!AL31 -> 0.0079396584
B32: 800078608 | C32: INARCON SAS | D32: ='Estado de situacion financiera'!V32/'Estado de situacion financiera'!AX32 -> 5.8098028 | E32: ='Estado de situacion financiera'!BI31/'Estado de situacion financiera'!AL31 -> 0.73774484 | F32: ='Estado de resultado integral'!U32/'Estado de resultado integral'!W32 -> 20.192679 | G32: ='Estado de situacion financiera'!V32-'Estado de situacion financiera'!AX32 -> 4740306 | H32: ='Estado de resultado integral'!U32/'Estado de situacion financiera'!BR32 -> 0.41619529 | I32: ='Estado de resultado integral'!U32/'Estado de situacion financiera'!AL32 -> 0.24010624
B33: 800079382 | C33: UNION INDUSTRIAL DE BARRANCABERMEJA SAS | D33: ='Estado de situacion financiera'!V33/'Estado de situacion financiera'!AX33 -> 3.2418564 | E33: ='Estado de situacion financiera'!BI32/'Estado de situacion financiera'!AL32 -> 0.42309237 | G33: ='Estado de situacion financiera'!V33-'Estado de situacion financiera'!AX33 -> 1913272 | H33: ='Estado de resultado integral'!U33/'Estado de situacion financiera'!BR33 -> 0.023074034 | I33: ='Estado de resultado integral'!U33/'Estado de situacion financiera'!AL33 -> 0.012698257
B34: 800079482 | C34: EQUIPOS CONSTRUCCIONES Y OBRAS S.A. | D34: ='Estado de situacion financiera'!V34/'Estado de situacion financiera'!AX34 -> 1.8582965 | E34: ='Estado de situacion financiera'!BI33/'Estado de situacion financiera'!AL33 -> 0.44967329 | F34: ='Estado de resultado integral'!U34/'Estado de resultado integral'!W34 -> 11.566312 | G34: ='Estado de situacion financiera'!V34-'Estado de situacion financiera'!AX34 -> 21812877 | H34: ='Estado de resultado integral'!U34/'Estado de situacion financiera'!BR34 -> 0.16275311 | I34: ='Estado de resultado integral'!U34/'Estado de situacion financiera'!AL34 -> 0.082811593
B35: 800085861 | C35: SILVA ARIZA SA | D35: ='Estado de situacion financiera'!V35/'Estado de situacion financiera'!AX35 -> 1.4359332 | E35: ='Estado de situacion financiera'!BI34/'Estado de situacion financiera'!AL34 -> 0.49118273 | F35: ='Estado de resultado integral'!U35/'Estado de resultado integral'!W35 -> 3.4167266 | G35: ='Estado de situacion financiera'!V35-'Estado de situacion financiera'!AX35 -> 2875917 | H35: ='Estado de resultado integral'!U35/'Estado de situacion financiera'!BR35 -> 0.17188351 | I35: ='Estado de resultado integral'!U35/'Estado de situacion financiera'!AL35 -> 0.082791563
B36: 800088443 | C36: ITAC CONSTRUCCIONES SAS | D36: ='Estado de situacion financiera'!V36/'Estado de situacion financiera'!AX36 -> 2.8976124 | E36: ='Estado de situacion financiera'!BI35/'Estado de situacion financiera'!AL35 -> 0.51832749 | G36: ='Estado de situacion financiera'!V36-'Estado de situacion financiera'!AX36 -> 2343779 | H36: ='Estado de resultado integral'!U36/'Estado de situacion financiera'!BR36 -> 0.064696322 | I36: ='Estado de resultado integral'!U36/'Estado de situacion financiera'!AL36 -> 0.036373216
B37: 800089032 | C37: ANDINA POZOS LTDA | D37: ='Estado de situacion financiera'!V37/'Estado de situacion financiera'!AX37 -> 8.2260934 | E37: ='Estado de situacion financiera'!BI36/'Estado de situacion financiera'!AL36 -> 0.43778541 | F37: ='Estado de resultado integral'!U37/'Estado de resultado integral'!W37 -> 3.0792683 | G37: ='Estado de situacion financiera'!V37-'Estado de situacion financiera'!AX37 -> 9748000 | H37: ='Estado de resultado integral'!U37/'Estado de situacion financiera'!BR37 -> 0.042125459 | I37: ='Estado de resultado integral'!U37/'Estado de situacion financiera'!AL37 -> 0.037864587
B38: 800089623 | C38: CORROSION Y SERVICIOS SAS | D38: ='Estado de situacion financiera'!V38/'Estado de situacion financiera'!AX38 -> 7.8093891 | E38: ='Estado de situacion financiera'!BI37/'Estado de situacion financiera'!AL37 -> 0.10114718 | F38: ='Estado de resultado integral'!U38/'Estado de resultado integral'!W38 -> 0.34677831 | G38: ='Estado de situacion financiera'!V38-'Estado de situacion financiera'!AX38 -> 3183546 | H38: ='Estado de resultado integral'!U38/'Estado de situacion financiera'!BR38 -> 0.021344269 | I38: ='Estado de resultado integral'!U38/'Estado de situacion financiera'!AL38 -> 0.016725109
B39: 800092242 | C39: CABALLERO ACEVEDO SAS | D39: ='Estado de situacion financiera'!V39/'Estado de situacion financiera'!AX39 -> 4.6007492 | E39: ='Estado de situacion financiera'!BI38/'Estado de situacion financiera'!AL38 -> 0.21641218 | G39: ='Estado de situacion financiera'!V39-'Estado de situacion financiera'!AX39 -> 5343555 | H39: ='Estado de resultado integral'!U39/'Estado de situacion financiera'!BR39 -> 0.067418124 | I39: ='Estado de resultado integral'!U39/'Estado de situacion financiera'!AL39 -> 0.035717855
B40: 800093266 | C40: GARCIA RIOS CONSTRUCTORES SAS | D40: ='Estado de situacion financiera'!V40/'Estado de situacion financiera'!AX40 -> 1.3786811 | E40: ='Estado de situacion financiera'!BI39/'Estado de situacion financiera'!AL39 -> 0.47020396 | F40: ='Estado de resultado integral'!U40/'Estado de resultado integral'!W40 -> -18.180151 | G40: ='Estado de situacion financiera'!V40-'Estado de situacion financiera'!AX40 -> 1086987 | H40: ='Estado de resultado integral'!U40/'Estado de situacion financiera'!BR40 -> 1.4537358 | I40: ='Estado de resultado integral'!U40/'Estado de situacion financiera'!AL40 -> -0.96470175
...

Sheet Estado de resultado integral
B2: Punto de Entrada | C2: Nombre Formulario | D2: NIT | E2: Fecha de Corte | F2: Razón social de la sociedad | G2: Clasificación Industrial Internacional Uniforme Versión 4 A.C (CIIU) | H2: Tipo societario | I2: Dirección de notificación judicial registrada en Cámara de Comercio | J2: Departamento de la dirección del domicilio | K2: Ciudad de la dirección del domicilio | L2: Periodo | M2: Ingresos de actividades ordinarias (Revenue) | N2: Costo de ventas (CostOfSales) | O2: Ganancia bruta (GrossProfit) | P2: Otros ingresos (OtherIncome) | Q2: Gastos de ventas (DistributionCosts) | R2: Gastos de administración (AdministrativeExpense) | S2: Otros gastos (OtherExpenseByFunction) | T2: Otras ganancias (pérdidas) (OtherGainsLosses) | U2: Ganancia (pérdida) por actividades de operación (GananciaPerdidaPorActividadesDeOperacion) | V2: Ingresos financieros (FinanceIncome) | W2: Costos financieros (FinanceCosts) | X2: Ganancia (pérdida), antes de impuestos (ProfitLossBeforeTax) | Y2: Ingreso (gasto) por impuestos (IncomeTaxExpenseContinuingOperations) | Z2: Ganancia (pérdida) procedente de operaciones continuadas (ProfitLossFromContinuingOperations) | AA2: Ganancia (pérdida) procedente de operaciones discontinuadas (ProfitLossFromDiscontinuedOperations) | AB2: Ganancia (pérdida) (ProfitLoss)
B3: Pymes-Individuales | C3: Estado de resultado integral, resultado del periodo, por funcion de gasto | D3: 810002618 | E3: 2022-10-31 | F3: INGENIEROS CALDERON Y JARAMILLO SAS | G3: F4290 - Construcción de otras obras de ingeniería civil | H3: 08. SOCIEDAD POR ACCIONES SIMPLIFICADA SAS | I3: CR 21 59 27 | J3: CALDAS | K3: MANIZALES-CALDAS | L3: Periodo Actual | M3: 27859265 | N3: 19331047 | O3: 8528218 | P3: 40982 | R3: 2074295 | U3: 6494905 | X3: 6494905 | Z3: 6494905 | AB3: 6494905
B4: Pymes-Individuales | C4: Estado de resultado integral, resultado del periodo, por funcion de gasto | D4: 800000296 | E4: 2022-12-31 | F4: ZR INGENIERIA SA | G4: F4290 - Construcción de otras obras de ingeniería civil | H4: 01. SOCIEDAD ANÓNIMA | I4: CL 106 57 23 OF 204 | J4: BOGOTA D.C. | K4: BOGOTA D.C. | L4: Periodo Actual | M4: 33529 | N4: 71674 | O4: -38145 | P4: 73575 | R4: 46865 | S4: 30419 | U4: -41854 | X4: -41854 | Y4: 2312 | Z4: -44166 | AB4: -44166
B5: Pymes-Individuales | C5: Estado de resultado integral, resultado del periodo, por funcion de gasto | D5: 800009612 | E5: 2022-12-31 | F5: JUAN HARKERS SAS | G5: F4290 - Construcción de otras obras de ingeniería civil | H5: 08. SOCIEDAD POR ACCIONES SIMPLIFICADA SAS | I5: Cl 94A # 9 - 56 | J5: BOGOTA D.C. | K5: BOGOTA D.C. | L5: Periodo Actual | M5: 77123 | O5: 77123 | P5: 3234 | R5: 74143 | S5: 2765 | U5: 3449 | X5: 3449 | Y5: 4864 | Z5: -1415 | AB5: -1415
B6: Pymes-Individuales | C6: Estado de resultado integral, resultado del periodo, por funcion de gasto | D6: 800012888 | E6: 2022-12-31 | F6: SOFAN INGENIERIA SAS | G6: F4290 - Construcción de otras obras de ingeniería civil | H6: 08. SOCIEDAD POR ACCIONES SIMPLIFICADA SAS | I6: CARRERA 6 NO 95-170 MOCARIO SECTOR BOSQUE | J6: CORDOBA | K6: MONTERIA-CORDOBA | L6: Periodo Actual | M6: 41115779 | N6: 36924508 | O6: 4191271 | P6: 614687 | Q6: 0 | R6: 1643761 | S6: 0 | U6: 3162197 | W6: 603177 | X6: 2559020 | Y6: 982817 | Z6: 1576203 | AB6: 1576203
B7: Pymes-Individuales | C7: Estado de resultado integral, resultado del periodo, por funcion de gasto | D7: 800015079 | E7: 2022-12-31 | F7: ESGUERRA Y GOMEZ SAS | G7: F4290 - Construcción de otras obras de ingeniería civil | H7: 08. SOCIEDAD POR ACCIONES SIMPLIFICADA SAS | I7: CRA. 16 No. 188-90 | J7: BOGOTA D.C. | K7: BOGOTA D.C. | L7: Periodo Actual | M7: 1108649 | N7: 443141 | O7: 665508 | P7: 0 | Q7: 0 | R7: 664465 | S7: 102364 | U7: -101321 | X7: -101321 | Y7: 0 | Z7: -101321 | AB7: -101321
B8: Pymes-Individuales | C8: Estado de resultado integral, resultado del periodo, por funcion de gasto | D8: 800016281 | E8: 2022-12-31 | F8: CONSTRUCCIONES CIVILES Y PAVIMENTOS S.A.S | G8: F4290 - Construcción de otras obras de ingeniería civil | H8: 08. SOCIEDAD POR ACCIONES SIMPLIFICADA SAS | I8: CARRERA 80AA 20A 98 | J8: ANTIOQUIA | K8: MEDELLIN-ANTIOQUIA | L8: Periodo Actual | M8: 8478749 | N8: 7057916 | O8: 1420833 | P8: 241441 | R8: 925060 | S8: 189716 | U8: 547498 | W8: 382161 | X8: 165337 | Y8: 107669 | Z8: 57668 | AB8: 57668
B9: Pymes-Individuales | C9: Estado de resultado integral, resultado del periodo, por funcion de gasto | D9: 800019654 | E9: 2022-12-31 | F9: ESGAMO INGENIEROS CONSTRUCTORES S.A.S | G9: F4290 - Construcción de otras obras de ingeniería civil | H9: 08. SOCIEDAD POR ACCIONES SIMPLIFICADA SAS | I9: CRA 7 156 80 OF 901 TORRE 1 NORTH POINT | J9: BOGOTA D.C. | K9: BOGOTA D.C. | L9: Periodo Actual | M9: 85037 | O9: 85037 | P9: 1124645 | R9: 1160636 | S9: 568924 | U9: -519878 | X9: -519878 | Y9: 68000 | Z9: -587878 | AB9: -587878
B10: Pymes-Individuales | C10: Estado de resultado integral, resultado del periodo, por funcion de gasto | D10: 800032838 | E10: 2022-12-31 | F10: CONSTRUCTORA BG SAS | G10: F4290 - Construcción de otras obras de ingeniería civil | H10: 08. SOCIEDAD POR ACCIONES SIMPLIFICADA SAS | I10: KRA 22 #13-61 | J10: LA GUAJIRA | K10: FONSECA-LA GUAJIRA | L10: Periodo Actual | M10: 392219 | O10: 392219 | R10: 327717 | U10: 64502 | V10: 43 | W10: 1569 | X10: 62976 | Y10: 22042 | Z10: 40934 | AB10: 40934
B11: Pymes-Individuales | C11: Estado de resultado integral, resultado del periodo, por funcion de gasto | D11: 800041077 | E11: 2022-12-31 | F11: JORGE USCATEGUI Y ASOCIADOS LTDA | G11: F4290 - Construcción de otras obras de ingeniería civil | H11: 03. SOCIEDAD LIMITADA | I11: CRA 18 78 74 OF 407 | J11: BOGOTA D.C. | K11: BOGOTA D.C. | L11: Periodo Actual | M11: 517436 | O11: 517436 | P11: 13315 | R11: 358947 | S11: 14284 | U11: 157520 | X11: 157520 | Y11: 58929 | Z11: 98591 | AB11: 98591
B12: Pymes-Individuales | C12: Estado de resultado integral, resultado del periodo, por funcion de gasto | D12: 800042119 | E12: 2022-12-31 | F12: VICPAR S A | G12: F4290 - Construcción de otras obras de ingeniería civil | H12: 01. SOCIEDAD ANÓNIMA | I12: KM 2.5 VIA COTA CHIA VDA CERCA DE PIEDRA | J12: CUNDINAMARCA | K12: CHIA-CUNDINAMARCA | L12: Periodo Actual | M12: 38596069 | N12: 34871395 | O12: 3724674 | P12: 0 | Q12: 0 | R12: 2421301 | S12: 0 | U12: 1303373 | V12: 677723 | W12: 1549157 | X12: 431939 | Y12: 41977 | Z12: 389962 | AA12: 0 | AB12: 389962
B13: Pymes-Individuales | C13: Estado de resultado integral, resultado del periodo, por funcion de gasto | D13: 800043769 | E13: 2022-12-31 | F13: SERVICIOS DE DRAGADOS Y CONSTRUCCIONES SAS | G13: F4290 - Construcción de otras obras de ingeniería civil | H13: 08. SOCIEDAD POR ACCIONES SIMPLIFICADA SAS | I13: CALLE 37 46-60 | J13: ATLANTICO | K13: BARRANQUILLA-ATLANTICO | L13: Periodo Actual | M13: 18686021 | N13: 15183393 | O13: 3502628 | P13: 30915 | Q13: 0 | R13: 792400 | S13: 40366 | T13: 0 | U13: 2700777 | V13: 0 | W13: 1190306 | X13: 1510471 | Y13: 1470128 | Z13: 40343 | AA13: 0 | AB13: 40343
B14: Pymes-Individuales | C14: Estado de resultado integral, resultado del periodo, por funcion de gasto | D14: 800043977 | E14: 2022-12-31 | F14: COZADEL SAS | G14: F4290 - Construcción de otras obras de ingeniería civil | H14: 08. SOCIEDAD POR ACCIONES SIMPLIFICADA SAS | I14: CR 67 75-112 | J14: ATLANTICO | K14: BARRANQUILLA-ATLANTICO | L14: Periodo Actual | M14: 20707217 | N14: 15748735 | O14: 4958482 | P14: 10492 | R14: 1952130 | S14: 1426691 | U14: 1590153 | V14: 54394 | W14: 1432649 | X14: 211898 | Y14: 169442 | Z14: 42456 | AB14: 42456
B15: Pymes-Individuales | C15: Estado de resultado integral, resultado del periodo, por funcion de gasto | D15: 800044735 | E15: 2022-12-31 | F15: SERVI-METAL SAS | G15: F4290 - Construcción de otras obras de ingeniería civil | H15: 08. SOCIEDAD POR ACCIONES SIMPLIFICADA SAS | I15: CL 73 19 56 BRR LA LIBERTAD | J15: SANTANDER | K15: BARRANCABERMEJA-SANTANDER | L15: Periodo Actual | M15: 14998990 | N15: 13772415 | O15: 1226575 | P15: 56863 | Q15: 206 | R15: 751562 | S15: 204882 | U15: 326788 | W15: 39385 | X15: 287403 | Z15: 287403 | AB15: 287403
B16: Pymes-Individuales | C16: Estado de resultado integral, resultado del periodo, por funcion de gasto | D16: 800045199 | E16: 2022-12-31 | F16: CONSTRUDISEÑOS AGROEQUIPOS COMERCIAL CONACOM SAS | G16: F4290 - Construcción de otras obras de ingeniería civil | H16: 08. SOCIEDAD POR ACCIONES SIMPLIFICADA SAS | I16: KM 2 VIA FLORENCIA - NEIVA | J16: CAQUETA | K16: FLORENCIA-CAQUETA | L16: Periodo Actual | M16: 1595349 | N16: 689472 | O16: 905877 | P16: 111044 | Q16: 69988 | R16: 328547 | S16: 111963 | U16: 506423 | W16: 84100 | X16: 422323 | Y16: 21983 | Z16: 400340 | AB16: 400340
B17: Pymes-Individuales | C17: Estado de resultado integral, resultado del periodo, por funcion de gasto | D17: 800049960 | E17: 2022-12-31 | F17: TECNITENQUES INGENIEROS S.AS. EN REORGANIZACION | G17: F4290 - Construcción de otras obras de ingeniería civil | H17: 08. SOCIEDAD POR ACCIONES SIMPLIFICADA SAS | I17: CR 9 115 06/30 OF 2603 | J17: BOGOTA D.C. | K17: BOGOTA D.C. | L17: Periodo Actual | M17: 47827220 | N17: 27441258 | O17: 20385962 | P17: 12136919 | R17: 9917416 | S17: 14723466 | U17: 7881999 | V17: 32177 | W17: 557983 | X17: 7356193 | Y17: 3923010 | Z17: 3433183 | AB17: 3433183
B18: Pymes-Individuales | C18: Estado de resultado integral, resultado del periodo, por funcion de gasto | D18: 800050326 | E18: 2022-12-31 | F18: IOV Y CIA S.A.S | G18: F4290 - Construcción de otras obras de ingeniería civil | H18: 08. SOCIEDAD POR ACCIONES SIMPLIFICADA SAS | I18: CL 24 16 07 OF 403 ED OFICENTRO | J18: SUCRE | K18: SINCELEJO-SUCRE | L18: Periodo Actual | M18: 1865759 | N18: 1469316 | O18: 396443 | R18: 283740 | S18: 47115 | U18: 65588 | X18: 65588 | Z18: 65588 | AB18: 65588
B19: Pymes-Individuales | C19: Estado de resultado integral, resultado del periodo, por funcion de gasto | D19: 800050699 | E19: 2022-12-31 | F19: ALEMAN BELLO S.A.S. | G19: F4290 - Construcción de otras obras de ingeniería civil | H19: 08. SOCIEDAD POR ACCIONES SIMPLIFICADA SAS | I19: CLL 25 SUR 69 A 22 | J19: BOGOTA D.C. | K19: BOGOTA D.C. | L19: Periodo Actual | M19: 4931386 | N19: 3619147 | O19: 1312239 | R19: 711092 | S19: 362695 | U19: 238452 | V19: 49903 | X19: 288355 | Y19: 470489 | Z19: -182134 | AB19: -182134
B20: Pymes-Individuales | C20: Estado de resultado integral, resultado del periodo, por funcion de gasto | D20: 800055215 | E20: 2022-12-31 | F20: Valores Rivera Vergara SAS | G20: F4290 - Construcción de otras obras de ingeniería civil | H20: 08. SOCIEDAD POR ACCIONES SIMPLIFICADA SAS | I20: CALLE 10 Via Zaragoza Cartago - CONDOMINIO COLINAS DEL CAMPESTRE Casa 67 | J20: VALLE | K20: CARTAGO-VALLE | L20: Periodo Actual | M20: 2118146 | N20: 788699 | O20: 1329447 | P20: 644 | Q20: 200208 | R20: 595545 | T20: 860301 | U20: 1394639 | V20: 9084 | X20: 1403723 | Y20: 282489 | Z20: 1121234 | AB20: 1121234
B21: Pymes-Individuales | C21: Estado de resultado integral, resultado del periodo, por funcion de gasto | D21: 800055393 | E21: 2022-12-31 | F21: INTRICON SA | G21: F4290 - Construcción de otras obras de ingeniería civil | H21: 01. SOCIEDAD ANÓNIMA | I21: CL 72 9 55 OF704 | J21: BOGOTA D.C. | K21: BOGOTA D.C. | L21: Periodo Actual | M21: 11301647 | N21: 9956712 | O21: 1344935 | R21: 657388 | U21: 687547 | V21: 85339 | W21: 123619 | X21: 649267 | Y21: 253829 | Z21: 395438 | AB21: 395438
B22: Pymes-Individuales | C22: Estado de resultado integral, resultado del periodo, por funcion de gasto | D22: 800056653 | E22: 2022-12-31 | F22: GAVIRIA Y BORBON ASOCIADOS LTDA | G22: F4290 - Construcción de otras obras de ingeniería civil | H22: 03. SOCIEDAD LIMITADA | I22: CARRERA 66 96 38 | J22: BOGOTA D.C. | K22: BOGOTA D.C. | L22: Periodo Actual | M22: 1506484 | N22: 1064294 | O22: 442190 | P22: 350517 | R22: 666025 | S22: 23227 | U22: 103455 | X22: 103455 | Y22: 50696 | Z22: 52759 | AB22: 52759
B23: Pymes-Individuales | C23: Estado de resultado integral, resultado del periodo, por funcion de gasto | D23: 800063392 | E23: 2022-12-31 | F23: Alfa SAIT S.A.S.BIC | G23: F4290 - Construcción de otras obras de ingeniería civil | H23: 08. SOCIEDAD POR ACCIONES SIMPLIFICADA SAS | I23: KM 7 + 400 ANILLO VIAL - PALENQUE - FLORIDABLANCA 22 31 CENTRO INDUSTRIAL Y LOGISTICO SAN JORGE BG 54 | J23: SANTANDER | K23: GIRON-SANTANDER | L23: Periodo Actual | M23: 11850991 | N23: 9427449 | O23: 2423542 | P23: 0 | Q23: 165949 | R23: 1236968 | S23: 0 | U23: 1020625 | V23: 0 | W23: 164909 | X23: 855716 | Y23: 349225 | Z23: 506491 | AB23: 506491
B24: Pymes-Individuales | C24: Estado de resultado integral, resultado del periodo, por funcion de gasto | D24: 800067647 | E24: 2022-12-31 | F24: Colserpetrol SAS | G24: F4290 - Construcción de otras obras de ingeniería civil | H24: 05. SOCIEDAD EN COMANDITA POR ACCIONES | I24: CALLE 57B 35A46 | J24: META | K24: VILLAVICENCIO-META | L24: Periodo Actual | M24: 3623325 | N24: 2447577 | O24: 1175748 | P24: 183602 | R24: 719987 | S24: 306646 | U24: 332717 | X24: 332717 | Y24: 107358 | Z24: 225359 | AB24: 225359
B25: Pymes-Individuales | C25: Estado de resultado integral, resultado del periodo, por funcion de gasto | D25: 800071658 | E25: 2022-12-31 | F25: SOCIEDAD CONSTRUCTORA DE PROECTOS SAS | G25: F4290 - Construcción de otras obras de ingeniería civil | H25: 08. SOCIEDAD POR ACCIONES SIMPLIFICADA SAS | I25: AV COLOMBIA No 2 35 | J25: VALLE | K25: CALI-VALLE | L25: Periodo Actual | M25: 8175421 | N25: 7161746 | O25: 1013675 | P25: 114219 | R25: 290072 | S25: 9580 | U25: 828242 | V25: 14 | W25: 195828 | X25: 632428 | Y25: 251412 | Z25: 381016 | AB25: 381016
B26: Pymes-Individuales | C26: Estado de resultado integral, resultado del periodo, por funcion de gasto | D26: 800071993 | E26: 2022-12-31 | F26: MANSER INGENIERIA SAS | G26: F4290 - Construcción de otras obras de ingeniería civil | H26: 08. SOCIEDAD POR ACCIONES SIMPLIFICADA SAS | I26: CRA 19 6 14 P 2 | J26: CASANARE | K26: YOPAL-CASANARE | L26: Periodo Actual | M26: 661460 | N26: 214443 | O26: 447017 | P26: 2824 | R26: 51977 | S26: 469031 | U26: -71167 | X26: -71167 | Y26: 15348 | Z26: -86515 | AB26: -86515
B27: Pymes-Individuales | C27: Estado de resultado integral, resultado del periodo, por funcion de gasto | D27: 800072941 | E27: 2022-12-31 | F27: INVERSIONES Y CONSTRUCCIONES DONADO SAS | G27: F4290 - Construcción de otras obras de ingeniería civil | H27: 08. SOCIEDAD POR ACCIONES SIMPLIFICADA SAS | I27: CR 44 82 145 | J27: ATLANTICO | K27: BARRANQUILLA-ATLANTICO | L27: Periodo Actual | M27: 538783 | N27: 33907 | O27: 504876 | P27: 124198 | Q27: 0 | R27: 596935 | S27: 9991 | T27: 0 | U27: 22148 | V27: 0 | W27: 0 | X27: 22148 | Y27: 0 | Z27: 22148 | AA27: 0 | AB27: 22148
B28: Pymes-Individuales | C28: Estado de resultado integral, resultado del periodo, por funcion de gasto | D28: 800075337 | E28: 2022-12-31 | F28: SUELOS INGENIERIA SAS | G28: F4290 - Construcción de otras obras de ingeniería civil | H28: 01. SOCIEDAD ANÓNIMA | I28: CALLE 43 46 66 | J28: ATLANTICO | K28: BARRANQUILLA-ATLANTICO | L28: Periodo Actual | M28: 2683203 | N28: 2024471 | O28: 658732 | P28: 0 | Q28: 0 | R28: 452156 | S28: 0 | T28: 0 | U28: 206576 | V28: 6313 | W28: 89815 | X28: 123074 | Y28: 0 | Z28: 123074 | AA28: 0 | AB28: 123074
B29: Pymes-Individuales | C29: Estado de resultado integral, resultado del periodo, por funcion de gasto | D29: 800075746 | E29: 2022-12-31 | F29: SINFOROSO ROBLEDO Y CIA S.A.S. | G29: F4290 - Construcción de otras obras de ingeniería civil | H29: 08. SOCIEDAD POR ACCIONES SIMPLIFICADA SAS | I29: CRA 28 71 27 | J29: CALDAS | K29: MANIZALES-CALDAS | L29: Periodo Actual | M29: 162598 | O29: 162598 | R29: 124581 | S29: 1721 | U29: 36296 | V29: 6438 | X29: 42734 | Y29: 10120 | Z29: 32614 | AB29: 32614
B30: Pymes-Individuales | C30: Estado de resultado integral, resultado del periodo, por funcion de gasto | D30: 800075951 | E30: 2022-12-31 | F30: GARPER CONSTRUCCIONES Y MAQUINARIA SAS | G30: F4290 - Construcción de otras obras de ingeniería civil | H30: 08. SOCIEDAD POR ACCIONES SIMPLIFICADA SAS | I30: CL 93 18 81 | J30: BOGOTA D.C. | K30: BOGOTA D.C. | L30: Periodo Actual | M30: 0 | O30: 0 | Q30: 7993 | U30: -7993 | X30: -7993 | Z30: -7993 | AB30: -7993
B31: Pymes-Individuales | C31: Estado de resultado integral, resultado del periodo, por funcion de gasto | D31: 800078011 | E31: 2022-12-31 | F31: ICMO SOCIEDAD POR ACCIONES SIMPLIFICADA | G31: F4290 - Construcción de otras obras de ingeniería civil | H31: 08. SOCIEDAD POR ACCIONES SIMPLIFICADA SAS | I31: CR 129 17 F 64 | J31: BOGOTA D.C. | K31: BOGOTA D.C. | L31: Periodo Actual | M31: 9064560 | N31: 6405954 | O31: 2658606 | P31: 342675 | R31: 1048167 | S31: 1753520 | U31: 199594 | X31: 199594 | Z31: 199594 | AB31: 199594
B32: Pymes-Individuales | C32: Estado de resultado integral, resultado del periodo, por funcion de gasto | D32: 800078608 | E32: 2022-12-31 | F32: INARCON SAS | G32: F4290 - Construcción de otras obras de ingeniería civil | H32: 08. SOCIEDAD POR ACCIONES SIMPLIFICADA SAS | I32: Calle 36 # 31-39 of 228 Ctro Empresarial Chicamocha | J32: SANTANDER | K32: BUCARAMANGA-SANTANDER | L32: Periodo Actual | M32: 8483682 | N32: 6544894 | O32: 1938788 | P32: 44180 | Q32: 0 | R32: 611115 | S32: 15693 | T32: 285000 | U32: 1641160 | V32: 46590 | W32: 81275 | X32: 1606475 | Y32: 511030 | Z32: 1095445 | AB32: 1095445
B33: Pymes-Individuales | C33: Estado de resultado integral, resultado del periodo, por funcion de gasto | D33: 800079382 | E33: 2022-12-31 | F33: UNION INDUSTRIAL DE BARRANCABERMEJA SAS | G33: F4290 - Construcción de otras obras de ingeniería civil | H33: 08. SOCIEDAD POR ACCIONES SIMPLIFICADA SAS | I33: CR 3 48 40 | J33: SANTANDER | K33: BARRANCABERMEJA-SANTANDER | L33: Periodo Actual | M33: 593914 | N33: 236165 | O33: 357749 | R33: 290598 | U33: 67151 | X33: 67151 | Z33: 67151 | AB33: 67151
B34: Pymes-Individuales | C34: Estado de resultado integral, resultado del periodo, por funcion de gasto | D34: 800079482 | E34: 2022-12-31 | F34: EQUIPOS CONSTRUCCIONES Y OBRAS S.A. | G34: F4290 - Construcción de otras obras de ingeniería civil | H34: 01. SOCIEDAD ANÓNIMA | I34: cr 15 73 32 ofc 306 | J34: BOGOTA D.C. | K34: BOGOTA D.C. | L34: Periodo Actual | M34: 51466975 | N34: 35829945 | O34: 15637030 | P34: 916302 | Q34: 9111002 | R34: 1174540 | S34: 1024584 | U34: 5243206 | V34: 508129 | W34: 453317 | X34: 5298018 | Y34: 1252252 | Z34: 4045766 | AB34: 4045766
B35: Pymes-Individuales | C35: Estado de resultado integral, resultado del periodo, por funcion de gasto | D35: 800085861 | E35: 2022-12-31 | F35: SILVA ARIZA SA | G35: F4290 - Construcción de otras obras de ingeniería civil | H35: 01. SOCIEDAD ANÓNIMA | I35: AV CL 100 19A 50 OF 401Y402 | J35: BOGOTA D.C. | K35: BOGOTA D.C. | L35: Periodo Actual | M35: 28318055 | N35: 24408371 | O35: 3909684 | P35: 127951 | R35: 1581463 | S35: 1116658 | U35: 1339514 | V35: 16341 | W35: 392046 | X35: 963809 | Y35: 313551 | Z35: 650258 | AB35: 650258
B36: Pymes-Individuales | C36: Estado de resultado integral, resultado del periodo, por funcion de gasto | D36: 800088443 | E36: 2022-12-31 | F36: ITAC CONSTRUCCIONES SAS | G36: F4290 - Construcción de otras obras de ingeniería civil | H36: 08. SOCIEDAD POR ACCIONES SIMPLIFICADA SAS | I36: AK 45 #108A-50 PISO 6 | J36: BOGOTA D.C. | K36: BOGOTA D.C. | L36: Periodo Actual | M36: 2031073 | N36: 1797037 | O36: 234036 | P36: 62 | R36: 18797 | S36: 29597 | U36: 185704 | V36: 1968 | X36: 187672 | Y36: 72685 | Z36: 114987 | AB36: 114987
B37: Pymes-Individuales | C37: Estado de resultado integral, resultado del periodo, por funcion de gasto | D37: 800089032 | E37: 2022-12-31 | F37: ANDINA POZOS LTDA | G37: F4290 - Construcción de otras obras de ingeniería civil | H37: 03. SOCIEDAD LIMITADA | I37: CALLE 8N 4 28 | J37: CUNDINAMARCA | K37: COTA-CUNDINAMARCA | L37: Periodo Actual | M37: 5194000 | N37: 3663000 | O37: 1531000 | R37: 1026000 | U37: 505000 | W37: 164000 | X37: 341000 | Y37: 142000 | Z37: 199000 | AB37: 199000
B38: Pymes-Individuales | C38: Estado de resultado integral, resultado del periodo, por funcion de gasto | D38: 800089623 | E38: 2022-12-31 | F38: CORROSION Y SERVICIOS SAS | G38: F4290 - Construcción de otras obras de ingeniería civil | H38: 08. SOCIEDAD POR ACCIONES SIMPLIFICADA SAS | I38: CR 28 BIS 48A 22 | J38: BOGOTA D.C. | K38: BOGOTA D.C. | L38: Periodo Actual | M38: 3284368 | N38: 1996375 | O38: 1287993 | P38: 1069 | R38: 1163449 | S38: 57607 | U38: 68006 | V38: 1488 | W38: 196108 | X38: -126614 | Z38: -126614 | AB38: -126614
B39: Pymes-Individuales | C39: Estado de resultado integral, resultado del periodo, por funcion de gasto | D39: 800092242 | E39: 2022-12-31 | F39: CABALLERO ACEVEDO SAS | G39: F4290 - Construcción de otras obras de ingeniería civil | H39: 08. SOCIEDAD POR ACCIONES SIMPLIFICADA SAS | I39: BRR SANTA LUCIA CRA69 31 139 ED RONDA REAL P 10 OF 1003 | J39: BOLIVAR | K39: CARTAGENA-BOLIVAR | L39: Periodo Actual | M39: 7677866 | N39: 6047805 | O39: 1630061 | P39: 27183 | Q39: 0 | R39: 1065002 | S39: 290597 | T39: 0 | U39: 301645 | V39: 0 | W39: 0 | X39: 301645 | Y39: 215000 | Z39: 86645 | AA39: 0 | AB39: 86645
B40: Pymes-Individuales | C40: Estado de resultado integral, resultado del periodo, por funcion de gasto | D40: 800093266 | E40: 2022-12-31 | F40: GARCIA RIOS CONSTRUCTORES SAS | G40: F4290 - Construcción de otras obras de ingeniería civil | H40: 08. SOCIEDAD POR ACCIONES SIMPLIFICADA SAS | I40: CALLE 6 NORTE 2N 36 OFICINA 308 | J40: VALLE | K40: CALI-VALLE | L40: Periodo Actual | M40: 735385 | N40: 347431 | O40: 387954 | R40: 21110 | S40: 12810830 | U40: -12443986 | V40: 5 | W40: 684482 | X40: -13128463 | Y40: 21418 | Z40: -13149881 | AB40: -13149881
B41: Pymes-Individuales | C41: Estado de resultado integral, resultado del periodo, por funcion de gasto | D41: 800096053 | E41: 2022-12-31 | F41: EDYCON CUBIERTAS S.A.S. | G41: F4290 - Construcción de otras obras de ingeniería civil | H41: 08. SOCIEDAD POR ACCIONES SIMPLIFICADA SAS | I41: CALLE 100 SUR No 49 - 95 | J41: ANTIOQUIA | K41: LA-ESTRELLA-ANTIOQUIA | L41: Periodo Actual | M41: 1709852 | N41: 1155614 | O41: 554238 | P41: 30955 | Q41: 0 | R41: 305385 | S41: 60773 | U41: 219035 | V41: 20836 | W41: 0 | X41: 239871 | Y41: 98825 | Z41: 141046 | AA41: 0 | AB41: 141046
...

Sheet Estado de situacion financiera
B2: NIT | C2: Fecha de Corte | D2: Razón social de la sociedad | E2: Clasificación Industrial Internacional Uniforme Versión 4 A.C (CIIU) | F2: Tipo societario | G2: Dirección de notificación judicial registrada en Cámara de Comercio | H2: Departamento de la dirección del domicilio | I2: Ciudad de la dirección del domicilio | J2: Periodo | K2: Efectivo y equivalentes al efectivo (CashAndCashEquivalents) | L2: Cuentas comerciales por cobrar y otras cuentas por cobrar corrientes (TradeAndOtherCurrentReceivables) | M2: Inventarios corrientes (Inventories) | N2: Activos por impuestos corrientes, corriente (CurrentTaxAssetsCurrent) | O2: Activos biológicos corrientes, al costo menos depreciación acumulada y deterioro de valor (CurrentBiologicalAssetsAtCost) | P2: Activos biológicos corrientes, al valor razonable (CurrentBiologicalAssetsAtFairValue) | Q2: Otros activos financieros corrientes (OtherCurrentFinancialAssets) | R2: Otros activos no financieros corrientes (OtherCurrentNonfinancialAssets) | S2: Activos corrientes distintos al efectivo pignorados como garantía colateral para las que el receptor de transferencias tiene derecho por contrato o costumbre a vender o pignorar de nuevo dicha garantía colateral (CurrentNoncashAssetsPledgedAsCollateralForWhichTransfereeHasRightByContractOrCustomToSellOrRepledgeCollateral) | T2: Total activos corrientes distintos de los activos no corrientes o grupo de activos para su disposición clasificados como mantenidos para la venta o como mantenidos para distribuir a los propietarios (Total_activos_corrientes_distintos_de_los_activos_no_corrientes_o_grupo_de_activos_para_su_disposicion_clasificados_como_mantenidos_para_la_venta_o_como_mantenidos_para_distribuir_a_los_propietarios) | U2: Activos no corrientes o grupos de activos para su disposición clasificados como mantenidos para la venta o como mantenidos para distribuir a los propietarios (Activos_no_corrientes_o_grupos_de_activos_para_su_disposicion_clasificados_como_mantenidos_para_la_venta_o_como_mantenidos_para_distribuir_a_los_propietarios) | V2: Activos corrientes totales (CurrentAssets) | W2: Propiedades, planta y equipo (PropertyPlantAndEquipment) | X2: Propiedades de inversión al costo menos depreciación acumulada y deterioro (Propiedades_de_inversión_al_costo_menos_depreciacion_acumulada_y_deterioro) | Y2: Propiedades de inversión a valor razonable con cambios en resultados (InvestmentProperty) | Z2: Plusvalía (Goodwill) | AA2: Activos intangibles distintos de la plusvalía (IntangibleAssetsOtherThanGoodwill) | AB2: Activos biológicos no corrientes, al costo menos depreciación acumulada y deterioro del valor (NoncurrentBiologicalAssetsAtCost) | AC2: Activos biológicos no corrientes, al valor razonable (NoncurrentBiologicalAssetsAtFairValue) | AD2: Cuentas comerciales por cobrar y otras cuentas por cobrar no corrientes (NoncurrentReceivables) | AE2: Inventarios no corrientes (NoncurrentInventories) | AF2: Activos por impuestos diferidos (DeferredTaxAssets) | AG2: Activos por impuestos corrientes, no corriente (CurrentTaxAssetsNoncurrent) | AH2: Otros activos financieros no corrientes (OtherNoncurrentFinancialAssets) | AI2: Otros activos no financieros no corrientes (OtherNoncurrentNonfinancialAssets) | AJ2: Activos no corrientes distintos al efectivo pignorados como garantía colateral para las que el receptor de transferencias tiene derecho por contrato o costumbre a vender o pignorar de nuevo dicha garantía colateral (NoncurrentNoncashAssetsPledgedAsCollateralForWhichTransfereeHasRightByContractOrCustomToSellOrRepledgeCollateral) | AK2: Total de activos no corrientes (NoncurrentAssets) | AL2: Total de activos (Assets) | AM2: Provisiones corrientes por beneficios a los empleados (CurrentProvisionsForEmployeeBenefits) | AN2: Otras provisiones corrientes (OtherShorttermProvisions) | AO2: Total provisiones corrientes (CurrentProvisions) | AP2: Cuentas por pagar comerciales y otras cuentas por pagar corrientes (TradeAndOtherCurrentPayables) | AQ2: Pasivos por impuestos corrientes, corriente (CurrentTaxLiabilitiesCurrent) | AR2: Otros pasivos financieros corrientes (OtherCurrentFinancialLiabilities) | AS2: Préstamos corrientes (ShorttermBorrowings) | AT2: Parte corriente de préstamos no corrientes (CurrentPortionOfLongtermBorrowings) | AU2: Otros pasivos no financieros corrientes (OtherCurrentNonfinancialLiabilities) | AV2: Total pasivos corrientes distintos de los pasivos incluidos en grupos de activos para su disposición clasificados como mantenidos para la venta (Total_pasivos_corrientes_distintos_de_los_pasivos_incluidos_en_grupos_de_activos_para_su_disposicion_clasificados_como_mantenidos_para_la_venta) | AW2: Pasivos incluidos en grupos de activos para su disposición clasificados como mantenidos para la venta (Pasivos_incluidos_en_grupos_de_activos_para_su_disposicion_clasificados_como_mantenidos_para_la_venta) | AX2: Pasivos corrientes totales (CurrentLiabilities) | AY2: Provisiones no corrientes por beneficios a los empleados (NoncurrentProvisionsForEmployeeBenefits) | AZ2: Otras provisiones no corrientes (OtherLongtermProvisions) | BA2: Total provisiones no corrientes (NoncurrentProvisions) | BB2: Cuentas comerciales por pagar y otras cuentas por pagar no corrientes (NoncurrentPayables) | BC2: Pasivo por impuestos diferidos (DeferredTaxLiabilities) | BD2: Pasivos por impuestos corrientes, no corriente (CurrentTaxLiabilitiesNoncurrent) | BE2: Otros pasivos financieros no corrientes (OtherNoncurrentFinancialLiabilities) | BF2: Parte no corriente de préstamos no corrientes (LongtermBorrowings) | BG2: Otros pasivos no financieros no corrientes (OtherNoncurrentNonfinancialLiabilities) | BH2: Total de pasivos no corrientes (NoncurrentLiabilities) | BI2: Total pasivos (Liabilities) | BJ2: Capital emitido (IssuedCapital) | BK2: Prima de emisión (SharePremium) | BL2: Acciones propias en cartera (TreasuryShares) | BM2: Inversión suplementaria al capital asignado (InversionSuplementariaAlCapitalAsignado) | BN2: Otras participaciones en el patrimonio (OtherEquityInterest) | BO2: Superavit por revaluación (SuperavitPorRevaluacion) | BP2: Otras reservas (OtherReserves) | BQ2: Ganancias acumuladas (RetainedEarnings) | BR2: Patrimonio total (Equity) | BS2: Total de patrimonio y pasivos (EquityAndLiabilities)
B3: 810002618 | C3: 2022-10-31 | D3: INGENIEROS CALDERON Y JARAMILLO SAS | E3: F4290 - Construcción de otras obras de ingeniería civil | F3: 08. SOCIEDAD POR ACCIONES SIMPLIFICADA SAS | G3: CR 21 59 27 | H3: CALDAS | I3: MANIZALES-CALDAS | J3: Periodo Actual | K3: 1664437 | L3: 5286486 | R3: 4783875 | T3: 11734798 | V3: 11734798 | W3: 1767985 | AK3: 1767985 | AL3: 13502783 | AM3: 297542 | AO3: 297542 | AP3: 9232881 | AQ3: 25579 | AV3: 9556002 | AX3: 9556002 | BI3: 9556002 | BJ3: 680000 | BO3: 575190 | BP3: 421686 | BQ3: 2269905 | BR3: 3946781 | BS3: 13502783
B4: 800000296 | C4: 2022-12-31 | D4: ZR INGENIERIA SA | E4: F4290 - Construcción de otras obras de ingeniería civil | F4: 01. SOCIEDAD ANÓNIMA | G4: CL 106 57 23 OF 204 | H4: BOGOTA D.C. | I4: BOGOTA D.C. | J4: Periodo Actual | K4: 8991 | L4: 416673 | M4: 1482034 | Q4: 527379 | T4: 2435077 | V4: 2435077 | W4: 648 | AD4: 4202324 | AH4: 27131 | AJ4: 200 | AK4: 4230303 | AL4: 6665380 | AM4: 25059 | AO4: 25059 | AP4: 28018 | AQ4: 21233 | AU4: 37349 | AV4: 111659 | AX4: 111659 | BB4: 2665814 | BC4: 49490 | BD4: 232926 | BH4: 2948230 | BI4: 3059889 | BJ4: 1000000 | BP4: 276021 | BQ4: 2329470 | BR4: 3605491 | BS4: 6665380
B5: 800009612 | C5: 2022-12-31 | D5: JUAN HARKERS SAS | E5: F4290 - Construcción de otras obras de ingeniería civil | F5: 08. SOCIEDAD POR ACCIONES SIMPLIFICADA SAS | G5: Cl 94A # 9 - 56 | H5: BOGOTA D.C. | I5: BOGOTA D.C. | J5: Periodo Actual | K5: 95480 | L5: 130931 | N5: 11990 | Q5: 100000 | T5: 338401 | V5: 338401 | W5: 559 | AK5: 559 | AL5: 338960 | AP5: 48002 | AV5: 48002 | AX5: 48002 | BI5: 48002 | BJ5: 60000 | BN5: 49197 | BP5: 19394 | BQ5: 162367 | BR5: 290958 | BS5: 338960
B6: 800012888 | C6: 2022-12-31 | D6: SOFAN INGENIERIA SAS | E6: F4290 - Construcción de otras obras de ingeniería civil | F6: 08. SOCIEDAD POR ACCIONES SIMPLIFICADA SAS | G6: CARRERA 6 NO 95-170 MOCARIO SECTOR BOSQUE | H6: CORDOBA | I6: MONTERIA-CORDOBA | J6: Periodo Actual | K6: 271649 | L6: 15431718 | T6: 15703367 | V6: 15703367 | W6: 13492867 | AK6: 13492867 | AL6: 29196234 | AM6: 252836 | AO6: 252836 | AP6: 2745032 | AQ6: 82863 | AR6: 0 | AU6: 348233 | AV6: 3428964 | AX6: 3428964 | BC6: 877864 | BE6: 4136024 | BG6: 3903361 | BH6: 8917249 | BI6: 12346213 | BJ6: 2600000 | BN6: 1252672 | BO6: 3529347 | BP6: 1523408 | BQ6: 7944594 | BR6: 16850021 | BS6: 29196234
B7: 800015079 | C7: 2022-12-31 | D7: ESGUERRA Y GOMEZ SAS | E7: F4290 - Construcción de otras obras de ingeniería civil | F7: 08. SOCIEDAD POR ACCIONES SIMPLIFICADA SAS | G7: CRA. 16 No. 188-90 | H7: BOGOTA D.C. | I7: BOGOTA D.C. | J7: Periodo Actual | K7: 29603 | L7: 1527978 | Q7: 207278 | T7: 1764859 | V7: 1764859 | W7: 1729730 | AK7: 1729730 | AL7: 3494589 | AP7: 751715 | AQ7: 56110 | AR7: 0 | AV7: 807825 | AX7: 807825 | BB7: 297031 | BE7: 705129 | BF7: 705129 | BH7: 1002160 | BI7: 1809985 | BJ7: 300000 | BP7: 150000 | BQ7: 1234604 | BR7: 1684604 | BS7: 3494589
B8: 800016281 | C8: 2022-12-31 | D8: CONSTRUCCIONES CIVILES Y PAVIMENTOS S.A.S | E8: F4290 - Construcción de otras obras de ingeniería civil | F8: 08. SOCIEDAD POR ACCIONES SIMPLIFICADA SAS | G8: CARRERA 80AA 20A 98 | H8: ANTIOQUIA | I8: MEDELLIN-ANTIOQUIA | J8: Periodo Actual | K8: 1007996 | L8: 10086413 | M8: 605248 | N8: 1235025 | Q8: 6624465 | T8: 19559147 | V8: 19559147 | W8: 34677 | AA8: 66513 | AD8: 14381449 | AK8: 14482639 | AL8: 34041786 | AM8: 93911 | AO8: 93911 | AP8: 4106590 | AQ8: 263343 | AR8: 827448 | AS8: 827448 | AV8: 5291292 | AX8: 5291292 | BG8: 2938020 | BH8: 2938020 | BI8: 8229312 | BJ8: 500000 | BP8: 250000 | BQ8: 25062474 | BR8: 25812474 | BS8: 34041786
B9: 800019654 | C9: 2022-12-31 | D9: ESGAMO INGENIEROS CONSTRUCTORES S.A.S | E9: F4290 - Construcción de otras obras de ingeniería civil | F9: 08. SOCIEDAD POR ACCIONES SIMPLIFICADA SAS | G9: CRA 7 156 80 OF 901 TORRE 1 NORTH POINT | H9: BOGOTA D.C. | I9: BOGOTA D.C. | J9: Periodo Actual | K9: 3709 | L9: 7254680 | N9: 151367 | T9: 7409756 | V9: 7409756 | W9: 11735127 | AH9: 616781 | AK9: 12351908 | AL9: 19761664 | AM9: 763906 | AO9: 763906 | AP9: 17324 | AQ9: 11879 | AR9: 1164843 | AS9: 1164843 | AV9: 1957952 | AX9: 1957952 | BB9: 4583123 | BH9: 4583123 | BI9: 6541075 | BJ9: 960000 | BO9: 8877119 | BP9: 1152163 | BQ9: 2231307 | BR9: 13220589 | BS9: 19761664
B10: 800032838 | C10: 2022-12-31 | D10: CONSTRUCTORA BG SAS | E10: F4290 - Construcción de otras obras de ingeniería civil | F10: 08. SOCIEDAD POR ACCIONES SIMPLIFICADA SAS | G10: KRA 22 #13-61 | H10: LA GUAJIRA | I10: FONSECA-LA GUAJIRA | J10: Periodo Actual | K10: 57011 | L10: 2395977 | M10: 679551 | T10: 3132539 | V10: 3132539 | W10: 2452997 | AK10: 2452997 | AL10: 5585536 | AP10: 68517 | AV10: 68517 | AX10: 68517 | BB10: 1731607 | BH10: 1731607 | BI10: 1800124 | BJ10: 2600000 | BP10: 467195 | BQ10: 718217 | BR10: 3785412 | BS10: 5585536
B11: 800041077 | C11: 2022-12-31 | D11: JORGE USCATEGUI Y ASOCIADOS LTDA | E11: F4290 - Construcción de otras obras de ingeniería civil | F11: 03. SOCIEDAD LIMITADA | G11: CRA 18 78 74 OF 407 | H11: BOGOTA D.C. | I11: BOGOTA D.C. | J11: Periodo Actual | K11: 273882 | L11: 33919 | N11: 68537 | Q11: 567307 | T11: 943645 | V11: 943645 | W11: 182520 | AF11: 0 | AK11: 182520 | AL11: 1126165 | AM11: 4058 | AO11: 4058 | AP11: 60041 | AQ11: 210297 | AV11: 274396 | AX11: 274396 | BI11: 274396 | BJ11: 50000 | BO11: 484239 | BP11: 37787 | BQ11: 279743 | BR11: 851769 | BS11: 1126165
B12: 800042119 | C12: 2022-12-31 | D12: VICPAR S A | E12: F4290 - Construcción de otras obras de ingeniería civil | F12: 01. SOCIEDAD ANÓNIMA | G12: KM 2.5 VIA COTA CHIA VDA CERCA DE PIEDRA | H12: CUNDINAMARCA | I12: CHIA-CUNDINAMARCA | J12: Periodo Actual | K12: 4065993 | L12: 4363001 | M12: 2038955 | N12: 1825440 | O12: 0 | P12: 0 | Q12: 0 | R12: 37676 | S12: 0 | T12: 12331065 | U12: 0 | V12: 12331065 | W12: 16409996 | X12: 0 | Y12: 8057894 | Z12: 0 | AA12: 119482 | AB12: 0 | AC12: 0 | AD12: 6147740 | AE12: 0 | AF12: 0 | AG12: 0 | AH12: 0 | AI12: 0 | AJ12: 0 | AK12: 30735112 | AL12: 43066177 | AM12: 1691399 | AN12: 0 | AO12: 1691399 | AP12: 3352784 | AQ12: 364244 | AR12: 2362149 | AS12: 2362149 | AT12: 0 | AU12: 2965 | AV12: 7773541 | AW12: 0 | AX12: 7773541 | AY12: 0 | AZ12: 0 | BA12: 0 | BB12: 976542 | BC12: 3570910 | BD12: 0 | BE12: 2217870 | BF12: 2217870 | BG12: 0 | BH12: 6765322 | BI12: 14538863 | BJ12: 1340000 | BK12: 1960000 | BL12: 0 | BM12: 0 | BN12: 0 | BO12: 250898 | BP12: 670000 | BQ12: 24306416 | BR12: 28527314 | BS12: 43066177
B13: 800043769 | C13: 2022-12-31 | D13: SERVICIOS DE DRAGADOS Y CONSTRUCCIONES SAS | E13: F4290 - Construcción de otras obras de ingeniería civil | F13: 08. SOCIEDAD POR ACCIONES SIMPLIFICADA SAS | G13: CALLE 37 46-60 | H13: ATLANTICO | I13: BARRANQUILLA-ATLANTICO | J13: Periodo Actual | K13: 2602489 | L13: 5631517 | M13: 0 | N13: 82839 | O13: 0 | P13: 0 | Q13: 0 | R13: 0 | S13: 0 | T13: 8316845 | U13: 0 | V13: 8316845 | W13: 16803422 | X13: 0 | Y13: 0 | Z13: 0 | AA13: 0 | AB13: 0 | AC13: 0 | AD13: 0 | AE13: 0 | AF13: 4561826 | AG13: 0 | AH13: 0 | AI13: 2788513 | AJ13: 0 | AK13: 24153761 | AL13: 32470606 | AM13: 242334 | AN13: 0 | AO13: 242334 | AP13: 1626601 | AQ13: 92714 | AR13: 59048 | AS13: 59048 | AT13: 0 | AU13: 0 | AV13: 2020697 | AW13: 0 | AX13: 2020697 | AY13: 0 | AZ13: 0 | BA13: 0 | BB13: 2299944 | BC13: 1845432 | BD13: 244214 | BE13: 5450495 | BF13: 5450495 | BG13: 1896541 | BH13: 11736626 | BI13: 13757323 | BJ13: 1800000 | BK13: 0 | BL13: 0 | BM13: 0 | BN13: 0 | BO13: 8146891 | BP13: 137676 | BQ13: 8628716 | BR13: 18713283 | BS13: 32470606
B14: 800043977 | C14: 2022-12-31 | D14: COZADEL SAS | E14: F4290 - Construcción de otras obras de ingeniería civil | F14: 08. SOCIEDAD POR ACCIONES SIMPLIFICADA SAS | G14: CR 67 75-112 | H14: ATLANTICO | I14: BARRANQUILLA-ATLANTICO | J14: Periodo Actual | K14: 142905 | L14: 10252176 | M14: 632553 | N14: 1331546 | Q14: 651411 | T14: 13010591 | V14: 13010591 | W14: 1318159 | AA14: 7088669 | AI14: 1917 | AK14: 8408745 | AL14: 21419336 | AM14: 169824 | AO14: 169824 | AP14: 8906218 | AQ14: 427204 | AR14: 2648054 | AS14: 2648054 | AV14: 12151300 | AX14: 12151300 | BE14: 6499772 | BG14: 391619 | BH14: 6891391 | BI14: 19042691 | BJ14: 400000 | BO14: 365000 | BP14: 20000 | BQ14: 1591645 | BR14: 2376645 | BS14: 21419336
B15: 800044735 | C15: 2022-12-31 | D15: SERVI-METAL SAS | E15: F4290 - Construcción de otras obras de ingeniería civil | F15: 08. SOCIEDAD POR ACCIONES SIMPLIFICADA SAS | G15: CL 73 19 56 BRR LA LIBERTAD | H15: SANTANDER | I15: BARRANCABERMEJA-SANTANDER | J15: Periodo Actual | K15: 154219 | L15: 4419964 | T15: 4574183 | V15: 4574183 | W15: 1218952 | AK15: 1218952 | AL15: 5793135 | AM15: 69028 | AO15: 69028 | AP15: 904198 | AQ15: 100 | AR15: 612167 | AS15: 612167 | AU15: 63605 | AV15: 1649098 | AX15: 1649098 | BI15: 1649098 | BJ15: 1500000 | BP15: 127458 | BQ15: 2516579 | BR15: 4144037 | BS15: 5793135
