Workbook
Name _Hlk66745378: 'ASEGURAMIENTO BIOMÉDICO'!#REF!
Name _Hlk66745378: 'CALENDARIO INTERNACIONAL'!#REF!
Name _Hlk66745378: 'CALENDARIO NACIONAL'!#REF!
Name _Hlk66745378: CAPACITACIÓN!#REF!
Name _Hlk66745378: 'DEPORTE FEMENINO'!#REF!
Name _Hlk66745378: 'DESARROLLO DEPORTIVO'!#REF!

Sheet TABLAS
A1: EJECUTOR | B1: FEDERACIONES | C1: AÑO | D1: TIPO EVENTO | E1: REALIZADO
A2: Comité Olímpico/Paralímpico Nacional | B2: Comité Olímpico Colombiano | C2: 2023 | D2: Calendario nacional | E2: Si
A3: Federación deportiva nacional | B3: Comité Paralímpico Colombiano | C3: 2024 | D3: Calendario internacional | E3: No
B4: Federación Colombiana de Actividades subacuáticas | C4: 2025 | D4: Desarrollo deportivo
B5: Federación Colombiana de Ajedrez | C5: 2026 | D5: Lineamientos, capacitación y gestión de información
B6: Federación Colombiana de Arqueros | D6: Aseguramiento biomédico
B7: Federación Colombiana de Atletismo
B8: Federación Colombiana de Automovilismo
B9: Federación Colombiana de Badminton
B10: Federación Colombiana de Baile deportivo
B11: Federación Colombiana de Baloncesto
B12: Federación Colombiana de Balonmano
B13: Federación Colombiana de Beisbol
B14: Federación Colombiana de Billar
B15: Federación Colombiana de Bowling
B16: Federación Colombiana de Boxeo
B17: Federación Colombiana de Bridge
B18: Federación Colombiana de Canotaje
... B83: Federación Colombiana de Tenis en silla

Sheet INSTRUCTIVO
A1: INSTRUCCIONES PARA DILIGENCIAR EL FORMATO DE ESTIMACIÓN DEL VALOR
A4: Diligenciamiento inicial
A147: Modificaciones al cronograma

Sheet EVENTOS
A1: TIPO_ACTIVIDAD | B1: NOMBRE_EVENTO | C1: PAÍS | D1: CIUDAD | E1: FECHA_INICIAL | F1: FECHA_FINAL | G1: REALIZADO | H1: ATLETAS_HOMBRES | I1: ATLETAS_MUJERES | J1: GUIAS_CLASIFICADORES_AUXILIARES | K1: CUERPO_TECNICO | L1: AUTORIDADES_JUZGAMIENTO | M1: CAPACITADORES | N1: TECNICO_ESPECIALIZADO | O1: PROFESIONALES_CCD | P1: DELEGADOS | Q1: LOGISTICA_OPERATIVOS
A2: Calendario nacional | B2: Continental de las americas 2024 | C2: Colombia | D2: Medellin | E2: 45436 | F2: 45445 | G2: No | H2: 65 | I2: 65 | L2: 14

Sheet CALENDARIO NACIONAL
B1: EJECUTOR | C1: Nombre organismo deportivo | E1: Año
B2: Federación deportiva nacional
A3: EJECUTOR | B3: SUBLÍNEA DE INVERSIÓN | C3: COSTO POR SUBLÍNEA DE INVERSIÓN | D3: Continental de las americas 2024 | E3: EVENTO 2 | F3: EVENTO 3 | G3: EVENTO 4 | H3: EVENTO 5 | I3: EVENTO 6 | J3: EVENTO 7 | K3: EVENTO 8 | L3: EVENTO 9 | M3: EVENTO 10 | N3: EVENTO 11 | O3: EVENTO 12 | P3: EVENTO 13 | Q3: EVENTO 14 | R3: EVENTO 15 | S3: EVENTO 16 | T3: EVENTO 17 | U3: EVENTO 18 | V3: EVENTO 19 | W3: EVENTO 20 | AL3: AUX1 | AM3: AUX2 | AN3: AUX3 | AO3: EJECUTORES | AP3: SUBLÍNEA
A4: {=IFERROR(INDEX($AO$4:$AP$73,$AN4,COLUMN(A$4:A4)),"")} -> Federación deportiva nacional | B4: {=IFERROR(INDEX($AO$4:$AP$73,$AN4,COLUMN()),"")} -> Transporte aéreo | C4: =SUM(D4:W4) -> 217920000 | D4: 217920000 | E4: 0 | F4: 0 | G4: 0 | H4: 0 | I4: 0 | J4: 0 | K4: 0 | L4: 0 | M4: 0 | N4: 0 | O4: 0 | P4: 0 | Q4: 0 | R4: 0 | S4: 0 | T4: 0 | U4: 0 | V4: 0 | W4: 0 | AL4: =ROWS($AO$4:AO4) -> 1 | AM4: =IF(AO4=$B$2,AL4,"") | AN4: =IFERROR(SMALL($AM$4:$AM$54,AL4),"") -> 26 | AO4: Comité Olímpico/Paralímpico Nacional | AP4: Transporte aéreo
A5: {=IFERROR(INDEX($AO$4:$AP$73,$AN5,COLUMN(A$4:A5)),"")} -> Federación deportiva nacional | B5: {=IFERROR(INDEX($AO$4:$AP$73,$AN5,COLUMN()),"")} -> Transporte terrestre | C5: =SUM(D5:W5) -> 0 | D5: 0 | E5: 0 | F5: 0 | G5: 0 | H5: 0 | I5: 0 | J5: 0 | K5: 0 | L5: 0 | M5: 0 | N5: 0 | O5: 0 | P5: 0 | Q5: 0 | R5: 0 | S5: 0 | T5: 0 | U5: 0 | V5: 0 | W5: 0 | AL5: =ROWS($AO$4:AO5) -> 2 | AM5: =IF(AO5=$B$2,AL5,"") | AN5: =IFERROR(SMALL($AM$4:$AM$54,AL5),"") -> 27 | AO5: Comité Olímpico/Paralímpico Nacional | AP5: Transporte terrestre
A6: {=IFERROR(INDEX($AO$4:$AP$73,$AN6,COLUMN(A$4:A6)),"")} -> Federación deportiva nacional | B6: {=IFERROR(INDEX($AO$4:$AP$73,$AN6,COLUMN()),"")} -> Transporte fluvial y marítimo | C6: =SUM(D6:W6) -> 0 | D6: 0 | E6: 0 | F6: 0 | G6: 0 | H6: 0 | I6: 0 | J6: 0 | K6: 0 | L6: 0 | M6: 0 | N6: 0 | O6: 0 | P6: 0 | Q6: 0 | R6: 0 | S6: 0 | T6: 0 | U6: 0 | V6: 0 | W6: 0 | AL6: =ROWS($AO$4:AO6) -> 3 | AM6: =IF(AO6=$B$2,AL6,"") | AN6: =IFERROR(SMALL($AM$4:$AM$54,AL6),"") -> 28 | AO6: Comité Olímpico/Paralímpico Nacional | AP6: Transporte fluvial y marítimo
A7: {=IFERROR(INDEX($AO$4:$AP$73,$AN7,COLUMN(A$4:A7)),"")} -> Federación deportiva nacional | B7: {=IFERROR(INDEX($AO$4:$AP$73,$AN7,COLUMN()),"")} -> Transporte de carga | C7: =SUM(D7:W7) -> 0 | D7: 0 | E7: 0 | F7: 0 | G7: 0 | H7: 0 | I7: 0 | J7: 0 | K7: 0 | L7: 0 | M7: 0 | N7: 0 | O7: 0 | P7: 0 | Q7: 0 | R7: 0 | S7: 0 | T7: 0 | U7: 0 | V7: 0 | W7: 0 | AL7: =ROWS($AO$4:AO7) -> 4 | AM7: =IF(AO7=$B$2,AL7,"") | AN7: =IFERROR(SMALL($AM$4:$AM$54,AL7),"") -> 29 | AO7: Comité Olímpico/Paralímpico Nacional | AP7: Transporte de carga
A8: {=IFERROR(INDEX($AO$4:$AP$73,$AN8,COLUMN(A$4:A8)),"")} -> Federación deportiva nacional | B8: {=IFERROR(INDEX($AO$4:$AP$73,$AN8,COLUMN()),"")} -> Excesos de equipaje | C8: =SUM(D8:W8) -> 0 | D8: 0 | E8: 0 | F8: 0 | G8: 0 | H8: 0 | I8: 0 | J8: 0 | K8: 0 | L8: 0 | M8: 0 | N8: 0 | O8: 0 | P8: 0 | Q8: 0 | R8: 0 | S8: 0 | T8: 0 | U8: 0 | V8: 0 | W8: 0 | AL8: =ROWS($AO$4:AO8) -> 5 | AM8: =IF(AO8=$B$2,AL8,"") | AN8: =IFERROR(SMALL($AM$4:$AM$54,AL8),"") -> 30 | AO8: Comité Olímpico/Paralímpico Nacional | AP8: Excesos de equipaje
A9: {=IFERROR(INDEX($AO$4:$AP$73,$AN9,COLUMN(A$4:A9)),"")} -> Federación deportiva nacional | B9: {=IFERROR(INDEX($AO$4:$AP$73,$AN9,COLUMN()),"")} -> Impuestos aeroportuarios | C9: =SUM(D9:W9) -> 0 | D9: 0 | E9: 0 | F9: 0 | G9: 0 | H9: 0 | I9: 0 | J9: 0 | K9: 0 | L9: 0 | M9: 0 | N9: 0 | O9: 0 | P9: 0 | Q9: 0 | R9: 0 | S9: 0 | T9: 0 | U9: 0 | V9: 0 | W9: 0 | AL9: =ROWS($AO$4:AO9) -> 6 | AM9: =IF(AO9=$B$2,AL9,"") | AN9: =IFERROR(SMALL($AM$4:$AM$54,AL9),"") -> 31 | AO9: Comité Olímpico/Paralímpico Nacional | AP9: Impuestos aeroportuarios
A10: {=IFERROR(INDEX($AO$4:$AP$73,$AN10,COLUMN(A$4:A10)),"")} -> Federación deportiva nacional | B10: {=IFERROR(INDEX($AO$4:$AP$73,$AN10,COLUMN()),"")} -> Visas | C10: =SUM(D10:W10) -> 0 | D10: 0 | E10: 0 | F10: 0 | G10: 0 | H10: 0 | I10: 0 | J10: 0 | K10: 0 | L10: 0 | M10: 0 | N10: 0 | O10: 0 | P10: 0 | Q10: 0 | R10: 0 | S10: 0 | T10: 0 | U10: 0 | V10: 0 | W10: 0 | AL10: =ROWS($AO$4:AO10) -> 7 | AM10: =IF(AO10=$B$2,AL10,"") | AN10: =IFERROR(SMALL($AM$4:$AM$54,AL10),"") -> 32 | AO10: Comité Olímpico/Paralímpico Nacional | AP10: Visas
A11: {=IFERROR(INDEX($AO$4:$AP$73,$AN11,COLUMN(A$4:A11)),"")} -> Federación deportiva nacional | B11: {=IFERROR(INDEX($AO$4:$AP$73,$AN11,COLUMN()),"")} -> Seguros | C11: =SUM(D11:W11) -> 0 | D11: 0 | E11: 0 | F11: 0 | G11: 0 | H11: 0 | I11: 0 | J11: 0 | K11: 0 | L11: 0 | M11: 0 | N11: 0 | O11: 0 | P11: 0 | Q11: 0 | R11: 0 | S11: 0 | T11: 0 | U11: 0 | V11: 0 | W11: 0 | AL11: =ROWS($AO$4:AO11) -> 8 | AM11: =IF(AO11=$B$2,AL11,"") | AN11: =IFERROR(SMALL($AM$4:$AM$54,AL11),"") -> 33 | AO11: Comité Olímpico/Paralímpico Nacional | AP11: Seguros
A12: {=IFERROR(INDEX($AO$4:$AP$73,$AN12,COLUMN(A$4:A12)),"")} -> Federación deportiva nacional | B12: {=IFERROR(INDEX($AO$4:$AP$73,$AN12,COLUMN()),"")} -> Alojamiento y alimentación | C12: =SUM(D12:W12) -> 172080000 | D12: 172080000 | E12: 0 | F12: 0 | G12: 0 | H12: 0 | I12: 0 | J12: 0 | K12: 0 | L12: 0 | M12: 0 | N12: 0 | O12: 0 | P12: 0 | Q12: 0 | R12: 0 | S12: 0 | T12: 0 | U12: 0 | V12: 0 | W12: 0 | AL12: =ROWS($AO$4:AO12) -> 9 | AM12: =IF(AO12=$B$2,AL12,"") | AN12: =IFERROR(SMALL($AM$4:$AM$54,AL12),"") -> 34 | AO12: Comité Olímpico/Paralímpico Nacional | AP12: Alojamiento y alimentación
A13: {=IFERROR(INDEX($AO$4:$AP$73,$AN13,COLUMN(A$4:A13)),"")} -> Federación deportiva nacional | B13: {=IFERROR(INDEX($AO$4:$AP$73,$AN13,COLUMN()),"")} -> Inscripciones | C13: =SUM(D13:W13) -> 0 | D13: 0 | E13: 0 | F13: 0 | G13: 0 | H13: 0 | I13: 0 | J13: 0 | K13: 0 | L13: 0 | M13: 0 | N13: 0 | O13: 0 | P13: 0 | Q13: 0 | R13: 0 | S13: 0 | T13: 0 | U13: 0 | V13: 0 | W13: 0 | AL13: =ROWS($AO$4:AO13) -> 10 | AM13: =IF(AO13=$B$2,AL13,"") | AN13: =IFERROR(SMALL($AM$4:$AM$54,AL13),"") -> 35 | AO13: Comité Olímpico/Paralímpico Nacional | AP13: Inscripciones
A14: {=IFERROR(INDEX($AO$4:$AP$73,$AN14,COLUMN(A$4:A14)),"")} -> Federación deportiva nacional | B14: {=IFERROR(INDEX($AO$4:$AP$73,$AN14,COLUMN()),"")} -> Servicios audiovisuales, comunicación y prensa | C14: =SUM(D14:W14) -> 0 | E14: 0 | F14: 0 | G14: 0 | H14: 0 | I14: 0 | J14: 0 | K14: 0 | L14: 0 | M14: 0 | N14: 0 | O14: 0 | P14: 0 | Q14: 0 | R14: 0 | S14: 0 | T14: 0 | U14: 0 | V14: 0 | W14: 0 | AL14: =ROWS($AO$4:AO14) -> 11 | AM14: =IF(AO14=$B$2,AL14,"") | AN14: =IFERROR(SMALL($AM$4:$AM$54,AL14),"") -> 36 | AO14: Comité Olímpico/Paralímpico Nacional | AP14: Servicios audiovisuales, comunicación y prensa
A15: {=IFERROR(INDEX($AO$4:$AP$73,$AN15,COLUMN(A$4:A15)),"")} -> Federación deportiva nacional | B15: {=IFERROR(INDEX($AO$4:$AP$73,$AN15,COLUMN()),"")} -> Protocolo social y deportivo | C15: =SUM(D15:W15) -> 0 | D15: 0 | E15: 0 | F15: 0 | G15: 0 | H15: 0 | I15: 0 | J15: 0 | K15: 0 | L15: 0 | M15: 0 | N15: 0 | O15: 0 | P15: 0 | Q15: 0 | R15: 0 | S15: 0 | T15: 0 | U15: 0 | V15: 0 | W15: 0 | AL15: =ROWS($AO$4:AO15) -> 12 | AM15: =IF(AO15=$B$2,AL15,"") | AN15: =IFERROR(SMALL($AM$4:$AM$54,AL15),"") -> 37 | AO15: Comité Olímpico/Paralímpico Nacional | AP15: Protocolo social y deportivo
A16: {=IFERROR(INDEX($AO$4:$AP$73,$AN16,COLUMN(A$4:A16)),"")} -> Federación deportiva nacional | B16: {=IFERROR(INDEX($AO$4:$AP$73,$AN16,COLUMN()),"")} -> Servicios TIC | C16: =SUM(D16:W16) -> 0 | D16: 0 | E16: 0 | F16: 0 | H16: 0 | I16: 0 | J16: 0 | K16: 0 | L16: 0 | M16: 0 | N16: 0 | O16: 0 | P16: 0 | Q16: 0 | R16: 0 | S16: 0 | T16: 0 | U16: 0 | V16: 0 | W16: 0 | AL16: =ROWS($AO$4:AO16) -> 13 | AM16: =IF(AO16=$B$2,AL16,"") | AN16: =IFERROR(SMALL($AM$4:$AM$54,AL16),"") -> 38 | AO16: Comité Olímpico/Paralímpico Nacional | AP16: Servicios TIC
A17: {=IFERROR(INDEX($AO$4:$AP$73,$AN17,COLUMN(A$4:A17)),"")} -> Federación deportiva nacional | B17: {=IFERROR(INDEX($AO$4:$AP$73,$AN17,COLUMN()),"")} -> Logística | C17: =SUM(D17:W17) -> 0 | E17: 0 | F17: 0 | G17: 0 | H17: 0 | I17: 0 | J17: 0 | K17: 0 | L17: 0 | M17: 0 | N17: 0 | O17: 0 | P17: 0 | Q17: 0 | R17: 0 | S17: 0 | T17: 0 | U17: 0 | V17: 0 | W17: 0 | AL17: =ROWS($AO$4:AO17) -> 14 | AM17: =IF(AO17=$B$2,AL17,"") | AN17: =IFERROR(SMALL($AM$4:$AM$54,AL17),"") -> 39 | AO17: Comité Olímpico/Paralímpico Nacional | AP17: Logística
A18: {=IFERROR(INDEX($AO$4:$AP$73,$AN18,COLUMN(A$4:A18)),"")} -> Federación deportiva nacional | B18: {=IFERROR(INDEX($AO$4:$AP$73,$AN18,COLUMN()),"")} -> Servicios, insumos y suministros de salud | C18: =SUM(D18:W18) -> 0 | D18: 0 | E18: 0 | F18: 0 | G18: =E15 -> 0 | H18: 0 | I18: 0 | J18: 0 | K18: 0 | L18: 0 | M18: 0 | N18: 0 | O18: 0 | P18: 0 | Q18: 0 | R18: 0 | S18: 0 | T18: 0 | U18: 0 | V18: 0 | W18: 0 | AL18: =ROWS($AO$4:AO18) -> 15 | AM18: =IF(AO18=$B$2,AL18,"") | AN18: =IFERROR(SMALL($AM$4:$AM$54,AL18),"") -> 40 | AO18: Comité Olímpico/Paralímpico Nacional | AP18: Servicios, insumos y suministros de salud
A19: {=IFERROR(INDEX($AO$4:$AP$73,$AN19,COLUMN(A$4:A19)),"")} -> Federación deportiva nacional | B19: {=IFERROR(INDEX($AO$4:$AP$73,$AN19,COLUMN()),"")} -> Antidopaje | C19: =SUM(D19:W19) -> 0 | D19: 0 | E19: 0 | F19: 0 | G19: 0 | H19: 0 | I19: 0 | J19: 0 | K19: 0 | L19: 0 | M19: 0 | N19: 0 | O19: 0 | P19: 0 | Q19: 0 | R19: 0 | S19: 0 | T19: 0 | U19: 0 | V19: 0 | W19: 0 | AL19: =ROWS($AO$4:AO19) -> 16 | AM19: =IF(AO19=$B$2,AL19,"") | AN19: =IFERROR(SMALL($AM$4:$AM$54,AL19),"") -> 41 | AO19: Comité Olímpico/Paralímpico Nacional | AP19: Antidopaje
A20: {=IFERROR(INDEX($AO$4:$AP$73,$AN20,COLUMN(A$4:A20)),"")} -> Federación deportiva nacional | B20: {=IFERROR(INDEX($AO$4:$AP$73,$AN20,COLUMN()),"")} -> Manejo y sostenibilidad ambiental | C20: =SUM(D20:W20) -> 0 | D20: 0 | E20: 0 | F20: 0 | G20: 0 | H20: 0 | I20: 0 | J20: 0 | K20: 0 | L20: 0 | M20: 0 | N20: 0 | O20: 0 | P20: 0 | Q20: 0 | R20: 0 | S20: 0 | T20: 0 | U20: 0 | V20: 0 | W20: 0 | AL20: =ROWS($AO$4:AO20) -> 17 | AM20: =IF(AO20=$B$2,AL20,"") | AN20: =IFERROR(SMALL($AM$4:$AM$54,AL20),"") -> 42 | AO20: Comité Olímpico/Paralímpico Nacional | AP20: Manejo y sostenibilidad ambiental
A21: {=IFERROR(INDEX($AO$4:$AP$73,$AN21,COLUMN(A$4:A21)),"")} -> Federación deportiva nacional | B21: {=IFERROR(INDEX($AO$4:$AP$73,$AN21,COLUMN()),"")} -> Personal técnico entrenadores | C21: =SUM(D21:W21) -> 0 | D21: 0 | E21: 0 | F21: 0 | G21: 0 | H21: 0 | I21: 0 | J21: 0 | K21: 0 | L21: 0 | M21: 0 | N21: 0 | O21: 0 | P21: 0 | Q21: 0 | R21: 0 | S21: 0 | T21: 0 | U21: 0 | V21: 0 | W21: 0 | AL21: =ROWS($AO$4:AO21) -> 18 | AM21: =IF(AO21=$B$2,AL21,"") | AN21: =IFERROR(SMALL($AM$4:$AM$54,AL21),"") -> 43 | AO21: Comité Olímpico/Paralímpico Nacional | AP21: Personal técnico entrenadores
A22: {=IFERROR(INDEX($AO$4:$AP$73,$AN22,COLUMN(A$4:A22)),"")} -> Federación deportiva nacional | B22: {=IFERROR(INDEX($AO$4:$AP$73,$AN22,COLUMN()),"")} -> Personal técnico especializado | C22: =SUM(D22:W22) -> 0 | D22: 0 | E22: 0 | F22: 0 | G22: 0 | H22: 0 | I22: 0 | J22: 0 | K22: 0 | L22: 0 | M22: 0 | N22: 0 | O22: 0 | P22: 0 | Q22: 0 | R22: 0 | S22: 0 | T22: 0 | U22: 0 | V22: 0 | W22: 0 | AL22: =ROWS($AO$4:AO22) -> 19 | AM22: =IF(AO22=$B$2,AL22,"") | AN22: =IFERROR(SMALL($AM$4:$AM$54,AL22),"") -> 44 | AO22: Comité Olímpico/Paralímpico Nacional | AP22: Personal técnico especializado
A23: {=IFERROR(INDEX($AO$4:$AP$73,$AN23,COLUMN(A$4:A23)),"")} -> Federación deportiva nacional | B23: {=IFERROR(INDEX($AO$4:$AP$73,$AN23,COLUMN()),"")} -> Personal técnico de apoyo a la gestión | C23: =SUM(D23:W23) -> 0 | D23: 0 | E23: 0 | F23: 0 | G23: 0 | H23: 0 | I23: 0 | J23: 0 | K23: 0 | L23: 0 | M23: 0 | N23: 0 | O23: 0 | P23: 0 | Q23: 0 | R23: 0 | S23: 0 | T23: 0 | U23: 0 | V23: 0 | W23: 0 | AL23: =ROWS($AO$4:AO23) -> 20 | AM23: =IF(AO23=$B$2,AL23,"") | AN23: =IFERROR(SMALL($AM$4:$AM$54,AL23),"") -> 45 | AO23: Comité Olímpico/Paralímpico Nacional | AP23: Personal de apoyo para la realización de eventos
A24: {=IFERROR(INDEX($AO$4:$AP$73,$AN24,COLUMN(A$4:A24)),"")} -> Federación deportiva nacional | B24: {=IFERROR(INDEX($AO$4:$AP$73,$AN24,COLUMN()),"")} -> Personal de apoyo para la realización de eventos | C24: =SUM(D24:W24) -> 0 | E24: 0 | F24: 0 | G24: 0 | H24: 0 | I24: 0 | J24: 0 | K24: 0 | L24: 0 | M24: 0 | N24: 0 | O24: 0 | P24: 0 | Q24: 0 | R24: 0 | S24: 0 | T24: 0 | U24: 0 | V24: 0 | W24: 0 | AL24: =ROWS($AO$4:AO24) -> 21 | AM24: =IF(AO24=$B$2,AL24,"") | AN24: =IFERROR(SMALL($AM$4:$AM$54,AL24),"") -> 46 | AO24: Comité Olímpico/Paralímpico Nacional | AP24: Implementación deportiva
A25: {=IFERROR(INDEX($AO$4:$AP$73,$AN25,COLUMN(A$4:A25)),"")} -> Federación deportiva nacional | B25: {=IFERROR(INDEX($AO$4:$AP$73,$AN25,COLUMN()),"")} -> Personal de juzgamiento | C25: =SUM(D25:W25) -> 0 | E25: 0 | F25: 0 | G25: 0 | H25: 0 | I25: 0 | J25: 0 | K25: 0 | L25: 0 | M25: 0 | N25: 0 | O25: 0 | P25: 0 | Q25: 0 | R25: 0 | S25: 0 | T25: 0 | U25: 0 | V25: 0 | W25: 0 | AL25: =ROWS($AO$4:AO25) -> 22 | AM25: =IF(AO25=$B$2,AL25,"") | AN25: =IFERROR(SMALL($AM$4:$AM$54,AL25),"") -> 47 | AO25: Comité Olímpico/Paralímpico Nacional | AP25: Insumos tecnológicos para el seguimiento y control técnico
A26: {=IFERROR(INDEX($AO$4:$AP$73,$AN26,COLUMN(A$4:A26)),"")} -> Federación deportiva nacional | B26: {=IFERROR(INDEX($AO$4:$AP$73,$AN26,COLUMN()),"")} -> Implementación deportiva | C26: =SUM(D26:W26) -> 0 | E26: 0 | F26: 0 | G26: 0 | H26: 0 | I26: 0 | J26: 0 | K26: 0 | L26: 0 | M26: 0 | N26: 0 | O26: 0 | P26: 0 | Q26: 0 | R26: 0 | S26: 0 | T26: 0 | U26: 0 | V26: 0 | W26: 0 | AL26: =ROWS($AO$4:AO26) -> 23 | AM26: =IF(AO26=$B$2,AL26,"") | AN26: =IFERROR(SMALL($AM$4:$AM$54,AL26),"") -> 48 | AO26: Comité Olímpico/Paralímpico Nacional | AP26: Indumentaria
A27: {=IFERROR(INDEX($AO$4:$AP$73,$AN27,COLUMN(A$4:A27)),"")} -> Federación deportiva nacional | B27: {=IFERROR(INDEX($AO$4:$AP$73,$AN27,COLUMN()),"")} -> Insumos tecnológicos para el seguimiento y control técnico | C27: =SUM(D27:W27) -> 0 | E27: 0 | F27: 0 | G27: 0 | H27: 0 | I27: 0 | J27: 0 | K27: 0 | L27: 0 | M27: 0 | N27: 0 | O27: 0 | P27: 0 | Q27: 0 | R27: 0 | S27: 0 | T27: 0 | U27: 0 | V27: 0 | W27: 0 | AL27: =ROWS($AO$4:AO27) -> 24 | AM27: =IF(AO27=$B$2,AL27,"") | AN27: =IFERROR(SMALL($AM$4:$AM$54,AL27),"") -> 49 | AO27: Comité Olímpico/Paralímpico Nacional | AP27: Mobiliario
A28: {=IFERROR(INDEX($AO$4:$AP$73,$AN28,COLUMN(A$4:A28)),"")} -> Federación deportiva nacional | B28: {=IFERROR(INDEX($AO$4:$AP$73,$AN28,COLUMN()),"")} -> Indumentaria | C28: =SUM(D28:W28) -> 0 | D28: 0 | E28: 0 | F28: 0 | G28: 0 | H28: 0 | I28: 0 | J28: 0 | K28: 0 | L28: 0 | M28: 0 | N28: 0 | O28: 0 | P28: 0 | Q28: 0 | R28: 0 | S28: 0 | T28: 0 | U28: 0 | V28: 0 | W28: 0 | AL28: =ROWS($AO$4:AO28) -> 25 | AM28: =IF(AO28=$B$2,AL28,"") | AN28: =IFERROR(SMALL($AM$4:$AM$54,AL28),"") -> 50 | AO28: Comité Olímpico/Paralímpico Nacional | AP28: Gastos operativos
A29: {=IFERROR(INDEX($AO$4:$AP$73,$AN29,COLUMN(A$4:A29)),"")} -> Federación deportiva nacional | B29: {=IFERROR(INDEX($AO$4:$AP$73,$AN29,COLUMN()),"")} -> Mobiliario | C29: =SUM(D29:W29) -> 0 | D29: 0 | E29: 0 | F29: 0 | G29: 0 | H29: 0 | I29: 0 | J29: 0 | K29: 0 | L29: 0 | M29: 0 | N29: 0 | O29: 0 | P29: 0 | Q29: 0 | R29: 0 | S29: 0 | T29: 0 | U29: 0 | V29: 0 | W29: 0 | AL29: =ROWS($AO$4:AO29) -> 26 | AM29: =IF(AO29=$B$2,AL29,"") -> 26 | AN29: =IFERROR(SMALL($AM$4:$AM$54,AL29),"") -> 51 | AO29: Federación deportiva nacional | AP29: Transporte aéreo
A30: {=IFERROR(INDEX($AO$4:$AP$73,$AN30,COLUMN(A$4:A30)),"")} | B30: PRESUPUESTO TOTAL | C30: =SUM(D30:W30) -> 390000000 | D30: =SUM(D4:D29) -> 390000000 | E30: =SUM(E4:E29) -> 0 | F30: =SUM(F4:F29) -> 0 | G30: =SUM(G4:G29) -> 0 | H30: =SUM(H4:H29) -> 0 | I30: =SUM(I4:I29) -> 0 | J30: =SUM(J4:J29) -> 0 | K30: =SUM(K4:K29) -> 0 | ... W30: =SUM(W4:W29) -> 0 | AL30: =ROWS($AO$4:AO30) -> 27 | AM30: =IF(AO30=$B$2,AL30,"") -> 27 | AN30: =IFERROR(SMALL($AM$4:$AM$54,AL30),"") | AO30: Federación deportiva nacional | AP30: Transporte terrestre
A31: {=IFERROR(INDEX($AO$4:$AP$73,$AN31,COLUMN(A$4:A31)),"")} | AL31: =ROWS($AO$4:AO31) -> 28 | AM31: =IF(AO31=$B$2,AL31,"") -> 28 | AN31: =IFERROR(SMALL($AM$4:$AM$54,AL31),"") | AO31: Federación deportiva nacional | AP31: Transporte fluvial y marítimo
A32: {=IFERROR(INDEX($AO$4:$AP$73,$AN32,COLUMN(A$4:A32)),"")} | AL32: =ROWS($AO$4:AO32) -> 29 | AM32: =IF(AO32=$B$2,AL32,"") -> 29 | AN32: =IFERROR(SMALL($AM$4:$AM$54,AL32),"") | AO32: Federación deportiva nacional | AP32: Transporte de carga
A33: {=IFERROR(INDEX($AO$4:$AP$73,$AN33,COLUMN(A$4:A33)),"")} | AL33: =ROWS($AO$4:AO33) -> 30 | AM33: =IF(AO33=$B$2,AL33,"") -> 30 | AN33: =IFERROR(SMALL($AM$4:$AM$54,AL33),"") | AO33: Federación deportiva nacional | AP33: Excesos de equipaje
A34: {=IFERROR(INDEX($AO$4:$AP$73,$AN34,COLUMN(A$4:A34)),"")} | AL34: =ROWS($AO$4:AO34) -> 31 | AM34: =IF(AO34=$B$2,AL34,"") -> 31 | AN34: =IFERROR(SMALL($AM$4:$AM$54,AL34),"") | AO34: Federación deportiva nacional | AP34: Impuestos aeroportuarios
A35: {=IFERROR(INDEX($AO$4:$AP$73,#REF!,COLUMN(A$4:A35)),"")} | AL35: =ROWS($AO$4:AO35) -> 32 | AM35: =IF(AO35=$B$2,AL35,"") -> 32 | AN35: =IFERROR(SMALL($AM$4:$AM$54,AL35),"") | AO35: Federación deportiva nacional | AP35: Visas
A36: {=IFERROR(INDEX($AO$4:$AP$73,$AN35,COLUMN(A$4:A36)),"")} | AL36: =ROWS($AO$4:AO36) -> 33 | AM36: =IF(AO36=$B$2,AL36,"") -> 33 | AN36: =IFERROR(SMALL($AM$4:$AM$54,AL36),"") | AO36: Federación deportiva nacional | AP36: Seguros
A37: {=IFERROR(INDEX($AO$4:$AP$73,$AN36,COLUMN(A$4:A37)),"")} | AL37: =ROWS($AO$4:AO37) -> 34 | AM37: =IF(AO37=$B$2,AL37,"") -> 34 | AN37: =IFERROR(SMALL($AM$4:$AM$54,AL37),"") | AO37: Federación deportiva nacional | AP37: Alojamiento y alimentación
A38: {=IFERROR(INDEX($AO$4:$AP$73,$AN37,COLUMN(A$4:A38)),"")} | AL38: =ROWS($AO$4:AO38) -> 35 | AM38: =IF(AO38=$B$2,AL38,"") -> 35 | AN38: =IFERROR(SMALL($AM$4:$AM$54,AL38),"") | AO38: Federación deportiva nacional | AP38: Inscripciones
A39: {=IFERROR(INDEX($AO$4:$AP$73,$AN38,COLUMN(A$4:A39)),"")} | AL39: =ROWS($AO$4:AO39) -> 36 | AM39: =IF(AO39=$B$2,AL39,"") -> 36 | AN39: =IFERROR(SMALL($AM$4:$AM$54,AL39),"") | AO39: Federación deportiva nacional | AP39: Servicios audiovisuales, comunicación y prensa
A40: {=IFERROR(INDEX($AO$4:$AP$73,$AN39,COLUMN(A$4:A40)),"")} | C40: =1107340000-C30 -> 717340000 | AL40: =ROWS($AO$4:AO40) -> 37 | AM40: =IF(AO40=$B$2,AL40,"") -> 37 | AN40: =IFERROR(SMALL($AM$4:$AM$54,AL40),"") | AO40: Federación deportiva nacional | AP40: Protocolo social y deportivo
...

Sheet CALENDARIO INTERNACIONAL
B1: EJECUTOR | C1: Nombre organismo deportivo | E1: Año
B2: Federación deportiva nacional
A3: EJECUTOR | B3: SUBLÍNEA DE INVERSIÓN | C3: COSTO POR SUBLÍNEA DE INVERSIÓN | D3: EVENTO 1 | E3: EVENTO 2 | F3: EVENTO 3 | G3: EVENTO 4 | H3: EVENTO 5 | I3: EVENTO 6 | J3: EVENTO 7 | K3: EVENTO 8 | L3: EVENTO 9 | M3: EVENTO 10 | N3: EVENTO 11 | O3: EVENTO 12 | P3: EVENTO 13 | Q3: EVENTO 14 | R3: EVENTO 15 | S3: EVENTO 16 | T3: EVENTO 17 | U3: EVENTO 18 | V3: EVENTO 19 | W3: EVENTO 20 | AK3: AUX1 | AL3: AUX2 | AM3: AUX3 | AN3: EJECUTORES | AO3: SUBLÍNEA
A4: {=IFERROR(INDEX($AN$4:$AO$73,$AM4,COLUMN(A$4:A4)),"")} -> Federación deportiva nacional | B4: {=IFERROR(INDEX($AN$4:$AO$73,$AM4,COLUMN()),"")} -> Transporte aéreo | C4: =SUM(D4:W4) -> 0 | D4: 0 | E4: 0 | F4: 0 | G4: 0 | H4: 0 | I4: 0 | J4: 0 | K4: 0 | L4: 0 | M4: 0 | N4: 0 | O4: 0 | P4: 0 | Q4: 0 | R4: 0 | S4: 0 | T4: 0 | U4: 0 | V4: 0 | W4: 0 | AK4: =ROWS($AN$4:AN4) -> 1 | AL4: =IF(AN4=$B$2,AK4,"") | AM4: =IFERROR(SMALL($AL$4:$AL$57,AK4),"") -> 27 | AN4: Comité Olímpico/Paralímpico Nacional | AO4: Transporte aéreo
A5: {=IFERROR(INDEX($AN$4:$AO$73,$AM5,COLUMN(A$4:A5)),"")} -> Federación deportiva nacional | B5: {=IFERROR(INDEX($AN$4:$AO$73,$AM5,COLUMN()),"")} -> Transporte terrestre | C5: =SUM(D5:W5) -> 0 | D5: 0 | E5: 0 | F5: 0 | G5: 0 | H5: 0 | I5: 0 | J5: 0 | K5: 0 | L5: 0 | M5: 0 | N5: 0 | O5: 0 | P5: 0 | Q5: 0 | R5: 0 | S5: 0 | T5: 0 | U5: 0 | V5: 0 | W5: 0 | AK5: =ROWS($AN$4:AN5) -> 2 | AL5: =IF(AN5=$B$2,AK5,"") | AM5: =IFERROR(SMALL($AL$4:$AL$57,AK5),"") -> 28 | AN5: Comité Olímpico/Paralímpico Nacional | AO5: Transporte terrestre
A6: {=IFERROR(INDEX($AN$4:$AO$73,$AM6,COLUMN(A$4:A6)),"")} -> Federación deportiva nacional | B6: {=IFERROR(INDEX($AN$4:$AO$73,$AM6,COLUMN()),"")} -> Transporte fluvial y marítimo | C6: =SUM(D6:W6) -> 0 | D6: 0 | E6: 0 | F6: 0 | G6: 0 | H6: 0 | I6: 0 | J6: 0 | K6: 0 | L6: 0 | M6: 0 | N6: 0 | O6: 0 | P6: 0 | Q6: 0 | R6: 0 | S6: 0 | T6: 0 | U6: 0 | V6: 0 | W6: 0 | AK6: =ROWS($AN$4:AN6) -> 3 | AL6: =IF(AN6=$B$2,AK6,"") | AM6: =IFERROR(SMALL($AL$4:$AL$57,AK6),"") -> 29 | AN6: Comité Olímpico/Paralímpico Nacional | AO6: Transporte fluvial y marítimo
A7: {=IFERROR(INDEX($AN$4:$AO$73,$AM7,COLUMN(A$4:A7)),"")} -> Federación deportiva nacional | B7: {=IFERROR(INDEX($AN$4:$AO$73,$AM7,COLUMN()),"")} -> Transporte de carga | C7: =SUM(D7:W7) -> 0 | D7: 0 | E7: 0 | F7: 0 | G7: 0 | H7: 0 | I7: 0 | J7: 0 | K7: 0 | L7: 0 | M7: 0 | N7: 0 | O7: 0 | P7: 0 | Q7: 0 | R7: 0 | S7: 0 | T7: 0 | U7: 0 | V7: 0 | W7: 0 | AK7: =ROWS($AN$4:AN7) -> 4 | AL7: =IF(AN7=$B$2,AK7,"") | AM7: =IFERROR(SMALL($AL$4:$AL$57,AK7),"") -> 30 | AN7: Comité Olímpico/Paralímpico Nacional | AO7: Transporte de carga
A8: {=IFERROR(INDEX($AN$4:$AO$73,$AM8,COLUMN(A$4:A8)),"")} -> Federación deportiva nacional | B8: {=IFERROR(INDEX($AN$4:$AO$73,$AM8,COLUMN()),"")} -> Auxilio de marcha | C8: =SUM(D8:W8) -> 0 | D8: 0 | E8: 0 | F8: 0 | G8: 0 | H8: 0 | I8: 0 | J8: 0 | K8: 0 | L8: 0 | M8: 0 | N8: 0 | O8: 0 | P8: 0 | Q8: 0 | R8: 0 | S8: 0 | T8: 0 | U8: 0 | V8: 0 | W8: 0 | AK8: =ROWS($AN$4:AN8) -> 5 | AL8: =IF(AN8=$B$2,AK8,"") | AM8: =IFERROR(SMALL($AL$4:$AL$57,AK8),"") -> 31 | AN8: Comité Olímpico/Paralímpico Nacional | AO8: Auxilio de marcha
A9: {=IFERROR(INDEX($AN$4:$AO$73,$AM9,COLUMN(A$4:A9)),"")} -> Federación deportiva nacional | B9: {=IFERROR(INDEX($AN$4:$AO$73,$AM9,COLUMN()),"")} -> Excesos de equipaje | C9: =SUM(D9:W9) -> 0 | D9: 0 | E9: 0 | F9: 0 | G9: 0 | H9: 0 | I9: 0 | J9: 0 | K9: 0 | L9: 0 | M9: 0 | N9: 0 | O9: 0 | P9: 0 | Q9: 0 | R9: 0 | S9: 0 | T9: 0 | U9: 0 | V9: 0 | W9: 0 | AK9: =ROWS($AN$4:AN9) -> 6 | AL9: =IF(AN9=$B$2,AK9,"") | AM9: =IFERROR(SMALL($AL$4:$AL$57,AK9),"") -> 32 | AN9: Comité Olímpico/Paralímpico Nacional | AO9: Excesos de equipaje
A10: {=IFERROR(INDEX($AN$4:$AO$73,$AM10,COLUMN(A$4:A10)),"")} -> Federación deportiva nacional | B10: {=IFERROR(INDEX($AN$4:$AO$73,$AM10,COLUMN()),"")} -> Impuestos aeroportuarios | C10: =SUM(D10:W10) -> 0 | D10: 0 | E10: 0 | F10: 0 | G10: 0 | H10: 0 | I10: 0 | J10: 0 | K10: 0 | L10: 0 | M10: 0 | N10: 0 | O10: 0 | P10: 0 | Q10: 0 | R10: 0 | S10: 0 | T10: 0 | U10: 0 | V10: 0 | W10: 0 | AK10: =ROWS($AN$4:AN10) -> 7 | AL10: =IF(AN10=$B$2,AK10,"") | AM10: =IFERROR(SMALL($AL$4:$AL$57,AK10),"") -> 33 | AN10: Comité Olímpico/Paralímpico Nacional | AO10: Impuestos aeroportuarios
A11: {=IFERROR(INDEX($AN$4:$AO$73,$AM11,COLUMN(A$4:A11)),"")} -> Federación deportiva nacional | B11: {=IFERROR(INDEX($AN$4:$AO$73,$AM11,COLUMN()),"")} -> Visas | C11: =SUM(D11:W11) -> 0 | D11: 0 | E11: 0 | F11: 0 | G11: 0 | H11: 0 | I11: 0 | J11: 0 | K11: 0 | L11: 0 | M11: 0 | N11: 0 | O11: 0 | P11: 0 | Q11: 0 | R11: 0 | S11: 0 | T11: 0 | U11: 0 | V11: 0 | W11: 0 | AK11: =ROWS($AN$4:AN11) -> 8 | AL11: =IF(AN11=$B$2,AK11,"") | AM11: =IFERROR(SMALL($AL$4:$AL$57,AK11),"") -> 34 | AN11: Comité Olímpico/Paralímpico Nacional | AO11: Visas
A12: {=IFERROR(INDEX($AN$4:$AO$73,$AM12,COLUMN(A$4:A12)),"")} -> Federación deportiva nacional | B12: {=IFERROR(INDEX($AN$4:$AO$73,$AM12,COLUMN()),"")} -> Seguros | C12: =SUM(D12:W12) -> 0 | D12: 0 | E12: 0 | F12: 0 | G12: 0 | H12: 0 | I12: 0 | J12: 0 | K12: 0 | L12: 0 | M12: 0 | N12: 0 | O12: 0 | P12: 0 | Q12: 0 | R12: 0 | S12: 0 | T12: 0 | U12: 0 | V12: 0 | W12: 0 | AK12: =ROWS($AN$4:AN12) -> 9 | AL12: =IF(AN12=$B$2,AK12,"") | AM12: =IFERROR(SMALL($AL$4:$AL$57,AK12),"") -> 35 | AN12: Comité Olímpico/Paralímpico Nacional | AO12: Seguros
A13: {=IFERROR(INDEX($AN$4:$AO$73,$AM13,COLUMN(A$4:A13)),"")} -> Federación deportiva nacional | B13: {=IFERROR(INDEX($AN$4:$AO$73,$AM13,COLUMN()),"")} -> Alojamiento y alimentación | C13: =SUM(D13:W13) -> 0 | D13: 0 | E13: 0 | F13: 0 | G13: 0 | H13: 0 | I13: 0 | J13: 0 | K13: 0 | L13: 0 | M13: 0 | N13: 0 | O13: 0 | P13: 0 | Q13: 0 | R13: 0 | S13: 0 | T13: 0 | U13: 0 | V13: 0 | W13: 0 | AK13: =ROWS($AN$4:AN13) -> 10 | AL13: =IF(AN13=$B$2,AK13,"") | AM13: =IFERROR(SMALL($AL$4:$AL$57,AK13),"") -> 36 | AN13: Comité Olímpico/Paralímpico Nacional | AO13: Alojamiento y alimentación
A14: {=IFERROR(INDEX($AN$4:$AO$73,$AM14,COLUMN(A$4:A14)),"")} -> Federación deportiva nacional | B14: {=IFERROR(INDEX($AN$4:$AO$73,$AM14,COLUMN()),"")} -> Inscripciones | C14: =SUM(D14:W14) -> 0 | D14: 0 | E14: 0 | F14: 0 | G14: 0 | H14: 0 | I14: 0 | J14: 0 | K14: 0 | L14: 0 | M14: 0 | N14: 0 | O14: 0 | P14: 0 | Q14: 0 | R14: 0 | S14: 0 | T14: 0 | U14: 0 | V14: 0 | W14: 0 | AK14: =ROWS($AN$4:AN14) -> 11 | AL14: =IF(AN14=$B$2,AK14,"") | AM14: =IFERROR(SMALL($AL$4:$AL$57,AK14),"") -> 37 | AN14: Comité Olímpico/Paralímpico Nacional | AO14: Inscripciones
A15: {=IFERROR(INDEX($AN$4:$AO$73,$AM15,COLUMN(A$4:A15)),"")} -> Federación deportiva nacional | B15: {=IFERROR(INDEX($AN$4:$AO$73,$AM15,COLUMN()),"")} -> Servicios audiovisuales, comunicación y prensa | C15: =SUM(D15:W15) -> 0 | D15: 0 | E15: 0 | F15: 0 | G15: 0 | H15: 0 | I15: 0 | J15: 0 | K15: 0 | L15: 0 | M15: 0 | N15: 0 | O15: 0 | P15: 0 | Q15: 0 | R15: 0 | S15: 0 | T15: 0 | U15: 0 | V15: 0 | W15: 0 | AK15: =ROWS($AN$4:AN15) -> 12 | AL15: =IF(AN15=$B$2,AK15,"") | AM15: =IFERROR(SMALL($AL$4:$AL$57,AK15),"") -> 38 | AN15: Comité Olímpico/Paralímpico Nacional | AO15: Servicios audiovisuales, comunicación y prensa
... A30: {=IFERROR(INDEX($AN$4:$AO$73,$AM30,COLUMN(A$4:A30)),"")} -> Federación deportiva nacional | B30: {=IFERROR(INDEX($AN$4:$AO$73,$AM30,COLUMN()),"")} -> Mobiliario | C30: =SUM(D30:W30) -> 0 | D30: 0 | E30: 0 | F30: 0 | G30: 0 | H30: 0 | I30: 0 | J30: 0 | K30: 0 | L30: 0 | M30: 0 | N30: 0 | O30: 0 | P30: 0 | Q30: 0 | R30: 0 | S30: 0 | T30: 0 | U30: 0 | V30: 0 | W30: 0 | AK30: =ROWS($AN$4:AN30) -> 27 | AL30: =IF(AN30=$B$2,AK30,"") -> 27 | AM30: =IFERROR(SMALL($AL$4:$AL$57,AK30),"") -> 53 | AN30: Federación deportiva nacional | AO30: Transporte aéreo
A31: {=IFERROR(INDEX($AN$4:$AO$73,$AM31,COLUMN(A$4:A31)),"")} | B31: PRESUPUESTO TOTAL | C31: =SUM(D31:W31) -> 0 | D31: =SUM(D4:D30) -> 0 | E31: =SUM(E4:E30) -> 0 | F31: =SUM(F4:F30) -> 0 | G31: =SUM(G4:G30) -> 0 | H31: =SUM(H4:H30) -> 0 | I31: =SUM(I4:I30) -> 0 | J31: =SUM(J4:J30) -> 0 | K31: =SUM(K4:K30) -> 0 | ... W31: =SUM(W4:W30) -> 0 | AK31: =ROWS($AN$4:AN31) -> 28 | AL31: =IF(AN31=$B$2,AK31,"") -> 28 | AM31: =IFERROR(SMALL($AL$4:$AL$57,AK31),"") | AN31: Federación deportiva nacional | AO31: Transporte terrestre
A32: {=IFERROR(INDEX($AN$4:$AO$73,$AM32,COLUMN(A$4:A32)),"")} | AK32: =ROWS($AN$4:AN32) -> 29 | AL32: =IF(AN32=$B$2,AK32,"") -> 29 | AM32: =IFERROR(SMALL($AL$4:$AL$57,AK32),"") | AN32: Federación deportiva nacional | AO32: Transporte fluvial y marítimo
A33: {=IFERROR(INDEX($AN$4:$AO$73,$AM33,COLUMN(A$4:A33)),"")} | AK33: =ROWS($AN$4:AN33) -> 30 | AL33: =IF(AN33=$B$2,AK33,"") -> 30 | AM33: =IFERROR(SMALL($AL$4:$AL$57,AK33),"") | AN33: Federación deportiva nacional | AO33: Transporte de carga
A34: {=IFERROR(INDEX($AN$4:$AO$73,$AM34,COLUMN(A$4:A34)),"")} | AK34: =ROWS($AN$4:AN34) -> 31 | AL34: =IF(AN34=$B$2,AK34,"") -> 31 | AM34: =IFERROR(SMALL($AL$4:$AL$57,AK34),"") | AN34: Federación deportiva nacional | AO34: Auxilio de marcha
A35: {=IFERROR(INDEX($AN$4:$AO$73,$AM35,COLUMN(A$4:A35)),"")} | AK35: =ROWS($AN$4:AN35) -> 32 | AL35: =IF(AN35=$B$2,AK35,"") -> 32 | AM35: =IFERROR(SMALL($AL$4:$AL$57,AK35),"") | AN35: Federación deportiva nacional | AO35: Excesos de equipaje
A36: {=IFERROR(INDEX($AN$4:$AO$73,$AM36,COLUMN(A$4:A36)),"")} | AK36: =ROWS($AN$4:AN36) -> 33 | AL36: =IF(AN36=$B$2,AK36,"") -> 33 | AM36: =IFERROR(SMALL($AL$4:$AL$57,AK36),"") | AN36: Federación deportiva nacional | AO36: Impuestos aeroportuarios
A37: {=IFERROR(INDEX($AN$4:$AO$73,$AM37,COLUMN(A$4:A37)),"")} | AK37: =ROWS($AN$4:AN37) -> 34 | AL37: =IF(AN37=$B$2,AK37,"") -> 34 | AM37: =IFERROR(SMALL($AL$4:$AL$57,AK37),"") | AN37: Federación deportiva nacional | AO37: Visas
A38: {=IFERROR(INDEX($AN$4:$AO$73,$AM38,COLUMN(A$4:A38)),"")} | AK38: =ROWS($AN$4:AN38) -> 35 | AL38: =IF(AN38=$B$2,AK38,"") -> 35 | AM38: =IFERROR(SMALL($AL$4:$AL$57,AK38),"") | AN38: Federación deportiva nacional | AO38: Seguros
A39: {=IFERROR(INDEX($AN$4:$AO$73,$AM39,COLUMN(A$4:A39)),"")} | AK39: =ROWS($AN$4:AN39) -> 36 | AL39: =IF(AN39=$B$2,AK39,"") -> 36 | AM39: =IFERROR(SMALL($AL$4:$AL$57,AK39),"") | AN39: Federación deportiva nacional | AO39: Alojamiento y alimentación
A40: {=IFERROR(INDEX($AN$4:$AO$73,$AM40,COLUMN(A$4:A40)),"")} | AK40: =ROWS($AN$4:AN40) -> 37 | AL40: =IF(AN40=$B$2,AK40,"") -> 37 | AM40: =IFERROR(SMALL($AL$4:$AL$57,AK40),"") | AN40: Federación deportiva nacional | AO40: Inscripciones
A41: {=IFERROR(INDEX($AN$4:$AO$73,$AM41,COLUMN(A$4:A41)),"")} | AK41: =ROWS($AN$4:AN41) -> 38 | AL41: =IF(AN41=$B$2,AK41,"") -> 38 | AM41: =IFERROR(SMALL($AL$4:$AL$57,AK41),"") | AN41: Federación deportiva nacional | AO41: Servicios audiovisuales, comunicación y prensa
A42: {=IFERROR(INDEX($AN$4:$AO$73,$AM42,COLUMN(A$4:A42)),"")} | AK42: =ROWS($AN$4:AN42) -> 39 | AL42: =IF(AN42=$B$2,AK42,"") -> 39 | AM42: =IFERROR(SMALL($AL$4:$AL$57,AK42),"") | AN42: Federación deportiva nacional | AO42: Protocolo social y deportivo
A43: {=IFERROR(INDEX($AN$4:$AO$73,$AM43,COLUMN(A$4:A43)),"")} | AK43: =ROWS($AN$4:AN43) -> 40 | AL43: =IF(AN43=$B$2,AK43,"") -> 40 | AM43: =IFERROR(SMALL($AL$4:$AL$57,AK43),"") | AN43: Federación deportiva nacional | AO43: Servicios TIC
... A56: {=IFERROR(INDEX($AN$4:$AO$73,$AM56,COLUMN(A$4:A56)),"")} | AK56: =ROWS($AN$4:AN56) -> 53 | AL56: =IF(AN56=$B$2,AK56,"") -> 53 | AM56: =IFERROR(SMALL($AL$4:$AL$57,AK56),"") | AN56: Federación deportiva nacional | AO56: Mobiliario
A57: {=IFERROR(INDEX($AN$4:$AO$73,$AM57,COLUMN(A$4:A57)),"")} -> #VALUE!
A58: {=IFERROR(INDEX($AN$4:$AO$73,$AM58,COLUMN(A$4:A58)),"")} -> #VALUE!
A59: {=IFERROR(INDEX($AN$4:$AO$73,$AM59,COLUMN(A$4:A59)),"")} -> #VALUE!
A60: {=IFERROR(INDEX($AN$4:$AO$73,$AM60,COLUMN(A$4:A60)),"")} -> #VALUE!
A61: {=IFERROR(INDEX($AN$4:$AO$73,$AM61,COLUMN(A$4:A61)),"")} -> #VALUE!
A62: {=IFERROR(INDEX($AN$4:$AO$73,$AM62,COLUMN(A$4:A62)),"")} -> #VALUE!
A63: {=IFERROR(INDEX($AN$4:$AO$73,$AM63,COLUMN(A$4:A63)),"")} -> #VALUE!
A64: {=IFERROR(INDEX($AN$4:$AO$73,$AM64,COLUMN(A$4:A64)),"")} -> #VALUE!
A65: {=IFERROR(INDEX($AN$4:$AO$73,$AM65,COLUMN(A$4:A65)),"")} -> #VALUE!
A66: {=IFERROR(INDEX($AN$4:$AO$73,$AM66,COLUMN(A$4:A66)),"")} -> #VALUE!
...

Sheet DESARROLLO DEPORTIVO
B1: EJECUTOR | C1: Nombre organismo deportivo | E1: Año
B2: Federación deportiva nacional
A3: EJECUTOR | B3: SUBLÍNEA DE INVERSIÓN | C3: COSTO POR SUBLÍNEA DE INVERSIÓN | D3: EVENTO 1 | E3: EVENTO 2 | F3: EVENTO 3 | G3: EVENTO 4 | H3: EVENTO 5 | I3: EVENTO 6 | J3: EVENTO 7 | K3: EVENTO 8 | L3: EVENTO 9 | M3: EVENTO 10 | N3: EVENTO 11 | O3: EVENTO 12 | P3: EVENTO 13 | Q3: EVENTO 14 | R3: EVENTO 15 | S3: EVENTO 16 | T3: EVENTO 17 | U3: EVENTO 18 | V3: EVENTO 19 | W3: EVENTO 20 | AH3: AUX1 | AI3: AUX2 | AJ3: AUX3 | AK3: EJECUTORES | AL3: SUBLÍNEA
A4: {=IFERROR(INDEX($AK$4:$AL$73,$AJ4,COLUMN(A$4:A4)),"")} -> Federación deportiva nacional | B4: {=IFERROR(INDEX($AK$4:$AL$73,$AJ4,COLUMN()),"")} -> Transporte aéreo | C4: =SUM(D4:W4) -> 0 | D4: 0 | E4: 0 | F4: 0 | G4: 0 | H4: 0 | I4: 0 | J4: 0 | K4: 0 | L4: 0 | M4: 0 | N4: 0 | O4: 0 | P4: 0 | Q4: 0 | R4: 0 | S4: 0 | T4: 0 | U4: 0 | V4: 0 | W4: 0 | AH4: =ROWS($AK$4:AK4) -> 1 | AI4: =IF(AK4=$B$2,AH4,"") | AJ4: =IFERROR(SMALL($AI$4:$AI$57,AH4),"") -> 26 | AK4: Comité Olímpico/Paralímpico Nacional | AL4: Transporte aéreo
A5: {=IFERROR(INDEX($AK$4:$AL$73,$AJ5,COLUMN(A$4:A5)),"")} -> Federación deportiva nacional | B5: {=IFERROR(INDEX($AK$4:$AL$73,$AJ5,COLUMN()),"")} -> Transporte terrestre | C5: =SUM(D5:W5) -> 0 | D5: 0 | E5: 0 | F5: 0 | G5: 0 | H5: 0 | I5: 0 | J5: 0 | K5: 0 | L5: 0 | M5: 0 | N5: 0 | O5: 0 | P5: 0 | Q5: 0 | R5: 0 | S5: 0 | T5: 0 | U5: 0 | V5: 0 | W5: 0 | AH5: =ROWS($AK$4:AK5) -> 2 | AI5: =IF(AK5=$B$2,AH5,"") | AJ5: =IFERROR(SMALL($AI$4:$AI$57,AH5),"") -> 27 | AK5: Comité Olímpico/Paralímpico Nacional | AL5: Transporte terrestre
A6: {=IFERROR(INDEX($AK$4:$AL$73,$AJ6,COLUMN(A$4:A6)),"")} -> Federación deportiva nacional | B6: {=IFERROR(INDEX($AK$4:$AL$73,$AJ6,COLUMN()),"")} -> Transporte fluvial y marítimo | C6: =SUM(D6:W6) -> 0 | D6: 0 | E6: 0 | F6: 0 | G6: 0 | H6: 0 | I6: 0 | J6: 0 | K6: 0 | L6: 0 | M6: 0 | N6: 0 | O6: 0 | P6: 0 | Q6: 0 | R6: 0 | S6: 0 | T6: 0 | U6: 0 | V6: 0 | W6: 0 | AH6: =ROWS($AK$4:AK6) -> 3 | AI6: =IF(AK6=$B$2,AH6,"") | AJ6: =IFERROR(SMALL($AI$4:$AI$57,AH6),"") -> 28 | AK6: Comité Olímpico/Paralímpico Nacional | AL6: Transporte fluvial y marítimo
A7: {=IFERROR(INDEX($AK$4:$AL$73,$AJ7,COLUMN(A$4:A7)),"")} -> Federación deportiva nacional | B7: {=IFERROR(INDEX($AK$4:$AL$73,$AJ7,COLUMN()),"")} -> Transporte de carga | C7: =SUM(D7:W7) -> 0 | D7: 0 | E7: 0 | F7: 0 | G7: 0 | H7: 0 | I7: 0 | J7: 0 | K7: 0 | L7: 0 | M7: 0 | N7: 0 | O7: 0 | P7: 0 | Q7: 0 | R7: 0 | S7: 0 | T7: 0 | U7: 0 | V7: 0 | W7: 0 | AH7: =ROWS($AK$4:AK7) -> 4 | AI7: =IF(AK7=$B$2,AH7,"") | AJ7: =IFERROR(SMALL($AI$4:$AI$57,AH7),"") -> 29 | AK7: Comité Olímpico/Paralímpico Nacional | AL7: Transporte de carga
A8: {=IFERROR(INDEX($AK$4:$AL$73,$AJ8,COLUMN(A$4:A8)),"")} -> Federación deportiva nacional | B8: {=IFERROR(INDEX($AK$4:$AL$73,$AJ8,COLUMN()),"")} -> Auxilio de marcha | C8: =SUM(D8:W8) -> 0 | D8: 0 | E8: 0 | F8: 0 | G8: 0 | H8: 0 | I8: 0 | J8: 0 | K8: 0 | L8: 0 | M8: 0 | N8: 0 | O8: 0 | P8: 0 | Q8: 0 | R8: 0 | S8: 0 | T8: 0 | U8: 0 | V8: 0 | W8: 0 | AH8: =ROWS($AK$4:AK8) -> 5 | AI8: =IF(AK8=$B$2,AH8,"") | AJ8: =IFERROR(SMALL($AI$4:$AI$57,AH8),"") -> 30 | AK8: Comité Olímpico/Paralímpico Nacional | AL8: Excesos de equipaje
A9: {=IFERROR(INDEX($AK$4:$AL$73,$AJ9,COLUMN(A$4:A9)),"")} -> Federación deportiva nacional | B9: {=IFERROR(INDEX($AK$4:$AL$73,$AJ9,COLUMN()),"")} -> Excesos de equipaje | C9: =SUM(D9:W9) -> 0 | D9: 0 | E9: 0 | F9: 0 | G9: 0 | H9: 0 | I9: 0 | J9: 0 | K9: 0 | L9: 0 | M9: 0 | N9: 0 | O9: 0 | P9: 0 | Q9: 0 | R9: 0 | S9: 0 | T9: 0 | U9: 0 | V9: 0 | W9: 0 | AH9: =ROWS($AK$4:AK9) -> 6 | AI9: =IF(AK9=$B$2,AH9,"") | AJ9: =IFERROR(SMALL($AI$4:$AI$57,AH9),"") -> 31 | AK9: Comité Olímpico/Paralímpico Nacional | AL9: Impuestos aeroportuarios
A10: {=IFERROR(INDEX($AK$4:$AL$73,$AJ10,COLUMN(A$4:A10)),"")} -> Federación deportiva nacional | B10: {=IFERROR(INDEX($AK$4:$AL$73,$AJ10,COLUMN()),"")} -> Impuestos aeroportuarios | C10: =SUM(D10:W10) -> 0 | D10: 0 | E10: 0 | F10: 0 | G10: 0 | H10: 0 | I10: 0 | J10: 0 | K10: 0 | L10: 0 | M10: 0 | N10: 0 | O10: 0 | P10: 0 | Q10: 0 | R10: 0 | S10: 0 | T10: 0 | U10: 0 | V10: 0 | W10: 0 | AH10: =ROWS($AK$4:AK10) -> 7 | AI10: =IF(AK10=$B$2,AH10,"") | AJ10: =IFERROR(SMALL($AI$4:$AI$57,AH10),"") -> 32 | AK10: Comité Olímpico/Paralímpico Nacional | AL10: Visas
A11: {=IFERROR(INDEX($AK$4:$AL$73,$AJ11,COLUMN(A$4:A11)),"")} -> Federación deportiva nacional | B11: {=IFERROR(INDEX($AK$4:$AL$73,$AJ11,COLUMN()),"")} -> Visas | C11: =SUM(D11:W11) -> 0 | D11: 0 | E11: 0 | F11: 0 | G11: 0 | H11: 0 | I11: 0 | J11: 0 | K11: 0 | L11: 0 | M11: 0 | N11: 0 | O11: 0 | P11: 0 | Q11: 0 | R11: 0 | S11: 0 | T11: 0 | U11: 0 | V11: 0 | W11: 0 | AH11: =ROWS($AK$4:AK11) -> 8 | AI11: =IF(AK11=$B$2,AH11,"") | AJ11: =IFERROR(SMALL($AI$4:$AI$57,AH11),"") -> 33 | AK11: Comité Olímpico/Paralímpico Nacional | AL11: Seguros
A12: {=IFERROR(INDEX($AK$4:$AL$73,$AJ12,COLUMN(A$4:A12)),"")} -> Federación deportiva nacional | B12: {=IFERROR(INDEX($AK$4:$AL$73,$AJ12,COLUMN()),"")} -> Seguros | C12: =SUM(D12:W12) -> 0 | D12: 0 | E12: 0 | F12: 0 | G12: 0 | H12: 0 | I12: 0 | J12: 0 | K12: 0 | L12: 0 | M12: 0 | N12: 0 | O12: 0 | P12: 0 | Q12: 0 | R12: 0 | S12: 0 | T12: 0 | U12: 0 | V12: 0 | W12: 0 | AH12: =ROWS($AK$4:AK12) -> 9 | AI12: =IF(AK12=$B$2,AH12,"") | AJ12: =IFERROR(SMALL($AI$4:$AI$57,AH12),"") -> 34 | AK12: Comité Olímpico/Paralímpico Nacional | AL12: Alojamiento y alimentación
A13: {=IFERROR(INDEX($AK$4:$AL$73,$AJ13,COLUMN(A$4:A13)),"")} -> Federación deportiva nacional | B13: {=IFERROR(INDEX($AK$4:$AL$73,$AJ13,COLUMN()),"")} -> Alojamiento y alimentación | C13: =SUM(D13:W13) -> 0 | D13: 0 | E13: 0 | F13: 0 | G13: 0 | H13: 0 | I13: 0 | J13: 0 | K13: 0 | L13: 0 | M13: 0 | N13: 0 | O13: 0 | P13: 0 | Q13: 0 | R13: 0 | S13: 0 | T13: 0 | U13: 0 | V13: 0 | W13: 0 | AH13: =ROWS($AK$4:AK13) -> 10 | AI13: =IF(AK13=$B$2,AH13,"") | AJ13: =IFERROR(SMALL($AI$4:$AI$57,AH13),"") -> 35 | AK13: Comité Olímpico/Paralímpico Nacional | AL13: Inscripciones
A14: {=IFERROR(INDEX($AK$4:$AL$73,$AJ14,COLUMN(A$4:A14)),"")} -> Federación deportiva nacional | B14: {=IFERROR(INDEX($AK$4:$AL$73,$AJ14,COLUMN()),"")} -> Inscripciones | C14: =SUM(D14:W14) -> 0 | D14: 0 | E14: 0 | F14: 0 | G14: 0 | H14: 0 | I14: 0 | J14: 0 | K14: 0 | L14: 0 | M14: 0 | N14: 0 | O14: 0 | P14: 0 | Q14: 0 | R14: 0 | S14: 0 | T14: 0 | U14: 0 | V14: 0 | W14: 0 | AH14: =ROWS($AK$4:AK14) -> 11 | AI14: =IF(AK14=$B$2,AH14,"") | AJ14: =IFERROR(SMALL($AI$4:$AI$57,AH14),"") -> 36 | AK14: Comité Olímpico/Paralímpico Nacional | AL14: Servicios audiovisuales, comunicación y prensa
A15: {=IFERROR(INDEX($AK$4:$AL$73,$AJ15,COLUMN(A$4:A15)),"")} -> Federación deportiva nacional | B15: {=IFERROR(INDEX($AK$4:$AL$73,$AJ15,COLUMN()),"")} -> Servicios audiovisuales, comunicación y prensa | C15: =SUM(D15:W15) -> 0 | D15: 0 | E15: 0 | F15: 0 | G15: 0 | H15: 0 | I15: 0 | J15: 0 | K15: 0 | L15: 0 | M15: 0 | N15: 0 | O15: 0 | P15: 0 | Q15: 0 | R15: 0 | S15: 0 | T15: 0 | U15: 0 | V15: 0 | W15: 0 | AH15: =ROWS($AK$4:AK15) -> 12 | AI15: =IF(AK15=$B$2,AH15,"") | AJ15: =IFERROR(SMALL($AI$4:$AI$57,AH15),"") -> 37 | AK15: Comité Olímpico/Paralímpico Nacional | AL15: Protocolo social y deportivo
... A30: {=IFERROR(INDEX($AK$4:$AL$73,$AJ30,COLUMN(A$4:A30)),"")} -> Federación deportiva nacional | B30: {=IFERROR(INDEX($AK$4:$AL$73,$AJ30,COLUMN()),"")} -> Mobiliario | C30: =SUM(D30:W30) -> 0 | D30: 0 | E30: 0 | F30: 0 | G30: 0 | H30: 0 | I30: 0 | J30: 0 | K30: 0 | L30: 0 | M30: 0 | N30: 0 | O30: 0 | P30: 0 | Q30: 0 | R30: 0 | S30: 0 | T30: 0 | U30: 0 | V30: 0 | W30: 0 | AH30: =ROWS($AK$4:AK30) -> 27 | AI30: =IF(AK30=$B$2,AH30,"") -> 27 | AJ30: =IFERROR(SMALL($AI$4:$AI$57,AH30),"") -> 52 | AK30: Federación deportiva nacional | AL30: Transporte terrestre
A31: {=IFERROR(INDEX($AK$4:$AL$73,$AJ31,COLUMN(A$4:A31)),"")} | B31: PRESUPUESTO TOTAL | C31: =SUM(D31:W31) -> 0 | D31: =SUM(D4:D30) -> 0 | E31: =SUM(E4:E30) -> 0 | F31: =SUM(F4:F30) -> 0 | G31: =SUM(G4:G30) -> 0 | H31: =SUM(H4:H30) -> 0 | I31: =SUM(I4:I30) -> 0 | J31: =SUM(J4:J30) -> 0 | K31: =SUM(K4:K30) -> 0 | ... W31: =SUM(W4:W30) -> 0 | AH31: =ROWS($AK$4:AK31) -> 28 | AI31: =IF(AK31=$B$2,AH31,"") -> 28 | AJ31: =IFERROR(SMALL($AI$4:$AI$57,AH31),"") | AK31: Federación deportiva nacional | AL31: Transporte fluvial y marítimo
A32: {=IFERROR(INDEX($AK$4:$AL$73,$AJ32,COLUMN(A$4:A32)),"")} | AH32: =ROWS($AK$4:AK32) -> 29 | AI32: =IF(AK32=$B$2,AH32,"") -> 29 | AJ32: =IFERROR(SMALL($AI$4:$AI$57,AH32),"") | AK32: Federación deportiva nacional | AL32: Transporte de carga
A33: {=IFERROR(INDEX($AK$4:$AL$73,$AJ33,COLUMN(A$4:A33)),"")} | AH33: =ROWS($AK$4:AK33) -> 30 | AI33: =IF(AK33=$B$2,AH33,"") -> 30 | AJ33: =IFERROR(SMALL($AI$4:$AI$57,AH33),"") | AK33: Federación deportiva nacional | AL33: Auxilio de marcha
A34: {=IFERROR(INDEX($AK$4:$AL$73,$AJ34,COLUMN(A$4:A34)),"")} | AH34: =ROWS($AK$4:AK34) -> 31 | AI34: =IF(AK34=$B$2,AH34,"") -> 31 | AJ34: =IFERROR(SMALL($AI$4:$AI$57,AH34),"") | AK34: Federación deportiva nacional | AL34: Excesos de equipaje
A35: {=IFERROR(INDEX($AK$4:$AL$73,$AJ35,COLUMN(A$4:A35)),"")} | AH35: =ROWS($AK$4:AK35) -> 32 | AI35: =IF(AK35=$B$2,AH35,"") -> 32 | AJ35: =IFERROR(SMALL($AI$4:$AI$57,AH35),"") | AK35: Federación deportiva nacional | AL35: Impuestos aeroportuarios
A36: {=IFERROR(INDEX($AK$4:$AL$73,$AJ36,COLUMN(A$4:A36)),"")} | AH36: =ROWS($AK$4:AK36) -> 33 | AI36: =IF(AK36=$B$2,AH36,"") -> 33 | AJ36: =IFERROR(SMALL($AI$4:$AI$57,AH36),"") | AK36: Federación deportiva nacional | AL36: Visas
A37: {=IFERROR(INDEX($AK$4:$AL$73,$AJ37,COLUMN(A$4:A37)),"")} | AH37: =ROWS($AK$4:AK37) -> 34 | AI37: =IF(AK37=$B$2,AH37,"") -> 34 | AJ37: =IFERROR(SMALL($AI$4:$AI$57,AH37),"") | AK37: Federación deportiva nacional | AL37: Seguros
A38: {=IFERROR(INDEX($AK$4:$AL$73,$AJ38,COLUMN(A$4:A38)),"")} | AH38: =ROWS($AK$4:AK38) -> 35 | AI38: =IF(AK38=$B$2,AH38,"") -> 35 | AJ38: =IFERROR(SMALL($AI$4:$AI$57,AH38),"") | AK38: Federación deportiva nacional | AL38: Alojamiento y alimentación
A39: {=IFERROR(INDEX($AK$4:$AL$73,$AJ39,COLUMN(A$4:A39)),"")} | AH39: =ROWS($AK$4:AK39) -> 36 | AI39: =IF(AK39=$B$2,AH39,"") -> 36 | AJ39: =IFERROR(SMALL($AI$4:$AI$57,AH39),"") | AK39: Federación deportiva nacional | AL39: Inscripciones
A40: {=IFERROR(INDEX($AK$4:$AL$73,$AJ40,COLUMN(A$4:A40)),"")} | AH40: =ROWS($AK$4:AK40) -> 37 | AI40: =IF(AK40=$B$2,AH40,"") -> 37 | AJ40: =IFERROR(SMALL($AI$4:$AI$57,AH40),"") | AK40: Federación deportiva nacional | AL40: Servicios audiovisuales, comunicación y prensa
A41: {=IFERROR(INDEX($AK$4:$AL$73,$AJ41,COLUMN(A$4:A41)),"")} | AH41: =ROWS($AK$4:AK41) -> 38 | AI41: =IF(AK41=$B$2,AH41,"") -> 38 | AJ41: =IFERROR(SMALL($AI$4:$AI$57,AH41),"") | AK41: Federación deportiva nacional | AL41: Protocolo social y deportivo
A42: {=IFERROR(INDEX($AK$4:$AL$73,$AJ42,COLUMN(A$4:A42)),"")} | AH42: =ROWS($AK$4:AK42) -> 39 | AI42: =IF(AK42=$B$2,AH42,"") -> 39 | AJ42: =IFERROR(SMALL($AI$4:$AI$57,AH42),"") | AK42: Federación deportiva nacional | AL42: Servicios TIC
A43: {=IFERROR(INDEX($AK$4:$AL$73,$AJ43,COLUMN(A$4:A43)),"")} | AH43: =ROWS($AK$4:AK43) -> 40 | AI43: =IF(AK43=$B$2,AH43,"") -> 40 | AJ43: =IFERROR(SMALL($AI$4:$AI$57,AH43),"") | AK43: Federación deportiva nacional | AL43: Logística
... A55: {=IFERROR(INDEX($AK$4:$AL$73,$AJ55,COLUMN(A$4:A55)),"")} | AH55: =ROWS($AK$4:AK55) -> 52 | AI55: =IF(AK55=$B$2,AH55,"") -> 52 | AJ55: =IFERROR(SMALL($AI$4:$AI$57,AH55),"") | AK55: Federación deportiva nacional | AL55: Mobiliario
A56: {=IFERROR(INDEX($AK$4:$AL$73,$AJ56,COLUMN(A$4:A56)),"")} -> #VALUE!
A57: {=IFERROR(INDEX($AK$4:$AL$73,$AJ57,COLUMN(A$4:A57)),"")} -> #VALUE!
A58: {=IFERROR(INDEX($AK$4:$AL$73,$AJ58,COLUMN(A$4:A58)),"")} -> #VALUE!
A59: {=IFERROR(INDEX($AK$4:$AL$73,$AJ59,COLUMN(A$4:A59)),"")} -> #VALUE!
A60: {=IFERROR(INDEX($AK$4:$AL$73,$AJ60,COLUMN(A$4:A60)),"")} -> #VALUE!
A61: {=IFERROR(INDEX($AK$4:$AL$73,$AJ61,COLUMN(A$4:A61)),"")} -> #VALUE!
A62: {=IFERROR(INDEX($AK$4:$AL$73,$AJ62,COLUMN(A$4:A62)),"")} -> #VALUE!
A63: {=IFERROR(INDEX($AK$4:$AL$73,$AJ63,COLUMN(A$4:A63)),"")} -> #VALUE!
A64: {=IFERROR(INDEX($AK$4:$AL$73,$AJ64,COLUMN(A$4:A64)),"")} -> #VALUE!
A65: {=IFERROR(INDEX($AK$4:$AL$73,$AJ65,COLUMN(A$4:A65)),"")} -> #VALUE!
...

Sheet CAPACITACIÓN
B1: EJECUTOR | C1: Nombre organismo deportivo | E1: Año
B2: Federación deportiva nacional
A3: EJECUTOR | B3: SUBLÍNEA DE INVERSIÓN | C3: COSTO POR SUBLÍNEA DE INVERSIÓN | D3: EVENTO 1 | E3: EVENTO 2 | F3: EVENTO 3 | G3: EVENTO 4 | H3: EVENTO 5 | I3: EVENTO 6 | J3: EVENTO 7 | K3: EVENTO 8 | L3: EVENTO 9 | M3: EVENTO 10 | N3: EVENTO 11 | O3: EVENTO 12 | P3: EVENTO 13 | Q3: EVENTO 14 | R3: EVENTO 15 | S3: EVENTO 16 | T3: EVENTO 17 | U3: EVENTO 18 | V3: EVENTO 19 | W3: EVENTO 20 | AH3: AUX1 | AI3: AUX2 | AJ3: AUX3 | AK3: EJECUTORES | AL3: SUBLÍNEA
A4: {=IFERROR(INDEX($AK$4:$AL$73,$AJ4,COLUMN(A$4:A4)),"")} -> Federación deportiva nacional | B4: {=IFERROR(INDEX($AK$4:$AL$73,$AJ4,COLUMN()),"")} -> Transporte aéreo | C4: =SUM(D4:W4) -> 0 | D4: 0 | E4: 0 | F4: 0 | G4: 0 | H4: 0 | I4: 0 | J4: 0 | K4: 0 | L4: 0 | M4: 0 | N4: 0 | O4: 0 | P4: 0 | Q4: 0 | R4: 0 | S4: 0 | T4: 0 | U4: 0 | V4: 0 | W4: 0 | AH4: =ROWS($AK$4:AK4) -> 1 | AI4: =IF(AK4=$B$2,AH4,"") | AJ4: =IFERROR(SMALL($AI$4:$AI$52,AH4),"") -> 24 | AK4: Comité Olímpico/Paralímpico Nacional | AL4: Transporte aéreo
A5: {=IFERROR(INDEX($AK$4:$AL$73,$AJ5,COLUMN(A$4:A5)),"")} -> Federación deportiva nacional | B5: {=IFERROR(INDEX($AK$4:$AL$73,$AJ5,COLUMN()),"")} -> Transporte terrestre | C5: =SUM(D5:W5) -> 0 | D5: 0 | E5: 0 | F5: 0 | G5: 0 | H5: 0 | I5: 0 | J5: 0 | K5: 0 | L5: 0 | M5: 0 | N5: 0 | O5: 0 | P5: 0 | Q5: 0 | R5: 0 | S5: 0 | T5: 0 | U5: 0 | V5: 0 | W5: 0 | AH5: =ROWS($AK$4:AK5) -> 2 | AI5: =IF(AK5=$B$2,AH5,"") | AJ5: =IFERROR(SMALL($AI$4:$AI$52,AH5),"") -> 25 | AK5: Comité Olímpico/Paralímpico Nacional | AL5: Transporte terrestre
A6: {=IFERROR(INDEX($AK$4:$AL$73,$AJ6,COLUMN(A$4:A6)),"")} -> Federación deportiva nacional | B6: {=IFERROR(INDEX($AK$4:$AL$73,$AJ6,COLUMN()),"")} -> Transporte fluvial y marítimo | C6: =SUM(D6:W6) -> 0 | D6: 0 | E6: 0 | F6: 0 | G6: 0 | H6: 0 | I6: 0 | J6: 0 | K6: 0 | L6: 0 | M6: 0 | N6: 0 | O6: 0 | P6: 0 | Q6: 0 | R6: 0 | S6: 0 | T6: 0 | U6: 0 | V6: 0 | W6: 0 | AH6: =ROWS($AK$4:AK6) -> 3 | AI6: =IF(AK6=$B$2,AH6,"") | AJ6: =IFERROR(SMALL($AI$4:$AI$52,AH6),"") -> 26 | AK6: Comité Olímpico/Paralímpico Nacional | AL6: Transporte fluvial y marítimo
A7: {=IFERROR(INDEX($AK$4:$AL$73,$AJ7,COLUMN(A$4:A7)),"")} -> Federación deportiva nacional | B7: {=IFERROR(INDEX($AK$4:$AL$73,$AJ7,COLUMN()),"")} -> Transporte de carga | C7: =SUM(D7:W7) -> 0 | D7: 0 | E7: 0 | F7: 0 | G7: 0 | H7: 0 | I7: 0 | J7: 0 | K7: 0 | L7: 0 | M7: 0 | N7: 0 | O7: 0 | P7: 0 | Q7: 0 | R7: 0 | S7: 0 | T7: 0 | U7: 0 | V7: 0 | W7: 0 | AH7: =ROWS($AK$4:AK7) -> 4 | AI7: =IF(AK7=$B$2,AH7,"") | AJ7: =IFERROR(SMALL($AI$4:$AI$52,AH7),"") -> 27 | AK7: Comité Olímpico/Paralímpico Nacional | AL7: Transporte de carga
A8: {=IFERROR(INDEX($AK$4:$AL$73,$AJ8,COLUMN(A$4:A8)),"")} -> Federación deportiva nacional | B8: {=IFERROR(INDEX($AK$4:$AL$73,$AJ8,COLUMN()),"")} -> Excesos de equipaje | C8: =SUM(D8:W8) -> 0 | D8: 0 | E8: 0 | F8: 0 | G8: 0 | H8: 0 | I8: 0 | J8: 0 | K8: 0 | L8: 0 | M8: 0 | N8: 0 | O8: 0 | P8: 0 | Q8: 0 | R8: 0 | S8: 0 | T8: 0 | U8: 0 | V8: 0 | W8: 0 | AH8: =ROWS($AK$4:AK8) -> 5 | AI8: =IF(AK8=$B$2,AH8,"") | AJ8: =IFERROR(SMALL($AI$4:$AI$52,AH8),"") -> 28 | AK8: Comité Olímpico/Paralímpico Nacional | AL8: Excesos de equipaje
A9: {=IFERROR(INDEX($AK$4:$AL$73,$AJ9,COLUMN(A$4:A9)),"")} -> Federación deportiva nacional | B9: {=IFERROR(INDEX($AK$4:$AL$73,$AJ9,COLUMN()),"")} -> Impuestos aeroportuarios | C9: =SUM(D9:W9) -> 0 | D9: 0 | E9: 0 | F9: 0 | G9: 0 | H9: 0 | I9: 0 | J9: 0 | K9: 0 | L9: 0 | M9: 0 | N9: 0 | O9: 0 | P9: 0 | Q9: 0 | R9: 0 | S9: 0 | T9: 0 | U9: 0 | V9: 0 | W9: 0 | AH9: =ROWS($AK$4:AK9) -> 6 | AI9: =IF(AK9=$B$2,AH9,"") | AJ9: =IFERROR(SMALL($AI$4:$AI$52,AH9),"") -> 29 | AK9: Comité Olímpico/Paralímpico Nacional | AL9: Impuestos aeroportuarios
A10: {=IFERROR(INDEX($AK$4:$AL$73,$AJ10,COLUMN(A$4:A10)),"")} -> Federación deportiva nacional | B10: {=IFERROR(INDEX($AK$4:$AL$73,$AJ10,COLUMN()),"")} -> Visas | C10: =SUM(D10:W10) -> 0 | D10: 0 | E10: 0 | F10: 0 | G10: 0 | H10: 0 | I10: 0 | J10: 0 | K10: 0 | L10: 0 | M10: 0 | N10: 0 | O10: 0 | P10: 0 | Q10: 0 | R10: 0 | S10: 0 | T10: 0 | U10: 0 | V10: 0 | W10: 0 | AH10: =ROWS($AK$4:AK10) -> 7 | AI10: =IF(AK10=$B$2,AH10,"") | AJ10: =IFERROR(SMALL($AI$4:$AI$52,AH10),"") -> 30 | AK10: Comité Olímpico/Paralímpico Nacional | AL10: Visas
A11: {=IFERROR(INDEX($AK$4:$AL$73,$AJ11,COLUMN(A$4:A11)),"")} -> Federación deportiva nacional | B11: {=IFERROR(INDEX($AK$4:$AL$73,$AJ11,COLUMN()),"")} -> Seguros | C11: =SUM(D11:W11) -> 0 | D11: 0 | E11: 0 | F11: 0 | G11: 0 | H11: 0 | I11: 0 | J11: 0 | K11: 0 | L11: 0 | M11: 0 | N11: 0 | O11: 0 | P11: 0 | Q11: 0 | R11: 0 | S11: 0 | T11: 0 | U11: 0 | V11: 0 | W11: 0 | AH11: =ROWS($AK$4:AK11) -> 8 | AI11: =IF(AK11=$B$2,AH11,"") | AJ11: =IFERROR(SMALL($AI$4:$AI$52,AH11),"") -> 31 | AK11: Comité Olímpico/Paralímpico Nacional | AL11: Seguros
A12: {=IFERROR(INDEX($AK$4:$AL$73,$AJ12,COLUMN(A$4:A12)),"")} -> Federación deportiva nacional | B12: {=IFERROR(INDEX($AK$4:$AL$73,$AJ12,COLUMN()),"")} -> Alojamiento y alimentación | C12: =SUM(D12:W12) -> 0 | D12: 0 | E12: 0 | F12: 0 | G12: 0 | H12: 0 | I12: 0 | J12: 0 | K12: 0 | L12: 0 | M12: 0 | N12: 0 | O12: 0 | P12: 0 | Q12: 0 | R12: 0 | S12: 0 | T12: 0 | U12: 0 | V12: 0 | W12: 0 | AH12: =ROWS($AK$4:AK12) -> 9 | AI12: =IF(AK12=$B$2,AH12,"") | AJ12: =IFERROR(SMALL($AI$4:$AI$52,AH12),"") -> 32 | AK12: Comité Olímpico/Paralímpico Nacional | AL12: Alojamiento y alimentación
A13: {=IFERROR(INDEX($AK$4:$AL$73,$AJ13,COLUMN(A$4:A13)),"")} -> Federación deportiva nacional | B13: {=IFERROR(INDEX($AK$4:$AL$73,$AJ13,COLUMN()),"")} -> Inscripciones | C13: =SUM(D13:W13) -> 0 | D13: 0 | E13: 0 | F13: 0 | G13: 0 | H13: 0 | I13: 0 | J13: 0 | K13: 0 | L13: 0 | M13: 0 | N13: 0 | O13: 0 | P13: 0 | Q13: 0 | R13: 0 | S13: 0 | T13: 0 | U13: 0 | V13: 0 | W13: 0 | AH13: =ROWS($AK$4:AK13) -> 10 | AI13: =IF(AK13=$B$2,AH13,"") | AJ13: =IFERROR(SMALL($AI$4:$AI$52,AH13),"") -> 33 | AK13: Comité Olímpico/Paralímpico Nacional | AL13: Inscripciones
A14: {=IFERROR(INDEX($AK$4:$AL$73,$AJ14,COLUMN(A$4:A14)),"")} -> Federación deportiva nacional | B14: {=IFERROR(INDEX($AK$4:$AL$73,$AJ14,COLUMN()),"")} -> Servicios audiovisuales, comunicación y prensa | C14: =SUM(D14:W14) -> 0 | D14: 0 | E14: 0 | F14: 0 | G14: 0 | H14: 0 | I14: 0 | J14: 0 | K14: 0 | L14: 0 | M14: 0 | N14: 0 | O14: 0 | P14: 0 | Q14: 0 | R14: 0 | S14: 0 | T14: 0 | U14: 0 | V14: 0 | W14: 0 | AH14: =ROWS($AK$4:AK14) -> 11 | AI14: =IF(AK14=$B$2,AH14,"") | AJ14: =IFERROR(SMALL($AI$4:$AI$52,AH14),"") -> 34 | AK14: Comité Olímpico/Paralímpico Nacional | AL14: Servicios audiovisuales, comunicación y prensa
A15: {=IFERROR(INDEX($AK$4:$AL$73,$AJ15,COLUMN(A$4:A15)),"")} -> Federación deportiva nacional | B15: {=IFERROR(INDEX($AK$4:$AL$73,$AJ15,COLUMN()),"")} -> Protocolo social y deportivo | C15: =SUM(D15:W15) -> 0 | D15: 0 | E15: 0 | F15: 0 | G15: 0 | H15: 0 | I15: 0 | J15: 0 | K15: 0 | L15: 0 | M15: 0 | N15: 0 | O15: 0 | P15: 0 | Q15: 0 | R15: 0 | S15: 0 | T15: 0 | U15: 0 | V15: 0 | W15: 0 | AH15: =ROWS($AK$4:AK15) -> 12 | AI15: =IF(AK15=$B$2,AH15,"") | AJ15: =IFERROR(SMALL($AI$4:$AI$52,AH15),"") -> 35 | AK15: Comité Olímpico/Paralímpico Nacional | AL15: Protocolo social y deportivo
... A27: {=IFERROR(INDEX($AK$4:$AL$73,$AJ27,COLUMN(A$4:A27)),"")} -> Federación deportiva nacional | B27: {=IFERROR(INDEX($AK$4:$AL$73,$AJ27,COLUMN()),"")} -> Indumentaria | C27: =SUM(D27:W27) -> 0 | D27: 0 | E27: 0 | F27: 0 | G27: 0 | H27: 0 | I27: 0 | J27: 0 | K27: 0 | L27: 0 | M27: 0 | N27: 0 | O27: 0 | P27: 0 | Q27: 0 | R27: 0 | S27: 0 | T27: 0 | U27: 0 | V27: 0 | W27: 0 | AH27: =ROWS($AK$4:AK27) -> 24 | AI27: =IF(AK27=$B$2,AH27,"") -> 24 | AJ27: =IFERROR(SMALL($AI$4:$AI$52,AH27),"") -> 47 | AK27: Federación deportiva nacional | AL27: Transporte aéreo
A28: {=IFERROR(INDEX($AK$4:$AL$73,$AJ28,COLUMN(A$4:A28)),"")} | B28: PRESUPUESTO TOTAL | C28: =SUM(D28:W28) -> 0 | D28: =SUM(D4:D27) -> 0 | E28: =SUM(E4:E27) -> 0 | F28: =SUM(F4:F27) -> 0 | G28: =SUM(G4:G27) -> 0 | H28: =SUM(H4:H27) -> 0 | I28: =SUM(I4:I27) -> 0 | J28: =SUM(J4:J27) -> 0 | K28: =SUM(K4:K27) -> 0 | ... W28: =SUM(W4:W27) -> 0 | AH28: =ROWS($AK$4:AK28) -> 25 | AI28: =IF(AK28=$B$2,AH28,"") -> 25 | AJ28: =IFERROR(SMALL($AI$4:$AI$52,AH28),"") | AK28: Federación deportiva nacional | AL28: Transporte terrestre
A29: {=IFERROR(INDEX($AK$4:$AL$73,$AJ29,COLUMN(A$4:A29)),"")} | AH29: =ROWS($AK$4:AK29) -> 26 | AI29: =IF(AK29=$B$2,AH29,"") -> 26 | AJ29: =IFERROR(SMALL($AI$4:$AI$52,AH29),"") | AK29: Federación deportiva nacional | AL29: Transporte fluvial y marítimo
A30: {=IFERROR(INDEX($AK$4:$AL$73,$AJ30,COLUMN(A$4:A30)),"")} | AH30: =ROWS($AK$4:AK30) -> 27 | AI30: =IF(AK30=$B$2,AH30,"") -> 27 | AJ30: =IFERROR(SMALL($AI$4:$AI$52,AH30),"") | AK30: Federación deportiva nacional | AL30: Transporte de carga
A31: {=IFERROR(INDEX($AK$4:$AL$73,$AJ31,COLUMN(A$4:A31)),"")} | AH31: =ROWS($AK$4:AK31) -> 28 | AI31: =IF(AK31=$B$2,AH31,"") -> 28 | AJ31: =IFERROR(SMALL($AI$4:$AI$52,AH31),"") | AK31: Federación deportiva nacional | AL31: Excesos de equipaje
A32: {=IFERROR(INDEX($AK$4:$AL$73,$AJ32,COLUMN(A$4:A32)),"")} | AH32: =ROWS($AK$4:AK32) -> 29 | AI32: =IF(AK32=$B$2,AH32,"") -> 29 | AJ32: =IFERROR(SMALL($AI$4:$AI$52,AH32),"") | AK32: Federación deportiva nacional | AL32: Impuestos aeroportuarios
A33: {=IFERROR(INDEX($AK$4:$AL$73,$AJ33,COLUMN(A$4:A33)),"")} | AH33: =ROWS($AK$4:AK33) -> 30 | AI33: =IF(AK33=$B$2,AH33,"") -> 30 | AJ33: =IFERROR(SMALL($AI$4:$AI$52,AH33),"") | AK33: Federación deportiva nacional | AL33: Visas
A34: {=IFERROR(INDEX($AK$4:$AL$73,$AJ34,COLUMN(A$4:A34)),"")} | AH34: =ROWS($AK$4:AK34) -> 31 | AI34: =IF(AK34=$B$2,AH34,"") -> 31 | AJ34: =IFERROR(SMALL($AI$4:$AI$52,AH34),"") | AK34: Federación deportiva nacional | AL34: Seguros
A35: {=IFERROR(INDEX($AK$4:$AL$73,$AJ35,COLUMN(A$4:A35)),"")} | AH35: =ROWS($AK$4:AK35) -> 32 | AI35: =IF(AK35=$B$2,AH35,"") -> 32 | AJ35: =IFERROR(SMALL($AI$4:$AI$52,AH35),"") | AK35: Federación deportiva nacional | AL35: Alojamiento y alimentación
A36: {=IFERROR(INDEX($AK$4:$AL$73,$AJ36,COLUMN(A$4:A36)),"")} | AH36: =ROWS($AK$4:AK36) -> 33 | AI36: =IF(AK36=$B$2,AH36,"") -> 33 | AJ36: =IFERROR(SMALL($AI$4:$AI$52,AH36),"") | AK36: Federación deportiva nacional | AL36: Inscripciones
A37: {=IFERROR(INDEX($AK$4:$AL$73,$AJ37,COLUMN(A$4:A37)),"")} | AH37: =ROWS($AK$4:AK37) -> 34 | AI37: =IF(AK37=$B$2,AH37,"") -> 34 | AJ37: =IFERROR(SMALL($AI$4:$AI$52,AH37),"") | AK37: Federación deportiva nacional | AL37: Servicios audiovisuales, comunicación y prensa
A38: {=IFERROR(INDEX($AK$4:$AL$73,$AJ38,COLUMN(A$4:A38)),"")} | AH38: =ROWS($AK$4:AK38) -> 35 | AI38: =IF(AK38=$B$2,AH38,"") -> 35 | AJ38: =IFERROR(SMALL($AI$4:$AI$52,AH38),"") | AK38: Federación deportiva nacional | AL38: Protocolo social y deportivo
A39: {=IFERROR(INDEX($AK$4:$AL$73,$AJ39,COLUMN(A$4:A39)),"")} | AH39: =ROWS($AK$4:AK39) -> 36 | AI39: =IF(AK39=$B$2,AH39,"") -> 36 | AJ39: =IFERROR(SMALL($AI$4:$AI$52,AH39),"") | AK39: Federación deportiva nacional | AL39: Servicios TIC
A40: {=IFERROR(INDEX($AK$4:$AL$73,$AJ40,COLUMN(A$4:A40)),"")} | AH40: =ROWS($AK$4:AK40) -> 37 | AI40: =IF(AK40=$B$2,AH40,"") -> 37 | AJ40: =IFERROR(SMALL($AI$4:$AI$52,AH40),"") | AK40: Federación deportiva nacional | AL40: Logística
... A50: {=IFERROR(INDEX($AK$4:$AL$73,$AJ50,COLUMN(A$4:A50)),"")} | AH50: =ROWS($AK$4:AK50) -> 47 | AI50: =IF(AK50=$B$2,AH50,"") -> 47 | AJ50: =IFERROR(SMALL($AI$4:$AI$52,AH50),"") | AK50: Federación deportiva nacional | AL50: Indumentaria
A51: {=IFERROR(INDEX($AK$4:$AL$73,$AJ51,COLUMN(A$4:A51)),"")} -> #VALUE!
A52: {=IFERROR(INDEX($AK$4:$AL$73,$AJ52,COLUMN(A$4:A52)),"")} -> #VALUE!
A53: {=IFERROR(INDEX($AK$4:$AL$73,$AJ53,COLUMN(A$4:A53)),"")} -> #VALUE!
A54: {=IFERROR(INDEX($AK$4:$AL$73,$AJ54,COLUMN(A$4:A54)),"")} -> #VALUE!
A55: {=IFERROR(INDEX($AK$4:$AL$73,$AJ55,COLUMN(A$4:A55)),"")} -> #VALUE!
A56: {=IFERROR(INDEX($AK$4:$AL$73,$AJ56,COLUMN(A$4:A56)),"")} -> #VALUE!
A57: {=IFERROR(INDEX($AK$4:$AL$73,$AJ57,COLUMN(A$4:A57)),"")} -> #VALUE!
A58: {=IFERROR(INDEX($AK$4:$AL$73,$AJ58,COLUMN(A$4:A58)),"")} -> #VALUE!
A59: {=IFERROR(INDEX($AK$4:$AL$73,$AJ59,COLUMN(A$4:A59)),"")} -> #VALUE!
A60: {=IFERROR(INDEX($AK$4:$AL$73,$AJ60,COLUMN(A$4:A60)),"")} -> #VALUE!
...

Sheet ASEGURAMIENTO BIOMÉDICO
B1: EJECUTOR | C1: Año
B2: Centro de Ciencias del Deporte
A3: EJECUTOR | B3: SUBLÍNEA DE INVERSIÓN | C3: COSTO POR SUBLÍNEA DE INVERSIÓN | D3: EVENTO 1 | E3: EVENTO 2 | F3: EVENTO 3 | G3: EVENTO 4 | H3: EVENTO 5 | I3: EVENTO 6 | J3: EVENTO 7 | K3: EVENTO 8 | L3: EVENTO 9 | M3: EVENTO 10 | N3: EVENTO 11 | O3: EVENTO 12 | P3: EVENTO 13 | Q3: EVENTO 14 | R3: EVENTO 15 | S3: EVENTO 16 | T3: EVENTO 17 | U3: EVENTO 18 | V3: EVENTO 19 | W3: EVENTO 20
A4: {=IFERROR(INDEX(#REF!,#REF!,COLUMN(A$4:A4)),"")} | B4: Transporte aéreo | C4: =SUM(D4:W4) -> 0 | D4: 0 | E4: 0 | F4: 0 | G4: 0 | H4: 0 | I4: 0 | J4: 0 | K4: 0 | L4: 0 | M4: 0 | N4: 0 | O4: 0 | P4: 0 | Q4: 0 | R4: 0 | S4: 0 | T4: 0 | U4: 0 | V4: 0 | W4: 0
A5: {=IFERROR(INDEX(#REF!,#REF!,COLUMN(A$4:A5)),"")} | B5: Transporte terrestre | C5: =SUM(D5:W5) -> 0 | D5: 0 | E5: 0 | F5: 0 | G5: 0 | H5: 0 | I5: 0 | J5: 0 | K5: 0 | L5: 0 | M5: 0 | N5: 0 | O5: 0 | P5: 0 | Q5: 0 | R5: 0 | S5: 0 | T5: 0 | U5: 0 | V5: 0 | W5: 0
A6: {=IFERROR(INDEX(#REF!,#REF!,COLUMN(A$4:A6)),"")} | B6: Transporte fluvial y marítimo | C6: =SUM(D6:W6) -> 0 | D6: 0 | E6: 0 | F6: 0 | G6: 0 | H6: 0 | I6: 0 | J6: 0 | K6: 0 | L6: 0 | M6: 0 | N6: 0 | O6: 0 | P6: 0 | Q6: 0 | R6: 0 | S6: 0 | T6: 0 | U6: 0 | V6: 0 | W6: 0
A7: {=IFERROR(INDEX(#REF!,#REF!,COLUMN(A$4:A7)),"")} | B7: Transporte de carga | C7: =SUM(D7:W7) -> 0 | D7: 0 | E7: 0 | F7: 0 | G7: 0 | H7: 0 | I7: 0 | J7: 0 | K7: 0 | L7: 0 | M7: 0 | N7: 0 | O7: 0 | P7: 0 | Q7: 0 | R7: 0 | S7: 0 | T7: 0 | U7: 0 | V7: 0 | W7: 0
B8: Auxilio de marcha | C8: =SUM(D8:W8) -> 0 | D8: 0 | E8: 0 | F8: 0 | G8: 0 | H8: 0 | I8: 0 | J8: 0 | K8: 0 | L8: 0 | M8: 0 | N8: 0 | O8: 0 | P8: 0 | Q8: 0 | R8: 0 | S8: 0 | T8: 0 | U8: 0 | V8: 0 | W8: 0
A9: {=IFERROR(INDEX(#REF!,#REF!,COLUMN(A$4:A9)),"")} | B9: Excesos de equipaje | C9: =SUM(D9:W9) -> 0 | D9: 0 | E9: 0 | F9: 0 | G9: 0 | H9: 0 | I9: 0 | J9: 0 | K9: 0 | L9: 0 | M9: 0 | N9: 0 | O9: 0 | P9: 0 | Q9: 0 | R9: 0 | S9: 0 | T9: 0 | U9: 0 | V9: 0 | W9: 0
A10: {=IFERROR(INDEX(#REF!,#REF!,COLUMN(A$4:A10)),"")} | B10: Impuestos aeroportuarios | C10: =SUM(D10:W10) -> 0 | D10: 0 | E10: 0 | F10: 0 | G10: 0 | H10: 0 | I10: 0 | J10: 0 | K10: 0 | L10: 0 | M10: 0 | N10: 0 | O10: 0 | P10: 0 | Q10: 0 | R10: 0 | S10: 0 | T10: 0 | U10: 0 | V10: 0 | W10: 0
A11: {=IFERROR(INDEX(#REF!,#REF!,COLUMN(A$4:A11)),"")} | B11: Visas | C11: =SUM(D11:W11) -> 0 | D11: 0 | E11: 0 | F11: 0 | G11: 0 | H11: 0 | I11: 0 | J11: 0 | K11: 0 | L11: 0 | M11: 0 | N11: 0 | O11: 0 | P11: 0 | Q11: 0 | R11: 0 | S11: 0 | T11: 0 | U11: 0 | V11: 0 | W11: 0
A12: {=IFERROR(INDEX(#REF!,#REF!,COLUMN(A$4:A12)),"")} | B12: Seguros | C12: =SUM(D12:W12) -> 0 | D12: 0 | E12: 0 | F12: 0 | G12: 0 | H12: 0 | I12: 0 | J12: 0 | K12: 0 | L12: 0 | M12: 0 | N12: 0 | O12: 0 | P12: 0 | Q12: 0 | R12: 0 | S12: 0 | T12: 0 | U12: 0 | V12: 0 | W12: 0
