Workbook
Name COTIZACION_1: 'COTIZACION 1'!$A$2:$F$1048576
Name COTIZACION_2: 'COTIZACION 2'!$A$2:$F$1048576
Name COTIZACION_3: 'COTIZACION 3'!$A$2:$F$1048576

Sheet FORMATO ANALISIS
O1: ESTUDIO DE MERCADO - ANALISIS DE COTIZACIONES (corresponde a minimo dos o tres cotizaciones de todos los bienes requeridos, para obtener un promedio del valor estimado total de los requerimientos)
C2: +'FORMATO ANALISIS'
O4: EMPRESA : | U4: EMPRESA : | AA4: EMPRESA :
O5: FECHA: | U5: FECHA: | AA5: FECHA:
L6: PROMEDIOS EST MERCADO | O6: COTIZACION 1 | U6: COTIZACION 2 | AA6: COTIZACION 3
A7: Si | B7: LOTE | C7: No. | D7: CODIGO UNSPSC | E7: ITEM | F7: DESCRIPCION TECNICA | G7: UNIDAD DE MEDIDA | H7: UND MED SECOP | I7: PRESENTACION | J7: CANTIDAD | L7: VR. UNITARIO CON IVA | M7: TOTAL ITEM CON IVA | O7: VR. UNITARIO ANTES DE IVA | P7: IVA % | Q7: IVA $ | R7: VR. UNITARIO CON IVA | S7: TOTAL CON IVA | U7: VR. UNITARIO ANTES DE IVA | V7: IVA % | W7: IVA $ | X7: VR. UNITARIO CON IVA | Y7: TOTAL CON IVA | AA7: VR. UNITARIO ANTES DE IVA | AB7: IVA % | AC7: IVA $ | AD7: VR. UNITARIO CON IVA | AE7: TOTAL CON IVA
A8: =[1]Consolidado!A2 -> SI | B8: =[1]Consolidado!B2 -> NUTRICION ANIMAL | C8: =[1]Consolidado!C2 -> 270001 | D8: =[1]Consolidado!D2 -> 10121604 | E8: =[1]Consolidado!E2 -> Alimento balanceado pollos etapa engorde | F8: =[1]Consolidado!F2 -> Dieta diseñada para ser suministrada posterior al consumo de alimento pollito iniciación y hasta el sacrificio, garantizando los requerimientos nutricionales fundamentales de la fase, permitiendo un crecimiento uniforme y sostenido del animal. | G8: =[1]Consolidado!G2 -> Bulto | H8: =[1]Consolidado!H2 -> UN | I8: =[1]Consolidado!I2 -> X 40 Kilogramos | J8: 1 | L8: =AVERAGE(R8,X8) -> 149971.54 | M8: =L8*J8 -> 149971.54 | O8: ='COTIZACION 1'!B3 -> 120025 | P8: ='COTIZACION 1'!C3 -> 0.19 | Q8: ='COTIZACION 1'!D3 -> 22804.75 | R8: ='COTIZACION 1'!E3 -> 142829.75 | S8: ='COTIZACION 1'!F3 -> 0 | U8: ='COTIZACION 2'!B3 -> 132028 | V8: ='COTIZACION 2'!C3 -> 0.19 | W8: ='COTIZACION 2'!D3 -> 25085.32 | X8: ='COTIZACION 2'!E3 -> 157113.32 | Y8: ='COTIZACION 2'!F3 -> 0 | AA8: ='COTIZACION 3'!B3 -> 0 | AB8: ='COTIZACION 3'!C3 -> 0 | AC8: ='COTIZACION 3'!D3 -> 0 | AD8: ='COTIZACION 3'!E3 -> 0 | AE8: ='COTIZACION 3'!F3 -> 0
A9: =[1]Consolidado!A3 -> SI | B9: =[1]Consolidado!B3 -> NUTRICION ANIMAL | C9: =[1]Consolidado!C3 -> 270002 | D9: =[1]Consolidado!D3 -> 10121604 | E9: =[1]Consolidado!E3 -> Alimento balanceado pollos etapa iniciación | F9: =[1]Consolidado!F3 -> Alimento balanceado pollos etapa iniciación (bulto x 40Kg) | G9: =[1]Consolidado!G3 -> Bulto | H9: =[1]Consolidado!H3 -> UN | I9: =[1]Consolidado!I3 -> X 40 Kilogramos | J9: 1 | L9: =AVERAGE(R9,X9) -> 187789.73 | M9: =L9*J9 -> 187789.73 | O9: ='COTIZACION 1'!B4 -> 150292 | P9: ='COTIZACION 1'!C4 -> 0.19 | Q9: ='COTIZACION 1'!D4 -> 28555.48 | R9: ='COTIZACION 1'!E4 -> 178847.48 | S9: ='COTIZACION 1'!F4 -> 0 | U9: ='COTIZACION 2'!B4 -> 165321 | V9: ='COTIZACION 2'!C4 -> 0.19 | W9: ='COTIZACION 2'!D4 -> 31410.99 | X9: ='COTIZACION 2'!E4 -> 196731.99 | Y9: ='COTIZACION 2'!F4 -> 0 | AA9: ='COTIZACION 3'!B4 -> 0 | AB9: ='COTIZACION 3'!C4 -> 0 | AC9: ='COTIZACION 3'!D4 -> 0 | AD9: ='COTIZACION 3'!E4 -> 0 | AE9: ='COTIZACION 3'!F4 -> 0
A10: =[1]Consolidado!A4 -> SI | B10: =[1]Consolidado!B4 -> NUTRICION ANIMAL | C10: =[1]Consolidado!C4 -> 270003 | D10: =[1]Consolidado!D4 -> 10121604 | E10: =[1]Consolidado!E4 -> Alimento gestación para cerdos | F10: =[1]Consolidado!F4 -> Alimento concentrado gestación para cerdos con 14% de proteina | G10: =[1]Consolidado!G4 -> Bulto | H10: =[1]Consolidado!H4 -> UN | I10: =[1]Consolidado!I4 -> X 40 Kilogramos | J10: 1 | L10: =AVERAGE(R10,X10) -> 131985.88 | M10: =L10*J10 -> 131985.88 | O10: ='COTIZACION 1'!B5 -> 105631 | P10: ='COTIZACION 1'!C5 -> 0.19 | Q10: ='COTIZACION 1'!D5 -> 20069.89 | R10: ='COTIZACION 1'!E5 -> 125700.89 | S10: ='COTIZACION 1'!F5 -> 0 | U10: ='COTIZACION 2'!B5 -> 116194 | V10: ='COTIZACION 2'!C5 -> 0.19 | W10: ='COTIZACION 2'!D5 -> 22076.86 | X10: ='COTIZACION 2'!E5 -> 138270.86 | Y10: ='COTIZACION 2'!F5 -> 0 | AA10: ='COTIZACION 3'!B5 -> 0 | AB10: ='COTIZACION 3'!C5 -> 0 | AC10: ='COTIZACION 3'!D5 -> 0 | AD10: ='COTIZACION 3'!E5 -> 0 | AE10: ='COTIZACION 3'!F5 -> 0
A11: =[1]Consolidado!A5 -> SI | B11: =[1]Consolidado!B5 -> NUTRICION ANIMAL | C11: =[1]Consolidado!C5 -> 270004 | D11: =[1]Consolidado!D5 -> 10121604 | E11: =[1]Consolidado!E5 -> Concentrado alimento mojarra 24% | F11: =[1]Consolidado!F5 -> Mojarra 24% es un alimento completo, extrudizado, con adecuados niveles de proteína, vitaminas, grasa y energía para suministrar a las tilapias desde los 200 gramos de peso vivo, hasta que alcancen 400 gramos. | G11: =[1]Consolidado!G5 -> Bulto | H11: =[1]Consolidado!H5 -> UN | I11: =[1]Consolidado!I5 -> X 40 Kilogramos | J11: 1 | L11: =AVERAGE(R11,X11) -> 162230.32 | M11: =L11*J11 -> 162230.32 | O11: ='COTIZACION 1'!B6 -> 129836 | P11: ='COTIZACION 1'!C6 -> 0.19 | Q11: ='COTIZACION 1'!D6 -> 24668.84 | R11: ='COTIZACION 1'!E6 -> 154504.84 | S11: ='COTIZACION 1'!F6 -> 0 | U11: ='COTIZACION 2'!B6 -> 142820 | V11: ='COTIZACION 2'!C6 -> 0.19 | W11: ='COTIZACION 2'!D6 -> 27135.8 | X11: ='COTIZACION 2'!E6 -> 169955.8 | Y11: ='COTIZACION 2'!F6 -> 0 | AA11: ='COTIZACION 3'!B6 -> 0 | AB11: ='COTIZACION 3'!C6 -> 0 | AC11: ='COTIZACION 3'!D6 -> 0 | AD11: ='COTIZACION 3'!E6 -> 0 | AE11: ='COTIZACION 3'!F6 -> 0
A12: =[1]Consolidado!A6 -> SI | B12: =[1]Consolidado!B6 -> NUTRICION ANIMAL | C12: =[1]Consolidado!C6 -> 270005 | D12: =[1]Consolidado!D6 -> 10121604 | E12: =[1]Consolidado!E6 -> Concentrado alimento mojarra 38 % extruido | F12: =[1]Consolidado!F6 -> Mojarra 38 % extruido es un producto con un nivel de proteína por encima del 38% y con niveles de grasa cercanos al 4%, que garantizan un levante ideal de sus alevinos en las primeras fases de crecimiento, obteniendo así la mejor relación costo beneficio. | G12: =[1]Consolidado!G6 -> Bulto | H12: =[1]Consolidado!H6 -> UN | I12: =[1]Consolidado!I6 -> X 40 Kilogramos | J12: 1 | L12: =AVERAGE(R12,X12) -> 215958.82 | M12: =L12*J12 -> 215958.82 | O12: ='COTIZACION 1'!B7 -> 172836 | P12: ='COTIZACION 1'!C7 -> 0.19 | Q12: ='COTIZACION 1'!D7 -> 32838.84 | R12: ='COTIZACION 1'!E7 -> 205674.84 | S12: ='COTIZACION 1'!F7 -> 0 | U12: ='COTIZACION 2'!B7 -> 190120 | V12: ='COTIZACION 2'!C7 -> 0.19 | W12: ='COTIZACION 2'!D7 -> 36122.8 | X12: ='COTIZACION 2'!E7 -> 226242.8 | Y12: ='COTIZACION 2'!F7 -> 0 | AA12: ='COTIZACION 3'!B7 -> 0 | AB12: ='COTIZACION 3'!C7 -> 0 | AC12: ='COTIZACION 3'!D7 -> 0 | AD12: ='COTIZACION 3'!E7 -> 0 | AE12: ='COTIZACION 3'!F7 -> 0
A13: =[1]Consolidado!A7 -> SI | B13: =[1]Consolidado!B7 -> NUTRICION ANIMAL | C13: =[1]Consolidado!C7 -> 270006 | D13: =[1]Consolidado!D7 -> 10122101 | E13: =[1]Consolidado!E7 -> Concentrado para gallinas levante | F13: =[1]Consolidado!F7 -> Alimento para pollonas de la semana 14 a inicio de postura, presentación bulto del 40 Kg, peletizado con proteína minino del 17%, grasa mínima del 2,5%, Humedad máximo del 12%. | G13: =[1]Consolidado!G7 -> Bulto | H13: =[1]Consolidado!H7 -> UN | I13: =[1]Consolidado!I7 -> X 40 Kilogramos | J13: 1 | L13: =AVERAGE(R13,X13) -> 103241.43 | M13: =L13*J13 -> 103241.43 | O13: ='COTIZACION 1'!B8 -> 82626 | P13: ='COTIZACION 1'!C8 -> 0.19 | Q13: ='COTIZACION 1'!D8 -> 15698.94 | R13: ='COTIZACION 1'!E8 -> 98324.94 | S13: ='COTIZACION 1'!F8 -> 0 | U13: ='COTIZACION 2'!B8 -> 90889 | V13: ='COTIZACION 2'!C8 -> 0.19 | W13: ='COTIZACION 2'!D8 -> 17268.91 | X13: ='COTIZACION 2'!E8 -> 108157.91 | Y13: ='COTIZACION 2'!F8 -> 0 | AA13: ='COTIZACION 3'!B8 -> 0 | AB13: ='COTIZACION 3'!C8 -> 0 | AC13: ='COTIZACION 3'!D8 -> 0 | AD13: ='COTIZACION 3'!E8 -> 0 | AE13: ='COTIZACION 3'!F8 -> 0
A14: =[1]Consolidado!A8 -> SI | B14: =[1]Consolidado!B8 -> NUTRICION ANIMAL | C14: =[1]Consolidado!C8 -> 270007 | D14: =[1]Consolidado!D8 -> 10121604 | E14: =[1]Consolidado!E8 -> Concentrado para gallinas ponedoras | F14: =[1]Consolidado!F8 -> Concentrado para gallinas ponedoras proteína min 15,5%, Grasa min 2,5%, humedad máx 13%, fibra máx 6%, Ceniza máx 15%, calcio min 3,6% fósforo min 0,6% | G14: =[1]Consolidado!G8 -> Bulto | H14: =[1]Consolidado!H8 -> UN | I14: =[1]Consolidado!I8 -> X 40 Kilogramos | J14: 1 | L14: =AVERAGE(R14,X14) -> 106609.72 | M14: =L14*J14 -> 106609.72 | O14: ='COTIZACION 1'!B9 -> 85322 | P14: ='COTIZACION 1'!C9 -> 0.19 | Q14: ='COTIZACION 1'!D9 -> 16211.18 | R14: ='COTIZACION 1'!E9 -> 101533.18 | S14: ='COTIZACION 1'!F9 -> 0 | U14: ='COTIZACION 2'!B9 -> 93854 | V14: ='COTIZACION 2'!C9 -> 0.19 | W14: ='COTIZACION 2'!D9 -> 17832.26 | X14: ='COTIZACION 2'!E9 -> 111686.26 | Y14: ='COTIZACION 2'!F9 -> 0 | AA14: ='COTIZACION 3'!B9 -> 0 | AB14: ='COTIZACION 3'!C9 -> 0 | AC14: ='COTIZACION 3'!D9 -> 0 | AD14: ='COTIZACION 3'!E9 -> 0 | AE14: ='COTIZACION 3'!F9 -> 0
A15: =[1]Consolidado!A9 -> SI | B15: =[1]Consolidado!B9 -> NUTRICION ANIMAL | C15: =[1]Consolidado!C9 -> 270008 | D15: =[1]Consolidado!D9 -> 10121604 | E15: =[1]Consolidado!E9 -> Concentrado para gallinas postura | F15: =[1]Consolidado!F9 -> Alimento para gallina ponedora en fase de postura de 40kg con composición nutricional del roteina 15,5%, Calcio 3,0%, Ceizas 15%, Grasa 2,5%. | G15: =[1]Consolidado!G9 -> Bulto | H15: =[1]Consolidado!H9 -> UN | I15: =[1]Consolidado!I9 -> X 40 Kilogramos | J15: 1 | L15: =AVERAGE(R15,X15) -> 129106.07 | M15: =L15*J15 -> 129106.07 | O15: ='COTIZACION 1'!B10 -> 103326 | P15: ='COTIZACION 1'!C10 -> 0.19 | Q15: ='COTIZACION 1'!D10 -> 19631.94 | R15: ='COTIZACION 1'!E10 -> 122957.94 | S15: ='COTIZACION 1'!F10 -> 0 | U15: ='COTIZACION 2'!B10 -> 113659 | V15: ='COTIZACION 2'!C10 -> 0.19 | W15: ='COTIZACION 2'!D10 -> 21595.21 | X15: ='COTIZACION 2'!E10 -> 135254.21 | Y15: ='COTIZACION 2'!F10 -> 0 | AA15: ='COTIZACION 3'!B10 -> 0 | AB15: ='COTIZACION 3'!C10 -> 0 | AC15: ='COTIZACION 3'!D10 -> 0 | AD15: ='COTIZACION 3'!E10 -> 0 | AE15: ='COTIZACION 3'!F10 -> 0
A16: =[1]Consolidado!A10 -> SI | B16: =[1]Consolidado!B10 -> NUTRICION ANIMAL | C16: =[1]Consolidado!C10 -> 270009 | D16: =[1]Consolidado!D10 -> 10121604 | E16: =[1]Consolidado!E10 -> Grano cereal | F16: =[1]Consolidado!F10 -> Grano cereal maiz entero | G16: =[1]Consolidado!G10 -> Bulto | H16: =[1]Consolidado!H10 -> UN | I16: =[1]Consolidado!I10 -> X 50 Kilogramos | J16: 1 | L16: =AVERAGE(R16,X16) -> 193427.36 | M16: =L16*J16 -> 193427.36 | O16: ='COTIZACION 1'!B11 -> 154804 | P16: ='COTIZACION 1'!C11 -> 0.19 | Q16: ='COTIZACION 1'!D11 -> 29412.76 | R16: ='COTIZACION 1'!E11 -> 184216.76 | S16: ='COTIZACION 1'!F11 -> 0 | U16: ='COTIZACION 2'!B11 -> 170284 | V16: ='COTIZACION 2'!C11 -> 0.19 | W16: ='COTIZACION 2'!D11 -> 32353.96 | X16: ='COTIZACION 2'!E11 -> 202637.96 | Y16: ='COTIZACION 2'!F11 -> 0 | AA16: ='COTIZACION 3'!B11 -> 0 | AB16: ='COTIZACION 3'!C11 -> 0 | AC16: ='COTIZACION 3'!D11 -> 0 | AD16: ='COTIZACION 3'!E11 -> 0 | AE16: ='COTIZACION 3'!F11 -> 0
A17: =[1]Consolidado!A11 -> SI | B17: =[1]Consolidado!B11 -> NUTRICION ANIMAL | C17: =[1]Consolidado!C11 -> 270010 | D17: =[1]Consolidado!D11 -> 50221301 | E17: =[1]Consolidado!E11 -> MOGOLLA DE TRIGO | F17: =[1]Consolidado!F11 -> MOGOLLA DE TRIGO; SUBPRODUCTO OBTENIDO DEL GRANO DE TRIGO. | G17: =[1]Consolidado!G11 -> Bulto | H17: =[1]Consolidado!H11 -> UN | I17: =[1]Consolidado!I11 -> X 40 Kilogramos | J17: 1 | L17: =AVERAGE(R17,X17) -> 113022.04 | M17: =L17*J17 -> 113022.04 | O17: ='COTIZACION 1'!B12 -> 90454 | P17: ='COTIZACION 1'!C12 -> 0.19 | Q17: ='COTIZACION 1'!D12 -> 17186.26 | R17: ='COTIZACION 1'!E12 -> 107640.26 | S17: ='COTIZACION 1'!F12 -> 0 | U17: ='COTIZACION 2'!B12 -> 99499 | V17: ='COTIZACION 2'!C12 -> 0.19 | W17: ='COTIZACION 2'!D12 -> 18904.81 | X17: ='COTIZACION 2'!E12 -> 118403.81 | Y17: ='COTIZACION 2'!F12 -> 0 | AA17: ='COTIZACION 3'!B12 -> 0 | AB17: ='COTIZACION 3'!C12 -> 0 | AC17: ='COTIZACION 3'!D12 -> 0 | AD17: ='COTIZACION 3'!E12 -> 0 | AE17: ='COTIZACION 3'!F12 -> 0
A18: =[1]Consolidado!A12 -> SI | B18: =[1]Consolidado!B12 -> NUTRICION ANIMAL | C18: =[1]Consolidado!C12 -> 270011 | D18: =[1]Consolidado!D12 -> 10101601 | E18: =[1]Consolidado!E12 -> Pollo de engorde de 8 días de edad (Ud) | F18: =[1]Consolidado!F12 -> Pollo de engorde Ross o Coob | G18: =[1]Consolidado!G12 -> Bulto | H18: =[1]Consolidado!H12 -> UN | I18: =[1]Consolidado!I12 -> X 40 Kilogramos | J18: 1 | L18: =AVERAGE(R18,X18) -> 143016.58 | M18: =L18*J18 -> 143016.58 | O18: ='COTIZACION 1'!B13 -> 114459 | P18: ='COTIZACION 1'!C13 -> 0.19 | Q18: ='COTIZACION 1'!D13 -> 21747.21 | R18: ='COTIZACION 1'!E13 -> 136206.21 | S18: ='COTIZACION 1'!F13 -> 0 | U18: ='COTIZACION 2'!B13 -> 125905 | V18: ='COTIZACION 2'!C13 -> 0.19 | W18: ='COTIZACION 2'!D13 -> 23921.95 | X18: ='COTIZACION 2'!E13 -> 149826.95 | Y18: ='COTIZACION 2'!F13 -> 0 | AA18: ='COTIZACION 3'!B13 -> 0 | AB18: ='COTIZACION 3'!C13 -> 0 | AC18: ='COTIZACION 3'!D13 -> 0 | AD18: ='COTIZACION 3'!E13 -> 0 | AE18: ='COTIZACION 3'!F13 -> 0
A19: =[1]Consolidado!A13 -> SI | B19: =[1]Consolidado!B13 -> NUTRICION ANIMAL | C19: =[1]Consolidado!C13 -> 270012 | D19: =[1]Consolidado!D13 -> 10121501 | E19: =[1]Consolidado!E13 -> Premezcla cerdos | F19: =[1]Consolidado!F13 -> Premezcla cerdos (CRÍA, LEVANTE, CEBA, GESTACIÓN, LACTANCIA) UNA BOLSA POR CADA FASE DE PRODUCCIÓN | G19: =[1]Consolidado!G13 -> Bolsa | H19: =[1]Consolidado!H13 -> SC | I19: =[1]Consolidado!I13 -> X 3 Kilogramos | J19: 1 | L19: =AVERAGE(R19,X19) -> 287385 | M19: =L19*J19 -> 287385 | O19: ='COTIZACION 1'!B14 -> 230000 | P19: ='COTIZACION 1'!C14 -> 0.19 | Q19: ='COTIZACION 1'!D14 -> 43700 | R19: ='COTIZACION 1'!E14 -> 273700 | S19: ='COTIZACION 1'!F14 -> 0 | U19: ='COTIZACION 2'!B14 -> 253000 | V19: ='COTIZACION 2'!C14 -> 0.19 | W19: ='COTIZACION 2'!D14 -> 48070 | X19: ='COTIZACION 2'!E14 -> 301070 | Y19: ='COTIZACION 2'!F14 -> 0 | AA19: ='COTIZACION 3'!B14 -> 0 | AB19: ='COTIZACION 3'!C14 -> 0 | AC19: ='COTIZACION 3'!D14 -> 0 | AD19: ='COTIZACION 3'!E14 -> 0 | AE19: ='COTIZACION 3'!F14 -> 0
... A21: =[1]Consolidado!A15 -> SI | B21: =[1]Consolidado!B15 -> NUTRICION ANIMAL | C21: =[1]Consolidado!C15 -> 270014 | D21: =[1]Consolidado!D15 -> 10121506 | E21: =[1]Consolidado!E15 -> Torta de soya oleaginosa para alimentación animal | F21: =[1]Consolidado!F15 -> TORTAS OLEAGINOSAS, TORTA DE SOYA LEGUMINOSA UTILIZADO EN LA ELABORACIÓN DE ALIMENTOS CONCENTRADOS PARA DISTINTAS ESPECIES ANIMALES OBTENIDO DEL GRANO DE LA SOYA RICO EN PROTEÍNA, ENERGÍA Y AMINOÁCIDOS CONTENIDO NUTRICIONAL: PROTEÍNA 44-48 %, ENERGÍA 1557 A 2491 KCAL. | G21: =[1]Consolidado!G15 -> Bulto | H21: =[1]Consolidado!H15 -> UN | I21: =[1]Consolidado!I15 -> X 40 Kilogramos | J21: 1 | L21: =AVERAGE(R21,X21) -> 187789.73 | M21: =L21*J21 -> 187789.73 | O21: ='COTIZACION 1'!B16 -> 150292 | P21: ='COTIZACION 1'!C16 -> 0.19 | Q21: ='COTIZACION 1'!D16 -> 28555.48 | R21: ='COTIZACION 1'!E16 -> 178847.48 | S21: ='COTIZACION 1'!F16 -> 0 | U21: ='COTIZACION 2'!B16 -> 165321 | V21: ='COTIZACION 2'!C16 -> 0.19 | W21: ='COTIZACION 2'!D16 -> 31410.99 | X21: ='COTIZACION 2'!E16 -> 196731.99 | Y21: ='COTIZACION 2'!F16 -> 0 | AA21: ='COTIZACION 3'!B16 -> 0 | AB21: ='COTIZACION 3'!C16 -> 0 | AC21: ='COTIZACION 3'!D16 -> 0 | AD21: ='COTIZACION 3'!E16 -> 0 | AE21: ='COTIZACION 3'!F16 -> 0
L22: PROMEDIO TOTAL | M22: =SUM(M8:M21) -> 2237248.8 | R22: TOTAL | S22: =SUM(S8:S21) -> 0 | X22: TOTAL | Y22: =SUM(Y8:Y21) -> 0 | AD22: TOTAL | AE22: =SUM(AE8:AE21) -> 0
D24: NOTA: Los items deben de actualizarse con el IVA que corresponda, según la cotización de las empresas
D26: CODIGO UNSPSC: Este codido se obtiene de la página de Colombia Compra Eficiente, enlace https://www.colombiacompra.gov.co/clasificador-de-bienes-y-servicios . Cada articulo requerido debe de tener un codigo UNSPSC
D28: COTIZACIONES: Las cotizaciones en .pdf, deben de contener el nombre de la empresa, con datos de contacto, logo y los elementos requeridos ( en la misma presentacion comercial) para que sean comparables entre si
D30: Adicional al listado de requerimientos debe de informar :
D31: DESCRIPCION NECESIDAD
D34: JUSTIFICACION DE LA COMPRA:
F40: COTIZACIONES | G40: TOTAL
F41: COTIZACION 1 | G41: =S22 -> 0
F42: COTIZACION 2 | G42: =Y22 -> 0
F43: COTIZACION 3 | G43: =AE22 -> 0
F44: TOTAL COTIZACIONES | G44: =SUM(G41:G43) -> 0
F45: PROMEDIO | G45: =G44/3 -> 0

Sheet COTIZACION 1
A1: COTIZACION 1
A2: CODIGO UNICO | B2: VR. UNITARIO ANTES DE IVA | C2: IVA % | D2: IVA $ | E2: VR. UNITARIO CON IVA | F2: TOTAL ITEM CON IVA
A3: ='FORMATO ANALISIS'!C8 -> 270001 | B3: 120025 | C3: 0.19 | D3: =C3*B3 -> 22804.75 | E3: =D3+B3 -> 142829.75 | G3: =+'FORMATO ANALISIS'!E8 -> Alimento balanceado pollos etapa engorde
A4: ='FORMATO ANALISIS'!C9 -> 270002 | B4: 150292 | C4: 0.19 | D4: =C4*B4 -> 28555.48 | E4: =D4+B4 -> 178847.48 | G4: =+'FORMATO ANALISIS'!E9 -> Alimento balanceado pollos etapa iniciación
A5: ='FORMATO ANALISIS'!C10 -> 270003 | B5: 105631 | C5: 0.19 | D5: =C5*B5 -> 20069.89 | E5: =D5+B5 -> 125700.89 | G5: =+'FORMATO ANALISIS'!E10 -> Alimento gestación para cerdos
A6: ='FORMATO ANALISIS'!C11 -> 270004 | B6: 129836 | C6: 0.19 | D6: =C6*B6 -> 24668.84 | E6: =D6+B6 -> 154504.84 | G6: =+'FORMATO ANALISIS'!E11 -> Concentrado alimento mojarra 24%
A7: ='FORMATO ANALISIS'!C12 -> 270005 | B7: 172836 | C7: 0.19 | D7: =C7*B7 -> 32838.84 | E7: =D7+B7 -> 205674.84 | G7: =+'FORMATO ANALISIS'!E12 -> Concentrado alimento mojarra 38 % extruido
A8: ='FORMATO ANALISIS'!C13 -> 270006 | B8: 82626 | C8: 0.19 | D8: =C8*B8 -> 15698.94 | E8: =D8+B8 -> 98324.94 | G8: =+'FORMATO ANALISIS'!E13 -> Concentrado para gallinas levante
A9: ='FORMATO ANALISIS'!C14 -> 270007 | B9: 85322 | C9: 0.19 | D9: =C9*B9 -> 16211.18 | E9: =D9+B9 -> 101533.18 | G9: =+'FORMATO ANALISIS'!E14 -> Concentrado para gallinas ponedoras
A10: ='FORMATO ANALISIS'!C15 -> 270008 | B10: 103326 | C10: 0.19 | D10: =C10*B10 -> 19631.94 | E10: =D10+B10 -> 122957.94 | G10: =+'FORMATO ANALISIS'!E15 -> Concentrado para gallinas postura
A11: ='FORMATO ANALISIS'!C16 -> 270009 | B11: 154804 | C11: 0.19 | D11: =C11*B11 -> 29412.76 | E11: =D11+B11 -> 184216.76 | G11: =+'FORMATO ANALISIS'!E16 -> Grano cereal
A12: ='FORMATO ANALISIS'!C17 -> 270010 | B12: 90454 | C12: 0.19 | D12: =C12*B12 -> 17186.26 | E12: =D12+B12 -> 107640.26 | G12: =+'FORMATO ANALISIS'!E17 -> MOGOLLA DE TRIGO
A13: ='FORMATO ANALISIS'!C18 -> 270011 | B13: 114459 | C13: 0.19 | D13: =C13*B13 -> 21747.21 | E13: =D13+B13 -> 136206.21 | G13: =+'FORMATO ANALISIS'!E18 -> Pollo de engorde de 8 días de edad (Ud)
A14: ='FORMATO ANALISIS'!C19 -> 270012 | B14: 230000 | C14: 0.19 | D14: =C14*B14 -> 43700 | E14: =D14+B14 -> 273700 | G14: =+'FORMATO ANALISIS'!E19 -> Premezcla cerdos
... A16: ='FORMATO ANALISIS'!C21 -> 270014 | B16: 150292 | C16: 0.19 | D16: =C16*B16 -> 28555.48 | E16: =D16+B16 -> 178847.48 | G16: =+'FORMATO ANALISIS'!E21 -> Torta de soya oleaginosa para alimentación animal
A17: ='FORMATO ANALISIS'!#REF! -> #REF! | D17: =C17*B17 -> 0 | E17: =D17+B17 -> 0
A18: ='FORMATO ANALISIS'!#REF! -> #REF! | D18: =C18*B18 -> 0 | E18: =D18+B18 -> 0
A19: ='FORMATO ANALISIS'!#REF! -> #REF! | D19: =C19*B19 -> 0 | E19: =D19+B19 -> 0
A20: ='FORMATO ANALISIS'!#REF! -> #REF! | D20: =C20*B20 -> 0 | E20: =D20+B20 -> 0
A21: ='FORMATO ANALISIS'!#REF! -> #REF! | D21: =C21*B21 -> 0 | E21: =D21+B21 -> 0
A22: ='FORMATO ANALISIS'!#REF! -> #REF! | D22: =C22*B22 -> 0 | E22: =D22+B22 -> 0
A23: ='FORMATO ANALISIS'!#REF! -> #REF! | D23: =C23*B23 -> 0 | E23: =D23+B23 -> 0
A24: ='FORMATO ANALISIS'!#REF! -> #REF! | D24: =C24*B24 -> 0 | E24: =D24+B24 -> 0
A25: ='FORMATO ANALISIS'!#REF! -> #REF! | D25: =C25*B25 -> 0 | E25: =D25+B25 -> 0
A26: ='FORMATO ANALISIS'!#REF! -> #REF! | D26: =C26*B26 -> 0 | E26: =D26+B26 -> 0
A27: ='FORMATO ANALISIS'!#REF! -> #REF! | D27: =C27*B27 -> 0 | E27: =D27+B27 -> 0
A28: ='FORMATO ANALISIS'!#REF! -> #REF! | D28: =C28*B28 -> 0 | E28: =D28+B28 -> 0
... A216: ='FORMATO ANALISIS'!#REF! -> #REF! | D216: =C216*B216 -> 0 | E216: =D216+B216 -> 0
A217: ='FORMATO ANALISIS'!C22 -> 0 | D217: =C217*B217 -> 0 | E217: =D217+B217 -> 0
A218: ='FORMATO ANALISIS'!C23 -> 0 | D218: =C218*B218 -> 0 | E218: =D218+B218 -> 0
A219: ='FORMATO ANALISIS'!C24 -> 0 | D219: =C219*B219 -> 0 | E219: =D219+B219 -> 0
A220: ='FORMATO ANALISIS'!C25 -> 0 | D220: =C220*B220 -> 0 | E220: =D220+B220 -> 0
A221: ='FORMATO ANALISIS'!C26 -> 0 | D221: =C221*B221 -> 0 | E221: =D221+B221 -> 0
A222: ='FORMATO ANALISIS'!C27 -> 0 | D222: =C222*B222 -> 0 | E222: =D222+B222 -> 0
A223: ='FORMATO ANALISIS'!C28 -> 0 | D223: =C223*B223 -> 0 | E223: =D223+B223 -> 0
A224: ='FORMATO ANALISIS'!C29 -> 0 | D224: =C224*B224 -> 0 | E224: =D224+B224 -> 0
A225: ='FORMATO ANALISIS'!C30 -> 0 | D225: =C225*B225 -> 0 | E225: =D225+B225 -> 0
A226: ='FORMATO ANALISIS'!C31 -> 0 | D226: =C226*B226 -> 0 | E226: =D226+B226 -> 0
A227: ='FORMATO ANALISIS'!C32 -> 0 | D227: =C227*B227 -> 0 | E227: =D227+B227 -> 0
A228: ='FORMATO ANALISIS'!C33 -> 0 | D228: =C228*B228 -> 0 | E228: =D228+B228 -> 0
... A300: ='FORMATO ANALISIS'!C105 -> 0 | D300: =C300*B300 -> 0 | E300: =D300+B300 -> 0

Sheet COTIZACION 2
A1: COTIZACION 1
A2: CODIGO UNICO | B2: VR. UNITARIO ANTES DE IVA | C2: IVA % | D2: IVA $ | E2: VR. UNITARIO CON IVA | F2: TOTAL ITEM CON IVA
A3: ='FORMATO ANALISIS'!C8 -> 270001 | B3: 132028 | C3: 0.19 | D3: =C3*B3 -> 25085.32 | E3: =D3+B3 -> 157113.32
A4: ='FORMATO ANALISIS'!C9 -> 270002 | B4: 165321 | C4: 0.19 | D4: =C4*B4 -> 31410.99 | E4: =D4+B4 -> 196731.99
A5: ='FORMATO ANALISIS'!C10 -> 270003 | B5: 116194 | C5: 0.19 | D5: =C5*B5 -> 22076.86 | E5: =D5+B5 -> 138270.86
A6: ='FORMATO ANALISIS'!C11 -> 270004 | B6: 142820 | C6: 0.19 | D6: =C6*B6 -> 27135.8 | E6: =D6+B6 -> 169955.8
A7: ='FORMATO ANALISIS'!C12 -> 270005 | B7: 190120 | C7: 0.19 | D7: =C7*B7 -> 36122.8 | E7: =D7+B7 -> 226242.8
A8: ='FORMATO ANALISIS'!C13 -> 270006 | B8: 90889 | C8: 0.19 | D8: =C8*B8 -> 17268.91 | E8: =D8+B8 -> 108157.91
A9: ='FORMATO ANALISIS'!C14 -> 270007 | B9: 93854 | C9: 0.19 | D9: =C9*B9 -> 17832.26 | E9: =D9+B9 -> 111686.26
A10: ='FORMATO ANALISIS'!C15 -> 270008 | B10: 113659 | C10: 0.19 | D10: =C10*B10 -> 21595.21 | E10: =D10+B10 -> 135254.21
A11: ='FORMATO ANALISIS'!C16 -> 270009 | B11: 170284 | C11: 0.19 | D11: =C11*B11 -> 32353.96 | E11: =D11+B11 -> 202637.96
A12: ='FORMATO ANALISIS'!C17 -> 270010 | B12: 99499 | C12: 0.19 | D12: =C12*B12 -> 18904.81 | E12: =D12+B12 -> 118403.81
A13: ='FORMATO ANALISIS'!C18 -> 270011 | B13: 125905 | C13: 0.19 | D13: =C13*B13 -> 23921.95 | E13: =D13+B13 -> 149826.95
A14: ='FORMATO ANALISIS'!C19 -> 270012 | B14: 253000 | C14: 0.19 | D14: =C14*B14 -> 48070 | E14: =D14+B14 -> 301070
... A16: ='FORMATO ANALISIS'!C21 -> 270014 | B16: 165321 | C16: 0.19 | D16: =C16*B16 -> 31410.99 | E16: =D16+B16 -> 196731.99
A17: ='FORMATO ANALISIS'!#REF! -> #REF!
A18: ='FORMATO ANALISIS'!#REF! -> #REF!
A19: ='FORMATO ANALISIS'!#REF! -> #REF!
A20: ='FORMATO ANALISIS'!#REF! -> #REF!
A21: ='FORMATO ANALISIS'!#REF! -> #REF!
A22: ='FORMATO ANALISIS'!#REF! -> #REF!
A23: ='FORMATO ANALISIS'!#REF! -> #REF!
A24: ='FORMATO ANALISIS'!#REF! -> #REF!
A25: ='FORMATO ANALISIS'!#REF! -> #REF!
A26: ='FORMATO ANALISIS'!#REF! -> #REF!
A27: ='FORMATO ANALISIS'!#REF! -> #REF!
A28: ='FORMATO ANALISIS'!#REF! -> #REF!
... A216: ='FORMATO ANALISIS'!#REF! -> #REF!
A217: ='FORMATO ANALISIS'!C22 -> 0
A218: ='FORMATO ANALISIS'!C23 -> 0
A219: ='FORMATO ANALISIS'!C24 -> 0
A220: ='FORMATO ANALISIS'!C25 -> 0
A221: ='FORMATO ANALISIS'!C26 -> 0
A222: ='FORMATO ANALISIS'!C27 -> 0
A223: ='FORMATO ANALISIS'!C28 -> 0
A224: ='FORMATO ANALISIS'!C29 -> 0
A225: ='FORMATO ANALISIS'!C30 -> 0
A226: ='FORMATO ANALISIS'!C31 -> 0
A227: ='FORMATO ANALISIS'!C32 -> 0
A228: ='FORMATO ANALISIS'!C33 -> 0
... A300: ='FORMATO ANALISIS'!C105 -> 0

Sheet COTIZACION 3
A1: COTIZACION 1
A2: CODIGO UNICO | B2: VR. UNITARIO ANTES DE IVA | C2: IVA % | D2: IVA $ | E2: VR. UNITARIO CON IVA | F2: TOTAL ITEM CON IVA
A3: ='FORMATO ANALISIS'!C8 -> 270001
A4: ='FORMATO ANALISIS'!C9 -> 270002
A5: ='FORMATO ANALISIS'!C10 -> 270003
A6: ='FORMATO ANALISIS'!C11 -> 270004
A7: ='FORMATO ANALISIS'!C12 -> 270005
A8: ='FORMATO ANALISIS'!C13 -> 270006
A9: ='FORMATO ANALISIS'!C14 -> 270007
A10: ='FORMATO ANALISIS'!C15 -> 270008
A11: ='FORMATO ANALISIS'!C16 -> 270009
A12: ='FORMATO ANALISIS'!C17 -> 270010
A13: ='FORMATO ANALISIS'!C18 -> 270011
A14: ='FORMATO ANALISIS'!C19 -> 270012
... A16: ='FORMATO ANALISIS'!C21 -> 270014
A17: ='FORMATO ANALISIS'!#REF! -> #REF!
A18: ='FORMATO ANALISIS'!#REF! -> #REF!
A19: ='FORMATO ANALISIS'!#REF! -> #REF!
A20: ='FORMATO ANALISIS'!#REF! -> #REF!
A21: ='FORMATO ANALISIS'!#REF! -> #REF!
A22: ='FORMATO ANALISIS'!#REF! -> #REF!
A23: ='FORMATO ANALISIS'!#REF! -> #REF!
A24: ='FORMATO ANALISIS'!#REF! -> #REF!
A25: ='FORMATO ANALISIS'!#REF! -> #REF!
A26: ='FORMATO ANALISIS'!#REF! -> #REF!
A27: ='FORMATO ANALISIS'!#REF! -> #REF!
A28: ='FORMATO ANALISIS'!#REF! -> #REF!
... A216: ='FORMATO ANALISIS'!#REF! -> #REF!
A217: ='FORMATO ANALISIS'!C22 -> 0
A218: ='FORMATO ANALISIS'!C23 -> 0
A219: ='FORMATO ANALISIS'!C24 -> 0
A220: ='FORMATO ANALISIS'!C25 -> 0
A221: ='FORMATO ANALISIS'!C26 -> 0
A222: ='FORMATO ANALISIS'!C27 -> 0
A223: ='FORMATO ANALISIS'!C28 -> 0
A224: ='FORMATO ANALISIS'!C29 -> 0
A225: ='FORMATO ANALISIS'!C30 -> 0
A226: ='FORMATO ANALISIS'!C31 -> 0
A227: ='FORMATO ANALISIS'!C32 -> 0
A228: ='FORMATO ANALISIS'!C33 -> 0
... A300: ='FORMATO ANALISIS'!C105 -> 0
