Workbook
Name \0: #REF!
Name \0: #REF!
Name \00: #REF!
Name \00: #REF!
Name \a: #REF!
Name \a: #REF!
Name \AA: [1]LIQUIDACION!#REF!
Name \AA: [1]LIQUIDACION!#REF!
Name \b: [2]STRSUMM0!#REF!
Name \b: [2]STRSUMM0!#REF!
Name \bb: [2]STRSUMM0!#REF!
Name \bb: [2]STRSUMM0!#REF!
Name \E: #REF!
Name \E: #REF!
Name \E: #REF!
Name \EE: #REF!
Name \EE: #REF!
Name \EE: #REF!
Name \G: #REF!
Name \G: #REF!
Name \G: #REF!
Name \k: '[3]7422CW00'!#REF!
Name \k: '[3]7422CW00'!#REF!
Name \k: '[3]7422CW00'!#REF!
Name \l: [4]STRSUMM0!#REF!
Name \l: [4]STRSUMM0!#REF!
Name \l: [4]STRSUMM0!#REF!
Name \M: #REF!
Name \M: #REF!
Name \M: #REF!
Name \ñ: '[5]7422CW00'!#REF!
Name \ñ: '[5]7422CW00'!#REF!
Name \ñ: '[5]7422CW00'!#REF!
Name \P: #REF!
Name \P: #REF!
Name \P: #REF!
Name \R: #REF!
Name \R: #REF!
Name \R: #REF!
Name \s: #REF!
Name \s: #REF!
Name \s: #REF!
Name \V: #REF!
Name \V: #REF!
Name \X: '[6]PROPUESTA AVENIDA 12'!ERR
Name \X: #N/A
Name \X: '[6]PROPUESTA AVENIDA 12'!ERR
Name \Z: '[6]PROPUESTA AVENIDA 12'!ERR
Name \Z: #N/A
Name \Z: '[6]PROPUESTA AVENIDA 12'!ERR
Name _________AFC1: [7]INV!$A$25:$D$28
Name _________AFC3: [7]INV!$F$25:$I$28
Name _________AFC5: [7]INV!$K$25:$N$28
Name _________BGC1: [7]INV!$A$5:$D$8
Name _________BGC3: [7]INV!$F$5:$I$8
Name _________BGC5: [7]INV!$K$5:$N$8
Name _________CAC1: [7]INV!$A$19:$D$22
Name _________CAC3: [7]INV!$F$19:$I$22
Name _________CAC5: [7]INV!$K$19:$N$22
Name _________PJ50: #REF!

Sheet BALANCE GENERAL
C3: Formulario 1 - Propuesta económica - Documento tipo de licitación de obra pública de infraestructura de transporte - versión 3
C4: Código | D4: CCE-EICP-FM-14 | E4: Versión | F4: 3
C5: FORMULARIO 1
C6: PRESUPUESTO OFICIAL
C7: [La entidad puede utilizar este formulario de detalle del presupuesto oficial para determinar las condiciones bajo las cuales los proponentes analizarán y presentarán su propuesta económica de forma detallada, sin perjuicio que la entidad pueda modificarlo o establecer la presentación de la oferta económica con un formulario distinto al indicado.]
C9: Adicionalmente, cuando el proceso de contratación es estructurado por precios unitarios, la Entidad debe aplicar las notas 1, 2 y 3 del presente formulario y las casillas de "Descripción", "Porcentaje" de la Administración, Imprevisto, Utilidad y total A.I.U. resaltadas en color amarillo. Tratándose de otras modalidades de precio, la Entidad puede o no configurar los mismos aspectos.
C10: DIAGNOSTICO, CONSTRUCCION Y/O REHABILITACION Y/O MEJORAMIENTO DE LA MALLA VIAL URBANA DEL MUNICIPIO DE SAN JOSE DE CUCUTA FASE IV.
C11: Nº | D11: ÍTEM DE PAGO | E11: ESPECIFICACIONES | G11: DESCRIPCIÓN | H11: UND. | I11: CANTIDAD | J11: VALOR UNITARIO | K11: VALOR TOTAL
E12: GENERAL | F12: PARTICULAR
D13: 1 | G13: ACTIVIDADES DE CONSTRUCCION Y/O REHABILITACION
D14: 1.01 | E14: INV-210-22 | F14: - | G14: Excavación mecánica | H14: m3 | I14: 1093.4904 | J14: 18460 | K14: =ROUND(I14*J14,0) -> 20185833
D15: 1.02 | E15: - | F15: ESP P1 | G15: Corte de pavimento asfaltico | H15: ml | I15: 66.76 | J15: 5286 | K15: =ROUND(I15*J15,0) -> 352893
D16: 1.03 | E16: - | F16: ESP P2 | G16: Demolición de pavimento asfaltico (incluye compresor con martillo demoledor) | H16: m2 | I16: 1889.07 | J16: 16355 | K16: =ROUND(I16*J16,0) -> 30895740
D17: 1.04 | E17: - | F17: ESP P3 | G17: Conformación de subrasante | H17: m2 | I17: 3275.41 | J17: 8857 | K17: =ROUND(I17*J17,0) -> 29010306
D18: 1.05 | E18: INV-320-22 | F18: - | G18: Subbase granular CONSTRUCCION (incluye Suministro, Extendido, Nivelación y Compactación con Vibrocompactador manual, incluye transporte) | H18: m3 | I18: 0 | J18: 154424 | K18: =ROUND(I18*J18,0) -> 0
D19: 1.06 | E19: INV-330-22 | F19: - | G19: Base granular CONSTRUCCION (incluye Suministro, Extendido, Nivelación y Compactación con Vibrocompactador manual, incluye transporte) | H19: m3 | I19: 150.687 | J19: 162188 | K19: =ROUND(I19*J19,0) -> 24439623
D20: 1.08 | E20: INV-420-22 | F20: - | G20: Riego de imprimación con emulsión asfáltica CRL-1 PARA CONSTRUCCION (Incluye suministro y aplicación) | H20: m2 | I20: 2481.11 | J20: 5101 | K20: =ROUND(I20*J20,0) -> 12656142
D21: 1.09 | E21: INV-450-22 | F21: - | G21: MEZCLA ASFÁLTICA EN CALIENTE TIPO MDC-19 PARA CONSTRUCCION (Incluye Suministro, extendido, nivelación y compactación, incluye transporte del material) | H21: m3 | I21: 227.083 | J21: 1155513 | K21: =ROUND(I21*J21,0) -> 262397359
D22: 1.1 | E22: INV-350-22 | F22: - | G22: Base estabilizada con cemento al 6% (incluye Suministro, Extendido, Nivelación y Compactación con Vibrocompactador 8 ton, incluye transporte) | H22: m3 | I22: 340.6245 | J22: 291945 | K22: =ROUND(I22*J22,0) -> 99443620
D23: 1.11 | E23: INV-460-22 | F23: - | G23: Fresado de pavimento asfaltico hasta 10 cm (Incluye equipos y todas los elementos para el desarrollo de la actividad , no incluye transporte) | H23: m2 | I23: 0 | J23: 14667 | K23: =ROUND(I23*J23,0) -> 0
D24: 1.12 | E24: - | F24: ESP P4 | G24: Demolición de pavimento rígido (mecánica) | H24: m2 | I24: 0 | J24: 23576 | K24: =ROUND(I24*J24,0) -> 0
D25: 1.13 | E25: - | F25: ESP P5 | G25: Corte de pavimento rígido y/o losas de concreto | H25: ml | I25: 0 | J25: 7489 | K25: =ROUND(I25*J25,0) -> 0
... D35: 1.23 | E35: - | F35: ESP P8 | G35: Generación y disposición de sobrantes | H35: m3 | I35: 1773.2094 | J35: 19773 | K35: =ROUND(I35*J35,0) -> 35061670
D36: 2 | G36: ACTIVIDADES DE MANTENIMIENTO | I36: 0 | J36: 0 | K36: =ROUND(I36*J36,0) -> 0
D37: 2.01 | E37: - | F37: ESP P9 | G37: Excavación manual para BACHEO Y PARCHEO | H37: m3 | I37: 169.744 | J37: 83355 | K37: =ROUND(I37*J37,0) -> 14149011
D38: 2.02 | E38: INV-330-22 | F38: - | G38: Base granular BACHEO Y PARCHEO (incluye Suministro, Extendido, Nivelación y Compactación con Vibrocompactador manual, incluye transporte al sitio) | H38: m3 | I38: 21.028 | J38: 157349 | K38: =ROUND(I38*J38,0) -> 3308735
D39: 2.04 | E39: INV-420-22 | F39: - | G39: Riego de imprimación con emulsión asfáltica CRL-1 PARA BACHEO (Incluye suministro y aplicación) | H39: m2 | I39: 210.28 | J39: 5299 | K39: =ROUND(I39*J39,0) -> 1114274
D40: 2.05 | E40: INV-450-22 | F40: - | G40: MEZCLA ASFÁLTICA EN CALIENTE TIPO MDC-19 PARA BACHEO (Incluye Suministro, extendido, nivelación y compactación CON VIBROCOMPACTADOR DE 3 TON, incluye transporte del material) | H40: m3 | I40: 21.028 | J40: 1407838 | K40: =ROUND(I40*J40,0) -> 29604017
D41: 2.06 | E41: INV-450-22 | F41: - | G41: PARCHEO TEMPORAL DE EMERGENCIA CON MDC-19 (Incluye Suministro, Extendido, Nivelación, compactación y transporte del material, personal e insumos. Emergencias Menores a 7 M2) | H41: m3 | I41: 0 | J41: 1584817 | K41: =ROUND(I41*J41,0) -> 0
D42: 2.07 | E42: INV-450-22 | F42: - | G42: MEZCLA ASFÁLTICA EN CALIENTE MDC-19 (solo suministro de mezcla asfáltica no incluye transporte ni instalacion) | H42: m3 | I42: 0 | J42: 856574 | K42: =ROUND(I42*J42,0) -> 0
D43: 2.08 | E43: INV-450-22 | F43: - | G43: Instalación de Mezcla Asfáltica (cuadrilla de 1 oficial x 8 ayudantes) | H43: m3 | I43: 0 | J43: 213499 | K43: =ROUND(I43*J43,0) -> 0
D44: 2.09 | E44: - | F44: ESP P10 | G44: Transporte de Mezcla Asfáltica para BACHEO Y PARCHEO | H44: m3 | I44: 0 | J44: 58500 | K44: =ROUND(I44*J44,0) -> 0
D45: 2.1 | E45: - | F45: ESP P11 | G45: Retiro de sobrantes a sitio final de disposición (incluye cargue manual) | H45: m3 | I45: 0 | J45: 63540 | K45: =ROUND(I45*J45,0) -> 0
D46: 2.11 | E46: - | F46: ESP P12 | G46: Limpieza de sumideros | H46: und | I46: 0 | J46: 111140 | K46: =ROUND(I46*J46,0) -> 0
D47: 2.12 | E47: - | F47: ESP P13 | G47: Remoción de derrumbes con retrocargador | H47: m3 | I47: 0 | J47: 31114 | K47: =ROUND(I47*J47,0) -> 0
D48: 2.13 | E48: INV-460-22 | F48: - | G48: Fresado de pavimento asfaltico hasta 10 cm (Incluye equipos y todas los elementos para el desarrollo de la actividad) (No incluye transporte) | H48: m2 | I48: 0 | J48: 14667 | K48: =ROUND(I48*J48,0) -> 0
... D52: 2.17 | E52: INV-510-22 | F52: - | G52: Suministro e instalacion de Adoquin hexagonal vehicular de 8x20x20 para pavimento articulado ( incluye suministro e instalacion de cama de arena fina h= 5cm, y de sello) | H52: m2 | I52: 0 | J52: 189214 | K52: =ROUND(I52*J52,0) -> 0
D53: 2.18 | E53: INV-500-22 | G53: Concreto Premezclado MR 41 - 4 pulgadas mantenimiento - 28 días para mantenimiento (incluye suministro, transporte, instalación de concreto)- (No incluye curado, cordón de espuma de polietileno, sellador de juntas, acero de barras pasajunta, barras de amarre ni acero canastilla) | H53: m3 | I53: 0 | J53: 969097 | K53: =ROUND(I53*J53,0) -> 0
D54: 2.19 | E54: INV-500-22 | G54: Acero para dovelas, canastilla y barras de amarre (incluye corte y figurado e instalacion) | H54: kg | I54: 0 | J54: 13710 | K54: =ROUND(I54*J54,0) -> 0
D55: 2.2 | E55: INV-500-22 | G55: Corte de juntas de dilatacion menor a 8 cm | H55: ml | I55: 0 | J55: 7154 | K55: =ROUND(I55*J55,0) -> 0
...

Sheet Cronograma prorroga
B1: CRONOGRAMA INICIAL DE ACTIVIDADES E INVERSIONES ETAPA 2 - CONSTRUCCION
B2: CRONOGRAMA INICIAL DE ACTIVIDADES E INVERSIONES
B3: MUNICIPIO DE CUCUTA
B4: UNION TEMPORAL B&A BACHEO L2
B5: CONTRATO DE OBRA No. 4186-2023
B6: “DIAGNOSTICO, CONSTRUCCION Y/O REHABILITACION Y/O MEJORAMIENTO DE LA MALLA VIAL URBANA DEL MUNICIPIO DE SAN JOSE DE CUCUTA FASE IV” LOTE 2
B7: CONTRATANTE: MUNICIPIO DE SAN JOSE DE CUCUTA
B8: VALOR TOTAL CONTRATO ESPECIFICO | G8: =+B173 -> 1803299489 | I8: PLAZO INICIAL | K8: 135 | M8: FECHA DE INICIACION: | Q8: 45259
B10: ITEM | C10: DESCRIPCION | D10: Unidad | E10: CANT | F10: V/R UNITARIO | G10: V/R TOTAL | H10: PLAZO (DIAS) | K10: NOVIEMBRE-2023 | M10: DICIEMBRE - 2023 | AR10: ENERO-2024 | BI10: FEBRERO-2024 | CE10: MARZO-2024 | DJ10: ABRIL-2024 | EL10: JUNIO -01 | FN10: JULIO -01
K11: SEMANA 1 | P11: SEMANA 2 | W11: SEMANA 3 | AD11: SEMANA 4 | AK11: SEMANA 5 | AR11: SEMANA 6 | AY11: SEMANA 7 | BF11: SEMANA 8 | BM11: SEMANA 9 | BT11: SEMANA 10 | CA11: SEMANA 11 | CH11: SEMANA 12 | CO11: SEMANA 13 | CV11: SEMANA 14 | DC11: SEMANA 15 | DJ11: SEMANA 16 | DQ11: SEMANA 17 | DX11: SEMANA 18 | EE11: SEMANA 19 | EL11: SEMANA 20 | ES11: SEMANA 21 | EZ11: SEMANA 22 | FG11: SEMANA 23 | FN11: SEMANA 24 | FU11: SEMANA 25 | GB11: SEMANA 25
K12: M | L12: J | M12: V | N12: S | O12: D | P12: L | Q12: M | R12: M | S12: J | T12: V | U12: S | V12: D | W12: L | X12: M | Y12: M | Z12: J | AA12: V | AB12: S | AC12: D | AD12: L | AE12: M | AF12: M | AG12: J | AH12: V | AI12: S | AJ12: D | AK12: L | AL12: M | AM12: M | AN12: J | AO12: V | AP12: S | AQ12: D | AR12: L | AS12: M | AT12: M | AU12: J | AV12: V | AW12: S | AX12: D | AY12: L | AZ12: M | BA12: M | BB12: J | BC12: V | BD12: S | BE12: D | BF12: L | BG12: M | BH12: M | BI12: J | BJ12: V | BK12: S | BL12: D | BM12: L | BN12: M | BO12: M | BP12: J | BQ12: V | BR12: S | BS12: D | BT12: L | BU12: M | BV12: M | BW12: J | BX12: V | BY12: S | BZ12: D | CA12: L | CB12: M | CC12: M | CD12: J | CE12: V | CF12: S | CG12: D | CH12: L | CI12: M | CJ12: M | CK12: J | CL12: V | CM12: S | CN12: D | CO12: L | CP12: M | CQ12: M | CR12: J | CS12: V | CT12: S | CU12: D | CV12: L | CW12: M | CX12: M | CY12: J | CZ12: V | DA12: S | DB12: D | DC12: L | DD12: M | DE12: M | DF12: J | DG12: V | DH12: S | DI12: D | DJ12: L | DK12: M | DL12: M | DM12: J | DN12: V | DO12: S | DP12: D | DQ12: L | DR12: M | DS12: M | DT12: J | DU12: V | DV12: S | DW12: D | DX12: L | DY12: M | DZ12: M | EA12: J | EB12: V | EC12: S | ED12: D | EE12: L | EF12: M | EG12: M | EH12: J | EI12: V | EJ12: S | EK12: D | EL12: L | EM12: M | EN12: M | EO12: J | EP12: V | EQ12: S | ER12: D | ES12: L | ET12: M | EU12: M | EV12: J | EW12: V | EX12: S | EY12: D | EZ12: L | FA12: M | FB12: M | FC12: J | FD12: V | FE12: S | FF12: D | FG12: L | FH12: M | FI12: M | FJ12: J | FK12: V | FL12: S | FM12: D | FN12: L | FO12: M | FP12: M | FQ12: J | FR12: V | FS12: S | FT12: D | FU12: L | FV12: M | FW12: M | FX12: J | FY12: V | FZ12: S | GA12: D | GB12: L | GC12: M | GD12: M | GE12: J | GF12: V | GG12: S
K13: 29 | L13: 30 | M13: 1 | N13: =1+M13 -> 2 | O13: =1+N13 -> 3 | P13: =1+O13 -> 4 | Q13: =1+P13 -> 5 | R13: =1+Q13 -> 6 | S13: =1+R13 -> 7 | T13: =1+S13 -> 8 | U13: =1+T13 -> 9 | ... AH13: =1+AG13 -> 22 | AI13: 23 | AJ13: 24 | AK13: =1+AJ13 -> 25 | AL13: =1+AK13 -> 26 | AM13: =1+AL13 -> 27 | AN13: =1+AM13 -> 28 | AO13: =1+AN13 -> 29 | AP13: =1+AO13 -> 30 | AQ13: =1+AP13 -> 31 | AR13: 15 | AS13: =1+AR13 -> 16 | AT13: =1+AS13 -> 17 | AU13: =1+AT13 -> 18 | AV13: =1+AU13 -> 19 | AW13: =1+AV13 -> 20 | AX13: =1+AW13 -> 21 | AY13: =1+AX13 -> 22 | AZ13: =1+AY13 -> 23 | BA13: =1+AZ13 -> 24 | BB13: 25 | BC13: 26 | BD13: =1+BC13 -> 27 | BE13: =1+BD13 -> 28 | BF13: =1+BE13 -> 29 | BG13: =1+BF13 -> 30 | BH13: =1+BG13 -> 31 | BI13: 1 | BJ13: =1+BI13 -> 2 | BK13: 3 | BL13: 4 | BM13: =1+BL13 -> 5 | BN13: =1+BM13 -> 6 | BO13: =1+BN13 -> 7 | BP13: =1+BO13 -> 8 | BQ13: =1+BP13 -> 9 | BR13: =1+BQ13 -> 10 | BS13: =1+BR13 -> 11 | BT13: =1+BS13 -> 12 | ... BW13: =1+BV13 -> 15 | BX13: 23 | BY13: 24 | BZ13: =1+BY13 -> 25 | CA13: =1+BZ13 -> 26 | CB13: =1+CA13 -> 27 | CC13: =1+CB13 -> 28 | CD13: =1+CC13 -> 29 | CE13: 1 | CF13: 2 | CG13: 3 | CH13: 4 | CI13: 5 | CJ13: 6 | CK13: 7 | CL13: 8 | CM13: 9 | CN13: 10 | CO13: 11 | CP13: 12 | CQ13: 13 | CR13: 14 | CS13: 15 | CT13: 16 | CU13: 17 | CV13: 18 | CW13: 19 | CX13: 20 | CY13: 21 | CZ13: 22 | DA13: 23 | DB13: 24 | DC13: 25 | DD13: 26 | DE13: 27 | DF13: 28 | DG13: 29 | DH13: 30 | DI13: 31 | DJ13: 1 | DK13: 2 | DL13: 3 | DM13: 4 | DN13: 5 | DO13: 6 | DP13: 7 | DQ13: 8 | DR13: 9 | DS13: 10 | DT13: 11 | DU13: 12 | DV13: 13 | DW13: 14 | DX13: 15 | DY13: 16 | DZ13: 17 | EA13: 18 | EB13: 19 | EC13: 20 | ED13: 21 | EE13: 22 | EF13: 23 | EG13: 24 | EH13: 25 | EI13: 26 | EJ13: 27 | EK13: 28 | EL13: 29 | EM13: 30 | EN13: 1 | EO13: 2 | EP13: 3 | EQ13: 4 | ER13: 5 | ES13: 6 | ET13: 7 | EU13: 8 | EV13: 9 | EW13: 10 | EX13: 11 | EY13: 12 | EZ13: 13 | FA13: 14 | FB13: 15 | FC13: 16 | FD13: 17 | FE13: 18 | FF13: 19 | FG13: 20 | FH13: 21 | FI13: 22 | FJ13: 23 | FK13: 24 | FL13: 25 | FM13: 26 | FN13: 27 | FO13: 28 | FP13: 29 | FQ13: 30 | FR13: 31 | FS13: 1 | FT13: 2 | FU13: 3 | FV13: 4 | FW13: 5 | FX13: 6 | FY13: 7 | FZ13: 8 | GA13: 9 | GB13: 10 | GC13: 11 | GD13: 12 | GE13: 13 | GF13: 14 | GG13: 15
C14: DURACION DEL PROYECTO | H14: 181 | K14: 1 | L14: 1 | M14: 1 | N14: 1 | O14: 1 | P14: 1 | Q14: 1 | R14: 1 | S14: 1 | T14: 1 | U14: 1 | V14: 1 | W14: 1 | X14: 1 | Y14: 1 | Z14: 1 | AA14: 1 | AB14: 1 | AC14: 1 | AD14: 1 | AE14: 1 | AF14: 1 | AG14: 1 | AH14: 1 | AI14: 1 | AJ14: 1 | AK14: 1 | AL14: 1 | AM14: 1 | AN14: 1 | AO14: 1 | AP14: 1 | AQ14: 1 | AR14: 1 | AS14: 1 | AT14: 1 | AU14: 1 | AV14: 1 | AW14: 1 | AX14: 1 | AY14: 1 | AZ14: 1 | BA14: 1 | BB14: 1 | BC14: 1 | BD14: 1 | BE14: 1 | BF14: 1 | BG14: 1 | BH14: 1 | BI14: 1 | BJ14: 1 | BK14: 1 | BL14: 1 | BM14: 1 | BN14: 1 | BO14: 1 | BP14: 1 | BQ14: 1 | BR14: 1 | BS14: 1 | BT14: 1 | BU14: 1 | BV14: 1 | BW14: 1 | BX14: 1 | BY14: 1 | BZ14: 1 | CA14: 1 | CB14: 1 | CC14: 1 | CD14: 1 | CE14: 1 | CF14: 1 | CG14: 1 | CH14: 1 | CI14: 1 | CJ14: 1 | CK14: 1 | CL14: 1 | CM14: 1 | CN14: 1 | CO14: 1 | CP14: 1 | CQ14: 1 | CR14: 1 | CS14: 1 | CT14: 1 | CU14: 1 | CV14: 1 | CW14: 1 | CX14: 1 | CY14: 1 | CZ14: 1 | DA14: 1 | DB14: 1 | DC14: 1 | DD14: 1 | DE14: 1 | DF14: 1 | DG14: 1 | DH14: 1 | DI14: 1 | DJ14: 1 | DK14: 1 | DL14: 1 | DM14: 1 | DN14: 1 | DO14: 1 | DP14: 1 | DQ14: 1 | DR14: 1 | DS14: 1 | DT14: 1 | DU14: 1 | DV14: 1 | DW14: 1 | DX14: 1 | DY14: 1 | DZ14: 1 | EA14: 1 | EB14: 1 | EC14: 1 | ED14: 1 | EE14: 1 | EF14: 1 | EG14: 1 | EH14: 1 | EI14: 1 | EJ14: 1 | EK14: 1 | EL14: 1 | EM14: 1 | EN14: 1 | EO14: 1 | EP14: 1 | EQ14: 1 | ER14: 1 | ES14: 1 | ET14: 1 | EU14: 1 | EV14: 1 | EW14: 1 | EX14: 1 | EY14: 1 | EZ14: 1 | FA14: 1 | FB14: 1 | FC14: 1 | FD14: 1 | FE14: 1 | FF14: 1 | FG14: 1 | FH14: 1 | FI14: 1 | FJ14: 1 | FK14: 1 | FL14: 1 | FM14: 1 | FN14: 1 | FO14: 1 | FP14: 1 | FQ14: 1 | FR14: 1 | FS14: 1 | FT14: 1 | FU14: 1 | FV14: 1 | FW14: 1 | FX14: 1 | FY14: 1 | FZ14: 1 | GA14: 1 | GB14: 1 | GC14: 1 | GD14: 1 | GE14: 1 | GF14: 1 | GG14: 1
B15: =+'BALANCE GENERAL'!D14 -> 1.01 | C15: =+'BALANCE GENERAL'!G14 -> Excavación mecánica | D15: =+'BALANCE GENERAL'!H14 -> m3 | E15: 1433.61 | F15: =+'BALANCE GENERAL'!J14 -> 18460 | G15: =ROUND(E15*F15,0) -> 26464441 | J15: P | AV15: 1 | AW15: 1 | AX15: 1 | AY15: 1 | AZ15: 1 | BA15: 1 | BB15: 1 | BC15: 1 | BD15: 1 | BE15: 1 | BF15: 1 | BG15: 1 | BH15: 1 | CH15: 1 | CI15: 1 | CJ15: 1 | CK15: 1 | CL15: 1 | CM15: 1
K16: 0 | P16: 0 | V16: =(SUM(V15:AB15)/SUM($K15:$EC15))*$G15 -> 0 | AC16: =(SUM(AC15:AI15)/SUM($K15:$DI15))*$G15 -> 0 | AJ16: =(SUM(AJ15:AP15)/SUM($K15:$DI15))*$G15 -> 0 | AQ16: 2124824.5 | AX16: 7436885.8 | BE16: 4249649.1 | BL16: =(SUM(BL15:BR15)/SUM($K15:$DI15))*$G15 -> 0 | BS16: =(SUM(BS15:BY15)/SUM($K15:$DI15))*$G15 -> 0 | BZ16: =(SUM(BZ15:CF15)/SUM($K15:$DI15))*$G15 -> 0 | CG16: 6374473.4 | CN16: =(SUM(CN15:CT15)/SUM($K15:$DI15))*$G15 -> 0 | CU16: =(SUM(CU15:DA15)/SUM($K15:$DI15))*$G15 -> 0 | DB16: =(SUM(DB15:DH15)/SUM($K15:$DI15))*$G15 -> 0 | DI16: =(SUM(DI15:DO15)/SUM($K15:$DI15))*$G15 -> 0 | DP16: =(SUM(DP15:DV15)/SUM($K15:$DI15))*$G15 -> 0 | DW16: =(SUM(DW15:EC15)/SUM($K15:$DI15))*$G15 -> 0 | ED16: =(SUM(ED15:EJ15)/SUM($K15:$DI15))*$G15 -> 0 | EK16: =+(EL15+EM15+EN15+EO15+EP15+EQ15)*G15 -> 0 | ER16: 6278607.8 | EY16: =+(EY15+EZ15+FA15+FB15+FC15+FD15+FE15)*$G$15 -> 0 | FF16: =+(FF15+FG15+FH15+FI15+FJ15+FK15+FL15)*$G$15 -> 0 | FM16: =+(FM15+FN15+FO15+FP15+FQ15+FR15+FS15)*$G$15 -> 0 | FT16: =+(FT15+FU15+FV15+FW15+FX15+FY15+FZ15)*$G$15 -> 0 | GA16: =+(GA15+GB15+GC15+GD15+GE15+GF15+GG15)*$G$15 -> 0
J17: E
B19: =+'BALANCE GENERAL'!D15 -> 1.02 | C19: =+'BALANCE GENERAL'!G15 -> Corte de pavimento asfaltico | D19: =+'BALANCE GENERAL'!H15 -> ml | E19: 402.78 | F19: =+'BALANCE GENERAL'!J15 -> 5286 | G19: =ROUND(E19*F19,0) -> 2129095 | J19: P | CG19: 1
K20: 0 | P20: 0 | V20: =(SUM(V19:AB19)/SUM($K19:$EC19))*$G19 -> 0 | AC20: =(SUM(AC19:AI19)/SUM($K19:$EC19))*$G19 -> 0 | AJ20: =(SUM(AJ19:AP19)/SUM($K19:$EC19))*$G19 -> 0 | AQ20: =(SUM(AQ19:AW19)/SUM($K19:$EC19))*$G19 -> 0 | AX20: =(SUM(AX19:BD19)/SUM($K19:$EC19))*$G19 -> 0 | BE20: =(SUM(BE19:BK19)/SUM($K19:$EC19))*$G19 -> 0 | BL20: =(SUM(BL19:BR19)/SUM($K19:$EC19))*$G19 -> 0 | BS20: =(SUM(BS19:BY19)/SUM($K19:$EC19))*$G19 -> 0 | BZ20: =(SUM(BZ19:CF19)/SUM($K19:$EC19))*$G19 -> 0 | CG20: 352893 | CN20: =(SUM(CN19:CT19)/SUM($K19:$EC19))*$G19 -> 0 | CU20: =(SUM(CU19:DA19)/SUM($K19:$EC19))*$G19 -> 0 | DB20: =(SUM(DB19:DH19)/SUM($K19:$EC19))*$G19 -> 0 | DI20: =(SUM(DI19:DO19)/SUM($K19:$EC19))*$G19 -> 0 | DP20: =(SUM(DP19:DV19)/SUM($K19:$EC19))*$G19 -> 0 | DW20: =(SUM(DW19:EC19)/SUM($K19:$EC19))*$G19 -> 0 | ED20: =(SUM(ED19:EJ19)/SUM($K19:$EC19))*$G19 -> 0 | EK20: =(SUM(EK19:EQ19)/SUM($K19:$EC19))*$G19 -> 0 | ER20: =+(ER19+ES19+ET19+EU19+EV19+EW19+EX19)*G19 -> 0 | EY20: 1776202.1 | FF20: =+(FF19+FG19+FH19+FI19+FJ19+FK19+FL19)*U19 -> 0 | FM20: =+(FM19+FN19+FO19+FP19+FQ19+FR19+FS19)*AB19 -> 0 | FT20: =+(FT19+FU19+FV19+FW19+FX19+FY19+FZ19)*AI19 -> 0 | GA20: =+(GA19+GB19+GC19+GD19+GE19+GF19+GG19)*AP19 -> 0
J21: E
B23: =+'BALANCE GENERAL'!D16 -> 1.03 | C23: =+'BALANCE GENERAL'!G16 -> Demolición de pavimento asfaltico (incluye compresor con martillo demoledor) | D23: =+'BALANCE GENERAL'!H16 -> m2 | E23: 4379.17 | F23: =+'BALANCE GENERAL'!J16 -> 16355 | G23: =ROUND(E23*F23,0) -> 71621325 | J23: P | AV23: 1 | AW23: 1 | AX23: 1 | AY23: 1 | AZ23: 1 | BA23: 1 | BB23: 1 | BC23: 1 | BD23: 1 | BE23: 1 | BF23: 1 | BG23: 1 | BH23: 1 | CH23: 1 | CI23: 1 | CJ23: 1 | CK23: 1 | CL23: 1 | CM23: 1
K24: 0 | P24: 0 | V24: =(SUM(V23:AB23)/SUM($K23:$EC23))*$G23 -> 0 | AC24: =(SUM(AC23:AI23)/SUM($K23:$EC23))*$G23 -> 0 | AJ24: =(SUM(AJ23:AP23)/SUM($K23:$EC23))*$G23 -> 0 | AQ24: 3252183.2 | AX24: 11382641 | BE24: 6504366.3 | BL24: =(SUM(BL23:BR23)/SUM($K23:$EC23))*$G23 -> 0 | BS24: =(SUM(BS23:BY23)/SUM($K23:$EC23))*$G23 -> 0 | BZ24: =(SUM(BZ23:CF23)/SUM($K23:$EC23))*$G23 -> 0 | CG24: 9756549.5 | CN24: =(SUM(CN23:CT23)/SUM($K23:$EC23))*$G23 -> 0 | CU24: =(SUM(CU23:DA23)/SUM($K23:$EC23))*$G23 -> 0 | DB24: =(SUM(DB23:DH23)/SUM($K23:$EC23))*$G23 -> 0 | DI24: =(SUM(DI23:DO23)/SUM($K23:$EC23))*$G23 -> 0 | DP24: =(SUM(DP23:DV23)/SUM($K23:$EC23))*$G23 -> 0 | DW24: =(SUM(DW23:EC23)/SUM($K23:$EC23))*$G23 -> 0 | ED24: =(SUM(ED23:EJ23)/SUM($K23:$EC23))*$G23 -> 0 | EK24: =(SUM(EK23:EQ23)/SUM($K23:$EC23))*$G23 -> 0 | ER24: =+(ER23+ES23+ET23+EU23+EV23+EW23+EX23)*G23 -> 0 | EY24: =+(EY23+EZ23+FA23+FB23+FC23+FD23+FE23)*G23 -> 0 | FF24: 31675457 | FM24: 9050128 | FT24: =+(FT23+FU23+FV23+FW23+FX23+FY23+FZ23)*AI23 -> 0 | GA24: =+(GA23+GB23+GC23+GD23+GE23+GF23+GG23)*AP23 -> 0
J25: E
B27: =+'BALANCE GENERAL'!D17 -> 1.04 | C27: =+'BALANCE GENERAL'!G17 -> Conformación de subrasante | D27: =+'BALANCE GENERAL'!H17 -> m2 | E27: 5722.94 | F27: =+'BALANCE GENERAL'!J17 -> 8857 | G27: =ROUND(E27*F27,0) -> 50688080 | J27: P | BE27: 1 | BF27: 1 | BG27: 1 | BH27: 1 | CI27: 1 | CJ27: 1 | CK27: 1 | CL27: 1 | CM27: 1 | CN27: 1 | CO27: 1
K28: 0 | P28: 0 | V28: =(SUM(V27:AB27)/SUM($K27:$EC27))*$G27 -> 0 | AC28: =(SUM(AC27:AI27)/SUM($K27:$EC27))*$G27 -> 0 | AJ28: =(SUM(AJ27:AP27)/SUM($K27:$EC27))*$G27 -> 0 | AQ28: =(SUM(AQ27:AW27)/SUM($K27:$EC27))*$G27 -> 0 | AX28: =(SUM(AX27:BD27)/SUM($K27:$EC27))*$G27 -> 0 | BE28: 10549202 | BL28: =(SUM(BL27:BR27)/SUM($K27:$EC27))*$G27 -> 0 | BS28: =(SUM(BS27:BY27)/SUM($K27:$EC27))*$G27 -> 0 | BZ28: =(SUM(BZ27:CF27)/SUM($K27:$EC27))*$G27 -> 0 | CG28: 13186503 | CN28: 5274601.1 | CU28: =(SUM(CU27:DA27)/SUM($K27:$EC27))*$G27 -> 0 | DB28: =(SUM(DB27:DH27)/SUM($K27:$EC27))*$G27 -> 0 | DI28: =(SUM(DI27:DO27)/SUM($K27:$EC27))*$G27 -> 0 | DP28: =(SUM(DP27:DV27)/SUM($K27:$EC27))*$G27 -> 0 | DW28: =(SUM(DW27:EC27)/SUM($K27:$EC27))*$G27 -> 0 | ED28: =(SUM(ED27:EJ27)/SUM($K27:$EC27))*$G27 -> 0 | EK28: =(SUM(EK27:EQ27)/SUM($K27:$EC27))*$G27 -> 0 | ER28: =+(ER27+ES27+ET27+EU27+EV27+EW27+EX27)*G27 -> 0 | EY28: =+(EY27+EZ27+FA27+FB27+FC27+FD27+FE27)*N27 -> 0 | FF28: =+(FF27+FG27+FH27+FI27+FJ27+FK27+FL27)*U27 -> 0 | FM28: 21677774 | FT28: =+(FT27+FU27+FV27+FW27+FX27+FY27+FZ27)*AI27 -> 0 | GA28: =+(GA27+GB27+GC27+GD27+GE27+GF27+GG27)*AP27 -> 0
J29: E
B31: =+'BALANCE GENERAL'!D19 -> 1.06 | C31: =+'BALANCE GENERAL'!G19 -> Base granular CONSTRUCCION (incluye Suministro, Extendido, Nivelación y Compactación con Vibrocompactador manual, incluye transporte) | D31: =+'BALANCE GENERAL'!H19 -> m3 | E31: 332.53 | F31: =+'BALANCE GENERAL'!J19 -> 162188 | G31: =ROUND(E31*F31,0) -> 53932376 | J31: P | BI31: 1 | BJ31: 1 | BK31: 1 | BL31: 1 | BM31: 1 | BN31: 1 | BO31: 1 | BP31: 1 | BQ31: 1 | BR31: 1 | BS31: 1
K32: 0 | P32: 0 | V32: =(SUM(V31:AB31)/SUM($K31:$EC31))*$G31 -> 0 | AC32: =(SUM(AC31:AI31)/SUM($K31:$EC31))*$G31 -> 0 | AJ32: =(SUM(AJ31:AP31)/SUM($K31:$EC31))*$G31 -> 0 | AQ32: =(SUM(AQ31:AW31)/SUM($K31:$EC31))*$G31 -> 0 | AX32: =(SUM(AX31:BD31)/SUM($K31:$EC31))*$G31 -> 0 | BE32: 6665351.7 | BL32: 15552487 | BS32: 2221783.9 | BZ32: =(SUM(BZ31:CF31)/SUM($K31:$EC31))*$G31 -> 0 | CG32: =(SUM(CG31:CM31)/SUM($K31:$EC31))*$G31 -> 0 | CN32: =(SUM(CN31:CT31)/SUM($K31:$EC31))*$G31 -> 0 | CU32: =(SUM(CU31:DA31)/SUM($K31:$EC31))*$G31 -> 0 | DB32: =(SUM(DB31:DH31)/SUM($K31:$EC31))*$G31 -> 0 | DI32: =(SUM(DI31:DO31)/SUM($K31:$EC31))*$G31 -> 0 | DP32: =(SUM(DP31:DV31)/SUM($K31:$EC31))*$G31 -> 0 | DW32: =(SUM(DW31:EC31)/SUM($K31:$EC31))*$G31 -> 0 | ED32: =(SUM(ED31:EJ31)/SUM($K31:$EC31))*$G31 -> 0 | EK32: =(SUM(EK31:EQ31)/SUM($K31:$EC31))*$G31 -> 0 | ER32: =+(ER31+ES31+ET31+EU31+EV31+EW31+EX31)*G31 -> 0 | EY32: =+(EY31+EZ31+FA31+FB31+FC31+FD31+FE31)*N31 -> 0 | FF32: =+(FF31+FG31+FH31+FI31+FJ31+FK31+FL31)*U31 -> 0 | FM32: 29492753 | FT32: =+(FT31+FU31+FV31+FW31+FX31+FY31+FZ31)*AI31 -> 0 | GA32: =+(GA31+GB31+GC31+GD31+GE31+GF31+GG31)*AP31 -> 0
J33: E
B35: =+'BALANCE GENERAL'!D20 -> 1.08 | C35: =+'BALANCE GENERAL'!G20 -> Riego de imprimación con emulsión asfáltica CRL-1 PARA CONSTRUCCION (Incluye suministro y aplicación) | D35: =+'BALANCE GENERAL'!H20 -> m2 | E35: 4675.23 | F35: =+'BALANCE GENERAL'!J20 -> 5101 | G35: =ROUND(E35*F35,0) -> 23848348 | J35: P | CR35: 1 | CS35: 1
K36: 0 | P36: 0 | V36: =(SUM(V35:AB35)/SUM($K35:$EC35))*$G35 -> 0 | AC36: =(SUM(AC35:AI35)/SUM($K35:$EC35))*$G35 -> 0 | AJ36: =(SUM(AJ35:AP35)/SUM($K35:$EC35))*$G35 -> 0 | AQ36: =(SUM(AQ35:AW35)/SUM($K35:$EC35))*$G35 -> 0 | AX36: =(SUM(AX35:BD35)/SUM($K35:$EC35))*$G35 -> 0 | BE36: =(SUM(BE35:BK35)/SUM($K35:$EC35))*$G35 -> 0 | BL36: =(SUM(BL35:BR35)/SUM($K35:$EC35))*$G35 -> 0 | BS36: =(SUM(BS35:BY35)/SUM($K35:$EC35))*$G35 -> 0 | BZ36: =(SUM(BZ35:CF35)/SUM($K35:$EC35))*$G35 -> 0 | CG36: =(SUM(CG35:CM35)/SUM($K35:$EC35))*$G35 -> 0 | CN36: 12656142 | CU36: =(SUM(CU35:DA35)/SUM($K35:$EC35))*$G35 -> 0 | DB36: =(SUM(DB35:DH35)/SUM($K35:$EC35))*$G35 -> 0 | DI36: =(SUM(DI35:DO35)/SUM($K35:$EC35))*$G35 -> 0 | DP36: =(SUM(DP35:DV35)/SUM($K35:$EC35))*$G35 -> 0 | DW36: =(SUM(DW35:EC35)/SUM($K35:$EC35))*$G35 -> 0 | ED36: =(SUM(ED35:EJ35)/SUM($K35:$EC35))*$G35 -> 0 | EK36: =(SUM(EK35:EQ35)/SUM($K35:$EC35))*$G35 -> 0 | ER36: =+(ER35+ES35+ET35+EU35+EV35+EW35+EX35)*G35 -> 0 | EY36: =+(EY35+EZ35+FA35+FB35+FC35+FD35+FE35)*N35 -> 0 | FF36: =+(FF35+FG35+FH35+FI35+FJ35+FK35+FL35)*U35 -> 0 | FM36: =+(FM35+FN35+FO35+FP35+FQ35+FR35+FS35)*AB35 -> 0 | FT36: 11192206 | GA36: =+(GA35+GB35+GC35+GD35+GE35+GF35+GG35)*AP35 -> 0
J37: E
B39: =+'BALANCE GENERAL'!D21 -> 1.09 | C39: =+'BALANCE GENERAL'!G21 -> MEZCLA ASFÁLTICA EN CALIENTE TIPO MDC-19 PARA CONSTRUCCION (Incluye Suministro, extendido, nivelación y compactación, incluye transporte del material) | D39: =+'BALANCE GENERAL'!H21 -> m3 | E39: 453.27 | F39: =+'BALANCE GENERAL'!J21 -> 1155513 | G39: =ROUND(E39*F39,0) -> 523759378 | J39: P | CU39: 1 | CV39: 1 | CW39: 1 | CX39: 1 | CY39: 1 | CZ39: 1 | DA39: 1 | DB39: 1 | FW39: 0.124753 | FX39: 0.124753 | FY39: 0.124753 | FZ39: 0.124753
K40: 0 | P40: 0 | V40: =(SUM(V39:AB39)/SUM($K39:$EC39))*$G39 -> 0 | AC40: =(SUM(AC39:AI39)/SUM($K39:$EC39))*$G39 -> 0 | AJ40: =(SUM(AJ39:AP39)/SUM($K39:$EC39))*$G39 -> 0 | AQ40: =(SUM(AQ39:AW39)/SUM($K39:$EC39))*$G39 -> 0 | AX40: =(SUM(AX39:BD39)/SUM($K39:$EC39))*$G39 -> 0 | BE40: =(SUM(BE39:BK39)/SUM($K39:$EC39))*$G39 -> 0 | BL40: =(SUM(BL39:BR39)/SUM($K39:$EC39))*$G39 -> 0 | BS40: =(SUM(BS39:BY39)/SUM($K39:$EC39))*$G39 -> 0 | BZ40: =(SUM(BZ39:CF39)/SUM($K39:$EC39))*$G39 -> 0 | CG40: =(SUM(CG39:CM39)/SUM($K39:$EC39))*$G39 -> 0 | CN40: =(SUM(CN39:CT39)/SUM($K39:$EC39))*$G39 -> 0 | CU40: 2.2959769e+08 | DB40: 32799670 | DI40: =(SUM(DI39:DO39)/SUM($K39:$EC39))*$G39 -> 0 | DP40: =(SUM(DP39:DV39)/SUM($K39:$EC39))*$G39 -> 0 | DW40: =(SUM(DW39:EC39)/SUM($K39:$EC39))*$G39 -> 0 | ED40: =(SUM(ED39:EJ39)/SUM($K39:$EC39))*$G39 -> 0 | EK40: =(SUM(EK39:EQ39)/SUM($K39:$EC39))*$G39 -> 0 | ER40: =+(ER39+ES39+ET39+EU39+EV39+EW39+EX39)*G39 -> 0 | EY40: =+(EY39+EZ39+FA39+FB39+FC39+FD39+FE39)*N39 -> 0 | FF40: =+(FF39+FG39+FH39+FI39+FJ39+FK39+FL39)*U39 -> 0 | FM40: =+(FM39+FN39+FO39+FP39+FQ39+FR39+FS39)*AB39 -> 0 | FT40: 2.6136202e+08 | GA40: =+(GA39+GB39+GC39+GD39+GE39+GF39+GG39)*AP39 -> 0
J41: E
B43: =+'BALANCE GENERAL'!D22 -> 1.1 | C43: =+'BALANCE GENERAL'!G22 -> Base estabilizada con cemento al 6% (incluye Suministro, Extendido, Nivelación y Compactación con Vibrocompactador 8 ton, incluye transporte) | D43: =+'BALANCE GENERAL'!H22 -> m3 | E43: 554.02 | F43: =+'BALANCE GENERAL'!J22 -> 291945 | G43: =ROUND(E43*F43,0) -> 161743369 | J43: P | CI43: 1 | CJ43: 1 | CK43: 1 | CL43: 1 | CM43: 1 | CN43: 1 | CO43: 1 | CP43: 1 | CQ43: 1 | FP43: 0.064196 | FQ43: 0.064196 | FR43: 0.064196 | FS43: 0.064196 | FT43: 0.064196 | FU43: 0.064196
K44: 0 | P44: 0 | V44: =(SUM(V43:AB43)/SUM($K43:$EC43))*$G43 -> 0 | AC44: =(SUM(AC43:AI43)/SUM($K43:$EC43))*$G43 -> 0 | AJ44: =(SUM(AJ43:AP43)/SUM($K43:$EC43))*$G43 -> 0 | AQ44: =(SUM(AQ43:AW43)/SUM($K43:$EC43))*$G43 -> 0 | AX44: =(SUM(AX43:BD43)/SUM($K43:$EC43))*$G43 -> 0 | BE44: =(SUM(BE43:BK43)/SUM($K43:$EC43))*$G43 -> 0 | BL44: =(SUM(BL43:BR43)/SUM($K43:$EC43))*$G43 -> 0 | BS44: =(SUM(BS43:BY43)/SUM($K43:$EC43))*$G43 -> 0 | BZ44: =(SUM(BZ43:CF43)/SUM($K43:$EC43))*$G43 -> 0 | CG44: 55246456 | CN44: 44197164 | CU44: =(SUM(CU43:DA43)/SUM($K43:$EC43))*$G43 -> 0 | DB44: =(SUM(DB43:DH43)/SUM($K43:$EC43))*$G43 -> 0 | DI44: =(SUM(DI43:DO43)/SUM($K43:$EC43))*$G43 -> 0 | DP44: =(SUM(DP43:DV43)/SUM($K43:$EC43))*$G43 -> 0 | DW44: =(SUM(DW43:EC43)/SUM($K43:$EC43))*$G43 -> 0 | ED44: =(SUM(ED43:EJ43)/SUM($K43:$EC43))*$G43 -> 0 | EK44: =(SUM(EK43:EQ43)/SUM($K43:$EC43))*$G43 -> 0 | ER44: =+(ER43+ES43+ET43+EU43+EV43+EW43+EX43)*G43 -> 0 | EY44: =+(EY43+EZ43+FA43+FB43+FC43+FD43+FE43)*N43 -> 0 | FF44: =+(FF43+FG43+FH43+FI43+FJ43+FK43+FL43)*U43 -> 0 | FM44: =+(FM43+FN43+FO43+FP43+FQ43+FR43+FS43)*G43 -> 41533109 | FT44: 20766640 | GA44: =+(GA43+GB43+GC43+GD43+GE43+GF43+GG43)*AP43 -> 0
J45: E
B47: =+'BALANCE GENERAL'!D26 -> 1.14 | C47: =+'BALANCE GENERAL'!G26 -> Concreto Premezclado MR 41 - 4 pulgadas mantenimiento - 28 días CONSTRUCCION (incluye suministro, transporte, instalación de concreto)- (No incluye curado, cordón de espuma de polietileno, sellador de juntas, acero de barras pasajunta, barras de amarre ni acero canastilla) | D47: =+'BALANCE GENERAL'!H26 -> m3 | E47: 183.55 | F47: =+'BALANCE GENERAL'!J26 -> 845738 | G47: =ROUND(E47*F47,0) -> 155235210 | J47: P | BZ47: 1 | CA47: 1 | CB47: 1 | CC47: 1 | CD47: 1 | CE47: 1 | CF47: 1 | CG47: 1
K48: 0 | P48: 0 | V48: =(SUM(V47:AB47)/SUM($K47:$EC47))*$G47 -> 0 | AC48: =(SUM(AC47:AI47)/SUM($K47:$EC47))*$G47 -> 0 | AJ48: =(SUM(AJ47:AP47)/SUM($K47:$EC47))*$G47 -> 0 | AQ48: =(SUM(AQ47:AW47)/SUM($K47:$EC47))*$G47 -> 0 | AX48: =(SUM(AX47:BD47)/SUM($K47:$EC47))*$G47 -> 0 | BE48: =(SUM(BE47:BK47)/SUM($K47:$EC47))*$G47 -> 0 | BL48: =(SUM(BL47:BR47)/SUM($K47:$EC47))*$G47 -> 0 | BS48: =(SUM(BS47:BY47)/SUM($K47:$EC47))*$G47 -> 0 | BZ48: 1.3350315e+08 | CG48: =19071878.25+2660184.31-0.41 -> 21732062 | CN48: =(SUM(CN47:CT47)/SUM($K47:$EC47))*$G47 -> 0 | CU48: =(SUM(CU47:DA47)/SUM($K47:$EC47))*$G47 -> 0 | DB48: =(SUM(DB47:DH47)/SUM($K47:$EC47))*$G47 -> 0 | DI48: =(SUM(DI47:DO47)/SUM($K47:$EC47))*$G47 -> 0 | DP48: =(SUM(DP47:DV47)/SUM($K47:$EC47))*$G47 -> 0 | DW48: =(SUM(DW47:EC47)/SUM($K47:$EC47))*$G47 -> 0 | ED48: =(SUM(ED47:EJ47)/SUM($K47:$EC47))*$G47 -> 0 | EK48: =(SUM(EK47:EQ47)/SUM($K47:$EC47))*$G47 -> 0 | ER48: =+(ER47+ES47+ET47+EU47+EV47+EW47+EX47)*G47 -> 0 | EY48: =+(EY47+EZ47+FA47+FB47+FC47+FD47+FE47)*N47 -> 0 | FF48: =+(FF47+FG47+FH47+FI47+FJ47+FK47+FL47)*U47 -> 0 | FM48: =+(FM47+FN47+FO47+FP47+FQ47+FR47+FS47)*AB47 -> 0 | FT48: =+(FT47+FU47+FV47+FW47+FX47+FY47+FZ47)*AI47 -> 0 | GA48: =+(GA47+GB47+GC47+GD47+GE47+GF47+GG47)*AP47 -> 0
J49: E
...
