Workbook
Name Actividad: [1]ACTIVIDADES!$A$3:$B$27
Name Actividad: #REF!
Name Actividades: #REF!
Name CodActi: #REF!
Name Comprobantes: '[2]Tabla de Comprobantes'!$A$3:$A$65
Name Cuadrilla: '[1]Mano de Obra'!$A$2:$A$22
Name Cuadrilla: 'Mano de Obra'!$A$2:$A$22
Name DATOS: Materiales!$A$2:$C$350
Name Descripcion: [1]ACTIVIDADES!$B$3:$B$27
Name Descripcion: #REF!
Name detalle: Materiales!$A$2:$A$350
Name detalle: [3]Materiales!$A$2:$A$219
Name Jornal: '[1]Mano de Obra'!$A$2:$B$22
Name Jornal: 'Mano de Obra'!$A$2:$B$22
Name LISTA_EQ: [4]Equipos!$A$2:$A$79
Name LISTA_HE: [4]Herramienta!$A$2:$A$5
Name LISTA_MA: [4]Materiales!$A$2:$A$1377
Name LISTA_MO: '[4]Mano de Obra'!$A$2:$A$43
Name LISTA_OT: [4]Otros!$A$2:$A$70
Name mat: Materiales!$A$2:$C$351
Name Materiales: Materiales!$A$2:$A$351
Name PC: '[2]Tabla de Comprobantes'!$E$3:$E$14
Name sga: Materiales!$A$2:$C$351

Sheet Detalle de Presupuesto
A1: Municipio de Santa Fe de Antioquia
A2: SECRETARÍA DE INFRAESTRUCTURA
A4: 1. ADECUACIÓN Y MEJORAMIENTO A INFRAESTRUCTURA BODEGA MUNICIPAL, SANTA FE DE ANTIOQUIA, ANTIOQUIA.
A6: It. | B6: DENOMINACIÓN | D6: Un | E6: CANTIDAD | F6: PRECIO UNITARIO | G6: TOTAL
A8: 1 | B8: PRELIMINARES | G8: =SUM(G9:G9) -> 0
A9: 1.1 | B9: =VLOOKUP(A9,APU!B8:G221,2,FALSE) -> Localización y replanteo | D9: día | E9: 1 | F9: =VLOOKUP(A9,APU!B8:G221,6,FALSE) -> 0 | G9: =E9*F9 -> 0
A11: 2 | B11: REVOQUE - PINTURA | G11: =SUM(G12:G13) -> 2047905.9
A12: 2.1 | B12: =VLOOKUP(A12,APU!B29:G235,2,FALSE) -> Aplicación de Pintura Tipo I, de primera calidad sobre muros revocados y/o estucados, tres manos o las necesarias hasta obtener una superficie pareja y homogénea. Incluye suministro y transporte de los materiales, resanes, tapa poros en estuco plástico tipo plastestuco o equivalente diluido en agua proporción 1:2, adecuación de la superficie a intervenir hasta obtener una superficie pareja y homogénea, color a definir según aprobación de la interventoría. | D12: =VLOOKUP(A12,APU!B29:G235,5,FALSE) -> m2 | E12: =2+0.3+1+1+3+1.3 -> 8.6 | F12: =VLOOKUP(A12,APU!B29:G235,6,FALSE) -> 21907.22 | G12: =E12*F12 -> 188402.09
A13: 2.2 | B13: =VLOOKUP(A13,APU!B35:G241,2,FALSE) -> Aplicación de Pintura Esmalte sintético para Metal, de primera calidad sobre elementos metalicos, dos manos o las necesarias hasta obtener una superficie pareja y homogénea. Incluye suministro y transporte de los materiales, resanes y adecuación de la superficie a intervenir hasta obtener una superficie pareja y homogénea, color a definir según aprobación de la interventoría. | D13: =VLOOKUP(A13,APU!B35:G241,5,FALSE) -> m2 | E13: =(2*(6*5))+(2*(1*2.1)) -> 64.2 | F13: =VLOOKUP(A13,APU!B35:G241,6,FALSE) -> 28964.233 | G13: =E13*F13 -> 1859503.8
A15: 3 | B15: CUBIERTA | G15: =SUM(G16:G18) -> 14873635
A16: 3.1 | B16: =VLOOKUP(A16,APU!B35:G997,2,FALSE) -> Cubierta inclinada de placas UPVC cresta alta 2,5mm espesor, fijadas mecánicamente, con una pendiente entre 5% al 10%. Incluye elementos de fijación, accesorios, juntas, remates perimetrales, sello de anclajes y otras piezas de remate para la resolución de puntos singulares. | D16: =VLOOKUP(A16,APU!B35:G255,5,FALSE) -> m2 | E16: =34.5*2 -> 69 | F16: =VLOOKUP(A16,APU!B35:G255,6,FALSE) -> 97107.5 | G16: =E16*F16 -> 6700417.5
A17: 3.2 | B17: =VLOOKUP(A17,APU!B35:G999,2,FALSE) -> Suministro, transporte e instalación de CANOA en lamina galvanizada Cal .24 d/ 0.80 m. Incluye 2 manos de anticorrosivo WASH PRIMER + esmalte + anclaje a muro +tapas laterales + sikaflex 1A) Color por definir por interventoría. | D17: =VLOOKUP(A17,APU!B35:G257,5,FALSE) -> ml | E17: 70 | F17: =VLOOKUP(A17,APU!B35:G257,6,FALSE) -> 114092.77 | G17: =E17*F17 -> 7986493.7
A18: 3.3 | B18: =VLOOKUP(A18,APU!B35:G1000,2,FALSE) -> SUMINISTO, TRANSPORTE E INSTALACION DE EMBUDOS EN LAMINA GALVANIZADA Cal .26 | D18: un | E18: 8 | F18: =VLOOKUP(A18,APU!B35:G258,6,FALSE) -> 23340.54 | G18: =E18*F18 -> 186724.32
A20: 4 | B20: INSTALACIONES HIDRÁULICAS Y SANITARIAS | G20: =SUM(G21:G22) -> 1019540.2
A21: 4.1 | B21: =VLOOKUP(A21,APU!B35:G1004,2,FALSE) -> SUMINISTRO Y COLOCACIÓN DE TUBERÍA PVC-SANITARIA PVC 3" (Red sanitaria y/o Lluvia) Incluye excavación manual, cancha en muros y/o pisos, , instalación y accesorios. | D21: =VLOOKUP(A21,APU!B35:G259,5,FALSE) -> ml | E21: =2*(4*4.5) -> 36 | F21: =VLOOKUP(A21,APU!B35:G259,6,FALSE) -> 25396.75 | G21: =E21*F21 -> 914283
A22: 4.2 | B22: =VLOOKUP(A22,APU!B35:G1012,2,FALSE) -> SUMINISTRO Y COLOCACIÓN DE REJILLA DE PISO EN ALUMINIO. Ø = 3". | D22: =VLOOKUP(A22,APU!B35:G1012,5,FALSE) -> un | E22: 2 | F22: =VLOOKUP(A22,APU!B35:G1012,6,FALSE) -> 52628.61 | G22: =E22*F22 -> 105257.22
A24: 5 | B24: INSTALACIONES ELECTRICAS | G24: =SUM(G25:G28) -> 4024787.5
A25: 5.1 | B25: =VLOOKUP(A25,APU!B35:G1018,2,FALSE) -> Suministro, transporte e instalación de cableado eléctrico, incluye tubería EMT, conectores de conexión y empalme, adaptadores terminales, curvas, tornillos, y demás accesorios y elementos para su correcta instalación y funcionamiento. | D25: =VLOOKUP(A25,APU!B35:G1018,5,FALSE) -> ml | E25: 10 | F25: =VLOOKUP(A25,APU!B35:G1018,6,FALSE) -> 41600.733 | G25: =E25*F25 -> 416007.33
A26: 5.2 | B26: =VLOOKUP(A26,APU!B35:G1020,2,FALSE) -> Suministro, transporte e instalación de salida eléctrica de interruptor sencillo. Incluye aparato electrico con tapa suplemento, conectores de conexión y empalme, adaptadores terminales, curvas, tornillos, y demás accesorios y elementos para su correcta instalación y funcionamiento. Hasta 3 MTS de salida. | D26: =VLOOKUP(A26,APU!B35:G1020,5,FALSE) -> un | E26: 4 | F26: =VLOOKUP(A26,APU!B35:G1020,6,FALSE) -> 78556.8 | G26: =E26*F26 -> 314227.2
A27: 5.3 | B27: =VLOOKUP(A27,APU!B35:G1022,2,FALSE) -> Suministro e instalación Panel Led Empotrar Cuadrado 18W Luz Fría. Incluye salida electrica, caja 4x4 o similar, tapa suplemento, conectores de conexión, adaptadores terminales, curvas, tornillos, 3 metros de cable encauchetado, elementos de fijación y demás elementos necesarios para su correcta instalación. | D27: =VLOOKUP(A27,APU!B35:G1022,5,FALSE) -> un | E27: 5 | F27: =VLOOKUP(A27,APU!B35:G1022,6,FALSE) -> 110540.2 | G27: =E27*F27 -> 552701
A28: 5.4 | B28: =VLOOKUP(A28,APU!B35:G1023,2,FALSE) -> Suministro e instalación Reflector Led 100W Ip65. Incluye salida electrica, caja 4x4 o similar, tapa suplemento, conectores de conexión, adaptadores terminales, curvas, tornillos, 3 metros de cable encauchetado, elementos de fijación y demás elementos necesarios para su correcta instalación. | D28: =VLOOKUP(A28,APU!B35:G1023,5,FALSE) -> un | E28: 10 | F28: =VLOOKUP(A28,APU!B35:G1023,6,FALSE) -> 274185.2 | G28: =E28*F28 -> 2741852
F31: SUBTOTAL | G31: =SUM(G8:G29)/2 -> 21965869
E32: AU | F32: =+'CALCULO AU'!H55 -> 0.26 | G32: =G31*F32 -> 5711126
F34: TOTAL | G34: =G31+G32 -> 27676995

Sheet APU
B1: Municipio de Santa Fe de Antioquia
B2: SECRETARÍA DE INFRAESTRUCTURA
B4: ANÁLISIS DE PRECIOS UNITARIOS
B6: PROYECTO U OBRA: | C6: 1. ADECUACIÓN Y MEJORAMIENTO A INFRAESTRUCTURA BODEGA MUNICIPAL, SANTA FE DE ANTIOQUIA, ANTIOQUIA.
B7: ÍTEM: | C7: DESCRIPCIÓN ITEM: | F7: UNIDAD: | G7: Precio Unitario
B8: 1.1 | C8: Localización y replanteo | F8: un | G8: =G33*0 -> 0
B10: I. EQUIPO
B11: Descripción | D11: Unidad | E11: Precio Unit. | F11: Rendimiento | G11: Valor Parcial
B12: Herramienta menor 10% de M.o | D12: Gl | E12: =G31*0.1 -> 35292 | F12: 1 | G12: =F12*E12 -> 35292
G14: =SUM(G12:G13) -> 35292
B15: II. MATERIALES EN OBRA
B16: Descripción | D16: Unidad | E16: Precio Unit. | F16: Cantidad | G16: Valor Parcial
D17: =IF(B17="","",VLOOKUP(B17,mat,2,FALSE)) | E17: 0 | G17: =F17*E17 -> 0
D18: =IF(B18="","",VLOOKUP(B18,mat,2,FALSE)) | E18: =IF(B18="","0",VLOOKUP(B18,mat,3,FALSE)) -> 0 | F18: 0 | G18: =F18*E18 -> 0
D19: =IF(B19="","",VLOOKUP(B19,mat,2,FALSE)) | E19: =IF(B19="","0",VLOOKUP(B19,mat,3,FALSE)) -> 0 | F19: 0 | G19: =F19*E19 -> 0
G20: =SUM(G17:G19) -> 0
B21: III. TRANSPORTES
B22: Material | C22: Vol., peso | D22: Distancia | E22: m3-km | F22: Tarifa | G22: Valor Parcial
E23: 0 | F23: 0 | G23: =F23*E23 -> 0
G25: =SUM(G23:G24) -> 0
B26: IV. MANO DE OBRA
B27: Trabajador | C27: Jornal | D27: Prestaciones | E27: Jornal Total | F27: Rendimiento | G27: Valor Parcial
B28: Maestro | C28: =VLOOKUP(B28,Jornal,2,FALSE) -> 108000 | D28: 1.73 | E28: =D28*C28 -> 186840 | F28: 1 | G28: =F28*E28 -> 186840
B29: Oficial | C29: =VLOOKUP(B29,Jornal,2,FALSE) -> 96000 | D29: 1.73 | E29: =D29*C29 -> 166080 | F29: 1 | G29: =F29*E29 -> 166080
G31: =SUM(G28:G30) -> 352920
E33: Total Costo Directo | G33: =+G31+G25+G20+G14 -> 388212
B37: Municipio de Santa Fe de Antioquia
B38: SECRETARÍA DE INFRAESTRUCTURA
B40: ANÁLISIS DE PRECIOS UNITARIOS
B42: PROYECTO U OBRA: | C42: 1. ADECUACIÓN Y MEJORAMIENTO A INFRAESTRUCTURA BODEGA MUNICIPAL, SANTA FE DE ANTIOQUIA, ANTIOQUIA.
B43: ÍTEM: | C43: DESCRIPCIÓN ITEM: | F43: UNIDAD: | G43: Precio Unitario
B44: 2.1 | C44: Aplicación de Pintura Tipo I, de primera calidad sobre muros revocados y/o estucados, tres manos o las necesarias hasta obtener una superficie pareja y homogénea. Incluye suministro y transporte de los materiales, resanes, tapa poros en estuco plástico tipo plastestuco o equivalente diluido en agua proporción 1:2, adecuación de la superficie a intervenir hasta obtener una superficie pareja y homogénea, color a definir según aprobación de la interventoría. | F44: m2 | G44: =G70 -> 21907.22
B46: I. EQUIPO
B47: Descripción | D47: Unidad | E47: Precio Unit. | F47: Rendimiento | G47: Valor Parcial
B48: Herramienta menor 10% de M.o | D48: Gl | E48: =G68*0.1 -> 1079.52 | F48: 1 | G48: =F48*E48 -> 1079.52
B49: Escalera Tipo Tijeras | D49: día | E49: 10500 | F49: 0.08 | G49: =F49*E49 -> 840
G50: =SUM(G48:G49) -> 1919.52
B51: II. MATERIALES EN OBRA
B52: Descripción | D52: Unidad | E52: Precio Unit. | F52: Cantidad | G52: Valor Parcial
B53: Pintura Vinilo tipo I | D53: =IF(B53="","",VLOOKUP(B53,mat,2,FALSE)) -> gl | E53: =IF(B53="","0",VLOOKUP(B53,mat,3,FALSE)) -> 89900 | F53: =1/10 -> 0.1 | G53: =F53*E53 -> 8990
...

Sheet Materiales
A1: Descripcion | B1: Und | C1: Vr. Unitario
A2: Cemento gris Uso Gnral 50kg | B2: sac | C2: 37500
A3: Cemento Estructural 42,5kg | B3: sac | C3: 39400
A4: Cemento Blanco | B4: kl | C4: 2530
A5: Concreto Premezclado | B5: m3 | C5: 390558
A6: Revoque | B6: m2 | C6: 303500
A7: Mortero 1:3 | B7: m3 | C7: 352500
A8: Impermeabilizante para concreto | B8: Kg | C8: 12900
A9: Impermeabilizante integral para morteros | B9: kg | C9: 6000
A10: Arena de concreto | B10: m3 | C10: =ROUND((495000/6),-3) -> 83000
A11: Arena de Revoque | B11: m3 | C11: =ROUND((405000/6),-3) -> 68000
A12: Arena de pega | B12: m3 | C12: =ROUND((405000/6),-3) -> 68000
A13: Triturado de 1/2" | B13: m3 | C13: =ROUND((495000/6),-3) -> 83000
A14: Tierra no vegetal | B14: m3
A15: Material Granular seleccionado | B15: m3 | C15: 56000
A16: Afirmado | B16: m3 | C16: 40000
A17: Costal | B17: un | C17: 2300
A18: Material para filtro | B18: m3 | C18: 75000
A19: Granito #1 | B19: bt | C19: 18000
A21: Agua | B21: lt | C21: 100
A22: Cinta de Señalizacion cal 6 | B22: ml | C22: 450
A23: Tela verde para cerramiento 100m x 2.10m | B23: ml | C23: 2190
A24: Tela negra para cerramiento 100m x 2.10m | B24: ml | C24: 350000
A25: Tela blanca para cerramiento 100m x 2.10m | B25: ml | C25: 355000
A26: Caseton de Icopor | B26: m2 | C26: 45000
A27: Bloque de cemento 0.10x0.20x0.40m estructural | B27: un | C27: 2050
... A33: Bloque #5 estándar 12 x 20 x 30 cm | B33: un | C33: 1600
A35: Hidrofugo Siliconite Transparente | B35: gl | C35: 80990 | E35: 16m2
A36: Limpiador fachada de ladrillo | B36: gl | C36: =133900/5 -> 26780 | E36: 20m2
A37: Impermeabilizante acrilico | B37: gl | C37: 73990
A38: Barniz intemperie brillante | B38: gl | C38: 45600
A39: Pintura Esmalte para metal | B39: gl | C39: 117100
A40: Pintura Anticorrosiva | B40: gl | C40: 65850
A41: Pintura Alta Asepsia | B41: gl | C41: 98420
A42: Pintura Epoxica | B42: gl | C42: 183500 | E42: 130000
A43: Pintura Vinilo tipo I | B43: gl | C43: 89900
A44: Pintura Vinilo tipo II | B44: gl | C44: =185000/4 -> 46250
A45: Pintura Fondeo | B45: gl | C45: 58000
A46: Pintura Acriltex | B46: gl | C46: 35500
A47: Pintura Vinilo Exterior tipo KORAZA | B47: cuñete | C47: 486900
...

Sheet CALCULO AU
A1: Municipio de Santa Fe de Antioquia
A2: SECRETARÍA DE INFRAESTRUCTURA
A4: ADECUACIÓN Y MEJORAMIENTO A INFRAESTRUCTURA BODEGA MUNICIPAL, SANTA FE DE ANTIOQUIA, ANTIOQUIA.
A6: COMPOSICION DEL PORCENTAJE DE ADMINISTRACION Y UTILIDAD
A7: COSTO DIRECTO DEL PROYECTO | C7: ='Detalle de Presupuesto'!G31 -> 21965869 | F7: A.I.U (26%) | G7: =+C7*0.26 -> 5711126
A8: DURACION DEL PROYECTO (MESES) | D8: 2
A9: I.V.A (sobre utilidad) | C9: 0 | F9: TOTAL PROYECTO (A) | G9: =C7+G7 -> 27676995
A10: DETALLE DE LOS COSTOS ADMINISTRATIVOS
A11: 1. PERSONAL POR ADMINISTRACION
A12: DESCRIPCION | C12: UNIDAD | D12: MESES | E12: CANT | F12: SAL. BASICO | G12: VR. TOTAL | H12: PORCENTAJE
A13: Ingeniero Director | C13: 1 | D13: 0 | E13: 0 | F13: 5500000 | G13: =((F13+(F13/2))*D13)*E13 -> 0 | H13: =+G13/$C$7 -> 0
A14: Ingeniero, constructor y/o arquitecto Residente | C14: 1 | D14: 1 | E14: 0.2 | F14: 4500000 | G14: =((F14+(F14/2))*D14)*E14 -> 1350000 | H14: =+G14/$C$7 -> 0.061458984
A15: Tecnólogo | C15: 1 | D15: 0 | E15: 0 | F15: 2800000 | G15: =((F15+(F15/2))*D15)*E15 -> 0 | H15: =+G15/$C$7 -> 0
A16: Encargados de obra | C16: 1 | D16: 0 | E16: 0 | F16: 1700000 | G16: =((F16+(F16/2))*D16)*E16 -> 0 | H16: =+G16/$C$7 -> 0
A17: Profesional en Seguridad Industrial | C17: 1 | D17: 0 | E17: 0 | F17: 1700000 | G17: =((F17+(F17/2))*D17)*E17 -> 0 | H17: =+G17/$C$7 -> 0
A18: Tecnologo socio Ambiental | C18: 1 | D18: 0 | E18: 0 | F18: 2500000 | G18: =((F18+(F18/2))*D18)*E18 -> 0 | H18: =+G18/$C$7 -> 0
A19: Secretaria | C19: 1 | D19: 0 | E19: 0 | F19: 1000000 | G19: =((F19+(F19/2))*D19)*E19 -> 0 | H19: =+G19/$C$7 -> 0
A20: Celaduria | C20: 1 | D20: 0 | E20: 0 | F20: 1550000 | G20: =((F20+(F20/2))*D20)*E20 -> 0 | H20: =+G20/$C$7 -> 0
A21: Almacenista | C21: 1 | D21: 0 | E21: 0 | F21: 1300000 | G21: =((F21+(F21/2))*D21)*E21 -> 0 | H21: =+G21/$C$7 -> 0
A22: TOTAL PERSONAL ADMINISTRATIVO | G22: =SUM(G13:G21) -> 1350000 | H22: =SUM(H13:H21) -> 0.061458984
A23: 2. GASTOS GENERALES
A24: DESCRIPCION | C24: UNIDAD | D24: CANTIDAD | E24: MESES | F24: TARIFA | G24: VR. TOTAL | H24: PORCENTAJE
A25: Servicios publicos | C25: MES | D25: 0 | E25: 0 | F25: 0 | G25: =E25*F25 -> 0 | H25: =+G25/$C$7 -> 0
A26: Plan de gestión de implementación de obra | C26: MES | D26: 0 | E26: 0 | F26: 0 | G26: =E26*F26 -> 0 | H26: =+G26/$C$7 -> 0
A27: Oficina principal | C27: MES | D27: 0 | E27: 0 | F27: 0 | G27: =E27*F27 -> 0 | H27: =+G27/$C$7 -> 0
A28: Papeleria | C28: MES | D28: 1 | E28: 1 | F28: 60000 | G28: =E28*F28 -> 60000 | H28: =+G28/$C$7 -> 0.0027315104
A29: Equipos de computo | C29: MES | D29: 0 | E29: 0 | F29: 0 | G29: =E29*F29 -> 0 | H29: =+G29/$C$7 -> 0
A30: Equipos de comunicación | C30: MES | D30: 0 | E30: 0 | F30: 0 | G30: =E30*F30 -> 0 | H30: =+G30/$C$7 -> 0
A31: Transporte personal a obra | C31: MES | D31: 0 | E31: 0 | F31: 0 | G31: =E31*F31 -> 0 | H31: =+G31/$C$7 -> 0
A32: Plan Ambiental, Seguridad y Transito | C32: MES | D32: 0 | E32: 0 | F32: 0 | G32: =E32*F32 -> 0 | H32: =+G32/$C$7 -> 0
A33: Póliza | C33: MES | D33: 1 | E33: 1 | F33: =+$C$7*1.01% -> 221855.28 | G33: =E33*F33 -> 221855.28 | H33: =+G33/$C$7 -> 0.0101
A34: TOTAL GASTOS GENERALES | G34: =SUM(G25:G33) -> 281855.28 | H34: =SUM(H25:H33) -> 0.01283151
A35: 3. GASTOS LEGALES, JURIDICOS Y TRIBUTARIOS
A36: DESCRIPCION | C36: UNIDAD | D36: CANTIDAD | E36: MESES | F36: TARIFA | G36: VR. TOTAL | H36: PORCENTAJE
A37: Impuesto de contribución especial 5% | C37: UNIDAD | D37: 1 | F37: 0.05 | G37: =+$C$7*F37 -> 1098293.5 | H37: =+G37/$C$7 -> 0.05
A38: Estampilla Pro Cultura | B38: Estampilla Pro Cultura | C38: UNIDAD | D38: 1 | F38: 0.02 | G38: =+$C$7*F38 -> 439317.38 | H38: =+G38/$C$7 -> 0.02
A39: Estampilla Adulto Mayor | B39: Estampilla Pro Cultura | C39: UNIDAD | D39: 1 | F39: 0.04 | G39: =+$C$7*F39 -> 878634.76 | H39: =+G39/$C$7 -> 0.04
A40: Estampilla Hospital | C40: UNIDAD | D40: 1 | F40: 0.01 | G40: =+$C$7*F40 -> 219658.69 | H40: =+G40/$C$7 -> 0.01
A41: Estampilla Pro deporte y recreacion | C41: UNIDAD | D41: 1 | F41: 0.025 | G41: =+$C$7*F41 -> 549146.73 | H41: =+G41/$C$7 -> 0.025
A42: TOTAL GASTOS GENERALES | G42: =SUM(G37:G41) -> 3185051 | H42: =SUM(H37:H41) -> 0.145
...

Sheet Mano de Obra
A1: Cuadrilla | B1: Jornal
A2: Ayudante | B2: 60000 | C2: 30 | D2: =B2*C2 -> 1800000
A3: Oficial | B3: =1.6*B2 -> 96000 | C3: 30 | D3: =B3*C3 -> 2880000
A4: Maestro | B4: =1.8*B2 -> 108000 | C4: 30 | D4: =B4*C4 -> 3240000
A5: Coordinador SST | B5: =B2*1.6 -> 96000 | C5: 30 | D5: =B5*C5 -> 2880000
A6: L
A7: 1 Oficial / 1 Ayudantes | B7: =$B$3+$B$2 -> 156000
A8: 1 Oficial / 2 Ayudantes | B8: =$B$3+2*$B$2 -> 216000
A9: 1 Oficial / 3 Ayudantes | B9: =$B$3+3*$B$2 -> 276000
A10: 1 Oficial / 4 Ayudantes | B10: =$B$3+4*$B$2 -> 336000
A11: 1 Oficial / 5 Ayudantes | B11: =$B$3+5*$B$2 -> 396000
A12: 1 Oficial / 6 Ayudantes | B12: =$B$3+6*$B$2 -> 456000
A13: 1 Oficial / 7 Ayudantes | B13: =$B$3+7*$B$2 -> 516000
A14: 2 Oficial / 2 Ayudantes | B14: =2*$B$3+2*$B$2 -> 312000
A15: 2 Oficial / 4 Ayudantes | B15: =2*$B$3+4*$B$2 -> 432000
A16: 2 Oficial / 6 Ayudantes | B16: =2*$B$3+6*$B$2 -> 552000
A17: 2 Oficial / 8 Ayudantes | B17: =2*$B$3+8*$B$2 -> 672000
A18: 3 Oficial / 3 Ayudantes | B18: =3*$B$3+3*$B$2 -> 468000
A19: 2 Ayudantes | B19: =$B$2*2 -> 120000
A20: 3 Ayudantes | B20: =$B$2*3 -> 180000
A21: 4 Ayudantes | B21: =$B$2*4 -> 240000
