Workbook
Name AA: '[1]Base listas desplegables'!$G$3:$G$13
Name ACTIVID: '[1]Base listas desplegables'!$J$3:$J$11
Name CIUDAD: '[1]Base listas desplegables'!$D$3:$D$24
Name DD: '[1]Base listas desplegables'!$E$3:$E$33
Name DEPENDENCIA: '[1]Base listas desplegables'!$B$3:$B$23
Name DPTO: '[1]Base listas desplegables'!$I$3:$I$34
Name DT: '[1]Base listas desplegables'!$C$3:$C$19
Name FUERZAS_MILITARES: '[1]Base listas desplegables'!$R$2:$R$6
Name HORA: '[1]Base listas desplegables'!$H$3:$H$50
Name MM: '[1]Base listas desplegables'!$F$3:$F$14
Name MODELO: '[1]Base listas desplegables'!$L$2:$L$7
Name MTRANSPORTE: '[1]Base listas desplegables'!$K$3:$K$4
Name PONAL: '[1]Base listas desplegables'!$M$2:$M$5
Name RGCENTRABAJO: [2]DatosPruebaEmp!$B$3:$B$39
Name RGCLASERIESGO: [2]DatosPruebaEmp!$L$3
Name RGDIVIDEPTO: [2]DatosPruebaEmp!$AD$3:$AD$35

Sheet CUADRO COMPARATIVO
B1: UNIDAD ADMINISTRATIVA ESPECIAL DE GESTIÓN DE RESTITUCIÓN DE TIERRAS DESPOJADAS | P1: PÁGINA:
B2: PROCESO: GESTIÓN CONTRACTUAL | P2: CÓDIGO: GC-FO-52
B3: CUADRO COMPARATIVO ESTUDIO DE MERCADO | P3: VERSIÓN: 3
A4: Clasificación de la Información: Publica ☒ Reservada ☐ Clasificada ☐ Fecha de aprobación: 28/02/2022
A6: DEPENDENCIA SOLICITANTE: | B6: OFICINA DE TECNOLOGÍAS DE LA INFORMACIÓN | I6: NOMBRE DEL ANALISTA: | K6: KAREN YISEL HERNANDEZ QUILCUE
A7: OBJETO DEL BIEN O SERVICIO SOLICITADO: | B7: Contratar el Servicio de Mantenimiento Preventivo, Correctivo y Mejoras a la Plataforma para la Infraestructura Tecnológica de la Unidad Administrativa Especial de Gestión de Restitución de Tierras Despojadas.
I8: FECHA SOLICITUD: | K8: 16 DE FEBRERO DEL 2024
A9: SECTOR AL QUE PERTENECE EL PROCESO: | I9: N° DE RADICADO: | K9: 202412000017663
B10: SERVICIOS | I10: SUBSECTOR AL QUE PERTENECE EL PROCESO: | K10: Actividades profesionales, científicas y técnicas
A12: EMPRESAS | B12: CIUDAD | C12: CUMPLIMIENTO | D12: ITEM 1: | G12: ITEM 2: | J12: ITEM 3: | M12: ITEM 4: | P12: ITEM 5:
D13: CANTIDAD | E13: VALOR UNITARIO IVA INCLUIDO | F13: VALOR TOTAL IVA INCLUIDO | G13: CANTIDAD | H13: VALOR UNITARIO IVA INCLUIDO | I13: VALOR TOTAL IVA INCLUIDO | J13: CANTIDAD | K13: VALOR UNITARIO IVA INCLUIDO | L13: VALOR TOTAL IVA INCLUIDO | M13: CANTIDAD | N13: VALOR UNITARIO IVA INCLUIDO | O13: VALOR TOTAL IVA INCLUIDO | P13: CANTIDAD | Q13: VALOR UNITARIO IVA INCLUIDO | R13: VALOR TOTAL IVA INCLUIDO
A14: Oferta 1 | B14: BOGOTÁ | C14: CUMPLE | D14: 1 | E14: =+IT!E21 -> 7278400 | F14: =+IT!#REF! -> #REF!
A15: Oferta 2 | B15: BOGOTÁ | C15: CUMPLE
A16: Oferta 3 | B16: BOGOTÁ | C16: CUMPLE
A17: RANGO SUPERIOR
A18: RANGO INFERIOR
A19: MEDIA GEOMÉTRICA
A20: DESVIACIÓN ESTÁNDAR
A21: MEDIANA
A22: RANGO SUPERIOR CON OUTLIER (con valores atípicos)
A23: RANGO INFERIOR CON OUTLIER (con valores atípicos)
A24: MEDIA GEOMÉTRICA CON OUTLIER (con valores atípicos)
A25: OBSERVACIONES: | B25: 1.Los valores del análisis numérico no presentan decimales, los resultados de los cálculos que se realiza por las fórmulas del formato Excel, se encuentran formulados con la condición "REDONDEAR", esto con el fin que los valores queden en números enteros y no se tomen decimales para establecer valores en los estudios previos y en los CDPs. 2. Para este estudio de mercado no se contemplan valores históricos, toda vez que se cuenta con pluralidad de cotizantes, se recibieron tres cotizaciones con las que se realizó el respectivo análisis numérico para establecer la oferta económica acorde con el comportamiento del mercado. 3. Para este estudio de mercado no es posible tener en cuenta todos los valores de las diferentes cotizaciones, esto debido a que los valores presentados (valores subrayados en color rojo), una vez realizado el análisis numérico correspondiente, no se encuentran dentro del rango superior e inferior aceptable. 4. Para el análisis numérico de la media geométrica, mediana y desviación estándar; se toman los valores que se identificaron dentro del rango superior e inferior, los cuales se encuentran en la casilla con sombreado amarillo.
A26: EVALUACIÓN DEL ANALISTA
A27: EMPRESAS COTIZANTES | B27: FECHA DE COTIZACION | C27: VALOR TOTAL DE LA COTIZACION | E27: OBSERVACIONES COTIZACIÓN (Forma de Pago, Garantía, Validez de la oferta)
A29: Oferta 1 | B29: 45356 | C29: =+IT!E21 -> 7278400 | E29: Valor Incluido IVA
A30: Oferta 2 | B30: 45357 | C30: =+IT!F21 -> 9930000 | E30: Valor Incluido IVA
A31: Oferta 3 | B31: 45359 | C31: =+IT!G21 -> 8982000 | E31: Valor Incluido IVA
A32: RESUMEN
A33: Empresas que cumplen con las especificaciones técnicas | E33: 1 y 3 | J33: Preparado por: | L33: KAREN YISEL HERNANDEZ QUILCUE
A34: Valor Unitario Promedio | E34: =+IT!J21 -> 7388534 | J34: Vo.Bo. Coordinador GGCIM: | L34: HECTOR HERNANDO ACOSTA JIMENEZ
A35: Valor Total Promedio (POE) | E35: =+IT!K21 -> 471106547

Sheet IT
B2: INFRAESTRUCTURA TECNOLOGICA 2024
B3: ÍTEM | C3: DESCRIPCIÓN | D3: CANTIDAD APROXIMADA EN TODO EL PAÍS | E3: OFERTA 1 | F3: OFERTA 2 | G3: OFERTA 3 | H3: RANGO INFERIOR | I3: RANGO SUPERIOR | J3: MEDIA GEOMETRICA | K3: MEDIA GEOMETRICA * CANTIDAD | L3: DESVIACION ESTANDAR | M3: MEDIANA
E4: Valor Unitario con IVA incluido | F4: Valor Unitario con IVA incluido | G4: Valor Unitario con IVA incluido
B5: 1 | C5: IMPRESORAS DE RED HP 4555 - DELL B5465 IMPRESORA HP E62555DNLEXMARK MX 711 / 721-OKI MPS 5502 | D5: 103 | E5: 363200 | F5: 180000 | G5: 286000 | H5: =ROUND(MEDIAN(E5:G5)-STDEVA(E5:G5),0) -> 194023 | I5: =ROUND(MEDIAN(E5:G5)+STDEVA(E5:G5),0) -> 377977 | J5: =ROUND(GEOMEAN(E5,G5),0) -> 322297 | K5: =J5*D5 -> 33196591 | L5: =ROUND(STDEVA(E5,G5),0) -> 54589 | M5: =ROUND(MEDIAN(E5,G5),0) -> 324600
B6: 2 | C6: IMPRESORAS PEQUEÑAS HP COLOR | D6: 3 | E6: 201000 | F6: 110000 | G6: 286000 | H6: =ROUND(MEDIAN(E6:G6)-STDEVA(E6:G6),0) -> 112983 | I6: =ROUND(MEDIAN(E6:G6)+STDEVA(E6:G6),0) -> 289017 | J6: =ROUND(GEOMEAN(E6,G6),0) -> 239762 | K6: =J6*D6 -> 719286 | L6: =ROUND(STDEVA(E6,G6),0) -> 60104 | M6: =ROUND(MEDIAN(E6,G6),0) -> 243500
B7: 3 | C7: IMPRESORAS ZEBRA | D7: 65 | E7: 470000 | F7: 110000 | G7: 250000 | H7: =ROUND(MEDIAN(E7:G7)-STDEVA(E7:G7),0) -> 68525 | I7: =ROUND(MEDIAN(E7:G7)+STDEVA(E7:G7),0) -> 431475 | J7: =ROUND(GEOMEAN(F7:G7),0) -> 165831 | K7: =J7*D7 -> 10779015 | L7: =ROUND(STDEVA(F7:G7),0) -> 98995 | M7: =ROUND(MEDIAN(F7:G7),0) -> 180000
B8: 4 | C8: ESCANER PORTABLE CANON P201 Y HP 1000 KODAK I940 | D8: 45 | E8: 282000 | F8: 150000 | G8: 250000 | H8: =ROUND(MEDIAN(E8:G8)-STDEVA(E8:G8),0) -> 181143 | I8: =ROUND(MEDIAN(E8:G8)+STDEVA(E8:G8),0) -> 318857 | J8: =ROUND(GEOMEAN(E8,G8),0) -> 265518 | K8: =J8*D8 -> 11948310 | L8: =ROUND(STDEVA(E8,G8),0) -> 22627 | M8: =ROUND(MEDIAN(E8,G8),0) -> 266000
B9: 5 | C9: ESCANER KODAK I 3400 | D9: 48 | E9: 367000 | F9: 150000 | G9: 250000 | H9: =ROUND(MEDIAN(E9:G9)-STDEVA(E9:G9),0) -> 141389 | I9: =ROUND(MEDIAN(E9:G9)+STDEVA(E9:G9),0) -> 358611 | J9: =ROUND(GEOMEAN(F9:G9),0) -> 193649 | K9: =J9*D9 -> 9295152 | L9: =ROUND(STDEVA(F9:G9),0) -> 70711 | M9: =ROUND(MEDIAN(F9:G9),0) -> 200000
B10: 6 | C10: ESCANER HP 7000-7500-8500 ESCANER FUJITSU FI 7600 | D10: 76 | E10: 425000 | F10: 200000 | G10: 250000 | H10: =ROUND(MEDIAN(E10:G10)-STDEVA(E10:G10),0) -> 131855 | I10: =ROUND(MEDIAN(E10:G10)+STDEVA(E10:G10),0) -> 368145 | J10: =ROUND(GEOMEAN(F10:G10),0) -> 223607 | K10: =J10*D10 -> 16994132 | L10: =ROUND(STDEVA(F10:G10),0) -> 35355 | M10: =ROUND(MEDIAN(F10:G10),0) -> 225000
B11: 7 | C11: EQUIPOS DE COMPUTO COMPUMAX DELL LENOVO TODO EN UNO JANUS PC-SMART HP | D11: 1484 | E11: 155000 | F11: 150000 | G11: 220000 | H11: =ROUND(MEDIAN(E11:G11)-STDEVA(E11:G11),0) -> 115949 | I11: =ROUND(MEDIAN(E11:G11)+STDEVA(E11:G11),0) -> 194051 | J11: =ROUND(GEOMEAN(E11:F11),0) -> 152480 | K11: =J11*D11 -> 226280320 | L11: =ROUND(STDEVA(E11:F11),0) -> 3536 | M11: =ROUND(MEDIAN(E11:F11),0) -> 152500
B12: 8 | C12: PORTATILES PC SMART -HP - DELL LENOVO | D12: 491 | E12: 135000 | F12: 180000 | G12: 220000 | H12: =ROUND(MEDIAN(E12:G12)-STDEVA(E12:G12),0) -> 137475 | I12: =ROUND(MEDIAN(E12:G12)+STDEVA(E12:G12),0) -> 222525 | J12: =ROUND(GEOMEAN(F12:G12),0) -> 198997 | K12: =J12*D12 -> 97707527 | L12: =ROUND(STDEVA(F12:G12),0) -> 28284 | M12: =ROUND(MEDIAN(F12:G12),0) -> 200000
B13: 9 | C13: VIDEO BEAM | D13: 60 | E13: 150000 | F13: 170000 | G13: 350000 | H13: =ROUND(MEDIAN(E13:G13)-STDEVA(E13:G13),0) -> 59849 | I13: =ROUND(MEDIAN(E13:G13)+STDEVA(E13:G13),0) -> 280151 | J13: =ROUND(GEOMEAN(E13:F13),0) -> 159687 | K13: =J13*D13 -> 9581220 | L13: =ROUND(STDEVA(E13:F13),0) -> 14142 | M13: =ROUND(MEDIAN(E13:F13),0) -> 160000
B14: 10 | C14: PLOTER | D14: 14 | E14: 580000 | F14: 200000 | G14: 650000 | H14: =ROUND(MEDIAN(E14:G14)-STDEVA(E14:G14),0) -> 337857 | I14: =ROUND(MEDIAN(E14:G14)+STDEVA(E14:G14),0) -> 822143 | J14: =ROUND(GEOMEAN(E14,G14),0) -> 614003 | K14: =J14*D14 -> 8596042 | L14: =ROUND(STDEVA(E14,G14),0) -> 49497 | M14: =ROUND(MEDIAN(E14,G14),0) -> 615000
B15: 11 | C15: POWEREDGE M620, POWEREDGE M630, POWEREDGE M830, POWEREDGE T420, SERVIDOR TORRE DELL | D15: 53 | E15: 670200 | F15: 150000 | G15: 420000 | H15: =ROUND(MEDIAN(E15:G15)-STDEVA(E15:G15),0) -> 159837 | I15: =ROUND(MEDIAN(E15:G15)+STDEVA(E15:G15),0) -> 680163 | J15: =ROUND(GEOMEAN(E15,G15),0) -> 530551 | K15: =J15*D15 -> 28119203 | L15: =ROUND(STDEVA(E15,G15),0) -> 176918 | M15: =ROUND(MEDIAN(E15,G15),0) -> 545100
B16: 12 | C16: NAS DELL STORAGE NX3230 | D16: 19 | E16: 565000 | F16: 200000 | G16: 800000 | H16: =ROUND(MEDIAN(E16:G16)-STDEVA(E16:G16),0) -> 262662 | I16: =ROUND(MEDIAN(E16:G16)+STDEVA(E16:G16),0) -> 867338 | J16: =ROUND(GEOMEAN(E16,G16),0) -> 672309 | K16: =J16*D16 -> 12773871 | L16: =ROUND(STDEVA(E16,G16),0) -> 166170 | M16: =ROUND(MEDIAN(E16,G16),0) -> 682500
B17: 13 | C17: NAS PEGASUS PRO R8 | D17: 2 | E17: 565000 | F17: 200000 | G17: 800000 | H17: =ROUND(MEDIAN(E17:G17)-STDEVA(E17:G17),0) -> 262662 | I17: =ROUND(MEDIAN(E17:G17)+STDEVA(E17:G17),0) -> 867338 | J17: =ROUND(GEOMEAN(E17,G17),0) -> 672309 | K17: =J17*D17 -> 1344618 | L17: =ROUND(STDEVA(E17,G17),0) -> 166170 | M17: =ROUND(MEDIAN(E17,G17),0) -> 682500
B18: 14 | C18: MACBOOK PRO (RETINA 2015), IMAC (RETINA 5K 2014), IMAC (RETINA 2019) | D18: 3 | E18: 450000 | F18: 180000 | G18: 350000 | H18: =ROUND(MEDIAN(E18:G18)-STDEVA(E18:G18),0) -> 213496 | I18: =ROUND(MEDIAN(E18:G18)+STDEVA(E18:G18),0) -> 486504 | J18: =ROUND(GEOMEAN(E18,G18),0) -> 396863 | K18: =J18*D18 -> 1190589 | L18: =ROUND(STDEVA(E18,G18),0) -> 70711 | M18: =ROUND(MEDIAN(E18,G18),0) -> 400000
B19: 15 | C19: UPS APC 40 KVA | D19: 1 | E19: 1100000 | F19: 3800000 | G19: 1500000 | H19: =ROUND(MEDIAN(E19:G19)-STDEVA(E19:G19),0) -> 42834 | I19: =ROUND(MEDIAN(E19:G19)+STDEVA(E19:G19),0) -> 2957166 | J19: =ROUND(GEOMEAN(E19,G19),0) -> 1284523 | K19: =J19*D19 -> 1284523 | L19: =ROUND(STDEVA(E19,G19),0) -> 282843 | M19: =ROUND(MEDIAN(E19,G19),0) -> 1300000
B20: 16 | C20: AIRES ACONDICIONADOS APC | D20: 1 | E20: 800000 | F20: 3800000 | G20: 2100000 | H20: =ROUND(MEDIAN(E20:G20)-STDEVA(E20:G20),0) -> 595562 | I20: =ROUND(MEDIAN(E20:G20)+STDEVA(E20:G20),0) -> 3604438 | J20: =ROUND(GEOMEAN(E20,G20),0) -> 1296148 | K20: =J20*D20 -> 1296148 | L20: =ROUND(STDEVA(E20,G20),0) -> 919239 | M20: =ROUND(MEDIAN(E20,G20),0) -> 1450000
B21: SUMATORIA VALOR UNITARIO PROPUESTA ECONÓMICA | E21: =SUM(E5:E20) -> 7278400 | F21: =SUM(F5:F20) -> 9930000 | G21: =SUM(G5:G20) -> 8982000 | H21: =SUM(H5:H20) -> 3018101 | I21: =SUM(I5:I20) -> 13125899 | J21: =SUM(J5:J20) -> 7388534 | K21: =SUM(K5:K20) -> 471106547 | L21: =ROUND(SUM(L5:L20),0) -> 2219891 | M21: =ROUND(SUM(M5:M20),0) -> 7626700
