Workbook
Name contratación: 'IDENTIFICACION Y ANALISIS'!$B$37:$B$40
Name ejecución: 'IDENTIFICACION Y ANALISIS'!$B$42:$B$51
Name OPCIONES: 'ASIGNACION Y TRATAMIENTO'!$B$62:$B$64
Name planeación: 'IDENTIFICACION Y ANALISIS'!$B$19:$B$28
Name selección: 'IDENTIFICACION Y ANALISIS'!$B$30:$B$35

Sheet CONTEXTO
C2: MATRIZ DE RIESGOS EN CONTRATACIÓN | F2: Código: GCO-GCI-F164 Versión: 02 Vigencia: 01 de diciembre de 2022 Caso HOLA: 280117
B6: ESTABLECER EL CONTEXTO
B7: El punto inicial es identificar el contexto en el cual interactúa la Entidad Estatal para conocer el ambiente social, económico y político, e identificar (i) sus propios Riesgos; (ii) los Riesgos comunes a sus Procesos de Contratación; y (iii) los Riesgos del Proceso de Contratación en particular. (Aplica igual para contratos interadministrativos) En este paso la Entidad Estatal debe identificar los aspectos que se mencionan a continuación y los posibles efectos adversos que estos pueden generar.
B8: Objeto del Proceso de Contratación: SUMINISTRAR LOS BIENES Y ELEMENTOS PARA EL FUNCIONAMIENTO DEL CENTRO DE ATENCION DE PROTECCION Y BIENESTAR ANIMAL DE LA LOCALIDAD DE PUENTE ARANDA
B9: Partícipes del Proceso de Contratación: Alcaldía Local de Puente Aranda, responsables del área de planeación para la formulación del proyecto, supervisores y delegados del alcalde para el proceso de ejecución, equipo de acompañamiento jurídico del contrato, funcionarios administrativos relacionados con el proyecto, proponentes partícipes del proceso de selección, contratista adjudicatario, organismos de control.
B10: Ciudadanía que se beneficia del Proceso de Contratación: Comunidad en general de la localidad de Puente Aranda.
B11: Capacidad de la Entidad Estatal entendida como la disponibilidad de recursos y conocimientos para el Proceso de Contratación: Área de planeación formulación del proyecto (Etapa de Planeación), Dirección de Contratación, Comité Evaluador (Etapa de selección), Dirección de Contratación (Etapa de contratación) y la supervisión y apoyos a la supervisión delegados por el Alcalde, referentes de participación.
B12: Suficiencia del presupuesto oficial del Proceso de Contratación: treinta y seis millones cuatrocientos mil pesos $ 36.400.000 M/CTE
B13: Condiciones geográficas y de acceso del lugar en el cual se debe cumplir el objeto del Proceso de Contratación: En la Alcadia Local de Puente Aranda.
B14: Entorno socio ambiental: Si aplican
B15: Condiciones políticas: Si aplican
B16: Factores ambientales: El Fondo de Desarrollo Local de Puente Aranda como Entidad Distrital cumple la normatividad ambiental aplicable dentro de los cuales se encuentra Decreto 456 de 2008 “Por el cual se reforma el Plan de Gestión Ambiental del Distrito Capital y se dictan otras disposiciones"; Decreto 815 de 2017 “Por medio del cual se establecen los lineamientos para la formulación e implementación de los instrumentos operativos de planeación ambiental del Distrito PACA, PAL y PIGA, y se dictan otras disposiciones"; Resolución No. 00242 de 2014 “Por la cual se adoptan los lineamientos para la formulación, concertación, implementación, evaluación, control y seguimiento del Plan Institucional de Gestión Ambiental –PIGA”; Acuerdo 19 de 1996 y Acuerdo 248 de 2006 “Por el cual se adopta el Estatuto General de Protección Ambiental del Distrito Capital de Santa Fe de Bogotá y se dictan normas básicas necesarias para garantizar la preservación y defensa del patrimonio ecológico, los recursos naturales y el medio ambiente” y para lo cual dentro de estos lineamientos se encuentra el cumplimiento al Programa de Consumo Sostenible mediante el Acuerdo 450 de 2013 “Por medio del cual se establecen los lineamientos del programa distrital de compras verdes y se dictan otras disposiciones”. El cual se establecen los lineamientos para la formulación del programa distrital de Compras Verdes para la ciudad de Bogotá D.C.”. Así mismo, nos regimos por la Guía Conceptual y Metodológica de Compras Públicas Sostenibles del Ministerio de Ambiente y Desarrollo Sostenible, así como, por la Guía de Contratación Sostenible de la Secretaría Distrital de Gobierno. (Ver Estudio Previo)
B17: Sector del objeto del Proceso de Contratación y su mercado: Suministro de bienes y elementos para la atencion felinos y caninos en Brigadas Médico veterinarias
... B19: Experiencia propia y de otras Entidades Estatales en Procesos de Contratación del mismo tipo. Consultando la plataforma de análisis de demanda se evidencia, en relación al antecedente de contratación de servicios identificados con código UNSPSC y descripción 10111300 Tratamiento para los animales domésticos y accesorios y equipo, 41102600 Equipo y accesorios para laboratorio animal, 41116200 Suministros y equipo para lugares de tratamiento de pacientes, 42121500 Equipo veterinario, 42121600 Productos veterinarios, 42121700 Mobiliario clínico veterinario, 42131700 Prendas textiles quirúrgicas, 51211900 Fármacos anestésicos veterinarios, 56101700 Muebles de oficina, 42172000 Kits para los servicios médicos de urgencia y campo, que hay un historial de contratación en el Fondo de Desarrollo Local de Puente Aranda durante los últimos 5 años (2019-2024), que suman un valor de $199.330.153 pesos, en donde se encuentra el mayor valor de contratación en el código 42121500 “equipo veterinario”. Consultando la plataforma de análisis de demanda se evidencia alrededor de 56 contratos suscritos en los últimos cinco años, los cuales suman un total de $21.622.243.272 pesos desde el 2019 a 2024.

Sheet IDENTIFICACION Y ANALISIS
C2: MATRIZ DE RIESGOS DE CONTRATACIÓN | F2: Código: GCO-GCI-F164 Versión: 02 Vigencia: 01 de diciembre de 2022 Caso HOLA: 280117
B6: DEFINICIONES
B7: RIESGO: Evento que puede generar efectos adversos y de distinta magnitud en el logro de los objetivos del Proceso de Contratación o en la ejecución de un contrato RIESGOS PREVISIBLES: Son los posibles hechos o circunstancias que por la naturaleza del contrato y de la actividad a ejecutar es factible su ocurrencia. ETAPA DE PLANEACIÓN: Está comprendida desde el momento en que se identifican las necesidades que debe satisfacer la Secretaría Distrital de Gobierno y los Fondos de Desarrollo Local, a través del abastecimiento de bienes, obras o servicios, la elaboración del Plan Anual de Adquisiciones y la estructuración de los documentos y estudios previos. ETAPA DE SELECCIÓN: Está comprendida entre el acto de Apertura del Proceso de Contratación y la Adjudicación o la declaración de desierto del Proceso de Contratación ETAPA DE CONTRATACIÓN: Una vez adjudicado el contrato objeto del Proceso de Contratación, inicia la etapa para la celebración del contrato y el cumplimiento de los requisitos para de perfeccionamiento y ejecución. ETAPA DE EJECUCIÓN: Inicia una vez cumplidos los requisitos previstos para iniciar la ejecución del contrato respectivo y termina con el vencimiento del plazo del contrato o la fecha de liquidación si hay lugar a ella. RIESGO GENERAL: Es un riesgo de todos los procesos de contratación adelantados por la Entidad Estatal, por lo cual está presente en toda su actividad contractual. RIEGO ESPECIFICO: Es un riesgo propio del proceso de contratación objeto de análisis. RIESGOS ECONÓMICOS: Son los derivados del comportamiento del mercado, tales como la fluctuación de los precios de los insumos, desabastecimiento y especulación de los mismos, entre otros. RIESGOS SOCIALES O POLÍTICOS: son los derivados de los cambios de las políticas gubernamentales y de cambios en las condiciones sociales que tengan impacto en la ejecución del contrato. RIESGOS OPERACIONALES: Son los asociados a la operatividad del contrato, tales como la suficiencia del presupuesto oficial, del plazo o los derivados de procesos, procedimientos, parámetros, sistemas de información y tecnológicos, equipos humanos o técnicos inadecuados o insuficientes. RIESGOS FINANCIEROS: Son (i) el riesgo de consecución de financiación o riesgo de liquidez para obtener recursos para cumplir con el objeto del contrato, y (ii) el riesgo de las condiciones financieras establecidas para la obtención de los recursos, tales como plazos, tasas, garantías, contragarantías, y refinanciaciones, entre otros. RIESGOS REGULATORIOS: Derivados de cambios regulatorios o reglamentarios que afecten la ecuación económica del contrato. RIESGOS DE LA NATURALEZA: Son los eventos naturales previsibles en los cuales no hay intervención humana que puedan tener impacto en la ejecución del contrato, por ejemplo los temblores, inundaciones, lluvias, sequías, entre otros. RIESGOS AMBIENTALES: Son los derivados de las obligaciones legales o reglamentarias de carácter ambiental, así como de las licencias, planes de manejo o de permisos y autorizaciones ambientales, incluyendo tasas retributivas y compensatorias, obligaciones de mitigación, tareas de monitoreo y control, entre otras. RIESGOS TECNOLÓGICOS: Son los derivados de fallas en los sistemas de comunicación de voz y de datos, suspensión de servicios públicos, nuevos desarrollos tecnológicos o estándares que deben ser tenidos en cuenta para la ejecución del contrato, obsolescencia tecnológica.
B15: INSTRUCCIONES PARA LA IDENTIFICACIÓN, ANALISIS, EVALUACIÓN , ASIGNACIÓN Y TRATAMIENTO DE RIESGOS EN LA CONTRATACIÓN
B16: 1) Identifique los riesgos previsibles que le apliquen al objeto contractual que se adelante. Los relacionados a continuación se establecen de manera general y como proforma. No obstante, si del objeto contractual se identifican otros riesgos diferentes a los aquí determinados, por favor reemplace el texto de la casilla teniendo en cuenta la etapa del proceso. Así mismo, seleccione la clase, fuente y el tipo (Operacional, Económico, Sociales o Políticos, Regulatorios, Financieros, Tecnológicos, De la naturaleza, Ambientales) 2) Continúe en la hoja de "EVALUACIÓN" (SI EXISTEN DUDAS CONCEPTUALES PARA LA ELABORACIÓN DE LA MATRIZ DE RIESGO CONSULTE EL MANUAL PARA LA IDENTIFICACIÓN Y COBERTURA DEL RIESGO EN LOS PROCESOS DE CONTRATACIÓN EXPEDIDO POR COLOMBIA COMPRA EFICIENTE Y LA GUÍA DE RIESGOS PREVISIBLES CONTRACTUALES, EXPEDIDA POR LA VEEDURÍA DISTRITAL)
C17: ETAPAS | D17: CLASE | E17: FUENTE | F17: TIPO
C18: PLANEACIÓN
B19: Inadecuada escogencia de la modalidad de contratación | D19: General | E19: Interno | F19: Operacionales
B20: Requisitos habilitantes inapropiados para el proceso de selección | D20: General | E20: Interno | F20: Operacionales
B21: Inadecuado análisis económico estimativo del valor del contrato | D21: General | E21: Interno | F21: Economicos
B22: Inadecuada descripción del bien o servicio requerido | D22: General | E22: Interno | F22: Operacionales
B23: Inadecuada elaboración de estudios y diseños | D23: General | E23: Interno | F23: Operacionales
B24: Requisitos habilitantes que impidan la selección objetiva | D24: General | E24: Interno | F24: Operacionales
B25: Falta de profundidad en el estudio de sector no identificandose claramente aspectos de oferta y demanda | D25: General | E25: Interno | F25: Economicos
B26: Ausencia de fundamentación de la justificación y conveniencia de la contratación | D26: General | E26: Interno | F26: Operacionales
B27: Inadecuada identificación de las condiciones contractuales | D27: General | E27: Interno | F27: Operacionales
B28: Apertura de procesos sin disponibilidad presupuestal | D28: General | E28: Interno | F28: Operacionales
C29: SELECCIÓN
B30: Inadecuada evaluación de las ofertas y/o verificación de requisitos habilitantes | D30: General | E30: Interno | F30: Operacionales
B31: Falta de claridad en la elaboración de los actos administrativos | D31: General | E31: Interno | F31: Operacionales
B32: Contestación inoportuna a todas las observaciones formuladas a los documentos de la contratación | D32: General | E32: Interno | F32: Operacionales
B33: No publicación de la documentación del proceso de selección en el SECOP | D33: General | E33: Interno | F33: Operacionales
B34: Confabulacion de los proponentes (Colusión) | D34: General | E34: Interno | F34: Operacionales
B35: Selección de ofertas con precios artificialmente bajos. | D35: General | E35: Interno | F35: Operacionales
C36: CONTRATACIÓN
B37: Riesgo de que no se firme el contrato. | D37: General | E37: Externo | F37: Operacionales
B38: Falta de constitución o constitución tardía de la garantía única. Aceptación de garantías que no se ajustan a lo contemplado en el contrato | D38: General | E38: Interno | F38: Operacionales
B39: Falta de solicitud o solicitud tardía del registro presupuestal | D39: General | E39: Interno | F39: Operacionales
B40: Presentación de reclamos de terceros sobre la selección del oferente que retrasen el perfeccionamiento del contrato. | D40: General | E40: Interno | F40: Operacionales
C41: EJECUCIÓN
B42: Fluctuaciones del valor de la moneda | D42: General | E42: Externo | F42: Economicos
B43: Variación de los precios del mercado | D43: General | E43: Externo | F43: Economicos
B44: Factores políticos o macroeconómicos. | D44: General | E44: Externo | F44: Sociales o Políticos
B45: Cancelación de pedidos. | D45: General | E45: Externo | F45: Economicos
B46: Variación en la disponibilidad o en el costo de los insumos necesarios para prestar los servicios. | D46: General | E46: Externo | F46: Economicos
B47: Incumplimiento de compromisos adquiridos por el contratista seleccionado con sus subcontratistas, suministradores de bienes y servicios. | D47: General | E47: Externo | F47: Economicos
B48: Incumplimiento de la administración en los pagos. | D48: General | E48: Interno | F48: Economicos
B49: Defectos en los equipos. | D49: General | E49: Externo | F49: Operacionales
B50: Imposición de nuevos tributos | D50: General | E50: Externo | F50: Regulatorios
B51: Variación de tasas o tarifas | D51: General | E51: Externo | F51: Financieros
...

Sheet EVALUACION
C2: MATRIZ DE RIESGOS DE CONTRATACIÓN | K2: Código: GCO-GCI-F164 Versión: 02 Vigencia: 01 de diciembre de 2022 Caso HOLA: 280117
B6: Objeto Contractual: SUMINISTRAR LOS BIENES Y ELEMENTOS PARA EL FUNCIONAMIENTO DEL CENTRO DE ATENCION DE PROTECCION Y BIENESTAR ANIMAL DE LA LOCALIDAD DE PUENTE ARANDA
B7: INSTRUCCIONES PARA LA IDENTIFICACIÓN, ANALISIS, EVALUACIÓN , ASIGNACIÓN Y TRATAMIENTO DE RIESGOS EN LA CONTRATACIÓN
B8: 1) Diligencie el objeto contractual y seleccione la(s) etapas y los riesgos que aplican al objeto contractual, de acuerdo a lo definido en la hoja de "IDENTIFICACIÓN Y ANÁLISIS"
B9: 2) Describa las consecuencias de la ocurrencia del Riesgo/evento.
B10: 3) Asigne la probabilidad de ocurrencia del riesgo, de conformidad con la tabla de probabilidad y la valoración del riesgo (Cualitativa o Monetaria)
B11: 4) Asigne el impacto que generaría la materialización del riesgo, de conformidad con la tabla de impacto y la valoración del riesgo (Cualitativa o Monetaria)
B12: 5) Al realizar las anteriores actividades se obtendrá la calificación total y la valoración del riesgo (prioridad).
B13: 6) Continúe en la hoja de "EVALUACIÓN DE CONTROLES"
B15: CALIFICACIÓN | H15: Cualitativa
B16: ETAPA | C16: Descripción (Que puede pasar y, cómo puede ocurrir) | H16: Consecuencias de la ocurrencia del evento | I16: Probabilidad de Ocurrencia | J16: Impacto | K16: Calificación Total | L16: Prioridad
B17: PLANEACIÓN | C17: ='IDENTIFICACION Y ANALISIS'!B19 -> Inadecuada escogencia de la modalidad de contratación | H17: 1. Distorsión del proceso de selección 2. Elección de un proponente que no cumpla requisitos legales y/o que no tenga la capacidad para la ejecución 3. Selección adversa 4. Necesidad de iniciar un nuevo proceso | I17: 2 | J17: 3 | K17: =I17+J17 -> 5 | L17: =IF(K17<=4,"BAJO",IF(K17=5,"MEDIO",IF(K17=6,"ALTO",IF(K17=7,"ALTO","EXTREMO")))) -> MEDIO
B18: PLANEACIÓN | C18: ='IDENTIFICACION Y ANALISIS'!B20 -> Requisitos habilitantes inapropiados para el proceso de selección | H18: 1. Distorsión del proceso de selección 2. Elección de un proponente que no cumpla requisitos legales y/o que no tenga la capacidad para la ejecución 3. Selección adversa 4. Necesidad de iniciar un nuevo proceso | I18: 2 | J18: 3 | K18: =+I18+J18 -> 5 | L18: =IF(K18<=4,"BAJO",IF(K18=5,"MEDIO",IF(K18=6,"ALTO",IF(K18=7,"ALTO","EXTREMO")))) -> MEDIO
B19: PLANEACIÓN | C19: ='IDENTIFICACION Y ANALISIS'!B21 -> Inadecuado análisis económico estimativo del valor del contrato | H19: 1. Sobrecostos o ineficiencia económica del proyecto 2. Pérdidas económica para el contratista o para el FDLPA 3. Necesidade de iniciar un nuevo proceso | I19: 2 | J19: 3 | K19: =+I19+J19 -> 5 | L19: =IF(K19<=4,"BAJO",IF(K19=5,"MEDIO",IF(K19=6,"ALTO",IF(K19=7,"ALTO","EXTREMO")))) -> MEDIO
B20: PLANEACIÓN | C20: ='IDENTIFICACION Y ANALISIS'!B22 -> Inadecuada descripción del bien o servicio requerido | H20: 1. Necesidad de iniciar un nuevo proceso 2. Distorsión del proceso de selección 3. Selección adversa | I20: 2 | J20: 3 | K20: =+I20+J20 -> 5 | L20: =IF(K20<=4,"BAJO",IF(K20=5,"MEDIO",IF(K20=6,"ALTO",IF(K20=7,"ALTO","EXTREMO")))) -> MEDIO
B21: PLANEACIÓN | C21: ='IDENTIFICACION Y ANALISIS'!B23 -> Inadecuada elaboración de estudios y diseños | H21: 1. Distorsión del proceso de selección 2. Elección de un proponente que no cumpla requisitos legales y/o que no tenga la capacidad para la ejecución 3. Selección adversa 4. Necesidad de iniciar un nuevo proceso | I21: 2 | J21: 3 | K21: =+I21+J21 -> 5 | L21: =IF(K21<=4,"BAJO",IF(K21=5,"MEDIO",IF(K21=6,"ALTO",IF(K21=7,"ALTO","EXTREMO")))) -> MEDIO
B22: PLANEACIÓN | C22: ='IDENTIFICACION Y ANALISIS'!B24 -> Requisitos habilitantes que impidan la selección objetiva | H22: 1. Distorsión del proceso de selección 2. Elección de un proponente que no cumpla requisitos legales y/o que no tenga la capacidad para la ejecución 3. Selección adversa 4. Necesidad de iniciar un nuevo proceso | I22: 2 | J22: 2 | K22: =+I22+J22 -> 4 | L22: =IF(K22<=4,"BAJO",IF(K22=5,"MEDIO",IF(K22=6,"ALTO",IF(K22=7,"ALTO","EXTREMO")))) -> BAJO
B23: PLANEACIÓN | C23: ='IDENTIFICACION Y ANALISIS'!B25 -> Falta de profundidad en el estudio de sector no identificandose claramente aspectos de oferta y demanda | H23: 1. Sobrecostos o ineficiencia económica del proyecto 2. Selección adversa 3. No se puede satisfacer la necesidad de la entidad | I23: 2 | J23: 3 | K23: =+I23+J23 -> 5 | L23: =IF(K23<=4,"BAJO",IF(K23=5,"MEDIO",IF(K23=6,"ALTO",IF(K23=7,"ALTO","EXTREMO")))) -> MEDIO
B24: PLANEACIÓN | C24: ='IDENTIFICACION Y ANALISIS'!B26 -> Ausencia de fundamentación de la justificación y conveniencia de la contratación | H24: 1. Necesidad de iniciar un nuevo proceso. 2. Selección adversa 3. No se puede satisfacer la necesidad de la entidad | I24: 2 | J24: 3 | K24: =+I24+J24 -> 5 | L24: =IF(K24<=4,"BAJO",IF(K24=5,"MEDIO",IF(K24=6,"ALTO",IF(K24=7,"ALTO","EXTREMO")))) -> MEDIO
B25: PLANEACIÓN | C25: ='IDENTIFICACION Y ANALISIS'!B27 -> Inadecuada identificación de las condiciones contractuales | H25: 1. Necesidad de iniciar un nuevo proceso. 2. Selección adversa 3. No se puede satisfacer la necesidad de la entidad | I25: 2 | J25: 3 | K25: =+I25+J25 -> 5 | L25: =IF(K25<=4,"BAJO",IF(K25=5,"MEDIO",IF(K25=6,"ALTO",IF(K25=7,"ALTO","EXTREMO")))) -> MEDIO
B26: PLANEACIÓN | C26: ='IDENTIFICACION Y ANALISIS'!B28 -> Apertura de procesos sin disponibilidad presupuestal | H26: 1. Necesidad de iniciar un nuevo proceso. 2. Selección adversa | I26: 2 | J26: 4 | K26: =+I26+J26 -> 6 | L26: =IF(K26<=4,"BAJO",IF(K26=5,"MEDIO",IF(K26=6,"ALTO",IF(K26=7,"ALTO","EXTREMO")))) -> ALTO
B27: SELECCIÓN | C27: ='IDENTIFICACION Y ANALISIS'!B30 -> Inadecuada evaluación de las ofertas y/o verificación de requisitos habilitantes | H27: 1. Selecciónar un contratista que no esté en capacidad de cumplir con el objeto del contrato. 2. Selección adversa | I27: 2 | J27: 3 | K27: =+I27+J27 -> 5 | L27: =IF(K27<=4,"BAJO",IF(K27=5,"MEDIO",IF(K27=6,"ALTO",IF(K27=7,"ALTO","EXTREMO")))) -> MEDIO
B28: SELECCIÓN | C28: ='IDENTIFICACION Y ANALISIS'!B31 -> Falta de claridad en la elaboración de los actos administrativos | H28: 1. Selecciónar un contratista que no esté en capacidad de cumplir con el objeto del contrato. | I28: 2 | J28: 4 | K28: =+I28+J28 -> 6 | L28: =IF(K28<=4,"BAJO",IF(K28=5,"MEDIO",IF(K28=6,"ALTO",IF(K28=7,"ALTO","EXTREMO")))) -> ALTO
B29: SELECCIÓN | C29: ='IDENTIFICACION Y ANALISIS'!B32 -> Contestación inoportuna a todas las observaciones formuladas a los documentos de la contratación | H29: 1. Demoras en el proceso de contratacion. 2. Selecciónar un contratista que no esté en capacidad de cumplir con el objeto del contrato. | I29: 2 | J29: 4 | K29: =+I29+J29 -> 6 | L29: =IF(K29<=4,"BAJO",IF(K29=5,"MEDIO",IF(K29=6,"ALTO",IF(K29=7,"ALTO","EXTREMO")))) -> ALTO
B30: SELECCIÓN | C30: ='IDENTIFICACION Y ANALISIS'!B33 -> No publicación de la documentación del proceso de selección en el SECOP | H30: 1. Selecciónar un contratista que no esté en capacidad de cumplir con el objeto del contrato. 2. Selección adversa | I30: 2 | J30: 4 | K30: =+I30+J30 -> 6 | L30: =IF(K30<=4,"BAJO",IF(K30=5,"MEDIO",IF(K30=6,"ALTO",IF(K30=7,"ALTO","EXTREMO")))) -> ALTO
B31: SELECCIÓN | C31: ='IDENTIFICACION Y ANALISIS'!B34 -> Confabulacion de los proponentes (Colusión) | H31: 1. Selecciónar un contratista que no esté en capacidad de cumplir con el objeto del contrato. 2. Selección adversa | I31: 2 | J31: 3 | K31: =+I31+J31 -> 5 | L31: =IF(K31<=4,"BAJO",IF(K31=5,"MEDIO",IF(K31=6,"ALTO",IF(K31=7,"ALTO","EXTREMO")))) -> MEDIO
B32: SELECCIÓN | C32: ='IDENTIFICACION Y ANALISIS'!B35 -> Selección de ofertas con precios artificialmente bajos. | H32: 1. Selecciónar un contratista que no esté en capacidad de cumplir con el objeto del contrato. | I32: 2 | J32: 4 | K32: =+I32+J32 -> 6 | L32: =IF(K32<=4,"BAJO",IF(K32=5,"MEDIO",IF(K32=6,"ALTO",IF(K32=7,"ALTO","EXTREMO")))) -> ALTO
B33: CONTRATACIÓN | C33: ='IDENTIFICACION Y ANALISIS'!B37 -> Riesgo de que no se firme el contrato. | H33: 1. Pérdida de Tiempo por no iniciar el contrato de forma oportuna | I33: 2 | J33: 4 | K33: =+I33+J33 -> 6 | L33: =IF(K33<=4,"BAJO",IF(K33=5,"MEDIO",IF(K33=6,"ALTO",IF(K33=7,"ALTO","EXTREMO")))) -> ALTO
B34: CONTRATACIÓN | C34: ='IDENTIFICACION Y ANALISIS'!B38 -> Falta de constitución o constitución tardía de la garantía única. Aceptación de garantías que no se ajustan a lo contemplado en el contrato | H34: 1. Pérdida de Tiempo por no iniciar el contrato de forma oportuna 2. Falta de respaldo por parte de una aseguradora sobre los riesgos existentes durante la ejecución del Contrato | I34: 2 | J34: 3 | K34: =+I34+J34 -> 5 | L34: =IF(K34<=4,"BAJO",IF(K34=5,"MEDIO",IF(K34=6,"ALTO",IF(K34=7,"ALTO","EXTREMO")))) -> MEDIO
B35: CONTRATACIÓN | C35: ='IDENTIFICACION Y ANALISIS'!B39 -> Falta de solicitud o solicitud tardía del registro presupuestal | H35: 1. Pérdida de Tiempo por no iniciar el contrato de forma oportuna | I35: 2 | J35: 4 | K35: =+I35+J35 -> 6 | L35: =IF(K35<=4,"BAJO",IF(K35=5,"MEDIO",IF(K35=6,"ALTO",IF(K35=7,"ALTO","EXTREMO")))) -> ALTO
B36: CONTRATACIÓN | C36: ='IDENTIFICACION Y ANALISIS'!B40 -> Presentación de reclamos de terceros sobre la selección del oferente que retrasen el perfeccionamiento del contrato. | H36: 1. Pérdida de Tiempo por no iniciar el contrato de forma oportuna 2. Necesidad de iniciar un nuevo proceso | I36: 2 | J36: 2 | K36: =+I36+J36 -> 4 | L36: =IF(K36<=4,"BAJO",IF(K36=5,"MEDIO",IF(K36=6,"ALTO",IF(K36=7,"ALTO","EXTREMO")))) -> BAJO
B37: EJECUCIÓN | C37: ='IDENTIFICACION Y ANALISIS'!B42 -> Fluctuaciones del valor de la moneda | H37: 1. Variación presupuestal que afecte la capacidad de adquisición de bienes y servicios | I37: 2 | J37: 3 | K37: =+I37+J37 -> 5 | L37: =IF(K37<=4,"BAJO",IF(K37=5,"MEDIO",IF(K37=6,"ALTO",IF(K37=7,"ALTO","EXTREMO")))) -> MEDIO
B38: EJECUCIÓN | C38: ='IDENTIFICACION Y ANALISIS'!B43 -> Variación de los precios del mercado | H38: 1. Variación presupuestal que afecte la capacidad de adquisición de bienes y servicios 2. Desfase presupuestal 3. reclamaciones de rompimiento del equilibrio económico por parte del contratista. | I38: 2 | J38: 4 | K38: =+I38+J38 -> 6 | L38: =IF(K38<=4,"BAJO",IF(K38=5,"MEDIO",IF(K38=6,"ALTO",IF(K38=7,"ALTO","EXTREMO")))) -> ALTO
B39: EJECUCIÓN | C39: ='IDENTIFICACION Y ANALISIS'!B44 -> Factores políticos o macroeconómicos. | H39: 1. Variación presupuestal que afecte la capacidad de adquisición de bienes y servicios 2. Desfase presupuestal 3. reclamaciones de rompimiento del equilibrio económico por parte del contratista. | I39: 2 | J39: 3 | K39: =+I39+J39 -> 5 | L39: =IF(K39<=4,"BAJO",IF(K39=5,"MEDIO",IF(K39=6,"ALTO",IF(K39=7,"ALTO","EXTREMO")))) -> MEDIO
B40: EJECUCIÓN | C40: ='IDENTIFICACION Y ANALISIS'!B45 -> Cancelación de pedidos. | H40: 1. Incumplimiento precontractual. | I40: 2 | J40: 3 | K40: =+I40+J40 -> 5 | L40: =IF(K40<=4,"BAJO",IF(K40=5,"MEDIO",IF(K40=6,"ALTO",IF(K40=7,"ALTO","EXTREMO")))) -> MEDIO
B41: EJECUCIÓN | C41: ='IDENTIFICACION Y ANALISIS'!B46 -> Variación en la disponibilidad o en el costo de los insumos necesarios para prestar los servicios. | H41: 1. Variación presupuestal que afecte la capacidad de adquisición de bienes y servicios 2. Desfase presupuestal 3. reclamaciones de rompimiento del equilibrio económico por parte del contratista. | I41: 2 | J41: 2 | K41: =+I41+J41 -> 4 | L41: =IF(K41<=4,"BAJO",IF(K41=5,"MEDIO",IF(K41=6,"ALTO",IF(K41=7,"ALTO","EXTREMO")))) -> BAJO
B42: EJECUCIÓN | C42: ='IDENTIFICACION Y ANALISIS'!B47 -> Incumplimiento de compromisos adquiridos por el contratista seleccionado con sus subcontratistas, suministradores de bienes y servicios. | H42: 1. Incumplimiento precontractual. | I42: 2 | J42: 4 | K42: =+I42+J42 -> 6 | L42: =IF(K42<=4,"BAJO",IF(K42=5,"MEDIO",IF(K42=6,"ALTO",IF(K42=7,"ALTO","EXTREMO")))) -> ALTO
B43: EJECUCIÓN | C43: ='IDENTIFICACION Y ANALISIS'!B48 -> Incumplimiento de la administración en los pagos. | H43: 1.Insolvencia economica del contratista | I43: 2 | J43: 2 | K43: =+I43+J43 -> 4 | L43: =IF(K43<=4,"BAJO",IF(K43=5,"MEDIO",IF(K43=6,"ALTO",IF(K43=7,"ALTO","EXTREMO")))) -> BAJO
B44: EJECUCIÓN | C44: ='IDENTIFICACION Y ANALISIS'!B49 -> Defectos en los equipos. | H44: 1. Incumplimiento precontractual. | I44: 2 | J44: 3 | K44: =+I44+J44 -> 5 | L44: =IF(K44<=4,"BAJO",IF(K44=5,"MEDIO",IF(K44=6,"ALTO",IF(K44=7,"ALTO","EXTREMO")))) -> MEDIO
B45: EJECUCIÓN | C45: ='IDENTIFICACION Y ANALISIS'!B50 -> Imposición de nuevos tributos | H45: 1. Variación presupuestal que afecte la capacidad de adquisición de bienes y servicios 2. Desfase presupuestal 3. reclamaciones de rompimiento del equilibrio económico por parte del contratista. | I45: 2 | J45: 3 | K45: =+I45+J45 -> 5 | L45: =IF(K45<=4,"BAJO",IF(K45=5,"MEDIO",IF(K45=6,"ALTO",IF(K45=7,"ALTO","EXTREMO")))) -> MEDIO
...

Sheet EVALUACION CON CONTROLES
C2: MATRIZ DE RIESGOS DE CONTRATACIÓN | Q2: Código: GCO-GCI-F164 Versión: 02 Vigencia: 01 de diciembre de 2022 Caso HOLA: 280117
B6: =+EVALUACION!B6 -> Objeto Contractual: SUMINISTRAR LOS BIENES Y ELEMENTOS PARA EL FUNCIONAMIENTO DEL CENTRO DE ATENCION DE PROTECCION Y BIENESTAR ANIMAL DE LA LOCALIDAD DE PUENTE ARANDA
B7: INSTRUCCIONES PARA LA IDENTIFICACIÓN, ANALISIS, EVALUACIÓN , ASIGNACIÓN Y TRATAMIENTO DE RIESGOS EN LA CONTRATACIÓN
B8: 1) Describa el tratamiento/controles a ser implementados
B9: 2) Diligencie la información de las siguientes columnas, de acuerdo con el análisis realizado a cada riesgo: Afecta el equilibrio económico, persona responsable de implementar el tratamiento, fecha estimada de inicio del tratamiento, fecha estimada en la que se completa el tratamiento, cómo se realiza el monitoreo y la periodicidad.
B10: 3) Continúe en la hoja de "ASIGNACIÓN Y TRATAMIENTO" y diligencie las siguientes casillas: A quien se le asigna y el porcentaje que asume cada una de las partes en caso de que sea compartido.
B15: ETAPA | C15: Descripción (Que puede pasar y, cómo puede ocurrir) | G15: Tratamiento/Controles a ser implementados | I15: Probabilidad de Ocurrencia | J15: Impacto | K15: Calificación Total | L15: Prioridad | M15: ¿Afecta el equilibrio económico del contrato? | N15: Persona responsable por implementar el tratamiento | O15: Fecha estimada en que se inicia el tratamiento | P15: Fecha estimada en que se completa el tratamiento | Q15: ¿Cómo se realiza el monitoreo? | R15: Periodicidad ¿Cuándo?
B16: =+EVALUACION!B17 -> PLANEACIÓN | C16: =+EVALUACION!C17 -> Inadecuada escogencia de la modalidad de contratación | G16: Revisión jurídica y efectuar revisiones con los lineamientos de Colombia Compra Eficiente | I16: =+EVALUACION!I17 -> 2 | J16: =+EVALUACION!J17 -> 3 | K16: =+I16+J16 -> 5 | L16: =IF(K16<=4,"BAJO",IF(K16=5,"MEDIO",IF(K16=6,"ALTO",IF(K16=7,"ALTO","EXTREMO")))) -> MEDIO | M16: SI | N16: PROFESIONALES DEL ÁREA DE GESTIÓN DEL DESARROLLO LOCAL DE PUENTE ARANDA (PLANEACIÓN) | O16: 45444 | P16: 45536 | Q16: SEGUIMIENTO AL PROCESO | R16: UNICA VEZ
B17: =+EVALUACION!B18 -> PLANEACIÓN | C17: =+EVALUACION!C18 -> Requisitos habilitantes inapropiados para el proceso de selección | G17: Revisión jurídica y efectuar revisiones con los lineamientos de Colombia Compra Eficiente | I17: =+EVALUACION!I18 -> 2 | J17: =+EVALUACION!J18 -> 3 | K17: =+I17+J17 -> 5 | L17: =IF(K17<=4,"BAJO",IF(K17=5,"MEDIO",IF(K17=6,"ALTO",IF(K17=7,"ALTO","EXTREMO")))) -> MEDIO | M17: SI | N17: PROFESIONALES DEL ÁREA DE GESTIÓN DEL DESARROLLO LOCAL DE PUENTE ARANDA (PLANEACIÓN) | O17: 45444 | P17: 45536 | Q17: SEGUIMIENTO AL PROCESO | R17: UNICA VEZ
B18: =+EVALUACION!B19 -> PLANEACIÓN | C18: =+EVALUACION!C19 -> Inadecuado análisis económico estimativo del valor del contrato | G18: Revisión exhaustiva en el proceso de estudio de mercado siguiendo los lineamientos de Colombia Compra Eficiente | I18: =+EVALUACION!I19 -> 2 | J18: =+EVALUACION!J19 -> 3 | K18: =+I18+J18 -> 5 | L18: =IF(K18<=4,"BAJO",IF(K18=5,"MEDIO",IF(K18=6,"ALTO",IF(K18=7,"ALTO","EXTREMO")))) -> MEDIO | M18: SI | N18: PROFESIONALES DEL ÁREA DE GESTIÓN DEL DESARROLLO LOCAL DE PUENTE ARANDA (PLANEACIÓN) | O18: 45444 | P18: 45536 | Q18: SEGUIMIENTO AL PROCESO | R18: UNICA VEZ
B19: =+EVALUACION!B20 -> PLANEACIÓN | C19: =+EVALUACION!C20 -> Inadecuada descripción del bien o servicio requerido | G19: Utilización del MAE y revisión del proceso | I19: =+EVALUACION!I20 -> 2 | J19: =+EVALUACION!J20 -> 3 | K19: =+I19+J19 -> 5 | L19: =IF(K19<=4,"BAJO",IF(K19=5,"MEDIO",IF(K19=6,"ALTO",IF(K19=7,"ALTO","EXTREMO")))) -> MEDIO | M19: NO | N19: PROFESIONALES DEL ÁREA DE GESTIÓN DEL DESARROLLO LOCAL DE PUENTE ARANDA (PLANEACIÓN) | O19: 45444 | P19: 45536 | Q19: SEGUIMIENTO AL PROCESO | R19: UNICA VEZ
B20: =+EVALUACION!B21 -> PLANEACIÓN | C20: =+EVALUACION!C21 -> Inadecuada elaboración de estudios y diseños | G20: Capcitaciones al personal de FDLPA en la elaboracion de los documentos precontractuales. | I20: =+EVALUACION!I21 -> 2 | J20: =+EVALUACION!J21 -> 3 | K20: =+I20+J20 -> 5 | L20: =IF(K20<=4,"BAJO",IF(K20=5,"MEDIO",IF(K20=6,"ALTO",IF(K20=7,"ALTO","EXTREMO")))) -> MEDIO | M20: NO | N20: PROFESIONALES DEL ÁREA DE GESTIÓN DEL DESARROLLO LOCAL DE PUENTE ARANDA (PLANEACIÓN) | O20: 45444 | P20: 45536 | Q20: SEGUIMIENTO AL PROCESO | R20: UNICA VEZ
B21: =+EVALUACION!B22 -> PLANEACIÓN | C21: =+EVALUACION!C22 -> Requisitos habilitantes que impidan la selección objetiva | G21: Utilizar los lineamientos de Colombia Compra Eficiente y utilizar como referencia procesos similares | I21: =+EVALUACION!I22 -> 2 | J21: =+EVALUACION!J22 -> 2 | K21: =+I21+J21 -> 4 | L21: =IF(K21<=4,"BAJO",IF(K21=5,"MEDIO",IF(K21=6,"ALTO",IF(K21=7,"ALTO","EXTREMO")))) -> BAJO | M21: NO | N21: PROFESIONALES DEL ÁREA DE GESTIÓN DEL DESARROLLO LOCAL DE PUENTE ARANDA (PLANEACIÓN) | O21: 45444 | P21: 45536 | Q21: SEGUIMIENTO AL PROCESO | R21: UNICA VEZ
B22: =+EVALUACION!B23 -> PLANEACIÓN | C22: =+EVALUACION!C23 -> Falta de profundidad en el estudio de sector no identificandose claramente aspectos de oferta y demanda | G22: Utilizar los lineamientos de Colombia Compra Eficiente y utilizar como referencia procesos similares | I22: =+EVALUACION!I23 -> 2 | J22: =+EVALUACION!J23 -> 3 | K22: =+I22+J22 -> 5 | L22: =IF(K22<=4,"BAJO",IF(K22=5,"MEDIO",IF(K22=6,"ALTO",IF(K22=7,"ALTO","EXTREMO")))) -> MEDIO | M22: SI | N22: PROFESIONALES DEL ÁREA DE GESTIÓN DEL DESARROLLO LOCAL DE PUENTE ARANDA (PLANEACIÓN) | O22: 45444 | P22: 45536 | Q22: SEGUIMIENTO AL PROCESO | R22: UNICA VEZ
B23: =+EVALUACION!B24 -> PLANEACIÓN | C23: =+EVALUACION!C24 -> Ausencia de fundamentación de la justificación y conveniencia de la contratación | G23: Revisiones constantes por parte del área de planeación de la entidad tomando como referencia procesos similares | I23: =+EVALUACION!I24 -> 2 | J23: =+EVALUACION!J24 -> 3 | K23: =+I23+J23 -> 5 | L23: =IF(K23<=4,"BAJO",IF(K23=5,"MEDIO",IF(K23=6,"ALTO",IF(K23=7,"ALTO","EXTREMO")))) -> MEDIO | M23: NO | N23: PROFESIONALES DEL ÁREA DE GESTIÓN DEL DESARROLLO LOCAL DE PUENTE ARANDA (PLANEACIÓN Y CONTRATACIÓN) | O23: 45444 | P23: 45536 | Q23: SEGUIMIENTO AL PROCESO | R23: UNICA VEZ
B24: =+EVALUACION!B25 -> PLANEACIÓN | C24: =+EVALUACION!C25 -> Inadecuada identificación de las condiciones contractuales | G24: Revision de procesos | I24: =+EVALUACION!I25 -> 2 | J24: =+EVALUACION!J25 -> 3 | K24: =+I24+J24 -> 5 | L24: =IF(K24<=4,"BAJO",IF(K24=5,"MEDIO",IF(K24=6,"ALTO",IF(K24=7,"ALTO","EXTREMO")))) -> MEDIO | M24: NO | N24: PROFESIONALES DEL ÁREA DE GESTIÓN DEL DESARROLLO LOCAL DE PUENTE ARANDA (CONTRATACIÓN) | O24: 45444 | P24: 45536 | Q24: SEGUIMIENTO AL PROCESO | R24: UNICA VEZ
B25: =+EVALUACION!B26 -> PLANEACIÓN | C25: =+EVALUACION!C26 -> Apertura de procesos sin disponibilidad presupuestal | G25: Revision de procesos | I25: =+EVALUACION!I26 -> 2 | J25: =+EVALUACION!J26 -> 4 | K25: =+I25+J25 -> 6 | L25: =IF(K25<=4,"BAJO",IF(K25=5,"MEDIO",IF(K25=6,"ALTO",IF(K25=7,"ALTO","EXTREMO")))) -> ALTO | M25: NO | N25: PROFESIONALES DEL ÁREA DE GESTIÓN DEL DESARROLLO LOCAL DE PUENTE ARANDA (PLANEACIÓN Y CONTRATACIÓN) | O25: 45444 | P25: 45536 | Q25: SEGUIMIENTO AL PROCESO | R25: UNICA VEZ
B26: =+EVALUACION!B27 -> SELECCIÓN | C26: =+EVALUACION!C27 -> Inadecuada evaluación de las ofertas y/o verificación de requisitos habilitantes | G26: Efectuar verificaciones a los documentos y propuestas presentadas, con el apoyo de los profesionales del área y el equipo jurídico | I26: =+EVALUACION!I27 -> 2 | J26: =+EVALUACION!J27 -> 3 | K26: =+I26+J26 -> 5 | L26: =IF(K26<=4,"BAJO",IF(K26=5,"MEDIO",IF(K26=6,"ALTO",IF(K26=7,"ALTO","EXTREMO")))) -> MEDIO | M26: SI | N26: PROFESIONALES DEL ÁREA DE GESTIÓN DEL DESARROLLO LOCAL DE PUENTE ARANDA (PLANEACIÓN) | O26: 45444 | P26: 45536 | Q26: SEGUIMIENTO AL PROCESO | R26: UNICA VEZ
B27: =+EVALUACION!B28 -> SELECCIÓN | C27: =+EVALUACION!C28 -> Falta de claridad en la elaboración de los actos administrativos | G27: Revision de procesos | I27: =+EVALUACION!I28 -> 2 | J27: =+EVALUACION!J28 -> 4 | K27: =+I27+J27 -> 6 | L27: =IF(K27<=4,"BAJO",IF(K27=5,"MEDIO",IF(K27=6,"ALTO",IF(K27=7,"ALTO","EXTREMO")))) -> ALTO | M27: NO | N27: PROFESIONALES DEL ÁREA DE GESTIÓN DEL DESARROLLO LOCAL DE PUENTE ARANDA (CONTRATACIÓN) | O27: 45444 | P27: 45536 | Q27: SEGUIMIENTO AL PROCESO | R27: UNICA VEZ
... B45: =+EVALUACION!B46 -> EJECUCIÓN | C45: =+EVALUACION!C46 -> Variación de tasas o tarifas | G45: Efectuar revisiones en cada una de las etapas de elaboración de los Estudios Previos, Estudios de Sector, Pliegos de condiciones del proceso de contratación para evitar la ocurrencia del evento. | I45: =+EVALUACION!I46 -> 2 | J45: =+EVALUACION!J46 -> 3 | K45: =+I45+J45 -> 5 | L45: =IF(K45<=4,"BAJO",IF(K45=5,"MEDIO",IF(K45=6,"ALTO",IF(K45=7,"ALTO","EXTREMO")))) -> MEDIO | M45: SI | N45: SUPERVISIÓN, APOYO A LA SUPERVISIÓN Y CONTRATISTA | O45: 45444 | P45: 45536 | Q45: SEGUIMIENTO AL PROCESO | R45: UNICA VEZ
C47: Categoria del Riesgo | H47: Impacto del Riesgo
B48: Probabilidad | C48: Catagoria | F48: Valoración | H48: Categoria | J48: Valoración | N48: Categoria del Riesgo
C49: Raro (puede ocurrir excepcionalmente) | F49: 1 | H49: Insignificante | J49: 1 | N49: Valoración del Riesgo | P49: Categoría
C50: Improbable (puede ocurrir ocasionalmente) | F50: 2 | H50: Menor | J50: 2 | N50: 8, 9 y 10 | P50: Riesgo extremo
C51: Posible (puede ocurrir en cualquier momento futuro) | F51: 3 | H51: Moderado | J51: 3 | N51: 6 y 7 | P51: Riesgo alto
C52: Probable (probablemente va a ocurrir) | F52: 4 | H52: Mayor | J52: 4 | N52: 5 | P52: Riesgo medio
C53: Casi cierto (ocurre en la mayoria de circunstancias) | F53: 5 | H53: Catastrófico | J53: 5 | N53: 2, 3 y 4 | P53: Riesgo bajo
C55: Valoración del Riesgo
C56: Calificación Cualitativa | G56: Obstruye la ejecución del contrato de manera intrascendente. | I56: Dificulta la ejecución del contrato de manera baja, aplicando medidas mínimas se pueden lograr el objeto contractual | L56: Afecta la ejecución del contrato sin alterar el beneficio para las partes | N56: Obstruye la ejecución del contrato sustancialmente pero aun así permite la consecución del objeto contractual | P56: Perturba la ejecución del contrato de manera grave imposibilitando la consecución del objeto contractual.
C57: Calificación Monetaria | G57: Los sobrecostos no representan más del uno por ciento (1%) del valor del contrato. | I57: Los sobrecostos no representan más del cinco por ciento (5%) del valor del contrato. | L57: Genera un impacto sobre el valor del contrato entre el cinco (5%) y el quince por ciento (15%). | N57: Incrementa el valor del contrato entre el quince (15%) y el treinta por ciento (30%). | P57: Impacto sobre el valor del contrato en más del treinta por ciento (30%).
C58: Catagoria | F58: Valoración | G58: Insignificante | I58: Menor | L58: Moderado | N58: Mayor | P58: Catastrófico
G59: 1 | I59: 2 | L59: 3 | N59: 4 | P59: 5
C60: Raro (puede ocurrir excepcionalmente) | F60: 1 | G60: 2 | I60: 3 | L60: 4 | N60: 5 | P60: 6
C61: Improbable (puede ocurrir ocasionalmente) | F61: 2 | G61: 3 | I61: 4 | L61: 5 | N61: 6 | P61: 7
C62: Posible (puede ocurrir en cualquier momento futuro) | F62: 3 | G62: 4 | I62: 5 | L62: 6 | N62: 7 | P62: 8
C63: Probable (probablemente va a ocurrir) | F63: 4 | G63: 5 | I63: 6 | L63: 7 | N63: 8 | P63: 9
C64: Casi cierto (ocurre en la mayoria de circunstancias) | F64: 5 | G64: 6 | I64: 7 | L64: 8 | N64: 9 | P64: 10

Sheet ASIGNACION Y TRATAMIENTO
C2: MATRIZ DE RIESGOS DE CONTRATACIÓN | W2: Código: GCO-GCI-F164 Versión: 02 Vigencia: 01 de diciembre de 2022 Caso HOLA: 280117
B6: =+EVALUACION!B6 -> Objeto Contractual: SUMINISTRAR LOS BIENES Y ELEMENTOS PARA EL FUNCIONAMIENTO DEL CENTRO DE ATENCION DE PROTECCION Y BIENESTAR ANIMAL DE LA LOCALIDAD DE PUENTE ARANDA
B7: Esta matriz es un documento anexo del Estudio Previo
B10: No | C10: Descripción (Que puede pasar y, cómo puede ocurrir) | D10: Etapa | E10: Clase | F10: Fuente | G10: Consecuencias de la ocurrencia del evento | H10: Probabilidad | I10: Impacto | J10: Calificación total | K10: Prioridad | L10: ¿A quien se le asigna? | M10: % | N10: Tratamiento/Controles a ser implementados | O10: Probabilidad | P10: Impacto | Q10: Calificación total | R10: Prioridad | S10: ¿Afecta el equilibrio económico del contrato? | T10: Persona responsable por implementar el tratamiento | U10: Fecha estimada en que se inicia el tratamiento | V10: Fecha estimada en que se completa el tratamiento | W10: ¿Cómo se realiza el monitoreo | X10: Periodicidad ¿Cuándo?
B11: 1 | C11: =+'EVALUACION CON CONTROLES'!C16:F16 -> Inadecuada escogencia de la modalidad de contratación | D11: =+'EVALUACION CON CONTROLES'!B16 -> PLANEACIÓN | E11: =VLOOKUP(C11,'IDENTIFICACION Y ANALISIS'!$B$19:$F$51,3,FALSE) -> General | F11: =VLOOKUP(C11,'IDENTIFICACION Y ANALISIS'!$B$19:$F$51,4,FALSE) -> Interno | G11: =+EVALUACION!H17 -> 1. Distorsión del proceso de selección 2. Elección de un proponente que no cumpla requisitos legales y/o que no tenga la capacidad para la ejecución 3. Selección adversa 4. Necesidad de iniciar un nuevo proceso | H11: =+EVALUACION!I17 -> 2 | I11: =+EVALUACION!J17 -> 3 | J11: =+EVALUACION!K17 -> 5 | K11: =+EVALUACION!L17 -> MEDIO | L11: SDG | M11: 100 | N11: =+'EVALUACION CON CONTROLES'!G16 -> Revisión jurídica y efectuar revisiones con los lineamientos de Colombia Compra Eficiente | O11: =+'EVALUACION CON CONTROLES'!I16 -> 2 | P11: =+'EVALUACION CON CONTROLES'!J16 -> 3 | Q11: =+'EVALUACION CON CONTROLES'!K16 -> 5 | R11: =+'EVALUACION CON CONTROLES'!L16 -> MEDIO | S11: =+'EVALUACION CON CONTROLES'!M16 -> SI | T11: =+'EVALUACION CON CONTROLES'!N16 -> PROFESIONALES DEL ÁREA DE GESTIÓN DEL DESARROLLO LOCAL DE PUENTE ARANDA (PLANEACIÓN) | U11: =+'EVALUACION CON CONTROLES'!O16 -> 45444 | V11: =+'EVALUACION CON CONTROLES'!P16 -> 45536 | ... X11: =+'EVALUACION CON CONTROLES'!R16 -> UNICA VEZ
B12: 2 | C12: =+'EVALUACION CON CONTROLES'!C17:F17 -> Requisitos habilitantes inapropiados para el proceso de selección | D12: =+'EVALUACION CON CONTROLES'!B17 -> PLANEACIÓN | E12: =VLOOKUP(C12,'IDENTIFICACION Y ANALISIS'!$B$19:$F$51,3,FALSE) -> General | F12: =VLOOKUP(C12,'IDENTIFICACION Y ANALISIS'!$B$19:$F$51,4,FALSE) -> Interno | G12: =+EVALUACION!H18 -> 1. Distorsión del proceso de selección 2. Elección de un proponente que no cumpla requisitos legales y/o que no tenga la capacidad para la ejecución 3. Selección adversa 4. Necesidad de iniciar un nuevo proceso | H12: =+EVALUACION!I18 -> 2 | I12: =+EVALUACION!J18 -> 3 | J12: =+EVALUACION!K18 -> 5 | K12: =+EVALUACION!L18 -> MEDIO | L12: SDG | M12: 100 | N12: =+'EVALUACION CON CONTROLES'!G17 -> Revisión jurídica y efectuar revisiones con los lineamientos de Colombia Compra Eficiente | O12: =+'EVALUACION CON CONTROLES'!I17 -> 2 | P12: =+'EVALUACION CON CONTROLES'!J17 -> 3 | Q12: =+'EVALUACION CON CONTROLES'!K17 -> 5 | R12: =+'EVALUACION CON CONTROLES'!L17 -> MEDIO | S12: =+'EVALUACION CON CONTROLES'!M17 -> SI | T12: =+'EVALUACION CON CONTROLES'!N17 -> PROFESIONALES DEL ÁREA DE GESTIÓN DEL DESARROLLO LOCAL DE PUENTE ARANDA (PLANEACIÓN) | U12: =+'EVALUACION CON CONTROLES'!O17 -> 45444 | V12: =+'EVALUACION CON CONTROLES'!P17 -> 45536 | ... X12: =+'EVALUACION CON CONTROLES'!R17 -> UNICA VEZ
B13: 3 | C13: =+'EVALUACION CON CONTROLES'!C18:F18 -> Inadecuado análisis económico estimativo del valor del contrato | D13: =+'EVALUACION CON CONTROLES'!B18 -> PLANEACIÓN | E13: =VLOOKUP(C13,'IDENTIFICACION Y ANALISIS'!$B$19:$F$51,3,FALSE) -> General | F13: =VLOOKUP(C13,'IDENTIFICACION Y ANALISIS'!$B$19:$F$51,4,FALSE) -> Interno | G13: =+EVALUACION!H19 -> 1. Sobrecostos o ineficiencia económica del proyecto 2. Pérdidas económica para el contratista o para el FDLPA 3. Necesidade de iniciar un nuevo proceso | H13: =+EVALUACION!I19 -> 2 | I13: =+EVALUACION!J19 -> 3 | J13: =+EVALUACION!K19 -> 5 | K13: =+EVALUACION!L19 -> MEDIO | L13: SDG | M13: 100 | N13: =+'EVALUACION CON CONTROLES'!G18 -> Revisión exhaustiva en el proceso de estudio de mercado siguiendo los lineamientos de Colombia Compra Eficiente | O13: =+'EVALUACION CON CONTROLES'!I18 -> 2 | P13: =+'EVALUACION CON CONTROLES'!J18 -> 3 | Q13: =+'EVALUACION CON CONTROLES'!K18 -> 5 | R13: =+'EVALUACION CON CONTROLES'!L18 -> MEDIO | S13: =+'EVALUACION CON CONTROLES'!M18 -> SI | T13: =+'EVALUACION CON CONTROLES'!N18 -> PROFESIONALES DEL ÁREA DE GESTIÓN DEL DESARROLLO LOCAL DE PUENTE ARANDA (PLANEACIÓN) | U13: =+'EVALUACION CON CONTROLES'!O18 -> 45444 | V13: =+'EVALUACION CON CONTROLES'!P18 -> 45536 | ... X13: =+'EVALUACION CON CONTROLES'!R18 -> UNICA VEZ
B14: 4 | C14: =+'EVALUACION CON CONTROLES'!C19:F19 -> Inadecuada descripción del bien o servicio requerido | D14: =+'EVALUACION CON CONTROLES'!B19 -> PLANEACIÓN | E14: =VLOOKUP(C14,'IDENTIFICACION Y ANALISIS'!$B$19:$F$51,3,FALSE) -> General | F14: =VLOOKUP(C14,'IDENTIFICACION Y ANALISIS'!$B$19:$F$51,4,FALSE) -> Interno | G14: =+EVALUACION!H20 -> 1. Necesidad de iniciar un nuevo proceso 2. Distorsión del proceso de selección 3. Selección adversa | H14: =+EVALUACION!I20 -> 2 | I14: =+EVALUACION!J20 -> 3 | J14: =+EVALUACION!K20 -> 5 | K14: =+EVALUACION!L20 -> MEDIO | L14: SDG | M14: 100 | N14: =+'EVALUACION CON CONTROLES'!G19 -> Utilización del MAE y revisión del proceso | O14: =+'EVALUACION CON CONTROLES'!I19 -> 2 | P14: =+'EVALUACION CON CONTROLES'!J19 -> 3 | Q14: =+'EVALUACION CON CONTROLES'!K19 -> 5 | R14: =+'EVALUACION CON CONTROLES'!L19 -> MEDIO | S14: =+'EVALUACION CON CONTROLES'!M19 -> NO | T14: =+'EVALUACION CON CONTROLES'!N19 -> PROFESIONALES DEL ÁREA DE GESTIÓN DEL DESARROLLO LOCAL DE PUENTE ARANDA (PLANEACIÓN) | U14: =+'EVALUACION CON CONTROLES'!O19 -> 45444 | V14: =+'EVALUACION CON CONTROLES'!P19 -> 45536 | ... X14: =+'EVALUACION CON CONTROLES'!R19 -> UNICA VEZ
B15: 5 | C15: =+'EVALUACION CON CONTROLES'!C20:F20 -> Inadecuada elaboración de estudios y diseños | D15: =+'EVALUACION CON CONTROLES'!B20 -> PLANEACIÓN | E15: =VLOOKUP(C15,'IDENTIFICACION Y ANALISIS'!$B$19:$F$51,3,FALSE) -> General | F15: =VLOOKUP(C15,'IDENTIFICACION Y ANALISIS'!$B$19:$F$51,4,FALSE) -> Interno | G15: =+EVALUACION!H21 -> 1. Distorsión del proceso de selección 2. Elección de un proponente que no cumpla requisitos legales y/o que no tenga la capacidad para la ejecución 3. Selección adversa 4. Necesidad de iniciar un nuevo proceso | H15: =+EVALUACION!I21 -> 2 | I15: =+EVALUACION!J21 -> 3 | J15: =+EVALUACION!K21 -> 5 | K15: =+EVALUACION!L21 -> MEDIO | L15: SDG | M15: 100 | N15: =+'EVALUACION CON CONTROLES'!G20 -> Capcitaciones al personal de FDLPA en la elaboracion de los documentos precontractuales. | O15: =+'EVALUACION CON CONTROLES'!I20 -> 2 | P15: =+'EVALUACION CON CONTROLES'!J20 -> 3 | Q15: =+'EVALUACION CON CONTROLES'!K20 -> 5 | R15: =+'EVALUACION CON CONTROLES'!L20 -> MEDIO | S15: =+'EVALUACION CON CONTROLES'!M20 -> NO | T15: =+'EVALUACION CON CONTROLES'!N20 -> PROFESIONALES DEL ÁREA DE GESTIÓN DEL DESARROLLO LOCAL DE PUENTE ARANDA (PLANEACIÓN) | U15: =+'EVALUACION CON CONTROLES'!O20 -> 45444 | V15: =+'EVALUACION CON CONTROLES'!P20 -> 45536 | ... X15: =+'EVALUACION CON CONTROLES'!R20 -> UNICA VEZ
B16: 6 | C16: =+'EVALUACION CON CONTROLES'!C21:F21 -> Requisitos habilitantes que impidan la selección objetiva | D16: =+'EVALUACION CON CONTROLES'!B21 -> PLANEACIÓN | E16: =VLOOKUP(C16,'IDENTIFICACION Y ANALISIS'!$B$19:$F$51,3,FALSE) -> General | F16: =VLOOKUP(C16,'IDENTIFICACION Y ANALISIS'!$B$19:$F$51,4,FALSE) -> Interno | G16: =+EVALUACION!H22 -> 1. Distorsión del proceso de selección 2. Elección de un proponente que no cumpla requisitos legales y/o que no tenga la capacidad para la ejecución 3. Selección adversa 4. Necesidad de iniciar un nuevo proceso | H16: =+EVALUACION!I22 -> 2 | I16: =+EVALUACION!J22 -> 2 | J16: =+EVALUACION!K22 -> 4 | K16: =+EVALUACION!L22 -> BAJO | L16: SDG | M16: 100 | N16: =+'EVALUACION CON CONTROLES'!G21 -> Utilizar los lineamientos de Colombia Compra Eficiente y utilizar como referencia procesos similares | O16: =+'EVALUACION CON CONTROLES'!I21 -> 2 | P16: =+'EVALUACION CON CONTROLES'!J21 -> 2 | Q16: =+'EVALUACION CON CONTROLES'!K21 -> 4 | R16: =+'EVALUACION CON CONTROLES'!L21 -> BAJO | S16: =+'EVALUACION CON CONTROLES'!M21 -> NO | T16: =+'EVALUACION CON CONTROLES'!N21 -> PROFESIONALES DEL ÁREA DE GESTIÓN DEL DESARROLLO LOCAL DE PUENTE ARANDA (PLANEACIÓN) | U16: =+'EVALUACION CON CONTROLES'!O21 -> 45444 | V16: =+'EVALUACION CON CONTROLES'!P21 -> 45536 | ... X16: =+'EVALUACION CON CONTROLES'!R21 -> UNICA VEZ
B17: 7 | C17: =+'EVALUACION CON CONTROLES'!C22:F22 -> Falta de profundidad en el estudio de sector no identificandose claramente aspectos de oferta y demanda | D17: =+'EVALUACION CON CONTROLES'!B22 -> PLANEACIÓN | E17: =VLOOKUP(C17,'IDENTIFICACION Y ANALISIS'!$B$19:$F$51,3,FALSE) -> General | F17: =VLOOKUP(C17,'IDENTIFICACION Y ANALISIS'!$B$19:$F$51,4,FALSE) -> Interno | G17: =+EVALUACION!H23 -> 1. Sobrecostos o ineficiencia económica del proyecto 2. Selección adversa 3. No se puede satisfacer la necesidad de la entidad | H17: =+EVALUACION!I23 -> 2 | I17: =+EVALUACION!J23 -> 3 | J17: =+EVALUACION!K23 -> 5 | K17: =+EVALUACION!L23 -> MEDIO | L17: SDG | M17: 100 | N17: =+'EVALUACION CON CONTROLES'!G22 -> Utilizar los lineamientos de Colombia Compra Eficiente y utilizar como referencia procesos similares | O17: =+'EVALUACION CON CONTROLES'!I22 -> 2 | P17: =+'EVALUACION CON CONTROLES'!J22 -> 3 | Q17: =+'EVALUACION CON CONTROLES'!K22 -> 5 | R17: =+'EVALUACION CON CONTROLES'!L22 -> MEDIO | S17: =+'EVALUACION CON CONTROLES'!M22 -> SI | T17: =+'EVALUACION CON CONTROLES'!N22 -> PROFESIONALES DEL ÁREA DE GESTIÓN DEL DESARROLLO LOCAL DE PUENTE ARANDA (PLANEACIÓN) | U17: =+'EVALUACION CON CONTROLES'!O22 -> 45444 | V17: =+'EVALUACION CON CONTROLES'!P22 -> 45536 | ... X17: =+'EVALUACION CON CONTROLES'!R22 -> UNICA VEZ
B18: 8 | C18: =+'EVALUACION CON CONTROLES'!C23:F23 -> Ausencia de fundamentación de la justificación y conveniencia de la contratación | D18: =+'EVALUACION CON CONTROLES'!B23 -> PLANEACIÓN | E18: =VLOOKUP(C18,'IDENTIFICACION Y ANALISIS'!$B$19:$F$51,3,FALSE) -> General | F18: =VLOOKUP(C18,'IDENTIFICACION Y ANALISIS'!$B$19:$F$51,4,FALSE) -> Interno | G18: =+EVALUACION!H24 -> 1. Necesidad de iniciar un nuevo proceso. 2. Selección adversa 3. No se puede satisfacer la necesidad de la entidad | H18: =+EVALUACION!I24 -> 2 | I18: =+EVALUACION!J24 -> 3 | J18: =+EVALUACION!K24 -> 5 | K18: =+EVALUACION!L24 -> MEDIO | L18: SDG | M18: 100 | N18: =+'EVALUACION CON CONTROLES'!G23 -> Revisiones constantes por parte del área de planeación de la entidad tomando como referencia procesos similares | O18: =+'EVALUACION CON CONTROLES'!I23 -> 2 | P18: =+'EVALUACION CON CONTROLES'!J23 -> 3 | Q18: =+'EVALUACION CON CONTROLES'!K23 -> 5 | R18: =+'EVALUACION CON CONTROLES'!L23 -> MEDIO | S18: =+'EVALUACION CON CONTROLES'!M23 -> NO | T18: =+'EVALUACION CON CONTROLES'!N23 -> PROFESIONALES DEL ÁREA DE GESTIÓN DEL DESARROLLO LOCAL DE PUENTE ARANDA (PLANEACIÓN Y CONTRATACIÓN) | U18: =+'EVALUACION CON CONTROLES'!O23 -> 45444 | V18: =+'EVALUACION CON CONTROLES'!P23 -> 45536 | ... X18: =+'EVALUACION CON CONTROLES'!R23 -> UNICA VEZ
B19: 9 | C19: =+'EVALUACION CON CONTROLES'!C24:F24 -> Inadecuada identificación de las condiciones contractuales | D19: =+'EVALUACION CON CONTROLES'!B24 -> PLANEACIÓN | E19: =VLOOKUP(C19,'IDENTIFICACION Y ANALISIS'!$B$19:$F$51,3,FALSE) -> General | F19: =VLOOKUP(C19,'IDENTIFICACION Y ANALISIS'!$B$19:$F$51,4,FALSE) -> Interno | G19: =+EVALUACION!H25 -> 1. Necesidad de iniciar un nuevo proceso. 2. Selección adversa 3. No se puede satisfacer la necesidad de la entidad | H19: =+EVALUACION!I25 -> 2 | I19: =+EVALUACION!J25 -> 3 | J19: =+EVALUACION!K25 -> 5 | K19: =+EVALUACION!L25 -> MEDIO | L19: SDG | M19: 100 | N19: =+'EVALUACION CON CONTROLES'!G24 -> Revision de procesos | O19: =+'EVALUACION CON CONTROLES'!I24 -> 2 | P19: =+'EVALUACION CON CONTROLES'!J24 -> 3 | Q19: =+'EVALUACION CON CONTROLES'!K24 -> 5 | R19: =+'EVALUACION CON CONTROLES'!L24 -> MEDIO | S19: =+'EVALUACION CON CONTROLES'!M24 -> NO | T19: =+'EVALUACION CON CONTROLES'!N24 -> PROFESIONALES DEL ÁREA DE GESTIÓN DEL DESARROLLO LOCAL DE PUENTE ARANDA (CONTRATACIÓN) | U19: =+'EVALUACION CON CONTROLES'!O24 -> 45444 | V19: =+'EVALUACION CON CONTROLES'!P24 -> 45536 | ... X19: =+'EVALUACION CON CONTROLES'!R24 -> UNICA VEZ
B20: 10 | C20: =+'EVALUACION CON CONTROLES'!C25:F25 -> Apertura de procesos sin disponibilidad presupuestal | D20: =+'EVALUACION CON CONTROLES'!B25 -> PLANEACIÓN | E20: =VLOOKUP(C20,'IDENTIFICACION Y ANALISIS'!$B$19:$F$51,3,FALSE) -> General | F20: =VLOOKUP(C20,'IDENTIFICACION Y ANALISIS'!$B$19:$F$51,4,FALSE) -> Interno | G20: =+EVALUACION!H26 -> 1. Necesidad de iniciar un nuevo proceso. 2. Selección adversa | H20: =+EVALUACION!I26 -> 2 | I20: =+EVALUACION!J26 -> 4 | J20: =+EVALUACION!K26 -> 6 | K20: =+EVALUACION!L26 -> ALTO | L20: SDG | M20: 100 | N20: =+'EVALUACION CON CONTROLES'!G25 -> Revision de procesos | O20: =+'EVALUACION CON CONTROLES'!I25 -> 2 | P20: =+'EVALUACION CON CONTROLES'!J25 -> 4 | Q20: =+'EVALUACION CON CONTROLES'!K25 -> 6 | R20: =+'EVALUACION CON CONTROLES'!L25 -> ALTO | S20: =+'EVALUACION CON CONTROLES'!M25 -> NO | T20: =+'EVALUACION CON CONTROLES'!N25 -> PROFESIONALES DEL ÁREA DE GESTIÓN DEL DESARROLLO LOCAL DE PUENTE ARANDA (PLANEACIÓN Y CONTRATACIÓN) | U20: =+'EVALUACION CON CONTROLES'!O25 -> 45444 | V20: =+'EVALUACION CON CONTROLES'!P25 -> 45536 | ... X20: =+'EVALUACION CON CONTROLES'!R25 -> UNICA VEZ
B21: 11 | C21: =+'EVALUACION CON CONTROLES'!C26:F26 -> Inadecuada evaluación de las ofertas y/o verificación de requisitos habilitantes | D21: =+'EVALUACION CON CONTROLES'!B26 -> SELECCIÓN | E21: =VLOOKUP(C21,'IDENTIFICACION Y ANALISIS'!$B$19:$F$51,3,FALSE) -> General | F21: =VLOOKUP(C21,'IDENTIFICACION Y ANALISIS'!$B$19:$F$51,4,FALSE) -> Interno | G21: =+EVALUACION!H27 -> 1. Selecciónar un contratista que no esté en capacidad de cumplir con el objeto del contrato. 2. Selección adversa | H21: =+EVALUACION!I27 -> 2 | I21: =+EVALUACION!J27 -> 3 | J21: =+EVALUACION!K27 -> 5 | K21: =+EVALUACION!L27 -> MEDIO | L21: SDG | M21: 100 | N21: =+'EVALUACION CON CONTROLES'!G26 -> Efectuar verificaciones a los documentos y propuestas presentadas, con el apoyo de los profesionales del área y el equipo jurídico | O21: =+'EVALUACION CON CONTROLES'!I26 -> 2 | P21: =+'EVALUACION CON CONTROLES'!J26 -> 3 | Q21: =+'EVALUACION CON CONTROLES'!K26 -> 5 | R21: =+'EVALUACION CON CONTROLES'!L26 -> MEDIO | S21: =+'EVALUACION CON CONTROLES'!M26 -> SI | T21: =+'EVALUACION CON CONTROLES'!N26 -> PROFESIONALES DEL ÁREA DE GESTIÓN DEL DESARROLLO LOCAL DE PUENTE ARANDA (PLANEACIÓN) | U21: =+'EVALUACION CON CONTROLES'!O26 -> 45444 | V21: =+'EVALUACION CON CONTROLES'!P26 -> 45536 | ... X21: =+'EVALUACION CON CONTROLES'!R26 -> UNICA VEZ
B22: 12 | C22: =+'EVALUACION CON CONTROLES'!C27:F27 -> Falta de claridad en la elaboración de los actos administrativos | D22: =+'EVALUACION CON CONTROLES'!B27 -> SELECCIÓN | E22: =VLOOKUP(C22,'IDENTIFICACION Y ANALISIS'!$B$19:$F$51,3,FALSE) -> General | F22: =VLOOKUP(C22,'IDENTIFICACION Y ANALISIS'!$B$19:$F$51,4,FALSE) -> Interno | G22: =+EVALUACION!H28 -> 1. Selecciónar un contratista que no esté en capacidad de cumplir con el objeto del contrato. | H22: =+EVALUACION!I28 -> 2 | I22: =+EVALUACION!J28 -> 4 | J22: =+EVALUACION!K28 -> 6 | K22: =+EVALUACION!L28 -> ALTO | L22: SDG | M22: 100 | N22: =+'EVALUACION CON CONTROLES'!G27 -> Revision de procesos | O22: =+'EVALUACION CON CONTROLES'!I27 -> 2 | P22: =+'EVALUACION CON CONTROLES'!J27 -> 4 | Q22: =+'EVALUACION CON CONTROLES'!K27 -> 6 | R22: =+'EVALUACION CON CONTROLES'!L27 -> ALTO | S22: =+'EVALUACION CON CONTROLES'!M27 -> NO | T22: =+'EVALUACION CON CONTROLES'!N27 -> PROFESIONALES DEL ÁREA DE GESTIÓN DEL DESARROLLO LOCAL DE PUENTE ARANDA (CONTRATACIÓN) | U22: =+'EVALUACION CON CONTROLES'!O27 -> 45444 | V22: =+'EVALUACION CON CONTROLES'!P27 -> 45536 | ... X22: =+'EVALUACION CON CONTROLES'!R27 -> UNICA VEZ
... B26: 16 | C26: =+'EVALUACION CON CONTROLES'!C31:F31 -> Selección de ofertas con precios artificialmente bajos. | D26: =+'EVALUACION CON CONTROLES'!B31 -> SELECCIÓN | E26: =VLOOKUP(C26,'IDENTIFICACION Y ANALISIS'!$B$19:$F$51,3,FALSE) -> General | F26: =VLOOKUP(C26,'IDENTIFICACION Y ANALISIS'!$B$19:$F$51,4,FALSE) -> Interno | G26: =+EVALUACION!H32 -> 1. Selecciónar un contratista que no esté en capacidad de cumplir con el objeto del contrato. | H26: =+EVALUACION!I32 -> 2 | I26: =+EVALUACION!J32 -> 4 | J26: =+EVALUACION!K32 -> 6 | K26: =+EVALUACION!L32 -> ALTO | L26: SDG | M26: 100 | N26: =+'EVALUACION CON CONTROLES'!G31 -> verificacion del marco regulatorio del contrato a suscribir y revisión del proceso | O26: =+'EVALUACION CON CONTROLES'!I31 -> 2 | P26: =+'EVALUACION CON CONTROLES'!J31 -> 4 | Q26: =+'EVALUACION CON CONTROLES'!K31 -> 6 | R26: =+'EVALUACION CON CONTROLES'!L31 -> ALTO | S26: =+'EVALUACION CON CONTROLES'!M31 -> SI | T26: =+'EVALUACION CON CONTROLES'!N31 -> PROFESIONALES DEL ÁREA DE GESTIÓN DEL DESARROLLO LOCAL DE PUENTE ARANDA (PLANEACIÓN Y CONTRATACIÓN) | U26: =+'EVALUACION CON CONTROLES'!O31 -> 45444 | V26: =+'EVALUACION CON CONTROLES'!P31 -> 45536 | ... X26: =+'EVALUACION CON CONTROLES'!R31 -> UNICA VEZ
B27: 17 | C27: =+'EVALUACION CON CONTROLES'!C32:F32 -> Riesgo de que no se firme el contrato. | D27: =+'EVALUACION CON CONTROLES'!B32 -> CONTRATACIÓN | E27: =VLOOKUP(C27,'IDENTIFICACION Y ANALISIS'!$B$19:$F$51,3,FALSE) -> General | F27: =VLOOKUP(C27,'IDENTIFICACION Y ANALISIS'!$B$19:$F$51,4,FALSE) -> Externo | G27: =+EVALUACION!H33 -> 1. Pérdida de Tiempo por no iniciar el contrato de forma oportuna | H27: =+EVALUACION!I33 -> 2 | I27: =+EVALUACION!J33 -> 4 | J27: =+EVALUACION!K33 -> 6 | K27: =+EVALUACION!L33 -> ALTO | L27: CONTRATISTA Y SDG | M27: 50-50 | N27: =+'EVALUACION CON CONTROLES'!G32 -> Incluir declaraciones y garantías del contratista y establecer sistemas de acreditación | O27: =+'EVALUACION CON CONTROLES'!I32 -> 2 | P27: =+'EVALUACION CON CONTROLES'!J32 -> 4 | Q27: =+'EVALUACION CON CONTROLES'!K32 -> 6 | R27: =+'EVALUACION CON CONTROLES'!L32 -> ALTO | S27: =+'EVALUACION CON CONTROLES'!M32 -> NO | T27: =+'EVALUACION CON CONTROLES'!N32 -> PROFESIONALES DEL ÁREA DE GESTIÓN DEL DESARROLLO LOCAL DE PUENTE ARANDA (CONTRATACIÓN) | U27: =+'EVALUACION CON CONTROLES'!O32 -> 45444 | V27: =+'EVALUACION CON CONTROLES'!P32 -> 45536 | ... X27: =+'EVALUACION CON CONTROLES'!R32 -> UNICA VEZ
B28: 18 | C28: =+'EVALUACION CON CONTROLES'!C33:F33 -> Falta de constitución o constitución tardía de la garantía única. Aceptación de garantías que no se ajustan a lo contemplado en el contrato | D28: =+'EVALUACION CON CONTROLES'!B33 -> CONTRATACIÓN | E28: =VLOOKUP(C28,'IDENTIFICACION Y ANALISIS'!$B$19:$F$51,3,FALSE) -> General | F28: =VLOOKUP(C28,'IDENTIFICACION Y ANALISIS'!$B$19:$F$51,4,FALSE) -> Interno | G28: =+EVALUACION!H34 -> 1. Pérdida de Tiempo por no iniciar el contrato de forma oportuna 2. Falta de respaldo por parte de una aseguradora sobre los riesgos existentes durante la ejecución del Contrato | H28: =+EVALUACION!I34 -> 2 | I28: =+EVALUACION!J34 -> 3 | J28: =+EVALUACION!K34 -> 5 | K28: =+EVALUACION!L34 -> MEDIO | L28: CONTRATISTA Y SDG | M28: 50-50 | N28: =+'EVALUACION CON CONTROLES'!G33 -> Exigencia de garantias y establecer sistemas de acreditación | O28: =+'EVALUACION CON CONTROLES'!I33 -> 2 | P28: =+'EVALUACION CON CONTROLES'!J33 -> 3 | Q28: =+'EVALUACION CON CONTROLES'!K33 -> 5 | R28: =+'EVALUACION CON CONTROLES'!L33 -> MEDIO | S28: =+'EVALUACION CON CONTROLES'!M33 -> NO | T28: =+'EVALUACION CON CONTROLES'!N33 -> SUPERVISIÓN, APOYO A LA SUPERVISIÓN Y CONTRATISTA | U28: =+'EVALUACION CON CONTROLES'!O33 -> 45444 | V28: =+'EVALUACION CON CONTROLES'!P33 -> 45536 | ... X28: =+'EVALUACION CON CONTROLES'!R33 -> UNICA VEZ
B29: 19 | C29: =+'EVALUACION CON CONTROLES'!C34:F34 -> Falta de solicitud o solicitud tardía del registro presupuestal | D29: =+'EVALUACION CON CONTROLES'!B34 -> CONTRATACIÓN | E29: =VLOOKUP(C29,'IDENTIFICACION Y ANALISIS'!$B$19:$F$51,3,FALSE) -> General | F29: =VLOOKUP(C29,'IDENTIFICACION Y ANALISIS'!$B$19:$F$51,4,FALSE) -> Interno | G29: =+EVALUACION!H35 -> 1. Pérdida de Tiempo por no iniciar el contrato de forma oportuna | H29: =+EVALUACION!I35 -> 2 | I29: =+EVALUACION!J35 -> 4 | J29: =+EVALUACION!K35 -> 6 | K29: =+EVALUACION!L35 -> ALTO | L29: SDG | M29: 100 | N29: =+'EVALUACION CON CONTROLES'!G34 -> Revision de procesos | O29: =+'EVALUACION CON CONTROLES'!I34 -> 2 | P29: =+'EVALUACION CON CONTROLES'!J34 -> 4 | Q29: =+'EVALUACION CON CONTROLES'!K34 -> 6 | R29: =+'EVALUACION CON CONTROLES'!L34 -> ALTO | S29: =+'EVALUACION CON CONTROLES'!M34 -> NO | T29: =+'EVALUACION CON CONTROLES'!N34 -> PROFESIONALES DEL ÁREA DE GESTIÓN DEL DESARROLLO LOCAL DE PUENTE ARANDA (CONTRATACIÓN) | U29: =+'EVALUACION CON CONTROLES'!O34 -> 45444 | V29: =+'EVALUACION CON CONTROLES'!P34 -> 45536 | ... X29: =+'EVALUACION CON CONTROLES'!R34 -> UNICA VEZ
