Workbook

Sheet especificación
A1: Mantenimiento de ventanas en aluminio cuyas medidas son entre 70 - 105 cm de ancho x 120 cm 180 cm alto, incluye limpieza de suciedad, rasqueteada de residuos de pintura, salpicadura de oxido (con limpiador industrial apto para aluminio), reparación o reemplazo de elementos deteriorados (perfiles, bisagras, cerraduras, pasadores, etc.) y limpieza de vidrios
A2: Lijada de rejas de ventanas en fachada (eliminación óxido), aplicación de anticorrosivo y pintura en esmalte de poliuretano

Sheet entrega abogada
C1: Consejo Superior de la Judicatura Dirección Ejecutiva Seccional de Administración Judicial de Cali – Valle del Cauca
A2: FORMATO CONTROL DE EJECUCIÓN DE OBRA - BALANCE Y CORTE DE OBRA
A3: OBJETO DEL CONTRATO: Realizar mantenimiento, adecuaciones y reparaciones a los inmuebles Palacio de Justicia de Cali "PEDRO ELIAS SERRANO ABADIA",Juzgado Promiscuo Municipal de el Dovio, Palacio de Justicia "SIMON DAVID CARREJO BEJARANO", Sede Familia de Palmira, Palacio Nacional de Buenaventura, Edificio Transferencias, Juzgado Promiscuo Municipal de Obando, Juzgado Promiscuo Municipal de San Jose del Palmar, Palacio de Justicia "Oscar Lerma Trujillo" Roldanillo
A6: Condiciones contractuales
A7: A. Palacio de Justicia de Cali "PEDRO ELIAS SERRANO ABADIA | E7: COTIZACIÓN 1 - KCV | G7: COTIZACIÓN 2 | I7: COTIZACIÓN 3 | K7: COTIZACIÓN 4 | M7: COTIZACIÓN 5 | O7: COTIZACIÓN 6
A8: ITEM | B8: DESCRIPCION | C8: UND | D8: CANTIDAD | E8: VALOR UNITARIO | F8: VALOR TOTAL | G8: VALOR UNITARIO | H8: VALOR TOTAL | I8: VALOR UNITARIO2 | J8: VALOR TOTAL4 | K8: VALOR UNITARIO3 | L8: VALOR TOTAL 2 | M8: VALOR UNITARIO 2 | N8: VALOR TOTAL 3 | O8: VALOR UNITARIO 3 | P8: VALOR TOTAL3 | R8: MAYORES | S8: MENORES | T8: PROMEDIO
A9: A. 1 | B9: Reparación (filtraciones) rampa y anden ingreso calle 12 | I9: =Tabla3[[#This Row],[VALOR TOTAL]]*Tabla3[[#This Row],[CANTIDAD ]] -> 0
A10: A. 1,1 | B10: Cerramiento en tela verde o polisombra (incluye postes de madera para soporte) altura: 2.10 mts. | C10: ML | D10: 36 | E10: 40000 | F10: =Tabla3[[#This Row],[VALOR UNITARIO ]]*Tabla3[[#This Row],[CANTIDAD ]] -> 1440000 | G10: 27131 | H10: =Tabla3[[#This Row],[VALOR UNITARIO]]*Tabla3[[#This Row],[CANTIDAD ]] -> 976716 | R10: =MAX(Tabla3[[#This Row],[VALOR TOTAL]],Tabla3[[#This Row],[VALOR TOTAL ]]) -> 1440000 | S10: =MIN(Tabla3[[#This Row],[VALOR TOTAL ]],Tabla3[[#This Row],[VALOR TOTAL]]) -> 976716 | T10: =AVERAGE(Tabla3[[#This Row],[VALOR TOTAL ]:[VALOR TOTAL]]) -> 814615.67
A11: A. 1,2 | B11: Desmonte y reinstalación de pasamanos metálico cuyas medidas son 130 cm de largo x 90 cm de alto | C11: UND | D11: 4 | E11: 120000 | F11: =Tabla3[[#This Row],[VALOR UNITARIO ]]*Tabla3[[#This Row],[CANTIDAD ]] -> 480000 | G11: 165000 | H11: =Tabla3[[#This Row],[VALOR UNITARIO]]*Tabla3[[#This Row],[CANTIDAD ]] -> 660000 | R11: =MAX(Tabla3[[#This Row],[VALOR TOTAL]],Tabla3[[#This Row],[VALOR TOTAL ]]) -> 660000 | S11: =MIN(Tabla3[[#This Row],[VALOR TOTAL ]],Tabla3[[#This Row],[VALOR TOTAL]]) -> 480000 | T11: =AVERAGE(Tabla3[[#This Row],[VALOR TOTAL ]:[VALOR TOTAL]]) -> 435000
A12: A. 1,3 | B12: Demolición de piso existente (enchape tráfico alto), incluye retiro de escombros | C12: M2 | D12: 288 | E12: 30000 | F12: =Tabla3[[#This Row],[VALOR UNITARIO ]]*Tabla3[[#This Row],[CANTIDAD ]] -> 8640000 | G12: 8450 | H12: =Tabla3[[#This Row],[VALOR UNITARIO]]*Tabla3[[#This Row],[CANTIDAD ]] -> 2433600 | R12: =MAX(Tabla3[[#This Row],[VALOR TOTAL]],Tabla3[[#This Row],[VALOR TOTAL ]]) -> 8640000 | S12: =MIN(Tabla3[[#This Row],[VALOR TOTAL ]],Tabla3[[#This Row],[VALOR TOTAL]]) -> 2433600 | T12: =AVERAGE(Tabla3[[#This Row],[VALOR TOTAL ]:[VALOR TOTAL]]) -> 3694016.7
A13: A. 1,4 | B13: Retiro de manto existente, incluye retiro de escombros | C13: M2 | D13: 288 | E13: 20000 | F13: =Tabla3[[#This Row],[VALOR UNITARIO ]]*Tabla3[[#This Row],[CANTIDAD ]] -> 5760000 | G13: 19500 | H13: =Tabla3[[#This Row],[VALOR UNITARIO]]*Tabla3[[#This Row],[CANTIDAD ]] -> 5616000 | R13: =MAX(Tabla3[[#This Row],[VALOR TOTAL]],Tabla3[[#This Row],[VALOR TOTAL ]]) -> 5760000 | S13: =MIN(Tabla3[[#This Row],[VALOR TOTAL ]],Tabla3[[#This Row],[VALOR TOTAL]]) -> 5616000 | T13: =AVERAGE(Tabla3[[#This Row],[VALOR TOTAL ]:[VALOR TOTAL]]) -> 3798500
A14: A. 1,5 | B14: Lavada y destronque a máquina (para retirar material existente y preparación de superficie) | C14: M2 | D14: 288 | E14: 35000 | F14: =Tabla3[[#This Row],[VALOR UNITARIO ]]*Tabla3[[#This Row],[CANTIDAD ]] -> 10080000 | G14: 3731 | H14: =Tabla3[[#This Row],[VALOR UNITARIO]]*Tabla3[[#This Row],[CANTIDAD ]] -> 1074528 | R14: =MAX(Tabla3[[#This Row],[VALOR TOTAL]],Tabla3[[#This Row],[VALOR TOTAL ]]) -> 10080000 | S14: =MIN(Tabla3[[#This Row],[VALOR TOTAL ]],Tabla3[[#This Row],[VALOR TOTAL]]) -> 1074528 | T14: =AVERAGE(Tabla3[[#This Row],[VALOR TOTAL ]:[VALOR TOTAL]]) -> 3719419.7
A15: A. 1,6 | B15: Demolición mortero existente (incluye retiro de escombros) | C15: M2 | D15: 288 | E15: 27000 | F15: =Tabla3[[#This Row],[VALOR UNITARIO ]]*Tabla3[[#This Row],[CANTIDAD ]] -> 7776000 | G15: 4400 | H15: =Tabla3[[#This Row],[VALOR UNITARIO]]*Tabla3[[#This Row],[CANTIDAD ]] -> 1267200 | R15: =MAX(Tabla3[[#This Row],[VALOR TOTAL]],Tabla3[[#This Row],[VALOR TOTAL ]]) -> 7776000 | S15: =MIN(Tabla3[[#This Row],[VALOR TOTAL ]],Tabla3[[#This Row],[VALOR TOTAL]]) -> 1267200 | T15: =AVERAGE(Tabla3[[#This Row],[VALOR TOTAL ]:[VALOR TOTAL]]) -> 3015866.7
A16: A. 1,7 | B16: Suministro y aplicación de pintura sellante elongable autonivelante. | C16: M2 | D16: 288 | E16: 75000 | F16: =Tabla3[[#This Row],[VALOR UNITARIO ]]*Tabla3[[#This Row],[CANTIDAD ]] -> 21600000 | G16: 9230 | H16: =Tabla3[[#This Row],[VALOR UNITARIO]]*Tabla3[[#This Row],[CANTIDAD ]] -> 2658240 | R16: =MAX(Tabla3[[#This Row],[VALOR TOTAL]],Tabla3[[#This Row],[VALOR TOTAL ]]) -> 21600000 | S16: =MIN(Tabla3[[#This Row],[VALOR TOTAL ]],Tabla3[[#This Row],[VALOR TOTAL]]) -> 2658240 | T16: =AVERAGE(Tabla3[[#This Row],[VALOR TOTAL ]:[VALOR TOTAL]]) -> 8089156.7
A17: A. 1,8 | B17: Suministro y aplicación de mortero 1:3 con aditivo impermeabilizante espesor 4cm incluye media caña en mortero perimetral (superficie con pendiente) | C17: M2 | D17: 288 | E17: 38000 | F17: =Tabla3[[#This Row],[VALOR UNITARIO ]]*Tabla3[[#This Row],[CANTIDAD ]] -> 10944000 | G17: 32500 | H17: =Tabla3[[#This Row],[VALOR UNITARIO]]*Tabla3[[#This Row],[CANTIDAD ]] -> 9360000 | R17: =MAX(Tabla3[[#This Row],[VALOR TOTAL]],Tabla3[[#This Row],[VALOR TOTAL ]]) -> 10944000 | S17: =MIN(Tabla3[[#This Row],[VALOR TOTAL ]],Tabla3[[#This Row],[VALOR TOTAL]]) -> 9360000 | T17: =AVERAGE(Tabla3[[#This Row],[VALOR TOTAL ]:[VALOR TOTAL]]) -> 6778833.3
A18: A. 1,9 | B18: Suministro e instalación de membrana liquida en poliuretano, con refuerzo en poliéster, acabado transitable para impermeabilización de losa de terraza, con remates perimetrales en media caña, Incluye cárcamos de desagüe. | C18: M2 | D18: 288 | E18: 320000 | F18: =Tabla3[[#This Row],[VALOR UNITARIO ]]*Tabla3[[#This Row],[CANTIDAD ]] -> 92160000 | G18: 128700 | H18: =Tabla3[[#This Row],[VALOR UNITARIO]]*Tabla3[[#This Row],[CANTIDAD ]] -> 37065600 | R18: =MAX(Tabla3[[#This Row],[VALOR TOTAL]],Tabla3[[#This Row],[VALOR TOTAL ]]) -> 92160000 | S18: =MIN(Tabla3[[#This Row],[VALOR TOTAL ]],Tabla3[[#This Row],[VALOR TOTAL]]) -> 37065600 | T18: =AVERAGE(Tabla3[[#This Row],[VALOR TOTAL ]:[VALOR TOTAL]]) -> 43118100
A19: A. 1,10 | B19: Fabricación de borde de escalera en granito lavado (Borde de escalera ancho 10 cm a lo largo de la huella y la contrahuella de 13 cm) incluye dilatacion en bronce 5 mm | C19: ML | D19: 410 | E19: 50000 | F19: =Tabla3[[#This Row],[VALOR UNITARIO ]]*Tabla3[[#This Row],[CANTIDAD ]] -> 20500000 | G19: 52117 | H19: =Tabla3[[#This Row],[VALOR UNITARIO]]*Tabla3[[#This Row],[CANTIDAD ]] -> 21367970 | R19: =MAX(Tabla3[[#This Row],[VALOR TOTAL]],Tabla3[[#This Row],[VALOR TOTAL ]]) -> 21367970 | S19: =MIN(Tabla3[[#This Row],[VALOR TOTAL ]],Tabla3[[#This Row],[VALOR TOTAL]]) -> 20500000 | T19: =AVERAGE(Tabla3[[#This Row],[VALOR TOTAL ]:[VALOR TOTAL]]) -> 13973362
A20: A. 1,11 | B20: Suministro e instalación de enchape para piso exterior (tráfico alto, incluye junta de dilatación en aluminio) | C20: M2 | D20: 288 | E20: 140000 | F20: =Tabla3[[#This Row],[VALOR UNITARIO ]]*Tabla3[[#This Row],[CANTIDAD ]] -> 40320000 | G20: =106276*1.1 -> 116903.6 | H20: =Tabla3[[#This Row],[VALOR UNITARIO]]*Tabla3[[#This Row],[CANTIDAD ]] -> 33668237 | R20: =MAX(Tabla3[[#This Row],[VALOR TOTAL]],Tabla3[[#This Row],[VALOR TOTAL ]]) -> 40320000 | S20: =MIN(Tabla3[[#This Row],[VALOR TOTAL ]],Tabla3[[#This Row],[VALOR TOTAL]]) -> 33668237 | T20: =AVERAGE(Tabla3[[#This Row],[VALOR TOTAL ]:[VALOR TOTAL]]) -> 24701713
A21: A. 1,12 | B21: Suministro y fabricación guardaescoba en granito en media caña 10 cm | C21: ML | D21: 91 | E21: 35000 | F21: =Tabla3[[#This Row],[VALOR UNITARIO ]]*Tabla3[[#This Row],[CANTIDAD ]] -> 3185000 | G21: =14420*1.3 -> 18746 | H21: =Tabla3[[#This Row],[VALOR UNITARIO]]*Tabla3[[#This Row],[CANTIDAD ]] -> 1705886 | R21: =MAX(Tabla3[[#This Row],[VALOR TOTAL]],Tabla3[[#This Row],[VALOR TOTAL ]]) -> 3185000 | S21: =MIN(Tabla3[[#This Row],[VALOR TOTAL ]],Tabla3[[#This Row],[VALOR TOTAL]]) -> 1705886 | T21: =AVERAGE(Tabla3[[#This Row],[VALOR TOTAL ]:[VALOR TOTAL]]) -> 1636544
A22: A. 1,13 | B22: Suministro y Fabricación de cenefa piso en granito lavado ancho 20 cm | C22: ML | D22: 60 | E22: 40000 | F22: =Tabla3[[#This Row],[VALOR UNITARIO ]]*Tabla3[[#This Row],[CANTIDAD ]] -> 2400000 | G22: =13210*1.3 -> 17173 | H22: =Tabla3[[#This Row],[VALOR UNITARIO]]*Tabla3[[#This Row],[CANTIDAD ]] -> 1030380 | R22: =MAX(Tabla3[[#This Row],[VALOR TOTAL]],Tabla3[[#This Row],[VALOR TOTAL ]]) -> 2400000 | S22: =MIN(Tabla3[[#This Row],[VALOR TOTAL ]],Tabla3[[#This Row],[VALOR TOTAL]]) -> 1030380 | T22: =AVERAGE(Tabla3[[#This Row],[VALOR TOTAL ]:[VALOR TOTAL]]) -> 1149184.3
A23: A. 2 | B23: Actividades para cubierta de la terraza torre A - Fase C
A24: A. 2,1 | B24: Suministro e instalación de bases en concreto de 20 cm x 20 cm fundidos sobre losa de terraza | C24: UND | D24: 52 | E24: 66000 | F24: =Tabla3[[#This Row],[VALOR UNITARIO ]]*Tabla3[[#This Row],[CANTIDAD ]] -> 3432000 | G24: 32500 | H24: =Tabla3[[#This Row],[VALOR UNITARIO]]*Tabla3[[#This Row],[CANTIDAD ]] -> 1690000 | R24: =MAX(Tabla3[[#This Row],[VALOR TOTAL]],Tabla3[[#This Row],[VALOR TOTAL ]]) -> 3432000 | S24: =MIN(Tabla3[[#This Row],[VALOR TOTAL ]],Tabla3[[#This Row],[VALOR TOTAL]]) -> 1690000 | T24: =AVERAGE(Tabla3[[#This Row],[VALOR TOTAL ]:[VALOR TOTAL]]) -> 1718166.7
A25: A. 2,2 | B25: Suministro e instalación de platina 3/8 cuyas medidas oscilan así: 10 cm x 15 cm y 15 cm x 15 cm, incluye materiales complementarios de conexión, acero, corte, soldadura, anclajes, cartelas, tornillos, varilla de 1/2 soldada para anclaje sobre bases de concreto. | C25: UND | D25: 52 | E25: 66000 | F25: =Tabla3[[#This Row],[VALOR UNITARIO ]]*Tabla3[[#This Row],[CANTIDAD ]] -> 3432000 | G25: 35581 | H25: =Tabla3[[#This Row],[VALOR UNITARIO]]*Tabla3[[#This Row],[CANTIDAD ]] -> 1850212 | R25: =MAX(Tabla3[[#This Row],[VALOR TOTAL]],Tabla3[[#This Row],[VALOR TOTAL ]]) -> 3432000 | S25: =MIN(Tabla3[[#This Row],[VALOR TOTAL ]],Tabla3[[#This Row],[VALOR TOTAL]]) -> 1850212 | T25: =AVERAGE(Tabla3[[#This Row],[VALOR TOTAL ]:[VALOR TOTAL]]) -> 1772597.7
A26: A. 2,3 | B26: Suministro e instalación de estructura metálica para cubierta en tubería 100 cm x 100 cm calibre 2 mm, incluye pintura 3 en 2 | C26: ML | D26: 97 | E26: 118000 | F26: =Tabla3[[#This Row],[VALOR UNITARIO ]]*Tabla3[[#This Row],[CANTIDAD ]] -> 11446000 | G26: 132301 | H26: =Tabla3[[#This Row],[VALOR UNITARIO]]*Tabla3[[#This Row],[CANTIDAD ]] -> 12833197 | R26: =MAX(Tabla3[[#This Row],[VALOR TOTAL]],Tabla3[[#This Row],[VALOR TOTAL ]]) -> 12833197 | S26: =MIN(Tabla3[[#This Row],[VALOR TOTAL ]],Tabla3[[#This Row],[VALOR TOTAL]]) -> 11446000 | T26: =AVERAGE(Tabla3[[#This Row],[VALOR TOTAL ]:[VALOR TOTAL]]) -> 8137166
A27: A. 2,4 | B27: Suministro e instalación de estructura metálica para cubierta en tubería 100 cm x 50 cm calibre 2 mm, incluye pintura 3 en 1 | C27: ML | D27: 212 | E27: 110000 | F27: =Tabla3[[#This Row],[VALOR UNITARIO ]]*Tabla3[[#This Row],[CANTIDAD ]] -> 23320000 | G27: 110500 | H27: =Tabla3[[#This Row],[VALOR UNITARIO]]*Tabla3[[#This Row],[CANTIDAD ]] -> 23426000 | R27: =MAX(Tabla3[[#This Row],[VALOR TOTAL]],Tabla3[[#This Row],[VALOR TOTAL ]]) -> 23426000 | S27: =MIN(Tabla3[[#This Row],[VALOR TOTAL ]],Tabla3[[#This Row],[VALOR TOTAL]]) -> 23320000 | T27: =AVERAGE(Tabla3[[#This Row],[VALOR TOTAL ]:[VALOR TOTAL]]) -> 15618833
A28: A. 2,5 | B28: Suministro e instalación de estructura metálica para cubierta en tubería 80 cm x 40 cm calibre 2 mm, incluye pintura 3 en 1 | C28: ML | D28: 255 | E28: 100000 | F28: =Tabla3[[#This Row],[VALOR UNITARIO ]]*Tabla3[[#This Row],[CANTIDAD ]] -> 25500000 | G28: 104000 | H28: =Tabla3[[#This Row],[VALOR UNITARIO]]*Tabla3[[#This Row],[CANTIDAD ]] -> 26520000 | R28: =MAX(Tabla3[[#This Row],[VALOR TOTAL]],Tabla3[[#This Row],[VALOR TOTAL ]]) -> 26520000 | S28: =MIN(Tabla3[[#This Row],[VALOR TOTAL ]],Tabla3[[#This Row],[VALOR TOTAL]]) -> 25500000 | T28: =AVERAGE(Tabla3[[#This Row],[VALOR TOTAL ]:[VALOR TOTAL]]) -> 17374667
A29: A. 2,6 | B29: Suministro e instalación de teja upvc 2.5 mm, incluye tornillería para su correcta instalación sobre estructura metálica | C29: M2 | D29: 330 | E29: 80000 | F29: =Tabla3[[#This Row],[VALOR UNITARIO ]]*Tabla3[[#This Row],[CANTIDAD ]] -> 26400000 | G29: 65949 | H29: =Tabla3[[#This Row],[VALOR UNITARIO]]*Tabla3[[#This Row],[CANTIDAD ]] -> 21763170 | R29: =MAX(Tabla3[[#This Row],[VALOR TOTAL]],Tabla3[[#This Row],[VALOR TOTAL ]]) -> 26400000 | S29: =MIN(Tabla3[[#This Row],[VALOR TOTAL ]],Tabla3[[#This Row],[VALOR TOTAL]]) -> 21763170 | T29: =AVERAGE(Tabla3[[#This Row],[VALOR TOTAL ]:[VALOR TOTAL]]) -> 16076373
A30: A. 2,7 | B30: Suministro e instalación de caballete para teja upvc 2.5 mm, incluye accesorios para su correcta instalación | C30: ML | D30: 28 | E30: 92000 | F30: =Tabla3[[#This Row],[VALOR UNITARIO ]]*Tabla3[[#This Row],[CANTIDAD ]] -> 2576000 | G30: 72813 | H30: =Tabla3[[#This Row],[VALOR UNITARIO]]*Tabla3[[#This Row],[CANTIDAD ]] -> 2038764 | R30: =MAX(Tabla3[[#This Row],[VALOR TOTAL]],Tabla3[[#This Row],[VALOR TOTAL ]]) -> 2576000 | S30: =MIN(Tabla3[[#This Row],[VALOR TOTAL ]],Tabla3[[#This Row],[VALOR TOTAL]]) -> 2038764 | T30: =AVERAGE(Tabla3[[#This Row],[VALOR TOTAL ]:[VALOR TOTAL]]) -> 1562525.7
A31: A. 2,8 | B31: Suministro e instalación de Canal en lamina galvanizada cal 22, incluye platina para soporte canal | C31: ML | D31: 40 | E31: 94000 | F31: =Tabla3[[#This Row],[VALOR UNITARIO ]]*Tabla3[[#This Row],[CANTIDAD ]] -> 3760000 | G31: 113048 | H31: =Tabla3[[#This Row],[VALOR UNITARIO]]*Tabla3[[#This Row],[CANTIDAD ]] -> 4521920 | R31: =MAX(Tabla3[[#This Row],[VALOR TOTAL]],Tabla3[[#This Row],[VALOR TOTAL ]]) -> 4521920 | S31: =MIN(Tabla3[[#This Row],[VALOR TOTAL ]],Tabla3[[#This Row],[VALOR TOTAL]]) -> 3760000 | T31: =AVERAGE(Tabla3[[#This Row],[VALOR TOTAL ]:[VALOR TOTAL]]) -> 2798322.7
A32: A. 2,9 | B32: Corte de muro con pulidora | C32: ML | D32: 40 | E32: 16000 | F32: =Tabla3[[#This Row],[VALOR UNITARIO ]]*Tabla3[[#This Row],[CANTIDAD ]] -> 640000 | G32: 16848 | H32: =Tabla3[[#This Row],[VALOR UNITARIO]]*Tabla3[[#This Row],[CANTIDAD ]] -> 673920 | R32: =MAX(Tabla3[[#This Row],[VALOR TOTAL]],Tabla3[[#This Row],[VALOR TOTAL ]]) -> 673920 | S32: =MIN(Tabla3[[#This Row],[VALOR TOTAL ]],Tabla3[[#This Row],[VALOR TOTAL]]) -> 640000 | T32: =AVERAGE(Tabla3[[#This Row],[VALOR TOTAL ]:[VALOR TOTAL]]) -> 443589.33
A33: A. 2,10 | B33: Suministro e instalación de Solapa en lamina galvanizada Cal 24, incluye sellador sobre muro | C33: ML | D33: 70 | E33: 46000 | F33: =Tabla3[[#This Row],[VALOR UNITARIO ]]*Tabla3[[#This Row],[CANTIDAD ]] -> 3220000 | G33: 57837 | H33: =Tabla3[[#This Row],[VALOR UNITARIO]]*Tabla3[[#This Row],[CANTIDAD ]] -> 4048590 | R33: =MAX(Tabla3[[#This Row],[VALOR TOTAL]],Tabla3[[#This Row],[VALOR TOTAL ]]) -> 4048590 | S33: =MIN(Tabla3[[#This Row],[VALOR TOTAL ]],Tabla3[[#This Row],[VALOR TOTAL]]) -> 3220000 | T33: =AVERAGE(Tabla3[[#This Row],[VALOR TOTAL ]:[VALOR TOTAL]]) -> 2442142.3
A34: A. 2,11 | B34: Suministro e instalación de soscos para canal en 3" | C34: UND | D34: 10 | E34: 27000 | F34: =Tabla3[[#This Row],[VALOR UNITARIO ]]*Tabla3[[#This Row],[CANTIDAD ]] -> 270000 | G34: 6667.1 | H34: =Tabla3[[#This Row],[VALOR UNITARIO]]*Tabla3[[#This Row],[CANTIDAD ]] -> 66671 | R34: =MAX(Tabla3[[#This Row],[VALOR TOTAL]],Tabla3[[#This Row],[VALOR TOTAL ]]) -> 270000 | S34: =MIN(Tabla3[[#This Row],[VALOR TOTAL ]],Tabla3[[#This Row],[VALOR TOTAL]]) -> 66671 | T34: =AVERAGE(Tabla3[[#This Row],[VALOR TOTAL ]:[VALOR TOTAL]]) -> 114446.03
A35: A. 2,12 | B35: Suministro e instalación tubería sanitaria de 4 " incluye accesorios. | C35: ML | D35: 80 | E35: 48000 | F35: =Tabla3[[#This Row],[VALOR UNITARIO ]]*Tabla3[[#This Row],[CANTIDAD ]] -> 3840000 | G35: 36283 | H35: =Tabla3[[#This Row],[VALOR UNITARIO]]*Tabla3[[#This Row],[CANTIDAD ]] -> 2902640 | R35: =MAX(Tabla3[[#This Row],[VALOR TOTAL]],Tabla3[[#This Row],[VALOR TOTAL ]]) -> 3840000 | S35: =MIN(Tabla3[[#This Row],[VALOR TOTAL ]],Tabla3[[#This Row],[VALOR TOTAL]]) -> 2902640 | T35: =AVERAGE(Tabla3[[#This Row],[VALOR TOTAL ]:[VALOR TOTAL]]) -> 2259641
... A37: A. 2,14 | B37: Suministro e instalación pasarela o plaforma metálica en rejilla de acero con 2 pasos en cada extremo cuyas medidas son 80 cm ancho, 160cm de largo y 40 cm de latura, incluye pasamanos | C37: UND | D37: 1 | E37: 1200000 | F37: =Tabla3[[#This Row],[VALOR UNITARIO ]]*Tabla3[[#This Row],[CANTIDAD ]] -> 1200000 | G37: 550000 | H37: =Tabla3[[#This Row],[VALOR UNITARIO]]*Tabla3[[#This Row],[CANTIDAD ]] -> 550000 | R37: =MAX(Tabla3[[#This Row],[VALOR TOTAL]],Tabla3[[#This Row],[VALOR TOTAL ]]) -> 1200000 | S37: =MIN(Tabla3[[#This Row],[VALOR TOTAL ]],Tabla3[[#This Row],[VALOR TOTAL]]) -> 550000 | T37: =AVERAGE(Tabla3[[#This Row],[VALOR TOTAL ]:[VALOR TOTAL]]) -> 766666.67
A38: A. 3 | B38: Impermeabilización cubierta de cuartos técnicos terraza torre A
A39: A. 3,1 | B39: Retiro de manto existente, incluye retiro de escombros | C39: M2 | D39: 191 | E39: 20000 | F39: =Tabla3[[#This Row],[VALOR UNITARIO ]]*Tabla3[[#This Row],[CANTIDAD ]] -> 3820000 | G39: 19500 | H39: =Tabla3[[#This Row],[VALOR UNITARIO]]*Tabla3[[#This Row],[CANTIDAD ]] -> 3724500 | R39: =MAX(Tabla3[[#This Row],[VALOR TOTAL]],Tabla3[[#This Row],[VALOR TOTAL ]]) -> 3820000 | S39: =MIN(Tabla3[[#This Row],[VALOR TOTAL ]],Tabla3[[#This Row],[VALOR TOTAL]]) -> 3724500 | T39: =AVERAGE(Tabla3[[#This Row],[VALOR TOTAL ]:[VALOR TOTAL]]) -> 2521333.3
A40: A. 3,2 | B40: Lavada y destronque de terraza a máquina (para retirar material bituminoso, incluye retiro) | C40: M2 | D40: 191 | E40: 35000 | F40: =Tabla3[[#This Row],[VALOR UNITARIO ]]*Tabla3[[#This Row],[CANTIDAD ]] -> 6685000 | G40: 3731 | H40: =Tabla3[[#This Row],[VALOR UNITARIO]]*Tabla3[[#This Row],[CANTIDAD ]] -> 712621 | R40: =MAX(Tabla3[[#This Row],[VALOR TOTAL]],Tabla3[[#This Row],[VALOR TOTAL ]]) -> 6685000 | S40: =MIN(Tabla3[[#This Row],[VALOR TOTAL ]],Tabla3[[#This Row],[VALOR TOTAL]]) -> 712621 | T40: =AVERAGE(Tabla3[[#This Row],[VALOR TOTAL ]:[VALOR TOTAL]]) -> 2467117.3
A41: A. 3,3 | B41: Suministro e instalación de membrana pvc (incluye perlines de fijación) | C41: M2 | D41: 51 | E41: 280000 | F41: =Tabla3[[#This Row],[VALOR UNITARIO ]]*Tabla3[[#This Row],[CANTIDAD ]] -> 14280000 | G41: 128700 | H41: =Tabla3[[#This Row],[VALOR UNITARIO]]*Tabla3[[#This Row],[CANTIDAD ]] -> 6563700 | R41: =MAX(Tabla3[[#This Row],[VALOR TOTAL]],Tabla3[[#This Row],[VALOR TOTAL ]]) -> 14280000 | S41: =MIN(Tabla3[[#This Row],[VALOR TOTAL ]],Tabla3[[#This Row],[VALOR TOTAL]]) -> 6563700 | T41: =AVERAGE(Tabla3[[#This Row],[VALOR TOTAL ]:[VALOR TOTAL]]) -> 6990800
A42: A. 3,4 | B42: Suministro e instalación de enchape antideslizante | C42: M2 | D42: 140 | E42: 120000 | F42: =Tabla3[[#This Row],[VALOR UNITARIO ]]*Tabla3[[#This Row],[CANTIDAD ]] -> 16800000 | G42: 45981 | H42: =Tabla3[[#This Row],[VALOR UNITARIO]]*Tabla3[[#This Row],[CANTIDAD ]] -> 6437340 | R42: =MAX(Tabla3[[#This Row],[VALOR TOTAL]],Tabla3[[#This Row],[VALOR TOTAL ]]) -> 16800000 | S42: =MIN(Tabla3[[#This Row],[VALOR TOTAL ]],Tabla3[[#This Row],[VALOR TOTAL]]) -> 6437340 | T42: =AVERAGE(Tabla3[[#This Row],[VALOR TOTAL ]:[VALOR TOTAL]]) -> 7761107
A43: A. 3,5 | B43: Suministro y aplicación de mortero 1:3 con aditivo impermeabilizante espesor 5 cm con pendiente y terminacion en cero. | C43: M2 | D43: 140 | E43: 45000 | F43: =Tabla3[[#This Row],[VALOR UNITARIO ]]*Tabla3[[#This Row],[CANTIDAD ]] -> 6300000 | G43: 32500 | H43: =Tabla3[[#This Row],[VALOR UNITARIO]]*Tabla3[[#This Row],[CANTIDAD ]] -> 4550000 | R43: =MAX(Tabla3[[#This Row],[VALOR TOTAL]],Tabla3[[#This Row],[VALOR TOTAL ]]) -> 6300000 | S43: =MIN(Tabla3[[#This Row],[VALOR TOTAL ]],Tabla3[[#This Row],[VALOR TOTAL]]) -> 4550000 | T43: =AVERAGE(Tabla3[[#This Row],[VALOR TOTAL ]:[VALOR TOTAL]]) -> 3627500
...

Sheet estudio inicial precios
B1: ESTUDIO INICIAL DE PRECIOS
B3: RESUMEN
B4: EDIFICIO/CONSTRUCCÓN | C4: SI | D4: CON AIU
A5: A | B5: =+POE!B5 -> Palacio de Justicia de Cali "PEDRO ELIAS SERRANO ABADIA | C5: X | D5: =+Q137 -> 616542413
A6: B | B6: =+POE!B6 -> Juzgado Promiscuo Municipal de el Dovio - | C6: X | D6: =+Q156 -> 4769876
A7: C | B7: =+POE!B7 -> Palacio de Justicia "SIMON DAVID CARREJO BEJARANO" Palmira | C7: X | D7: =+Q231 -> 478239464
A8: D | B8: =+POE!B8 -> Sede de Familia de Palmira | C8: X | D8: =Q311 -> 77440566
A9: E | B9: =+POE!B9 -> Palacio Nacional de Buenaventura | C9: X | D9: =+Q390 -> 378276488
A10: F | B10: =+POE!B10 -> Edificio de Transferencia de Buenaventura | C10: X | D10: =+Q431 -> 123813964
A11: G | B11: =+POE!B11 -> Juzgado Promiscuo Municipal de Obando | C11: X | D11: =+Q468 -> 22815097
A12: H | B12: =+POE!B12 -> Juzgado Promiscuo Municipal de San José del Palmar | C12: X | D12: =+Q508 -> 65105347
A13: I | B13: =+B510 -> Palacio de Justicia "Oscar Lerma Trujillo" Roldanillo | C13: X | D13: =+Q558 -> 129542057
A14: J | B14: =+POE!B13 -> Palacio de Justicia de Tuluá | C14: X | D14: =+Q571 -> 24408113
B15: COSTO DIRECTO TOTAL | D15: =SUM(D5:D14) -> 1920953385
B16: =+'Análisis del AIU'!A21 -> ADMINISTRACION | C16: =+'Análisis del AIU'!F5 -> 0.185
B17: =+'Análisis del AIU'!A22 -> IMPREVISTOS | C17: =+'Análisis del AIU'!F6 -> 0.02
B18: =+'Análisis del AIU'!A23 -> UTILIDAD | C18: =+'Análisis del AIU'!F7 -> 0.045
B19: =+'Análisis del AIU'!A24 -> IVA SOBRE UTILIDAD | C19: =+'Análisis del AIU'!F8 -> 0.19
B20: TOTAL
M21: PRESUPUESTO | O21: 1300000000
M22: DIFERENCIA | O22: =+O21-D20 -> 1300000000
B27: Consejo Superior de la Judicatura Dirección Ejecutiva Seccional de Administración Judicial de Cali – Valle del Cauca
A28: FORMATO CONTROL DE EJECUCIÓN DE OBRA - BALANCE Y CORTE DE OBRA
A29: OBJETO DEL CONTRATO: Realizar mantenimiento, adecuaciones y reparaciones a los inmuebles Palacio de Justicia de Cali "PEDRO ELIAS SERRANO ABADIA",Juzgado Promiscuo Municipal de el Dovio, Palacio de Justicia "SIMON DAVID CARREJO BEJARANO", Sede Familia de Palmira, Palacio Nacional de Buenaventura, Edificio Transferencias, Juzgado Promiscuo Municipal de Obando, Juzgado Promiscuo Municipal de San José del Palmar, Palacio de Justicia "Oscar Lerma Trujillo" Roldanillo
A31: Condiciones contractuales
A32: A. | B32: Palacio de Justicia de Cali "PEDRO ELIAS SERRANO ABADIA | E32: COTIZACIÓN 1 - | G32: COTIZACIÓN 2 - | I32: OTROS CONTRATOS REALIZADOS POR LA ENTIDAD | L32: A. | M32: =+B32 -> Palacio de Justicia de Cali "PEDRO ELIAS SERRANO ABADIA
A33: ITEM | B33: DESCRIPCION | C33: UND | D33: CANTIDAD | E33: VALOR UNITARIO | F33: VALOR TOTAL | G33: VALOR UNITARIO | H33: VALOR TOTAL | I33: VALOR UNITARIO INDEXADO | J33: VALOR TOTAL | L33: =+A33 -> ITEM | M33: =+B33 -> DESCRIPCION | N33: =+C33 -> UND | O33: =+D33 -> CANTIDAD | P33: VALOR UNITARIO PROMEDIO | Q33: VALOR TOTAL
A34: A. 1 | B34: Reparación (filtraciones) rampa y anden ingreso calle 12 | L34: =+A34 -> A. 1 | M34: =+B34 -> Reparación (filtraciones) rampa y anden ingreso calle 12
A35: A. 1,1 | B35: Cerramiento en tela verde o polisombra (incluye postes de madera para soporte) altura: 2.10 mts. | C35: ML | D35: 36 | E35: 40000 | F35: =+E35*D35 -> 1440000 | G35: 27131 | H35: =+G35*D35 -> 976716 | I35: =IFERROR(VLOOKUP(A35,'valores unit indexados'!$A$14:$O$197,15,FALSE),0) -> 0 | J35: =+I35*D35 -> 0 | L35: =+A35 -> A. 1,1 | M35: =+B35 -> Cerramiento en tela verde o polisombra (incluye postes de madera para soporte) altura: 2.10 mts. | N35: =+C35 -> ML | O35: =+D35 -> 36 | P35: =VLOOKUP(L35,'selección precios unitario'!$A$5:$I$418,9,FALSE) -> 27131 | Q35: =+P35*O35 -> 976716
A36: A. 1,2 | B36: Desmonte y reinstalación de pasamanos metálico cuyas medidas son 130 cm de largo x 90 cm de alto | C36: UND | D36: 4 | E36: 120000 | F36: =+E36*D36 -> 480000 | G36: 165000 | H36: =+G36*D36 -> 660000 | I36: =IFERROR(VLOOKUP(A36,'valores unit indexados'!$A$14:$O$197,15,FALSE),0) -> 0 | J36: =+I36*D36 -> 0 | L36: =+A36 -> A. 1,2 | M36: =+B36 -> Desmonte y reinstalación de pasamanos metálico cuyas medidas son 130 cm de largo x 90 cm de alto | N36: =+C36 -> UND | O36: =+D36 -> 4 | P36: =VLOOKUP(L36,'selección precios unitario'!$A$5:$I$418,9,FALSE) -> 142500 | Q36: =+P36*O36 -> 570000
A37: A. 1,3 | B37: Demolición de piso existente (enchape tráfico alto), incluye retiro de escombros | C37: M2 | D37: 288 | E37: 30000 | F37: =+E37*D37 -> 8640000 | G37: 8450 | H37: =+G37*D37 -> 2433600 | I37: =IFERROR(VLOOKUP(A37,'valores unit indexados'!$A$14:$O$197,15,FALSE),0) -> 0 | J37: =+I37*D37 -> 0 | L37: =+A37 -> A. 1,3 | M37: =+B37 -> Demolición de piso existente (enchape tráfico alto), incluye retiro de escombros | N37: =+C37 -> M2 | O37: =+D37 -> 288 | P37: =VLOOKUP(L37,'selección precios unitario'!$A$5:$I$418,9,FALSE) -> 19225 | Q37: =+P37*O37 -> 5536800
A38: A. 1,4 | B38: Retiro de manto existente, incluye retiro de escombros | C38: M2 | D38: 288 | E38: 20000 | F38: =+E38*D38 -> 5760000 | G38: 19500 | H38: =+G38*D38 -> 5616000 | I38: =IFERROR(VLOOKUP(A38,'valores unit indexados'!$A$14:$O$197,15,FALSE),0) -> 14660 | J38: =+I38*D38 -> 4222080 | L38: =+A38 -> A. 1,4 | M38: =+B38 -> Retiro de manto existente, incluye retiro de escombros | N38: =+C38 -> M2 | O38: =+D38 -> 288 | P38: =VLOOKUP(L38,'selección precios unitario'!$A$5:$I$418,9,FALSE) -> 18053 | Q38: =+P38*O38 -> 5199264
A39: A. 1,5 | B39: Lavada y destronque a máquina (para retirar material existente y preparación de superficie) | C39: M2 | D39: 288 | E39: 35000 | F39: =+E39*D39 -> 10080000 | G39: 3731 | H39: =+G39*D39 -> 1074528 | I39: =IFERROR(VLOOKUP(A39,'valores unit indexados'!$A$14:$O$197,15,FALSE),0) -> 29150 | J39: =+I39*D39 -> 8395200 | L39: =+A39 -> A. 1,5 | M39: =+B39 -> Lavada y destronque a máquina (para retirar material existente y preparación de superficie) | N39: =+C39 -> M2 | O39: =+D39 -> 288 | P39: =VLOOKUP(L39,'selección precios unitario'!$A$5:$I$418,9,FALSE) -> 32075 | Q39: =+P39*O39 -> 9237600
A40: A. 1,6 | B40: Demolición mortero existente (incluye retiro de escombros) | C40: M2 | D40: 288 | E40: 27000 | F40: =+E40*D40 -> 7776000 | G40: 4400 | H40: =+G40*D40 -> 1267200 | I40: =IFERROR(VLOOKUP(A40,'valores unit indexados'!$A$14:$O$197,15,FALSE),0) -> 10612 | J40: =+I40*D40 -> 3056256 | L40: =+A40 -> A. 1,6 | M40: =+B40 -> Demolición mortero existente (incluye retiro de escombros) | N40: =+C40 -> M2 | O40: =+D40 -> 288 | P40: =VLOOKUP(L40,'selección precios unitario'!$A$5:$I$418,9,FALSE) -> 10612 | Q40: =+P40*O40 -> 3056256
A41: A. 1,7 | B41: Suministro y aplicación de pintura sellante elongable autonivelante. | C41: M2 | D41: 288 | E41: 75000 | F41: =+E41*D41 -> 21600000 | G41: 9230 | H41: =+G41*D41 -> 2658240 | I41: =IFERROR(VLOOKUP(A41,'valores unit indexados'!$A$14:$O$197,15,FALSE),0) -> 0 | J41: =+I41*D41 -> 0 | L41: =+A41 -> A. 1,7 | M41: =+B41 -> Suministro y aplicación de pintura sellante elongable autonivelante. | N41: =+C41 -> M2 | O41: =+D41 -> 288 | P41: =VLOOKUP(L41,'selección precios unitario'!$A$5:$I$418,9,FALSE) -> 42115 | Q41: =+P41*O41 -> 12129120
A42: A. 1,8 | B42: Suministro y aplicación de mortero 1:3 con aditivo impermeabilizante espesor 4cm incluye media caña en mortero perimetral (superficie con pendiente) | C42: M2 | D42: 288 | E42: 38000 | F42: =+E42*D42 -> 10944000 | G42: 32500 | H42: =+G42*D42 -> 9360000 | I42: =IFERROR(VLOOKUP(A42,'valores unit indexados'!$A$14:$O$197,15,FALSE),0) -> 0 | J42: =+I42*D42 -> 0 | L42: =+A42 -> A. 1,8 | M42: =+B42 -> Suministro y aplicación de mortero 1:3 con aditivo impermeabilizante espesor 4cm incluye media caña en mortero perimetral (superficie con pendiente) | N42: =+C42 -> M2 | O42: =+D42 -> 288 | P42: =VLOOKUP(L42,'selección precios unitario'!$A$5:$I$418,9,FALSE) -> 35250 | Q42: =+P42*O42 -> 10152000
A43: A. 1,9 | B43: Suministro e instalación de membrana liquida en poliuretano, con refuerzo en poliéster, acabado transitable para impermeabilización de losa de terraza, con remates perimetrales en media caña, Incluye cárcamos de desagüe. | C43: M2 | D43: 288 | E43: 320000 | F43: =+E43*D43 -> 92160000 | G43: 128700 | H43: =+G43*D43 -> 37065600 | I43: =IFERROR(VLOOKUP(A43,'valores unit indexados'!$A$14:$O$197,15,FALSE),0) -> 0 | J43: =+I43*D43 -> 0 | L43: =+A43 -> A. 1,9 | M43: =+B43 -> Suministro e instalación de membrana liquida en poliuretano, con refuerzo en poliéster, acabado transitable para impermeabilización de losa de terraza, con remates perimetrales en media caña, Incluye cárcamos de desagüe. | N43: =+C43 -> M2 | O43: =+D43 -> 288 | P43: =VLOOKUP(L43,'selección precios unitario'!$A$5:$I$418,9,FALSE) -> 224350 | Q43: =+P43*O43 -> 64612800
A44: A. 1,10 | B44: Fabricación de borde de escalera en granito lavado (Borde de escalera ancho 10 cm a lo largo de la huella y la contrahuella de 13 cm) incluye dilatación en bronce 5 mm | C44: ML | D44: 410 | E44: 50000 | F44: =+E44*D44 -> 20500000 | G44: 52117 | H44: =+G44*D44 -> 21367970 | I44: =IFERROR(VLOOKUP(A44,'valores unit indexados'!$A$14:$O$197,15,FALSE),0) -> 0 | J44: =+I44*D44 -> 0 | L44: =+A44 -> A. 1,10 | M44: =+B44 -> Fabricación de borde de escalera en granito lavado (Borde de escalera ancho 10 cm a lo largo de la huella y la contrahuella de 13 cm) incluye dilatación en bronce 5 mm | N44: =+C44 -> ML | O44: =+D44 -> 410 | P44: =VLOOKUP(L44,'selección precios unitario'!$A$5:$I$418,9,FALSE) -> 51059 | Q44: =+P44*O44 -> 20934190
A45: A. 1,11 | B45: Suministro e instalación de enchape para piso exterior (tráfico alto, incluye junta de dilatación en aluminio) | C45: M2 | D45: 288 | E45: 140000 | F45: =+E45*D45 -> 40320000 | G45: 116903.6 | H45: =+G45*D45 -> 33668237 | I45: =IFERROR(VLOOKUP(A45,'valores unit indexados'!$A$14:$O$197,15,FALSE),0) -> 0 | J45: =+I45*D45 -> 0 | L45: =+A45 -> A. 1,11 | M45: =+B45 -> Suministro e instalación de enchape para piso exterior (tráfico alto, incluye junta de dilatación en aluminio) | N45: =+C45 -> M2 | O45: =+D45 -> 288 | P45: =VLOOKUP(L45,'selección precios unitario'!$A$5:$I$418,9,FALSE) -> 128452 | Q45: =+P45*O45 -> 36994176
A46: A. 1,12 | B46: Suministro y fabricación guardaescoba en granito en media caña 10 cm | C46: ML | D46: 91 | E46: 35000 | F46: =+E46*D46 -> 3185000 | G46: 18746 | H46: =+G46*D46 -> 1705886 | I46: =IFERROR(VLOOKUP(A46,'valores unit indexados'!$A$14:$O$197,15,FALSE),0) -> 21193 | J46: =+I46*D46 -> 1928563 | L46: =+A46 -> A. 1,12 | M46: =+B46 -> Suministro y fabricación guardaescoba en granito en media caña 10 cm | N46: =+C46 -> ML | O46: =+D46 -> 91 | P46: =VLOOKUP(L46,'selección precios unitario'!$A$5:$I$418,9,FALSE) -> 21193 | Q46: =+P46*O46 -> 1928563
...

Sheet POE
B1: POE
B3: RESUMEN | H3: grupos | I3: No meses | J3: %
B4: EDIFICIO/CONSTRUCCÓN | C4: SI | D4: SIN AIU | G4: Cali | H4: =+O5 -> 458587652 | I4: =+ejecución!C2 -> 3 | J4: =+H4/$H$8 -> 0.35433612 | O4: CON AIU
A5: A | B5: =+B31 -> Palacio de Justicia de Cali "PEDRO ELIAS SERRANO ABADIA | C5: X | D5: =+Q117 -> 364377777 | G5: El Dovio, Obando, San Jose | H5: =+O6+O11+O12 -> 92690320 | I5: =+ejecución!C3 -> 1 | J5: =+H5/$H$8 -> 0.071618868 | O5: =+Q122 -> 458587652
A6: B | B6: =+B124 -> Juzgado Promiscuo Municipal de el Dovio - | C6: X | D6: =+Q136 -> 3789977 | G6: Buenaventura | H6: =+O10+O9 -> 335792733 | I6: =+ejecución!C4 -> 2 | J6: =+H6/$H$8 -> 0.25945639 | O6: =+Q141 -> 4769876
A7: C | B7: =+B143 -> Palacio de Justicia "SIMON DAVID CARREJO BEJARANO" Palmira | C7: X | D7: =+Q204 -> 246446287 | G7: Palmira / Tulua | H7: =+O13+O8+O7 -> 407145783 | I7: =+ejecución!C5 -> 3 | J7: =+H7/$H$8 -> 0.31458862 | O7: =+Q209 -> 310164975
A8: D | B8: =+B211 -> Sede de Familia de Palmira | C8: X | D8: =+Q276 -> 57663736 | G8: total | H8: =SUM(H4:H7) -> 1294216488 | I8: =SUM(I4:I7) -> 9 | J8: =+H8/$H$8 -> 1 | O8: =+Q281 -> 72572695
A9: E | B9: =+B283 -> Palacio Nacional de Buenaventura | C9: X | D9: =+Q341 -> 183863257 | O9: =+Q346 -> 231401103
A10: F | B10: =+B348 -> Edificio de Transferencia de Buenaventura | C10: X | D10: =+Q380 -> 82945954 | O10: =+Q385 -> 104391630
A11: G | B11: =+B387 -> Juzgado Promiscuo Municipal de Obando | C11: X | D11: =+Q417 -> 18128081 | O11: =+Q422 -> 22815097
A12: H | B12: =+B424 -> Juzgado Promiscuo Municipal de San José del Palmar | C12: X | D12: =+Q457 -> 51730441 | O12: =+Q462 -> 65105347
A13: J | B13: =+B464 -> Palacio de Justicia de Tuluá | C13: X | D13: =+Q470 -> 19393836 | O13: =+Q475 -> 24408113
B14: COSTO DIRECTO TOTAL | D14: =SUM(D5:D13) -> 1028339346 | O14: =SUM(O5:O13) -> 1294216488 | V14: =+D14*(1+$V$19) -> 1294216484
B15: =+N478 -> ADMINISTRACION | C15: =+P478 -> 0.185 | D15: =ROUND($D$14*C15,0) -> 190242779 | V15: =IF(D19=V14,"OK","REVISAR") -> OK
B16: =+N479 -> IMPREVISTOS | C16: =+P479 -> 0.02 | D16: =ROUND($D$14*C16,0) -> 20566787
B17: =+N480 -> UTILIDAD | C17: =+P480 -> 0.045 | D17: =ROUND($D$14*C17,0) -> 46275271
B18: =+N481 -> IVA SOBRE UTILIDAD | C18: =+P481 -> 0.19 | D18: =ROUND($D$17*C18,0) -> 8792301
B19: =+N482 -> VALOR TOTAL INCLUIDO AIU E IVA | D19: =SUM(D14:D18) -> 1294216484 | V19: =(D19/D14)-1 -> 0.25855
M20: PRESUPUESTO | O20: 1297000000
M21: DIFERENCIA | O21: =+O20-D19 -> 2783516
B26: Consejo Superior de la Judicatura Dirección Ejecutiva Seccional de Administración Judicial de Cali – Valle del Cauca
A27: FORMATO CONTROL DE EJECUCIÓN DE OBRA - BALANCE Y CORTE DE OBRA
A28: OBJETO DEL CONTRATO: Realizar mantenimiento, adecuaciones y reparaciones a los inmuebles Palacio de Justicia de Cali "PEDRO ELIAS SERRANO ABADIA",Juzgado Promiscuo Municipal de el Dovio, Palacio de Justicia "SIMON DAVID CARREJO BEJARANO", Sede Familia de Palmira, Palacio Nacional de Buenaventura, Edificio Transferencias, Juzgado Promiscuo Municipal de Obando, Juzgado Promiscuo Municipal de San José del Palmar,
A30: Condiciones contractuales
A31: A. | B31: Palacio de Justicia de Cali "PEDRO ELIAS SERRANO ABADIA | E31: =+'estudio inicial precios'!E32:F32 -> COTIZACIÓN 1 - | G31: COTIZACIÓN 2 | I31: OTROS CONTRATOS REALIZADOS POR LA ENTIDAD | L31: A.
A32: ITEM | B32: DESCRIPCION | C32: UND | D32: CANTIDAD | E32: VALOR UNITARIO | F32: VALOR TOTAL | G32: VALOR UNITARIO | H32: VALOR TOTAL | I32: VALOR UNITARIO INDEXADO | J32: VALOR TOTAL | L32: =+A32 -> ITEM | M32: =+B32 -> DESCRIPCION | N32: =+C32 -> UND | O32: =+D32 -> CANTIDAD | P32: VALOR UNITARIO PROMEDIO | Q32: VALOR TOTAL
A33: A. 2 | B33: Actividades para cubierta de la terraza torre A - Fase C | F33: =+E33*D33 -> 0 | H33: =+G33*D33 -> 0 | L33: =+A33 -> A. 2
A34: A. 2,1 | B34: Suministro e instalación de bases en concreto de 20 cm x 20 cm fundidos sobre losa de terraza | C34: UND | D34: 52 | E34: 66000 | F34: =+E34*D34 -> 3432000 | G34: 32500 | H34: =+G34*D34 -> 1690000 | I34: =IFERROR(VLOOKUP(A34,'valores unit indexados'!$A$14:$O$197,15,FALSE),0) -> 64568 | J34: =+I34*D34 -> 3357536 | L34: =+A34 -> A. 2,1 | M34: =+B34 -> Suministro e instalación de bases en concreto de 20 cm x 20 cm fundidos sobre losa de terraza | N34: =+C34 -> UND | O34: =+D34 -> 52 | P34: =+'estudio inicial precios'!P49 -> 65284 | Q34: =+P34*O34 -> 3394768
A35: A. 2,2 | B35: Suministro e instalación de platina 3/8 cuyas medidas oscilan así: 10 cm x 15 cm y 15 cm x 15 cm, incluye materiales complementarios de conexión, acero, corte, soldadura, anclajes, cartelas, tornillos, varilla de 1/2 soldada para anclaje sobre bases de concreto. | C35: UND | D35: 52 | E35: 66000 | F35: =+E35*D35 -> 3432000 | G35: 35581 | H35: =+G35*D35 -> 1850212 | I35: =IFERROR(VLOOKUP(A35,'valores unit indexados'!$A$14:$O$197,15,FALSE),0) -> 64421 | J35: =+I35*D35 -> 3349892 | L35: =+A35 -> A. 2,2 | M35: =+B35 -> Suministro e instalación de platina 3/8 cuyas medidas oscilan así: 10 cm x 15 cm y 15 cm x 15 cm, incluye materiales complementarios de conexión, acero, corte, soldadura, anclajes, cartelas, tornillos, varilla de 1/2 soldada para anclaje sobre bases de concreto. | N35: =+C35 -> UND | O35: =+D35 -> 52 | P35: =+'estudio inicial precios'!P50 -> 65211 | Q35: =+P35*O35 -> 3390972
A36: A. 2,3 | B36: Suministro e instalación de estructura metálica para cubierta en tubería 100 cm x 100 cm calibre 2 mm, incluye pintura 3 en 2 | C36: ML | D36: 97 | E36: 118000 | F36: =+E36*D36 -> 11446000 | G36: 132301 | H36: =+G36*D36 -> 12833197 | I36: =IFERROR(VLOOKUP(A36,'valores unit indexados'!$A$14:$O$197,15,FALSE),0) -> 115095 | J36: =+I36*D36 -> 11164215 | L36: =+A36 -> A. 2,3 | M36: =+B36 -> Suministro e instalación de estructura metálica para cubierta en tubería 100 cm x 100 cm calibre 2 mm, incluye pintura 3 en 2 | N36: =+C36 -> ML | O36: =+D36 -> 97 | P36: =+'estudio inicial precios'!P51 -> 108965 | Q36: =+P36*O36 -> 10569605
A37: A. 2,4 | B37: Suministro e instalación de estructura metálica para cubierta en tubería 100 cm x 50 cm calibre 2 mm, incluye pintura 3 en 1 | C37: ML | D37: 212 | E37: 110000 | F37: =+E37*D37 -> 23320000 | G37: 110500 | H37: =+G37*D37 -> 23426000 | I37: =IFERROR(VLOOKUP(A37,'valores unit indexados'!$A$14:$O$197,15,FALSE),0) -> 106395 | J37: =+I37*D37 -> 22555740 | L37: =+A37 -> A. 2,4 | M37: =+B37 -> Suministro e instalación de estructura metálica para cubierta en tubería 100 cm x 50 cm calibre 2 mm, incluye pintura 3 en 1 | N37: =+C37 -> ML | O37: =+D37 -> 212 | P37: =+'estudio inicial precios'!P52 -> 108965 | Q37: =+P37*O37 -> 23100580
A38: A. 2,5 | B38: Suministro e instalación de estructura metálica para cubierta en tubería 80 cm x 40 cm calibre 2 mm, incluye pintura 3 en 1 | C38: ML | D38: 255 | E38: 100000 | F38: =+E38*D38 -> 25500000 | G38: 104000 | H38: =+G38*D38 -> 26520000 | I38: =IFERROR(VLOOKUP(A38,'valores unit indexados'!$A$14:$O$197,15,FALSE),0) -> 97346 | J38: =+I38*D38 -> 24823230 | L38: =+A38 -> A. 2,5 | M38: =+B38 -> Suministro e instalación de estructura metálica para cubierta en tubería 80 cm x 40 cm calibre 2 mm, incluye pintura 3 en 1 | N38: =+C38 -> ML | O38: =+D38 -> 255 | P38: =+'estudio inicial precios'!P53 -> 100449 | Q38: =+P38*O38 -> 25614495
A39: A. 2,6 | B39: Suministro e instalación de teja upvc 2.5 mm, incluye tornillería para su correcta instalación sobre estructura metálica | C39: M2 | D39: 330 | E39: 80000 | F39: =+E39*D39 -> 26400000 | G39: 65949 | H39: =+G39*D39 -> 21763170 | I39: =IFERROR(VLOOKUP(A39,'valores unit indexados'!$A$14:$O$197,15,FALSE),0) -> 77917 | J39: =+I39*D39 -> 25712610 | L39: =+A39 -> A. 2,6 | M39: =+B39 -> Suministro e instalación de teja upvc 2.5 mm, incluye tornillería para su correcta instalación sobre estructura metálica | N39: =+C39 -> M2 | O39: =+D39 -> 330 | P39: =+'estudio inicial precios'!P54 -> 74622 | Q39: =+P39*O39 -> 24625260
A40: A. 2,7 | B40: Suministro e instalación de caballete para teja upvc 2.5 mm, incluye accesorios para su correcta instalación | C40: ML | D40: 28 | E40: 92000 | F40: =+E40*D40 -> 2576000 | G40: 72813 | H40: =+G40*D40 -> 2038764 | I40: =IFERROR(VLOOKUP(A40,'valores unit indexados'!$A$14:$O$197,15,FALSE),0) -> 89336 | J40: =+I40*D40 -> 2501408 | L40: =+A40 -> A. 2,7 | M40: =+B40 -> Suministro e instalación de caballete para teja upvc 2.5 mm, incluye accesorios para su correcta instalación | N40: =+C40 -> ML | O40: =+D40 -> 28 | P40: =+'estudio inicial precios'!P55 -> 84716 | Q40: =+P40*O40 -> 2372048
A41: A. 2,8 | B41: Suministro e instalación de Canal en lamina galvanizada cal 22, incluye platina para soporte canal | C41: ML | D41: 40 | E41: 94000 | F41: =+E41*D41 -> 3760000 | G41: 113048 | H41: =+G41*D41 -> 4521920 | I41: =IFERROR(VLOOKUP(A41,'valores unit indexados'!$A$14:$O$197,15,FALSE),0) -> 91145 | J41: =+I41*D41 -> 3645800 | L41: =+A41 -> A. 2,8 | M41: =+B41 -> Suministro e instalación de Canal en lamina galvanizada cal 22, incluye platina para soporte canal | N41: =+C41 -> ML | O41: =+D41 -> 40 | P41: =+'estudio inicial precios'!P56 -> 92573 | Q41: =+P41*O41 -> 3702920
A42: A. 2,9 | B42: Corte de muro con pulidora | C42: ML | D42: 40 | E42: 16000 | F42: =+E42*D42 -> 640000 | G42: 16848 | H42: =+G42*D42 -> 673920 | I42: =IFERROR(VLOOKUP(A42,'valores unit indexados'!$A$14:$O$197,15,FALSE),0) -> 13382 | J42: =+I42*D42 -> 535280 | L42: =+A42 -> A. 2,9 | M42: =+B42 -> Corte de muro con pulidora | N42: =+C42 -> ML | O42: =+D42 -> 40 | P42: =+'estudio inicial precios'!P57 -> 15410 | Q42: =+P42*O42 -> 616400
A43: A. 2,10 | B43: Suministro e instalación de Solapa en lamina galvanizada Cal 24, incluye sellador sobre muro | C43: ML | D43: 70 | E43: 46000 | F43: =+E43*D43 -> 3220000 | G43: 57837 | H43: =+G43*D43 -> 4048590 | I43: =IFERROR(VLOOKUP(A43,'valores unit indexados'!$A$14:$O$197,15,FALSE),0) -> 0 | J43: =+I43*D43 -> 0 | L43: =+A43 -> A. 2,10 | M43: =+B43 -> Suministro e instalación de Solapa en lamina galvanizada Cal 24, incluye sellador sobre muro | N43: =+C43 -> ML | O43: =+D43 -> 70 | P43: =+'estudio inicial precios'!P58 -> 51919 | Q43: =+P43*O43 -> 3634330
A44: A. 2,11 | B44: Suministro e instalación de soscos para canal en 3" | C44: UND | D44: 10 | E44: 27000 | F44: =+E44*D44 -> 270000 | G44: 6667.1 | H44: =+G44*D44 -> 66671 | I44: =IFERROR(VLOOKUP(A44,'valores unit indexados'!$A$14:$O$197,15,FALSE),0) -> 26036 | J44: =+I44*D44 -> 260360 | L44: =+A44 -> A. 2,11 | M44: =+B44 -> Suministro e instalación de soscos para canal en 3" | N44: =+C44 -> UND | O44: =+D44 -> 10 | P44: =+'estudio inicial precios'!P59 -> 26518 | Q44: =+P44*O44 -> 265180
A45: A. 2,12 | B45: Suministro e instalación tubería sanitaria de 4 " incluye accesorios. | C45: ML | D45: 80 | E45: 48000 | F45: =+E45*D45 -> 3840000 | G45: 36283 | H45: =+G45*D45 -> 2902640 | I45: =IFERROR(VLOOKUP(A45,'valores unit indexados'!$A$14:$O$197,15,FALSE),0) -> 75401 | J45: =+I45*D45 -> 6032080 | L45: =+A45 -> A. 2,12 | M45: =+B45 -> Suministro e instalación tubería sanitaria de 4 " incluye accesorios. | N45: =+C45 -> ML | O45: =+D45 -> 80 | P45: =+'estudio inicial precios'!P60 -> 42142 | Q45: =+P45*O45 -> 3371360
... A47: A. 2,14 | B47: Suministro e instalación pasarela o plataforma metálica en rejilla de acero con 2 pasos en cada extremo cuyas medidas son 80 cm ancho, 160cm de largo y 40 cm de latura, incluye pasamanos | C47: UND | D47: 1 | E47: 1200000 | F47: =+E47*D47 -> 1200000 | G47: 550000 | H47: =+G47*D47 -> 550000 | I47: =IFERROR(VLOOKUP(A47,'valores unit indexados'!$A$14:$O$197,15,FALSE),0) -> 0 | J47: =+I47*D47 -> 0 | L47: =+A47 -> A. 2,14 | M47: =+B47 -> Suministro e instalación pasarela o plataforma metálica en rejilla de acero con 2 pasos en cada extremo cuyas medidas son 80 cm ancho, 160cm de largo y 40 cm de latura, incluye pasamanos | N47: =+C47 -> UND | O47: =+D47 -> 1 | P47: =+'estudio inicial precios'!P62 -> 875000 | Q47: =+P47*O47 -> 875000
...

Sheet ACTIVIDADES DE OBRA A EJECUTAR
B1: POE
B3: RESUMEN
B4: EDIFICIO/CONSTRUCCÓN | C4: SI
A5: A | B5: =+B31 -> Palacio de Justicia de Cali "PEDRO ELIAS SERRANO ABADIA | C5: X
A6: B | B6: =+B118 -> Juzgado Promiscuo Municipal de el Dovio | C6: X
A7: C | B7: =+B131 -> Palacio de Justicia "SIMON DAVID CARREJO BEJARANO" Palmira | C7: X
A8: D | B8: =+B193 -> Sede de Familia de Palmira | C8: X
A9: E | B9: =+B259 -> Palacio Nacional de Buenaventura | C9: X
A10: F | B10: =+B318 -> Edificio de Transferencia de Buenaventura | C10: X
A11: G | B11: =+B351 -> Juzgado Promiscuo Municipal de Obando | C11: X
A12: H | B12: =+B382 -> Juzgado Promiscuo Municipal de San José del Palmar | C12: X
A13: J | B13: =+B416 -> Palacio de Justicia de Tuluá | C13: X
B14: COSTO DIRECTO TOTAL | G14: =+#REF!*(1+$G$19) -> #REF!
B15: =+#REF! -> #REF! | C15: =+#REF! -> #REF! | G15: =IF(#REF!=G14,"OK","REVISAR") -> #REF!
B16: =+#REF! -> #REF! | C16: =+#REF! -> #REF!
B17: =+#REF! -> #REF! | C17: =+#REF! -> #REF!
B18: =+#REF! -> #REF! | C18: =+#REF! -> #REF!
B19: =+#REF! -> #REF! | G19: =(#REF!/#REF!)-1 -> #REF!
D20: 1297000000
D21: #REF!
B26: Consejo Superior de la Judicatura Dirección Ejecutiva Seccional de Administración Judicial de Cali – Valle del Cauca
A27: FORMATO CONTROL DE EJECUCIÓN DE OBRA - BALANCE Y CORTE DE OBRA
A28: OBJETO DEL CONTRATO: Realizar mantenimiento, adecuaciones y reparaciones a los inmuebles Palacio de Justicia de Cali "PEDRO ELIAS SERRANO ABADIA",Juzgado Promiscuo Municipal de el Dovio, Palacio de Justicia "SIMON DAVID CARREJO BEJARANO", Sede Familia de Palmira, Palacio Nacional de Buenaventura, Edificio Transferencias, Juzgado Promiscuo Municipal de Obando, Juzgado Promiscuo Municipal de San José del Palmar,
A30: Condiciones contractuales
A31: A. | B31: Palacio de Justicia de Cali "PEDRO ELIAS SERRANO ABADIA
A32: ITEM | B32: DESCRIPCION | C32: UND | D32: CANTIDAD
A33: A. 2 | B33: Actividades para cubierta de la terraza torre A - Fase C
A34: A. 2,1 | B34: Suministro e instalación de bases en concreto de 20 cm x 20 cm fundidos sobre losa de terraza | C34: UND | D34: 52
A35: A. 2,2 | B35: Suministro e instalación de platina 3/8 cuyas medidas oscilan así: 10 cm x 15 cm y 15 cm x 15 cm, incluye materiales complementarios de conexión, acero, corte, soldadura, anclajes, cartelas, tornillos, varilla de 1/2 soldada para anclaje sobre bases de concreto. | C35: UND | D35: 52
A36: A. 2,3 | B36: Suministro e instalación de estructura metálica para cubierta en tubería 100 cm x 100 cm calibre 2 mm, incluye pintura 3 en 2 | C36: ML | D36: 97
A37: A. 2,4 | B37: Suministro e instalación de estructura metálica para cubierta en tubería 100 cm x 50 cm calibre 2 mm, incluye pintura 3 en 1 | C37: ML | D37: 212
A38: A. 2,5 | B38: Suministro e instalación de estructura metálica para cubierta en tubería 80 cm x 40 cm calibre 2 mm, incluye pintura 3 en 1 | C38: ML | D38: 255
A39: A. 2,6 | B39: Suministro e instalación de teja upvc 2.5 mm, incluye tornillería para su correcta instalación sobre estructura metálica | C39: M2 | D39: 330
A40: A. 2,7 | B40: Suministro e instalación de caballete para teja upvc 2.5 mm, incluye accesorios para su correcta instalación | C40: ML | D40: 28
A41: A. 2,8 | B41: Suministro e instalación de Canal en lamina galvanizada cal 22, incluye platina para soporte canal | C41: ML | D41: 40
A42: A. 2,9 | B42: Corte de muro con pulidora | C42: ML | D42: 40
A43: A. 2,10 | B43: Suministro e instalación de Solapa en lamina galvanizada Cal 24, incluye sellador sobre muro | C43: ML | D43: 70
A44: A. 2,11 | B44: Suministro e instalación de soscos para canal en 3" | C44: UND | D44: 10
A45: A. 2,12 | B45: Suministro e instalación tubería sanitaria de 4 " incluye accesorios. | C45: ML | D45: 80
... A47: A. 2,14 | B47: Suministro e instalación pasarela o plataforma metálica en rejilla de acero con 2 pasos en cada extremo cuyas medidas son 80 cm ancho, 160cm de largo y 40 cm de latura, incluye pasamanos | C47: UND | D47: 1
...

Sheet selección precios unitario
A1: ANALISIS Y SELECCIÓN DE PRECIOS UNITARIOS
E3: =+'estudio inicial precios'!E32 -> COTIZACIÓN 1 - | F3: =+'estudio inicial precios'!G32 -> COTIZACIÓN 2 - | G3: =+'estudio inicial precios'!I32 -> OTROS CONTRATOS REALIZADOS POR LA ENTIDAD | I3: VALOR UNITARIO PROMEDIO
A4: ITEM | B4: DESCRIPCION | C4: UND | D4: CANTIDAD | E4: VALOR UNITARIO | F4: VALOR UNITARIO | G4: VALOR UNITARIO INDEXADO
A5: A. 5,22 | B5: Apertura de vano en muro de panel yeso, incluye retiro de material | C5: M2 | D5: 5 | E5: 55000 | F5: 9000 | G5: =IFERROR(VLOOKUP(A5,'valores unit indexados'!$A$14:$O$197,15,FALSE),0) -> 18551 | I5: =+G5 -> 18551
A6: D. 3,13 | B6: Apertura de vano en muro de panel yeso, incluye retiro de material | C6: M2 | D6: 4 | E6: 55000 | F6: 8000 | G6: =+G5 -> 18551 | I6: =+I5 -> 18551
A7: A. 9,4 | B7: Aseo general. | C7: M2 | D7: 41 | E7: 7000 | F7: 4200 | G7: =IFERROR(VLOOKUP(A7,'valores unit indexados'!$A$14:$O$197,15,FALSE),0) -> 5300 | I7: =+AVERAGE(E7:G7) -> 5500
A8: B. 1,10 | B8: Aseo general. | C8: M2 | D8: 21 | E8: 10000 | F8: 4200 | G8: =IFERROR(VLOOKUP(A8,'valores unit indexados'!$A$14:$O$197,15,FALSE),0) -> 5300 | I8: =+I7 -> 5500
A9: C. 7,6 | B9: Aseo general. | C9: M2 | D9: 1148 | E9: 7000 | F9: 4200 | G9: =IFERROR(VLOOKUP(A9,'valores unit indexados'!$A$14:$O$197,15,FALSE),0) -> 5300 | I9: =+I8 -> 5500
A10: D. 6,2 | B10: Aseo general. | C10: M2 | D10: 380 | E10: 7000 | F10: 4200 | G10: =IFERROR(VLOOKUP(A10,'valores unit indexados'!$A$14:$O$197,15,FALSE),0) -> 5300 | I10: =+I9 -> 5500
A11: E. 5,2 | B11: Aseo general. | C11: M2 | D11: 816 | E11: 7000 | F11: 4200 | G11: =IFERROR(VLOOKUP(A11,'valores unit indexados'!$A$14:$O$197,15,FALSE),0) -> 5300 | I11: =+I10 -> 5500
A12: F. 4,5 | B12: Aseo general. | C12: M2 | D12: 570 | E12: 7000 | F12: 4200 | G12: =IFERROR(VLOOKUP(A12,'valores unit indexados'!$A$14:$O$197,15,FALSE),0) -> 5300 | I12: =+I11 -> 5500
A13: G. 4,2 | B13: Aseo general. | C13: M2 | D13: 30 | E13: 70000 | F13: 4200 | G13: =IFERROR(VLOOKUP(A13,'valores unit indexados'!$A$14:$O$197,15,FALSE),0) -> 5300 | I13: =+I12 -> 5500
A14: H. 3,9 | B14: Aseo general. | C14: M2 | D14: 165 | E14: 7000 | F14: 4200 | G14: =IFERROR(VLOOKUP(A14,'valores unit indexados'!$A$14:$O$197,15,FALSE),0) -> 5300 | I14: =+I13 -> 5500
A15: I. 4,8 | B15: Aseo general. | C15: M2 | D15: 390 | E15: 7000 | F15: 4200 | G15: =IFERROR(VLOOKUP(A15,'valores unit indexados'!$A$14:$O$197,15,FALSE),0) -> 5300 | I15: =+I14 -> 5500
A16: J. 1,4 | B16: Aseo general. | C16: M2 | D16: 156 | E16: 7000 | F16: 4200 | G16: =IFERROR(VLOOKUP(A16,'valores unit indexados'!$A$14:$O$197,15,FALSE),0) -> 5300 | I16: =+I15 -> 5500
A17: A. 1,1 | B17: Cerramiento en tela verde o polisombra (incluye postes de madera para soporte) altura: 2.10 mts. | C17: ML | D17: 36 | E17: 40000 | F17: 27131 | G17: =IFERROR(VLOOKUP(A17,'valores unit indexados'!$A$14:$O$197,15,FALSE),0) -> 0 | I17: =+F17 -> 27131
A18: =+'ACTIVIDADES DE OBRA A EJECUTAR'!A129 -> B. 1,11 | B18: =+B17 -> Cerramiento en tela verde o polisombra (incluye postes de madera para soporte) altura: 2.10 mts. | C18: =+C17 -> ML | D18: =+'estudio inicial precios'!O150 -> 24 | E18: =+E17 -> 40000 | F18: =+F17 -> 27131 | G18: =+G17 -> 0 | I18: =+I17 -> 27131
A19: A. 6,5 | B19: Corte de concreto con pulidora y/o cortadora | C19: ML | D19: 3 | E19: 30000 | F19: 16117.178 | G19: =IFERROR(VLOOKUP(A19,'valores unit indexados'!$A$14:$O$197,15,FALSE),0) -> 13382 | I19: =+I20 -> 14833
A20: A. 7,1 | B20: Corte de concreto con pulidora y/o cortadora | C20: ML | D20: 220 | E20: 15000 | F20: 16117.178 | G20: =IFERROR(VLOOKUP(A20,'valores unit indexados'!$A$14:$O$197,15,FALSE),0) -> 13382 | I20: =ROUND(AVERAGE(E20:G20),0) -> 14833
A21: E. 4,16 | B21: Corte de losa en concreto con pulidora incluye retiro | C21: ML | D21: 1 | E21: 60000 | F21: 16115 | G21: =IFERROR(VLOOKUP(A21,'valores unit indexados'!$A$14:$O$197,15,FALSE),0) -> 0 | I21: =+F21 -> 16115
A22: A. 2,9 | B22: Corte de muro con pulidora | C22: ML | D22: 40 | E22: 16000 | F22: 16848 | G22: =IFERROR(VLOOKUP(A22,'valores unit indexados'!$A$14:$O$197,15,FALSE),0) -> 13382 | I22: =AVERAGE(E22:G22) -> 15410
A23: D. 4,4 | B23: Corte de muro con pulidora | C23: ML | D23: 10 | E23: 16000 | F23: 16848 | G23: =IFERROR(VLOOKUP(A23,'valores unit indexados'!$A$14:$O$197,15,FALSE),0) -> 13382 | I23: =AVERAGE(E23:G23) -> 15410
A24: G. 3,3 | B24: Corte de muro con pulidora | C24: ML | D24: 23 | E24: 16000 | F24: 16848 | G24: =IFERROR(VLOOKUP(A24,'valores unit indexados'!$A$14:$O$197,15,FALSE),0) -> 13382 | I24: =AVERAGE(E24:G24) -> 15410
A25: E. 4,5 | B25: Corte de muro en concreto con pulidora | C25: ML | D25: 16 | E25: 16000 | F25: 23000 | G25: =IFERROR(VLOOKUP(A25,'valores unit indexados'!$A$14:$O$197,15,FALSE),0) -> 13382 | I25: =ROUND(AVERAGE(E25:G25),0) -> 17461
A26: A. 1,3 | B26: Demolición de piso existente (enchape tráfico alto), incluye retiro de escombros | C26: M2 | D26: 288 | E26: 30000 | F26: 8450 | G26: =IFERROR(VLOOKUP(A26,'valores unit indexados'!$A$14:$O$197,15,FALSE),0) -> 0 | I26: =AVERAGE(E26:F26) -> 19225
A27: D. 2,2 | B27: Demolición mortero existente (incluye retiro de escombros) | C27: M2 | D27: 14 | E27: 27000 | F27: 5200 | G27: =IFERROR(VLOOKUP(A27,'valores unit indexados'!$A$14:$O$197,15,FALSE),0) -> 0 | I27: =+I28 -> 10612
A28: A. 1,6 | B28: Demolición mortero existente (incluye retiro de escombros) | C28: M2 | D28: 288 | E28: 27000 | F28: 4400 | G28: =IFERROR(VLOOKUP(A28,'valores unit indexados'!$A$14:$O$197,15,FALSE),0) -> 10612 | I28: =ROUND(IF(G28>0,G28:G28,AVERAGE(F28,E28)),0) -> 10612
A29: E. 5,10 | B29: Demolición mortero existente (incluye retiro de escombros) | C29: M2 | D29: 97 | E29: 27000 | F29: 5200 | G29: =+G28 -> 10612 | I29: =+I28 -> 10612
A30: A. 6,1 | B30: Demolición muro existente incluye retiro | C30: M3 | D30: 3 | E30: 180000 | F30: 274603.33 | G30: =IFERROR(VLOOKUP(A30,'valores unit indexados'!$A$14:$O$197,15,FALSE),0) -> 0 | I30: =+E30 -> 180000
A31: E. 4,12 | B31: Demolición muro existente incluye retiro | C31: M3 | D31: 2 | E31: 120000 | F31: 274603.33 | G31: =IFERROR(VLOOKUP(A31,'valores unit indexados'!$A$14:$O$197,15,FALSE),0) -> 0 | I31: =+I30 -> 180000
A32: E. 5,5 | B32: Demolición piso en granito existente, incluye retiro | C32: M2 | D32: 110 | E32: 30000 | F32: 15067 | G32: =IFERROR(VLOOKUP(A32,'valores unit indexados'!$A$14:$O$197,15,FALSE),0) -> 0 | I32: =ROUND(AVERAGE(E32:F32),0) -> 22534
A33: I. 3,3 | B33: Demolición y limpieza de revestimiento (Boñiga o repello) en área afectada del Cielo falso, resguardando la integridad de la construcción. | C33: M2 | D33: 3 | E33: 20000 | F33: 18700 | G33: =IFERROR(VLOOKUP(A33,'valores unit indexados'!$A$14:$O$197,15,FALSE),0) -> 17183 | I33: =ROUND(AVERAGE(E33:G33),0) -> 18628
A34: G. 3,1 | B34: Desmonte de cubierta en teja plástica | C34: M2 | D34: 30 | E34: 9000 | F34: 7000 | G34: =IFERROR(VLOOKUP(A34,'valores unit indexados'!$A$14:$O$197,15,FALSE),0) -> 9646 | I34: =ROUND(AVERAGE(E34:G34),0) -> 8549
A35: I. 4,3 | B35: Desmonte de desagüe de orinal existente | D35: 2 | E35: 30000 | F35: 41800 | G35: =IFERROR(VLOOKUP(A35,'valores unit indexados'!$A$14:$O$197,15,FALSE),0) -> 0 | I35: =ROUND(AVERAGE(E35:F35),0) -> 35900
A36: A. 8,2 | B36: Desmonte de estructura metálica en mal estado | C36: ML | D36: 97 | E36: 20000 | F36: 5500 | G36: =IFERROR(VLOOKUP(A36,'valores unit indexados'!$A$14:$O$197,15,FALSE),0) -> 0 | I36: =+F36 -> 5500
A37: A. 8,1 | B37: Desmonte de láminas metálicas en mal estado | C37: ML | D37: 170 | E37: 45000 | F37: 5512 | G37: =IFERROR(VLOOKUP(A37,'valores unit indexados'!$A$14:$O$197,15,FALSE),0) -> 0 | I37: =+F37 -> 5512
A38: E. 5,6 | B38: Desmonte de listones de madera de banca existente medida 145 cm x 9 cm | C38: UND | D38: 36 | E38: 8000 | F38: 13967.2 | G38: =IFERROR(VLOOKUP(A38,'valores unit indexados'!$A$14:$O$197,15,FALSE),0) -> 0 | I38: =ROUND(AVERAGE(E38:F38),0) -> 10984
A39: D. 1,3 | B39: Desmonte de placa en fibrocemento (superboard) | C39: M2 | D39: 7 | E39: 20000 | F39: 6656 | G39: =IFERROR(VLOOKUP(A39,'valores unit indexados'!$A$14:$O$197,15,FALSE),0) -> 0 | I39: =+I40 -> 8250
A40: D. 1,4 | B40: Desmonte de placa en fibrocemento (superboard) | C40: ML | D40: 91 | E40: 12000 | F40: 4500 | G40: =IFERROR(VLOOKUP(A40,'valores unit indexados'!$A$14:$O$197,15,FALSE),0) -> 0 | I40: =ROUND(AVERAGE(E40:F40),0) -> 8250
A41: H. 3,13 | B41: Desmonte de puerta metálica existente 100 cm x 200 cm | C41: UND | D41: 1 | E41: 80000 | F41: 47398 | G41: =IFERROR(VLOOKUP(A41,'valores unit indexados'!$A$14:$O$197,15,FALSE),0) -> 0 | I41: =+I42 -> 62500
...

Sheet selección quemada
E1: COTIZACIÓN 1 - KCV | F1: MNTY | G1: OTROS CONTRATOS REALIZADOS POR LA ENTIDAD | I1: VALOR UNITARIO REDONDEADO ASUMIDO
A2: ITEM | B2: DESCRIPCION | C2: UND | D2: CANTIDAD | E2: VALOR UNITARIO | F2: VALOR UNITARIO | G2: VALOR UNITARIO INDEXADO
A3: A. 1,1 | B3: Cerramiento en tela verde o polisombra (incluye postes de madera para soporte) altura: 2.10 mts. | C3: ML | D3: 36 | E3: 40000 | F3: 27131 | G3: 0 | I3: =VLOOKUP(A3,'selección precios unitario'!$A$5:$I$418,9,FALSE) -> 27131
A4: A. 1,10 | B4: Fabricación de borde de escalera en granito lavado (Borde de escalera ancho 10 cm a lo largo de la huella y la contrahuella de 13 cm) incluye dilatación en bronce 5 mm | C4: ML | D4: 410 | E4: 50000 | F4: 52117 | G4: 0 | I4: =VLOOKUP(A4,'selección precios unitario'!$A$5:$I$418,9,FALSE) -> 51059
A5: A. 1,11 | B5: Suministro e instalación de enchape para piso exterior (tráfico alto, incluye junta de dilatación en aluminio) | C5: M2 | D5: 288 | E5: 140000 | F5: 116903.6 | G5: 0 | I5: =VLOOKUP(A5,'selección precios unitario'!$A$5:$I$418,9,FALSE) -> 128452
A6: A. 1,12 | B6: Suministro y fabricación guardaescoba en granito en media caña 10 cm | C6: ML | D6: 91 | E6: 35000 | F6: 18746 | G6: 21193 | I6: =VLOOKUP(A6,'selección precios unitario'!$A$5:$I$418,9,FALSE) -> 21193
A7: A. 1,13 | B7: Suministro y fabricación de cenefa piso en granito lavado ancho 20 cm | C7: ML | D7: 60 | E7: 40000 | F7: 17173 | G7: 0 | I7: =VLOOKUP(A7,'selección precios unitario'!$A$5:$I$418,9,FALSE) -> 28587
A8: A. 1,2 | B8: Desmonte y reinstalación de pasamanos metálico cuyas medidas son 130 cm de largo x 90 cm de alto | C8: UND | D8: 4 | E8: 120000 | F8: 165000 | G8: 0 | I8: =VLOOKUP(A8,'selección precios unitario'!$A$5:$I$418,9,FALSE) -> 142500
A9: A. 1,3 | B9: Demolición de piso existente (enchape tráfico alto), incluye retiro de escombros | C9: M2 | D9: 288 | E9: 30000 | F9: 8450 | G9: 0 | I9: =VLOOKUP(A9,'selección precios unitario'!$A$5:$I$418,9,FALSE) -> 19225
A10: A. 1,4 | B10: Retiro de manto existente, incluye retiro de escombros | C10: M2 | D10: 288 | E10: 20000 | F10: 19500 | G10: 14660 | I10: =VLOOKUP(A10,'selección precios unitario'!$A$5:$I$418,9,FALSE) -> 18053
A11: A. 1,5 | B11: Lavada y destronque a máquina (para retirar material existente y preparación de superficie) | C11: M2 | D11: 288 | E11: 35000 | F11: 3731 | G11: 29150 | I11: =VLOOKUP(A11,'selección precios unitario'!$A$5:$I$418,9,FALSE) -> 32075
A12: A. 1,6 | B12: Demolición mortero existente (incluye retiro de escombros) | C12: M2 | D12: 288 | E12: 27000 | F12: 4400 | G12: 10612 | I12: =VLOOKUP(A12,'selección precios unitario'!$A$5:$I$418,9,FALSE) -> 10612
A13: A. 1,7 | B13: Suministro y aplicación de pintura sellante elongable autonivelante. | C13: M2 | D13: 288 | E13: 75000 | F13: 9230 | G13: 0 | I13: =VLOOKUP(A13,'selección precios unitario'!$A$5:$I$418,9,FALSE) -> 42115
A14: A. 1,8 | B14: Suministro y aplicación de mortero 1:3 con aditivo impermeabilizante espesor 4cm incluye media caña en mortero perimetral (superficie con pendiente) | C14: M2 | D14: 288 | E14: 38000 | F14: 32500 | G14: 0 | I14: =VLOOKUP(A14,'selección precios unitario'!$A$5:$I$418,9,FALSE) -> 35250
... A320: F. 4,7 | B320: Suministro e instalación de sifón de 3" | C320: UND | D320: 6 | E320: 98000 | F320: 15000 | G320: 0 | I320: =VLOOKUP(A320,'selección precios unitario'!$A$5:$I$418,9,FALSE) -> 56500
A321: G. 1,1 | B321: suministro e instalación de protector sobre fachada en poli sombra, incluye accesorios y elementos para su fijación. | C321: M2 | D321: 33 | E321: 12500 | F321: 0 | I321: =VLOOKUP(A321,'selección precios unitario'!$A$5:$I$418,9,FALSE) -> 12500
