Workbook

Sheet consolidado (2)
B1: Nombre del Proceso/Subproceso: Atención y Trámite/Defensoría Pública | X1: Código: SD-P02-F150
B2: Manual, Instructivo o Formato: Estadística Programa Sistema Penal Acusatorio (Ley 906 de 2004) | X2: Versión: 01
X3: Vigente desde: 03/12/2018
A4: REGIONAL: VALLE DEL CAUCA | F4: MES: ABRIL | I4: AÑO: 2024
A5: DELITOS | B5: SOLICITUDES DEL SERVICIO REALIZADAS EN EL MES | C5: PROCESOS DEL MES | G5: AUDIENCIAS PRELIMINARES DEL MES | N5: AUDIENCIA LIBERTAD POR VENCIMIENTO DE TERMINOS | O5: NEGOCIACIO-NES ACUERDOS Y PREACUER-DOS | P5: JUICIO | S5: INDIVIDUA-LIZACIÓN DE LA PENA | T5: TERMINACIONES DEL MES | Z5: AUDIENCIA DE INCIDENTE DE REPARACIÓN INTEGRAL | AA5: RECURSOS DEL MES | AD5: PROCESOS MES ANTERIOR
C6: ASIGNADOS | E6: EN TRÁMITE | F6: TERMINADOS | G6: CONTROL DE LA CAPTURA | I6: IMPUTACIÓN | K6: IMPOSICIÓN MEDIDA DE ASEGURAMIENTO | P6: AUDIENCIA DE FORMULA-CIÓN DE LA ACUSACIÓN | Q6: PREPARATORIA | R6: JUICIO ORAL | T6: CONCILIA-CIÓN | U6: PRECLU-SIÓN | V6: REVOCA-TORIA DE PODER | W6: OTRAS CAUSAS | X6: AUDIENCIAS DE FALLO | AA6: DE REPOSICIÓN | AB6: DE APELACIÓN
C7: CAPTURADOS | D7: EN LIBERTAD | G7: LEGAL | H7: ILEGAL | I7: FORMU-LACIÓN | J7: ACEPTA-CIÓN | K7: SI | M7: NO | X7: ABSOLUTORIAS | Y7: CONDENATORIAS
K8: PRIVATIVA | L8: NO PRIVATIVA
A9: 1 | B9: 2 | C9: 2 | D9: 2 | E9: 2 | F9: 2 | G9: 2 | H9: 2 | I9: 2 | J9: 2 | K9: 2 | L9: 2 | M9: 2 | N9: 2 | O9: 2 | P9: 2 | Q9: 2 | R9: 2 | S9: 2 | T9: 2 | U9: 2 | V9: 2 | W9: 2 | X9: 2 | Y9: 2 | Z9: 2 | AA9: 2 | AB9: 2 | AD9: 29
A10: ABORTO | B10: =SUM(INICIO:final!B10) -> 0 | C10: =SUM(INICIO:final!C10) -> 0 | D10: =SUM(INICIO:final!D10) -> 0 | E10: =SUM(INICIO:final!E10) -> 0 | F10: =SUM(INICIO:final!F10) -> 0 | G10: =SUM(INICIO:final!G10) -> 0 | H10: =SUM(INICIO:final!H10) -> 0 | I10: =SUM(INICIO:final!I10) -> 0 | ... AB10: =SUM(INICIO:final!AB10) -> 0 | AD10: =SUM(INICIO:final!AD10) -> 0
A11: ABUSO DE CONFIANZA | B11: =SUM(INICIO:final!B11) -> 0 | C11: =SUM(INICIO:final!C11) -> 0 | D11: =SUM(INICIO:final!D11) -> 0 | E11: =SUM(INICIO:final!E11) -> 4 | F11: =SUM(INICIO:final!F11) -> 0 | G11: =SUM(INICIO:final!G11) -> 0 | H11: =SUM(INICIO:final!H11) -> 0 | I11: =SUM(INICIO:final!I11) -> 0 | ... AB11: =SUM(INICIO:final!AB11) -> 0 | AD11: =SUM(INICIO:final!AD11) -> 4
A12: ACCESO CARNAL ABUSIVO CON MENOR DE 14 AÑOS | B12: =SUM(INICIO:final!B12) -> 1 | C12: =SUM(INICIO:final!C12) -> 1 | D12: =SUM(INICIO:final!D12) -> 0 | E12: =SUM(INICIO:final!E12) -> 14 | F12: =SUM(INICIO:final!F12) -> 1 | G12: =SUM(INICIO:final!G12) -> 1 | H12: =SUM(INICIO:final!H12) -> 0 | I12: =SUM(INICIO:final!I12) -> 1 | ... AB12: =SUM(INICIO:final!AB12) -> 0 | AD12: =SUM(INICIO:final!AD12) -> 14
A13: ACCESO CARNAL CON INCAPAZ DE RESISTIR | B13: =SUM(INICIO:final!B13) -> 0 | C13: =SUM(INICIO:final!C13) -> 0 | D13: =SUM(INICIO:final!D13) -> 0 | E13: =SUM(INICIO:final!E13) -> 2 | F13: =SUM(INICIO:final!F13) -> 0 | G13: =SUM(INICIO:final!G13) -> 0 | H13: =SUM(INICIO:final!H13) -> 0 | I13: =SUM(INICIO:final!I13) -> 0 | ... AB13: =SUM(INICIO:final!AB13) -> 0 | AD13: =SUM(INICIO:final!AD13) -> 2
A14: ACCESO CARNAL O ACTO SEXUAL CON PERSONA PUESTA EN INCAPACIDAD DE RESISTIR | B14: =SUM(INICIO:final!B14) -> 0 | C14: =SUM(INICIO:final!C14) -> 0 | D14: =SUM(INICIO:final!D14) -> 0 | E14: =SUM(INICIO:final!E14) -> 0 | F14: =SUM(INICIO:final!F14) -> 0 | G14: =SUM(INICIO:final!G14) -> 0 | H14: =SUM(INICIO:final!H14) -> 0 | I14: =SUM(INICIO:final!I14) -> 0 | ... AB14: =SUM(INICIO:final!AB14) -> 0 | AD14: =SUM(INICIO:final!AD14) -> 0
A15: ACCESO CARNAL VIOLENTO | B15: =SUM(INICIO:final!B15) -> 0 | C15: =SUM(INICIO:final!C15) -> 0 | D15: =SUM(INICIO:final!D15) -> 0 | E15: =SUM(INICIO:final!E15) -> 6 | F15: =SUM(INICIO:final!F15) -> 0 | G15: =SUM(INICIO:final!G15) -> 0 | H15: =SUM(INICIO:final!H15) -> 0 | I15: =SUM(INICIO:final!I15) -> 0 | ... AB15: =SUM(INICIO:final!AB15) -> 0 | AD15: =SUM(INICIO:final!AD15) -> 6
A16: ACTO SEXUAL CON MENOR DE 14 AÑOS | B16: =SUM(INICIO:final!B16) -> 0 | C16: =SUM(INICIO:final!C16) -> 0 | D16: =SUM(INICIO:final!D16) -> 0 | E16: =SUM(INICIO:final!E16) -> 35 | F16: =SUM(INICIO:final!F16) -> 1 | G16: =SUM(INICIO:final!G16) -> 0 | H16: =SUM(INICIO:final!H16) -> 0 | I16: =SUM(INICIO:final!I16) -> 0 | ... AB16: =SUM(INICIO:final!AB16) -> 0 | AD16: =SUM(INICIO:final!AD16) -> 36
A17: ACTO SEXUAL VIOLENTO | B17: =SUM(INICIO:final!B17) -> 0 | C17: =SUM(INICIO:final!C17) -> 0 | D17: =SUM(INICIO:final!D17) -> 0 | E17: =SUM(INICIO:final!E17) -> 3 | F17: =SUM(INICIO:final!F17) -> 0 | G17: =SUM(INICIO:final!G17) -> 0 | H17: =SUM(INICIO:final!H17) -> 0 | I17: =SUM(INICIO:final!I17) -> 0 | ... AB17: =SUM(INICIO:final!AB17) -> 0 | AD17: =SUM(INICIO:final!AD17) -> 3
A18: AMENAZAS | B18: =SUM(INICIO:final!B18) -> 0 | C18: =SUM(INICIO:final!C18) -> 0 | D18: =SUM(INICIO:final!D18) -> 0 | E18: =SUM(INICIO:final!E18) -> 1 | F18: =SUM(INICIO:final!F18) -> 2 | G18: =SUM(INICIO:final!G18) -> 0 | H18: =SUM(INICIO:final!H18) -> 0 | I18: =SUM(INICIO:final!I18) -> 0 | ... AB18: =SUM(INICIO:final!AB18) -> 0 | AD18: =SUM(INICIO:final!AD18) -> 3
A19: CALUMNIA | B19: =SUM(INICIO:final!B19) -> 0 | C19: =SUM(INICIO:final!C19) -> 0 | D19: =SUM(INICIO:final!D19) -> 0 | E19: =SUM(INICIO:final!E19) -> 0 | F19: =SUM(INICIO:final!F19) -> 0 | G19: =SUM(INICIO:final!G19) -> 0 | H19: =SUM(INICIO:final!H19) -> 0 | I19: =SUM(INICIO:final!I19) -> 0 | ... AB19: =SUM(INICIO:final!AB19) -> 0 | AD19: =SUM(INICIO:final!AD19) -> 0
A20: COHECHO | B20: =SUM(INICIO:final!B20) -> 0 | C20: =SUM(INICIO:final!C20) -> 0 | D20: =SUM(INICIO:final!D20) -> 0 | E20: =SUM(INICIO:final!E20) -> 2 | F20: =SUM(INICIO:final!F20) -> 0 | G20: =SUM(INICIO:final!G20) -> 0 | H20: =SUM(INICIO:final!H20) -> 0 | I20: =SUM(INICIO:final!I20) -> 0 | ... AB20: =SUM(INICIO:final!AB20) -> 0 | AD20: =SUM(INICIO:final!AD20) -> 2
A21: CONCIERTO PARA DELINQUIR | B21: =SUM(INICIO:final!B21) -> 0 | C21: =SUM(INICIO:final!C21) -> 0 | D21: =SUM(INICIO:final!D21) -> 0 | E21: =SUM(INICIO:final!E21) -> 2 | F21: =SUM(INICIO:final!F21) -> 0 | G21: =SUM(INICIO:final!G21) -> 0 | H21: =SUM(INICIO:final!H21) -> 0 | I21: =SUM(INICIO:final!I21) -> 0 | ... AB21: =SUM(INICIO:final!AB21) -> 0 | AD21: =SUM(INICIO:final!AD21) -> 2
... A73: VIOLENCIA INTRAFAMILIAR | B73: =SUM(INICIO:final!B73) -> 0 | C73: =SUM(INICIO:final!C73) -> 0 | D73: =SUM(INICIO:final!D73) -> 0 | E73: =SUM(INICIO:final!E73) -> 154 | F73: =SUM(INICIO:final!F73) -> 21 | G73: =SUM(INICIO:final!G73) -> 0 | H73: =SUM(INICIO:final!H73) -> 0 | I73: =SUM(INICIO:final!I73) -> 0 | ... AB73: =SUM(INICIO:final!AB73) -> 0 | AD73: =SUM(INICIO:final!AD73) -> 175
A74: OTROS | B74: =+B195 -> 1 | C74: =+C195 -> 1 | D74: =+D195 -> 0 | E74: =+E195 -> 77 | F74: =+F195 -> 3 | G74: =+G195 -> 1 | H74: =+H195 -> 0 | I74: =+I195 -> 1 | ... AB74: =+AB195 -> 0 | AD74: =+AD195 -> 79
A75: TOTALES | B75: =SUM(B10:B74) -> 13 | C75: =SUM(C10:C74) -> 9 | D75: =SUM(D10:D74) -> 4 | E75: =SUM(E10:E74) -> 719 | F75: =SUM(F10:F74) -> 41 | G75: =SUM(G10:G74) -> 10 | H75: =SUM(H10:H74) -> 0 | I75: =SUM(I10:I74) -> 9 | ... V75: =SUM(V10:V74) -> 0 | W75: =SUM(INICIO:final!W75) -> 38 | X75: =SUM(X10:X74) -> 0 | Y75: =SUM(Y10:Y74) -> 1 | Z75: =SUM(Z10:Z74) -> 0 | AA75: =SUM(AA10:AA74) -> 4 | AB75: =SUM(AB10:AB74) -> 4 | AD75: =SUM(AD10:AD74) -> 747
A77: OTROS DELITOS
A78: DELITOS | B78: SOLICITUDES DEL SERVICIO REALIZADAS EN EL MES | C78: PROCESOS DEL MES | G78: AUDIENCIAS PRELIMINARES DEL MES | N78: AUDIENCIA LIBERTAD POR VENCIMIENTO DE TERMINOS | O78: NEGOCIACIONES ACUERDOS Y PREACUERDOS | P78: JUICIO | S78: INDIVIDUALIZACIÓN DE LA PENA | T78: TERMINACIONES DEL MES | Z78: AUDIENCIA DE INCIDENTE DE REPARACIÓN INTEGRAL | AA78: RECURSOS DEL MES | AD78: PROCESOS MES ANTERIOR
C79: ASIGNADOS | E79: EN TRÁMITE | F79: TERMINADOS | G79: CONTROL DE LA CAPTURA | I79: IMPUTACIÓN | K79: IMPOSICION MEDIDA DE ASEGURAMIENTO | P79: AUDIENCIA DE FORMULACIÓN DE LA ACUSACIÓN | Q79: PREPARATORIA | R79: JUICIO ORAL | T79: CONCILIACIÓN | U79: PRECLUSIÓN | V79: REVOCATORIA DE PODER | W79: OTRAS CAUSAS | X79: AUDIENCIAS DE FALLO | AA79: DE REPOSICIÓN | AB79: DE APELACIÓN
C80: CAPTURADOS | D80: EN LIBERTAD | G80: LEGAL | H80: ILEGAL | I80: FORMULACIÓN | J80: ACEPTACIÓN | K80: SI | M80: NO | X80: ABSOLUTORIAS | Y80: CONDENATORIAS
K81: PRIVATIVA | L81: NO PRIVATIVA
A82: 1 | B82: 2 | C82: 2 | D82: 2 | E82: 2 | F82: 2 | G82: 2 | H82: 2 | I82: 2 | J82: 2 | K82: 2 | L82: 2 | M82: 2 | N82: 2 | O82: 2 | P82: 2 | Q82: 2 | R82: 2 | S82: 2 | T82: 2 | U82: 2 | V82: 2 | W82: 2 | X82: 2 | Y82: 2 | Z82: 2 | AA82: 2 | AB82: 2 | AD82: 29
A83: ABANDONO ART. 127 C.P. | B83: =SUM(INICIO:final!B83) -> 0 | C83: =SUM(INICIO:final!C83) -> 0 | D83: =SUM(INICIO:final!D83) -> 0 | E83: =SUM(INICIO:final!E83) -> 0 | F83: =SUM(INICIO:final!F83) -> 0 | G83: =SUM(INICIO:final!G83) -> 0 | H83: =SUM(INICIO:final!H83) -> 0 | I83: =SUM(INICIO:final!I83) -> 0 | ... AB83: =SUM(INICIO:final!AB83) -> 0 | AD83: =SUM(INICIO:final!AD83) -> 0
A84: ABUSO DE AUTORIDAD POR ACTO ARBITRARIO | B84: =SUM(INICIO:final!B84) -> 0 | C84: =SUM(INICIO:final!C84) -> 0 | D84: =SUM(INICIO:final!D84) -> 0 | E84: =SUM(INICIO:final!E84) -> 1 | F84: =SUM(INICIO:final!F84) -> 0 | G84: =SUM(INICIO:final!G84) -> 0 | H84: =SUM(INICIO:final!H84) -> 0 | I84: =SUM(INICIO:final!I84) -> 0 | ... AB84: =SUM(INICIO:final!AB84) -> 0 | AD84: =SUM(INICIO:final!AD84) -> 1
A85: ABUSO DE CONDICIONES DE INFERIORIDAD. ART. 251 C.P. | B85: =SUM(INICIO:final!B85) -> 0 | C85: =SUM(INICIO:final!C85) -> 0 | D85: =SUM(INICIO:final!D85) -> 0 | E85: =SUM(INICIO:final!E85) -> 1 | F85: =SUM(INICIO:final!F85) -> 0 | G85: =SUM(INICIO:final!G85) -> 0 | H85: =SUM(INICIO:final!H85) -> 0 | I85: =SUM(INICIO:final!I85) -> 0 | ... AB85: =SUM(INICIO:final!AB85) -> 0 | AD85: =SUM(INICIO:final!AD85) -> 1
A86: ABUSO DE FUNCION PUBLICA ART. 428 C.P. | B86: =SUM(INICIO:final!B86) -> 0 | C86: =SUM(INICIO:final!C86) -> 0 | D86: =SUM(INICIO:final!D86) -> 0 | E86: =SUM(INICIO:final!E86) -> 0 | F86: =SUM(INICIO:final!F86) -> 0 | G86: =SUM(INICIO:final!G86) -> 0 | H86: =SUM(INICIO:final!H86) -> 0 | I86: =SUM(INICIO:final!I86) -> 0 | ... AB86: =SUM(INICIO:final!AB86) -> 0 | AD86: =SUM(INICIO:final!AD86) -> 0
A87: ACCESO ABUSIVO A UN SISTEMA INFORMATICO ART. 269A C. | B87: =SUM(INICIO:final!B87) -> 0 | C87: =SUM(INICIO:final!C87) -> 0 | D87: =SUM(INICIO:final!D87) -> 0 | E87: =SUM(INICIO:final!E87) -> 0 | F87: =SUM(INICIO:final!F87) -> 0 | G87: =SUM(INICIO:final!G87) -> 0 | H87: =SUM(INICIO:final!H87) -> 0 | I87: =SUM(INICIO:final!I87) -> 0 | ... AB87: =SUM(INICIO:final!AB87) -> 0 | AD87: =SUM(INICIO:final!AD87) -> 0
A88: ACCESO CARNAL VIOLENTO EN PERSONA PROTEGIDA ART. 138 C.P. | B88: =SUM(INICIO:final!B88) -> 0 | C88: =SUM(INICIO:final!C88) -> 0 | D88: =SUM(INICIO:final!D88) -> 0 | E88: =SUM(INICIO:final!E88) -> 0 | F88: =SUM(INICIO:final!F88) -> 0 | G88: =SUM(INICIO:final!G88) -> 0 | H88: =SUM(INICIO:final!H88) -> 0 | I88: =SUM(INICIO:final!I88) -> 0 | ... AB88: =SUM(INICIO:final!AB88) -> 0 | AD88: =SUM(INICIO:final!AD88) -> 0
A89: ACOSO SEXUAL | B89: =SUM(INICIO:final!B89) -> 0 | C89: =SUM(INICIO:final!C89) -> 0 | D89: =SUM(INICIO:final!D89) -> 0 | E89: =SUM(INICIO:final!E89) -> 3 | F89: =SUM(INICIO:final!F89) -> 1 | G89: =SUM(INICIO:final!G89) -> 0 | H89: =SUM(INICIO:final!H89) -> 0 | I89: =SUM(INICIO:final!I89) -> 0 | ... AB89: =SUM(INICIO:final!AB89) -> 0 | AD89: =SUM(INICIO:final!AD89) -> 4
A90: ACTO SEXUAL ABUSIVO | B90: =SUM(INICIO:final!B90) -> 0 | C90: =SUM(INICIO:final!C90) -> 0 | D90: =SUM(INICIO:final!D90) -> 0 | E90: =SUM(INICIO:final!E90) -> 0 | F90: =SUM(INICIO:final!F90) -> 0 | G90: =SUM(INICIO:final!G90) -> 0 | H90: =SUM(INICIO:final!H90) -> 0 | I90: =SUM(INICIO:final!I90) -> 0 | ... AB90: =SUM(INICIO:final!AB90) -> 0 | AD90: =SUM(INICIO:final!AD90) -> 0
A91: ALTERACION DE RESULTADOS ELECTORALES ART. 394 C.P. | B91: =SUM(INICIO:final!B91) -> 0 | C91: =SUM(INICIO:final!C91) -> 0 | D91: =SUM(INICIO:final!D91) -> 0 | E91: =SUM(INICIO:final!E91) -> 6 | F91: =SUM(INICIO:final!F91) -> 0 | G91: =SUM(INICIO:final!G91) -> 0 | H91: =SUM(INICIO:final!H91) -> 0 | I91: =SUM(INICIO:final!I91) -> 0 | ... AB91: =SUM(INICIO:final!AB91) -> 0 | AD91: =SUM(INICIO:final!AD91) -> 6
A92: ALTERACION, DESFIGURACION Y SUPLANTACION DE MARCAS DE GANADO. ART. 243 C.P. | B92: =SUM(INICIO:final!B92) -> 0 | C92: =SUM(INICIO:final!C92) -> 0 | D92: =SUM(INICIO:final!D92) -> 0 | E92: =SUM(INICIO:final!E92) -> 3 | F92: =SUM(INICIO:final!F92) -> 0 | G92: =SUM(INICIO:final!G92) -> 0 | H92: =SUM(INICIO:final!H92) -> 0 | I92: =SUM(INICIO:final!I92) -> 0 | ... AB92: =SUM(INICIO:final!AB92) -> 0 | AD92: =SUM(INICIO:final!AD92) -> 3
...

Sheet INICIO

Sheet BOTERO
B1: Nombre del Proceso/Subproceso: Atención y Trámite/Defensoría Pública | X1: Código: SD-P02-F150
B2: Formato: Estadística Programa Sistema Penal Acusatorio (Ley 906 de 2004) | X2: Versión: 02
X3: =[1]CONTOTAL!X3 -> Vigente desde: 12/02/2024
A4: REGIONAL: VALLE DEL CAUCA | F4: MES: | G4: MARZO | I4: AÑO: | J4: 2024
A5: DELITOS | B5: SOLICITUDES DEL SERVICIO REALIZADAS EN EL MES | C5: PROCESOS DEL MES | G5: AUDIENCIAS PRELIMINARES DEL MES | N5: AUDIENCIA LIBERTAD POR VENCIMIENTO DE TERMINOS | O5: NEGOCIACIO-NES ACUERDOS Y PREACUER-DOS | P5: JUICIO | S5: INDIVIDUA-LIZACIÓN DE LA PENA | T5: TERMINACIONES DEL MES | Z5: AUDIENCIA DE INCIDENTE DE REPARACIÓN INTEGRAL | AA5: RECURSOS DEL MES | AD5: PROCESOS MES ANTERIOR
C6: ASIGNADOS | E6: EN TRÁMITE | F6: TERMINADOS | G6: CONTROL DE LA CAPTURA | I6: IMPUTACIÓN | K6: IMPOSICIÓN MEDIDA DE ASEGURAMIENTO | P6: AUDIENCIA DE FORMULA-CIÓN DE LA ACUSACIÓN | Q6: PREPARATORIA | R6: JUICIO ORAL | T6: CONCILIA-CIÓN | U6: PRECLU-SIÓN | V6: REVOCA-TORIA DE PODER | W6: OTRAS CAUSAS | X6: AUDIENCIAS DE FALLO | AA6: DE REPOSICIÓN | AB6: DE APELACIÓN
C7: CAPTURADOS | D7: EN LIBERTAD | G7: LEGAL | H7: ILEGAL | I7: FORMU-LACIÓN | J7: ACEPTA-CIÓN | K7: SI | M7: NO | X7: ABSOLUTORIAS | Y7: CONDENATORIAS
K8: PRIVATIVA | L8: NO PRIVATIVA
A9: 1 | B9: =SUM(A9+1) -> 2 | C9: =SUM(B9+1) -> 3 | D9: =SUM(C9+1) -> 4 | E9: =SUM(D9+1) -> 5 | F9: =SUM(E9+1) -> 6 | G9: =SUM(F9+1) -> 7 | H9: =SUM(G9+1) -> 8 | I9: =SUM(H9+1) -> 9 | ... AB9: =SUM(AA9+1) -> 28 | AD9: 29
A10: ABORTO | B10: =C10+D10 -> 0 | E10: =+B10-F10+AD10 -> 0 | F10: =T10+U10+V10+W10+X10+Y10 -> 0 | W10: =SUM(B201:AB201) -> 0 | AD10: 0
A11: ABUSO DE CONFIANZA | B11: =C11+D11 -> 0 | E11: =+B11-F11+AD11 -> 0 | F11: =T11+U11+V11+W11+X11+Y11 -> 0 | W11: =SUM(B202:AB202) -> 0 | AD11: 0
A12: ACCESO CARNAL ABUSIVO CON MENOR DE 14 AÑOS | B12: =C12+D12 -> 0 | E12: =+B12-F12+AD12 -> 5 | F12: =T12+U12+V12+W12+X12+Y12 -> 0 | W12: =SUM(B203:AB203) -> 0 | AD12: 5
A13: ACCESO CARNAL CON INCAPAZ DE RESISTIR | B13: =C13+D13 -> 0 | E13: =+B13-F13+AD13 -> 0 | F13: =T13+U13+V13+W13+X13+Y13 -> 0 | W13: =SUM(B204:AB204) -> 0 | AD13: 0
A14: ACCESO CARNAL O ACTO SEXUAL CON PERSONA PUESTA EN INCAPACIDAD DE RESISTIR | B14: =C14+D14 -> 0 | E14: =+B14-F14+AD14 -> 0 | F14: =T14+U14+V14+W14+X14+Y14 -> 0 | W14: =SUM(B205:AB205) -> 0 | AD14: 0
A15: ACCESO CARNAL VIOLENTO | B15: =C15+D15 -> 0 | E15: =+B15-F15+AD15 -> 1 | F15: =T15+U15+V15+W15+X15+Y15 -> 0 | W15: =SUM(B206:AB206) -> 0 | AD15: 1
A16: ACTO SEXUAL CON MENOR DE 14 AÑOS | B16: =C16+D16 -> 0 | E16: =+B16-F16+AD16 -> 7 | F16: =T16+U16+V16+W16+X16+Y16 -> 0 | W16: =SUM(B207:AB207) -> 0 | AD16: 7
A17: ACTO SEXUAL VIOLENTO | B17: =C17+D17 -> 0 | E17: =+B17-F17+AD17 -> 1 | F17: =T17+U17+V17+W17+X17+Y17 -> 0 | W17: =SUM(B208:AB208) -> 0 | AD17: 1
A18: AMENAZAS | B18: =C18+D18 -> 0 | E18: =+B18-F18+AD18 -> 0 | F18: =T18+U18+V18+W18+X18+Y18 -> 0 | W18: =SUM(B209:AB209) -> 0 | AD18: 0
A19: CALUMNIA | B19: =C19+D19 -> 0 | E19: =+B19-F19+AD19 -> 0 | F19: =T19+U19+V19+W19+X19+Y19 -> 0 | W19: =SUM(B210:AB210) -> 0 | AD19: 0
A20: COHECHO | B20: =C20+D20 -> 0 | E20: =+B20-F20+AD20 -> 0 | F20: =T20+U20+V20+W20+X20+Y20 -> 0 | W20: =SUM(B211:AB211) -> 0 | AD20: 0
A21: CONCIERTO PARA DELINQUIR | B21: =C21+D21 -> 0 | E21: =+B21-F21+AD21 -> 0 | F21: =T21+U21+V21+W21+X21+Y21 -> 0 | W21: =SUM(B212:AB212) -> 0 | AD21: 0
... A73: VIOLENCIA INTRAFAMILIAR | B73: =C73+D73 -> 0 | E73: =+B73-F73+AD73 -> 1 | F73: =T73+U73+V73+W73+X73+Y73 -> 0 | W73: =SUM(B264:AB264) -> 0 | AD73: 1
A74: OTROS | B74: =B195 -> 0 | C74: =C195 -> 0 | D74: =D195 -> 0 | E74: =E195 -> 29 | F74: =F195 -> 0 | G74: =G195 -> 0 | H74: =H195 -> 0 | I74: =I195 -> 0 | ... AB74: =AB195 -> 0 | AD74: =AD195 -> 29
A75: TOTALES | B75: =SUM(B10:B74) -> 0 | C75: =SUM(C10:C74) -> 0 | D75: =SUM(D10:D74) -> 0 | E75: =SUM(E10:E74) -> 183 | F75: =SUM(F10:F74) -> 0 | G75: =SUM(G10:G74) -> 0 | H75: =SUM(H10:H74) -> 0 | I75: =SUM(I10:I74) -> 0 | ... AB75: =SUM(AB10:AB74) -> 0 | AD75: =SUM(AD10:AD74) -> 183
A77: OTROS DELITOS
A78: DELITOS | B78: SOLICITUDES DEL SERVICIO REALIZADAS EN EL MES | C78: PROCESOS DEL MES | G78: AUDIENCIAS PRELIMINARES DEL MES | N78: AUDIENCIA LIBERTAD POR VENCIMIENTO DE TERMINOS | O78: NEGOCIACIONES ACUERDOS Y PREACUERDOS | P78: JUICIO | S78: INDIVIDUALIZACIÓN DE LA PENA | T78: TERMINACIONES DEL MES | Z78: AUDIENCIA DE INCIDENTE DE REPARACIÓN INTEGRAL | AA78: RECURSOS DEL MES | AD78: PROCESOS MES ANTERIOR
C79: ASIGNADOS | E79: EN TRÁMITE | F79: TERMINADOS | G79: CONTROL DE LA CAPTURA | I79: IMPUTACIÓN | K79: IMPOSICION MEDIDA DE ASEGURAMIENTO | P79: AUDIENCIA DE FORMULACIÓN DE LA ACUSACIÓN | Q79: PREPARATORIA | R79: JUICIO ORAL | T79: CONCILIACIÓN | U79: PRECLUSIÓN | V79: REVOCATORIA DE PODER | W79: OTRAS CAUSAS | X79: AUDIENCIAS DE FALLO | AA79: DE REPOSICIÓN | AB79: DE APELACIÓN
C80: CAPTURADOS | D80: EN LIBERTAD | G80: LEGAL | H80: ILEGAL | I80: FORMULACIÓN | J80: ACEPTACIÓN | K80: SI | M80: NO | X80: ABSOLUTORIAS | Y80: CONDENATORIAS
K81: PRIVATIVA | L81: NO PRIVATIVA
A82: 1 | B82: =SUM(A82+1) -> 2 | C82: =SUM(B82+1) -> 3 | D82: =SUM(C82+1) -> 4 | E82: =SUM(D82+1) -> 5 | F82: =SUM(E82+1) -> 6 | G82: =SUM(F82+1) -> 7 | H82: =SUM(G82+1) -> 8 | I82: =SUM(H82+1) -> 9 | ... AB82: =SUM(AA82+1) -> 28 | AD82: 29
A83: ABANDONO ART. 127 C.P. | B83: =C83+D83 -> 0 | E83: =+B83-F83+AD83 -> 0 | F83: =T83+U83+V83+W83+X83+Y83 -> 0 | W83: =SUM(B265:AB265) -> 0 | AD83: 0
A84: ABUSO DE AUTORIDAD POR ACTO ARBITRARIO | B84: =C84+D84 -> 0 | E84: =+B84-F84+AD84 -> 0 | F84: =T84+U84+V84+W84+X84+Y84 -> 0 | W84: =SUM(B266:AB266) -> 0 | AD84: 0
A85: ABUSO DE CONDICIONES DE INFERIORIDAD. ART. 251 C.P. | B85: =C85+D85 -> 0 | E85: =+B85-F85+AD85 -> 0 | F85: =T85+U85+V85+W85+X85+Y85 -> 0 | W85: =SUM(B267:AB267) -> 0 | AD85: 0
A86: ABUSO DE FUNCION PUBLICA ART. 428 C.P. | B86: =C86+D86 -> 0 | E86: =+B86-F86+AD86 -> 0 | F86: =T86+U86+V86+W86+X86+Y86 -> 0 | W86: =SUM(B268:AB268) -> 0 | AD86: 0
A87: ACCESO ABUSIVO A UN SISTEMA INFORMATICO ART. 269A C. | B87: =C87+D87 -> 0 | E87: =+B87-F87+AD87 -> 0 | F87: =T87+U87+V87+W87+X87+Y87 -> 0 | W87: =SUM(B269:AB269) -> 0 | AD87: 0
A88: ACCESO CARNAL VIOLENTO EN PERSONA PROTEGIDA ART. 138 C.P. | B88: =C88+D88 -> 0 | E88: =+B88-F88+AD88 -> 0 | F88: =T88+U88+V88+W88+X88+Y88 -> 0 | W88: =SUM(B270:AB270) -> 0 | AD88: 0
A89: ACOSO SEXUAL | B89: =C89+D89 -> 0 | E89: =+B89-F89+AD89 -> 1 | F89: =T89+U89+V89+W89+X89+Y89 -> 0 | W89: =SUM(B271:AB271) -> 0 | AD89: 1
A90: ACTO SEXUAL ABUSIVO | B90: =C90+D90 -> 0 | E90: =+B90-F90+AD90 -> 0 | F90: =T90+U90+V90+W90+X90+Y90 -> 0 | W90: =SUM(B272:AB272) -> 0 | AD90: 0
A91: ALTERACION DE RESULTADOS ELECTORALES ART. 394 C.P. | B91: =C91+D91 -> 0 | E91: =+B91-F91+AD91 -> 0 | F91: =T91+U91+V91+W91+X91+Y91 -> 0 | W91: =SUM(B273:AB273) -> 0 | AD91: 0
A92: ALTERACION, DESFIGURACION Y SUPLANTACION DE MARCAS DE GANADO. ART. 243 C.P. | B92: =C92+D92 -> 0 | E92: =+B92-F92+AD92 -> 0 | F92: =T92+U92+V92+W92+X92+Y92 -> 0 | W92: =SUM(B274:AB274) -> 0 | AD92: 0
...

Sheet LEMA
B1: Nombre del Proceso/Subproceso: Atención y Trámite/Defensoría Pública | X1: Código: SD-P02-F150
B2: Manual, Instructivo o Formato: Estadística Programa Sistema Penal Acusatorio (Ley 906 de 2004) (V1-22) | X2: Versión: 01/22 CAST
X3: Vigente desde: 03/12/2018
A4: REGIONAL: VALLE DEL CAUCA | F4: MES: | G4: MARZO | I4: AÑO: 2024
A5: DELITOS | B5: SOLICITUDES DEL SERVICIO REALIZADAS EN EL MES | C5: PROCESOS DEL MES | G5: AUDIENCIAS PRELIMINARES DEL MES | N5: AUDIENCIA LIBERTAD POR VENCIMIENTO DE TERMINOS | O5: NEGOCIACIO-NES ACUERDOS Y PREACUER-DOS | P5: JUICIO | S5: INDIVIDUA-LIZACIÓN DE LA PENA | T5: TERMINACIONES DEL MES | Z5: AUDIENCIA DE INCIDENTE DE REPARACIÓN INTEGRAL | AA5: RECURSOS DEL MES | AD5: PROCESOS MES ANTERIOR
C6: ASIGNADOS | E6: EN TRÁMITE | F6: TERMINADOS | G6: CONTROL DE LA CAPTURA | I6: IMPUTACIÓN | K6: IMPOSICIÓN MEDIDA DE ASEGURAMIENTO | P6: AUDIENCIA DE FORMULA-CIÓN DE LA ACUSACIÓN | Q6: PREPARATORIA | R6: JUICIO ORAL | T6: CONCILIA-CIÓN | U6: PRECLU-SIÓN | V6: REVOCA-TORIA DE PODER | W6: OTRAS CAUSAS | X6: AUDIENCIAS DE FALLO | AA6: DE REPOSICIÓN | AB6: DE APELACIÓN
C7: CAPTURADOS | D7: EN LIBERTAD | G7: LEGAL | H7: ILEGAL | I7: FORMU-LACIÓN | J7: ACEPTA-CIÓN | K7: SI | M7: NO | X7: ABSOLUTORIAS | Y7: CONDENATORIAS
K8: PRIVATIVA | L8: NO PRIVATIVA
A9: 1 | B9: =SUM(A9+1) -> 2 | C9: =SUM(B9+1) -> 3 | D9: =SUM(C9+1) -> 4 | E9: =SUM(D9+1) -> 5 | F9: =SUM(E9+1) -> 6 | G9: =SUM(F9+1) -> 7 | H9: =SUM(G9+1) -> 8 | I9: =SUM(H9+1) -> 9 | ... AB9: =SUM(AA9+1) -> 28 | AD9: 29
A10: ABORTO | B10: =C10+D10 -> 0 | E10: =+B10-F10+AD10 -> 0 | F10: =T10+U10+V10+W10+X10+Y10 -> 0 | W10: =SUM(B201:AB201) -> 0 | AD10: 0
A11: ABUSO DE CONFIANZA | B11: =C11+D11 -> 0 | E11: =+B11-F11+AD11 -> 0 | F11: =T11+U11+V11+W11+X11+Y11 -> 0 | W11: =SUM(B202:AB202) -> 0 | AD11: 0
A12: ACCESO CARNAL ABUSIVO CON MENOR DE 14 AÑOS | B12: =C12+D12 -> 0 | E12: =+B12-F12+AD12 -> 0 | F12: =T12+U12+V12+W12+X12+Y12 -> 0 | W12: =SUM(B203:AB203) -> 0 | AD12: 0
A13: ACCESO CARNAL CON INCAPAZ DE RESISTIR | B13: =C13+D13 -> 0 | E13: =+B13-F13+AD13 -> 0 | F13: =T13+U13+V13+W13+X13+Y13 -> 0 | W13: =SUM(B204:AB204) -> 0 | AD13: 0
A14: ACCESO CARNAL O ACTO SEXUAL CON PERSONA PUESTA EN INCAPACIDAD DE RESISTIR | B14: =C14+D14 -> 0 | E14: =+B14-F14+AD14 -> 0 | F14: =T14+U14+V14+W14+X14+Y14 -> 0 | W14: =SUM(B205:AB205) -> 0 | AD14: 0
A15: ACCESO CARNAL VIOLENTO | B15: =C15+D15 -> 0 | E15: =+B15-F15+AD15 -> 0 | F15: =T15+U15+V15+W15+X15+Y15 -> 0 | W15: =SUM(B206:AB206) -> 0 | AD15: 0
A16: ACTO SEXUAL CON MENOR DE 14 AÑOS | B16: =C16+D16 -> 0 | E16: =+B16-F16+AD16 -> 1 | F16: =T16+U16+V16+W16+X16+Y16 -> 0 | W16: =SUM(B207:AB207) -> 0 | AD16: 1
A17: ACTO SEXUAL VIOLENTO | B17: =C17+D17 -> 0 | E17: =+B17-F17+AD17 -> 0 | F17: =T17+U17+V17+W17+X17+Y17 -> 0 | W17: =SUM(B208:AB208) -> 0 | AD17: 0
A18: AMENAZAS | B18: =C18+D18 -> 0 | E18: =+B18-F18+AD18 -> 1 | F18: =T18+U18+V18+W18+X18+Y18 -> 0 | W18: =SUM(B209:AB209) -> 0 | AD18: 1
A19: CALUMNIA | B19: =C19+D19 -> 0 | E19: =+B19-F19+AD19 -> 0 | F19: =T19+U19+V19+W19+X19+Y19 -> 0 | W19: =SUM(B210:AB210) -> 0 | AD19: 0
A20: COHECHO | B20: =C20+D20 -> 0 | E20: =+B20-F20+AD20 -> 0 | F20: =T20+U20+V20+W20+X20+Y20 -> 0 | W20: =SUM(B211:AB211) -> 0 | AD20: 0
A21: CONCIERTO PARA DELINQUIR | B21: =C21+D21 -> 0 | E21: =+B21-F21+AD21 -> 0 | F21: =T21+U21+V21+W21+X21+Y21 -> 0 | W21: =SUM(B212:AB212) -> 0 | AD21: 0
... A73: VIOLENCIA INTRAFAMILIAR | B73: =C73+D73 -> 0 | E73: =+B73-F73+AD73 -> 9 | F73: =T73+U73+V73+W73+X73+Y73 -> 0 | W73: =SUM(B264:AB264) -> 0 | AD73: 9
A74: OTROS | B74: =B195 -> 0 | C74: =C195 -> 0 | D74: =D195 -> 0 | E74: =E195 -> 2 | F74: =F195 -> 0 | G74: =G195 -> 0 | H74: =H195 -> 0 | I74: =I195 -> 0 | ... AB74: =AB195 -> 0 | AD74: =AD195 -> 2
A75: TOTALES | B75: =SUM(B10:B74) -> 0 | C75: =SUM(C10:C74) -> 0 | D75: =SUM(D10:D74) -> 0 | E75: =SUM(E10:E74) -> 17 | F75: =SUM(F10:F74) -> 0 | G75: =SUM(G10:G74) -> 0 | H75: =SUM(H10:H74) -> 0 | I75: =SUM(I10:I74) -> 0 | ... AB75: =SUM(AB10:AB74) -> 0 | AD75: =SUM(AD10:AD74) -> 17
A77: OTROS DELITOS
A78: DELITOS | B78: SOLICITUDES DEL SERVICIO REALIZADAS EN EL MES | C78: PROCESOS DEL MES | G78: AUDIENCIAS PRELIMINARES DEL MES | N78: AUDIENCIA LIBERTAD POR VENCIMIENTO DE TERMINOS | O78: NEGOCIACIONES ACUERDOS Y PREACUERDOS | P78: JUICIO | S78: INDIVIDUALIZACIÓN DE LA PENA | T78: TERMINACIONES DEL MES | Z78: AUDIENCIA DE INCIDENTE DE REPARACIÓN INTEGRAL | AA78: RECURSOS DEL MES | AD78: PROCESOS MES ANTERIOR
C79: ASIGNADOS | E79: EN TRÁMITE | F79: TERMINADOS | G79: CONTROL DE LA CAPTURA | I79: IMPUTACIÓN | K79: IMPOSICION MEDIDA DE ASEGURAMIENTO | P79: AUDIENCIA DE FORMULACIÓN DE LA ACUSACIÓN | Q79: PREPARATORIA | R79: JUICIO ORAL | T79: CONCILIACIÓN | U79: PRECLUSIÓN | V79: REVOCATORIA DE PODER | W79: OTRAS CAUSAS | X79: AUDIENCIAS DE FALLO | AA79: DE REPOSICIÓN | AB79: DE APELACIÓN
C80: CAPTURADOS | D80: EN LIBERTAD | G80: LEGAL | H80: ILEGAL | I80: FORMULACIÓN | J80: ACEPTACIÓN | K80: SI | M80: NO | X80: ABSOLUTORIAS | Y80: CONDENATORIAS
K81: PRIVATIVA | L81: NO PRIVATIVA
A82: 1 | B82: =SUM(A82+1) -> 2 | C82: =SUM(B82+1) -> 3 | D82: =SUM(C82+1) -> 4 | E82: =SUM(D82+1) -> 5 | F82: =SUM(E82+1) -> 6 | G82: =SUM(F82+1) -> 7 | H82: =SUM(G82+1) -> 8 | I82: =SUM(H82+1) -> 9 | ... AB82: =SUM(AA82+1) -> 28 | AD82: 29
A83: ABANDONO ART. 127 C.P. | B83: =C83+D83 -> 0 | E83: =+B83-F83+AD83 -> 0 | F83: =T83+U83+V83+W83+X83+Y83 -> 0 | W83: =SUM(B265:AB265) -> 0 | AD83: 0
A84: ABUSO DE AUTORIDAD POR ACTO ARBITRARIO | B84: =C84+D84 -> 0 | E84: =+B84-F84+AD84 -> 0 | F84: =T84+U84+V84+W84+X84+Y84 -> 0 | W84: =SUM(B266:AB266) -> 0 | AD84: 0
A85: ABUSO DE CONDICIONES DE INFERIORIDAD. ART. 251 C.P. | B85: =C85+D85 -> 0 | E85: =+B85-F85+AD85 -> 0 | F85: =T85+U85+V85+W85+X85+Y85 -> 0 | W85: =SUM(B267:AB267) -> 0 | AD85: 0
A86: ABUSO DE FUNCION PUBLICA ART. 428 C.P. | B86: =C86+D86 -> 0 | E86: =+B86-F86+AD86 -> 0 | F86: =T86+U86+V86+W86+X86+Y86 -> 0 | W86: =SUM(B268:AB268) -> 0 | AD86: 0
A87: ACCESO ABUSIVO A UN SISTEMA INFORMATICO ART. 269A C. | B87: =C87+D87 -> 0 | E87: =+B87-F87+AD87 -> 0 | F87: =T87+U87+V87+W87+X87+Y87 -> 0 | W87: =SUM(B269:AB269) -> 0 | AD87: 0
A88: ACCESO CARNAL VIOLENTO EN PERSONA PROTEGIDA ART. 138 C.P. | B88: =C88+D88 -> 0 | E88: =+B88-F88+AD88 -> 0 | F88: =T88+U88+V88+W88+X88+Y88 -> 0 | W88: =SUM(B270:AB270) -> 0 | AD88: 0
A89: ACOSO SEXUAL | B89: =C89+D89 -> 0 | E89: =+B89-F89+AD89 -> 0 | F89: =T89+U89+V89+W89+X89+Y89 -> 0 | W89: =SUM(B271:AB271) -> 0 | AD89: 0
A90: ACTO SEXUAL ABUSIVO | B90: =C90+D90 -> 0 | E90: =+B90-F90+AD90 -> 0 | F90: =T90+U90+V90+W90+X90+Y90 -> 0 | W90: =SUM(B272:AB272) -> 0 | AD90: 0
A91: ALTERACION DE RESULTADOS ELECTORALES ART. 394 C.P. | B91: =C91+D91 -> 0 | E91: =+B91-F91+AD91 -> 0 | F91: =T91+U91+V91+W91+X91+Y91 -> 0 | W91: =SUM(B273:AB273) -> 0 | AD91: 0
A92: ALTERACION, DESFIGURACION Y SUPLANTACION DE MARCAS DE GANADO. ART. 243 C.P. | B92: =C92+D92 -> 0 | E92: =+B92-F92+AD92 -> 0 | F92: =T92+U92+V92+W92+X92+Y92 -> 0 | W92: =SUM(B274:AB274) -> 0 | AD92: 0
...

Sheet PALACIOS
B1: Nombre del Proceso/Subproceso: Atención y Trámite/Defensoría Pública | X1: Código: SD-P02-F150
B2: Formato: Estadística Programa Sistema Penal Acusatorio (Ley 906 de 2004) | X2: Versión: 02
X3: =[1]CONTOTAL!X3 -> Vigente desde: 12/02/2024
A4: REGIONAL: VALLE DEL CAUCA | F4: MES: MARZO | I4: AÑO: 2024
A5: DELITOS | B5: SOLICITUDES DEL SERVICIO REALIZADAS EN EL MES | C5: PROCESOS DEL MES | G5: AUDIENCIAS PRELIMINARES DEL MES | N5: AUDIENCIA LIBERTAD POR VENCIMIENTO DE TERMINOS | O5: NEGOCIACIO-NES ACUERDOS Y PREACUER-DOS | P5: JUICIO | S5: INDIVIDUA-LIZACIÓN DE LA PENA | T5: TERMINACIONES DEL MES | Z5: AUDIENCIA DE INCIDENTE DE REPARACIÓN INTEGRAL | AA5: RECURSOS DEL MES | AD5: PROCESOS MES ANTERIOR
C6: ASIGNADOS | E6: EN TRÁMITE | F6: TERMINADOS | G6: CONTROL DE LA CAPTURA | I6: IMPUTACIÓN | K6: IMPOSICIÓN MEDIDA DE ASEGURAMIENTO | P6: AUDIENCIA DE FORMULA-CIÓN DE LA ACUSACIÓN | Q6: PREPARATORIA | R6: JUICIO ORAL | T6: CONCILIA-CIÓN | U6: PRECLU-SIÓN | V6: REVOCA-TORIA DE PODER | W6: OTRAS CAUSAS | X6: AUDIENCIAS DE FALLO | AA6: DE REPOSICIÓN | AB6: DE APELACIÓN
C7: CAPTURADOS | D7: EN LIBERTAD | G7: LEGAL | H7: ILEGAL | I7: FORMU-LACIÓN | J7: ACEPTA-CIÓN | K7: SI | M7: NO | X7: ABSOLUTORIAS | Y7: CONDENATORIAS
K8: PRIVATIVA | L8: NO PRIVATIVA
A9: 1 | B9: =SUM(A9+1) -> 2 | C9: =SUM(B9+1) -> 3 | D9: =SUM(C9+1) -> 4 | E9: =SUM(D9+1) -> 5 | F9: =SUM(E9+1) -> 6 | G9: =SUM(F9+1) -> 7 | H9: =SUM(G9+1) -> 8 | I9: =SUM(H9+1) -> 9 | ... AB9: =SUM(AA9+1) -> 28 | AD9: 29
A10: ABORTO | B10: =C10+D10 -> 0 | E10: =+B10-F10+AD10 -> 0 | F10: =T10+U10+V10+W10+X10+Y10 -> 0 | W10: =SUM(B201:AB201) -> 0 | AD10: 0
A11: ABUSO DE CONFIANZA | B11: =C11+D11 -> 0 | E11: =+B11-F11+AD11 -> 2 | F11: =T11+U11+V11+W11+X11+Y11 -> 0 | W11: =SUM(B202:AB202) -> 0 | AD11: 2
A12: ACCESO CARNAL ABUSIVO CON MENOR DE 14 AÑOS | B12: =C12+D12 -> 0 | E12: =+B12-F12+AD12 -> 8 | F12: =T12+U12+V12+W12+X12+Y12 -> 0 | W12: =SUM(B203:AB203) -> 0 | AD12: 8
A13: ACCESO CARNAL CON INCAPAZ DE RESISTIR | B13: =C13+D13 -> 0 | E13: =+B13-F13+AD13 -> 1 | F13: =T13+U13+V13+W13+X13+Y13 -> 0 | W13: =SUM(B204:AB204) -> 0 | AD13: 1
A14: ACCESO CARNAL O ACTO SEXUAL CON PERSONA PUESTA EN INCAPACIDAD DE RESISTIR | B14: =C14+D14 -> 0 | E14: =+B14-F14+AD14 -> 0 | F14: =T14+U14+V14+W14+X14+Y14 -> 0 | W14: =SUM(B205:AB205) -> 0 | AD14: 0
A15: ACCESO CARNAL VIOLENTO | B15: =C15+D15 -> 0 | E15: =+B15-F15+AD15 -> 2 | F15: =T15+U15+V15+W15+X15+Y15 -> 0 | W15: =SUM(B206:AB206) -> 0 | AD15: 2
A16: ACTO SEXUAL CON MENOR DE 14 AÑOS | B16: =C16+D16 -> 0 | E16: =+B16-F16+AD16 -> 15 | F16: =T16+U16+V16+W16+X16+Y16 -> 0 | W16: =SUM(B207:AB207) -> 0 | AD16: 15
A17: ACTO SEXUAL VIOLENTO | B17: =C17+D17 -> 0 | E17: =+B17-F17+AD17 -> 2 | F17: =T17+U17+V17+W17+X17+Y17 -> 0 | W17: =SUM(B208:AB208) -> 0 | AD17: 2
A18: AMENAZAS | B18: =C18+D18 -> 0 | E18: =+B18-F18+AD18 -> 0 | F18: =T18+U18+V18+W18+X18+Y18 -> 0 | W18: =SUM(B209:AB209) -> 0 | AD18: 0
A19: CALUMNIA | B19: =C19+D19 -> 0 | E19: =+B19-F19+AD19 -> 0 | F19: =T19+U19+V19+W19+X19+Y19 -> 0 | W19: =SUM(B210:AB210) -> 0 | AD19: 0
A20: COHECHO | B20: =C20+D20 -> 0 | E20: =+B20-F20+AD20 -> 2 | F20: =T20+U20+V20+W20+X20+Y20 -> 0 | W20: =SUM(B211:AB211) -> 0 | AD20: 2
A21: CONCIERTO PARA DELINQUIR | B21: =C21+D21 -> 0 | E21: =+B21-F21+AD21 -> 2 | F21: =T21+U21+V21+W21+X21+Y21 -> 0 | W21: =SUM(B212:AB212) -> 0 | AD21: 2
... A73: VIOLENCIA INTRAFAMILIAR | B73: =C73+D73 -> 0 | E73: =+B73-F73+AD73 -> 0 | F73: =T73+U73+V73+W73+X73+Y73 -> 0 | W73: =SUM(B264:AB264) -> 0 | AD73: 0
A74: OTROS | B74: =B195 -> 0 | C74: =C195 -> 0 | D74: =D195 -> 0 | E74: =E195 -> 40 | F74: =F195 -> 0 | G74: =G195 -> 0 | H74: =H195 -> 0 | I74: =I195 -> 0 | ... AB74: =AB195 -> 0 | AD74: =AD195 -> 40
A75: TOTALES | B75: =SUM(B10:B74) -> 0 | C75: =SUM(C10:C74) -> 0 | D75: =SUM(D10:D74) -> 0 | E75: =SUM(E10:E74) -> 199 | F75: =SUM(F10:F74) -> 0 | G75: =SUM(G10:G74) -> 0 | H75: =SUM(H10:H74) -> 0 | I75: =SUM(I10:I74) -> 0 | ... AB75: =SUM(AB10:AB74) -> 0 | AD75: =SUM(AD10:AD74) -> 199
A77: OTROS DELITOS
A78: DELITOS | B78: SOLICITUDES DEL SERVICIO REALIZADAS EN EL MES | C78: PROCESOS DEL MES | G78: AUDIENCIAS PRELIMINARES DEL MES | N78: AUDIENCIA LIBERTAD POR VENCIMIENTO DE TERMINOS | O78: NEGOCIACIONES ACUERDOS Y PREACUERDOS | P78: JUICIO | S78: INDIVIDUALIZACIÓN DE LA PENA | T78: TERMINACIONES DEL MES | Z78: AUDIENCIA DE INCIDENTE DE REPARACIÓN INTEGRAL | AA78: RECURSOS DEL MES | AD78: PROCESOS MES ANTERIOR
C79: ASIGNADOS | E79: EN TRÁMITE | F79: TERMINADOS | G79: CONTROL DE LA CAPTURA | I79: IMPUTACIÓN | K79: IMPOSICION MEDIDA DE ASEGURAMIENTO | P79: AUDIENCIA DE FORMULACIÓN DE LA ACUSACIÓN | Q79: PREPARATORIA | R79: JUICIO ORAL | T79: CONCILIACIÓN | U79: PRECLUSIÓN | V79: REVOCATORIA DE PODER | W79: OTRAS CAUSAS | X79: AUDIENCIAS DE FALLO | AA79: DE REPOSICIÓN | AB79: DE APELACIÓN
C80: CAPTURADOS | D80: EN LIBERTAD | G80: LEGAL | H80: ILEGAL | I80: FORMULACIÓN | J80: ACEPTACIÓN | K80: SI | M80: NO | X80: ABSOLUTORIAS | Y80: CONDENATORIAS
K81: PRIVATIVA | L81: NO PRIVATIVA
A82: 1 | B82: =SUM(A82+1) -> 2 | C82: =SUM(B82+1) -> 3 | D82: =SUM(C82+1) -> 4 | E82: =SUM(D82+1) -> 5 | F82: =SUM(E82+1) -> 6 | G82: =SUM(F82+1) -> 7 | H82: =SUM(G82+1) -> 8 | I82: =SUM(H82+1) -> 9 | ... AB82: =SUM(AA82+1) -> 28 | AD82: 29
A83: ABANDONO ART. 127 C.P. | B83: =C83+D83 -> 0 | E83: =+B83-F83+AD83 -> 0 | F83: =T83+U83+V83+W83+X83+Y83 -> 0 | W83: =SUM(B265:AB265) -> 0 | AD83: 0
A84: ABUSO DE AUTORIDAD POR ACTO ARBITRARIO | B84: =C84+D84 -> 0 | E84: =+B84-F84+AD84 -> 1 | F84: =T84+U84+V84+W84+X84+Y84 -> 0 | W84: =SUM(B266:AB266) -> 0 | AD84: 1
A85: ABUSO DE CONDICIONES DE INFERIORIDAD. ART. 251 C.P. | B85: =C85+D85 -> 0 | E85: =+B85-F85+AD85 -> 0 | F85: =T85+U85+V85+W85+X85+Y85 -> 0 | W85: =SUM(B267:AB267) -> 0 | AD85: 0
A86: ABUSO DE FUNCION PUBLICA ART. 428 C.P. | B86: =C86+D86 -> 0 | E86: =+B86-F86+AD86 -> 0 | F86: =T86+U86+V86+W86+X86+Y86 -> 0 | W86: =SUM(B268:AB268) -> 0 | AD86: 0
A87: ACCESO ABUSIVO A UN SISTEMA INFORMATICO ART. 269A C. | B87: =C87+D87 -> 0 | E87: =+B87-F87+AD87 -> 0 | F87: =T87+U87+V87+W87+X87+Y87 -> 0 | W87: =SUM(B269:AB269) -> 0 | AD87: 0
A88: ACCESO CARNAL VIOLENTO EN PERSONA PROTEGIDA ART. 138 C.P. | B88: =C88+D88 -> 0 | E88: =+B88-F88+AD88 -> 0 | F88: =T88+U88+V88+W88+X88+Y88 -> 0 | W88: =SUM(B270:AB270) -> 0 | AD88: 0
A89: ACOSO SEXUAL | B89: =C89+D89 -> 0 | E89: =+B89-F89+AD89 -> 0 | F89: =T89+U89+V89+W89+X89+Y89 -> 0 | W89: =SUM(B271:AB271) -> 0 | AD89: 0
A90: ACTO SEXUAL ABUSIVO | B90: =C90+D90 -> 0 | E90: =+B90-F90+AD90 -> 0 | F90: =T90+U90+V90+W90+X90+Y90 -> 0 | W90: =SUM(B272:AB272) -> 0 | AD90: 0
A91: ALTERACION DE RESULTADOS ELECTORALES ART. 394 C.P. | B91: =C91+D91 -> 0 | E91: =+B91-F91+AD91 -> 6 | F91: =T91+U91+V91+W91+X91+Y91 -> 0 | W91: =SUM(B273:AB273) -> 0 | AD91: 6
A92: ALTERACION, DESFIGURACION Y SUPLANTACION DE MARCAS DE GANADO. ART. 243 C.P. | B92: =C92+D92 -> 0 | E92: =+B92-F92+AD92 -> 3 | F92: =T92+U92+V92+W92+X92+Y92 -> 0 | W92: =SUM(B274:AB274) -> 0 | AD92: 3
...

Sheet RENTERIA
B1: Nombre del Proceso/Subproceso: Atención y Trámite/Defensoría Pública | X1: Código: SD-P02-F150
B2: Formato: Estadística Programa Sistema Penal Acusatorio (Ley 906 de 2004) | X2: Versión: 02
X3: =[1]CONTOTAL!X3 -> Vigente desde: 12/02/2024
A4: REGIONAL: VALLE DEL CAUCA | F4: MES: | G4: MARZO | I4: AÑO: | J4: 2024
A5: DELITOS | B5: SOLICITUDES DEL SERVICIO REALIZADAS EN EL MES | C5: PROCESOS DEL MES | G5: AUDIENCIAS PRELIMINARES DEL MES | N5: AUDIENCIA LIBERTAD POR VENCIMIENTO DE TERMINOS | O5: NEGOCIACIO-NES ACUERDOS Y PREACUER-DOS | P5: JUICIO | S5: INDIVIDUA-LIZACIÓN DE LA PENA | T5: TERMINACIONES DEL MES | Z5: AUDIENCIA DE INCIDENTE DE REPARACIÓN INTEGRAL | AA5: RECURSOS DEL MES | AD5: PROCESOS MES ANTERIOR
C6: ASIGNADOS | E6: EN TRÁMITE | F6: TERMINADOS | G6: CONTROL DE LA CAPTURA | I6: IMPUTACIÓN | K6: IMPOSICIÓN MEDIDA DE ASEGURAMIENTO | P6: AUDIENCIA DE FORMULA-CIÓN DE LA ACUSACIÓN | Q6: PREPARATORIA | R6: JUICIO ORAL | T6: CONCILIA-CIÓN | U6: PRECLU-SIÓN | V6: REVOCA-TORIA DE PODER | W6: OTRAS CAUSAS | X6: AUDIENCIAS DE FALLO | AA6: DE REPOSICIÓN | AB6: DE APELACIÓN
C7: CAPTURADOS | D7: EN LIBERTAD | G7: LEGAL | H7: ILEGAL | I7: FORMU-LACIÓN | J7: ACEPTA-CIÓN | K7: SI | M7: NO | X7: ABSOLUTORIAS | Y7: CONDENATORIAS
K8: PRIVATIVA | L8: NO PRIVATIVA
A9: 1 | B9: =SUM(A9+1) -> 2 | C9: =SUM(B9+1) -> 3 | D9: =SUM(C9+1) -> 4 | E9: =SUM(D9+1) -> 5 | F9: =SUM(E9+1) -> 6 | G9: =SUM(F9+1) -> 7 | H9: =SUM(G9+1) -> 8 | I9: =SUM(H9+1) -> 9 | ... AB9: =SUM(AA9+1) -> 28 | AD9: 29
A10: ABORTO | B10: =C10+D10 -> 0 | E10: =+B10-F10+AD10 -> 0 | F10: =T10+U10+V10+W10+X10+Y10 -> 0 | W10: =SUM(B201:AB201) -> 0 | AD10: 0
A11: ABUSO DE CONFIANZA | B11: =C11+D11 -> 0 | E11: =+B11-F11+AD11 -> 0 | F11: =T11+U11+V11+W11+X11+Y11 -> 0 | W11: =SUM(B202:AB202) -> 0 | AD11: 0
A12: ACCESO CARNAL ABUSIVO CON MENOR DE 14 AÑOS | B12: =C12+D12 -> 0 | E12: =+B12-F12+AD12 -> 0 | F12: =T12+U12+V12+W12+X12+Y12 -> 0 | W12: =SUM(B203:AB203) -> 0 | AD12: 0
A13: ACCESO CARNAL CON INCAPAZ DE RESISTIR | B13: =C13+D13 -> 0 | E13: =+B13-F13+AD13 -> 1 | F13: =T13+U13+V13+W13+X13+Y13 -> 0 | W13: =SUM(B204:AB204) -> 0 | AD13: 1
A14: ACCESO CARNAL O ACTO SEXUAL CON PERSONA PUESTA EN INCAPACIDAD DE RESISTIR | B14: =C14+D14 -> 0 | E14: =+B14-F14+AD14 -> 0 | F14: =T14+U14+V14+W14+X14+Y14 -> 0 | W14: =SUM(B205:AB205) -> 0 | AD14: 0
A15: ACCESO CARNAL VIOLENTO | B15: =C15+D15 -> 0 | E15: =+B15-F15+AD15 -> 3 | F15: =T15+U15+V15+W15+X15+Y15 -> 0 | W15: =SUM(B206:AB206) -> 0 | AD15: 3
A16: ACTO SEXUAL CON MENOR DE 14 AÑOS | B16: =C16+D16 -> 0 | E16: =+B16-F16+AD16 -> 4 | F16: =T16+U16+V16+W16+X16+Y16 -> 0 | W16: =SUM(B207:AB207) -> 0 | AD16: 4
A17: ACTO SEXUAL VIOLENTO | B17: =C17+D17 -> 0 | E17: =+B17-F17+AD17 -> 0 | F17: =T17+U17+V17+W17+X17+Y17 -> 0 | W17: =SUM(B208:AB208) -> 0 | AD17: 0
A18: AMENAZAS | B18: =C18+D18 -> 0 | E18: =+B18-F18+AD18 -> 0 | F18: =T18+U18+V18+W18+X18+Y18 -> 0 | W18: =SUM(B209:AB209) -> 0 | AD18: 0
A19: CALUMNIA | B19: =C19+D19 -> 0 | E19: =+B19-F19+AD19 -> 0 | F19: =T19+U19+V19+W19+X19+Y19 -> 0 | W19: =SUM(B210:AB210) -> 0 | AD19: 0
A20: COHECHO | B20: =C20+D20 -> 0 | E20: =+B20-F20+AD20 -> 0 | F20: =T20+U20+V20+W20+X20+Y20 -> 0 | W20: =SUM(B211:AB211) -> 0 | AD20: 0
A21: CONCIERTO PARA DELINQUIR | B21: =C21+D21 -> 0 | E21: =+B21-F21+AD21 -> 0 | F21: =T21+U21+V21+W21+X21+Y21 -> 0 | W21: =SUM(B212:AB212) -> 0 | AD21: 0
... A73: VIOLENCIA INTRAFAMILIAR | B73: =C73+D73 -> 0 | E73: =+B73-F73+AD73 -> 43 | F73: =T73+U73+V73+W73+X73+Y73 -> 0 | W73: =SUM(B264:AB264) -> 0 | AD73: 43
A74: OTROS | B74: =B195 -> 0 | C74: =C195 -> 0 | D74: =D195 -> 0 | E74: =E195 -> 4 | F74: =F195 -> 0 | G74: =G195 -> 0 | H74: =H195 -> 0 | I74: =I195 -> 0 | ... AB74: =AB195 -> 0 | AD74: =AD195 -> 4
A75: TOTALES | B75: =SUM(B10:B74) -> 0 | C75: =SUM(C10:C74) -> 0 | D75: =SUM(D10:D74) -> 0 | E75: =SUM(E10:E74) -> 109 | F75: =SUM(F10:F74) -> 0 | G75: =SUM(G10:G74) -> 0 | H75: =SUM(H10:H74) -> 0 | I75: =SUM(I10:I74) -> 0 | ... AB75: =SUM(AB10:AB74) -> 0 | AD75: =SUM(AD10:AD74) -> 109
A77: OTROS DELITOS
A78: DELITOS | B78: SOLICITUDES DEL SERVICIO REALIZADAS EN EL MES | C78: PROCESOS DEL MES | G78: AUDIENCIAS PRELIMINARES DEL MES | N78: AUDIENCIA LIBERTAD POR VENCIMIENTO DE TERMINOS | O78: NEGOCIACIONES ACUERDOS Y PREACUERDOS | P78: JUICIO | S78: INDIVIDUALIZACIÓN DE LA PENA | T78: TERMINACIONES DEL MES | Z78: AUDIENCIA DE INCIDENTE DE REPARACIÓN INTEGRAL | AA78: RECURSOS DEL MES | AD78: PROCESOS MES ANTERIOR
C79: ASIGNADOS | E79: EN TRÁMITE | F79: TERMINADOS | G79: CONTROL DE LA CAPTURA | I79: IMPUTACIÓN | K79: IMPOSICION MEDIDA DE ASEGURAMIENTO | P79: AUDIENCIA DE FORMULACIÓN DE LA ACUSACIÓN | Q79: PREPARATORIA | R79: JUICIO ORAL | T79: CONCILIACIÓN | U79: PRECLUSIÓN | V79: REVOCATORIA DE PODER | W79: OTRAS CAUSAS | X79: AUDIENCIAS DE FALLO | AA79: DE REPOSICIÓN | AB79: DE APELACIÓN
C80: CAPTURADOS | D80: EN LIBERTAD | G80: LEGAL | H80: ILEGAL | I80: FORMULACIÓN | J80: ACEPTACIÓN | K80: SI | M80: NO | X80: ABSOLUTORIAS | Y80: CONDENATORIAS
K81: PRIVATIVA | L81: NO PRIVATIVA
A82: 1 | B82: =SUM(A82+1) -> 2 | C82: =SUM(B82+1) -> 3 | D82: =SUM(C82+1) -> 4 | E82: =SUM(D82+1) -> 5 | F82: =SUM(E82+1) -> 6 | G82: =SUM(F82+1) -> 7 | H82: =SUM(G82+1) -> 8 | I82: =SUM(H82+1) -> 9 | ... AB82: =SUM(AA82+1) -> 28 | AD82: 29
A83: ABANDONO ART. 127 C.P. | B83: =C83+D83 -> 0 | E83: =+B83-F83+AD83 -> 0 | F83: =T83+U83+V83+W83+X83+Y83 -> 0 | W83: =SUM(B265:AB265) -> 0 | AD83: 0
A84: ABUSO DE AUTORIDAD POR ACTO ARBITRARIO | B84: =C84+D84 -> 0 | E84: =+B84-F84+AD84 -> 0 | F84: =T84+U84+V84+W84+X84+Y84 -> 0 | W84: =SUM(B266:AB266) -> 0 | AD84: 0
A85: ABUSO DE CONDICIONES DE INFERIORIDAD. ART. 251 C.P. | B85: =C85+D85 -> 0 | E85: =+B85-F85+AD85 -> 0 | F85: =T85+U85+V85+W85+X85+Y85 -> 0 | W85: =SUM(B267:AB267) -> 0 | AD85: 0
A86: ABUSO DE FUNCION PUBLICA ART. 428 C.P. | B86: =C86+D86 -> 0 | E86: =+B86-F86+AD86 -> 0 | F86: =T86+U86+V86+W86+X86+Y86 -> 0 | W86: =SUM(B268:AB268) -> 0 | AD86: 0
A87: ACCESO ABUSIVO A UN SISTEMA INFORMATICO ART. 269A C. | B87: =C87+D87 -> 0 | E87: =+B87-F87+AD87 -> 0 | F87: =T87+U87+V87+W87+X87+Y87 -> 0 | W87: =SUM(B269:AB269) -> 0 | AD87: 0
A88: ACCESO CARNAL VIOLENTO EN PERSONA PROTEGIDA ART. 138 C.P. | B88: =C88+D88 -> 0 | E88: =+B88-F88+AD88 -> 0 | F88: =T88+U88+V88+W88+X88+Y88 -> 0 | W88: =SUM(B270:AB270) -> 0 | AD88: 0
A89: ACOSO SEXUAL | B89: =C89+D89 -> 0 | E89: =+B89-F89+AD89 -> 2 | F89: =T89+U89+V89+W89+X89+Y89 -> 0 | W89: =SUM(B271:AB271) -> 0 | AD89: 2
A90: ACTO SEXUAL ABUSIVO | B90: =C90+D90 -> 0 | E90: =+B90-F90+AD90 -> 0 | F90: =T90+U90+V90+W90+X90+Y90 -> 0 | W90: =SUM(B272:AB272) -> 0 | AD90: 0
A91: ALTERACION DE RESULTADOS ELECTORALES ART. 394 C.P. | B91: =C91+D91 -> 0 | E91: =+B91-F91+AD91 -> 0 | F91: =T91+U91+V91+W91+X91+Y91 -> 0 | W91: =SUM(B273:AB273) -> 0 | AD91: 0
A92: ALTERACION, DESFIGURACION Y SUPLANTACION DE MARCAS DE GANADO. ART. 243 C.P. | B92: =C92+D92 -> 0 | E92: =+B92-F92+AD92 -> 0 | F92: =T92+U92+V92+W92+X92+Y92 -> 0 | W92: =SUM(B274:AB274) -> 0 | AD92: 0
...

Sheet SABOGAL
B1: Nombre del Proceso/Subproceso: Atención y Trámite/Defensoría Pública | X1: Código: SD-P02-F150
B2: Manual, Instructivo o Formato: Estadística Programa Sistema Penal Acusatorio (Ley 906 de 2004) (V1-22) | X2: Versión: 01/22 CAST
X3: Vigente desde: 03/12/2018
A4: REGIONAL: VALLE DEL CAUCA | F4: MES: | G4: MAYO | I4: AÑO: 2024
A5: DELITOS | B5: SOLICITUDES DEL SERVICIO REALIZADAS EN EL MES | C5: PROCESOS DEL MES | G5: AUDIENCIAS PRELIMINARES DEL MES | N5: AUDIENCIA LIBERTAD POR VENCIMIENTO DE TERMINOS | O5: NEGOCIACIO-NES ACUERDOS Y PREACUER-DOS | P5: JUICIO | S5: INDIVIDUA-LIZACIÓN DE LA PENA | T5: TERMINACIONES DEL MES | Z5: AUDIENCIA DE INCIDENTE DE REPARACIÓN INTEGRAL | AA5: RECURSOS DEL MES | AD5: PROCESOS MES ANTERIOR
C6: ASIGNADOS | E6: EN TRÁMITE | F6: TERMINADOS | G6: CONTROL DE LA CAPTURA | I6: IMPUTACIÓN | K6: IMPOSICIÓN MEDIDA DE ASEGURAMIENTO | P6: AUDIENCIA DE FORMULA-CIÓN DE LA ACUSACIÓN | Q6: PREPARATORIA | R6: JUICIO ORAL | T6: CONCILIA-CIÓN | U6: PRECLU-SIÓN | V6: REVOCA-TORIA DE PODER | W6: OTRAS CAUSAS | X6: AUDIENCIAS DE FALLO | AA6: DE REPOSICIÓN | AB6: DE APELACIÓN
C7: CAPTURADOS | D7: EN LIBERTAD | G7: LEGAL | H7: ILEGAL | I7: FORMU-LACIÓN | J7: ACEPTA-CIÓN | K7: SI | M7: NO | X7: ABSOLUTORIAS | Y7: CONDENATORIAS
K8: PRIVATIVA | L8: NO PRIVATIVA
A9: 1 | B9: =SUM(A9+1) -> 2 | C9: =SUM(B9+1) -> 3 | D9: =SUM(C9+1) -> 4 | E9: =SUM(D9+1) -> 5 | F9: =SUM(E9+1) -> 6 | G9: =SUM(F9+1) -> 7 | H9: =SUM(G9+1) -> 8 | I9: =SUM(H9+1) -> 9 | ... AB9: =SUM(AA9+1) -> 28 | AD9: 29
A10: ABORTO | B10: =C10+D10 -> 0 | E10: =+B10-F10+AD10 -> 0 | F10: =T10+U10+V10+W10+X10+Y10 -> 0 | W10: =SUM(B201:AB201) -> 0 | AD10: 0
A11: ABUSO DE CONFIANZA | B11: =C11+D11 -> 0 | E11: =+B11-F11+AD11 -> 0 | F11: =T11+U11+V11+W11+X11+Y11 -> 0 | W11: =SUM(B202:AB202) -> 0 | AD11: 0
A12: ACCESO CARNAL ABUSIVO CON MENOR DE 14 AÑOS | B12: =C12+D12 -> 1 | C12: 1 | E12: =+B12-F12+AD12 -> 1 | F12: =T12+U12+V12+W12+X12+Y12 -> 1 | G12: 1 | I12: 1 | J12: NO | K12: 1 | W12: =SUM(B203:AB203) -> 1 | AD12: 1
A13: ACCESO CARNAL CON INCAPAZ DE RESISTIR | B13: =C13+D13 -> 0 | E13: =+B13-F13+AD13 -> 0 | F13: =T13+U13+V13+W13+X13+Y13 -> 0 | W13: =SUM(B204:AB204) -> 0 | AD13: 0
A14: ACCESO CARNAL O ACTO SEXUAL CON PERSONA PUESTA EN INCAPACIDAD DE RESISTIR | B14: =C14+D14 -> 0 | E14: =+B14-F14+AD14 -> 0 | F14: =T14+U14+V14+W14+X14+Y14 -> 0 | W14: =SUM(B205:AB205) -> 0 | AD14: 0
A15: ACCESO CARNAL VIOLENTO | B15: =C15+D15 -> 0 | E15: =+B15-F15+AD15 -> 0 | F15: =T15+U15+V15+W15+X15+Y15 -> 0 | W15: =SUM(B206:AB206) -> 0 | AD15: 0
A16: ACTO SEXUAL CON MENOR DE 14 AÑOS | B16: =C16+D16 -> 0 | E16: =+B16-F16+AD16 -> 0 | F16: =T16+U16+V16+W16+X16+Y16 -> 1 | W16: =SUM(B207:AB207) -> 1 | AD16: 1
A17: ACTO SEXUAL VIOLENTO | B17: =C17+D17 -> 0 | E17: =+B17-F17+AD17 -> 0 | F17: =T17+U17+V17+W17+X17+Y17 -> 0 | W17: =SUM(B208:AB208) -> 0 | AD17: 0
A18: AMENAZAS | B18: =C18+D18 -> 0 | E18: =+B18-F18+AD18 -> 0 | F18: =T18+U18+V18+W18+X18+Y18 -> 2 | W18: =SUM(B209:AB209) -> 2 | AD18: 2
A19: CALUMNIA | B19: =C19+D19 -> 0 | E19: =+B19-F19+AD19 -> 0 | F19: =T19+U19+V19+W19+X19+Y19 -> 0 | W19: =SUM(B210:AB210) -> 0 | AD19: 0
A20: COHECHO | B20: =C20+D20 -> 0 | E20: =+B20-F20+AD20 -> 0 | F20: =T20+U20+V20+W20+X20+Y20 -> 0 | W20: =SUM(B211:AB211) -> 0 | AD20: 0
A21: CONCIERTO PARA DELINQUIR | B21: =C21+D21 -> 0 | E21: =+B21-F21+AD21 -> 0 | F21: =T21+U21+V21+W21+X21+Y21 -> 0 | W21: =SUM(B212:AB212) -> 0 | AD21: 0
A22: CONCUSIÓN | B22: =C22+D22 -> 0 | E22: =+B22-F22+AD22 -> 0 | F22: =T22+U22+V22+W22+X22+Y22 -> 0 | W22: =SUM(B213:AB213) -> 0 | AD22: 0
A23: CONSERVACIÓN O FINANCIACIÓN DE PLANTACIONES | B23: =C23+D23 -> 0 | E23: =+B23-F23+AD23 -> 0 | F23: =T23+U23+V23+W23+X23+Y23 -> 0 | W23: =SUM(B214:AB214) -> 0 | AD23: 0
A24: CONSTREÑIMIENTO ILEGAL | B24: =C24+D24 -> 0 | E24: =+B24-F24+AD24 -> 0 | F24: =T24+U24+V24+W24+X24+Y24 -> 0 | W24: =SUM(B215:AB215) -> 0 | AD24: 0
... A29: ENTRENAMIENTO PARA ACTIVIDADES ILÍCITAS | B29: =C29+D29 -> 0 | E29: =+B29-F29+AD29 -> 0 | F29: =T29+U29+V29+W29+X29+Y29 -> 0 | W29: =SUM(B220:AB220) -> 0 | AD29: 0
A30: ESTAFA | B30: =C30+D30 -> 2 | D30: 2 | E30: =+B30-F30+AD30 -> 3 | F30: =T30+U30+V30+W30+X30+Y30 -> 0 | W30: =SUM(B221:AB221) -> 0 | AD30: 1
A31: ESTÍMULO A LA PROSTITUCIÓN DE MENORES | B31: =C31+D31 -> 0 | E31: =+B31-F31+AD31 -> 0 | F31: =T31+U31+V31+W31+X31+Y31 -> 0 | W31: =SUM(B222:AB222) -> 0 | AD31: 0
A32: EXTORSIÓN | B32: =C32+D32 -> 1 | C32: 1 | E32: =+B32-F32+AD32 -> 1 | F32: =T32+U32+V32+W32+X32+Y32 -> 0 | G32: 1 | I32: 1 | J32: NO | K32: 1 | W32: =SUM(B223:AB223) -> 0 | AD32: 0
A33: EXPLOTACIÓN ILÍCITA DE YACIMIENTOS MINEROS | B33: =C33+D33 -> 0 | E33: =+B33-F33+AD33 -> 0 | F33: =T33+U33+V33+W33+X33+Y33 -> 0 | W33: =SUM(B224:AB224) -> 0 | AD33: 0
A34: FABRICACIÓN, TRÁFICO, PORTE DE ARMAS DE FUEGO O MUNICIONES | B34: =C34+D34 -> 0 | E34: =+B34-F34+AD34 -> 1 | F34: =T34+U34+V34+W34+X34+Y34 -> 1 | W34: =SUM(B225:AB225) -> 1 | AD34: 2
A35: FALSEDAD | B35: =C35+D35 -> 0 | E35: =+B35-F35+AD35 -> 0 | F35: =T35+U35+V35+W35+X35+Y35 -> 0 | W35: =SUM(B226:AB226) -> 0 | AD35: 0
A36: FALSEDAD DE DOCUMENTOS | B36: =C36+D36 -> 0 | E36: =+B36-F36+AD36 -> 0 | F36: =T36+U36+V36+W36+X36+Y36 -> 0 | W36: =SUM(B227:AB227) -> 0 | AD36: 0
A37: FALSEDAD MARCARIA | B37: =C37+D37 -> 0 | E37: =+B37-F37+AD37 -> 0 | F37: =T37+U37+V37+W37+X37+Y37 -> 0 | W37: =SUM(B228:AB228) -> 0 | AD37: 0
A38: FALSIFICACIÓN DE MONEDA | B38: =C38+D38 -> 0 | E38: =+B38-F38+AD38 -> 0 | F38: =T38+U38+V38+W38+X38+Y38 -> 0 | W38: =SUM(B229:AB229) -> 0 | AD38: 0
A39: FEMINICIDIO | B39: =C39+D39 -> 0 | E39: =+B39-F39+AD39 -> 0 | F39: =T39+U39+V39+W39+X39+Y39 -> 0 | W39: =SUM(B230:AB230) -> 0 | AD39: 0
A40: FRAUDE PROCESAL | B40: =C40+D40 -> 0 | E40: =+B40-F40+AD40 -> 0 | F40: =T40+U40+V40+W40+X40+Y40 -> 0 | W40: =SUM(B231:AB231) -> 0 | AD40: 0
A41: FUGA DE PRESOS | B41: =C41+D41 -> 0 | E41: =+B41-F41+AD41 -> 0 | F41: =T41+U41+V41+W41+X41+Y41 -> 0 | W41: =SUM(B232:AB232) -> 0 | AD41: 0
A42: GESTIÓN INDEBIDA DE RECURSOS SOCIALES | B42: =C42+D42 -> 0 | E42: =+B42-F42+AD42 -> 0 | F42: =T42+U42+V42+W42+X42+Y42 -> 0 | W42: =SUM(B233:AB233) -> 0 | AD42: 0
A43: HOMICIDIO | B43: =C43+D43 -> 0 | E43: =+B43-F43+AD43 -> 0 | F43: =T43+U43+V43+W43+X43+Y43 -> 0 | W43: =SUM(B234:AB234) -> 0 | AD43: 0
A44: HURTO | B44: =C44+D44 -> 1 | C44: 1 | E44: =+B44-F44+AD44 -> 14 | F44: =T44+U44+V44+W44+X44+Y44 -> 1 | G44: 1 | I44: 1 | J44: SI | M44: X | O44: 3 | S44: 3 | W44: =SUM(B235:AB235) -> 1 | AD44: 14
...

Sheet VIERA
B1: Nombre del Proceso/Subproceso: Atención y Trámite/Defensoría Pública | X1: Código: SD-P02-F150
B2: Manual, Instructivo o Formato: Estadística Programa Sistema Penal Acusatorio (Ley 906 de 2004) (V1-22) | X2: Versión: 01/22 CAST
X3: Vigente desde: 03/12/2018
A4: REGIONAL: VALLE DEL CAUCA | F4: MES: | G4: MARZO | I4: AÑO: | J4: 2024
A5: DELITOS | B5: SOLICITUDES DEL SERVICIO REALIZADAS EN EL MES | C5: PROCESOS DEL MES | G5: AUDIENCIAS PRELIMINARES DEL MES | N5: AUDIENCIA LIBERTAD POR VENCIMIENTO DE TERMINOS | O5: NEGOCIACIO-NES ACUERDOS Y PREACUER-DOS | P5: JUICIO | S5: INDIVIDUA-LIZACIÓN DE LA PENA | T5: TERMINACIONES DEL MES | Z5: AUDIENCIA DE INCIDENTE DE REPARACIÓN INTEGRAL | AA5: RECURSOS DEL MES | AD5: PROCESOS MES ANTERIOR
C6: ASIGNADOS | E6: EN TRÁMITE | F6: TERMINADOS | G6: CONTROL DE LA CAPTURA | I6: IMPUTACIÓN | K6: IMPOSICIÓN MEDIDA DE ASEGURAMIENTO | P6: AUDIENCIA DE FORMULA-CIÓN DE LA ACUSACIÓN | Q6: PREPARATORIA | R6: JUICIO ORAL | T6: CONCILIA-CIÓN | U6: PRECLU-SIÓN | V6: REVOCA-TORIA DE PODER | W6: OTRAS CAUSAS | X6: AUDIENCIAS DE FALLO | AA6: DE REPOSICIÓN | AB6: DE APELACIÓN
C7: CAPTURADOS | D7: EN LIBERTAD | G7: LEGAL | H7: ILEGAL | I7: FORMU-LACIÓN | J7: ACEPTA-CIÓN | K7: SI | M7: NO | X7: ABSOLUTORIAS | Y7: CONDENATORIAS
K8: PRIVATIVA | L8: NO PRIVATIVA
A9: 1 | B9: =SUM(A9+1) -> 2 | C9: =SUM(B9+1) -> 3 | D9: =SUM(C9+1) -> 4 | E9: =SUM(D9+1) -> 5 | F9: =SUM(E9+1) -> 6 | G9: =SUM(F9+1) -> 7 | H9: =SUM(G9+1) -> 8 | I9: =SUM(H9+1) -> 9 | ... AB9: =SUM(AA9+1) -> 28 | AD9: 29
A10: ABORTO | B10: =C10+D10 -> 0 | E10: =+B10-F10+AD10 -> 0 | F10: =T10+U10+V10+W10+X10+Y10 -> 0 | W10: =SUM(B201:AB201) -> 0 | AD10: 0
A11: ABUSO DE CONFIANZA | B11: =C11+D11 -> 0 | E11: =+B11-F11+AD11 -> 0 | F11: =T11+U11+V11+W11+X11+Y11 -> 0 | W11: =SUM(B202:AB202) -> 0 | AD11: 0
A12: ACCESO CARNAL ABUSIVO CON MENOR DE 14 AÑOS | B12: =C12+D12 -> 0 | E12: =+B12-F12+AD12 -> 0 | F12: =T12+U12+V12+W12+X12+Y12 -> 0 | W12: =SUM(B203:AB203) -> 0 | AD12: 0
A13: ACCESO CARNAL CON INCAPAZ DE RESISTIR | B13: =C13+D13 -> 0 | E13: =+B13-F13+AD13 -> 0 | F13: =T13+U13+V13+W13+X13+Y13 -> 0 | W13: =SUM(B204:AB204) -> 0 | AD13: 0
A14: ACCESO CARNAL O ACTO SEXUAL CON PERSONA PUESTA EN INCAPACIDAD DE RESISTIR | B14: =C14+D14 -> 0 | E14: =+B14-F14+AD14 -> 0 | F14: =T14+U14+V14+W14+X14+Y14 -> 0 | W14: =SUM(B205:AB205) -> 0 | AD14: 0
A15: ACCESO CARNAL VIOLENTO | B15: =C15+D15 -> 0 | E15: =+B15-F15+AD15 -> 0 | F15: =T15+U15+V15+W15+X15+Y15 -> 0 | W15: =SUM(B206:AB206) -> 0 | AD15: 0
A16: ACTO SEXUAL CON MENOR DE 14 AÑOS | B16: =C16+D16 -> 0 | E16: =+B16-F16+AD16 -> 2 | F16: =T16+U16+V16+W16+X16+Y16 -> 0 | W16: =SUM(B207:AB207) -> 0 | AD16: 2
A17: ACTO SEXUAL VIOLENTO | B17: =C17+D17 -> 0 | E17: =+B17-F17+AD17 -> 0 | F17: =T17+U17+V17+W17+X17+Y17 -> 0 | W17: =SUM(B208:AB208) -> 0 | AD17: 0
A18: AMENAZAS | B18: =C18+D18 -> 0 | E18: =+B18-F18+AD18 -> 0 | F18: =T18+U18+V18+W18+X18+Y18 -> 0 | W18: =SUM(B209:AB209) -> 0 | AD18: 0
A19: CALUMNIA | B19: =C19+D19 -> 0 | E19: =+B19-F19+AD19 -> 0 | F19: =T19+U19+V19+W19+X19+Y19 -> 0 | W19: =SUM(B210:AB210) -> 0 | AD19: 0
A20: COHECHO | B20: =C20+D20 -> 0 | E20: =+B20-F20+AD20 -> 0 | F20: =T20+U20+V20+W20+X20+Y20 -> 0 | W20: =SUM(B211:AB211) -> 0 | AD20: 0
A21: CONCIERTO PARA DELINQUIR | B21: =C21+D21 -> 0 | E21: =+B21-F21+AD21 -> 0 | F21: =T21+U21+V21+W21+X21+Y21 -> 0 | W21: =SUM(B212:AB212) -> 0 | AD21: 0
... A73: VIOLENCIA INTRAFAMILIAR | B73: =C73+D73 -> 0 | E73: =+B73-F73+AD73 -> 14 | F73: =T73+U73+V73+W73+X73+Y73 -> 0 | W73: =SUM(B264:AB264) -> 0 | AD73: 14
A74: OTROS | B74: =B195 -> 0 | C74: =C195 -> 0 | D74: =D195 -> 0 | E74: =E195 -> 0 | F74: =F195 -> 0 | G74: =G195 -> 0 | H74: =H195 -> 0 | I74: =I195 -> 0 | ... AB74: =AB195 -> 0 | AD74: =AD195 -> 0
A75: TOTALES | B75: =SUM(B10:B74) -> 0 | C75: =SUM(C10:C74) -> 0 | D75: =SUM(D10:D74) -> 0 | E75: =SUM(E10:E74) -> 19 | F75: =SUM(F10:F74) -> 0 | G75: =SUM(G10:G74) -> 0 | H75: =SUM(H10:H74) -> 0 | I75: =SUM(I10:I74) -> 0 | ... AB75: =SUM(AB10:AB74) -> 0 | AD75: =SUM(AD10:AD74) -> 19
A77: OTROS DELITOS
A78: DELITOS | B78: SOLICITUDES DEL SERVICIO REALIZADAS EN EL MES | C78: PROCESOS DEL MES | G78: AUDIENCIAS PRELIMINARES DEL MES | N78: AUDIENCIA LIBERTAD POR VENCIMIENTO DE TERMINOS | O78: NEGOCIACIONES ACUERDOS Y PREACUERDOS | P78: JUICIO | S78: INDIVIDUALIZACIÓN DE LA PENA | T78: TERMINACIONES DEL MES | Z78: AUDIENCIA DE INCIDENTE DE REPARACIÓN INTEGRAL | AA78: RECURSOS DEL MES | AD78: PROCESOS MES ANTERIOR
C79: ASIGNADOS | E79: EN TRÁMITE | F79: TERMINADOS | G79: CONTROL DE LA CAPTURA | I79: IMPUTACIÓN | K79: IMPOSICION MEDIDA DE ASEGURAMIENTO | P79: AUDIENCIA DE FORMULACIÓN DE LA ACUSACIÓN | Q79: PREPARATORIA | R79: JUICIO ORAL | T79: CONCILIACIÓN | U79: PRECLUSIÓN | V79: REVOCATORIA DE PODER | W79: OTRAS CAUSAS | X79: AUDIENCIAS DE FALLO | AA79: DE REPOSICIÓN | AB79: DE APELACIÓN
C80: CAPTURADOS | D80: EN LIBERTAD | G80: LEGAL | H80: ILEGAL | I80: FORMULACIÓN | J80: ACEPTACIÓN | K80: SI | M80: NO | X80: ABSOLUTORIAS | Y80: CONDENATORIAS
K81: PRIVATIVA | L81: NO PRIVATIVA
A82: 1 | B82: =SUM(A82+1) -> 2 | C82: =SUM(B82+1) -> 3 | D82: =SUM(C82+1) -> 4 | E82: =SUM(D82+1) -> 5 | F82: =SUM(E82+1) -> 6 | G82: =SUM(F82+1) -> 7 | H82: =SUM(G82+1) -> 8 | I82: =SUM(H82+1) -> 9 | ... AB82: =SUM(AA82+1) -> 28 | AD82: 29
A83: ABANDONO ART. 127 C.P. | B83: =C83+D83 -> 0 | E83: =+B83-F83+AD83 -> 0 | F83: =T83+U83+V83+W83+X83+Y83 -> 0 | W83: =SUM(B265:AB265) -> 0 | AD83: 0
A84: ABUSO DE AUTORIDAD POR ACTO ARBITRARIO | B84: =C84+D84 -> 0 | E84: =+B84-F84+AD84 -> 0 | F84: =T84+U84+V84+W84+X84+Y84 -> 0 | W84: =SUM(B266:AB266) -> 0 | AD84: 0
A85: ABUSO DE CONDICIONES DE INFERIORIDAD. ART. 251 C.P. | B85: =C85+D85 -> 0 | E85: =+B85-F85+AD85 -> 0 | F85: =T85+U85+V85+W85+X85+Y85 -> 0 | W85: =SUM(B267:AB267) -> 0 | AD85: 0
A86: ABUSO DE FUNCION PUBLICA ART. 428 C.P. | B86: =C86+D86 -> 0 | E86: =+B86-F86+AD86 -> 0 | F86: =T86+U86+V86+W86+X86+Y86 -> 0 | W86: =SUM(B268:AB268) -> 0 | AD86: 0
A87: ACCESO ABUSIVO A UN SISTEMA INFORMATICO ART. 269A C. | B87: =C87+D87 -> 0 | E87: =+B87-F87+AD87 -> 0 | F87: =T87+U87+V87+W87+X87+Y87 -> 0 | W87: =SUM(B269:AB269) -> 0 | AD87: 0
A88: ACCESO CARNAL VIOLENTO EN PERSONA PROTEGIDA ART. 138 C.P. | B88: =C88+D88 -> 0 | E88: =+B88-F88+AD88 -> 0 | F88: =T88+U88+V88+W88+X88+Y88 -> 0 | W88: =SUM(B270:AB270) -> 0 | AD88: 0
A89: ACOSO SEXUAL | B89: =C89+D89 -> 0 | E89: =+B89-F89+AD89 -> 0 | F89: =T89+U89+V89+W89+X89+Y89 -> 0 | W89: =SUM(B271:AB271) -> 0 | AD89: 0
A90: ACTO SEXUAL ABUSIVO | B90: =C90+D90 -> 0 | E90: =+B90-F90+AD90 -> 0 | F90: =T90+U90+V90+W90+X90+Y90 -> 0 | W90: =SUM(B272:AB272) -> 0 | AD90: 0
A91: ALTERACION DE RESULTADOS ELECTORALES ART. 394 C.P. | B91: =C91+D91 -> 0 | E91: =+B91-F91+AD91 -> 0 | F91: =T91+U91+V91+W91+X91+Y91 -> 0 | W91: =SUM(B273:AB273) -> 0 | AD91: 0
A92: ALTERACION, DESFIGURACION Y SUPLANTACION DE MARCAS DE GANADO. ART. 243 C.P. | B92: =C92+D92 -> 0 | E92: =+B92-F92+AD92 -> 0 | F92: =T92+U92+V92+W92+X92+Y92 -> 0 | W92: =SUM(B274:AB274) -> 0 | AD92: 0
...

Sheet ZULUAGA
B1: Nombre del Proceso/Subproceso: Atención y Trámite/Defensoría Pública | X1: Código: SD-P02-F150
B2: Manual, Instructivo o Formato: Estadística Programa Sistema Penal Acusatorio (Ley 906 de 2004) | X2: Versión: 01
X3: Vigente desde: 03/12/2018
A4: REGIONAL: VALLE DEL CAUCA | F4: MES: MARZO | I4: AÑO: 2024
A5: DELITOS | B5: SOLICITUDES DEL SERVICIO REALIZADAS EN EL MES | C5: PROCESOS DEL MES | G5: AUDIENCIAS PRELIMINARES DEL MES | N5: AUDIENCIA LIBERTAD POR VENCIMIENTO DE TERMINOS | O5: NEGOCIACIO-NES ACUERDOS Y PREACUER-DOS | P5: JUICIO | S5: INDIVIDUA-LIZACIÓN DE LA PENA | T5: TERMINACIONES DEL MES | Z5: AUDIENCIA DE INCIDENTE DE REPARACIÓN INTEGRAL | AA5: RECURSOS DEL MES | AD5: PROCESOS MES ANTERIOR
C6: ASIGNADOS | E6: EN TRÁMITE | F6: TERMINADOS | G6: CONTROL DE LA CAPTURA | I6: IMPUTACIÓN | K6: IMPOSICIÓN MEDIDA DE ASEGURAMIENTO | P6: AUDIENCIA DE FORMULA-CIÓN DE LA ACUSACIÓN | Q6: PREPARATORIA | R6: JUICIO ORAL | T6: CONCILIA-CIÓN | U6: PRECLU-SIÓN | V6: REVOCA-TORIA DE PODER | W6: OTRAS CAUSAS | X6: AUDIENCIAS DE FALLO | AA6: DE REPOSICIÓN | AB6: DE APELACIÓN
C7: CAPTURADOS | D7: EN LIBERTAD | G7: LEGAL | H7: ILEGAL | I7: FORMU-LACIÓN | J7: ACEPTA-CIÓN | K7: SI | M7: NO | X7: ABSOLUTORIAS | Y7: CONDENATORIAS
K8: PRIVATIVA | L8: NO PRIVATIVA
A9: 1 | B9: 2 | C9: 2 | D9: 2 | E9: 2 | F9: 2 | G9: 2 | H9: 2 | I9: 2 | J9: 2 | K9: 2 | L9: 2 | M9: 2 | N9: 2 | O9: 2 | P9: 2 | Q9: 2 | R9: 2 | S9: 2 | T9: 2 | U9: 2 | V9: 2 | W9: 2 | X9: 2 | Y9: 2 | Z9: 2 | AA9: 2 | AB9: 2 | AD9: 29
A10: ABORTO | B10: =+C10+D10 -> 0 | E10: =+B10-F10+AD10 -> 0 | F10: =+T10+U10+V10+W10+X10+Y10 -> 0 | W10: =SUM(B201:AB201) -> 0 | AD10: 0
A11: ABUSO DE CONFIANZA | B11: =+C11+D11 -> 0 | E11: =+B11-F11+AD11 -> 2 | F11: =+T11+U11+V11+W11+X11+Y11 -> 0 | W11: =SUM(B202:AB202) -> 0 | AD11: 2
A12: ACCESO CARNAL ABUSIVO CON MENOR DE 14 AÑOS | B12: =+C12+D12 -> 0 | E12: =+B12-F12+AD12 -> 0 | F12: =+T12+U12+V12+W12+X12+Y12 -> 0 | W12: =SUM(B203:AB203) -> 0 | AD12: 0
A13: ACCESO CARNAL CON INCAPAZ DE RESISTIR | B13: =+C13+D13 -> 0 | E13: =+B13-F13+AD13 -> 0 | F13: =+T13+U13+V13+W13+X13+Y13 -> 0 | W13: =SUM(B204:AB204) -> 0 | AD13: 0
A14: ACCESO CARNAL O ACTO SEXUAL CON PERSONA PUESTA EN INCAPACIDAD DE RESISTIR | B14: =+C14+D14 -> 0 | E14: =+B14-F14+AD14 -> 0 | F14: =+T14+U14+V14+W14+X14+Y14 -> 0 | W14: =SUM(B205:AB205) -> 0 | AD14: 0
A15: ACCESO CARNAL VIOLENTO | B15: =+C15+D15 -> 0 | E15: =+B15-F15+AD15 -> 0 | F15: =+T15+U15+V15+W15+X15+Y15 -> 0 | W15: =SUM(B206:AB206) -> 0 | AD15: 0
A16: ACTO SEXUAL CON MENOR DE 14 AÑOS | B16: =+C16+D16 -> 0 | E16: =+B16-F16+AD16 -> 6 | F16: =+T16+U16+V16+W16+X16+Y16 -> 0 | W16: =SUM(B207:AB207) -> 0 | AD16: 6
A17: ACTO SEXUAL VIOLENTO | B17: =+C17+D17 -> 0 | E17: =+B17-F17+AD17 -> 0 | F17: =+T17+U17+V17+W17+X17+Y17 -> 0 | W17: =SUM(B208:AB208) -> 0 | AD17: 0
A18: AMENAZAS | B18: =+C18+D18 -> 0 | E18: =+B18-F18+AD18 -> 0 | F18: =+T18+U18+V18+W18+X18+Y18 -> 0 | W18: =SUM(B209:AB209) -> 0 | AD18: 0
A19: CALUMNIA | B19: =+C19+D19 -> 0 | E19: =+B19-F19+AD19 -> 0 | F19: =+T19+U19+V19+W19+X19+Y19 -> 0 | W19: =SUM(B210:AB210) -> 0 | AD19: 0
A20: COHECHO | B20: =+C20+D20 -> 0 | E20: =+B20-F20+AD20 -> 0 | F20: =+T20+U20+V20+W20+X20+Y20 -> 0 | W20: =SUM(B211:AB211) -> 0 | AD20: 0
A21: CONCIERTO PARA DELINQUIR | B21: =+C21+D21 -> 0 | E21: =+B21-F21+AD21 -> 0 | F21: =+T21+U21+V21+W21+X21+Y21 -> 0 | W21: =SUM(B212:AB212) -> 0 | AD21: 0
... A73: VIOLENCIA INTRAFAMILIAR | B73: =+C73+D73 -> 0 | E73: =+B73-F73+AD73 -> 41 | F73: =+T73+U73+V73+W73+X73+Y73 -> 0 | W73: =SUM(B264:AB264) -> 0 | AD73: 41
A74: OTROS | B74: =+B195 -> 0 | C74: =+C195 -> 0 | D74: =+D195 -> 0 | E74: =+E195 -> 0 | F74: =+F195 -> 0 | G74: =+G195 -> 0 | H74: =+H195 -> 0 | I74: =+I195 -> 0 | ... AB74: =+AB195 -> 0 | AD74: =+AD195 -> 0
A75: TOTALES | B75: =SUM(B10:B74) -> 0 | C75: =SUM(C10:C74) -> 0 | D75: =SUM(D10:D74) -> 0 | E75: =SUM(E10:E74) -> 98 | F75: =SUM(F10:F74) -> 0 | G75: =SUM(G10:G74) -> 0 | H75: =SUM(H10:H74) -> 0 | I75: =SUM(I10:I74) -> 0 | ... AB75: =SUM(AB10:AB74) -> 0 | AD75: =SUM(AD10:AD74) -> 98
A77: OTROS DELITOS
A78: DELITOS | B78: SOLICITUDES DEL SERVICIO REALIZADAS EN EL MES | C78: PROCESOS DEL MES | G78: AUDIENCIAS PRELIMINARES DEL MES | N78: AUDIENCIA LIBERTAD POR VENCIMIENTO DE TERMINOS | O78: NEGOCIACIONES ACUERDOS Y PREACUERDOS | P78: JUICIO | S78: INDIVIDUALIZACIÓN DE LA PENA | T78: TERMINACIONES DEL MES | Z78: AUDIENCIA DE INCIDENTE DE REPARACIÓN INTEGRAL | AA78: RECURSOS DEL MES | AD78: PROCESOS MES ANTERIOR
C79: ASIGNADOS | E79: EN TRÁMITE | F79: TERMINADOS | G79: CONTROL DE LA CAPTURA | I79: IMPUTACIÓN | K79: IMPOSICION MEDIDA DE ASEGURAMIENTO | P79: AUDIENCIA DE FORMULACIÓN DE LA ACUSACIÓN | Q79: PREPARATORIA | R79: JUICIO ORAL | T79: CONCILIACIÓN | U79: PRECLUSIÓN | V79: REVOCATORIA DE PODER | W79: OTRAS CAUSAS | X79: AUDIENCIAS DE FALLO | AA79: DE REPOSICIÓN | AB79: DE APELACIÓN
C80: CAPTURADOS | D80: EN LIBERTAD | G80: LEGAL | H80: ILEGAL | I80: FORMULACIÓN | J80: ACEPTACIÓN | K80: SI | M80: NO | X80: ABSOLUTORIAS | Y80: CONDENATORIAS
K81: PRIVATIVA | L81: NO PRIVATIVA
A82: 1 | B82: 2 | C82: 2 | D82: 2 | E82: 2 | F82: 2 | G82: 2 | H82: 2 | I82: 2 | J82: 2 | K82: 2 | L82: 2 | M82: 2 | N82: 2 | O82: 2 | P82: 2 | Q82: 2 | R82: 2 | S82: 2 | T82: 2 | U82: 2 | V82: 2 | W82: 2 | X82: 2 | Y82: 2 | Z82: 2 | AA82: 2 | AB82: 2 | AD82: 29
A83: ABANDONO ART. 127 C.P. | B83: =+C83+D83 -> 0 | E83: =+B83-F83+AD83 -> 0 | F83: =+T83+U83+V83+W83+X83+Y83 -> 0 | W83: =SUM(B265:AB265) -> 0 | AD83: 0
A84: ABUSO DE AUTORIDAD POR ACTO ARBITRARIO | B84: =+C84+D84 -> 0 | E84: =+B84-F84+AD84 -> 0 | F84: =+T84+U84+V84+W84+X84+Y84 -> 0 | W84: =SUM(B266:AB266) -> 0 | AD84: 0
A85: ABUSO DE CONDICIONES DE INFERIORIDAD. ART. 251 C.P. | B85: =+C85+D85 -> 0 | E85: =+B85-F85+AD85 -> 0 | F85: =+T85+U85+V85+W85+X85+Y85 -> 0 | W85: =SUM(B267:AB267) -> 0 | AD85: 0
