Workbook

Sheet PRESUPUESTO
B3: PROYECTO: ADECUACION DE LABORATORIO DE SALUD PUBLICA DEPARTAMENTA | D3: FECHA: MARZO 2020
B4: LUGAR:Calle 75 # 72-140 - Barranquilla, Atlántico
B5: DESCRIPCION | D5: CANTIDADADES CONTRACTURALES
H7: CANTIDAD EJECUTADA
B8: ITEM | C8: ACTIVIDAD | D8: UNID | E8: CANTIDAD | F8: VALOR UNITARIO | G8: VALOR PARCIAL
B9: 1 | C9: PRELIMINARES | G9: =SUM(G10:G15) -> 1541176.3
B10: 1.1 | C10: DEMOLICIONES EN MAMPOSTERIA CON RETIRO | D10: M3 | E10: 1 | F10: ='PRELIMINARES '!G39 -> 56829.707 | G10: =E10*F10 -> 56829.707 | H10: 1
B11: 1.2 | C11: E - DESMONTE Y RETIRO PUNTO ELÉCTRICO DE LÁMPARA O TOMACORRIENTE INCLUIDO ALAMBRADO | D11: UN | E11: 25 | F11: ='PRELIMINARES '!G87 -> 9145.6129 | G11: =E11*F11 -> 228640.32 | H11: =+'PARTE ELECTRICA'!J2 -> 25
B12: 1.3 | C12: DEMOLICIÓN DE ENCHAPE SOBRE MURO DE MAMPOSTERÍA Y RETIRO DE MATERIAL | D12: M2 | E12: 76.77 | F12: ='PRELIMINARES '!G138 -> 11395.613 | G12: =E12*F12 -> 874841.2 | H12: =+CANTIDADES!W25 -> 76.77
B13: 1.4 | C13: DESMONTE DE CIELO RASO Y ESTRUCTURA | D13: M2 | E13: 9.6768 | F13: ='PRELIMINARES '!G186 -> 17100 | G13: =E13*F13 -> 165473.28 | H13: =+CANTIDADES!AA7 -> 9.6768
B14: 1.5 | C14: DESMONTE DE PUERTAS Y VENTANAS (INC. MARCOS) | D14: UN | E14: 4 | F14: ='PRELIMINARES '!G235 -> 24740.945 | G14: =E14*F14 -> 98963.782 | H14: 4
B15: 1.6 | C15: DESMONTE CIERRA PUERTAS DE PISO PARA PUERTA DE VIDRIO | D15: UN | E15: 4 | F15: ='PRELIMINARES '!G284 -> 29106.995 | G15: =E15*F15 -> 116427.98 | H15: 4
B16: 2 | C16: MAMPOSTERIA, PLANTILLAS, PAÑETES E IMPERMEABILIZACIONES | G16: =SUM(G17:G20) -> 2155711.9
B17: 2.1 | C17: LEVANTE DE MURO EN BLOCK DE ARCILLA 33 x 23 x 11,5 cm | D17: M2 | E17: 1 | F17: ='MAMPOSTERIA, PLANTILLAS, PAÑETE'!G39 -> 69500 | G17: =E17*F17 -> 69500 | H17: 1
B18: 2.2 | C18: PAÑETE ALLANADO MUROS 1:4 | D18: M2 | E18: 76.77 | F18: ='MAMPOSTERIA, PLANTILLAS, PAÑETE'!G86 -> 19000 | G18: =E18*F18 -> 1458630 | H18: =+CANTIDADES!W25 -> 76.77
B19: 2.3 | C19: FILOS EN MORTERO 1:4 | D19: ML | E19: 13.6 | F19: ='MAMPOSTERIA, PLANTILLAS, PAÑETE'!G182 -> 7319.82 | G19: =E19*F19 -> 99549.553 | H19: =+CANTIDADES!AO12 -> 13.6
B20: 2.4 | C20: PLANTILLA EN CONCRETO DE 2500 PSI DE 10 CM DE ESPESOR | D20: M2 | E20: 8.64 | F20: ='MAMPOSTERIA, PLANTILLAS, PAÑETE'!G135 -> 61114.854 | G20: =E20*F20 -> 528032.34 | H20: =7.2*1.2 -> 8.64
B21: 3 | C21: INSTALACIONES HIDROSANITARIA | G21: =SUM(G22:G26) -> 1899900.4
B22: 3.1 | C22: PUNTO SANITARIO EN PVC. DE DIÁMETRO 2" | D22: UN | E22: 4 | F22: ='REDES HIDROSANITARIAS'!G39 -> 68724.5 | G22: =E22*F22 -> 274898 | H22: 4
B23: 3.2 | C23: SUMINISTRO E INSTALACIÓN DE TUBERÍA DE AGUA POTABLE EN PVC DE 1/2" | D23: ML | E23: 4 | F23: ='REDES HIDROSANITARIAS'!G138 -> 7223.2694 | G23: =E23*F23 -> 28893.078 | H23: 4
B24: 3.3 | C24: LAVAMANOS EN ACERO INOXIDABLE 60X40 CM CON GRIFERIA EN ACERO INOXIDABLE | D24: UN | E24: 2 | F24: ='REDES HIDROSANITARIAS'!G231 -> 702771.19 | G24: =E24*F24 -> 1405542.4 | H24: 2
B25: 3.4 | C25: PUNTO DE AGUA POTABLE EN PVC. DE 1/2" | D25: UN | E25: 3 | F25: ='REDES HIDROSANITARIAS'!G91 -> 43643.295 | G25: =E25*F25 -> 130929.88 | H25: 3
B26: 3.5 | C26: SUMINISTRO E INSTALACIÓN DE TUBERÍA DE SANITARIA EN PVC, DIÁMETRO DE 2" | D26: ML | E26: 4 | F26: ='REDES HIDROSANITARIAS'!G183 -> 14909.265 | G26: =E26*F26 -> 59637.06 | H26: 4
B27: 4 | C27: PISOS Y ACABADOS | G27: =SUM(G28:G31) -> 10911561
B28: 4.1 | C28: SUMINISTRO E INSTALACIÓN DE CIELO RASO EN DRYWALL TOTALMENTE ACABADO | D28: M2 | E28: 51.1755 | F28: ='PISOS Y ACABADOS'!G41 -> 47083.333 | G28: =E28*F28 -> 2409513.1 | H28: =+CANTIDADES!M16+CANTIDADES!AE5 -> 51.1755
B29: 4.2 | C29: ESTUCADO EN YESO | D29: M2 | E29: 210.263 | F29: ='PISOS Y ACABADOS'!G90 -> 10290.698 | G29: =E29*F29 -> 2163753.1 | H29: =+CANTIDADES!Q53 -> 210.263
B30: 4.3 | C30: PINTURA EN VINILO PARA MURO INTERIOR, A TRES MANOS TIPO VINILTEX | D30: M2 | E30: 389.9493 | F30: ='PISOS Y ACABADOS'!G138 -> 12234.03 | G30: =E30*F30 -> 4770651.6 | H30: =+CANTIDADES!H121 -> 389.9493
B31: 4.4 | C31: PINTURA EPOXICA LAVABLE PARA MURO INTERIOR Y CIELO RASO, COLOR BLANCO A 2 MANOS | D31: M2 | E31: 110.1822 | F31: ='PISOS Y ACABADOS'!G187 -> 14227.737 | G31: =E31*F31 -> 1567643.4 | H31: =+CANTIDADES!D41 -> 110.1822
B32: 5 | C32: INSTALACIONES ELECTRICAS | G32: =SUM(G33:G36) -> 8504208.7
B33: 5.1 | C33: SALIDA PARA LUCES 110 V. INCLUYE LAMPARA LED DECORATIVA 24 VATIOS | D33: UN | E33: 30 | F33: ='INSTALACIONES ELECTRICAS'!G40 -> 147250 | G33: =E33*F33 -> 4417500 | H33: =+'PARTE ELECTRICA'!J3 -> 30
B34: 5.2 | C34: SALIDA PARA TOMACORRIENTE DOBLE INCLUYE TOMACORRIENTE DOBLE DE 15 AMP Y 127V | D34: UN | E34: 21 | F34: ='INSTALACIONES ELECTRICAS'!G134 -> 81678.952 | G34: =E34*F34 -> 1715258 | H34: =+'PARTE ELECTRICA'!J7 -> 21
B35: 5.3 | C35: ACOMETIDA ELECTRICA GENERAL, EN ALAMBRE DE COBRE 2 X NO. 10 + NO. 12 , | D35: ML | E35: 100 | F35: ='INSTALACIONES ELECTRICAS'!G176 -> 23714.507 | G35: =E35*F35 -> 2371450.7 | H35: 100
B36: 5.4 | C36: TABLERO PARA EMPOTRAR CON ESPACIO PARA 4 CIRCUITOS INCLUYE PUERTA Y CHAPA PLASTICA, CERRADURA Y LLAVE Y ESPACIO PARA MONTAR TOTALIZADOR INCLUYE 4 CORTACIRCUITOS TERMOMAGNETICOS AUOMATICOS MONOPOLARES DE 30 AMPERIOS, 10 KA A 120 /240 V PUESTA A TIERRA | D36: UND | E36: 0 | F36: ='INSTALACIONES ELECTRICAS'!G224 -> 430919.08 | G36: =E36*F36 -> 0 | H36: 0
B37: 6 | C37: CARPINTERIA EN MADERA Y ACERO INAXIDABLE | G37: =+SUM(G38:G44) -> 9903500
B38: 6.1 | C38: PUERTA CORREDIZA EN ALUMINIO BLANCO 744 +VIDRIO DE 5MM 100CM X 206 CM | D38: UND | E38: 1 | F38: =+ADICIONALES!G341 -> 878500 | G38: =E38*F38 -> 878500 | H38: 1
B39: 6.2 | C39: PUERTA Y MARCO EN ALUMINIO BLANCO 744 CON CERRADURA Y VIDRIO 5MM 100CM X 206 CM | D39: UND | E39: 1 | F39: =+ADICIONALES!G386 -> 918500 | G39: =E39*F39 -> 918500 | H39: 1
B40: 6.3 | C40: MESON EN ACERO INOXIDABLE EN L CON UN ENTREPAÑO INFERIOR , DE 90 CM DE ALTURA, 60 CM DE ANCHO Y 485CM DE LARGO. | D40: UND | E40: 1 | F40: =+ADICIONALES!G430 -> 4138000 | G40: =E40*F40 -> 4138000 | H40: 1
B41: 6.4 | C41: ENTREPAÑO EN ACERO INOXIDABLE DE 60CM DE ANCHO Y 2,2 CM DE LARGO | D41: UND | E41: 1 | F41: =+ADICIONALES!G474 -> 992500 | G41: =E41*F41 -> 992500 | H41: 1
B42: 6.5 | C42: ENTRPAÑO EN ACERO INOXIDABLE DE 60CM DE ANCHO Y 218CM | D42: UND | E42: 1 | F42: =+ADICIONALES!G519 -> 929500 | G42: =E42*F42 -> 929500 | H42: 1
B43: 6.6 | C43: CAJA PASAMURO DE 50X30X50 EN ACERO INOXIDABLE DOBLE PUERTA | D43: UND | E43: 1 | F43: =+ADICIONALES!G563 -> 1092500 | G43: =E43*F43 -> 1092500 | H43: 1
...

Sheet PRELIMINARES 
A1: REPUBLICA DE COLOMBIA
A2: GOBERNACION DEL ATLANTICO | D2: ANÁLISIS DE PRECIOS UNITARIOS
A5: OBRA: | F5: ESPECIFICACIÓN:
A6: ITEM: DEMOLICION MANUAL DE MUROS EN LADRILLO, BORDILLOS, CIMIENTOS Y ANDENES Y RETIRO DE MATERIA | F6: UNIDAD : | G6: M2
A8: I. EQUIPO
A9: Descripción | C9: Unidad | D9: Cantidad | E9: Valor-Unit. | F9: Valor-Total
A10: HERRAMIENTAS MENORES | C10: % S/M.0 | D10: 0.05 | E10: =D10*G37 -> 1088.7634 | F10: =+E10*D10 -> 54.438172
F17: Sub-Total | G17: =SUM(F10:F16) -> 54.438172
A18: II. MATERIALES EN OBRA
A19: Descripción | C19: Unidad | D19: Precio-Unit. | E19: Cantidad | F19: Valor-Unit.
F24: Sub-Total | G24: =SUM(F20:F23) -> 0
A25: III. TRANSPORTES
A26: Material | B26: Vol. Peso ó Cant. | C26: Distancia | D26: M3-Km | E26: Tarifa | F26: Valor-Unit.
A27: Escombros | B27: 1000 | C27: 20 | D27: =B27/C27 -> 50 | E27: 700 | F27: =+E27*D27 -> 35000
F30: Sub-Total | G30: =SUM(F27:F29) -> 35000
A31: IV. MANO DE OBRA
A32: Trabajador | B32: Unidad | C32: Cantidad | D32: V. Unitario. | E32: Rendimiento/dia | F32: Valor-Unit.
A33: CUADRILLA TIPO AA | B33: HH | C33: 1 | D33: 21775.269 | E33: =1/C33*8 -> 8 | F33: =+D33*C33 -> 21775.269
F37: Sub-Total | G37: =SUM(F33:F36) -> 21775.269
D39: Total Costo Directo | G39: =G17+G24+G30+G37 -> 56829.707
A40: V. COSTOS INDIRECTOS
A41: Descripción | E41: Porcentaje | F41: Valor Total
A42: ADMINISTRACION | E42: 0.24 | F42: =++E42*G39 -> 13639.13
A43: IMPREVISTOS | E43: 0.03 | F43: =+E43*G39 -> 1704.8912
A44: UTILIDAD | E44: 0.05 | F44: =+E44*G39 -> 2841.4853
F45: Sub-Total | G45: =SUM(F42:F44) -> 18185.506
C47: Precio unitario total aproximado al peso | G47: =ROUND((G39+G45),0) -> 75015
A49: REPUBLICA DE COLOMBIA
A50: GOBERNACION DEL ATLANTICO | D50: ANÁLISIS DE PRECIOS UNITARIOS
A53: OBRA: | F53: ESPECIFICACIÓN:
A54: ITEM: E - Desmonte Y Retiro Punto Eléctrico De Lámpara O Tomacorriente Incluido Alambrado | F54: UNIDAD : | G54: UND
A56: I. EQUIPO
A57: Descripción | C57: Unidad | D57: Cantidad | E57: Valor-Unit. | F57: Valor-Total
A58: HERRAMIENTAS MENORES | C58: % S/M.0 | D58: 0.05 | E58: =G85 -> 8710.1075 | F58: =D58*E58 -> 435.50538
F65: Sub-Total | G65: =SUM(F58:F64) -> 435.50538
A66: II. MATERIALES EN OBRA
A67: Descripción | C67: Unidad | D67: Precio-Unit. | E67: Cantidad | F67: Valor-Unit.
F72: Sub-Total | G72: =SUM(F68:F71) -> 0
A73: III. TRANSPORTES
A74: Material | B74: Vol. Peso ó Cant. | C74: Distancia | D74: M3-Km | E74: Tarifa | F74: Valor-Unit.
...

Sheet MAMPOSTERIA, PLANTILLAS, PAÑETE
A1: REPUBLICA DE COLOMBIA
A2: GOBERNACION DEL ATLANTICO | D2: ANÁLISIS DE PRECIOS UNITARIOS
A5: OBRA: | F5: ESPECIFICACIÓN:
A6: ITEM: | F6: UNIDAD : | G6: M2
A7: LEVANTE DE MURO EN BLOCK DE ARCILLA 33 x 23 x 11,5 cm
A8: I. EQUIPO
A9: Descripción | C9: Unidad | D9: Tarifa/Hr | E9: Rendimiento | F9: Valor-Total
A10: HERRAMIENTAS MENORES | C10: % S/M.0 | D10: =+G37 -> 15246.58 | E10: 0.05 | F10: =+E10*D10 -> 762.32898
F15: Sub-Total | G15: =SUM(F10:F14) -> 762.32898
A16: II. MATERIALES EN OBRA
A17: Descripción | C17: Unidad | D17: Precio-Unit. | E17: Cantidad | F17: Valor-Unit.
A18: LOCK DE ARCILLA 33 x 23 x 11,5 cm | C18: Unidad | D18: 1200 | E18: 17.5 | F18: =+E18*D18 -> 21000
A19: MORTERO DE PEGA 1:4 | C19: M3 | D19: 425080.52 | E19: 0.050278634 | F19: =+E19*D19 -> 21372.468
A20: DESPERDICIO | C20: % | D20: =SUM(F18:F19) -> 42372.468 | E20: 0.05 | F20: =+E20*D20 -> 2118.6234
F24: Sub-Total | G24: =SUM(F18:F23) -> 44491.091
A25: III. TRANSPORTES
A26: Material | B26: Vol. Peso ó Cant. | C26: Distancia | D26: M3-Km | E26: Tarifa | F26: Valor-Unit.
A27: FERRETERIA - OBRA® | B27: 0.5 | C27: 12 | D27: 1500 | E27: =+D27*C27*B27 -> 9000 | F27: =+E27 -> 9000
F30: Sub-Total | G30: =SUM(F27:F29) -> 9000
A31: IV. MANO DE OBRA
A32: Trabajador | B32: Unidad | C32: Cantidad | D32: V. Unitario. | E32: Rendimiento/dia | F32: Valor-Unit.
A33: CUADRILLA TIPO AA | B33: HH | C33: 0.55000212 | D33: 27720.947 | E33: =1/C33*8 -> 14.545399 | F33: =+C33*D33 -> 15246.58
F37: Sub-Total | G37: =SUM(F33:F36) -> 15246.58
D39: Total Costo Directo | G39: =G15+G24+G30+G37 -> 69500
A40: V. COSTOS INDIRECTOS
A41: Descripción | E41: Porcentaje | F41: Valor Total
A42: ADMINISTRACION | E42: 0.24 | F42: =++E42*G39 -> 16680
A43: IMPREVISTOS | E43: 0.03 | F43: =+E43*G39 -> 2085
A44: UTILIDAD | E44: 0.05 | F44: =+E44*G39 -> 3475
F45: Sub-Total | G45: =SUM(F42:F44) -> 22240
C47: Precio unitario total aproximado al peso | G47: =ROUND((G39+G45),0) -> 91740
A49: REPUBLICA DE COLOMBIA
A50: MUNICIPIO DE ATLANTICO | D50: ANÁLISIS DE PRECIOS UNITARIOS
A53: OBRA: | F53: ESPECIFICACIÓN:
A54: ITEM: | F54: UNIDAD : | G54: M2
A55: PAÑETE ALLANADO MUROS 1:4
A56: I. EQUIPO
A57: Descripción | C57: Unidad | D57: Tarifa/Hr | E57: Rendimiento | F57: Valor-Total
A58: HERRAMIENTAS MENORES | C58: % S/M.0 | D58: =G84 -> 9022.1991 | E58: 0.05 | F58: =D58*E58 -> 451.10995
F64: Sub-Total | G64: =SUM(F58:F63) -> 451.10995
...

Sheet REDES HIDROSANITARIAS
A1: REPUBLICA DE COLOMBIA
A2: GOBERNACION DEL ATLANTICO | D2: ANÁLISIS DE PRECIOS UNITARIOS
A5: OBRA: | F5: ESPECIFICACIÓN:
A6: ITEM: | F6: UNIDAD : | G6: UNIDAD
A7: Punto Sanitario En Pvc. De Diámetro 2"
A8: I. EQUIPO
A9: Descripción | C9: Unidad | D9: Tarifa/Hr | E9: Rendimiento | F9: Valor-Total
A10: HERRAMIENTAS MENORES | C10: % S/M.0 | D10: =+G37 -> 36591.6 | E10: 0.05 | F10: =+E10*D10 -> 1829.58
F13: Sub-Total | G13: =SUM(F10:F12) -> 1829.58
A14: II. MATERIALES EN OBRA
A15: Descripción | C15: Unidad | D15: Precio-Unit. | E15: Cantidad | F15: Valor-Unit.
A16: TUBO SANITARIO PVC DE Ø2" | C16: ML | D16: =66900/6 -> 11150 | E16: 1.4 | F16: =+E16*D16 -> 15610
A17: SIFON (S) DE Ø2"SANIT PVC S/C | C17: Unidad | D17: 3200 | E17: 1 | F17: =+E17*D17 -> 3200
A18: CODO DE Ø2"SANIT PVC DE 45 C/C | C18: Unidad | D18: 3200 | E18: 1 | F18: =+E18*D18 -> 3200
A19: SOLDADURA 1/8 PVC | C19: 1/8GAL | D19: 54000 | E19: 0.073947443 | F19: =+E19*D19 -> 3993.1619
A20: DESPERDICIO | C20: % | D20: =SUM(F15:F19) -> 26003.162 | E20: 0.05 | F20: =+E20*D20 -> 1300.1581
F24: Sub-Total | G24: =SUM(F16:F23) -> 27303.32
A25: III. TRANSPORTES
A26: Material | B26: Vol. Peso ó Cant. | C26: Distancia | D26: M3-Km | E26: Tarifa | F26: Valor-Unit.
A27: FERRETERIA - OBRA® | B27: 0.5 | C27: 5 | D27: 1200 | E27: 3000 | F27: =+E27 -> 3000
A28: ACARREO 1
F30: Sub-Total | G30: =SUM(F27:F29) -> 3000
A31: IV. MANO DE OBRA
A32: Trabajador | B32: Unidad | C32: Cantidad | D32: V. Unitario. | E32: Rendimiento/dia | F32: Valor-Unit.
A33: CUADRILLA TIPO BB | B33: HH | C33: 1.2 | D33: 30493 | E33: =1/C33*8 -> 6.6666667 | F33: =+C33*D33 -> 36591.6
F37: Sub-Total | G37: =SUM(F33:F36) -> 36591.6
D39: Total Costo Directo | G39: =G13+G24+G30+G37 -> 68724.5
A40: V. COSTOS INDIRECTOS
A41: Descripción | E41: Porcentaje | F41: Valor Total
A42: ADMINISTRACION | E42: 0.24 | F42: =++E42*G39 -> 16493.88
A43: IMPREVISTOS | E43: 0.03 | F43: =+E43*G39 -> 2061.735
A44: UTILIDAD | E44: 0.05 | F44: =+E44*G39 -> 3436.225
F45: Sub-Total | G45: =SUM(F42:F44) -> 21991.84
C47: Precio unitario total aproximado al peso | G47: =ROUND((G39+G45),0) -> 90716
A49: REPUBLICA DE COLOMBIA
A50: GOBERNACION DEL ATLANTICO | D50: ANÁLISIS DE PRECIOS UNITARIOS
A53: OBRA: | F53: ESPECIFICACIÓN:
A54: ITEM: | F54: UNIDAD : | G54: UNIDAD
A55: PUNTO POTABLE PVC DE 1/2" RDE 21
A56: I. EQUIPO
...

Sheet PISOS Y ACABADOS
A1: REPUBLICA DE COLOMBIA
A2: GOBERNACION DEL ATLANTICO | D2: ANÁLISIS DE PRECIOS UNITARIOS
A5: OBRA: | F5: ESPECIFICACIÓN:
A6: ITEM: | F6: UNIDAD : | G6: M2
A7: SUMINISTRO E INSTALACIÓN DE CIELO RASO EN DRYWALL
A8: I. EQUIPO
A9: Descripción | C9: Unidad | D9: Tarifa/Hr | E9: Rendimiento | F9: Valor-Total
A10: HERRAMIENTAS MENORES | C10: % S/M.0 | D10: =+G39 -> 9183.1984 | E10: 0.05 | F10: =+E10*D10 -> 459.15992
F14: Sub-Total | G14: =SUM(F10:F13) -> 459.15992
A15: II. MATERIALES EN OBRA
A16: DESCRIPCION | C16: Unidad | D16: Precio-Unit. | E16: Cantidad | F16: Valor-Unit.
A17: Angulo | C17: Unidad | D17: 4917 | E17: 1 | F17: =+E17*D17 -> 4917
A18: Omega | C18: unidad | D18: 5800 | E18: 1 | F18: =+E18*D18 -> 5800
A19: Cinta malla 20 ml | C19: rollo | D19: 2900 | E19: 0.4 | F19: =+E19*D19 -> 1160
A20: Masilla topex | C20: rollo | D20: 11800 | E20: 0.05 | F20: =+E20*D20 -> 590
A21: Lamina yeso-carton | C21: Unidad | D21: 25000 | E21: 0.33333333 | F21: =+E21*D21 -> 8333.3333
A22: Tornillos autoperforantes | C22: Unidad | D22: 60 | E22: 100 | F22: =+E22*D22 -> 6000
A23: Vinilo | C23: Gal | D23: 110000 | E23: 0.052 | F23: =+E23*D23 -> 5720
A24: DESPERDICIO | D24: =+(SUM(D17:D22)/6) -> 8412.8333 | E24: 0.05 | F24: =+E24*D24 -> 420.64167
G26: =SUM(F17:F26) -> 32940.975
F27: Sub-Total
A28: III. TRANSPORTES
A29: Material | B29: Vol. Peso ó Cant. | C29: Distancia | D29: M3-Km | E29: Tarifa | F29: Valor-Unit.
A30: FERRETERIA - OBRA® | B30: 0.25 | C30: 12 | D30: 1500 | E30: =+D30*C30*B30 -> 4500 | F30: =+E30 -> 4500
G32: =SUM(F30:F32) -> 4500
F33: Sub-Total
A34: IV. MANO DE OBRA
A35: Trabajador | B35: Unidad | C35: Cantidad | D35: V. Unitario. | E35: Rendimiento/dia | F35: Valor-Unit.
A36: CUADRILLA TIPO AA | B36: HH | C36: 0.33127289 | D36: 27720.947 | E36: =1/C36*8 -> 24.149274 | F36: =+C36*D36 -> 9183.1984
G39: =SUM(F36:F39) -> 9183.1984
F40: Sub-Total
G41: =G14+G26+G32+G39 -> 47083.333
A42: V. COSTOS INDIRECTOS
A43: Descripción | E43: Porcentaje | F43: Valor Total
A44: ADMINISTRACION | E44: 0.24 | F44: =++E44*G41 -> 11300
A45: IMPREVISTOS | E45: 0.03 | F45: =+E45*G41 -> 1412.5
A46: UTILIDAD | E46: 0.05 | F46: =+E46*G41 -> 2354.1667
F47: Sub-Total | G47: =SUM(F44:F46) -> 15066.667
C49: Precio unitario total aproximado al peso | G49: =ROUND((G41+G47),0) -> 62150
A51: REPUBLICA DE COLOMBIA
...

Sheet ADICIONALES
A1: REPUBLICA DE COLOMBIA
A2: GOBERNACION DEL ATLANTICO | D2: ANÁLISIS DE PRECIOS UNITARIOS
A5: OBRA: | F5: ESPECIFICACIÓN:
A6: ITEM: | F6: UNIDAD : | G6: UND
A7: SUMINITRO E INTALACION DE AIRE ACONDICIONADO DE 12000 BTU
A8: I. EQUIPO
A9: Descripción | C9: Unidad | D9: Tarifa/Hr | E9: Rendimiento | F9: Valor-Total
A10: HERRAMIENTAS MENORES | C10: % S/M.0 | D10: =+G45 -> 600000 | E10: 0.05 | F10: =+E10*D10 -> 30000
A11: Andamio multidireccional de carga certificado T-4m | C11: DIA | D11: 55000 | E11: 2 | F11: =+E11*D11 -> 110000
F15: Sub-Total | G15: =SUM(F10:F14) -> 140000
A16: II. MATERIALES EN OBRA
A17: DESCRIPCION | C17: Unidad | D17: Precio-Unit. | E17: Cantidad | F17: Valor-Unit.
A18: Estructura metalica para Soporte de maquina | C18: und | D18: 160000 | E18: 1 | F18: =+E18*D18 -> 160000
A19: Toma corriendo doble con Polo tierra | C19: und | D19: 10600 | E19: 1 | F19: =+E19*D19 -> 10600
A20: Tubo PVC Conduit por 3m de 1/2" | C20: ml | D20: 3500 | E20: 6 | F20: =+E20*D20 -> 21000
A21: Caja plástica conduit sencilla | C21: und | D21: 2000 | E21: 1 | F21: =+E21*D21 -> 2000
A22: Limpiador PVC | C22: Gal | D22: 90488 | E22: 0.2 | F22: =+E22*D22 -> 18097.6
A23: curva en tubo conduit PVC de 1/2" | C23: UND | D23: 2000 | E23: 1 | F23: =+E23*D23 -> 2000
A24: Adaptador terminal conduit de 1/2 | C24: UND | D24: 2000 | E24: 2 | F24: =+E24*D24 -> 4000
A25: Cinta Aislante 3/4 | C25: Ml | D25: 1500 | E25: 3 | F25: =+E25*D25 -> 4500
A26: Soldadura Liq. PVC | C26: Gal | D26: 90488 | E26: 0.04 | F26: =+E26*D26 -> 3619.52
A27: Alambre de cobre aisladoTHNN No. 12 | C27: M3 | D27: 3500 | E27: 15 | F27: =+E27*D27 -> 52500
A28: Insumos para mortero 1:3, no incluye mano de obra. | C28: M3 | D28: 352592 | E28: 0.1 | F28: =+E28*D28 -> 35259.2
A29: Tuberia de cobre para aire | C29: Ml | D29: 8000 | E29: 12 | F29: =+E29*D29 -> 96000
A30: Aire acondicionada de 12000 btu marca reconocida | C30: UND | D30: 1200000 | E30: 1 | F30: =+E30*D30 -> 1200000
A31: DESPERDICIO | C31: % | D31: =SUM(F18:F30) -> 1609576.3 | E31: 0.05 | F31: =+E31*D31 -> 80478.816
F32: Sub-Total | G32: =SUM(F18:F31) -> 1690055.1
A33: III. TRANSPORTES
A34: Material | B34: Vol. Peso ó Cant. | C34: Distancia | D34: M3-Km | E34: Tarifa | F34: Valor-Unit.
A35: Ferreteria - Obra | B35: 2 | C35: 15 | D35: =B35*C35 -> 30 | E35: 1500 | F35: =E35*D35 -> 45000
F38: Sub-Total | G38: =SUM(F35:F37) -> 45000
A39: IV. MANO DE OBRA
A40: Trabajador | B40: Unidad | C40: Cantidad | D40: V. Unitario. | E40: Rendimiento/dia | F40: Valor-Unit.
A41: CUADRILLA TIPO EE | B41: HH | C41: 8 | D41: 75000 | E41: =1/C41*8 -> 1 | F41: =+C41*D41 -> 600000
F45: Sub-Total | G45: =SUM(F41:F44) -> 600000
D47: Total Costo Directo | G47: =G15+G32+G38+G45 -> 2475055.1
A48: V. COSTOS INDIRECTOS
A49: Descripción | E49: Porcentaje | F49: Valor Total
A50: ADMINISTRACION | E50: 0.24 | F50: =++E50*G47 -> 594013.23
A51: IMPREVISTOS | E51: 0.02 | F51: =+E51*G47 -> 49501.103
...

Sheet INSTALACIONES ELECTRICAS
A1: REPUBLICA DE COLOMBIA
A2: GOBERNACION DEL ATLANTICO | D2: ANÁLISIS DE PRECIOS UNITARIOS
A5: OBRA: | F5: ESPECIFICACIÓN:
A6: ITEM: | F6: UNIDAD : | G6: UND
A7: SALIDA PARA LUCES 110 V. INCLUYE LAMPARA LED DECORATIVA 24 VATIOS
A8: I. EQUIPO
A9: Descripción | C9: Unidad | D9: Tarifa/Hr | E9: Rendimiento | F9: Valor-Total
A10: HERRAMIENTAS MENORES | C10: % S/M.0 | D10: =+G38 -> 24465.333 | E10: 0.05 | F10: =+E10*D10 -> 1223.2667
F13: Sub-Total | G13: =SUM(F10:F12) -> 1223.2667
A14: II. MATERIALES EN OBRA
A15: Descripción | C15: Unidad | D15: Precio-Unit. | E15: Cantidad | F15: Valor-Unit.
A16: ALAMBRE Nº 12 | C16: ML | D16: 2200 | E16: 10 | F16: =+E16*D16 -> 22000
A17: TUBO CONDUIT PVC DE 1/2" | C17: ML | D17: 1500 | E17: 1.8 | F17: =+E17*D17 -> 2700
A18: CAJA SENCILLA CONDUIT 4 x 2" | C18: Unidad | D18: 1100 | E18: 1 | F18: =+E18*D18 -> 1100
A19: CURVA DE 90 C x E 1/2" | C19: Unidad | D19: 600 | E19: 2 | F19: =+E19*D19 -> 1200
A20: ADAPTADOR TERMINAL DE 1/2 | C20: Unidad | D20: 400 | E20: 2 | F20: =+E20*D20 -> 800
A21: PLAFON LED 24 VATIOS DECORATIVA | C21: Unidad | D21: 72500 | E21: 1 | F21: =+E21*D21 -> 72500
A22: SOLDADURA LIQUIDA DE 1/4" GL | C22: Unidad | D22: 54000 | E22: 0.02 | F22: =+E22*D22 -> 1080
A23: INTERRUPTOR SENCILLO LUM. | C23: Unidad | D23: 13000 | E23: 1 | F23: =+E23*D23 -> 13000
A24: DESPERDICIO | C24: % | D24: =SUM(F16:F23) -> 114380 | E24: 0.03 | F24: =+E24*D24 -> 3431.4
F25: Sub-Total | G25: =SUM(F16:F24) -> 117811.4
A26: III. TRANSPORTES
A27: Material | B27: Vol. Peso ó Cant. | C27: Distancia | D27: M3-Km | E27: Tarifa | F27: Valor-Unit.
A28: FERRETERIA - OBRA® | B28: 0.5 | C28: 5 | D28: 1500 | E28: =+D28*C28*B28 -> 3750 | F28: =+E28 -> 3750
F31: Sub-Total | G31: =SUM(F28:F30) -> 3750
A32: IV. MANO DE OBRA
A33: Trabajador | B33: Unidad | C33: Cantidad | D33: V. Unitario. | E33: Rendimiento/dia | F33: Valor-Unit.
A34: CUADRILLA TIPO BB | B34: HH | C34: 0.80232511 | D34: 30493.042 | E34: =1/C34*8 -> 9.9710203 | F34: =+C34*D34 -> 24465.333
F38: Sub-Total | G38: =SUM(F34:F37) -> 24465.333
D40: Total Costo Directo | G40: =G13+G25+G31+G38 -> 147250
A41: Descripción | E41: Porcentaje | F41: Valor Total
A42: ADMINISTRACION | E42: 0.24 | F42: =++E42*G40 -> 35340
A43: IMPREVISTOS | E43: 0.03 | F43: =+E43*G40 -> 4417.5
A44: UTILIDAD | E44: 0.05 | F44: =+E44*G40 -> 7362.5
F45: Sub-Total | G45: =SUM(F42:F44) -> 47120
C47: Precio unitario total aproximado al peso | G47: =G40+G45 -> 194370
A49: REPUBLICA DE COLOMBIA
A50: GOBERNACION DEL ATLANTICO | D50: ANÁLISIS DE PRECIOS UNITARIOS
A53: OBRA: | F53: ESPECIFICACIÓN:
A54: ITEM: | F54: UNIDAD : | G54: UND
...

Sheet CANTIDADES
A1: EPOXICA | F1: PINTURA VINILO | K1: CIELO RASO | O1: PULIPLAST | T1: DEMOLICION DE ENCHAPE | Y1: DESMONTE DE CIELO RASO | AC1: LAMINA VENTANA | AG1: MURO TUBERIA AIRE | AK1: FILOS
A2: VIROLOGIA | F2: VIROLOGIA | K2: CAMBIO DE LAMINA PASILLO | O2: INSECTARIO | T2: INSECTARIO | Y2: INSECTARIO | AC2: PASILLO CUARTOS | AG2: CUARTO DEL OLVIDO 1 | AK2: CUARTO DEL OLVIDO
A3: 3.25 | B3: 2.45 | C3: 2 | D3: =+A3*B3*C3 -> 15.925 | F3: 1.52 | G3: 2.45 | H3: =+F3*G3 -> 3.724 | K3: 1.22 | L3: 2.44 | M3: =+K3*L3 -> 2.9768 | O3: 1.86 | P3: 2.37 | Q3: =+O3*P3 -> 4.4082 | T3: 2.68 | U3: 1.5 | V3: 2 | W3: =+T3*U3*V3 -> 8.04 | Y3: 2.68 | Z3: 2.5 | AA3: =+Y3*Z3 -> 6.7 | AC3: 2 | AD3: 1 | AE3: =+AC3*AD3 -> 2 | AG3: 0.7 | AH3: 0.44 | AI3: =+AG3+AH3 -> 1.14 | AJ3: ML | AK3: 2 | AL3: 2 | AM3: 1 | AN3: =+AK3+AL3+AM3 -> 5
A4: 3.2 | B4: 2.45 | D4: =+A4*B4 -> 7.84 | F4: 2.22 | G4: 2.45 | H4: =+F4*G4 -> 5.439 | O4: 1 | P4: 0.46 | Q4: =+O4*P4 -> 0.46 | T4: 2.5 | U4: 1.5 | V4: 2 | W4: =+T4*U4*V4 -> 7.5 | Y4: PASILLO LABORATORIOS | AC4: 1 | AD4: 1.5 | AE4: 1.5 | AG4: CUARTO DEL OLVIDO 2 | AK4: 2 | AL4: 2 | AM4: 1 | AN4: =+AK4+AL4+AM4 -> 5
A5: 6 | B5: 2.45 | D5: =+A5*B5 -> 14.7 | F5: 2.66 | G5: 2.45 | H5: =+F5*G5 -> 6.517 | K5: INSECTARIO | O5: 5.5 | P5: 2.37 | Q5: =+O5*P5 -> 13.035 | W5: =SUM(W3:W4) -> 15.54 | Y5: 1.22 | Z5: 2.44 | AA5: =+Y5*Z5 -> 2.9768 | AE5: =SUM(AE3:AE4) -> 3.5 | AG5: 2.38 | AH5: 2 | AI5: =+AG5*AH5 -> 4.76 | AJ5: ML | AN5: =SUM(AN3:AN4) -> 10
A6: 1 | B6: 0.5 | D6: =+A6*B6 -> 0.5 | H6: =SUM(H3:H5) -> 15.68 | K6: 2.68 | L6: 2.5 | M6: =+K6*L6 -> 6.7 | O6: 1.14 | P6: 1.96 | Q6: =+O6*P6 -> 2.2344 | T6: ENTOMOLOGIA | AG6: PASILLO ENTOMOLOGIA E INSECTARIO
A7: 1.04 | B7: 2.45 | D7: =+A7*B7 -> 2.548 | F7: VANO | K7: PASILLO CUARTOS DEL OLVIDO | O7: 1.96 | P7: 0.46 | Q7: =+O7*P7 -> 0.9016 | T7: 5.43 | U7: 1.5 | W7: =+T7*U7 -> 8.145 | AA7: =+AA3+AA5 -> 9.6768 | AG7: 7.5 | AH7: 2 | AI7: =+AG7*AH7 -> 15 | AJ7: ML | AK7: INSTALACION DE CAJAS
D8: =SUM(D3:D7) -> 41.513 | F8: 1.97 | G8: 0.78 | H8: =+F8*G8 -> 1.5366 | K8: 11.92 | L8: 1.27 | M8: =+K8*L8 -> 15.1384 | Q8: =SUM(Q3:Q7) -> 21.0392 | T8: 4.44 | U8: 0.5 | W8: =+T8*U8 -> 2.22 | AK8: 0.6 | AL8: 0.6 | AM8: 0.4 | AN8: 0.4 | AO8: =+AK8+AL8+AM8+AN8 -> 2
A9: CIELO RASO | H9: =+H6-H8 -> 14.1434 | T9: 2.38 | U9: 1.5 | V9: 2 | W9: =+T9*U9*V9 -> 7.14 | AI9: =+AI3+AI5+AI7 -> 20.9 | AK9: 0.4 | AL9: 0.4 | AM9: 0.4 | AN9: 0.4 | AO9: =+AK9+AL9+AM9+AN9 -> 1.6
A10: 3.25 | B10: 3.2 | D10: =+A10*B10 -> 10.4 | K10: CUARTO DEL OLVIDO 1 | O10: PASILLO | W10: =SUM(W7:W9) -> 17.505 | AO10: =SUM(AO8:AO9) -> 3.6
D11: =SUM(D8:D10) -> 51.913 | F11: 3.2 | G11: 1.04 | H11: =+F11*G11 -> 3.328 | K11: 5.43 | L11: 2.39 | M11: =+K11*L11 -> 12.9777 | O11: 14.1 | P11: 2.44 | Q11: =+O11*P11 -> 34.404
A12: INSECTARIO | F12: 4.3 | G12: 0.92 | H12: =+F12*G12 -> 3.956 | O12: 9.8 | P12: 2.3 | Q12: 22.54 | T12: CUARTO DEL OLVIDO 1 | AO12: =+AN5+AO10 -> 13.6
A13: 1.86 | B13: 2.37 | C13: =+A13*B13 -> 4.4082 | F13: 1.52 | G13: 2.22 | H13: =+F13*G13 -> 3.3744 | K13: CUARTO DEL OLVIDO 2 | Q13: =SUM(Q11:Q12) -> 56.944 | T13: 5.43 | U13: 1.5 | V13: =+T13*U13 -> 8.145
A14: 1 | B14: 0.46 | C14: =+A14*B14 -> 0.46 | F14: 2.66 | G14: 2.22 | H14: =+F14*G14 -> 5.9052 | K14: 5.43 | L14: 1.82 | M14: =+K14*L14 -> 9.8826 | T14: 4.44 | U14: 1.5 | V14: =+T14*U14 -> 6.66
A15: 5.5 | B15: 2.37 | C15: =+A15*B15 -> 13.035 | H15: =SUM(H11:H14) -> 16.5636 | O15: VANO | Q15: 2.8 | T15: 2.39 | U15: 1.5 | V15: =+T15*U15 -> 3.585
A16: 1.14 | B16: 1.96 | C16: =+A16*B16 -> 2.2344 | M16: =+M3+M6+M8+M11+M14 -> 47.6755 | Q16: =+Q13-Q15 -> 54.144 | T16: 2.39 | U16: 1.5 | V16: =+T16*U16 -> 3.585
A17: 1.96 | B17: 0.46 | C17: =+A17*B17 -> 0.9016 | F17: VESTIER | V17: =SUM(V13:V16) -> 21.975
C18: =SUM(C13:C17) -> 21.0392 | F18: 2.64 | G18: 2.36 | H18: =+F18*G18 -> 6.2304 | O18: ENTOMOLOGIA
F19: 2.87 | G19: 2.36 | H19: =+F19*G19 -> 6.7732 | K19: OBSERVACION: | O19: 2.42 | P19: 3 | Q19: 2 | R19: =+O19*P19*Q19 -> 14.52 | T19: CUARTO DEL OLVIDO 2
A20: CIELO RASO INSECTARIO | H20: =SUM(H18:H19) -> 13.0036 | K20: FALTARIA INCLUIR ARREGLO DE CIELO RASO | O20: 2.3 | P20: 3 | Q20: 2 | R20: 13.8 | T20: 5.43 | U20: 1.5 | V20: 2 | W20: =+T20*U20*V20 -> 16.29
A21: 2.68 | B21: 2.5 | C21: =+A21*B21 -> 6.7 | F21: CIELO RASO | K21: CONSISTENTE EN TAPE DE HUECOS POR CAMBIO | R21: =SUM(R19:R20) -> 28.32 | T21: 1.82 | U21: 1.5 | V21: 2 | W21: 5.46
C22: =+C18+C21 -> 27.7392 | F22: 2 | G22: 3.24 | H22: =+F22*G22 -> 6.48 | K22: POSICION DE LAMPARAS Y REJILLAS DE AA | O22: VANO | R22: 6.79 | W22: =SUM(W20:W21) -> 21.75
F23: 0.94 | G23: 1.5 | H23: =+F23*G23 -> 1.41 | R23: =+R21-R22 -> 21.53
A24: ENTOMOLOGIA | F24: 2.4 | G24: 2.64 | H24: =+F24*G24 -> 6.336
A25: 2.42 | B25: 3 | C25: 2 | D25: =+A25*B25*C25 -> 14.52 | H25: =SUM(H22:H24) -> 14.226 | O25: PASILLO CUARTOS DEL OLVIDO | W25: =+W5+W10+V17+W22 -> 76.77
A26: 2.3 | B26: 3 | C26: 2 | D26: 13.8 | F26: PASILLO LABORATORIOS | O26: 11.92 | P26: 2.38 | Q26: =+O26*P26 -> 28.3696
D27: =SUM(D25:D26) -> 28.32 | F27: 2.39 | G27: 1.2 | H27: =+F27*G27 -> 2.868 | O27: 11.92 | P27: 2.38 | Q27: =+O27*P27 -> 28.3696
A28: CIELO RASO | F28: 2.12 | G28: 0.48 | H28: =+F28*G28 -> 1.0176 | Q28: =SUM(Q26:Q27) -> 56.7392
A29: 3 | B29: 3 | D29: =+A29*B29 -> 9 | F29: 1.16 | G29: 2.39 | H29: =+F29*G29 -> 2.7724 | O29: VANOS
D30: =+D27+D29 -> 37.32 | F30: 2.39 | G30: 0.81 | H30: =+F30*G30 -> 1.9359 | O30: 2 | P30: 1 | Q30: =+O30*P30 -> 2
F31: 0.69 | G31: 0.48 | H31: =+F31*G31 -> 0.3312 | O31: 2 | P31: 1 | Q31: =+O31*P31 -> 2
A32: VANO | F32: 0.94 | G32: 2.39 | H32: =+F32*G32 -> 2.2466 | O32: 1.47 | P32: 1 | Q32: =+O32*P32 -> 1.47
A33: 0.79 | B33: 1 | D33: =+A33*B33 -> 0.79 | F33: 3.62 | G33: 2.39 | H33: =+F33*G33 -> 8.6518 | O33: 1 | P33: 1 | Q33: =+O33*P33 -> 1
A34: 2 | B34: 1 | D34: =+A34*B34 -> 2 | F34: 1.37 | G34: 0.48 | H34: =+F34*G34 -> 0.6576 | O34: 2 | P34: 1 | Q34: =+O34*P34 -> 2
A35: 2 | B35: 2 | D35: =+A35*B35 -> 4 | F35: 2.02 | G35: 2.39 | H35: =+F35*G35 -> 4.8278 | O35: 2 | P35: 1 | Q35: =+O35*P35 -> 2
D36: =SUM(D33:D35) -> 6.79 | F36: 0.96 | G36: 0.48 | H36: =+F36*G36 -> 0.4608 | Q36: =SUM(Q30:Q35) -> 10.47
F37: 0.98 | G37: 2.39 | H37: =+F37*G37 -> 2.3422
D38: =+D30-D36 -> 30.53 | F38: 1.37 | G38: 0.48 | H38: =+F38*G38 -> 0.6576 | Q38: =+Q28-Q36 -> 46.2692
H39: =SUM(H27:H38) -> 28.7695
F40: CIELO RASO | O40: CUARTO DEL OLVIDO 1
...

Sheet PARTE ELECTRICA
B1: VIROLOGIA | C1: VESTIER | D1: PASILLO VIROLOGIA | E1: INSECTARIO | F1: ENTOMOLOGIA | G1: CIRCUITO VIROLOGIA INSECTARIO ENTOMOLOGIA | H1: PASILLO CUARTO OLVIDO | I1: CUARTO DEL OLVIDO 1 | J1: TOTAL
A2: DESMONTE DE LAMPARAS, TOMACORRIENTES E INTERRUPTORES | B2: =6+B6 -> 7 | C2: 1 | E2: =2+3+3 -> 8 | F2: =4+4+F6 -> 9 | J2: =+B2+C2+E2+F2 -> 25
A3: SALIDA DE LAMPARAS | B3: 13 | E3: 4 | F3: 4 | H3: 3 | I3: 6 | J3: =+SUM(B3:I3) -> 30
A4: INSTALACION DE LAMPARAS | C4: 1 | D4: 3 | J4: =+SUM(B4:I4) -> 4
A5: PUNTO ELECTRICO DE 220 V | B5: 3 | E5: 1 | J5: =+SUM(B5:I5) -> 4
A6: SUMINISTRO E INSTALACION DE INTERRUPTOR | B6: 1 | F6: 1 | J6: =+SUM(B6:I6) -> 2
A7: PUNTO ELECTRICO DE 110 PARA TOMACORRIENTES | E7: =2+5 -> 7 | F7: 4 | I7: 10 | J7: =+SUM(B7:I7) -> 21
A8: SUMINISTRO E INSTALACION DE TABLERO CON TOTALIZADOR DE 12 CIRCUITOS | G8: 1 | I8: 1 | J8: =+SUM(B8:I8) -> 2
A9: ACOMETIDA ELECTRICA CABLE No 8 | G9: 16 | I9: 24 | J9: =+SUM(B9:I9) -> 40
