Workbook
Name p: #REF!
Name s: #REF!
Name vm: #REF!
Name vs: #REF!
Name vt: #REF!

Sheet Puntaje definitivo
A1: OBJETO DEL CONTRATO
A2: Otorgar en concesión la realización del diseño, la fabricación, el suministro, la instalación,la actualización, el mantenimiento, la operación, el traslado y la reposición del mobiliario de Bogotá D.C.
A4: PUNTAJE FINAL CONSOLIDADO
A7: CRITERIO | E7: PUNTAJE MÁXIMO | F7: EQUIPAMIENTOS URBANOS NACIONALES DE COLOMBIA S.A.S - EUCOL S.A.S | G7: TIPS MEDIA S.A.S.
A8: Factor de calidad por programa de cultura ciudadana | E8: 140 | F8: ='Puntaje total'!S6 -> 140 | G8: ='Puntaje total'!S7 -> 140
A9: Factor de Calidad tótem | E9: 100 | F9: ='Puntaje total'!T6 -> 100 | G9: ='Puntaje total'!T7 -> 100
A10: Factor Económico | E10: 600 | F10: =SUM('Puntaje total'!B6:R6) -> 530.46 | G10: =SUM('Puntaje total'!B7:R7) -> 398.3
A11: Incentivo a la Industria Nacional | E11: 150 | F11: ='Puntaje total'!U6 -> 150 | G11: ='Puntaje total'!U7 -> 150
A12: Discapacidad | E12: 10 | F12: ='Puntaje total'!V6 -> 10 | G12: ='Puntaje total'!V7 -> 10
A13: TOTAL PUNTAJE | E13: =SUM(E8:E12) -> 1000 | F13: =SUM(F8:F12) -> 930.46 | G13: =SUM(G8:G12) -> 798.3

Sheet TRM
B35: La tasa representativa del mercado para el día 10 noviembre fue 3.447,74. Dado lo establecido en el pliego de condiciones:
B36: "A Partir del valor de las propuestas se evaluarán con el método escogido en forma aleatoria para la ponderación de la oferta económica, con media aritmética, media geométrica o media aritmética alta. Para la determinación del método se tomarán los primeros dos decimales de la TRM (Tasa Representativa del Mercado) que rija el día hábil siguiente a la fecha de presentación de ofertas. El método debe ser escogido de acuerdo con los rangos establecidos en la siguiente tabla:"
B38: Rango (inclusive) | C38: Método
B39: De 0.00 a 0.32 | C39: Media aritmética
B40: De 0.33 a 0.65 | C40: Media Geométrica
B41: De 0.66 a 0.99 | C41: Media aritmética alta
B43: Por lo tanto el método escogido para la ponderación de la oferta económica es la Media Aritmética Alta.

Sheet PuntajePrecio por Ventas Brutas
B2: Retribución total (Porcentaje por ventas brutas).
F4: Piso | G4: techo
C5: Nº Proponetes | D5: Puntaje | E5: 400 | F5: 0.045 | G5: 0.08
C6: Media aritmética alta de cada uno de los porcentajes ofertados | G6: Valor Total sin decimales de la oferta más alta | H6: =MAX(D9:D10) -> 0.0775
G7: Promedio | H7: =AVERAGE(D9:D10) -> 0.06915
D8: Porcentaje ofertado | E8: Calificación | F8: Orden de Elegibilidad | G8: MEDIA ALTA | H8: =(H6+H7)/2 -> 0.073325
C9: EUCOL S.A.S. | D9: 0.0775 | E9: =ROUND(IF(D9<=$H$8,400*(1-($H$8-D9)/$H$8),400*(1+($H$8-D9)/$H$8)),2) -> 377.22 | F9: =_xlfn.RANK.EQ(E9,E9:E10) -> 1
C10: TIPS MEDIA S.A.S. | D10: 0.0608 | E10: =ROUND(IF(D10<=$H$8,400*(1-($H$8-D10)/$H$8),400*(1+($H$8-D10)/$H$8)),2) -> 331.67 | F10: =_xlfn.RANK.EQ(E10,E9:E10) -> 2

Sheet Puntaje Precio por tipología
B4: PUNTAJE POR PRECIO OFERTADO POR TIPOLOGÍA
D6: PUNTAJE COSTO UNITARIO POR TIPOLOGÍA
D7: TIPOLOGIA | F7: PUNTAJE MAXIMO ASIGNADO POR ELEMENTO
D8: Paradero tipo 1: con módulo | F8: 33.41
D9: Paradero tipo 2: Totem SITP | F9: 7.92
D10: Panel publicitario | F10: 4.61
D11: Paradero tipo 3 con bandera | F11: 0.84
D12: Panel informativo interactivo estaciones | F12: 3.22
F13: 50
B16: =+D8 -> Paradero tipo 1: con módulo
E18: Piso | F18: techo
E19: =F19*0.95 -> 31996732 | F19: 33680770
B20: Nº Proponetes | C20: Puntaje | D20: 33.41 | F20: Valor Total sin decimales de la oferta más alta | G20: =MAX(C24:C25) -> 78034977820
B21: MEDIA ARITMÉTICA ALTA | F21: Promedio | G21: =AVERAGE(C24:C25) -> 5.8189897e+10
E22: Max Puntaje | F22: MEDIA ALTA | G22: =(G20+G21)/2 -> 6.8112437e+10
C23: Valor propuesto | D23: Calificación | E23: Orden de Elegibilidad
B24: EUCOL S.A.S. | C24: 78034977820 | D24: =ROUND(IF(C24<=G22,D20*(1-(G22-C24)/G22),D20*(1+(G22-C24)/G22)),2) -> 28.54 | E24: =_xlfn.RANK.EQ(D24,D24:D25) -> 1
B25: TIPS MEDIA S.A.S. | C25: 38344815815 | D25: =ROUND(IF(C25<=G22,D20*(1-(G22-C25)/G22),D20*(1+(G22-C25)/G22)),2) -> 18.81 | E25: =_xlfn.RANK.EQ(D25,D24:D25) -> 2
B28: =+D9 -> Paradero tipo 2: Totem SITP
E29: =F29*0.95 -> 31996732 | F29: 33680770
B30: Nº Proponetes | C30: Puntaje | D30: 7.92 | F30: Valor Total sin decimales de la oferta más alta | G30: =MAX(C34:C35) -> 18446661954
B31: MEDIA ARITMÉTICA ALTA | F31: Promedio | G31: =AVERAGE(C34:C35) -> 12150423600
E32: Max Puntaje | F32: MEDIA ALTA | G32: =(G30+G31)/2 -> 15298542777
C33: Valor propuesto | D33: Calificación | E33: Orden de Elegibilidad
B34: EUCOL S.A.S. | C34: 18446661954 | D34: =ROUND(IF(C34<=G32,D30*(1-(G32-C34)/G32),D30*(1+(G32-C34)/G32)),2) -> 6.29 | E34: =_xlfn.RANK.EQ(D34,D34:D35) -> 1
B35: TIPS MEDIA S.A.S. | C35: 5854185246 | D35: =ROUND(IF(C35<=G32,D30*(1-(G32-C35)/G32),D30*(1+(G32-C35)/G32)),2) -> 3.03 | E35: =_xlfn.RANK.EQ(D35,D34:D35) -> 2
B38: =+D10 -> Panel publicitario
E39: Piso | F39: techo
E40: =F40*0.95 -> 31996732 | F40: 33680770
B41: Nº Proponetes | C41: Puntaje | D41: 4.61 | F41: Valor Total sin decimales de la oferta más alta | G41: =MAX(C45:C46) -> 11055633355
B42: MEDIA ARITMÉTICA ALTA | F42: Promedio | G42: =AVERAGE(C45:C46) -> 1.0906567e+10
E43: Max Puntaje | F43: MEDIA ALTA | G43: =(G41+G42)/2 -> 1.09811e+10
C44: Valor propuesto | D44: Calificación | E44: Orden de Elegibilidad
B45: EUCOL S.A.S. | C45: 11055633355 | D45: =ROUND(IF(C45<=G43,D41*(1-(G43-C45)/G43),D41*(1+(G43-C45)/G43)),2) -> 4.58 | E45: =_xlfn.RANK.EQ(D45,D45:D46) -> 1
B46: TIPS MEDIA S.A.S. | C46: 10757500000 | D46: =ROUND(IF(C46<=G43,D41*(1-(G43-C46)/G43),D41*(1+(G43-C46)/G43)),2) -> 4.52 | E46: =_xlfn.RANK.EQ(D46,D45:D46) -> 2
B48: =+D11 -> Paradero tipo 3 con bandera
E49: Piso | F49: techo
E50: Piso | F50: techo
E51: =F51*0.95 -> 31996732 | F51: 33680770
B52: Nº Proponetes | C52: Puntaje | D52: 0.84 | F52: Valor Total sin decimales de la oferta más alta | G52: =MAX(C56:C57) -> 3179135065
...

Sheet Calculos precios por tipologia
A1: PRECIO OFERTADO POR TIPOLOGÍA
B2: Cantidad | C2: Valor unitario ofrecido por el EUCOL S.A.S. | D2: Valor total ofertado EUCOL S.A.S. | E2: Valor total Calculado | F2: Diferencia | G2: Valor unitario ofrecido por TIPS MEDIA S.A.S. | H2: Valor total ofertado por TIPS MEDIA S.A.S. | I2: Valor total Calculado | J2: Diferencia
A3: Paradero tipo 1: con módulo | B3: 1655 | C3: 47151044 | D3: 78034978207 | E3: =B3*C3 -> 78034977820 | F3: =E3-D3 -> -387 | G3: 23169073 | H3: 38344814988 | I3: =B3*G3 -> 38344815815 | J3: =I3-H3 -> 827
A4: Paradero tipo 2: Tótem SITP | B4: 714 | C4: 25835661 | D4: 18446661709 | E4: =B4*C4 -> 18446661954 | F4: =E4-D4 -> 245 | G4: 8199139 | H4: 5854185246 | I4: =B4*G4 -> 5854185246 | J4: =I4-H4 -> 0
A5: Panel publicitario | B5: 1655 | C5: 6680141 | D5: 280565929 | E5: =B5*C5 -> 11055633355 | F5: =E5-D5 -> 10775067426 | G5: 6500000 | H5: 273000000 | I5: =B5*G5 -> 10757500000 | J5: =I5-H5 -> 10484500000
A6: Paradero tipo 3 con bandera | B6: 1297 | C6: 2451145 | D6: 3179135506 | E6: =B6*C6 -> 3179135065 | F6: =E6-D6 -> -441 | G6: 1279250 | H6: 1659187250 | I6: =B6*G6 -> 1659187250 | J6: =I6-H6 -> 0
A7: Panel informativo interactivo estaciones | B7: 372 | C7: 33271267 | D7: 12376911277 | E7: =B7*C7 -> 12376911324 | F7: =E7-D7 -> 47 | G7: 10014609 | H7: 3725434362 | I7: =B7*G7 -> 3725434548 | J7: =I7-H7 -> 186
D8: =SUM(D3:D7) -> 112318252628 | E8: =SUM(E3:E7) -> 123093319518 | H8: =SUM(H3:H7) -> 49856621846 | I8: =SUM(I3:I7) -> 60341122859

Sheet Puntaje Precio por Mantenimient
B4: PUNTAJE POR MANTENIMIENTO MENSUAL POR TIPOLOGÍA
D6: PUNTAJE COSTO UNITARIO POR TIPOLOGÍA
D7: TIPOLOGIA | F7: PUNTAJE MAXIMO ASIGNADO POR ELEMENTO
D8: Paradero tipo 1: con módulo | F8: 13.63
D9: Paradero tipo 2: Totem SITP | F9: 2.74
D10: Panel publicitario | F10: 11.99
D11: Paradero tipo 3 con bandera | F11: 14.59
D12: Panel informativo interactivo estaciones | F12: 1.43
D13: Bancas existentes | F13: 5.62
E14: Total | F14: =+SUM(F8:F13) -> 50
B16: =+D8 -> Paradero tipo 1: con módulo
E17: Piso | F17: techo
E18: =F18*0.95 -> 31996732 | F18: 33680770
E19: =F19*0.95 -> 31996732 | F19: 33680770
B20: Nº Proponetes | C20: Puntaje | D20: 13.63 | F20: Valor Total sin decimales de la oferta más alta | G20: =MAX(C24:C25) -> 114190
B21: MEDIA ARITMÉTICA ALTA | F21: Promedio | G21: =AVERAGE(C24:C25) -> 72845
E22: Max Puntaje | F22: MEDIA ALTA | G22: =(G20+G21)/2 -> 93517.5
C23: Valor propuesto | D23: Calificación | E23: Orden de Elegibilidad
B24: EUCOL S.A.S. | C24: 114190 | D24: =ROUND(IF(C24<=G22,D20*(1-(G22-C24)/G22),D20*(1+(G22-C24)/G22)),2) -> 10.62 | E24: =_xlfn.RANK.EQ(D24,D24:D25) -> 1
B25: TIPS MEDIA S.A.S. | C25: 31500 | D25: =ROUND(IF(C25<=G22,D20*(1-(G22-C25)/G22),D20*(1+(G22-C25)/G22)),2) -> 4.59 | E25: =_xlfn.RANK.EQ(D25,D24:D25) -> 2
B28: =+D9 -> Paradero tipo 2: Totem SITP
E29: Piso | F29: techo
E30: =F30*0.95 -> 31996732 | F30: 33680770
E31: =F31*0.95 -> 31996732 | F31: 33680770
B32: Nº Proponetes | C32: Puntaje | D32: 2.74 | F32: Valor Total sin decimales de la oferta más alta | G32: =MAX(C36:C37) -> 112484
B33: MEDIA ARITMÉTICA ALTA | F33: Promedio | G33: =AVERAGE(C36:C37) -> 66242
E34: Max Puntaje | F34: MEDIA ALTA | G34: =(G32+G33)/2 -> 89363
C35: Valor propuesto | D35: Calificación | E35: Orden de Elegibilidad
B36: EUCOL S.A.S. | C36: 112484 | D36: =ROUND(IF(C36<=G34,D32*(1-(G34-C36)/G34),D32*(1+(G34-C36)/G34)),2) -> 2.03 | E36: =_xlfn.RANK.EQ(D36,D36:D37) -> 1
B37: TIPS MEDIA S.A.S. | C37: 20000 | D37: =ROUND(IF(C37<=G34,D32*(1-(G34-C37)/G34),D32*(1+(G34-C37)/G34)),2) -> 0.61 | E37: =_xlfn.RANK.EQ(D37,D36:D37) -> 2
B40: =+D10 -> Panel publicitario
E41: Piso | F41: techo
E42: =F42*0.95 -> 31996732 | F42: 33680770
B43: Nº Proponetes | C43: Puntaje | D43: 11.99 | F43: Valor Total sin decimales de la oferta más alta | G43: =MAX(C47:C48) -> 34240
B44: MEDIA ARITMÉTICA ALTA | F44: Promedio | G44: =AVERAGE(C47:C48) -> 27120
E45: Max Puntaje | F45: MEDIA ALTA | G45: =(G43+G44)/2 -> 30680
C46: Valor propuesto | D46: Calificación | E46: Orden de Elegibilidad
B47: EUCOL S.A.S. | C47: 34240 | D47: =ROUND(IF(C47<=G45,D43*(1-(G45-C47)/G45),D43*(1+(G45-C47)/G45)),2) -> 10.6 | E47: =_xlfn.RANK.EQ(D47,D47:D48) -> 1
B48: TIPS MEDIA S.A.S. | C48: 20000 | D48: =ROUND(IF(C48<=G45,D43*(1-(G45-C48)/G45),D43*(1+(G45-C48)/G45)),2) -> 7.82 | E48: =_xlfn.RANK.EQ(D48,D47:D48) -> 2
B50: =+D11 -> Paradero tipo 3 con bandera
...

Sheet Puntaje Precio por Traslados
B4: PUNTAJE POR PRECIOS OFERTADOS POR TRASLADOS
D6: PUNTAJE COSTO UNITARIO POR TIPOLOGÍA
D7: TIPOLOGÍA | E7: CANTIDAD | F7: PUNTAJE MÁXIMO ASIGNADO POR ELEMENTO
D8: Paradero tipo 1 con módulo | F8: 74.7
D9: Panel publicitario | F9: 1.42
D10: Paradero tipo 3 con bandera | F10: 4.08
D11: Paradero tipo 2 con tótem | F11: 18.71
D12: Panel informativo interactivo estaciones | F12: 1.09
E13: Total | F13: =+SUM(F8:F12) -> 100
B15: =+D8 -> Paradero tipo 1 con módulo
E16: Piso | F16: techo
E17: Piso | F17: techo
E18: =F18*0.95 -> 31996732 | F18: 33680770
B19: N.º Proponentes | C19: Puntaje | D19: 74.7 | F19: Valor Total sin decimales de la oferta más alta | G19: =MAX(C23:C24) -> 20143478
B20: MEDIA ARITMÉTICA ALTA | F20: Promedio | G20: =AVERAGE(C23:C24) -> 10564239
E21: Max Puntaje | F21: MEDIA ALTA | G21: =(G19+G20)/2 -> 15353858
C22: Valor propuesto | D22: Calificación | E22: Orden de Elegibilidad
B23: EUCOL S.A.S. | C23: 20143478 | D23: =ROUND(IF(C23<=G21,D19*(1-(G21-C23)/G21),D19*(1+(G21-C23)/G21)),2) -> 51.4 | E23: =_xlfn.RANK.EQ(D23,D23:D24) -> 1
B24: TIPS MEDIA S.A.S. | C24: 985000 | D24: =ROUND(IF(C24<=G21,D19*(1-(G21-C24)/G21),D19*(1+(G21-C24)/G21)),2) -> 4.79 | E24: =_xlfn.RANK.EQ(D24,D23:D24) -> 2
B27: =+D9 -> Panel publicitario
E28: Piso | F28: techo
E29: Piso | F29: techo
E30: =F30*0.95 -> 31996732 | F30: 33680770
B31: N.º Proponentes | C31: Puntaje | D31: 1.42 | F31: Valor Total sin decimales de la oferta más alta | G31: =MAX(C35:C36) -> 4127317
B32: MEDIA ARITMÉTICA ALTA | F32: Promedio | G32: =AVERAGE(C35:C36) -> 2408898.5
E33: Max Puntaje | F33: MEDIA ALTA | G33: =(G31+G32)/2 -> 3268107.8
C34: Valor propuesto | D34: Calificación | E34: Orden de Elegibilidad
B35: EUCOL S.A.S. | C35: 4127317 | D35: =ROUND(IF(C35<=G33,D31*(1-(G33-C35)/G33),D31*(1+(G33-C35)/G33)),2) -> 1.05 | E35: =_xlfn.RANK.EQ(D35,D35:D36) -> 1
B36: TIPS MEDIA S.A.S. | C36: 690480 | D36: =ROUND(IF(C36<=G33,D31*(1-(G33-C36)/G33),D31*(1+(G33-C36)/G33)),2) -> 0.3 | E36: =_xlfn.RANK.EQ(D36,D35:D36) -> 2
B39: =+D10 -> Paradero tipo 3 con bandera
E40: Piso | F40: techo
E41: =F41*0.95 -> 31996732 | F41: 33680770
B42: N.º Proponentes | C42: Puntaje | D42: 4.08 | F42: Valor Total sin decimales de la oferta más alta | G42: =MAX(C46:C47) -> 12095528
B43: MEDIA ARITMÉTICA ALTA | F43: Promedio | G43: =AVERAGE(C46:C47) -> 6133441.5
E44: Max Puntaje | F44: MEDIA ALTA | G44: =(G42+G43)/2 -> 9114484.8
C45: Valor propuesto | D45: Calificación | E45: Orden de Elegibilidad
B46: EUCOL S.A.S. | C46: 12095528 | D46: =ROUND(IF(C46<=G44,D42*(1-(G44-C46)/G44),D42*(1+(G44-C46)/G44)),2) -> 2.75 | E46: =_xlfn.RANK.EQ(D46,D46:D47) -> 1
B47: TIPS MEDIA S.A.S. | C47: 171355 | D47: =ROUND(IF(C47<=G44,D42*(1-(G44-C47)/G44),D42*(1+(G44-C47)/G44)),2) -> 0.08 | E47: =_xlfn.RANK.EQ(D47,D46:D47) -> 2
B49: =+D11 -> Paradero tipo 2 con tótem
E50: Piso | F50: techo
...

Sheet Puntaje adicionales
B3: PUNTAJE FACTOR DE CALIDAD POR PROGRAMA DE CULTURA CIUDADANA
D5: Presupuesto ofertado ($ de junio de 2019) | E5: Puntaje
D6: 2145000000 | E6: 78
D7: 2486000000 | E7: 90
D8: 2827000000 | E8: 103
D9: 3168000000 | E9: 115
D10: 3509000000 | E10: 128
D11: 3850000000 | E11: 140
D15: Nombre del Proponente | E15: Valor ofertado | F15: Puntaje Asigando | G15: Comentarios y Documentación Soporte
D16: EUCOL S.A.S. | E16: 3850000000 | F16: 140 | G16: Nombre del documento: PROPUESTA ECONOMICA ANEXOS 14,13,13A,15,16,17 y 17B Folio o página: 254 Se remite el Anexo 13 con la oferta económica para desarrollar el programa de cultura ciudadana.
D17: TIPS MEDIA S.A.S. | E17: 3850000000 | F17: 140 | G17: Nombre del documento: TIPS MEDIA ANEXO 13 PONDERACION DE ELEMENTOS DE CALIDAD PROGRAMA DE CULTURA CIUDADANA Folio o página: 1 Se remite el Anexo 13 con la oferta económica para desarrollar el programa de cultura ciudadana.
B24: PUNTAJE FACTOR DE CALIDAD POR TÓTEMS ADICIONALES
D26: Cantidad de tótems | E26: Puntaje asignado
D27: 50 tótems adicionales | E27: 14 puntos
D28: 100 tótems adicionales | E28: 29 puntos
D29: 150 tótems adicionales | E29: 43 puntos
D30: 200 tótems adicionales | E30: 57 puntos
D31: 250 tótems adicionales | E31: 71 puntos
D32: 300 tótems adicionales | E32: 86 puntos
D33: 350 tótems adicionales | E33: 100 puntos
D35: Nombre del Proponente | E35: Valor ofertado | F35: Puntaje Asigando | G35: Comentarios y Documentación Soporte
D36: EUCOL S.A.S. | E36: 350 | F36: 100 | G36: Nombre del documento: PROPUESTA ECONOMICA ANEXOS 14,13,13A,15,16,17 y 17B Folios o página: 255 Se remite el Anexo 13A con la oferta para instalar los totem adiconales.
D37: TIPS MEDIA S.A.S. | E37: 350 | F37: 100 | G37: Nombre del documento: TIPS MEDIA ANEXO 13A PONDERACION DE ELEMENTOS DE CALIDAD TOTEM Folio o página: 1 Se remite el Anexo 13A con la oferta para instalar los totem adiconales.
B42: Apoyo a la industria Nacional
D44: FACTOR PROMOCIÓN A LA INDUSTRIA NACIONAL
D45: SUBCRITERIO | E45: CONDICIONES | F45: PUNTAJE
D46: SERVICIOS DE ORIGEN NACIONAL (Sub criterio 1) | E46: El proponente individual y la totalidad del proponente plural o proponente individual deben cumplir y ser: personas naturales o jurídicas nacionales o personas naturales o jurídicas extranjeras que hayan acreditado la reciprocidad, así como las estructuras plurales integradas por dichas personas. | F46: 150 puntos
D47: INCENTIVO A LA INCORPORACIÓN DE COMPONENTE NACIONAL (Sub criterio 2) | E47: Proponentes extranjeros y estructurales plurales de origen extranjero que no hayan acreditado la reciprocidad, que ofrezcan determinado porcentaje de componente nacional incorporado, referido a la totalidad de bienes nacionales requeridos para la ejecución del contrato. | F47: Hasta 100 puntos, según tabla*
D48: *COMPONENTE DE BIENES NACIONALES OFRECIDO [Medido en términos del porcentaje referido de la totalidad de bienes requeridos para la ejecución del objeto del contrato] | F48: PUNTAJES
D49: Entre 0 % y 21 % del componente nacional incorporado | F49: 0 PUNTOS
D50: Entre 22 % d y 43 % | F50: 15 PUNTOS
D51: Entre 44 % y 61 % | F51: 30 PUNTOS
D52: Entre 62 % y 80 % | F52: 50 PUNTOS
D53: Entre 81 % y 90 % | F53: 80 PUNTOS
D54: Entre 91 % y 99 % | F54: 90 PUNTOS
D55: 1 | F55: 100 PUNTOS
D56: Nota 1: para estos efectos, los proponentes extranjeros que no hayan acreditado reciprocidad deberán señalar en el anexo correspondiente, el porcentaje ofrecido de componente nacional incorporado, referido a la totalidad de los bienes requeridos para la ejecución del contrato.
D57: Nota 2: el proponente debe tener en cuenta que los puntos relacionados en esta tabla son excluyentes, es decir, solo podrá obtener puntaje con uno de los anteriores criterios (servicios nacionales o incorporación de bienes nacionales).
D58: Nota 3: en los eventos en que se presente bajo la figura de promesa de sociedad futura, obtendrá el puntaje asignado a servicios nacionales, siempre y cuando en el documento de promesa conste de manera inequívoca, clara y expresa que, en caso de adjudicación, la sociedad se constituirá en Colombia.
D60: Nombre del Proponente | E60: Su criterio y porcentaje | F60: Puntaje asignado | G60: Comentarios y Documentación Soporte
...

Sheet Puntaje total
B2: Factor económico | S2: Factor de calidad por programa de cultura ciudadana | T2: Factor de calidad tótem | U2: Incentivo a la Industria Nacional | V2: Discapacidad | W2: Total
B3: Retribución total (Porcentaje * ventas brutas) | C3: Precios Unitarios por Tipología | H3: Precios unitarios por Mantenimiento Mensual | N3: Precios Unitarios por Traslado por cada Tipología
C4: Paradero tipo 1 con módulo | D4: Paradero tipo 2 con tótem | E4: Panel publicitario | F4: Paradero tipo 3 con bandera | G4: Panel informativo interactivo estaciones | H4: Paradero tipo 1 con módulo | I4: Paradero tipo 2 con tótem | J4: Panel publicitario | K4: Paradero tipo 3 con bandera | L4: Panel informativo interactivo estaciones | M4: Bancas existentes | N4: Paradero tipo 1 con módulo | O4: Panel publicitario | P4: Paradero tipo 3 con bandera | Q4: Paradero tipo 2 con tótem | R4: Panel informativo interactivo estaciones
A5: Puntaje Máximo | B5: 400 | C5: 33.41 | D5: 7.92 | E5: 4.61 | F5: 0.84 | G5: 3.22 | H5: 13.63 | I5: 2.74 | J5: 11.99 | K5: 14.59 | L5: 1.43 | M5: 5.62 | N5: 74.7 | O5: 1.42 | P5: 4.08 | Q5: 18.71 | R5: 1.09 | S5: 140 | T5: 100 | U5: 150 | V5: 10 | W5: =SUM(B5:V5) -> 1000
A6: Puntaje obtenido por EUCOL | B6: ='PuntajePrecio por Ventas Brutas'!E9 -> 377.22 | C6: ='Puntaje Precio por tipología'!D24 -> 28.54 | D6: ='Puntaje Precio por tipología'!D34 -> 6.29 | E6: ='Puntaje Precio por tipología'!D45 -> 4.58 | F6: ='Puntaje Precio por tipología'!D56 -> 0.73 | G6: ='Puntaje Precio por tipología'!D68 -> 2.54 | H6: ='Puntaje Precio por Mantenimient'!D24 -> 10.62 | I6: ='Puntaje Precio por Mantenimient'!D36 -> 2.03 | J6: ='Puntaje Precio por Mantenimient'!D47 -> 10.6 | K6: ='Puntaje Precio por Mantenimient'!D57 -> 12.45 | L6: ='Puntaje Precio por Mantenimient'!D68 -> 1.05 | M6: ='Puntaje Precio por Mantenimient'!D79 -> 5.15 | N6: ='Puntaje Precio por Traslados'!D23 -> 51.4 | O6: ='Puntaje Precio por Traslados'!D35 -> 1.05 | P6: ='Puntaje Precio por Traslados'!D46 -> 2.75 | Q6: ='Puntaje Precio por Traslados'!D56 -> 12.7 | R6: ='Puntaje Precio por Traslados'!D71 -> 0.76 | S6: ='Puntaje adicionales'!F16 -> 140 | T6: ='Puntaje adicionales'!F36 -> 100 | U6: ='Puntaje adicionales'!F61 -> 150 | V6: ='Puntaje adicionales'!E79 -> 10 | W6: =SUM(B6:V6) -> 930.46
A7: Puntaje obtenido por TIPS | B7: ='PuntajePrecio por Ventas Brutas'!E10 -> 331.67 | C7: ='Puntaje Precio por tipología'!D25 -> 18.81 | D7: ='Puntaje Precio por tipología'!D35 -> 3.03 | E7: ='Puntaje Precio por tipología'!D46 -> 4.52 | F7: ='Puntaje Precio por tipología'!D57 -> 0.5 | G7: ='Puntaje Precio por tipología'!D69 -> 1.17 | H7: ='Puntaje Precio por Mantenimient'!D25 -> 4.59 | I7: ='Puntaje Precio por Mantenimient'!D37 -> 0.61 | J7: ='Puntaje Precio por Mantenimient'!D48 -> 7.82 | K7: ='Puntaje Precio por Mantenimient'!D58 -> 13.88 | L7: ='Puntaje Precio por Mantenimient'!D69 -> 0.3 | M7: ='Puntaje Precio por Mantenimient'!D80 -> 5.46 | N7: ='Puntaje Precio por Traslados'!D24 -> 4.79 | O7: ='Puntaje Precio por Traslados'!D36 -> 0.3 | P7: ='Puntaje Precio por Traslados'!D47 -> 0.08 | Q7: ='Puntaje Precio por Traslados'!D57 -> 0.67 | R7: ='Puntaje Precio por Traslados'!D72 -> 0.1 | S7: ='Puntaje adicionales'!F17 -> 140 | T7: ='Puntaje adicionales'!F37 -> 100 | U7: ='Puntaje adicionales'!F62 -> 150 | V7: ='Puntaje adicionales'!E80 -> 10 | W7: =SUM(B7:V7) -> 798.3
