Workbook

Sheet INFORME DEL CONTRATISTA -SUPERV
A2: 1. DATOS GENERALES
A3: CONTRATO No. | E3: 061 de 2019 | I3: FECHA CONTRATO: | M3: 43515
A4: NOMBRE DEL SUPERVISOR: | E4: ETHEL VASQUEZ ROJAS | J4: Nº CEDULA: | L4: 39546837
A5: CARGO DEL SUPERVISOR: | E5: DIRECTORA DE GESTION CORPORATIVA
A6: NOMBRE (Contratista/Empresa): | E6: CARLOS ARTURO RUEDA DAZA | J6: CEDULA/NIT: | L6: 79235129
A7: OBJETO: | E7: Prestar servicios profesionales como archivista en la elaboración de los documentos archivísticos de la Secretaría Jurídica Distrital
A9: VALOR INICIAL: | E9: 75993610
A10: VALOR ADICIÓN (Si Aplica): | E10: 0
A11: VALOR TOTAL: | E11: =E9+E10 -> 75993610
A12: PLAZO: | E12: 10 | F12: MESES | G12: 0 | H12: DIAS
A13: PRORROGA (Si Aplica): | E13: No aplica | J13: ADICIÓN | L13: No aplica
A14: SUSPENSIONES (Fecha Inicial-Final): | E14: 00/00/0000 | G14: a | H14: 00/00/0000 | J14: 00/00/0000 | L14: a | M14: 00/00/0000
A15: FECHA DE ACTA DE INICIO: | E15: 43515
A16: FECHA FINALIZACIÓN CONTRATO: | E16: 43817
A17: FECHA INFORME | E17: 43819
A18: PERIODO INFORME | E18: 43800 | G18: a | H18: 43817
A19: % AVANCE CONTRATO | E19: =300/300 -> 1 | F19: Avance físico acumulado del contrato
A21: RP | B21: Rubro Presupuestal | E21: Nombre del Rubro Presupuestal | I21: Fuente Financiación | L21: Centro de Costos
A22: 67 | B22: 3-3-1-15-07-43-7509-189 | E22: “Fortalecimiento de la capacidad institucional para mejorar la gestión administrativa de la Secretaria Jurídica Distrital | I22: Funcionamiento 01-12 otros Distrito | L22: 2311000
A24: 2. FUENTE DE FINANCIACIÓN
A25: TIPO DE INFORME:
B26: PERSONA NATURAL | E26: X | F26: PERSONA JURIDICA | K26: ¿Deshabilitar control de pagos? | M26: NO
B27: MENSUAL | E27: X | F27: PARCIAL | K27: FINAL
A29: Proceso al que pertenece (marcar con una x) se puede marcar mas de uno si se requiere: | F29: Atención al Ciudadano | I29: Gestión del Talento Humano | L29: Gestión Judicial, Extrajudicial
F30: Planeación y mejora continua | I30: Gestión Juridica Distrital | L30: Notificaciones
F31: Gestión de la Comunicaciónes | I31: Gestión Disciplinaria Distrital | L31: Gestión financiera
F32: Gestión de TIC´s | I32: Gestión IVC - ESAL | L32: Gestión Administrativa
F33: Gestión Documental | H33: X | I33: Gestión Normativa Conceptual | L33: Gestión Contractual
F34: Evaluación independiente | I34: Control Interno Disciplinario
A35: * Si aplica
A36: 3. ESTADO FINANCIERO DEL CONTRATO
A37: VALOR TOTAL DEL CONTRATO | E37: =+E11 -> 75993610
E38: RELACIÓN DE PAGO(S)
A39: =IF(M26="SI","RELACION DE VALOR(ES) O FACTURA(S) A COBRAR EN EL PERIODO", "REGISTRO DE PAGO(S)") -> REGISTRO DE PAGO(S) | E39: =IF(M26="SI","VALOR 1","ENERO") -> ENERO | G39: 2533120 | I39: 7599361 | K39: 7599361 | M39: 7599361
E40: 7599361 | G40: 7599361 | I40: 7599361 | K40: 7599361 | M40: 7599361
E41: 7599361 | G41: 4559617 | I41: TOTAL | K41: =IF(M26="SI",IF(E39="VALOR 1",0,E39)+IF(G39="VALOR 2",0,G39)+IF(I39="VALOR 3",0,I39)+IF(K39="VALOR 4",0,K39)+IF(M39="VALOR 5",0,M39)+IF(E40="VALOR 6",0,E40)+IF(G40="VALOR 7",0,G40)+IF(I40="VALOR 8",0,I40)+IF(K40="VALOR 9",0,K40)+IF(M40="VALOR 10",0,M40)+IF(E41="VALOR 11",0,E41)+IF(G41="VALOR 12",0,G41),(IF(E39="ENERO",0,E39)+IF(G39="FEBRERO",0,G39)+IF(I39="MARZO",0,I39)+IF(K39="ABRIL",0,K39)+IF(M39="MAYO",0,M39)+IF(E40="JUNIO",0,E40)+IF(G40="JULIO",0,G40)+IF(I40="AGOSTO",0,I40)+IF(K40="SEPTIEMBRE",0,K40)+IF(M40="OCTUBRE",0,M40)+IF(E41="NOVIEMBRE",0,E41)+IF(G41="DICIEMBRE",0,G41))) -> 75486986
A42: VALOR A PAGAR EN ESTE PERIODO | E42: =IF(M26="SI",K41,(IF(G41<>"DICIEMBRE",G41,IF(E41<>"NOVIEMBRE",E41,IF(M40<>"OCTUBRE",M40,IF(K40<>"SEPTIEMBRE",K40,IF(I40<>"AGOSTO",I40,IF(G40<>"JULIO",G40,IF(E40<>"JUNIO",E40,IF(M39<>"MAYO",M39,IF(K39<>"ABRIL",K39,IF(I39<>"MARZO",I39,IF(G39<>"FEBRERO",G39,IF(E39<>"ENERO",E39,0)))))))))))))) -> 4559617
A43: =IF(M26="SI", "ATENCIÓN!!!","FALTANTE POR PAGAR") -> FALTANTE POR PAGAR | E43: =IF(M26="SI","Recuerde llevar el control de pagos (evite el desfinanciamiento del prespuesto asignado)",E37-K41) -> 506624
A44: =IF(M26="SI","*Si aplica (Facturas adjuntas)","NUMERO DEL PAGO A REALIZAR") -> NUMERO DEL PAGO A REALIZAR | E44: 11
A49: 4. GESTIÓN DEL CONTRATISTA
...

Sheet Hoja1
A3: X

Sheet GESTION FINANCIERA DEL CONTRATO
A1: 1. DATOS GENERALES
A2: CONTRATO No. | E2: =IF('INFORME DEL CONTRATISTA -SUPERV'!E3="","",'INFORME DEL CONTRATISTA -SUPERV'!E3) -> 061 de 2019 | J2: FECHA | L2: =+'INFORME DEL CONTRATISTA -SUPERV'!M3 -> 43515
A3: NOMBRE DEL SUPERVISOR: | E3: =IF('INFORME DEL CONTRATISTA -SUPERV'!E4="","",'INFORME DEL CONTRATISTA -SUPERV'!E4) -> ETHEL VASQUEZ ROJAS | J3: Nº CEDULA | L3: =IF('INFORME DEL CONTRATISTA -SUPERV'!L4="","",'INFORME DEL CONTRATISTA -SUPERV'!L4) -> 39546837
A4: CARGO DEL SUPERVISOR: | E4: =IF('INFORME DEL CONTRATISTA -SUPERV'!E5="","",'INFORME DEL CONTRATISTA -SUPERV'!E5) -> DIRECTORA DE GESTION CORPORATIVA
A5: NOMBRE (Contratista/Empresa): | E5: =IF('INFORME DEL CONTRATISTA -SUPERV'!E6="","",'INFORME DEL CONTRATISTA -SUPERV'!E6) -> CARLOS ARTURO RUEDA DAZA | J5: CEDULA/NIT: | L5: =IF('INFORME DEL CONTRATISTA -SUPERV'!L6="","",'INFORME DEL CONTRATISTA -SUPERV'!L6) -> 79235129
A6: OBJETO: | E6: =IF('INFORME DEL CONTRATISTA -SUPERV'!E7="","",'INFORME DEL CONTRATISTA -SUPERV'!E7) -> Prestar servicios profesionales como archivista en la elaboración de los documentos archivísticos de la Secretaría Jurídica Distrital
A8: VALOR INICIAL: | E8: ='INFORME DEL CONTRATISTA -SUPERV'!E9:N9 -> 75993610
A9: VALOR ADICIÓN (Si Aplica): | E9: ='INFORME DEL CONTRATISTA -SUPERV'!E10:N10 -> 0
A10: VALOR TOTAL: | E10: ='INFORME DEL CONTRATISTA -SUPERV'!E11:N11 -> 75993610
A11: PLAZO: | E11: ='INFORME DEL CONTRATISTA -SUPERV'!E12 -> 10 | F11: MESES | G11: ='INFORME DEL CONTRATISTA -SUPERV'!G12 -> 0 | H11: DIAS
A12: PRORROGA (Si Aplica): | E12: ='INFORME DEL CONTRATISTA -SUPERV'!E13:I13 -> No aplica | J12: ADICIÓN | L12: ='INFORME DEL CONTRATISTA -SUPERV'!L13:N13 -> No aplica
A13: SUSPENSIONES (Fecha Inicial-Final): | E13: ='INFORME DEL CONTRATISTA -SUPERV'!E14:F14 -> 00/00/0000 | G13: a | H13: ='INFORME DEL CONTRATISTA -SUPERV'!H14:I14 -> 00/00/0000 | J13: ='INFORME DEL CONTRATISTA -SUPERV'!J14:K14 -> 00/00/0000 | L13: a | M13: ='INFORME DEL CONTRATISTA -SUPERV'!M14:N14 -> 00/00/0000
A14: FECHA DE ACTA DE INICIO: | E14: ='INFORME DEL CONTRATISTA -SUPERV'!E15 -> 43515
A15: FECHA FINALIZACIÓN CONTRATO: | E15: ='INFORME DEL CONTRATISTA -SUPERV'!E16 -> 43817
A16: FECHA CERTIFICACIÓN | E16: ='INFORME DEL CONTRATISTA -SUPERV'!E17 -> 43819
A17: PERIODO CERTIFICACIÓN | E17: ='INFORME DEL CONTRATISTA -SUPERV'!E18 -> 43800 | G17: a | H17: ='INFORME DEL CONTRATISTA -SUPERV'!H18 -> 43817
A18: RP | B18: Rubro Presupuestal | E18: Nombre del Rubro Presupuestal | I18: Fuente Financiación | L18: Centro de Costos
A19: =IF('INFORME DEL CONTRATISTA -SUPERV'!A22=0," ",'INFORME DEL CONTRATISTA -SUPERV'!A22) -> 67 | B19: =IF('INFORME DEL CONTRATISTA -SUPERV'!B22:D22=0," ",'INFORME DEL CONTRATISTA -SUPERV'!B22:D22) -> 3-3-1-15-07-43-7509-189 | E19: =IF('INFORME DEL CONTRATISTA -SUPERV'!E22:H22=0," ",'INFORME DEL CONTRATISTA -SUPERV'!E22:H22) -> “Fortalecimiento de la capacidad institucional para mejorar la gestión administrativa de la Secretaria Jurídica Distrital | I19: =IF('INFORME DEL CONTRATISTA -SUPERV'!I22:K22=0," ",'INFORME DEL CONTRATISTA -SUPERV'!I22:K22) -> Funcionamiento 01-12 otros Distrito | L19: =IF('INFORME DEL CONTRATISTA -SUPERV'!L22:N22=0," ",'INFORME DEL CONTRATISTA -SUPERV'!L22:N22) -> 2311000
A22: 2. ESTADO FINANCIERO DEL CONTRATO
A24: VALOR DEL CONTRATO | E24: ='INFORME DEL CONTRATISTA -SUPERV'!E37 -> 75993610
E25: RELACIÓN DE PAGOS
A26: ='INFORME DEL CONTRATISTA -SUPERV'!A39 -> REGISTRO DE PAGO(S) | E26: ='INFORME DEL CONTRATISTA -SUPERV'!E39:F39 -> ENERO | G26: ='INFORME DEL CONTRATISTA -SUPERV'!G39:H39 -> 2533120 | I26: ='INFORME DEL CONTRATISTA -SUPERV'!I39:J39 -> 7599361 | K26: ='INFORME DEL CONTRATISTA -SUPERV'!K39:L39 -> 7599361 | M26: ='INFORME DEL CONTRATISTA -SUPERV'!M39:N39 -> 7599361
E27: ='INFORME DEL CONTRATISTA -SUPERV'!E40:F40 -> 7599361 | G27: ='INFORME DEL CONTRATISTA -SUPERV'!G40:H40 -> 7599361 | I27: ='INFORME DEL CONTRATISTA -SUPERV'!I40:J40 -> 7599361 | K27: ='INFORME DEL CONTRATISTA -SUPERV'!K40:L40 -> 7599361 | M27: ='INFORME DEL CONTRATISTA -SUPERV'!M40:N40 -> 7599361
E28: ='INFORME DEL CONTRATISTA -SUPERV'!E41:F41 -> 7599361 | G28: ='INFORME DEL CONTRATISTA -SUPERV'!G41:H41 -> 4559617 | I28: TOTAL | K28: ='INFORME DEL CONTRATISTA -SUPERV'!K41:N41 -> 75486986
A29: ='INFORME DEL CONTRATISTA -SUPERV'!A42 -> VALOR A PAGAR EN ESTE PERIODO | E29: ='INFORME DEL CONTRATISTA -SUPERV'!E42:N42 -> 4559617
A30: ='INFORME DEL CONTRATISTA -SUPERV'!A43 -> FALTANTE POR PAGAR | E30: ='INFORME DEL CONTRATISTA -SUPERV'!E43:N43 -> 506624
A31: ='INFORME DEL CONTRATISTA -SUPERV'!A44 -> NUMERO DEL PAGO A REALIZAR | E31: =+'INFORME DEL CONTRATISTA -SUPERV'!E44 -> 11
A33: 3. CONTRATISTA
A34: Al firmar el presente formato, el contratista en calidad de trabajador independiente con Contrato de Prestación de Servicios suscrito con la Secretaría Juridica Distrital, manifiesta que bajo la gravedad de juramento, con las implicaciones penales consiguientes, que los documentos soportes de pago de aportes obligatorios al Sistema General de Seguridad en Salud, Pensiones y Riesgos Laborales, corresponden a los ingresos provenientes del Contrato de Prestación de Servicios citado en el apartado 1 del presente documento, materia de pago sujeto a retención de acuerdo a la siguiente información:
A38: =IF('INFORME DEL CONTRATISTA -SUPERV'!I26="X","LA SIGUIENTE INFORMACIÓN NO APLICA PARA PERSONAS JURIDICAS - ADJUNTAR CERTIFICACIÓN REVISOR FISCAL","")
D39: NOMBRE ADMINISTRADORA | H39: Nº DE PLANILLA | J39: FECHA DE PAGO | L39: MES DE APORTE
A40: PAGO APORTES SALUD | D40: =IF('INFORME DEL CONTRATISTA -SUPERV'!I26="X","NO APLICA",IF('INFORME DEL CONTRATISTA -SUPERV'!D81="","",'INFORME DEL CONTRATISTA -SUPERV'!D81)) -> COMPENSAR | H40: =IF('INFORME DEL CONTRATISTA -SUPERV'!I26="X","NO APLICA",IF('INFORME DEL CONTRATISTA -SUPERV'!H81="","",'INFORME DEL CONTRATISTA -SUPERV'!H81)) -> 39525563 39545108 | J40: =IF('INFORME DEL CONTRATISTA -SUPERV'!I26="X","NO APLICA",IF('INFORME DEL CONTRATISTA -SUPERV'!J81="","",'INFORME DEL CONTRATISTA -SUPERV'!J81)) -> 19/12/2019 20/12/2019 | L40: =IF('INFORME DEL CONTRATISTA -SUPERV'!I26="X","NO APLICA",IF('INFORME DEL CONTRATISTA -SUPERV'!L81="","",'INFORME DEL CONTRATISTA -SUPERV'!L81)) -> NOVIEMBRE DICIEMBRE
A41: PAGO APORTES PENSIÓN | D41: =IF('INFORME DEL CONTRATISTA -SUPERV'!I26="X","NO APLICA",IF('INFORME DEL CONTRATISTA -SUPERV'!D82="","",'INFORME DEL CONTRATISTA -SUPERV'!D82)) -> COMPENSAR | H41: =IF('INFORME DEL CONTRATISTA -SUPERV'!I26="X","NO APLICA",IF('INFORME DEL CONTRATISTA -SUPERV'!H82="","",'INFORME DEL CONTRATISTA -SUPERV'!H82)) -> 39525563 39545108 | J41: =IF('INFORME DEL CONTRATISTA -SUPERV'!I26="X","NO APLICA",IF('INFORME DEL CONTRATISTA -SUPERV'!J82="","",'INFORME DEL CONTRATISTA -SUPERV'!J82)) -> 19/12/2019 20/12/2019 | L41: =IF('INFORME DEL CONTRATISTA -SUPERV'!I26="X","NO APLICA",IF('INFORME DEL CONTRATISTA -SUPERV'!L82="","",'INFORME DEL CONTRATISTA -SUPERV'!L82)) -> NOVIEMBRE DICIEMBRE
A42: PAGO APORTE ARP | D42: =IF('INFORME DEL CONTRATISTA -SUPERV'!I26="X","NO APLICA",IF('INFORME DEL CONTRATISTA -SUPERV'!D83="","",'INFORME DEL CONTRATISTA -SUPERV'!D83)) -> COMPENSAR | H42: =IF('INFORME DEL CONTRATISTA -SUPERV'!I26="X","NO APLICA",IF('INFORME DEL CONTRATISTA -SUPERV'!H83="","",'INFORME DEL CONTRATISTA -SUPERV'!H83)) -> 39525563 39545108 | J42: =IF('INFORME DEL CONTRATISTA -SUPERV'!I26="X","NO APLICA",IF('INFORME DEL CONTRATISTA -SUPERV'!J83="","",'INFORME DEL CONTRATISTA -SUPERV'!J83)) -> 19/12/2019 20/12/2019 | L42: =IF('INFORME DEL CONTRATISTA -SUPERV'!I26="X","NO APLICA",IF('INFORME DEL CONTRATISTA -SUPERV'!L83="","",'INFORME DEL CONTRATISTA -SUPERV'!L83)) -> NOVIEMBRE DICIEMBRE
A43: * | B43: Tenga en cuenta que si adjunta planilla de pago de la planta de empleados de su empresa (Persona Juridica) "La tabla de calculo no
B44: procesara el valor de la planilla que adjunta.
A45: DETALLE DEL PAGO POR CONCEPTO DE APORTES A LA SEGURIDAD SOCIAL
A46: =IF('INFORME DEL CONTRATISTA -SUPERV'!I26="X","LA SIGUIENTE INFORMACIÓN NO APLICA PARA PERSONAS JURIDICAS - ADJUNTAR CERTIFICACIÓN REVISOR FISCAL","")
A47: * | B47: ='INFORME DEL CONTRATISTA -SUPERV'!B86 -> SI | C47: Estoy obligado a pagar pensión.
A48: * | B48: ='INFORME DEL CONTRATISTA -SUPERV'!B87 -> NO | C48: Pertenezco al régimen común | G48: IVA | H48: ='INFORME DEL CONTRATISTA -SUPERV'!H87 -> 0
...

Sheet Hoja2
A2: 1
A3: 2
A4: 3
A5: 4
A6: 5
A7: 6
A8: 7
A9: 8
A10: 9
A11: 10
A12: 11
A13: 12
... A25: 24
