Workbook
Name _Hlk113267989: 'CUADRO COMPARATIVO'!#REF!
Name A: #REF!
Name A: #REF!
Name A: 'PALACIO DE JUSTICIA DE CALI'!#REF!
Name A: #REF!
Name A: #REF!
Name A: #REF!
Name ARANCEL: #REF!
Name ARANCEL: #REF!
Name ARANCEL: 'PALACIO DE JUSTICIA DE CALI'!#REF!
Name ARANCEL: #REF!
Name ARANCEL: #REF!
Name ARANCEL: #REF!
Name DIANA: #REF!
Name DIANA: #REF!
Name DIANA: #REF!
Name DOLLAR: #REF!
Name DOLLAR: #REF!
Name DOLLAR: 'PALACIO DE JUSTICIA DE CALI'!#REF!
Name DOLLAR: #REF!
Name DOLLAR: #REF!
Name DOLLAR: #REF!
Name FLETE: #REF!
Name FLETE: #REF!
Name FLETE: 'PALACIO DE JUSTICIA DE CALI'!#REF!
Name FLETE: #REF!
Name FLETE: #REF!
Name FLETE: #REF!
Name GANANCIA: #REF!
Name GANANCIA: #REF!
Name GANANCIA: 'PALACIO DE JUSTICIA DE CALI'!#REF!
Name GANANCIA: #REF!
Name GANANCIA: #REF!
Name GANANCIA: #REF!
Name IMPORTE: #REF!
Name IMPORTE: #REF!
Name IMPORTE: 'PALACIO DE JUSTICIA DE CALI'!#REF!
Name IMPORTE: #REF!
Name IMPORTE: #REF!
Name IMPORTE: #REF!
Name MIAMI: #REF!
Name MIAMI: #REF!
Name MIAMI: 'PALACIO DE JUSTICIA DE CALI'!#REF!
Name MIAMI: #REF!
Name MIAMI: #REF!
Name MIAMI: #REF!
Name ORIGINAL: #REF!
Name ORIGINAL: #REF!
Name ORIGINAL: #REF!
Name ORIGINAL: #REF!
Name ORIGINAL: #REF!
Name OTRO: #REF!
Name OTRO: #REF!
Name OTRO: #REF!
Name OTRO: #REF!
Name OTRO: #REF!
Name PORCENTAJE: #REF!
Name PORCENTAJE: #REF!
Name PORCENTAJE: 'PALACIO DE JUSTICIA DE CALI'!#REF!
Name PORCENTAJE: #REF!

Sheet CUADRO COMPARATIVO
A3: Consejo Superior de la Judicatura Dirección Seccional de Administración Judicial de Cali – Valle del Cauca
A4: CUADRO COMPARATIVO DE PRECIOS DE MERCADO
A5: ITEM | B5: EQUIPO | C5: COTIZACIÓN 1 | D5: COTIZACIÓN 2 | E5: VALOR PROMEDIO MERCADO
A6: A | B6: MANTENIMIENTO PREVENTIVO
A7: 1 | B7: Cali - Palacio de Justicia "Pedro Elias Serrano Abadia" de Cali - Cra 10 # 12 - 15
A8: 1.1 | B8: Sistema CCTV | C8: =SUM('PALACIO DE JUSTICIA DE CALI'!G6:G18) -> 24250000 | D8: =SUM('PALACIO DE JUSTICIA DE CALI'!I6:I18) -> 38000000 | E8: =AVERAGE(C8:D8) -> 31125000
A9: 1.5 | B9: SISTEMA DE APOYO A REQUISAS -RX, ARCOS Y DETECTORES MANUALES | C9: =SUM('PALACIO DE JUSTICIA DE CALI'!G20:G22) -> 3600000 | D9: =SUM('PALACIO DE JUSTICIA DE CALI'!I20:I22) -> 2050000 | E9: =AVERAGE(C9:D9) -> 2825000
A10: 2 | B10: Cali - Palacio Nacional - Cra 4 # 12-40
A11: 2.1 | B11: SISTEMA CCTV | C11: =SUM('PALACIO NACIONAL CALI'!G6:G17) -> 7150000 | D11: =SUM('PALACIO NACIONAL CALI'!I6:I17) -> 9350000 | E11: =AVERAGE(C11:D11) -> 8250000
A12: 2.2 | B12: SISTEMAS DE APOYO A REQUISAS RX, ARCOS Y DETECTORES MANUALES | C12: =SUM('PALACIO NACIONAL CALI'!G19:G21) -> 1500000 | D12: =SUM('PALACIO NACIONAL CALI'!I19:I21) -> 1200000 | E12: =AVERAGE(C12:D12) -> 1350000
A13: 3 | B13: Cali - Edificio Ley de Tierras Av 3A Nte # 24-24
A14: 3.1 | B14: SISTEMA CCTV | C14: =SUM('LEY DE TIERRAS CALI'!G6:G22) -> 10150000 | D14: =SUM('LEY DE TIERRAS CALI'!I6:I22) -> 15190000 | E14: =AVERAGE(C14:D14) -> 12670000
A15: 3.2 | B15: SISTEMAS DE APOYO A REQUISAS RX, ARCOS Y DETECTORES MANUALES | C15: =SUM('LEY DE TIERRAS CALI'!G24) -> 450000 | D15: =SUM('LEY DE TIERRAS CALI'!I24) -> 500000 | E15: =AVERAGE(C15:D15) -> 475000
A16: 4 | B16: Cali - Edificio Entreceibas Calle 8 # 1-16
A17: 4.1 | B17: SISTEMA CCTV | C17: =SUM('ENTRECEIBAS - CALI'!G6:G13) -> 5750000 | D17: =SUM('ENTRECEIBAS - CALI'!I6:I13) -> 7600000 | E17: =AVERAGE(C17:D17) -> 6675000
A18: 4.2 | B18: SISTEMAS DE APOYO A REQUISAS RX, ARCOS Y DETECTORES MANUALES | C18: =SUM('ENTRECEIBAS - CALI'!G15) -> 450000 | D18: =SUM('ENTRECEIBAS - CALI'!I15) -> 500000 | E18: =AVERAGE(C18:D18) -> 475000
A19: 5 | B19: Cali - Edificio Juzgados Penales para Adolescentes - Avenida 5CN # 24-38
A20: 5.1 | B20: SISTEMA CCTV | C20: =SUM('ADOLESCENTES - CALI'!G6:G13) -> 6500000 | D20: =SUM('ADOLESCENTES - CALI'!I6:I13) -> 7600000 | E20: =AVERAGE(C20:D20) -> 7050000
A21: 6 | B21: Buga - Palacio de Justicia- Calle 7 # 14 - 32
A22: 6.1 | B22: SISTEMA CCTV | C22: =SUM(BUGA!G6:G11) -> 1600000 | D22: =SUM(BUGA!I6:I11) -> 2010000 | E22: =AVERAGE(C22:D22) -> 1805000
A23: 6.2 | B23: SISTEMAS DE APOYO A REQUISAS RX, ARCOS Y DETECTORES MANUALES | C23: =SUM(BUGA!G13) -> 900000 | D23: =SUM(BUGA!I13) -> 1000000 | E23: =AVERAGE(C23:D23) -> 950000
A24: 6.3 | B24: Edificio Condado Plaza - Calle 7 # 13-56 de Buga | C24: =SUM(BUGA!G15) -> 450000 | D24: =SUM(BUGA!I15) -> 500000 | E24: =AVERAGE(C24:D24) -> 475000
A25: 7 | B25: Buenaventura - Palacio Nacional - Calle 3 # 2A-35
A26: 7.1 | B26: SISTEMA CCTV | C26: =SUM(BUENAVENTURA!G7:G18) -> 6110000 | D26: =SUM(BUENAVENTURA!I7:I18) -> 6250000 | E26: =AVERAGE(C26:D26) -> 6180000
A27: 7.2 | B27: SISTEMAS DE APOYO A REQUISAS RX, ARCOS Y DETECTORES MANUALES | C27: =SUM(BUENAVENTURA!G20:G21) -> 1050000 | D27: =SUM(BUENAVENTURA!I20:I21) -> 1250000 | E27: =AVERAGE(C27:D27) -> 1150000
A28: 7.3 | B28: EDIFICIO TRANSFERENCIAS - Calle 9 No. 2 -21 | C28: =SUM(BUENAVENTURA!G23:G24) -> 1050000 | D28: =SUM(BUENAVENTURA!I23:I24) -> 1250000 | E28: =AVERAGE(C28:D28) -> 1150000
A29: 7.4 | B29: EDIFICIO JIRETH - Calle 3 #5-35 | C29: =SUM(BUENAVENTURA!G26:G27) -> 1050000 | D29: =SUM(BUENAVENTURA!I26:I27) -> 1250000 | E29: =AVERAGE(C29:D29) -> 1150000
A30: 8 | B30: Palmira - Palacio Justicia - Cra 29 # 22 -43
A31: 8.1 | B31: SISTEMA CCTV | C31: =SUM(PALMIRA!F6:F17) -> 7400000 | D31: =SUM(PALMIRA!H6:H17) -> 7850000 | E31: =AVERAGE(C31:D31) -> 7625000
A32: 8.2 | B32: SISTEMAS DE APOYO A REQUISAS RX, ARCOS Y DETECTORES MANUALES | C32: =SUM(PALMIRA!F19) -> 450000 | D32: =SUM(PALMIRA!H19) -> 500000 | E32: =AVERAGE(C32:D32) -> 475000
A33: 8.3 | B33: EDIFICIO SEDE DE FAMILIA - Calle 22 No. 28A -10 | C33: =SUM(PALMIRA!F21:F24) -> 2150000 | D33: =SUM(PALMIRA!H21:H24) -> 2100000 | E33: =AVERAGE(C33:D33) -> 2125000
A34: 9 | B34: Palacio Justicia de Cartago - CALLE 11 # 5 67
A35: 9.1 | B35: SISTEMA CCTV | C35: =SUM(CARTAGO!G6:G12) -> 4450000 | D35: =SUM(CARTAGO!I6:I12) -> 4450000 | E35: =AVERAGE(C35:D35) -> 4450000
A36: 9.2 | B36: SISTEMAS DE APOYO A REQUISAS RX, ARCOS Y DETECTORES MANUALES | C36: =SUM(CARTAGO!G14:G15) -> 1050000 | D36: =SUM(CARTAGO!I14:I15) -> 1100000 | E36: =AVERAGE(C36:D36) -> 1075000
A37: 9.3 | B37: SISTEMA DETECCION DE INCENDIO | C37: =SUM(CARTAGO!G17:G24) -> 2280000 | D37: =SUM(CARTAGO!I17:I24) -> 4160000 | E37: =AVERAGE(C37:D37) -> 3220000
A38: 10 | B38: EDIFICIO WESPEDES - SEDE JUDICIAL JUZGADOS PENALES Y EL CENTRO DE SERVICIOS CALLE 25 # 23-35 67 - TULUA
A39: 10.1 | B39: SISTEMAS DE APOYO A REQUISAS RX, ARCOS Y DETECTORES MANUALES | C39: =SUM(TULUA!F6) -> 450000 | D39: =SUM(TULUA!H6) -> 500000 | E39: =AVERAGE(C39:D39) -> 475000
A40: 11 | B40: PALACIO DE JUSTICIA DE ROLDANILLO "OSCAR TRUJILLO LERMA"- CARRERA 8 # 1-28
A41: 11.1 | B41: SISTEMA CCTV | C41: =SUM(ROLDANILLO!G6:G13) -> 2280000 | D41: =SUM(ROLDANILLO!I6:I13) -> 4160000 | E41: =AVERAGE(C41:D41) -> 3220000
A42: VALOR SUBTOTAL | E42: =SUM(E8:E9,E11:E12,E14:E15,E17:E18,E20,E22:E24,E26:E29,E31:E33,E35:E37,E39,E41) -> 106420000
...

Sheet PALACIO DE JUSTICIA DE CALI
A2: ITEM | B2: Palacio de Justicia "Pedro Elías Serrano Abadía" de Cali - Cra 10 # 12 - 15
A3: 1 | B3: SISTEMA CCTV
A4: REFERENCIA | C4: DESCRIPCION | D4: UNIDAD | E4: CANTIDAD | F4: COTIZACIÓN 1 | H4: COTIZACIÓN 2 | J4: VALOR PROMEDIO MERCADO | K4: VALOR TOTAL PROMEDIO
F5: VALOR UNITARIO | G5: VALOR TOTAL | H5: VALOR UNITARIO | I5: VALOR TOTAL
A6: 1.1 | B6: NIN-733-V03PS | C6: FlexiDome HD 720p60, VR, 3-9mm, IVA | D6: UNIDAD | E6: 123 | F6: 100000 | G6: =+E6*F6 -> 12300000 | H6: 200000 | I6: =+H6*E6 -> 24600000 | J6: =AVERAGE(F6,H6) -> 150000 | K6: =AVERAGE(G6,I6) -> 18450000
A7: 1.2 | B7: NBN-71013-B | C7: Camera Dinion HD720p60 | D7: UNIDAD | E7: 29 | F7: 100000 | G7: =+E7*F7 -> 2900000 | H7: 200000 | I7: =+H7*E7 -> 5800000 | J7: =AVERAGE(F7,H7) -> 150000 | K7: =AVERAGE(G7,I7) -> 4350000
A8: 1.3 | B8: VG5-7220-EPC4 | C8: Adomo 7000 HD, 20X, D/N, Int/Ext, Transp | D8: UNIDAD | E8: 5 | F8: 800000 | G8: =+E8*F8 -> 4000000 | H8: 200000 | I8: =+H8*E8 -> 1000000 | J8: =AVERAGE(F8,H8) -> 500000 | K8: =AVERAGE(G8,I8) -> 2500000
A9: 1.9 | B9: 736327-001 | C9: HP ProLiantML31Oe-Servidor BVMS | D9: UNIDAD | E9: 1 | F9: 450000 | G9: =+E9*F9 -> 450000 | H9: 200000 | I9: =+H9*E9 -> 200000 | J9: =AVERAGE(F9,H9) -> 325000 | K9: =AVERAGE(G9,I9) -> 325000
A10: 1.10 | C10: HP Windows Server Rok Standard 2012 R2 | D10: UNIDAD | E10: 1 | F10: 450000 | G10: =+E10*F10 -> 450000 | H10: 200000 | I10: =+H10*E10 -> 200000 | J10: =AVERAGE(F10,H10) -> 325000 | K10: =AVERAGE(G10,I10) -> 325000
A11: 1.11 | B11: Z230 MT | C11: Work Station Client | D11: UNIDAD | E11: 3 | F11: 150000 | G11: =+E11*F11 -> 450000 | H11: 200000 | I11: =+H11*E11 -> 600000 | J11: =AVERAGE(F11,H11) -> 175000 | K11: =AVERAGE(G11,I11) -> 525000
A12: 1.12 | B12: KD-6X6CS | C12: Matriz de Seis entradas / 6 salidas | D12: UNIDAD | E12: 1 | F12: 250000 | G12: =+E12*F12 -> 250000 | H12: 600000 | I12: =+H12*E12 -> 600000 | J12: =AVERAGE(F12,H12) -> 425000 | K12: =AVERAGE(G12,I12) -> 425000
A13: 1.13 | B13: SESCCT.SOFT.STD ROK 2012 | C13: HP WINDOWS SERVER ROK ESTANDAR 2012 R2 | D13: UNIDAD | E13: 1 | F13: 300000 | G13: =+E13*F13 -> 300000 | H13: 500000 | I13: =+H13*E13 -> 500000 | J13: =AVERAGE(F13,H13) -> 400000 | K13: =AVERAGE(G13,I13) -> 400000
A14: 1.14 | C14: Acces Point, Marca Tenda Referencia 01 | D14: UNIDAD | E14: 18 | F14: 100000 | G14: =+E14*F14 -> 1800000 | H14: 100000 | I14: =+H14*E14 -> 1800000 | J14: =AVERAGE(F14,H14) -> 100000 | K14: =AVERAGE(G14,I14) -> 1800000
A15: 1.15 | C15: Cámaras IP Tipo Domo, marca DAHUA, Referencia DH-IPC-HDPW1230R1N-0208-S4 de 2 MP | D15: UNIDAD | E15: 9 | F15: 100000 | G15: =+E15*F15 -> 900000 | H15: 200000 | I15: =+H15*E15 -> 1800000 | J15: =AVERAGE(F15,H15) -> 150000 | K15: =AVERAGE(G15,I15) -> 1350000
A16: 1.16 | C16: Cámaras IP Tipo Domo, marca DAHUA, Referencia DH-IPC-HDPW1230T1P-0208-S5 de 2 MP | D16: UNIDAD | E16: 2 | F16: 100000 | G16: =+E16*F16 -> 200000 | H16: 200000 | I16: =+H16*E16 -> 400000 | J16: =AVERAGE(F16,H16) -> 150000 | K16: =AVERAGE(G16,I16) -> 300000
A17: 1.17 | C17: NVR Marca DAHUA de 16 canales Referencia NVR4216-4KS2/L | D17: UNIDAD | E17: 1 | F17: 250000 | G17: =+E17*F17 -> 250000 | H17: 300000 | I17: =+H17*E17 -> 300000 | J17: =AVERAGE(F17,H17) -> 275000 | K17: =AVERAGE(G17,I17) -> 275000
A18: 1.18 | C18: Disco Duro de 4TB, marca Wester Digital | D18: UNIDAD | E18: 1 | H18: 200000 | I18: =+H18*E18 -> 200000 | J18: =AVERAGE(F18,H18) -> 200000 | K18: =AVERAGE(G18,I18) -> 200000
A19: 2 | B19: SISTEMA DE APOYO A REQUISAS -RX, ARCOS Y DETECTORES MANUALES
A20: 2.1 | B20: PD6500i | C20: Arco o Puerta Detectora de Armas y Metales | D20: UNIDAD | E20: 3 | F20: 450000 | G20: =+E20*F20 -> 1350000 | H20: 100000 | I20: =+H20*E20 -> 300000 | J20: =AVERAGE(F20,H20) -> 275000 | K20: =AVERAGE(G20,I20) -> 825000
A21: 2.2 | B21: SCANNER | C21: Detector Manual de Armas y Metales (incluye batería recargable y cargador) | D21: UNIDAD | E21: 9 | F21: 150000 | G21: =+E21*F21 -> 1350000 | H21: 150000 | I21: =+H21*E21 -> 1350000 | J21: =AVERAGE(F21,H21) -> 150000 | K21: =AVERAGE(G21,I21) -> 1350000
A22: 2.3 | B22: XIS-5335 | C22: Maquina de Rayos X | D22: UNIDAD | E22: 2 | F22: 450000 | G22: =+E22*F22 -> 900000 | H22: 200000 | I22: =+H22*E22 -> 400000 | J22: =AVERAGE(F22,H22) -> 325000 | K22: =AVERAGE(G22,I22) -> 650000

Sheet PALACIO NACIONAL CALI
A2: ITEM | B2: Cali - Palacio Nacional - Cra 4 # 12-40
A3: 1 | B3: SISTEMA CCTV
A4: REFERENCIA | C4: DESCRIPCIÓN | D4: UNIDAD | E4: CANTIDAD | F4: COTIZACIÓN 1 | H4: COTIZACIÓN 2 | J4: VALOR PROMEDIO MERCADO | K4: VALOR TOTAL PROMEDIO
F5: VALOR UNITARIO | G5: VALOR TOTAL | H5: VALOR UNITARIO | I5: VALOR TOTAL
A6: 1.1 | C6: Domo PTZ, Marca: HIKVISION, Modelo: DS-2DF6236-AEL | D6: UNIDAD | E6: 16 | F6: 250000 | G6: =+E6*F6 -> 4000000 | H6: 300000 | I6: =+E6*H6 -> 4800000 | J6: =AVERAGE(F6,H6) -> 275000 | K6: =AVERAGE(G6,I6) -> 4400000
A7: 1.2 | C7: Cámara fija MiniDomo, Marca: HIKVISION, Modelo: DS-2CD2725FWD-12S | D7: UNIDAD | E7: 8 | F7: 100000 | G7: =+E7*F7 -> 800000 | H7: 200000 | I7: =+E7*H7 -> 1600000 | J7: =AVERAGE(F7,H7) -> 150000 | K7: =AVERAGE(G7,I7) -> 1200000
A8: 1.3 | C8: NVR 32 Canales, Marca: HIKVISION, Modelo: DSW9632NI-I8 | D8: UNIDAD | E8: 1 | F8: 150000 | G8: =+E8*F8 -> 150000 | H8: 250000 | I8: =+E8*H8 -> 250000 | J8: =AVERAGE(F8,H8) -> 200000 | K8: =AVERAGE(G8,I8) -> 200000
A9: 1.4 | C9: Disco Duro 4 Teras, Marca: Seagate, Modelo: ST4000VX000 | D9: UNIDAD | E9: 1 | F9: 100000 | G9: =+E9*F9 -> 100000 | H9: 100000 | I9: =+E9*H9 -> 100000 | J9: =AVERAGE(F9,H9) -> 100000 | K9: =AVERAGE(G9,I9) -> 100000
A10: 1.5 | C10: Matriz, Marca: HIKVISION, Modelo: DS-6916UDI | D10: UNIDAD | E10: 1 | F10: 450000 | G10: =+E10*F10 -> 450000 | H10: 800000 | I10: =+E10*H10 -> 800000 | J10: =AVERAGE(F10,H10) -> 625000 | K10: =AVERAGE(G10,I10) -> 625000
A11: 1.6 | C11: UPS 3 KVA, Marca: PEI, Modelo: 3KVA | D11: UNIDAD | E11: 1 | F11: 100000 | G11: =+E11*F11 -> 100000 | H11: 200000 | I11: =+E11*H11 -> 200000 | J11: =AVERAGE(F11,H11) -> 150000 | K11: =AVERAGE(G11,I11) -> 150000
A12: 1.7 | C12: Switch POE 24 Puertos, Marca: HIKVISION, Modelo: DS-3E1326P-E | D12: UNIDAD | E12: 3 | F12: 100000 | G12: =+E12*F12 -> 300000 | H12: 100000 | I12: =+E12*H12 -> 300000 | J12: =AVERAGE(F12,H12) -> 100000 | K12: =AVERAGE(G12,I12) -> 300000
A13: 1.8 | C13: Joystick, Marca: HIKVISION, Modelo: DS-1100KI | D13: UNIDAD | E13: 1 | F13: 150000 | G13: =+E13*F13 -> 150000 | H13: 200000 | I13: =+E13*H13 -> 200000 | J13: =AVERAGE(F13,H13) -> 175000 | K13: =AVERAGE(G13,I13) -> 175000
A14: 1.9 | C14: Monitor 19", Marca: HIKVISION, Modelo: DS-D5019QE-6 | D14: UNIDAD | E14: 5 | F14: 100000 | G14: =+E14*F14 -> 500000 | H14: 100000 | I14: =+E14*H14 -> 500000 | J14: =AVERAGE(F14,H14) -> 100000 | K14: =AVERAGE(G14,I14) -> 500000
A15: 1.10 | C15: Biométrico, Marca: HIKVISION, Modelo: DS-KIT803EF | D15: UNIDAD | E15: 1 | F15: 250000 | G15: =+E15*F15 -> 250000 | H15: 300000 | I15: =+E15*H15 -> 300000 | J15: =AVERAGE(F15,H15) -> 275000 | K15: =AVERAGE(G15,I15) -> 275000
A16: 1.11 | C16: Electroimán, Marca: Access Pro | D16: UNIDAD | E16: 1 | F16: 200000 | G16: =+E16*F16 -> 200000 | H16: 200000 | I16: =+E16*H16 -> 200000 | J16: =AVERAGE(F16,H16) -> 200000 | K16: =AVERAGE(G16,I16) -> 200000
A17: 1.12 | C17: Botón Apertura, Marca: HIKVISION | D17: UNIDAD | E17: 1 | F17: 150000 | G17: =+E17*F17 -> 150000 | H17: 100000 | I17: =+E17*H17 -> 100000 | J17: =AVERAGE(F17,H17) -> 125000 | K17: =AVERAGE(G17,I17) -> 125000
A18: 2 | B18: SISTEMAS DE APOYO A REQUISAS RX, ARCOS Y DETECTORES MANUALES
A19: 2.1 | B19: PD6500i | C19: Arco o Puerta Detectora de Armas y Metales | D19: UNIDAD | E19: 1 | F19: 450000 | G19: =+E19*F19 -> 450000 | H19: 500000 | I19: =+E19*H19 -> 500000 | J19: =AVERAGE(F19,H19) -> 475000 | K19: =AVERAGE(G19,I19) -> 475000
A20: 2.2 | B20: SUPER SCANNER | C20: Detector Manual de Armas y Metales (incluye mantenimiento a batería recargable y cargador) - SUPER SCANNER - GARRETT | D20: UNIDAD | E20: 1 | F20: 150000 | G20: =+E20*F20 -> 150000 | H20: 200000 | I20: =+E20*H20 -> 200000 | J20: =AVERAGE(F20,H20) -> 175000 | K20: =AVERAGE(G20,I20) -> 175000
A21: 2.3 | B21: XIS-6545 | C21: Máquina de Rayos X (Astrophysicsinc) - XIS-6545 | D21: UNIDAD | E21: 1 | F21: 900000 | G21: =+E21*F21 -> 900000 | H21: 500000 | I21: =+E21*H21 -> 500000 | J21: =AVERAGE(F21,H21) -> 700000 | K21: =AVERAGE(G21,I21) -> 700000

Sheet LEY DE TIERRAS CALI
A2: ITEM | B2: Edificio Ley de Tierras Av 3A Nte # 24-24 Cali
A3: 1 | B3: SISTEMA CCTV
B4: REFERENCIA | C4: DESCRIPCIÓN | D4: UNIDAD | E4: CANTIDAD | F4: COTIZACIÓN 1 | H4: COTIZACIÓN 2 | J4: VALOR PROMEDIO MERCADO | K4: VALOR TOTAL PROMEDIO
F5: VALOR UNITARIO | G5: VALOR TOTAL | H5: VALOR UNITARIO | I5: VALOR TOTAL
A6: 1.1 | C6: Brazos extensores o soporte de cámara | D6: UNIDAD | E6: 6 | F6: 250000 | G6: =+F6*E6 -> 1500000 | H6: 200000 | I6: =+H6*E6 -> 1200000 | J6: =AVERAGE(F6,H6) -> 225000 | K6: =AVERAGE(G6,I6) -> 1350000
A7: 1.2 | C7: Cámara de video con codec sin kit | D7: UNIDAD | E7: 1 | F7: 250000 | G7: =+F7*E7 -> 250000 | H7: 150000 | I7: =+H7*E7 -> 150000 | J7: =AVERAGE(F7,H7) -> 200000 | K7: =AVERAGE(G7,I7) -> 200000
A8: 1.3 | C8: Cámara tipo domo | D8: UNIDAD | E8: 1 | F8: 100000 | G8: =+F8*E8 -> 100000 | H8: 150000 | I8: =+H8*E8 -> 150000 | J8: =AVERAGE(F8,H8) -> 125000 | K8: =AVERAGE(G8,I8) -> 125000
A9: 1.4 | C9: Cámara tipo domo interior | D9: UNIDAD | E9: 24 | F9: 100000 | G9: =+F9*E9 -> 2400000 | H9: 150000 | I9: =+H9*E9 -> 3600000 | J9: =AVERAGE(F9,H9) -> 125000 | K9: =AVERAGE(G9,I9) -> 3000000
A10: 1.5 | C10: Chasis de amplificación de señales de video | D10: UNIDAD | E10: 3 | H10: 150000 | I10: =+H10*E10 -> 450000 | J10: =AVERAGE(F10,H10) -> 150000 | K10: =AVERAGE(G10,I10) -> 450000
A11: 1.6 | C11: Control de acceso con kit de electroimán | D11: UNIDAD | E11: 1 | F11: 250000 | G11: =+F11*E11 -> 250000 | H11: 300000 | I11: =+H11*E11 -> 300000 | J11: =AVERAGE(F11,H11) -> 275000 | K11: =AVERAGE(G11,I11) -> 275000
A12: 1.7 | C12: Joystick (teclado CCTCV) | D12: UNIDAD | E12: 1 | F12: 150000 | G12: =+F12*E12 -> 150000 | H12: 200000 | I12: =+H12*E12 -> 200000 | J12: =AVERAGE(F12,H12) -> 175000 | K12: =AVERAGE(G12,I12) -> 175000
A13: 1.8 | C13: Matrix digital CCTV | D13: UNIDAD | E13: 1 | F13: 450000 | G13: =+F13*E13 -> 450000 | H13: 500000 | I13: =+H13*E13 -> 500000 | J13: =AVERAGE(F13,H13) -> 475000 | K13: =AVERAGE(G13,I13) -> 475000
A14: 1.9 | C14: Monitor CCTV | D14: UNIDAD | E14: 5 | F14: 100000 | G14: =+F14*E14 -> 500000 | H14: 200000 | I14: =+H14*E14 -> 1000000 | J14: =AVERAGE(F14,H14) -> 150000 | K14: =AVERAGE(G14,I14) -> 750000
A15: 1.10 | C15: UPS 10 KVA | D15: UNIDAD | E15: 1 | F15: 100000 | G15: =+F15*E15 -> 100000 | H15: 500000 | I15: =+H15*E15 -> 500000 | J15: =AVERAGE(F15,H15) -> 300000 | K15: =AVERAGE(G15,I15) -> 300000
A16: 1.11 | C16: Videograbadora digital 16 entradas | D16: UNIDAD | E16: 2 | F16: 500000 | G16: =+F16*E16 -> 1000000 | H16: 400000 | I16: =+H16*E16 -> 800000 | J16: =AVERAGE(F16,H16) -> 450000 | K16: =AVERAGE(G16,I16) -> 900000
A17: 1.12 | C17: SIP Camara 4 EN 1 1/2,7" CMOS 1080P Tipo Domo Lente Varifocal 2,7-12MM FOV 33°-106° DWDR IR 30M IP67 | D17: UNIDAD | E17: 12 | F17: 150000 | G17: =+F17*E17 -> 1800000 | H17: 200000 | I17: =+H17*E17 -> 2400000 | J17: =AVERAGE(F17,H17) -> 175000 | K17: =AVERAGE(G17,I17) -> 2100000
A18: 1.13 | C18: XVR 16CH + 2CH IP grabación hasta 1080N 4CH con SMD 1 HDMI 1 E/S RCA 1 SATA AI CODING/H.265 | D18: UNIDAD | E18: 1 | F18: 250000 | G18: =+F18*E18 -> 250000 | H18: 300000 | I18: =+H18*E18 -> 300000 | J18: =AVERAGE(F18,H18) -> 275000 | K18: =AVERAGE(G18,I18) -> 275000
A19: 1.14 | C19: XVR 16CH + 2CH IP Grabacion hasta 1080N 4CH con SMD 1 HDMI 1 E/S RCA 1 SATA AI CODING/H.265 | D19: UNIDAD | E19: 2 | F19: 250000 | G19: =+F19*E19 -> 500000 | H19: 480000 | I19: =+H19*E19 -> 960000 | J19: =AVERAGE(F19,H19) -> 365000 | K19: =AVERAGE(G19,I19) -> 730000
A20: 1.15 | C20: Fuente de Alimentación 12V/2A 2 con PLUG DC y PLUG AC 2 Pines Certificado UL | D20: UNIDAD | E20: 12 | F20: 15000 | G20: =+F20*E20 -> 180000 | H20: 20000 | I20: =+H20*E20 -> 240000 | J20: =AVERAGE(F20,H20) -> 17500 | K20: =AVERAGE(G20,I20) -> 210000
A21: 1.16 | C21: Video Balun Pasivo 1 Canal 4 En 1 Transmision HDCVI 1080P hasta 250M | D21: UNIDAD | E21: 28 | F21: 15000 | G21: =+F21*E21 -> 420000 | H21: 80000 | I21: =+H21*E21 -> 2240000 | J21: =AVERAGE(F21,H21) -> 47500 | K21: =AVERAGE(G21,I21) -> 1330000
A22: 1.17 | C22: DISCO DURO 4TB CACHE 256MB 3.5" SATA | D22: UNIDAD | E22: 2 | F22: 150000 | G22: =+F22*E22 -> 300000 | H22: 100000 | I22: =+H22*E22 -> 200000 | J22: =AVERAGE(F22,H22) -> 125000 | K22: =AVERAGE(G22,I22) -> 250000
A23: 2 | B23: SISTEMAS DE APOYO A REQUISAS RX, ARCOS Y DETECTORES MANUALES
A24: 2.1 | B24: RANGER | C24: Arco o Puerta Detectora de Armas y Metales | D24: UNIDAD | E24: 1 | F24: 450000 | G24: =+F24*E24 -> 450000 | H24: 500000 | I24: =+H24*E24 -> 500000 | J24: =AVERAGE(F24,H24) -> 475000 | K24: =AVERAGE(G24,I24) -> 475000

Sheet ENTRECEIBAS - CALI
A2: ITEM | B2: Edificio Entreceibas Calle 8 # 1-16 Cali
A3: 1 | B3: SISTEMA CCTV
B4: REFERENCIA | C4: DESCRIPCIÓN | D4: UNIDAD | E4: CANTIDAD | F4: COTIZACIÓN 1 | H4: COTIZACIÓN 2 | J4: VALOR PROMEDIO MERCADO | K4: VALOR TOTAL PROMEDIO
F5: VALOR UNITARIO | G5: VALOR TOTAL | H5: VALOR UNITARIO | I5: VALOR TOTAL
A6: 1.1 | C6: Cámara PTZ Uso interior y exterior, Marca: DAHUA, Modelo: DH-SD6CE245UN-HNI-F | D6: UNIDAD | E6: 8 | F6: 250000 | G6: =+F6*E6 -> 2000000 | H6: 200000 | I6: =+E6*H6 -> 1600000 | J6: =AVERAGE(F6,H6) -> 225000 | K6: =AVERAGE(G6,I6) -> 1800000
A7: 1.2 | C7: Cámara PTZ Uso interior, Marca: DAHUA, Modelo: DH-SD6CE245UN-HNI-F | D7: UNIDAD | E7: 8 | F7: 150000 | G7: =+F7*E7 -> 1200000 | H7: 200000 | I7: =+E7*H7 -> 1600000 | J7: =AVERAGE(F7,H7) -> 175000 | K7: =AVERAGE(G7,I7) -> 1400000
A8: 1.3 | C8: Cámara fija MiniDomo, Marca: DAHUA, Modelo: DH-SD52C230UN-HNI | D8: UNIDAD | E8: 8 | F8: 100000 | G8: =+F8*E8 -> 800000 | H8: 150000 | I8: =+E8*H8 -> 1200000 | J8: =AVERAGE(F8,H8) -> 125000 | K8: =AVERAGE(G8,I8) -> 1000000
A9: 1.4 | C9: Carcazas cámara Mini Domo tipo Dummy, Marca: DAHUA, Mod:DH-HACHDW1000MN | D9: UNIDAD | E9: 6 | F9: 100000 | G9: =+F9*E9 -> 600000 | H9: 150000 | I9: =+E9*H9 -> 900000 | J9: =AVERAGE(F9,H9) -> 125000 | K9: =AVERAGE(G9,I9) -> 750000
A10: 1.5 | C10: Monitor de CCTV LCD 17", Marca: DAHUA, Modelo: DHI-LM22-F211 | D10: UNIDAD | E10: 5 | F10: 100000 | G10: =+F10*E10 -> 500000 | H10: 100000 | I10: =+E10*H10 -> 500000 | J10: =AVERAGE(F10,H10) -> 100000 | K10: =AVERAGE(G10,I10) -> 500000
A11: 1.6 | C11: Matriz digital de video, preconfigurada de 64 entradas x 16 salidas de monitor; basada en microprocesador, expandible hasta 256 cámaras. Comunicación RS-485, -RJ45., Marca: DAHUA, Modelo: NVD1805DH-4I-4K | D11: UNIDAD | E11: 1 | F11: 250000 | G11: =+F11*E11 -> 250000 | H11: 800000 | I11: =+E11*H11 -> 800000 | J11: =AVERAGE(F11,H11) -> 525000 | K11: =AVERAGE(G11,I11) -> 525000
A12: 1.7 | C12: Sistema de grabación IP para 64 canales, codificación de video H.265, resolución de grabación hasta 12MP, ancho de banda de hasta 320Mbps, incluye disco duro interno de 4TB. Marca: DAHUA, Modelo: NVR5864-16P-4KS2E | D12: UNIDAD | E12: 1 | F12: 250000 | G12: =+F12*E12 -> 250000 | H12: 800000 | I12: =+E12*H12 -> 800000 | J12: =AVERAGE(F12,H12) -> 525000 | K12: =AVERAGE(G12,I12) -> 525000
A13: 1.9 | C13: Teclado tipo joystick para administración de las cámaras PTZ, con teclas de funciones preprogramadas. Marca: DAHUA, Modelo: NKB1000 | D13: UNIDAD | E13: 1 | F13: 150000 | G13: =+F13*E13 -> 150000 | H13: 200000 | I13: =+E13*H13 -> 200000 | J13: =AVERAGE(F13,H13) -> 175000 | K13: =AVERAGE(G13,I13) -> 175000
A14: 2. | B14: SISTEMAS DE APOYO A REQUISAS RX, ARCOS Y DETECTORES MANUALES
A15: 2.1 | B15: RANGER | C15: Arco o Puerta Detectora de Armas y Metales | D15: UNIDAD | E15: 1 | F15: 450000 | G15: =+F15*E15 -> 450000 | H15: 500000 | I15: =+E15*H15 -> 500000 | J15: =AVERAGE(F15,H15) -> 475000 | K15: =AVERAGE(G15,I15) -> 475000

Sheet ADOLESCENTES - CALI
A2: ITEM | B2: Edificio Juzgados Penales para Adolescentes - Avenida 5CN # 24-38 Cali
A3: 1 | B3: SISTEMA CCTV
B4: REFERENCIA | C4: DESCRIPCIÓN | D4: UNIDAD | E4: CANTIDAD | F4: COTIZACIÓN 1 | H4: COTIZACIÓN 2 | J4: VALOR PROMEDIO MERCADO | K4: VALOR TOTAL PROMEDIO
F5: VALOR UNITARIO | G5: VALOR TOTAL | H5: VALOR UNITARIO | I5: VALOR TOTAL
A6: 1.1 | C6: Cámara PTZ Uso interior y exterior, Marca: DAHUA, Modelo: DH-SD6CE245UN-HNI-F | D6: UNIDAD | E6: 8 | F6: 250000 | G6: =+E6*F6 -> 2000000 | H6: 200000 | I6: =+H6*E6 -> 1600000 | J6: =AVERAGE(F6,H6) -> 225000 | K6: =AVERAGE(G6,I6) -> 1800000
A7: 1.2 | C7: Cámara PTZ Uso interior, Marca: DAHUA, Modelo: DH-SD6CE245UN-HNI-F | D7: UNIDAD | E7: 8 | F7: 250000 | G7: =+E7*F7 -> 2000000 | H7: 200000 | I7: =+H7*E7 -> 1600000 | J7: =AVERAGE(F7,H7) -> 225000 | K7: =AVERAGE(G7,I7) -> 1800000
A8: 1.3 | C8: Cámara fija MiniDomo, Marca: DAHUA, Modelo: DH-IPC-HDB4231CNAS-S2 | D8: UNIDAD | E8: 8 | F8: 100000 | G8: =+E8*F8 -> 800000 | H8: 150000 | I8: =+H8*E8 -> 1200000 | J8: =AVERAGE(F8,H8) -> 125000 | K8: =AVERAGE(G8,I8) -> 1000000
A9: 1.4 | C9: Carcazas cámara Mini Domo tipo Dummy, Marca: DAHUA, Mod:DH-HACHDW1000MN | D9: UNIDAD | E9: 6 | F9: 100000 | G9: =+E9*F9 -> 600000 | H9: 150000 | I9: =+H9*E9 -> 900000 | J9: =AVERAGE(F9,H9) -> 125000 | K9: =AVERAGE(G9,I9) -> 750000
A10: 1.5 | C10: Monitor de CCTV LCD 17", Marca: DAHUA, Modelo: DHI-LM22-F211 | D10: UNIDAD | E10: 5 | F10: 100000 | G10: =+E10*F10 -> 500000 | H10: 100000 | I10: =+H10*E10 -> 500000 | J10: =AVERAGE(F10,H10) -> 100000 | K10: =AVERAGE(G10,I10) -> 500000
A11: 1.6 | C11: Matriz digital de video, preconfigurada de 64 entradas x 16 salidas de monitor; basada en microprocesador, expandible hasta 256 cámaras. Comunicación RS-485, -RJ45., Marca: DAHUA, Modelo: NVD1805DH-4I-4K | D11: UNIDAD | E11: 1 | F11: 250000 | G11: =+E11*F11 -> 250000 | H11: 800000 | I11: =+H11*E11 -> 800000 | J11: =AVERAGE(F11,H11) -> 525000 | K11: =AVERAGE(G11,I11) -> 525000
A12: 1.7 | C12: Sistema de grabación IP para 64 canales, codificación de video H.265, resolución de grabación hasta 12MP, ancho de banda de hasta 320Mbps, incluye disco duro interno de 4TB. Marca: DAHUA, Modelo: NVR5864-16P-4KS2E | D12: UNIDAD | E12: 1 | F12: 250000 | G12: =+E12*F12 -> 250000 | H12: 800000 | I12: =+H12*E12 -> 800000 | J12: =AVERAGE(F12,H12) -> 525000 | K12: =AVERAGE(G12,I12) -> 525000
A13: 1.9 | C13: Teclado tipo joystick para administración de las cámaras PTZ, con teclas de funciones preprogramadas. Marca: DAHUA, Modelo: NKB1000 | D13: UNIDAD | E13: 1 | F13: 100000 | G13: =+E13*F13 -> 100000 | H13: 200000 | I13: =+H13*E13 -> 200000 | J13: =AVERAGE(F13,H13) -> 150000 | K13: =AVERAGE(G13,I13) -> 150000

Sheet BUGA
A2: ITEM | B2: Palacio de Justicia "Manuel Antonio Sanclemente" - Calle 7 # 14 - 32 de Buga
A3: 1 | B3: SISTEMA CCTV
B4: REFERENCIA | C4: DESCRIPCIÓN | D4: UNIDAD | E4: CANTIDAD | F4: COTIZACIÓN 1 | H4: COTIZACIÓN 2 | J4: VALOR PROMEDIO MERCADO | K4: VALOR TOTAL PROMEDIO
F5: VALOR UNITARIO | G5: VALOR TOTAL | H5: VALOR UNITARIO | I5: VALOR TOTAL
A6: 1.1 | C6: Domos Exteriores PTZ, Marca: HILOOK, Modelo: PTZ-T52251-A | D6: UNIDAD | E6: 3 | F6: 250000 | G6: =+E6*F6 -> 750000 | H6: 200000 | I6: =+H6*E6 -> 600000 | J6: =AVERAGE(F6,H6) -> 225000 | K6: =AVERAGE(G6,I6) -> 675000
A7: 1.2 | C7: Cámaras fijas interiores, Marca: HILOOK, Modelo:THC-T320-VF | D7: UNIDAD | E7: 6 | F7: 100000 | G7: =+E7*F7 -> 600000 | H7: 150000 | I7: =+H7*E7 -> 900000 | J7: =AVERAGE(F7,H7) -> 125000 | K7: =AVERAGE(G7,I7) -> 750000
A8: 1.3 | C8: DVR 32 canales, Marca: HILOOK, Modelo: DVR-232Q-K2 | D8: UNIDAD | E8: 1 | F8: 250000 | G8: =+E8*F8 -> 250000 | H8: 250000 | I8: =+H8*E8 -> 250000 | J8: =AVERAGE(F8,H8) -> 250000 | K8: =AVERAGE(G8,I8) -> 250000
A9: 1.4 | C9: Disco Duro 2 TB, Marca: Western Digital | D9: UNIDAD | E9: 1 | H9: 100000 | I9: =+H9*E9 -> 100000 | J9: =AVERAGE(F9,H9) -> 100000 | K9: =AVERAGE(G9,I9) -> 100000
A10: 1.5 | C10: Disco Duro 1 TB, (del anterior DVR XTS) | D10: UNIDAD | E10: 1 | H10: 100000 | I10: =+H10*E10 -> 100000 | J10: =AVERAGE(F10,H10) -> 100000 | K10: =AVERAGE(G10,I10) -> 100000
A11: 1.6 | C11: Mouse Óptico | D11: UNIDAD | E11: 1 | H11: 60000 | I11: =+H11*E11 -> 60000 | J11: =AVERAGE(F11,H11) -> 60000 | K11: =AVERAGE(G11,I11) -> 60000
A12: 2. | B12: SISTEMAS DE APOYO A REQUISAS RX, ARCOS Y DETECTORES MANUALES
A13: 2.1 | C13: Arco o Puerta Detectora de Armas y Metales - PD6500i | D13: UNIDAD | E13: 2 | F13: 450000 | G13: =+E13*F13 -> 900000 | H13: 500000 | I13: =+H13*E13 -> 1000000 | J13: =AVERAGE(F13,H13) -> 475000 | K13: =AVERAGE(G13,I13) -> 950000
A14: 3 | B14: Edificio Condado Plaza - Calle 7 # 13-56 de Buga
A15: 3.1 | B15: Garret Mod. PD6500i | C15: Arco o Puerta Detectora de Armas y Metales - PD6500i | D15: UNIDAD | E15: 1 | F15: 450000 | G15: =+E15*F15 -> 450000 | H15: 500000 | I15: =+H15*E15 -> 500000 | J15: =AVERAGE(F15,H15) -> 475000 | K15: =AVERAGE(G15,I15) -> 475000

Sheet BUENAVENTURA
A3: ITEM | B3: Palacio Nacional - Calle 3 # 2A-35 Buenaventura
A4: 1 | B4: SISTEMA CCTV
B5: REFERENCIA | C5: DESCRIPCIÓN | D5: UNIDAD | E5: CANTIDAD | F5: COTIZACIÓN 1 | H5: COTIZACIÓN 2 | J5: VALOR PROMEDIO MERCADO | K5: VALOR TOTAL PROMEDIO
F6: VALOR UNITARIO | G6: VALOR TOTAL | H6: VALOR UNITARIO | I6: VALOR TOTAL
A7: 1.1 | C7: Domo PTZ, Marca: HIKVISION, Modelo: DS-2DF6236-AEL | D7: UNIDAD | E7: 14 | F7: 250000 | G7: =+F7*E7 -> 3500000 | H7: 200000 | I7: =+E7*H7 -> 2800000 | J7: =AVERAGE(F7,H7) -> 225000 | K7: =AVERAGE(G7,I7) -> 3150000
A8: 1.2 | C8: Cámara fija MiniDomo, Marca: HIKVISION, Modelo: DS-2CD2725FWD-12S | D8: UNIDAD | E8: 4 | F8: 100000 | G8: =+F8*E8 -> 400000 | H8: 150000 | I8: =+E8*H8 -> 600000 | J8: =AVERAGE(F8,H8) -> 125000 | K8: =AVERAGE(G8,I8) -> 500000
A9: 1.3 | C9: NVR 32 Canales, Marca: HIKVISION, Modelo: DSW9632NI-I8 | D9: UNIDAD | E9: 2 | F9: 250000 | G9: =+F9*E9 -> 500000 | H9: 250000 | I9: =+E9*H9 -> 500000 | J9: =AVERAGE(F9,H9) -> 250000 | K9: =AVERAGE(G9,I9) -> 500000
A10: 1.4 | C10: Disco Duro 4 Teras, Marca: Seagate, Modelo: ST4000VX000 | D10: UNIDAD | E10: 1 | H10: 100000 | I10: =+E10*H10 -> 100000 | J10: =AVERAGE(F10,H10) -> 100000 | K10: =AVERAGE(G10,I10) -> 100000
A11: 1.5 | C11: Matriz, Marca: HIKVISION, Modelo: DS-6916UDI | D11: UNIDAD | E11: 1 | F11: 250000 | G11: =+F11*E11 -> 250000 | H11: 800000 | I11: =+E11*H11 -> 800000 | J11: =AVERAGE(F11,H11) -> 525000 | K11: =AVERAGE(G11,I11) -> 525000
A12: 1.6 | C12: UPS 3 KVA, Marca: PEI, Modelo: 3KVA | D12: UNIDAD | E12: 1 | F12: 150000 | G12: =+F12*E12 -> 150000 | H12: 300000 | I12: =+E12*H12 -> 300000 | J12: =AVERAGE(F12,H12) -> 225000 | K12: =AVERAGE(G12,I12) -> 225000
A13: 1.7 | C13: Switch POE 24 Puertos, Marca: HIKVISION, Modelo: DS-3E1326P-E | D13: UNIDAD | E13: 1 | F13: 60000 | G13: =+F13*E13 -> 60000 | H13: 100000 | I13: =+E13*H13 -> 100000 | J13: =AVERAGE(F13,H13) -> 80000 | K13: =AVERAGE(G13,I13) -> 80000
A14: 1.8 | C14: Joystick, Marca: HIKVISION, Modelo: DS-1100KI | D14: UNIDAD | E14: 1 | F14: 150000 | G14: =+F14*E14 -> 150000 | H14: 200000 | I14: =+E14*H14 -> 200000 | J14: =AVERAGE(F14,H14) -> 175000 | K14: =AVERAGE(G14,I14) -> 175000
A15: 1.9 | C15: Monitor 19", Marca: HIKVISION, Modelo: DS-D5019QE-6 | D15: UNIDAD | E15: 5 | F15: 100000 | G15: =+F15*E15 -> 500000 | H15: 100000 | I15: =+E15*H15 -> 500000 | J15: =AVERAGE(F15,H15) -> 100000 | K15: =AVERAGE(G15,I15) -> 500000
A16: 1.10 | C16: Biometrico, Marca: HIKVISION, Modelo: DS-KIT803EF | D16: UNIDAD | E16: 1 | F16: 250000 | G16: =+F16*E16 -> 250000 | H16: 200000 | I16: =+E16*H16 -> 200000 | J16: =AVERAGE(F16,H16) -> 225000 | K16: =AVERAGE(G16,I16) -> 225000
A17: 1.11 | C17: Electroimán, Marca: Access Pro | D17: UNIDAD | E17: 1 | F17: 200000 | G17: =+F17*E17 -> 200000 | H17: 100000 | I17: =+E17*H17 -> 100000 | J17: =AVERAGE(F17,H17) -> 150000 | K17: =AVERAGE(G17,I17) -> 150000
A18: 1.12 | C18: Botón Apertura, Marca: HIKVISION | D18: UNIDAD | E18: 1 | F18: 150000 | G18: =+F18*E18 -> 150000 | H18: 50000 | I18: =+E18*H18 -> 50000 | J18: =AVERAGE(F18,H18) -> 100000 | K18: =AVERAGE(G18,I18) -> 100000
A19: 2. | B19: SISTEMAS DE APOYO A REQUISAS RX, ARCOS Y DETECTORES MANUALES
A20: 2.1 | B20: Garret Mod. PD6500i | C20: Arco o Puerta Detectora de Armas y Metales - PD6500i | D20: UNIDAD | E20: 2 | F20: 450000 | G20: =+F20*E20 -> 900000 | H20: 500000 | I20: =+E20*H20 -> 1000000 | J20: =AVERAGE(F20,H20) -> 475000 | K20: =AVERAGE(G20,I20) -> 950000
A21: 2.2 | B21: SUPER SCANNER | C21: Detector Manual de Armas y Metales (incluye mantenimiento a batería recargable y cargador) - SUSPER SCANNER - GARRETT | D21: UNIDAD | E21: 1 | F21: 150000 | G21: =+F21*E21 -> 150000 | H21: 250000 | I21: =+E21*H21 -> 250000 | J21: =AVERAGE(F21,H21) -> 200000 | K21: =AVERAGE(G21,I21) -> 200000
A22: 3. | B22: EDIFICIO TRANSFERENCIAS - Calle 9 No. 2 -21
A23: 3.1 | B23: Garret Mod. PD6500i | C23: Arco o Puerta Detectora de Armas y Metales - PD6500i | D23: UNIDAD | E23: 2 | F23: 450000 | G23: =+F23*E23 -> 900000 | H23: 500000 | I23: =+E23*H23 -> 1000000 | J23: =AVERAGE(F23,H23) -> 475000 | K23: =AVERAGE(G23,I23) -> 950000
A24: 3.2 | B24: SUPER SCANNER | C24: Detector Manual de Armas y Metales (incluye mantenimiento a batería recargable y cargador) - SUSPER SCANNER - GARRETT | D24: UNIDAD | E24: 1 | F24: 150000 | G24: =+F24*E24 -> 150000 | H24: 250000 | I24: =+E24*H24 -> 250000 | J24: =AVERAGE(F24,H24) -> 200000 | K24: =AVERAGE(G24,I24) -> 200000
A25: 4. | B25: EDIFICIO JIRETH - Calle 3 #5-35
A26: 4.1 | B26: Garret Mod. PD6500i | C26: Arco o Puerta Detectora de Armas y Metales - PD6500i | D26: UNIDAD | E26: 2 | F26: 450000 | G26: =+F26*E26 -> 900000 | H26: 500000 | I26: =+E26*H26 -> 1000000 | J26: =AVERAGE(F26,H26) -> 475000 | K26: =AVERAGE(G26,I26) -> 950000
A27: 4.2 | B27: SUPER SCANNER | C27: Detector Manual de Armas y Metales (incluye mantenimiento a batería recargable y cargador) - SUSPER SCANNER - GARRETT | D27: UNIDAD | E27: 1 | F27: 150000 | G27: =+F27*E27 -> 150000 | H27: 250000 | I27: =+E27*H27 -> 250000 | J27: =AVERAGE(F27,H27) -> 200000 | K27: =AVERAGE(G27,I27) -> 200000

Sheet PALMIRA
A2: ITEM | B2: Palacio Justicia "Simon David Carrejo Bejarano" de Palmira - Cra 29 # 22 -43
A3: 1 | B3: SISTEMA CCTV
B4: REFERENCIA | C4: DESCRIPCIÓN | D4: CANTIDAD | E4: COTIZACIÓN 1 | G4: COTIZACIÓN 2 | I4: VALOR PROMEDIO MERCADO | J4: VALOR TOTAL PROMEDIO
E5: VALOR UNITARIO | F5: VALOR TOTAL | G5: VALOR UNITARIO | H5: VALOR TOTAL
A6: 1.1 | C6: Cámara PTZ Uso interior y exterior, Marca: DAHUA, Modelo: DH-SD6CE245UN-HNI-F | D6: 8 | E6: 250000 | F6: =+D6*E6 -> 2000000 | G6: 200000 | H6: =+G6*D6 -> 1600000 | I6: =AVERAGE(E6,G6) -> 225000 | J6: =AVERAGE(F6,H6) -> 1800000
A7: 1.2 | C7: Cámara PTZ Uso interior, Marca: DAHUA, Modelo: DH-SD6CE245UN-HNI-F | D7: 8 | E7: 250000 | F7: =+D7*E7 -> 2000000 | G7: 200000 | H7: =+G7*D7 -> 1600000 | I7: =AVERAGE(E7,G7) -> 225000 | J7: =AVERAGE(F7,H7) -> 1800000
A8: 1.3 | C8: Cámara fija MiniDomo, Marca: DAHUA, Modelo: DH-SD52C230UN-HNI | D8: 6 | E8: 150000 | F8: =+D8*E8 -> 900000 | G8: 150000 | H8: =+G8*D8 -> 900000 | I8: =AVERAGE(E8,G8) -> 150000 | J8: =AVERAGE(F8,H8) -> 900000
A9: 1.4 | C9: Carcazas cámara Mini Domo tipo Dummy, Marca: DAHUA, Mod:DH-HACHDW1000MN | D9: 5 | E9: 150000 | F9: =+D9*E9 -> 750000 | G9: 150000 | H9: =+G9*D9 -> 750000 | I9: =AVERAGE(E9,G9) -> 150000 | J9: =AVERAGE(F9,H9) -> 750000
A10: 1.5 | C10: Monitor de CCTV LCD 17", Marca: DAHUA, Modelo: DHI-LM22-F211 | D10: 1 | E10: 100000 | F10: =+D10*E10 -> 100000 | G10: 100000 | H10: =+G10*D10 -> 100000 | I10: =AVERAGE(E10,G10) -> 100000 | J10: =AVERAGE(F10,H10) -> 100000
A11: 1.6 | C11: Matriz digital de video, preconfigurada de 64 entradas x 16 salidas de monitor; basada en microprocesador, expandible hasta 256 cámaras. Comunicación RS-485, -RJ45., Marca: DAHUA, Modelo: NVD1805DH-4I-4K | D11: 1 | E11: 250000 | F11: =+D11*E11 -> 250000 | G11: 800000 | H11: =+G11*D11 -> 800000 | I11: =AVERAGE(E11,G11) -> 525000 | J11: =AVERAGE(F11,H11) -> 525000
A12: 1.7 | C12: Sistema de grabación IP para 64 canales, codificación de video H.265, resolución de grabación hasta 12MP, ancho de banda de hasta 320Mbps, incluye disco duro interno de 4TB. Marca: DAHUA, Modelo: NVR5864-16P-4KS2E | D12: 1 | E12: 250000 | F12: =+D12*E12 -> 250000 | G12: 800000 | H12: =+G12*D12 -> 800000 | I12: =AVERAGE(E12,G12) -> 525000 | J12: =AVERAGE(F12,H12) -> 525000
A13: 1.8 | C13: Switch de 24 puertos PoE., Marca: DAHUA, Modelo: PFS4226-24GT-360 | D13: 1 | E13: 150000 | F13: =+D13*E13 -> 150000 | G13: 200000 | H13: =+G13*D13 -> 200000 | I13: =AVERAGE(E13,G13) -> 175000 | J13: =AVERAGE(F13,H13) -> 175000
A14: 1.9 | C14: Teclado tipo joystick para administración de las cámaras PTZ, con teclas de funciones preprogramadas. Marca: DAHUA, Modelo: NKB1000 | D14: 1 | E14: 150000 | F14: =+D14*E14 -> 150000 | G14: 200000 | H14: =+G14*D14 -> 200000 | I14: =AVERAGE(E14,G14) -> 175000 | J14: =AVERAGE(F14,H14) -> 175000
A15: 1.10 | C15: Cerradura control de acceso con teclado ALFA NUMÉRICO y botón de apertura, kit de electroimán de 400 kilos – soporta hasta 200 usuarios. Incluye instalación. Marca: DAHUA, Modelo: ASI1212D | D15: 1 | E15: 250000 | F15: =+D15*E15 -> 250000 | G15: 200000 | H15: =+G15*D15 -> 200000 | I15: =AVERAGE(E15,G15) -> 225000 | J15: =AVERAGE(F15,H15) -> 225000
A16: 1.11 | C16: UPS 2 KVA- Autonomía 5 – 15 minutos - Onda Senoidal- Tiempo de transferencia 0., Marca: Powest, Modelo: MICRO NET 2000 | D16: 1 | E16: 150000 | F16: =+D16*E16 -> 150000 | G16: 200000 | H16: =+G16*D16 -> 200000 | I16: =AVERAGE(E16,G16) -> 175000 | J16: =AVERAGE(F16,H16) -> 175000
A17: 1.12 | C17: Arco o Puerta Detectora de Armas y Metales - PD6500i | D17: 1 | E17: 450000 | F17: =+D17*E17 -> 450000 | G17: 500000 | H17: =+G17*D17 -> 500000 | I17: =AVERAGE(E17,G17) -> 475000 | J17: =AVERAGE(F17,H17) -> 475000
A18: 2. | B18: SISTEMAS DE APOYO A REQUISAS RX, ARCOS Y DETECTORES MANUALES
A19: 2.1 | B19: Garret Mod. PD6500i | C19: Arco o Puerta Detectora de Armas y Metales | D19: 1 | E19: 450000 | F19: =+D19*E19 -> 450000 | G19: 500000 | H19: =+G19*D19 -> 500000 | I19: =AVERAGE(E19,G19) -> 475000 | J19: =AVERAGE(F19,H19) -> 475000
A20: 3. | B20: EDIFICIO SEDE DE FAMILIA - Calle 22 No. 28A -10
A21: 3.1 | C21: Camaras | D21: 11 | E21: 150000 | F21: =+D21*E21 -> 1650000 | G21: 150000 | H21: =+G21*D21 -> 1650000 | I21: =AVERAGE(E21,G21) -> 150000 | J21: =AVERAGE(F21,H21) -> 1650000
A22: 3.2 | C22: Switch POE 24 puertos Marca TrendNet | D22: 1 | E22: 150000 | F22: =+D22*E22 -> 150000 | G22: 100000 | H22: =+G22*D22 -> 100000 | I22: =AVERAGE(E22,G22) -> 125000 | J22: =AVERAGE(F22,H22) -> 125000
A23: 3.3 | C23: NVR DAHUA | D23: 1 | E23: 250000 | F23: =+D23*E23 -> 250000 | G23: 250000 | H23: =+G23*D23 -> 250000 | I23: =AVERAGE(E23,G23) -> 250000 | J23: =AVERAGE(F23,H23) -> 250000
A24: 3.4 | C24: MONITOR DE 22 | D24: 1 | E24: 100000 | F24: =+D24*E24 -> 100000 | G24: 100000 | H24: =+G24*D24 -> 100000 | I24: =AVERAGE(E24,G24) -> 100000 | J24: =AVERAGE(F24,H24) -> 100000

Sheet CARTAGO
A2: ITEM | B2: Palacio Justicia de Cartago - CALLE 11 # 5 67
A3: 1 | B3: SISTEMA CCTV
B4: REFERENCIA | C4: DESCRIPCIÓN | D4: UNIDAD | E4: CANTIDAD | F4: COTIZACIÓN 1 | H4: COTIZACIÓN 2 | J4: VALOR PROMEDIO MERCADO | K4: VALOR TOTAL PROMEDIO
F5: VALOR UNITARIO | G5: VALOR TOTAL | H5: VALOR UNITARIO | I5: VALOR TOTAL
A6: 1.1 | C6: NVR Marca DAHUA de 16 canales Referencia NVR4216-4KS2/L 2 Disco Duro de 4TB, marca Wester Digital | D6: UNIDAD | E6: 1 | F6: 250000 | G6: =+E6*F6 -> 250000 | H6: 250000 | I6: =+H6*E6 -> 250000 | J6: =AVERAGE(F6,H6) -> 250000 | K6: =AVERAGE(G6,I6) -> 250000
A7: 1.2 | C7: Cámaras IP Tipo Domo, marca DAHUA, Referencia DH-IPC-HDPW1230T1P-0208-S5 de 2 MP | D7: UNIDAD | E7: 9 | F7: 150000 | G7: =+E7*F7 -> 1350000 | H7: 150000 | I7: =+H7*E7 -> 1350000 | J7: =AVERAGE(F7,H7) -> 150000 | K7: =AVERAGE(G7,I7) -> 1350000
A8: 1.3 | C8: Cámaras IP Tipo Bala, marca DAHUA, Referencia DH-IPC-HFW2431TN-ZS | D8: UNIDAD | E8: 5 | F8: 150000 | G8: =+E8*F8 -> 750000 | H8: 150000 | I8: =+H8*E8 -> 750000 | J8: =AVERAGE(F8,H8) -> 150000 | K8: =AVERAGE(G8,I8) -> 750000
A9: 1.4 | C9: Switch 8 puertos PoE 10/100 + 1 puerto 10/100/1000 Uplink, Marca TENDA | D9: UNIDAD | E9: 2 | F9: 150000 | G9: =+E9*F9 -> 300000 | H9: 100000 | I9: =+H9*E9 -> 200000 | J9: =AVERAGE(F9,H9) -> 125000 | K9: =AVERAGE(G9,I9) -> 250000
A10: 1.5 | C10: Switch 4 puertos PoE 10/100 + 1 puerto 10/100/1000 Uplink, Marca IP-COM | D10: UNIDAD | E10: 2 | F10: 150000 | G10: =+E10*F10 -> 300000 | H10: 100000 | I10: =+H10*E10 -> 200000 | J10: =AVERAGE(F10,H10) -> 125000 | K10: =AVERAGE(G10,I10) -> 250000
A11: 1.6 | C11: Gabinete Metalico de piso de 70 Cms de Alto, con su patch panel y bandejas | D11: UNIDAD | E11: 1 | F11: 250000 | G11: =+E11*F11 -> 250000 | H11: 200000 | I11: =+H11*E11 -> 200000 | J11: =AVERAGE(F11,H11) -> 225000 | K11: =AVERAGE(G11,I11) -> 225000
A12: 1.7 | C12: Gabinete de pared Globla Cabledo TUP Global, Ducteria metalica, y tubos conducit SCH40 | D12: UNIDAD | E12: 5 | F12: 250000 | G12: =+E12*F12 -> 1250000 | H12: 300000 | I12: =+H12*E12 -> 1500000 | J12: =AVERAGE(F12,H12) -> 275000 | K12: =AVERAGE(G12,I12) -> 1375000
A13: 2. | B13: SISTEMAS DE APOYO A REQUISAS RX, ARCOS Y DETECTORES MANUALES
A14: 2.1 | B14: Garret Mod. PD6500i | C14: Arco o Puerta Detectora de Armas y Metales | D14: UNIDAD | E14: 2 | F14: 450000 | G14: =+E14*F14 -> 900000 | H14: 500000 | I14: =+H14*E14 -> 1000000 | J14: =AVERAGE(F14,H14) -> 475000 | K14: =AVERAGE(G14,I14) -> 950000
A15: 2.2 | C15: Garrett -Detector Manual de Armas y Metales (incluye batería recargable y cargador) | D15: UNIDAD | E15: 1 | F15: 150000 | G15: =+E15*F15 -> 150000 | H15: 100000 | I15: =+H15*E15 -> 100000 | J15: =AVERAGE(F15,H15) -> 125000 | K15: =AVERAGE(G15,I15) -> 125000
A16: 3. | B16: SISTEMA DETECCION DE INCENDIO
A17: 3.1 | C17: CENTRAL DE INCENDIO CONV, 4L, TR5AFO 110V/60Hz, UL. | D17: UNIDAD | E17: 1 | F17: 450000 | G17: =+E17*F17 -> 450000 | H17: 500000 | I17: =+H17*E17 -> 500000 | J17: =AVERAGE(F17,H17) -> 475000 | K17: =AVERAGE(G17,I17) -> 475000
A18: 3.2 | C18: BATERIAS PARA PANEL Y NAC. | D18: UNIDAD | E18: 2 | F18: 150000 | G18: =+E18*F18 -> 300000 | H18: 150000 | I18: =+H18*E18 -> 300000 | J18: =AVERAGE(F18,H18) -> 150000 | K18: =AVERAGE(G18,I18) -> 300000
A19: 3.3 | C19: SENSOR DE HUMO FOTOELECTRICO DIRECCIONABLE. | D19: UNIDAD | E19: 34 | F19: 20000 | G19: =+E19*F19 -> 680000 | H19: 80000 | I19: =+H19*E19 -> 2720000 | J19: =AVERAGE(F19,H19) -> 50000 | K19: =AVERAGE(G19,I19) -> 1700000
A20: 3.4 | C20: SENSOR TERMICO DIRECCIONABLE. | D20: UNIDAD | E20: 1 | F20: 100000 | G20: =+E20*F20 -> 100000 | H20: 80000 | I20: =+H20*E20 -> 80000 | J20: =AVERAGE(F20,H20) -> 90000 | K20: =AVERAGE(G20,I20) -> 90000
A21: 3.5 | C21: ESTACION MANUAL DOBLE ACCION, RESTAURACION POR LLAVE COLOR ROJO DIRECCIONABLE. | D21: UNIDAD | E21: 3 | F21: 100000 | G21: =+E21*F21 -> 300000 | H21: 80000 | I21: =+H21*E21 -> 240000 | J21: =AVERAGE(F21,H21) -> 90000 | K21: =AVERAGE(G21,I21) -> 270000
A22: 3.6 | C22: 12V/24V SIRENA CON ESTROBO, 2W, 8 CD, PARED, ROJO. | D22: UNIDAD | E22: 1 | F22: 100000 | G22: =+E22*F22 -> 100000 | H22: 80000 | I22: =+H22*E22 -> 80000 | J22: =AVERAGE(F22,H22) -> 90000 | K22: =AVERAGE(G22,I22) -> 90000
A23: 3.7 | C23: 12V/24V ESTROBO, 2W, 8 CD, PARED, ROJO. | D23: UNIDAD | E23: 2 | F23: 100000 | G23: =+E23*F23 -> 200000 | H23: 80000 | I23: =+H23*E23 -> 160000 | J23: =AVERAGE(F23,H23) -> 90000 | K23: =AVERAGE(G23,I23) -> 180000
A24: 3.8 | C24: TECLADO ANUNCIADOR REMOTO. | D24: UNIDAD | E24: 1 | F24: 150000 | G24: =+E24*F24 -> 150000 | H24: 80000 | I24: =+H24*E24 -> 80000 | J24: =AVERAGE(F24,H24) -> 115000 | K24: =AVERAGE(G24,I24) -> 115000

Sheet TULUA
A2: ITEM | B2: EDIFICIO WESPEDES - SEDE JUDICIAL JUZGADOS PENALES Y EL CENTRO DE SERVICIOS CALLE 25 # 23-35 67
A3: 1 | B3: SISTEMAS DE APOYO A REQUISAS RX, ARCOS Y DETECTORES MANUALES
B4: REFERENCIA | C4: DESCRIPCION | D4: CANTIDAD | E4: COTIZACIÓN 1 | G4: COTIZACIÓN 2 | I4: VALOR PROMEDIO MERCADO | J4: VALOR TOTAL PROMEDIO
E5: VALOR UNITARIO | F5: VALOR TOTAL | G5: VALOR UNITARIO | H5: VALOR TOTAL
A6: 1.1 | B6: Garret Mod. PD6500i | C6: Arco o Puerta Detectora de Armas y Metales | D6: 1 | E6: 450000 | F6: =+D6*E6 -> 450000 | G6: 500000 | H6: =+G6*D6 -> 500000 | I6: =AVERAGE(E6,G6) -> 475000 | J6: =AVERAGE(F6,H6) -> 475000

Sheet ROLDANILLO
A2: ITEM | B2: PALACIO DE JUSTICIA DE ROLDANILLO "OSCAR TRUJILLO LERMA"- CARRERA 8 - 1-28
A3: 1 | B3: SISTEMA DETECCION DE INCENDIO
B4: REFERENCIA | C4: DESCRIPCION | D4: UNIDAD | E4: CANTIDAD | F4: COTIZACIÓN 1 | H4: COTIZACIÓN 2 | J4: VALOR PROMEDIO MERCADO | K4: VALOR TOTAL PROMEDIO
F5: VALOR UNITARIO | G5: VALOR TOTAL | H5: VALOR UNITARIO | I5: VALOR TOTAL
A6: 1.1 | C6: CENTRAL DE INCENDIO CONV, 4L, TR5AFO 110V/60Hz, UL. | D6: UNIDAD | E6: 1 | F6: 450000 | G6: =+E6*F6 -> 450000 | H6: 500000 | I6: =+E6*H6 -> 500000 | J6: =AVERAGE(F6,H6) -> 475000 | K6: =AVERAGE(G6,I6) -> 475000
A7: 1.2 | C7: BATERIAS PARA PANEL Y NAC. | D7: UNIDAD | E7: 2 | F7: 150000 | G7: =+E7*F7 -> 300000 | H7: 150000 | I7: =+E7*H7 -> 300000 | J7: =AVERAGE(F7,H7) -> 150000 | K7: =AVERAGE(G7,I7) -> 300000
A8: 1.3 | C8: SENSOR DE HUMO FOTOELECTRICO DIRECCIONABLE. | D8: UNIDAD | E8: 34 | F8: 20000 | G8: =+E8*F8 -> 680000 | H8: 80000 | I8: =+E8*H8 -> 2720000 | J8: =AVERAGE(F8,H8) -> 50000 | K8: =AVERAGE(G8,I8) -> 1700000
A9: 1.4 | C9: SENSOR TERMICO DIRECCIONABLE. | D9: UNIDAD | E9: 1 | F9: 100000 | G9: =+E9*F9 -> 100000 | H9: 80000 | I9: =+E9*H9 -> 80000 | J9: =AVERAGE(F9,H9) -> 90000 | K9: =AVERAGE(G9,I9) -> 90000
A10: 1.5 | C10: ESTACION MANUAL DOBLE ACCION, RESTAURACION POR LLAVE COLOR ROJO DIRECCIONABLE. | D10: UNIDAD | E10: 3 | F10: 100000 | G10: =+E10*F10 -> 300000 | H10: 80000 | I10: =+E10*H10 -> 240000 | J10: =AVERAGE(F10,H10) -> 90000 | K10: =AVERAGE(G10,I10) -> 270000
A11: 1.6 | C11: 12V/24V SIRENA CON ESTROBO, 2W, 8 CD, PARED, ROJO. | D11: UNIDAD | E11: 1 | F11: 100000 | G11: =+E11*F11 -> 100000 | H11: 80000 | I11: =+E11*H11 -> 80000 | J11: =AVERAGE(F11,H11) -> 90000 | K11: =AVERAGE(G11,I11) -> 90000
A12: 1.7 | C12: 12V/24V ESTROBO, 2W, 8 CD, PARED, ROJO. | D12: UNIDAD | E12: 2 | F12: 100000 | G12: =+E12*F12 -> 200000 | H12: 80000 | I12: =+E12*H12 -> 160000 | J12: =AVERAGE(F12,H12) -> 90000 | K12: =AVERAGE(G12,I12) -> 180000
A13: 1.8 | C13: TECLADO ANUNCIADOR REMOTO. | D13: UNIDAD | E13: 1 | F13: 150000 | G13: =+E13*F13 -> 150000 | H13: 80000 | I13: =+E13*H13 -> 80000 | J13: =AVERAGE(F13,H13) -> 115000 | K13: =AVERAGE(G13,I13) -> 115000

Sheet BOLSA REPUESTOS
A2: BOLSA DE REPUESTOS
A3: Nro | B3: Elemento | C3: Uni. Medida | D3: Cantidad | E3: COTIZACIÓN 1 | F3: COTIZACIÓN 2 | G3: VALOR PROMEDIO MERCADO
E4: VALOR UNITARIO | F4: VALOR UNITARIO
A5: 1 | B5: Bosch FlexiDome HD 720p60, VR, 3-9mm | C5: Unidad | D5: 1 | E5: 950000 | F5: 390000 | G5: =AVERAGE(E5,F5) -> 670000
A6: 2 | B6: NBN-71013-B Camera Dinion HD720p60 | C6: Unidad | D6: 1 | E6: 1200000 | F6: 390000 | G6: =AVERAGE(E6,F6) -> 795000
A7: 2 | B7: Bosch VG5-7220-EPC4 Adomo 7000 HD, 20X, D/N, Int/Ext, Transp | C7: Unidad | D7: 1 | E7: 5000000 | F7: 15000000 | G7: =AVERAGE(E7,F7) -> 10000000
A8: 3 | B8: Camara domo PTZ exterior IP Compatible sistemas DAHUA / HIKVISION | C8: Unidad | D8: 1 | E8: 3000000 | F8: 12500000 | G8: =AVERAGE(E8,F8) -> 7750000
A9: 4 | B9: Cámara fija MiniDomo interior Compatible sistemas DAHUA / HIKVISION | C9: Unidad | D9: 1 | E9: 300000 | F9: 700000 | G9: =AVERAGE(E9,F9) -> 500000
A10: 5 | B10: Disco Duro 4 TB SATA | C10: Unidad | D10: 1 | E10: 500000 | F10: 480000 | G10: =AVERAGE(E10,F10) -> 490000
A11: 6 | B11: Parlante Techo Bosch Techo LC1-UM06e8 de 6 W/12W | C11: Unidad | D11: 1 | E11: 300000 | F11: 400000 | G11: =AVERAGE(E11,F11) -> 350000
A12: 7 | B12: MBV-BPRO-50 BVMS Lic. SW Professional 5.0 8Ch, 2WS 1DVR 1Kb (e-License) | C12: Unidad | D12: 1 | E12: 1500000 | F12: 20000000 | G12: =AVERAGE(E12,F12) -> 10750000
A13: 8 | B13: MBV-XCHAN-50 BVMS Lic. SW Channel (cam/dec) Expansion V5.0 (e-License) | C13: Unidad | D13: 1 | E13: 2000000 | F13: 1000000 | G13: =AVERAGE(E13,F13) -> 1500000
A14: 9 | B14: MBV-XKBD-50 BVMS Lic. SW Workstation Expansion V5.0 (e-License) | C14: Unidad | D14: 1 | E14: 2000000 | F14: 10000000 | G14: =AVERAGE(E14,F14) -> 6000000
A15: 10 | B15: MBV-XWST-50 BVMS Lic. SW Workstation Expansion V5.0 (e-License) | C15: Unidad | D15: 1 | E15: $ 3.000.00 | F15: 8000000 | G15: =AVERAGE(E15,F15) -> 8000000
A16: 11 | B16: PBC-60: Fuente de Alimentación y Cargador de Baterías | C16: Unidad | D16: 1 | E16: 500000 | F16: 4250000 | G16: =AVERAGE(E16,F16) -> 2375000
A17: 12 | B17: BOSCH APC-AMC2-4WCF controlador de acceso modular 4 interfases (biometrico) | C17: Unidad | D17: 1 | E17: 700000 | F17: 4100000 | G17: =AVERAGE(E17,F17) -> 2400000
A18: 13 | B18: BOSCH A_ARDFPBEPICOC- LECTOR BIOMETRICO Y TARJETAS ICLASS / WIEGAND / TCP IP | C18: Unidad | D18: 1 | E18: 2500000 | G18: =AVERAGE(E18,F18) -> 2500000
A19: 14 | B19: D9172U Modulo de Direccionamiento de Zona, POPIT | C19: Unidad | D19: 1 | E19: 150000 | F19: 220000 | G19: =AVERAGE(E19,F19) -> 185000
A20: 15 | B20: 9069 Electroiman de 400 lbs | C20: Unidad | D20: 1 | E20: 250000 | F20: 320000 | G20: =AVERAGE(E20,F20) -> 285000
A21: 16 | B21: BAT1218 Bateria de respaldo Bateria 12V, 18 Ah | C21: Unidad | D21: 1 | E21: 146000 | F21: 350000 | G21: =AVERAGE(E21,F21) -> 248000
A22: 17 | B22: BAT127.5-FB Batería fuente cargador Bateria 12V 7.2 Ah | C22: Unidad | D22: 1 | E22: 150000 | F22: 80000 | G22: =AVERAGE(E22,F22) -> 115000
A23: 18 | B23: BOTON DE SALIDA SD-7201GC-P1 SECO LARM | C23: Unidad | D23: 1 | E23: 60000 | F23: 250000 | G23: =AVERAGE(E23,F23) -> 155000
A24: 19 | B24: MS 400 Base para Detectores LSN, 2H | C24: Unidad | D24: 1 | E24: 40000 | F24: 60000 | G24: =AVERAGE(E24,F24) -> 50000
A25: 20 | B25: FAP-O 420 Dtctr. Óptico, Algoritm., Blanco, s/Base Detector de Humo | C25: Unidad | D25: 1 | E25: 180000 | F25: 330000 | G25: =AVERAGE(E25,F25) -> 255000
A26: 21 | B26: W-HSR 12V/24V Sirena con Estrobo, 2W, 8 Cd, Pared, Rojo | C26: Unidad | D26: 1 | E26: 400000 | F26: 650000 | G26: =AVERAGE(E26,F26) -> 525000
A27: 22 | B27: STI-6605-RED Protector pulsador de emergencia Mini Stopper | C27: Unidad | D27: 1 | E27: 100000 | F27: 550000 | G27: =AVERAGE(E27,F27) -> 325000
A28: 23 | B28: FMR 500 Teclado remoto | Bosch | C28: Unidad | D28: 1 | E28: 200000 | F28: 280000 | G28: =AVERAGE(E28,F28) -> 240000
A29: 24 | B29: P33273 Luces de emergencia | C29: Unidad | D29: 1 | E29: 120000 | F29: 140000 | G29: =AVERAGE(E29,F29) -> 130000
A30: 25 | B30: MB-FS Estacion de Telefono, contra incendio | C30: Unidad | D30: 1 | E30: 650000 | G30: =AVERAGE(E30,F30) -> 650000
A31: 26 | B31: Monitor de CCTV LCD 17", Marca: DAHUA, Modelo: DHI-LM22-F211 | C31: Unidad | D31: 1 | E31: 450000 | F31: 420000 | G31: =AVERAGE(E31,F31) -> 435000
A32: 27 | B32: Monitor de CCTV 55" | C32: Unidad | D32: 1 | E32: 5000000 | F32: 9500000 | G32: =AVERAGE(E32,F32) -> 7250000
A33: 28 | B33: Switch 8 puertos PoE 10/100 + 1 puerto 10/100/1000 | C33: Unidad | D33: 1 | E33: 300000 | F33: 580000 | G33: =AVERAGE(E33,F33) -> 440000
A34: 29 | B34: Funda Para Rociador Contra Incendios | C34: Unidad | D34: 1 | E34: 125000 | F34: 20000 | G34: =AVERAGE(E34,F34) -> 72500
A35: 30 | B35: Cabezale De Rociadore Contra Incendios | C35: Unidad | D35: 1 | E35: 400000 | F35: 45000 | G35: =AVERAGE(E35,F35) -> 222500
A36: 31 | B36: Power command EATON Esclavo integración sistema actual | C36: Unidad | D36: 1 | E36: 2000000 | G36: =AVERAGE(E36,F36) -> 2000000
A37: 32 | B37: Banda para maquina rayo X referencia XIS-5335 | C37: Unidad | D37: 1 | E37: 1300000 | G37: =AVERAGE(E37,F37) -> 1300000
A38: 33 | B38: Banda para maquina rayo X referencia XIS-6545 | C38: Unidad | D38: 1 | E38: 1600000 | G38: =AVERAGE(E38,F38) -> 1600000

Sheet RUTINA DE ACTIVIDADES
A3: MANTENIMIENTO PREVENTIVO
A4: A | B4: RUTINA DE MANTENIMIENTO PREVENTIVO
A5: ITEM | B5: SISTEMA | C5: ACTIVIDAD A REALIZAR
A6: 1 | B6: CCTV | C6: 1. Revisión, diagnóstico, limpieza general a todos y cada uno de los elementos que conforman el sistema.
C7: 2. Actualización de diagrama.
C8: 3. Entrega de diagnóstico del sistema con su respectivo registro fotográfico y proyección de las correcciones a las que haya lugar.
C9: 4. Revisión y ajuste de conexiones.
C10: 5. Capacitación de funcionamiento del sistema al personal que lo opera.
C11: 6. Revisión de Software y demás componentes.
A12: 2 | B12: SISTEMA DE AUDIO | C12: 1. Revisión, diagnostico, limpieza general a todos y cada uno de los elementos que conforman el sistema.
C13: 2. Revisión y ajuste de conexiones.
A14: 3 | B14: SISTEMA DE DETENCIÓN DE INCENDIO | C14: 1. Revisión, limpieza general a todos y cada uno de los elementos que conforman el sistema (Panel de control, detectores de humo y/o térmicos, sirenas, pulsadores, teléfonos de emergencia y demás equipos que conforman el sistema).
C15: 2. Actualización del diagrama
C16: 3. Verificación del funcionamiento en el panel de control, test primario del equipo para verificación de alarmas, errores y fallas.
C17: 4. Verificación de voltaje y conexiones.
C18: 5. Verificación y accionamiento de los circuitos de avisos de alarmas.
C19: 6. Reemplazo de cableado que se requiera
C20: 7. Verificación de conexiones (protecciones termo encogibles y soldadura de estaño)
C21: 8. Cambio y suministro de baterías de respaldo de las fuentes de alimentación de los estrobos y panel de incendio.
C22: 9. Revisión de la programación y efectuar la restauración a la que haya lugar.
C23: 10. Comprobación de la acometida de la fuente de alimentación de los circuitos de los equipos iniciadores y avisadores de alarma.
C24: 11. Verificación de calibración y prueba de detectores que muestren falla.
C25: 12. Prueba de la fuente de alimentación principal y la fuente de alimentación secundaria.
C26: 13. Capacitación del funcionamiento del sistema al personal que lo opera.
A27: 4 | B27: ARCO O PUERTA DETECTORA DE ARMAS Y METALES (APOYO DE REQUISAS) | C27: 1. Revisión, diagnóstico, limpieza general a todos y cada uno de los elementos que conforman el sistema.
C28: 2. Calibración de zonas de detección.
C29: 3. Reprogramación del sistema.
C30: 4. Revisión general.
C31: 5. Limpieza general.
A32: 5 | B32: DETECTOR MANUAL DE ARMAS Y METALES (GARRETT | C32: 1. Revisión, diagnóstico, limpieza general a todos y cada uno de los elementos que conforman el sistema.
C33: 2. Calibración de zonas de detección.
C34: 3. Mantenimiento a las baterías recargables y a su respectivo cargado.
A35: 6 | B35: MAQUINAS RAYOS X -ASTROPHYSICS INC XIS 5335 | C35: 1. Revisión, diagnóstico, limpieza general a todos y cada uno de los elementos que conforman el sistema.
C36: 2. Calibración de zonas de detección.
C37: 3. Reprogramación del sistema.
C38: 4. Revisión general.
C39: 5. Limpieza general.
A40: 7 | B40: ACCESO BIOMETRICO DE PUERTAS | C40: 1. Revisión, diagnóstico, limpieza general a todos y cada uno de los elementos que conforman el acceso biométrico.
C41: 2. Calibración
C42: 3. Reprogramación del sistema.
...

Sheet CONCLUSIONES -RECOMENDACIONES
A2: SISTEMA CCTV | I2: SISTEMA DETECCION DE INCENDIO | M2: SISTEMA DE AUDIO BOSH | P2: TABLEROS DE CONTRAL DE ILUMINACION
B3: MANTENIMIENTO PREVENTIVO | F3: RECOMENDACIONES | I3: RECOMENDACIONES | M3: RECOMENDACIONES | P3: RECOMENDACIONES
A4: PALACIO DE JUSTICIA " PEDRO ELIAS SERRANO ABADIA" DE CALI | B4: Realizar mantenimiento especializado, preventivo al sistema de CCTV donde se debe de realizar la limpieza interna y externa, lubricación de partes electromagnéticas y limpieza de partículas anticorrosivas, se realizar ajustes de componentes electrónicos que conforman el sistema CCTV, la limpieza se debe realizar con espuma limpiadora para las carcasas y soportes, limpiavidrios para los acrílicos transparentes, limpia, contactos para los conectores de video y datos. Realizar mantenimiento al software que permite la visualización y extracción de información cuando así se requiere, se debe de actualizar las licencias de funcionamiento del CCTV del Palacio de Justicia de Cali. | F4: • Se recomienda la adquisición o actualización de las licencias que se encuentran vencidas. • Ampliación de la capacidad de almacenamiento de los servidores, actualmente la capacidad de almacenamiento es de veinticinco (25) a treinta (30) días aproximadamente • Con base en los reportes entregados en el mantenimiento preventivo del sistema de CCTV, se requiere la ampliación de la cobertura del CCTV, para suplir y corregir los puntos ciegos identificados. • Efectuar los cambios y/o movimientos de las cámaras a fin de garantizar la visualización. • Entregar recomendaciones al finalizar el mantenimiento. | I4: • Realizar reconfiguración del sistema de detección de incendios debido a todas las fallas que presentada en su panel de notificaciones. • Verificar la funcionalidad de todo el componente de alertas en todos los pisos. • Se requiere Sensores Detectores de humo Térmicos para cuarto de máquinas de la OTIS, ubicada en el piso 5 de la Torre A. • Se requiere Sensores Detectores de humo Térmicos para cuarto de máquinas de la OTIS, ubicada en el piso 8 de la Torre B. | M4: El sistema de Audio consta de 107 parlantes marca Bosch distribuidos en las zonas comunes de todos los pisos tanto de la torre A como de la torre B, los cuales van unidos a unos equipos marca Bosch como amplificadores de zonas. | P4: Se requiere el Mantenimiento Preventivo y Correctivo de los tableros de control de iluminación Power Command de EATON, instalados en las Torres A y B del Palacio de Justicia. Estos tableros permiten, a través de una programación establecida, encender y apagar las luminarias en horarios no hábiles, mitigando los gastos innecesarios y favoreciendo la eficiencia energética.
A5: PALACIO NACIONAL DE CALI | B5: Efectuar mantenimiento preventivo en el Palacio Nacional en el cual se intervienen las cámaras externas e internas y parqueadero, realizando limpieza interna y externa de cada equipo, esto con el fin de conservar la vida útil de cada equipo y de esta manera garantizar un buen funcionamiento en el área de CCTV. | F5: • Se recomienda la reprogramación y puesta en funcionamiento del sistema de control de acceso ya que no es posible acceder a su configuración y el personal que esta enrolado en el sistema no tiene acceso, adicionalmente la adquisición de la pieza metálica a la cual se adhiere el electro imán ya que no se encuentra en su punto de instalación. • Se recomienda la adquisición de un disco duro de mínimo de 8TB para aumentar la capacidad de almacenamiento, la actual es de máximo treinta (30) días. • Entregar recomendaciones al finalizar el mantenimiento.
A6: EDIFICIO ENTRECEIBAS | B6: Realizar mantenimiento preventivo en el Edificio Entreceibas, Edificio Juzgados Penales para Adolescentes, Ley de Tierras, Palacio Nacional de Buenaventura, Palacio de Justicia "Manuel Antonio Sanclemente" de Buga, Palacio de Justicia"Simon David Carrejo Bejarano" de palmira, Edificio Sede de Familia de Palmira, y Palacio de Justicia de Cartago, en el cual se intervienen las cámaras externas e internas y los equipos que lo componen el sistema, efectuar limpieza interna y externa de cada equipo, esto con el fin de conservar la vida útil de cada uno y de esta manera garantizar un buen funcionamiento en el área de CCTV.
A7: EDIFICIO JUZGADOS PENALES PARA ADOLECENTES
A8: EDIFICIO LEY DE TIERRAS
A9: PALACIO NACIONAL DE BUENAVENTURA
A10: PALACIO DE JUSTICIA "MANUEL ANTONIO SANCLEMENTE" DE BUGA
A11: PALACIO DE JUSTICIA" SIMON DAVID CARREJO BEJARANO" DE PALMIRA
A12: EDIFICIO SEDE DE FAMILIA DE PALMIRA
A13: PALACIO DE JUSTICIA DE CARTAGO
