Workbook
Name \0: #REF!
Name \00: #REF!
Name \a: #REF!
Name \AA: [1]LIQUIDACION!#REF!
Name \b: [2]STRSUMM0!#REF!
Name \bb: [2]STRSUMM0!#REF!
Name \E: #REF!
Name \EE: #REF!
Name \G: #REF!
Name \k: '[3]7422CW00'!#REF!
Name \l: [4]STRSUMM0!#REF!
Name \M: #REF!
Name \ñ: '[5]7422CW00'!#REF!
Name \P: #REF!
Name \R: #REF!
Name \s: #REF!
Name \V: #REF!
Name \X: [0]!ERR
Name \Z: [0]!ERR
Name _________AFC1: [6]INV!$A$25:$D$28
Name _________AFC3: [6]INV!$F$25:$I$28
Name _________AFC5: [6]INV!$K$25:$N$28
Name _________BGC1: [6]INV!$A$5:$D$8
Name _________BGC3: [6]INV!$F$5:$I$8
Name _________BGC5: [6]INV!$K$5:$N$8
Name _________CAC1: [6]INV!$A$19:$D$22
Name _________CAC3: [6]INV!$F$19:$I$22
Name _________CAC5: [6]INV!$K$19:$N$22
Name _________PJ50: #REF!
Name _________SBC1: [6]INV!$A$12:$D$15
Name _________SBC3: [6]INV!$F$12:$I$15
Name _________SBC5: [6]INV!$K$12:$N$15
Name ________AFC1: [6]INV!$A$25:$D$28
Name ________AFC3: [6]INV!$F$25:$I$28
Name ________AFC5: [6]INV!$K$25:$N$28
Name ________BGC1: [6]INV!$A$5:$D$8
Name ________BGC3: [6]INV!$F$5:$I$8
Name ________BGC5: [6]INV!$K$5:$N$8
Name ________CAC1: [6]INV!$A$19:$D$22
Name ________CAC3: [6]INV!$F$19:$I$22
Name ________CAC5: [6]INV!$K$19:$N$22
Name ________MA2: #REF!
Name ________PJ50: #REF!
Name ________SBC1: [6]INV!$A$12:$D$15
Name ________SBC3: [6]INV!$F$12:$I$15
Name ________SBC5: [6]INV!$K$12:$N$15
Name _______AFC1: [6]INV!$A$25:$D$28
Name _______AFC3: [6]INV!$F$25:$I$28
Name _______AFC5: [6]INV!$K$25:$N$28
Name _______BGC1: [6]INV!$A$5:$D$8
Name _______BGC3: [6]INV!$F$5:$I$8
Name _______BGC5: [6]INV!$K$5:$N$8
Name _______CAC1: [6]INV!$A$19:$D$22
Name _______CAC3: [6]INV!$F$19:$I$22
Name _______CAC5: [6]INV!$K$19:$N$22
Name _______MA2: #REF!
Name _______PJ50: #REF!
Name _______SBC1: [6]INV!$A$12:$D$15
Name _______SBC3: [6]INV!$F$12:$I$15
Name _______SBC5: [6]INV!$K$12:$N$15

Sheet Datos
A17: PRESENTACION OFERTAS | B17: 45355
A18: TRM | B18: 45357 | C18: 3775.37

Sheet Mediana absoluto
A1: UNIDAD ADMINISTRATIVA ESPECIAL DE AERONAUTICA CIVIL DIRECCION DE INFRAESTRUCTURA Y AYUDAS AEROPORTUARIAS
A2: Proceso 23001299 H3. REALIZAR LA INTERVENTORIA INTEGRAL AL MEJORAMIENTO DE LAS FRANJAS DE SEGURIDAD DE PISTA DEL AEROPUERTO ANTONIO NARIÑO DE PASTO, NARIÑO (VF).
A3: MÉTODO DE PONDERACIÓN No.1 MEDIANA CON VALOR ABSOLUTO
A4: PRESENTACIÓN OFERTAS: 04/03/2024
A5: TRM del 06/03/2024 | C5: 3945.32
A6: No. | B6: Proponente | C6: Habilitado/ Rechazado | D6: Promedio contratos válidos (smmlv) | E6: Puntaje parcial | F6: Observaciones
A7: =RESUMEN!B9 -> 1 | B7: =RESUMEN!C9 -> JOSE ALBERTO ROJAS PRIETO | C7: =RESUMEN!S9 -> INHABILITADO | E7: =RESUMEN!R9 -> 32.25 | F7: =RESUMEN!T9 -> Empr. mujeres, Concepto Jurídico
A8: =RESUMEN!B10 -> 2 | B8: =RESUMEN!C10 -> CONSORCIO METRO CINCO | C8: =RESUMEN!S10 -> HABILITADO | D8: =RESUMEN!G10 -> 1590.875 | E8: =RESUMEN!R10 -> 32.5 | F8: =RESUMEN!T10
A9: =RESUMEN!B11 -> 3 | B9: =RESUMEN!C11 -> ELSA TORRES ARENALES | C9: =RESUMEN!S11 -> HABILITADO | D9: =RESUMEN!G11 -> 1114.53 | E9: =RESUMEN!R11 -> 32.25 | F9: =RESUMEN!T11 -> Empr, mujeres
A10: =RESUMEN!B12 -> 4 | B10: =RESUMEN!C12 -> CONSORCIO SUPERVISORES 1299 | C10: =RESUMEN!S12 -> HABILITADO | D10: =RESUMEN!G12 -> 996.776 | E10: =RESUMEN!R12 -> 32.5 | F10: =RESUMEN!T12
A11: =RESUMEN!B13 -> 5 | B11: =RESUMEN!C13 -> CONSORCIO NARIÑO 24 | C11: =RESUMEN!S13 -> HABILITADO | D11: =RESUMEN!G13 -> 1196.8479 | E11: =RESUMEN!R13 -> 32.5 | F11: =RESUMEN!T13
A12: =RESUMEN!B14 -> 6 | B12: =RESUMEN!C14 -> CONSORCIO AERO GAP | C12: =RESUMEN!S14 -> HABILITADO | D12: =RESUMEN!G14 -> 851.7645 | E12: =RESUMEN!R14 -> 32.5 | F12: =RESUMEN!T14
A13: =RESUMEN!B15 -> 7 | B13: =RESUMEN!C15 -> CONSORCIO CIMA - URBA | C13: =RESUMEN!S15 -> HABILITADO | D13: =RESUMEN!G15 -> 994.126 | E13: =RESUMEN!R15 -> 32.5 | F13: =RESUMEN!T15
A14: =RESUMEN!B16 -> 8 | B14: =RESUMEN!C16 -> CONSORCIO ARCA - CB | C14: =RESUMEN!S16 -> HABILITADO | D14: =RESUMEN!G16 -> 1376.2541 | E14: =RESUMEN!R16 -> 32.5 | F14: =RESUMEN!T16
A15: =RESUMEN!B17 -> 9 | B15: =RESUMEN!C17 -> CONSORCIO SERVINC - BETMAF 2024 | C15: =RESUMEN!S17 -> HABILITADO | D15: =RESUMEN!G17 -> 925.767 | E15: =RESUMEN!R17 -> 32.5 | F15: =RESUMEN!T17
A16: =RESUMEN!B18 -> 10 | B16: =RESUMEN!C18 -> CONSORCIO VELNEC | C16: =RESUMEN!S18 -> INHABILITADO | E16: =RESUMEN!R18 -> 32.5 | F16: =RESUMEN!T18 -> Experiencia
A17: =RESUMEN!B19 -> 11 | B17: =RESUMEN!C19 -> CONSORCIO INTERING | C17: =RESUMEN!S19 -> INHABILITADO | E17: =RESUMEN!R19 -> 32.5 | F17: =RESUMEN!T19 -> Experiencia, Concepto Jurídico
A18: =RESUMEN!B20 -> 12 | B18: =RESUMEN!C20 -> CONSORCIO AEROS-33 | C18: =RESUMEN!S20 -> INHABILITADO | E18: =RESUMEN!R20 -> 32.5 | F18: =RESUMEN!T20 -> Concepto Jurídico
A19: =RESUMEN!B21 -> 13 | B19: =RESUMEN!C21 -> CONSORCIO INTERVENTORIA IT | C19: =RESUMEN!S21 -> INHABILITADO | E19: =RESUMEN!R21 -> 32.5 | F19: =RESUMEN!T21 -> Experiencia
A20: =RESUMEN!B22 -> 14 | B20: =RESUMEN!C22 -> CONSORCIO AEROPUERTO AO | C20: =RESUMEN!S22 -> HABILITADO | D20: =RESUMEN!G22 -> 1043.0813 | E20: =RESUMEN!R22 -> 32.5 | F20: =RESUMEN!T22
A21: =RESUMEN!B23 -> 15 | B21: =RESUMEN!C23 -> CONSORCIO OJB | C21: =RESUMEN!S23 -> HABILITADO | D21: =RESUMEN!G23 -> 1317.7545 | E21: =RESUMEN!R23 -> 32.5 | F21: =RESUMEN!T23
A22: =RESUMEN!B24 -> 16 | B22: =RESUMEN!C24 -> HERNANDEZ PANTOJA SAS | C22: =RESUMEN!S24 -> HABILITADO | D22: =RESUMEN!G24 -> 1146.056 | E22: =RESUMEN!R24 -> 32.5 | F22: =RESUMEN!T24
A23: =RESUMEN!B25 -> 17 | B23: =RESUMEN!C25 -> CONSORCIO SANDONÁ | C23: =RESUMEN!S25 -> HABILITADO | D23: =RESUMEN!G25 -> 1263.0317 | E23: =RESUMEN!R25 -> 32.5 | F23: =RESUMEN!T25
A24: =RESUMEN!B26 -> 18 | B24: =RESUMEN!C26 -> CONSORCIO VYA NARIÑO | C24: =RESUMEN!S26 -> HABILITADO | D24: =RESUMEN!G26 -> 944.815 | E24: =RESUMEN!R26 -> 32.5 | F24: =RESUMEN!T26
A25: =RESUMEN!B27 -> 19 | B25: =RESUMEN!C27 -> CONSORCIO SAN BARTOLOME 2024 | C25: =RESUMEN!S27 -> INHABILITADO | E25: =RESUMEN!R27 -> 32.5 | F25: =RESUMEN!T27 -> Experiencia
A26: =RESUMEN!B28 -> 20 | B26: =RESUMEN!C28 -> CONSORCIO DMM | C26: =RESUMEN!S28 -> HABILITADO | D26: =RESUMEN!G28 -> 514.6225 | E26: =RESUMEN!R28 -> 32.5 | F26: =RESUMEN!T28
A27: =RESUMEN!B29 -> 21 | B27: =RESUMEN!C29 -> CONSORCIO INCE PASTO 2024 | C27: =RESUMEN!S29 -> HABILITADO | D27: =RESUMEN!G29 -> 1220.8 | E27: =RESUMEN!R29 -> 31.5 | F27: =RESUMEN!T29 -> Discapacitados
A28: =RESUMEN!B30 -> 22 | B28: =RESUMEN!C30 -> CONSORCIO INGENIERIA POSSO | C28: =RESUMEN!S30 -> INHABILITADO | E28: =RESUMEN!R30 -> 32.5 | F28: =RESUMEN!T30 -> Experiencia
A29: =RESUMEN!B31 -> 23 | B29: =RESUMEN!C31 -> PROYECTOS E INTERVENTORÍAS SAS | C29: =RESUMEN!S31 -> HABILITADO | D29: =RESUMEN!G31 -> 971.2138 | E29: =RESUMEN!R31 -> 32.5 | F29: =RESUMEN!T31
A30: =RESUMEN!B32 -> 24 | B30: =RESUMEN!C32 -> CAYCO SAS | C30: =RESUMEN!S32 -> HABILITADO | D30: =RESUMEN!G32 -> 1417.7655 | E30: =RESUMEN!R32 -> 32.5 | F30: =RESUMEN!T32
A31: =RESUMEN!B33 -> 25 | B31: =RESUMEN!C33 -> CONSORCIO MAB INGENIERÍA | C31: =RESUMEN!S33 -> HABILITADO | D31: =RESUMEN!G33 -> 1613.4214 | E31: =RESUMEN!R33 -> 32.5 | F31: =RESUMEN!T33
A32: =RESUMEN!B34 -> 26 | B32: =RESUMEN!C34 -> CONSORCIO PROSPERAR ANTONIO NARIÑO | C32: =RESUMEN!S34 -> INHABILITADO | E32: =RESUMEN!R34 -> 32.5 | F32: =RESUMEN!T34 -> Experiencia y concepto jurídico
A33: =RESUMEN!B35 -> 27 | B33: =RESUMEN!C35 -> CONSORCIO INGAVI 1299 | C33: =RESUMEN!S35 -> HABILITADO | D33: =RESUMEN!G35 -> 949.23333 | E33: =RESUMEN!R35 -> 32.5 | F33: =RESUMEN!T35
A34: =RESUMEN!B36 -> 28 | B34: =RESUMEN!C36 -> CONSORCIO AEROPORTUARIO FJ | C34: =RESUMEN!S36 -> HABILITADO | D34: =RESUMEN!G36 -> 1411.0767 | E34: =RESUMEN!R36 -> 32.5 | F34: =RESUMEN!T36
A35: =RESUMEN!B37 -> 29 | B35: =RESUMEN!C37 -> ECG INGENIERIA SAS | C35: =RESUMEN!S37 -> HABILITADO | D35: =RESUMEN!G37 -> 1194.8601 | E35: =RESUMEN!R37 -> 32.5 | F35: =RESUMEN!T37
A36: =RESUMEN!B38 -> 30 | B36: =RESUMEN!C38 -> R&M CONSTRUCCIONES E INTERVENTORIAS S.A.S | C36: =RESUMEN!S38 -> INHABILITADO | E36: =RESUMEN!R38 -> 32.5 | F36: =RESUMEN!T38 -> Experiencia
A37: =RESUMEN!B39 -> 31 | B37: =RESUMEN!C39 -> CONSORCIO FERDINCON 1229 | C37: =RESUMEN!S39 -> HABILITADO | D37: =RESUMEN!G39 -> 1154.2376 | E37: =RESUMEN!R39 -> 32.5 | F37: =RESUMEN!T39
A38: =RESUMEN!B40 -> 32 | B38: =RESUMEN!C40 -> CONSORCIO INTERPISTAS 1299 | C38: =RESUMEN!S40 -> INHABILITADO | E38: =RESUMEN!R40 -> 32.5 | F38: =RESUMEN!T40 -> Propuesta económica
A39: =RESUMEN!B41 -> 33 | B39: =RESUMEN!C41 -> CONSORCIO CABA - ANEZGA A.N | C39: =RESUMEN!S41 -> HABILITADO | D39: =RESUMEN!G41 -> 487.3226 | E39: =RESUMEN!R41 -> 32.5 | F39: =RESUMEN!T41
A40: =RESUMEN!B42 -> 34 | B40: =RESUMEN!C42 -> CONSORCIO PASTO JINT 1299 | C40: =RESUMEN!S42 -> HABILITADO | D40: =RESUMEN!G42 -> 896.05 | E40: =RESUMEN!R42 -> 32.5 | F40: =RESUMEN!T42
...

Sheet RESUMEN
B1: UNIDAD ADMINISTRATIVA ESPECIAL DE AERONAUTICA CIVIL
B2: DIRECCION DE INFRAESTRUCTURA AEROPORTUARIA
B3: EVALUACION TECNICA DEL PROCESO
B4: Proceso 23001299 H3. REALIZAR LA INTERVENTORIA INTEGRAL AL MEJORAMIENTO DE LAS FRANJAS DE SEGURIDAD DE PISTA DEL AEROPUERTO ANTONIO NARIÑO DE PASTO, NARIÑO (VF).
B5: 23001299 H3 DE 2023
K6: Equipo de trabajo clave evaluable
B7: No. | C7: PROPONENTE | D7: ENTREGA DE POLIZA DE SERIEDAD DE LA OFERTA | E7: NO SUPERA VALORES ETAPAS Y/O VALOR TOTAL | F7: EXPERIENCIA GENERAL | G7: PROMEDIO SMMLV | H7: CONSIDERACIONES DE LA EXPERIENCIA | I7: EXPERIENCIA ESPECIFICA 1 CTO MIN (50 %) PO | J7: FORMATO 8 | K7: FORMATO 9 4.2.1 Exp adicional | L7: FORMATO 9 4.2.2 Form adicional | M7: FACTOR DE SOSTENIBILIDAD | N7: APOYO A LA INDUSTRIA NACIONAL | O7: PUNTAJE TRABAJADORES CON DISCAPACIDAD | P7: EMPRENDIMIENTO DE MUJERES | Q7: MIPYME | R7: PUNTAJE PARCIAL | S7: HABILITADO / RECHAZADO | T7: OBSERVACIONES
F8: CUMPLE / NO CUMPLE | G8: FINAL | H8: CUMPLE / NO CUMPLE | I8: CUMPLE / NO CUMPLE | J8: cumple/no cumple | K8: MAX 5 PTS | L8: MAX 5 PTS | M8: MAX 1 PTO | N8: MAX 20 PTO | O8: MAX 1 PTO | P8: MAX 0,25 | Q8: MAX 0,25 | R8: MÁX 32,5
B9: 1 | C9: =INDIRECT(B9&"!b19") -> JOSE ALBERTO ROJAS PRIETO | D9: =INDIRECT($B9&"!h4") -> CUMPLE | E9: =INDIRECT($B9&"!H107") -> CUMPLE | F9: =INDIRECT($B9&"!N24") -> CUMPLE | G9: =INDIRECT($B9&"!M39") -> 870.75935 | H9: =INDIRECT($B9&"!N24") -> CUMPLE | I9: =INDIRECT($B9&"!N40") -> CUMPLE | J9: =INDIRECT($B9&"!L44") -> CUMPLE | K9: =INDIRECT($B9&"!L48") -> 5 | L9: =INDIRECT($B9&"!L49") -> 5 | M9: =INDIRECT($B9&"!L53") -> 1 | N9: =INDIRECT($B9&"!L56") -> 20 | O9: =INDIRECT($B9&"!L64") -> 1 | P9: =INDIRECT($B9&"!L67") -> 0 | Q9: =INDIRECT($B9&"!L75") -> 0.25 | R9: =SUM(K9:Q9) -> 32.25 | S9: INHABILITADO | T9: Empr. mujeres, Concepto Jurídico
B10: 2 | C10: =INDIRECT(B10&"!b19") -> CONSORCIO METRO CINCO | D10: =INDIRECT($B10&"!h4") -> CUMPLE | E10: =INDIRECT($B10&"!H107") -> CUMPLE | F10: =INDIRECT($B10&"!N24") -> CUMPLE | G10: =INDIRECT($B10&"!M39") -> 1590.875 | H10: =INDIRECT($B10&"!N24") -> CUMPLE | I10: =INDIRECT($B10&"!N40") -> CUMPLE | J10: =INDIRECT($B10&"!L44") -> CUMPLE | K10: =INDIRECT($B10&"!L48") -> 5 | L10: =INDIRECT($B10&"!L49") -> 5 | M10: =INDIRECT($B10&"!L53") -> 1 | N10: =INDIRECT($B10&"!L56") -> 20 | O10: =INDIRECT($B10&"!L64") -> 1 | P10: =INDIRECT($B10&"!L67") -> 0.25 | Q10: =INDIRECT($B10&"!L75") -> 0.25 | R10: =SUM(K10:Q10) -> 32.5 | S10: HABILITADO | T10: =+IF(INDIRECT($B10&"!A70")=0," ",INDIRECT($B10&"!A70"))
B11: 3 | C11: =INDIRECT(B11&"!b19") -> ELSA TORRES ARENALES | D11: =INDIRECT($B11&"!h4") -> CUMPLE | E11: =INDIRECT($B11&"!H107") -> CUMPLE | F11: =INDIRECT($B11&"!N24") -> CUMPLE | G11: =INDIRECT($B11&"!M39") -> 1114.53 | H11: =INDIRECT($B11&"!N24") -> CUMPLE | I11: =INDIRECT($B11&"!N40") -> CUMPLE | J11: =INDIRECT($B11&"!L44") -> CUMPLE | K11: =INDIRECT($B11&"!L48") -> 5 | L11: =INDIRECT($B11&"!L49") -> 5 | M11: =INDIRECT($B11&"!L53") -> 1 | N11: =INDIRECT($B11&"!L56") -> 20 | O11: =INDIRECT($B11&"!L64") -> 1 | P11: =INDIRECT($B11&"!L67") -> 0 | Q11: =INDIRECT($B11&"!L75") -> 0.25 | R11: =SUM(K11:Q11) -> 32.25 | S11: HABILITADO | T11: Empr, mujeres
B12: 4 | C12: =INDIRECT(B12&"!b19") -> CONSORCIO SUPERVISORES 1299 | D12: =INDIRECT($B12&"!h4") -> CUMPLE | E12: =INDIRECT($B12&"!H107") -> CUMPLE | F12: =INDIRECT($B12&"!N24") -> CUMPLE | G12: =INDIRECT($B12&"!M39") -> 996.776 | H12: =INDIRECT($B12&"!N24") -> CUMPLE | I12: =INDIRECT($B12&"!N40") -> CUMPLE | J12: =INDIRECT($B12&"!L44") -> CUMPLE | K12: =INDIRECT($B12&"!L48") -> 5 | L12: =INDIRECT($B12&"!L49") -> 5 | M12: =INDIRECT($B12&"!L53") -> 1 | N12: =INDIRECT($B12&"!L56") -> 20 | O12: =INDIRECT($B12&"!L64") -> 1 | P12: =INDIRECT($B12&"!L67") -> 0.25 | Q12: =INDIRECT($B12&"!L75") -> 0.25 | R12: =SUM(K12:Q12) -> 32.5 | S12: HABILITADO | T12: =+IF(INDIRECT($B12&"!A70")=0," ",INDIRECT($B12&"!A70"))
B13: 5 | C13: =INDIRECT(B13&"!b19") -> CONSORCIO NARIÑO 24 | D13: =INDIRECT($B13&"!h4") -> CUMPLE | E13: =INDIRECT($B13&"!H108") -> CUMPLE | F13: =INDIRECT($B13&"!N24") -> CUMPLE | G13: =INDIRECT($B13&"!M40") -> 1196.8479 | H13: =INDIRECT($B13&"!N24") -> CUMPLE | I13: =INDIRECT($B13&"!N41") -> CUMPLE | J13: =INDIRECT($B13&"!L45") -> CUMPLE | K13: =INDIRECT($B13&"!L49") -> 5 | L13: =INDIRECT($B13&"!L50") -> 5 | M13: =INDIRECT($B13&"!L54") -> 1 | N13: =INDIRECT($B13&"!L57") -> 20 | O13: =INDIRECT($B13&"!L65") -> 1 | P13: =INDIRECT($B13&"!L68") -> 0.25 | Q13: =INDIRECT($B13&"!L76") -> 0.25 | R13: =SUM(K13:Q13) -> 32.5 | S13: HABILITADO | T13: =+IF(INDIRECT($B13&"!A70")=0," ",INDIRECT($B13&"!A70"))
B14: 6 | C14: =INDIRECT(B14&"!b19") -> CONSORCIO AERO GAP | D14: =INDIRECT($B14&"!h4") -> CUMPLE | E14: =INDIRECT($B14&"!H107") -> CUMPLE | F14: =INDIRECT($B14&"!N24") -> CUMPLE | G14: =INDIRECT($B14&"!M39") -> 851.7645 | H14: =INDIRECT($B14&"!N24") -> CUMPLE | I14: =INDIRECT($B14&"!N40") -> CUMPLE | J14: =INDIRECT($B14&"!L44") -> CUMPLE | K14: =INDIRECT($B14&"!L48") -> 5 | L14: =INDIRECT($B14&"!L49") -> 5 | M14: =INDIRECT($B14&"!L53") -> 1 | N14: =INDIRECT($B14&"!L56") -> 20 | O14: =INDIRECT($B14&"!L64") -> 1 | P14: =INDIRECT($B14&"!L67") -> 0.25 | Q14: =INDIRECT($B14&"!L75") -> 0.25 | R14: =SUM(K14:Q14) -> 32.5 | S14: HABILITADO | T14: =+IF(INDIRECT($B14&"!A70")=0," ",INDIRECT($B14&"!A70"))
B15: 7 | C15: =INDIRECT(B15&"!b19") -> CONSORCIO CIMA - URBA | D15: =INDIRECT($B15&"!h4") -> CUMPLE | E15: =INDIRECT($B15&"!H107") -> CUMPLE | F15: =INDIRECT($B15&"!N24") -> CUMPLE | G15: =INDIRECT($B15&"!M39") -> 994.126 | H15: =INDIRECT($B15&"!N24") -> CUMPLE | I15: =INDIRECT($B15&"!N40") -> CUMPLE | J15: =INDIRECT($B15&"!L44") -> CUMPLE | K15: =INDIRECT($B15&"!L48") -> 5 | L15: =INDIRECT($B15&"!L49") -> 5 | M15: =INDIRECT($B15&"!L53") -> 1 | N15: =INDIRECT($B15&"!L56") -> 20 | O15: =INDIRECT($B15&"!L64") -> 1 | P15: =INDIRECT($B15&"!L67") -> 0.25 | Q15: =INDIRECT($B15&"!L75") -> 0.25 | R15: =SUM(K15:Q15) -> 32.5 | S15: HABILITADO | T15: =+IF(INDIRECT($B15&"!A70")=0," ",INDIRECT($B15&"!A70"))
B16: 8 | C16: =INDIRECT(B16&"!b19") -> CONSORCIO ARCA - CB | D16: =INDIRECT($B16&"!h4") -> CUMPLE | E16: =INDIRECT($B16&"!H107") -> CUMPLE | F16: =INDIRECT($B16&"!N24") -> CUMPLE | G16: =INDIRECT($B16&"!M39") -> 1376.2541 | H16: =INDIRECT($B16&"!N24") -> CUMPLE | I16: =INDIRECT($B16&"!N40") -> CUMPLE | J16: =INDIRECT($B16&"!L44") -> CUMPLE | K16: =INDIRECT($B16&"!L48") -> 5 | L16: =INDIRECT($B16&"!L49") -> 5 | M16: =INDIRECT($B16&"!L53") -> 1 | N16: =INDIRECT($B16&"!L56") -> 20 | O16: =INDIRECT($B16&"!L64") -> 1 | P16: =INDIRECT($B16&"!L67") -> 0.25 | Q16: =INDIRECT($B16&"!L75") -> 0.25 | R16: =SUM(K16:Q16) -> 32.5 | S16: HABILITADO | T16: =+IF(INDIRECT($B16&"!A70")=0," ",INDIRECT($B16&"!A70"))
B17: 9 | C17: =INDIRECT(B17&"!b19") -> CONSORCIO SERVINC - BETMAF 2024 | D17: =INDIRECT($B17&"!h4") -> CUMPLE | E17: =INDIRECT($B17&"!H107") -> CUMPLE | F17: =INDIRECT($B17&"!N24") -> CUMPLE | G17: =INDIRECT($B17&"!M39") -> 925.767 | H17: =INDIRECT($B17&"!N24") -> CUMPLE | I17: =INDIRECT($B17&"!N40") -> CUMPLE | J17: =INDIRECT($B17&"!L44") -> CUMPLE | K17: =INDIRECT($B17&"!L48") -> 5 | L17: =INDIRECT($B17&"!L49") -> 5 | M17: =INDIRECT($B17&"!L53") -> 1 | N17: =INDIRECT($B17&"!L56") -> 20 | O17: =INDIRECT($B17&"!L64") -> 1 | P17: =INDIRECT($B17&"!L67") -> 0.25 | Q17: =INDIRECT($B17&"!L75") -> 0.25 | R17: =SUM(K17:Q17) -> 32.5 | S17: HABILITADO | T17: =+IF(INDIRECT($B17&"!A70")=0," ",INDIRECT($B17&"!A70"))
B18: 10 | C18: =INDIRECT(B18&"!b19") -> CONSORCIO VELNEC | D18: =INDIRECT($B18&"!h4") -> CUMPLE | E18: =INDIRECT($B18&"!H107") -> CUMPLE | F18: =INDIRECT($B18&"!N24") -> CUMPLE | G18: =INDIRECT($B18&"!M39") -> 1492.8512 | H18: =INDIRECT($B18&"!N24") -> CUMPLE | I18: =INDIRECT($B18&"!N40") -> NO CUMPLE | J18: =INDIRECT($B18&"!L44") -> CUMPLE | K18: =INDIRECT($B18&"!L48") -> 5 | L18: =INDIRECT($B18&"!L49") -> 5 | M18: =INDIRECT($B18&"!L53") -> 1 | N18: =INDIRECT($B18&"!L56") -> 20 | O18: =INDIRECT($B18&"!L64") -> 1 | P18: =INDIRECT($B18&"!L67") -> 0.25 | Q18: =INDIRECT($B18&"!L75") -> 0.25 | R18: =SUM(K18:Q18) -> 32.5 | S18: INHABILITADO | T18: Experiencia
B19: 11 | C19: =INDIRECT(B19&"!b19") -> CONSORCIO INTERING | D19: =INDIRECT($B19&"!h4") -> CUMPLE | E19: =INDIRECT($B19&"!H107") -> CUMPLE | F19: =INDIRECT($B19&"!N24") -> CUMPLE | G19: =INDIRECT($B19&"!M39") -> 2460.1907 | H19: =INDIRECT($B19&"!N24") -> CUMPLE | I19: =INDIRECT($B19&"!N40") -> NO CUMPLE | J19: =INDIRECT($B19&"!L44") -> CUMPLE | K19: =INDIRECT($B19&"!L48") -> 5 | L19: =INDIRECT($B19&"!L49") -> 5 | M19: =INDIRECT($B19&"!L53") -> 1 | N19: =INDIRECT($B19&"!L56") -> 20 | O19: =INDIRECT($B19&"!L64") -> 1 | P19: =INDIRECT($B19&"!L67") -> 0.25 | Q19: =INDIRECT($B19&"!L75") -> 0.25 | R19: =SUM(K19:Q19) -> 32.5 | S19: INHABILITADO | T19: Experiencia, Concepto Jurídico
B20: 12 | C20: =INDIRECT(B20&"!b19") -> CONSORCIO AEROS-33 | D20: =INDIRECT($B20&"!h4") -> CUMPLE | E20: =INDIRECT($B20&"!H107") -> CUMPLE | F20: =INDIRECT($B20&"!N24") -> CUMPLE | G20: =INDIRECT($B20&"!M39") -> 1235.8012 | H20: =INDIRECT($B20&"!N24") -> CUMPLE | I20: =INDIRECT($B20&"!N40") -> CUMPLE | J20: =INDIRECT($B20&"!L44") -> CUMPLE | K20: =INDIRECT($B20&"!L48") -> 5 | L20: =INDIRECT($B20&"!L49") -> 5 | M20: =INDIRECT($B20&"!L53") -> 1 | N20: =INDIRECT($B20&"!L56") -> 20 | O20: =INDIRECT($B20&"!L64") -> 1 | P20: =INDIRECT($B20&"!L67") -> 0.25 | Q20: =INDIRECT($B20&"!L75") -> 0.25 | R20: =SUM(K20:Q20) -> 32.5 | S20: INHABILITADO | T20: Concepto Jurídico
B21: 13 | C21: =INDIRECT(B21&"!b19") -> CONSORCIO INTERVENTORIA IT | D21: =INDIRECT($B21&"!h4") -> CUMPLE | E21: =INDIRECT($B21&"!H107") -> CUMPLE | F21: =INDIRECT($B21&"!N24") -> NO CUMPLE | G21: =INDIRECT($B21&"!M39") -> 402.288 | H21: =INDIRECT($B21&"!N24") -> NO CUMPLE | I21: =INDIRECT($B21&"!N40") -> CUMPLE | J21: =INDIRECT($B21&"!L44") -> CUMPLE | K21: =INDIRECT($B21&"!L48") -> 5 | L21: =INDIRECT($B21&"!L49") -> 5 | M21: =INDIRECT($B21&"!L53") -> 1 | N21: =INDIRECT($B21&"!L56") -> 20 | O21: =INDIRECT($B21&"!L64") -> 1 | P21: =INDIRECT($B21&"!L67") -> 0.25 | Q21: =INDIRECT($B21&"!L75") -> 0.25 | R21: =SUM(K21:Q21) -> 32.5 | S21: INHABILITADO | T21: Experiencia
B22: 14 | C22: =INDIRECT(B22&"!b19") -> CONSORCIO AEROPUERTO AO | D22: =INDIRECT($B22&"!h4") -> CUMPLE | E22: =INDIRECT($B22&"!H107") -> CUMPLE | F22: =INDIRECT($B22&"!N24") -> CUMPLE | G22: =INDIRECT($B22&"!M39") -> 1043.0813 | H22: =INDIRECT($B22&"!N24") -> CUMPLE | I22: =INDIRECT($B22&"!N40") -> CUMPLE | J22: =INDIRECT($B22&"!L44") -> CUMPLE | K22: =INDIRECT($B22&"!L48") -> 5 | L22: =INDIRECT($B22&"!L49") -> 5 | M22: =INDIRECT($B22&"!L53") -> 1 | N22: =INDIRECT($B22&"!L56") -> 20 | O22: =INDIRECT($B22&"!L64") -> 1 | P22: =INDIRECT($B22&"!L67") -> 0.25 | Q22: =INDIRECT($B22&"!L75") -> 0.25 | R22: =SUM(K22:Q22) -> 32.5 | S22: HABILITADO | T22: =+IF(INDIRECT($B22&"!A70")=0," ",INDIRECT($B22&"!A70"))
B23: 15 | C23: =INDIRECT(B23&"!b19") -> CONSORCIO OJB | D23: =INDIRECT($B23&"!h4") -> CUMPLE | E23: =INDIRECT($B23&"!H107") -> CUMPLE | F23: =INDIRECT($B23&"!N24") -> CUMPLE | G23: =INDIRECT($B23&"!M39") -> 1317.7545 | H23: =INDIRECT($B23&"!N24") -> CUMPLE | I23: =INDIRECT($B23&"!N40") -> CUMPLE | J23: =INDIRECT($B23&"!L44") -> CUMPLE | K23: =INDIRECT($B23&"!L48") -> 5 | L23: =INDIRECT($B23&"!L49") -> 5 | M23: =INDIRECT($B23&"!L53") -> 1 | N23: =INDIRECT($B23&"!L56") -> 20 | O23: =INDIRECT($B23&"!L64") -> 1 | P23: =INDIRECT($B23&"!L67") -> 0.25 | Q23: =INDIRECT($B23&"!L75") -> 0.25 | R23: =SUM(K23:Q23) -> 32.5 | S23: HABILITADO | T23: =+IF(INDIRECT($B23&"!A70")=0," ",INDIRECT($B23&"!A70"))
B24: 16 | C24: =INDIRECT(B24&"!b19") -> HERNANDEZ PANTOJA SAS | D24: =INDIRECT($B24&"!h4") -> CUMPLE | E24: =INDIRECT($B24&"!H107") -> CUMPLE | F24: =INDIRECT($B24&"!N24") -> CUMPLE | G24: =INDIRECT($B24&"!M39") -> 1146.056 | H24: =INDIRECT($B24&"!N24") -> CUMPLE | I24: =INDIRECT($B24&"!N40") -> CUMPLE | J24: =INDIRECT($B24&"!L44") -> CUMPLE | K24: =INDIRECT($B24&"!L48") -> 5 | L24: =INDIRECT($B24&"!L49") -> 5 | M24: =INDIRECT($B24&"!L53") -> 1 | N24: =INDIRECT($B24&"!L56") -> 20 | O24: =INDIRECT($B24&"!L64") -> 1 | P24: =INDIRECT($B24&"!L67") -> 0.25 | Q24: =INDIRECT($B24&"!L75") -> 0.25 | R24: =SUM(K24:Q24) -> 32.5 | S24: HABILITADO | T24: =+IF(INDIRECT($B24&"!A70")=0," ",INDIRECT($B24&"!A70"))
B25: 17 | C25: =INDIRECT(B25&"!b19") -> CONSORCIO SANDONÁ | D25: =INDIRECT($B25&"!h4") -> CUMPLE | E25: =INDIRECT($B25&"!H107") -> CUMPLE | F25: =INDIRECT($B25&"!N24") -> CUMPLE | G25: =INDIRECT($B25&"!M39") -> 1263.0317 | H25: =INDIRECT($B25&"!N24") -> CUMPLE | I25: =INDIRECT($B25&"!N40") -> CUMPLE | J25: =INDIRECT($B25&"!L44") -> CUMPLE | K25: =INDIRECT($B25&"!L48") -> 5 | L25: =INDIRECT($B25&"!L49") -> 5 | M25: =INDIRECT($B25&"!L53") -> 1 | N25: =INDIRECT($B25&"!L56") -> 20 | O25: =INDIRECT($B25&"!L64") -> 1 | P25: =INDIRECT($B25&"!L67") -> 0.25 | Q25: =INDIRECT($B25&"!L75") -> 0.25 | R25: =SUM(K25:Q25) -> 32.5 | S25: HABILITADO | T25: =+IF(INDIRECT($B25&"!A70")=0," ",INDIRECT($B25&"!A70"))
B26: 18 | C26: =INDIRECT(B26&"!b19") -> CONSORCIO VYA NARIÑO | D26: =INDIRECT($B26&"!h4") -> CUMPLE | E26: =INDIRECT($B26&"!H107") -> CUMPLE | F26: =INDIRECT($B26&"!N24") -> CUMPLE | G26: =INDIRECT($B26&"!M39") -> 944.815 | H26: =INDIRECT($B26&"!N24") -> CUMPLE | I26: =INDIRECT($B26&"!N40") -> CUMPLE | J26: =INDIRECT($B26&"!L44") -> CUMPLE | K26: =INDIRECT($B26&"!L48") -> 5 | L26: =INDIRECT($B26&"!L49") -> 5 | M26: =INDIRECT($B26&"!L53") -> 1 | N26: =INDIRECT($B26&"!L56") -> 20 | O26: =INDIRECT($B26&"!L64") -> 1 | P26: =INDIRECT($B26&"!L67") -> 0.25 | Q26: =INDIRECT($B26&"!L75") -> 0.25 | R26: =SUM(K26:Q26) -> 32.5 | S26: HABILITADO | T26: =+IF(INDIRECT($B26&"!A70")=0," ",INDIRECT($B26&"!A70"))
B27: 19 | C27: =INDIRECT(B27&"!b19") -> CONSORCIO SAN BARTOLOME 2024 | D27: =INDIRECT($B27&"!h4") -> CUMPLE | E27: =INDIRECT($B27&"!H107") -> CUMPLE | F27: =INDIRECT($B27&"!N24") -> NO CUMPLE | G27: =INDIRECT($B27&"!M39") -> 245.27 | H27: =INDIRECT($B27&"!N24") -> NO CUMPLE | I27: =INDIRECT($B27&"!N40") -> NO CUMPLE | J27: =INDIRECT($B27&"!L44") -> CUMPLE | K27: =INDIRECT($B27&"!L48") -> 5 | L27: =INDIRECT($B27&"!L49") -> 5 | M27: =INDIRECT($B27&"!L53") -> 1 | N27: =INDIRECT($B27&"!L56") -> 20 | O27: =INDIRECT($B27&"!L64") -> 1 | P27: =INDIRECT($B27&"!L67") -> 0.25 | Q27: =INDIRECT($B27&"!L75") -> 0.25 | R27: =SUM(K27:Q27) -> 32.5 | S27: INHABILITADO | T27: Experiencia
B28: 20 | C28: =INDIRECT(B28&"!b19") -> CONSORCIO DMM | D28: =INDIRECT($B28&"!h4") -> CUMPLE | E28: =INDIRECT($B28&"!H107") -> CUMPLE | F28: =INDIRECT($B28&"!N24") -> CUMPLE | G28: =INDIRECT($B28&"!M39") -> 514.6225 | H28: =INDIRECT($B28&"!N24") -> CUMPLE | I28: =INDIRECT($B28&"!N40") -> CUMPLE | J28: =INDIRECT($B28&"!L44") -> CUMPLE | K28: =INDIRECT($B28&"!L48") -> 5 | L28: =INDIRECT($B28&"!L49") -> 5 | M28: =INDIRECT($B28&"!L53") -> 1 | N28: =INDIRECT($B28&"!L56") -> 20 | O28: =INDIRECT($B28&"!L64") -> 1 | P28: =INDIRECT($B28&"!L67") -> 0.25 | Q28: =INDIRECT($B28&"!L75") -> 0.25 | R28: =SUM(K28:Q28) -> 32.5 | S28: HABILITADO | T28: =+IF(INDIRECT($B28&"!A70")=0," ",INDIRECT($B28&"!A70"))
B29: 21 | C29: =INDIRECT(B29&"!b19") -> CONSORCIO INCE PASTO 2024 | D29: =INDIRECT($B29&"!h4") -> CUMPLE | E29: =INDIRECT($B29&"!H108") -> CUMPLE | F29: =INDIRECT($B29&"!N24") -> CUMPLE | G29: =INDIRECT($B29&"!M40") -> 1220.8 | H29: =INDIRECT($B29&"!N24") -> CUMPLE | I29: =INDIRECT($B29&"!N41") -> CUMPLE | J29: =INDIRECT($B29&"!L45") -> CUMPLE | K29: =INDIRECT($B29&"!L49") -> 5 | L29: =INDIRECT($B29&"!L50") -> 5 | M29: =INDIRECT($B29&"!L54") -> 1 | N29: =INDIRECT($B29&"!L57") -> 20 | O29: =INDIRECT($B29&"!L65") -> 0 | P29: =INDIRECT($B29&"!L68") -> 0.25 | Q29: =INDIRECT($B29&"!L76") -> 0.25 | R29: =SUM(K29:Q29) -> 31.5 | S29: HABILITADO | T29: Discapacitados
B30: 22 | C30: =INDIRECT(B30&"!b19") -> CONSORCIO INGENIERIA POSSO | D30: =INDIRECT($B30&"!h4") -> CUMPLE | E30: =INDIRECT($B30&"!H107") -> CUMPLE | F30: =INDIRECT($B30&"!N24") -> CUMPLE | G30: =INDIRECT($B30&"!M39") -> 1148.0933 | H30: =INDIRECT($B30&"!N24") -> CUMPLE | I30: =INDIRECT($B30&"!N40") -> NO CUMPLE | J30: =INDIRECT($B30&"!L44") -> CUMPLE | K30: =INDIRECT($B30&"!L48") -> 5 | L30: =INDIRECT($B30&"!L49") -> 5 | M30: =INDIRECT($B30&"!L53") -> 1 | N30: =INDIRECT($B30&"!L56") -> 20 | O30: =INDIRECT($B30&"!L64") -> 1 | P30: =INDIRECT($B30&"!L67") -> 0.25 | Q30: =INDIRECT($B30&"!L75") -> 0.25 | R30: =SUM(K30:Q30) -> 32.5 | S30: INHABILITADO | T30: Experiencia
B31: 23 | C31: =INDIRECT(B31&"!b19") -> PROYECTOS E INTERVENTORÍAS SAS | D31: =INDIRECT($B31&"!h4") -> CUMPLE | E31: =INDIRECT($B31&"!H107") -> CUMPLE | F31: =INDIRECT($B31&"!N24") -> CUMPLE | G31: =INDIRECT($B31&"!M39") -> 971.2138 | H31: =INDIRECT($B31&"!N24") -> CUMPLE | I31: =INDIRECT($B31&"!N40") -> CUMPLE | J31: =INDIRECT($B31&"!L44") -> CUMPLE | K31: =INDIRECT($B31&"!L48") -> 5 | L31: =INDIRECT($B31&"!L49") -> 5 | M31: =INDIRECT($B31&"!L53") -> 1 | N31: =INDIRECT($B31&"!L56") -> 20 | O31: =INDIRECT($B31&"!L64") -> 1 | P31: =INDIRECT($B31&"!L67") -> 0.25 | Q31: =INDIRECT($B31&"!L75") -> 0.25 | R31: =SUM(K31:Q31) -> 32.5 | S31: HABILITADO | T31: =+IF(INDIRECT($B31&"!A70")=0," ",INDIRECT($B31&"!A70"))
B32: 24 | C32: =INDIRECT(B32&"!b19") -> CAYCO SAS | D32: =INDIRECT($B32&"!h4") -> CUMPLE | E32: =INDIRECT($B32&"!H107") -> CUMPLE | F32: =INDIRECT($B32&"!N24") -> CUMPLE | G32: =INDIRECT($B32&"!M39") -> 1417.7655 | H32: =INDIRECT($B32&"!N24") -> CUMPLE | I32: =INDIRECT($B32&"!N40") -> CUMPLE | J32: =INDIRECT($B32&"!L44") -> CUMPLE | K32: =INDIRECT($B32&"!L48") -> 5 | L32: =INDIRECT($B32&"!L49") -> 5 | M32: =INDIRECT($B32&"!L53") -> 1 | N32: =INDIRECT($B32&"!L56") -> 20 | O32: =INDIRECT($B32&"!L64") -> 1 | P32: =INDIRECT($B32&"!L67") -> 0.25 | Q32: =INDIRECT($B32&"!L75") -> 0.25 | R32: =SUM(K32:Q32) -> 32.5 | S32: HABILITADO | T32: =+IF(INDIRECT($B32&"!A70")=0," ",INDIRECT($B32&"!A70"))
B33: 25 | C33: =INDIRECT(B33&"!b19") -> CONSORCIO MAB INGENIERÍA | D33: =INDIRECT($B33&"!h4") -> CUMPLE | E33: =INDIRECT($B33&"!H108") -> CUMPLE | F33: =INDIRECT($B33&"!N24") -> CUMPLE | G33: =INDIRECT($B33&"!M40") -> 1613.4214 | H33: =INDIRECT($B33&"!N24") -> CUMPLE | I33: =INDIRECT($B33&"!N41") -> CUMPLE | J33: =INDIRECT($B33&"!L45") -> CUMPLE | K33: =INDIRECT($B33&"!L49") -> 5 | L33: =INDIRECT($B33&"!L50") -> 5 | M33: =INDIRECT($B33&"!L54") -> 1 | N33: =INDIRECT($B33&"!L57") -> 20 | O33: =INDIRECT($B33&"!L65") -> 1 | P33: =INDIRECT($B33&"!L68") -> 0.25 | Q33: =INDIRECT($B33&"!L76") -> 0.25 | R33: =SUM(K33:Q33) -> 32.5 | S33: HABILITADO | T33: =+IF(INDIRECT($B33&"!A70")=0," ",INDIRECT($B33&"!A70"))
B34: 26 | C34: =INDIRECT(B34&"!b19") -> CONSORCIO PROSPERAR ANTONIO NARIÑO | D34: =INDIRECT($B34&"!h4") -> CUMPLE | E34: =INDIRECT($B34&"!H107") -> CUMPLE | F34: =INDIRECT($B34&"!N24") -> CUMPLE | G34: =INDIRECT($B34&"!M39") -> 803.3832 | H34: =INDIRECT($B34&"!N24") -> CUMPLE | I34: =INDIRECT($B34&"!N40") -> NO CUMPLE | J34: =INDIRECT($B34&"!L44") -> CUMPLE | K34: =INDIRECT($B34&"!L48") -> 5 | L34: =INDIRECT($B34&"!L49") -> 5 | M34: =INDIRECT($B34&"!L53") -> 1 | N34: =INDIRECT($B34&"!L56") -> 20 | O34: =INDIRECT($B34&"!L64") -> 1 | P34: =INDIRECT($B34&"!L67") -> 0.25 | Q34: =INDIRECT($B34&"!L75") -> 0.25 | R34: =SUM(K34:Q34) -> 32.5 | S34: INHABILITADO | T34: Experiencia y concepto jurídico
B35: 27 | C35: =INDIRECT(B35&"!b19") -> CONSORCIO INGAVI 1299 | D35: =INDIRECT($B35&"!h4") -> CUMPLE | E35: =INDIRECT($B35&"!H107") -> CUMPLE | F35: =INDIRECT($B35&"!N24") -> CUMPLE | G35: =INDIRECT($B35&"!M39") -> 949.23333 | H35: =INDIRECT($B35&"!N24") -> CUMPLE | I35: =INDIRECT($B35&"!N40") -> CUMPLE | J35: =INDIRECT($B35&"!L44") -> CUMPLE | K35: =INDIRECT($B35&"!L48") -> 5 | L35: =INDIRECT($B35&"!L49") -> 5 | M35: =INDIRECT($B35&"!L53") -> 1 | N35: =INDIRECT($B35&"!L56") -> 20 | O35: =INDIRECT($B35&"!L64") -> 1 | P35: =INDIRECT($B35&"!L67") -> 0.25 | Q35: =INDIRECT($B35&"!L75") -> 0.25 | R35: =SUM(K35:Q35) -> 32.5 | S35: HABILITADO | T35: =+IF(INDIRECT($B35&"!A70")=0," ",INDIRECT($B35&"!A70"))
B36: 28 | C36: =INDIRECT(B36&"!b19") -> CONSORCIO AEROPORTUARIO FJ | D36: =INDIRECT($B36&"!h4") -> CUMPLE | E36: =INDIRECT($B36&"!H107") -> CUMPLE | F36: =INDIRECT($B36&"!N24") -> CUMPLE | G36: =INDIRECT($B36&"!M39") -> 1411.0767 | H36: =INDIRECT($B36&"!N24") -> CUMPLE | I36: =INDIRECT($B36&"!N40") -> CUMPLE | J36: =INDIRECT($B36&"!L44") -> CUMPLE | K36: =INDIRECT($B36&"!L48") -> 5 | L36: =INDIRECT($B36&"!L49") -> 5 | M36: =INDIRECT($B36&"!L53") -> 1 | N36: =INDIRECT($B36&"!L56") -> 20 | O36: =INDIRECT($B36&"!L64") -> 1 | P36: =INDIRECT($B36&"!L67") -> 0.25 | Q36: =INDIRECT($B36&"!L75") -> 0.25 | R36: =SUM(K36:Q36) -> 32.5 | S36: HABILITADO | T36: =+IF(INDIRECT($B36&"!A70")=0," ",INDIRECT($B36&"!A70"))
B37: 29 | C37: =INDIRECT(B37&"!b19") -> ECG INGENIERIA SAS | D37: =INDIRECT($B37&"!h4") -> CUMPLE | E37: =INDIRECT($B37&"!H107") -> CUMPLE | F37: =INDIRECT($B37&"!N24") -> CUMPLE | G37: =INDIRECT($B37&"!M39") -> 1194.8601 | H37: =INDIRECT($B37&"!N24") -> CUMPLE | I37: =INDIRECT($B37&"!N40") -> CUMPLE | J37: =INDIRECT($B37&"!L44") -> CUMPLE | K37: =INDIRECT($B37&"!L48") -> 5 | L37: =INDIRECT($B37&"!L49") -> 5 | M37: =INDIRECT($B37&"!L53") -> 1 | N37: =INDIRECT($B37&"!L56") -> 20 | O37: =INDIRECT($B37&"!L64") -> 1 | P37: =INDIRECT($B37&"!L67") -> 0.25 | Q37: =INDIRECT($B37&"!L75") -> 0.25 | R37: =SUM(K37:Q37) -> 32.5 | S37: HABILITADO | T37: =+IF(INDIRECT($B37&"!A70")=0," ",INDIRECT($B37&"!A70"))
B38: 30 | C38: =INDIRECT(B38&"!b19") -> R&M CONSTRUCCIONES E INTERVENTORIAS S.A.S | D38: =INDIRECT($B38&"!h4") -> CUMPLE | E38: =INDIRECT($B38&"!H107") -> CUMPLE | F38: =INDIRECT($B38&"!N24") -> NO CUMPLE | G38: 0 | H38: =INDIRECT($B38&"!N24") -> NO CUMPLE | I38: =INDIRECT($B38&"!N40") -> NO CUMPLE | J38: =INDIRECT($B38&"!L44") -> CUMPLE | K38: =INDIRECT($B38&"!L48") -> 5 | L38: =INDIRECT($B38&"!L49") -> 5 | M38: =INDIRECT($B38&"!L53") -> 1 | N38: =INDIRECT($B38&"!L56") -> 20 | O38: =INDIRECT($B38&"!L64") -> 1 | P38: =INDIRECT($B38&"!L67") -> 0.25 | Q38: =INDIRECT($B38&"!L75") -> 0.25 | R38: =SUM(K38:Q38) -> 32.5 | S38: INHABILITADO | T38: Experiencia
B39: 31 | C39: =INDIRECT(B39&"!b19") -> CONSORCIO FERDINCON 1229 | D39: =INDIRECT($B39&"!h4") -> CUMPLE | E39: =INDIRECT($B39&"!H107") -> CUMPLE | F39: =INDIRECT($B39&"!N24") -> CUMPLE | G39: =INDIRECT($B39&"!M39") -> 1154.2376 | H39: =INDIRECT($B39&"!N24") -> CUMPLE | I39: =INDIRECT($B39&"!N40") -> CUMPLE | J39: =INDIRECT($B39&"!L44") -> CUMPLE | K39: =INDIRECT($B39&"!L48") -> 5 | L39: =INDIRECT($B39&"!L49") -> 5 | M39: =INDIRECT($B39&"!L53") -> 1 | N39: =INDIRECT($B39&"!L56") -> 20 | O39: =INDIRECT($B39&"!L64") -> 1 | P39: =INDIRECT($B39&"!L67") -> 0.25 | Q39: =INDIRECT($B39&"!L75") -> 0.25 | R39: =SUM(K39:Q39) -> 32.5 | S39: HABILITADO | T39: =+IF(INDIRECT($B39&"!A70")=0," ",INDIRECT($B39&"!A70"))
B40: 32 | C40: =INDIRECT(B40&"!b19") -> CONSORCIO INTERPISTAS 1299 | D40: =INDIRECT($B40&"!h4") -> CUMPLE | E40: =INDIRECT($B40&"!H107") -> NO CUMPLE | F40: =INDIRECT($B40&"!N24") -> CUMPLE | G40: =INDIRECT($B40&"!M39") -> 1105.6671 | H40: =INDIRECT($B40&"!N24") -> CUMPLE | I40: =INDIRECT($B40&"!N40") -> CUMPLE | J40: =INDIRECT($B40&"!L44") -> CUMPLE | K40: =INDIRECT($B40&"!L48") -> 5 | L40: =INDIRECT($B40&"!L49") -> 5 | M40: =INDIRECT($B40&"!L53") -> 1 | N40: =INDIRECT($B40&"!L56") -> 20 | O40: =INDIRECT($B40&"!L64") -> 1 | P40: =INDIRECT($B40&"!L67") -> 0.25 | Q40: =INDIRECT($B40&"!L75") -> 0.25 | R40: =SUM(K40:Q40) -> 32.5 | S40: INHABILITADO | T40: Propuesta económica
...

Sheet 1
A1: UNIDAD ADMINISTRATIVA ESPECIAL DE AERONAUTICA CIVIL | T1: 1 | U1: 20 | V1: 5
A2: 23001244 H3 DE 2023 | P2: SI | Q2: CUMPLE | R2: SI | T2: 0 | U2: 5 | V2: 0
A3: =RESUMEN!B4 -> Proceso 23001299 H3. REALIZAR LA INTERVENTORIA INTEGRAL AL MEJORAMIENTO DE LAS FRANJAS DE SEGURIDAD DE PISTA DEL AEROPUERTO ANTONIO NARIÑO DE PASTO, NARIÑO (VF). | P3: NO | Q3: NO CUMPLE | R3: NO | T3: NO APORTA | U3: 0
A4: Entregó o anexó poliza de seriedad de la oferta | H4: CUMPLE
A5: Entregó o anexó formato 1 - CARTA DE PRESENTACION DE LA OFERTA | H5: CUMPLE
A6: Entregó o anexó formato 2 - CONFORMACION DEL PROPONENTE | H6: CUMPLE
A7: Entregó o anexó formato 3 - EXPERIENCIA (EXCEL) | H7: CUMPLE
A8: Entregó o anexó formato 4 - CAPACIDAD FINANCIERA Y ORGANIZACIONAL
A9: Entregó o anexó formato 5 - PAGO DE SEGURIDAD SOCIAL
A10: Entregó o anexó formato 6 - VINCULACIÓN DE PERSONAL CON DISCAPACIDAD | H10: CUMPLE
A11: Entregó o anexó formato 7 - PUNTAJE INDUSTRIA NACIONAL | H11: CUMPLE
A12: Entregó o anexó formato 8 - ACEPTACIÓN UY CUMPLIMIENTO PERSONAL CLAVE EVALUABLE | H12: CUMPLE
A13: Entregó o anexó formato 9 - EXPERIENCIA Y FORMACION PERSONAL CLAVE EVALUABLE | H13: CUMPLE
A14: Entregó o anexó formato 10 - AUTORIZACIÓN TRATAMIENTO DE DATOS PERSONALES
A15: Entregó o anexó formato 13 - ACREDITACIÓN EMPRENDIMIENTO Y EMPRESAS MUJERES | H15: CUMPLE
A16: Entregó o anexó formato 13 - EMPRENDIMIENTO MIPYME | H16: CUMPLE
A18: EVALUACIÓN Y ASIGNACION DE PUNTAJES
A19: 1 | B19: JOSE ALBERTO ROJAS PRIETO | H19: APORTANTE DE LA EXPERIENCIA | K19: 10.1.2 CONSIDERACIONES PARA LA VALIDEZ DE LA EXPERIENCIA DEL PROPONENTE | O19: =+H19 -> APORTANTE DE LA EXPERIENCIA | Q19: 5
H20: INTEGRANTE | J20: PORCENTAJE DE PARTICIPACION | K20: CONDICIONES DE LA EXPERIENCIA | N20: SI / NO | Q20: NO APORTA | BA20: NIT
H21: JOSE ALBERTO ROJAS PRIETO | J21: 1 | K21: CONDICION 1: MIN 50% DE LA EXPERIENCIA | N21: SI | O21: =+H21 -> JOSE ALBERTO ROJAS PRIETO | Q21: 0 | V21: =+H21 -> JOSE ALBERTO ROJAS PRIETO
K22: CONDICION 2: MIN 5% DE LA EXPERIENCIA CADA INTEGRANTE | N22: SI | O22: =+H22 -> 0 | V22: =+H22 -> 0
K23: CONDICION 3: SOLO 1 INTEGRANTE NO PRESENTA EXPERIENCIA Y SU PARTICIPACION ES MAX 10% (SI APLICA) | N23: SI | O23: =+H23 -> 0 | Q23: SUBSANAR | V23: =+H23 -> 0
K24: CUMPLE / NO CUMPLE | N24: CUMPLE | O24: =+H24 -> 0 | Q24: CUMPLE | V24: =+H24 -> 0
O25: =+H25 -> 0 | Q25: NO CUMPLE | V25: =+H25 -> 0
H26: TOTAL | J26: =+J21+J22+J23+J24+J25 -> 1 | BA26: 0.5
A27: CODIGOS | B27: 81101500, 80101600 | H27: PRESUPUESTO OFICIAL | J27: 684325699 | L27: =J27/BB62 -> 526.40438 | BA27: =+L27*0.5 -> 263.20219
BA28: AÑO | BB28: SMMLV
A29: 10.1 ACREDITACIÓN DE LA EXPERIENCIA DEL PROPONENTE | BA29: 1990 | BB29: 41025
A30: 10.1.1 CARACTERÍSTICAS DE LOS CONTRATOS PRESENTADOS PARA ACREDITAR LA EXPERIENCIA DEL PROPONENTE | BA30: 1991 | BB30: 51716
A31: EXPERIENCIA GENERAL: El proponente podrá acreditar hasta cinco (5) contratos registrados en el RUP e identificados en al menos uno (1) de los códigos UNSPSC requeridos en la experiencia general; que sumados su valor total, expresado en SMMLV, sea igual o mayor al cien por ciento (100%) del presupuesto oficial, y cuyo objeto, actividades u obligaciones contractuales esté relacionadas con: “INTERVENTORÍA A OBRAS DE CONSTRUCCIÓN O RECONSTRUCCIÓN O AMPLIACIÓN O MEJORAMIENTO O MANTENIMIENTO O REHABILITACIÓN O CONSERVACIÓN DE: VÍAS PRIMARIAS O PISTAS DE AERODROMOS O CALLES DE RODAJE DE AERODROMOS O PLATAFORMAS DE AERÓDROMOS O FRANJAS DE SEGURIDAD, DICHAS OBRAS DEBEN CONTENER LA EJECUCION DE PAVIMENTO ASFÁLTICO O PAVIMENTO EN CONCRETO HIDRÁULICO” | H31: EXPERIENCIA ESPECIFICA: “Por lo menos uno (1) de los contratos válidos aportados como experiencia general debe acreditar: INTERVENTORÍA A OBRAS DE CONSTRUCCIÓN O RECONSTRUCCIÓN O AMPLIACIÓN O REHABILITACIÓN DE: PISTAS DE AERODROMOS O CALLES DE RODAJE DE AERODROMOS O PLATAFORMAS DE AERÓDROMOS, DICHAS OBRAS DEBEN CONTENER LA EJECUCION DE PAVIMENTO ASFÁLTICO O PAVIMENTO EN CONCRETO HIDRÁULICO, cuyo valor sea igual o mayor al 50% del valor del PRESUPUESTO OFICIAL (PO) del presente Proceso de Contratación.” Tratándose de Proponentes Plurales se tendrá en cuenta lo siguiente: i) uno de los integrantes debe aportar como mínimo el cincuenta por ciento (50 %) de la experiencia solicitada; ii) los demás integrantes deben acreditar al menos el cinco por ciento (5 %) de la experiencia solicitada; y iii) sin perjuicio de lo anterior, solo uno (1) de los integrantes, si así lo considera pertinente, podrá no demostrar experiencia. En este último caso, el porcentaje de participación del integrante que no aporta experiencia en la estructura plural no podrá superar el diez por ciento (10%). | BA31: 1993 | BB31: 81510
A32: CODIGOS DE LOS CTOS PRESENTADOS | B32: CTO´S | C32: No. CONSECUTIVO EN EL RUP | D32: CONTRATANTE | E32: OBJETO DEL CONTRATO | F32: CUMPLE CODIGOS? | G32: CUMPLE EXPERIENCIA? | H32: QUIEN APORTA LA EXPERIENCIA? | I32: AÑO DE INICIO DEL CONTRATO | J32: AÑO DE TERMINACION DEL CONTRATO | K32: VALOR TOTAL SMMLV - RUP | L32: % PARTICIPACION | M32: VALOR TOTAL AFECTADO | N32: CUMPLE / NO CUMPLE | Q32: =L27/2 -> 263.20219 | R32: 50% PO | BA32: 1994 | BB32: 98700
A33: 81101500, 80101600 | B33: 1 | C33: 4 | D33: INVIAS | E33: INTERVENTORÍA MEJORAMIENTO Y MANTENIMIENTO IBAGUE MARIQUITA MANIZALES | F33: CUMPLE | G33: CUMPLE | H33: JOSE ALBERTO ROJAS PRIETO | I33: 38327 | J33: 40451 | K33: 11523.67 | L33: 0.25 | M33: =IF(AND(F33="CUMPLE",G33="CUMPLE"),(K33*L33),0) -> 2880.9175 | N33: CUMPLE | Q33: =+IF(OR(N33="CUMPLE")*AND(M33>=$Q$32),"CUMPLE","NO CUMPLE") -> CUMPLE | U33: 2021 | V33: 908526 | BA33: 1995 | BB33: 118933.5
A34: 81101500, 80101600 | B34: 2 | C34: 47 | D34: AEROCIVIL | E34: INTERVENTORÍA MANTENIMIENTO CALLE DE RODAJE, PLATAFORMA VIRAJE 05 AEROPUERTO YOPAL | F34: CUMPLE | G34: CUMPLE | H34: JOSE ALBERTO ROJAS PRIETO | I34: 43514 | J34: 44075 | K34: 887.84 | L34: 0.5 | M34: =IF(AND(F34="CUMPLE",G34="CUMPLE"),(K34*L34),0) -> 443.92 | N34: CUMPLE | Q34: =+IF(OR(N34="CUMPLE")*AND(M34>=$Q$32),"CUMPLE","NO CUMPLE") -> CUMPLE | U34: 2020 | V34: 877803 | BA34: 1996 | BB34: 142125
A35: 81101500, 80101600 | B35: 3 | C35: 54 | D35: AEROCIVIL | E35: INTERVENTORÍA ADECUACIONES LADO TIERRA Y MANTENIMIENTO LADO AIRE Y LADO TIERRA AEROPUERTO NEIVA HUILA | F35: CUMPLE | G35: CUMPLE | H35: JOSE ALBERTO ROJAS PRIETO | I35: 44578 | J35: 44875 | K35: 352.63 | L35: 0.33 | M35: =IF(AND(F35="CUMPLE",G35="CUMPLE"),(K35*L35),0) -> 116.3679 | N35: CUMPLE | Q35: =+IF(OR(N35="CUMPLE")*AND(M35>=$Q$32),"CUMPLE","NO CUMPLE") -> NO CUMPLE | U35: 2019 | V35: 828116 | BA35: 1997 | BB35: 172005
A36: 81101500, 80101600 | B36: 4 | C36: 48 | D36: AEROCIVIL | E36: INTERVENTORÍA MANTENIMIENTO LADO AIRE Y LADO TIERRA AEROPUERTO SARAVENA ARAUCA | F36: CUMPLE | G36: CUMPLE | H36: JOSE ALBERTO ROJAS PRIETO | I36: 44134 | J36: 36881 | K36: 119.52 | L36: 0.35 | M36: =IF(AND(F36="CUMPLE",G36="CUMPLE"),(K36*L36),0) -> 41.832 | N36: CUMPLE | Q36: =+IF(OR(N36="CUMPLE")*AND(M36>=$Q$32),"CUMPLE","NO CUMPLE") -> NO CUMPLE | U36: 2018 | V36: 781242 | BA36: 1998 | BB36: 203826
A37: 81101500, 80101600 | B37: 5 | C37: 39 | D37: AEROCIVIL | E37: INTERVENTORIA TECNICA Y ADMINISTRATIVA PARA LAS OBRAS DE CONSTRUCCIÓN DE LA CALLE DE RODAJE Y SU CONEXIÓN CON LA NUEVA PISTA EN EL AEROPUERTO SAN LUIS, IPIALES - DEPARTAMENTO DE NARIÑO. CONTTRATO 1300280 - OJ- 2013 | F37: CUMPLE | G37: CUMPLE | H37: JOSE ALBERTO ROJAS PRIETO | I37: 41705 | J37: 42461 | K37: 3423.91 | L37: 0.4 | M37: =IF(AND(F37="CUMPLE",G37="CUMPLE"),(K37*L37),0) -> 1369.564 | N37: CUMPLE | Q37: =+IF(OR(N37="CUMPLE")*AND(M37>=$Q$32),"CUMPLE","NO CUMPLE") -> CUMPLE | U37: 2017 | V37: 737717 | BA37: 1999 | BB37: 236460
A38: EVALUACION EXPERIENCIA GENERAL PROPONENTE | E38: SUMATORIA | M38: =SUM(M33:M36) -> 3483.0374 | BA38: 2002 | BB38: 309000
E39: PROMEDIO | M39: =AVERAGEIF(M33:M36,">0") -> 870.75935 | BA39: 2003 | BB39: 332000
A40: EXP ESPECIFICA 50%= | C40: =+BA27 -> 263.20219 | D40: =E37 -> INTERVENTORIA TECNICA Y ADMINISTRATIVA PARA LAS OBRAS DE CONSTRUCCIÓN DE LA CALLE DE RODAJE Y SU CONEXIÓN CON LA NUEVA PISTA EN EL AEROPUERTO SAN LUIS, IPIALES - DEPARTAMENTO DE NARIÑO. CONTTRATO 1300280 - OJ- 2013 | F40: =F37 -> CUMPLE | G40: =G37 -> CUMPLE | H40: =H37 -> JOSE ALBERTO ROJAS PRIETO | I40: =I37 -> 41705 | J40: =J37 -> 42461 | K40: =K37 -> 3423.91 | L40: =L37 -> 0.4 | M40: =M37 -> 1369.564 | N40: =+IF(M40>=C40,"CUMPLE","NO CUMPLE") -> CUMPLE | Q40: =+IF(OR(N40="CUMPLE")*AND(M40>=$Q$32),"CUMPLE","NO CUMPLE") -> CUMPLE | U40: 2016 | V40: 689455 | BA40: 2004 | BB40: 358000
U41: 2012 | V41: 566700 | BA41: 2005 | BB41: 381500
...

Sheet 2
A1: UNIDAD ADMINISTRATIVA ESPECIAL DE AERONAUTICA CIVIL | T1: 1 | U1: 20 | V1: 5
A2: 23001244 H3 DE 2023 | P2: SI | Q2: CUMPLE | R2: SI | T2: 0 | U2: 5 | V2: 0
A3: =RESUMEN!B4 -> Proceso 23001299 H3. REALIZAR LA INTERVENTORIA INTEGRAL AL MEJORAMIENTO DE LAS FRANJAS DE SEGURIDAD DE PISTA DEL AEROPUERTO ANTONIO NARIÑO DE PASTO, NARIÑO (VF). | P3: NO | Q3: NO CUMPLE | R3: NO | T3: NO APORTA | U3: 0
A4: Entregó o anexó poliza de seriedad de la oferta | H4: CUMPLE
A5: Entregó o anexó formato 1 - CARTA DE PRESENTACION DE LA OFERTA | H5: CUMPLE
A6: Entregó o anexó formato 2 - CONFORMACION DEL PROPONENTE | H6: CUMPLE
A7: Entregó o anexó formato 3 - EXPERIENCIA (EXCEL) | H7: CUMPLE
A8: Entregó o anexó formato 4 - CAPACIDAD FINANCIERA Y ORGANIZACIONAL
A9: Entregó o anexó formato 5 - PAGO DE SEGURIDAD SOCIAL
A10: Entregó o anexó formato 6 - VINCULACIÓN DE PERSONAL CON DISCAPACIDAD | H10: CUMPLE
A11: Entregó o anexó formato 7 - PUNTAJE INDUSTRIA NACIONAL | H11: CUMPLE
A12: Entregó o anexó formato 8 - ACEPTACIÓN UY CUMPLIMIENTO PERSONAL CLAVE EVALUABLE | H12: CUMPLE
A13: Entregó o anexó formato 9 - EXPERIENCIA Y FORMACION PERSONAL CLAVE EVALUABLE | H13: CUMPLE
A14: Entregó o anexó formato 10 - AUTORIZACIÓN TRATAMIENTO DE DATOS PERSONALES
A15: Entregó o anexó formato 13 - ACREDITACIÓN EMPRENDIMIENTO Y EMPRESAS MUJERES | H15: CUMPLE
A16: Entregó o anexó formato 13 - EMPRENDIMIENTO MIPYME | H16: CUMPLE
A18: EVALUACIÓN Y ASIGNACION DE PUNTAJES
A19: 2 | B19: CONSORCIO METRO CINCO | H19: APORTANTE DE LA EXPERIENCIA | K19: 10.1.2 CONSIDERACIONES PARA LA VALIDEZ DE LA EXPERIENCIA DEL PROPONENTE | O19: =+H19 -> APORTANTE DE LA EXPERIENCIA | Q19: 5
H20: INTEGRANTE | J20: PORCENTAJE DE PARTICIPACION | K20: CONDICIONES DE LA EXPERIENCIA | N20: SI / NO | Q20: NO APORTA | BA20: NIT
H21: GRUPO METRO COLOMBIA SAS | J21: 0.9 | K21: CONDICION 1: MIN 50% DE LA EXPERIENCIA | N21: SI | O21: =+H21 -> GRUPO METRO COLOMBIA SAS | Q21: 0 | V21: =+H21 -> GRUPO METRO COLOMBIA SAS
H22: OSCAR ALFREDO MONTOYA CASTRO | J22: 0.1 | K22: CONDICION 2: MIN 5% DE LA EXPERIENCIA CADA INTEGRANTE | N22: SI | O22: =+H22 -> OSCAR ALFREDO MONTOYA CASTRO | V22: =+H22 -> OSCAR ALFREDO MONTOYA CASTRO
K23: CONDICION 3: SOLO 1 INTEGRANTE NO PRESENTA EXPERIENCIA Y SU PARTICIPACION ES MAX 10% (SI APLICA) | N23: SI | O23: =+H23 -> 0 | Q23: SUBSANAR | V23: =+H23 -> 0
K24: CUMPLE / NO CUMPLE | N24: CUMPLE | O24: =+H24 -> 0 | Q24: CUMPLE | V24: =+H24 -> 0
O25: =+H25 -> 0 | Q25: NO CUMPLE | V25: =+H25 -> 0
H26: TOTAL | J26: =+J21+J22+J23+J24+J25 -> 1 | BA26: 0.5
A27: CODIGOS | B27: 81101500, 80101600 | H27: PRESUPUESTO OFICIAL | J27: 684325699 | L27: =J27/BB62 -> 526.40438 | BA27: =+L27*0.5 -> 263.20219
BA28: AÑO | BB28: SMMLV
A29: 10.1 ACREDITACIÓN DE LA EXPERIENCIA DEL PROPONENTE | BA29: 1990 | BB29: 41025
A30: 10.1.1 CARACTERÍSTICAS DE LOS CONTRATOS PRESENTADOS PARA ACREDITAR LA EXPERIENCIA DEL PROPONENTE | BA30: 1991 | BB30: 51716
A31: EXPERIENCIA GENERAL: El proponente podrá acreditar hasta cinco (5) contratos registrados en el RUP e identificados en al menos uno (1) de los códigos UNSPSC requeridos en la experiencia general; que sumados su valor total, expresado en SMMLV, sea igual o mayor al cien por ciento (100%) del presupuesto oficial, y cuyo objeto, actividades u obligaciones contractuales esté relacionadas con: “INTERVENTORÍA A OBRAS DE CONSTRUCCIÓN O RECONSTRUCCIÓN O AMPLIACIÓN O MEJORAMIENTO O MANTENIMIENTO O REHABILITACIÓN O CONSERVACIÓN DE: VÍAS PRIMARIAS O PISTAS DE AERODROMOS O CALLES DE RODAJE DE AERODROMOS O PLATAFORMAS DE AERÓDROMOS O FRANJAS DE SEGURIDAD, DICHAS OBRAS DEBEN CONTENER LA EJECUCION DE PAVIMENTO ASFÁLTICO O PAVIMENTO EN CONCRETO HIDRÁULICO” | H31: EXPERIENCIA ESPECIFICA: “Por lo menos uno (1) de los contratos válidos aportados como experiencia general debe acreditar: INTERVENTORÍA A OBRAS DE CONSTRUCCIÓN O RECONSTRUCCIÓN O AMPLIACIÓN O REHABILITACIÓN DE: PISTAS DE AERODROMOS O CALLES DE RODAJE DE AERODROMOS O PLATAFORMAS DE AERÓDROMOS, DICHAS OBRAS DEBEN CONTENER LA EJECUCION DE PAVIMENTO ASFÁLTICO O PAVIMENTO EN CONCRETO HIDRÁULICO, cuyo valor sea igual o mayor al 50% del valor del PRESUPUESTO OFICIAL (PO) del presente Proceso de Contratación.” Tratándose de Proponentes Plurales se tendrá en cuenta lo siguiente: i) uno de los integrantes debe aportar como mínimo el cincuenta por ciento (50 %) de la experiencia solicitada; ii) los demás integrantes deben acreditar al menos el cinco por ciento (5 %) de la experiencia solicitada; y iii) sin perjuicio de lo anterior, solo uno (1) de los integrantes, si así lo considera pertinente, podrá no demostrar experiencia. En este último caso, el porcentaje de participación del integrante que no aporta experiencia en la estructura plural no podrá superar el diez por ciento (10%). | BA31: 1993 | BB31: 81510
A32: CODIGOS DE LOS CTOS PRESENTADOS | B32: CTO´S | C32: No. CONSECUTIVO EN EL RUP | D32: CONTRATANTE | E32: OBJETO DEL CONTRATO | F32: CUMPLE CODIGOS? | G32: CUMPLE EXPERIENCIA? | H32: QUIEN APORTA LA EXPERIENCIA? | I32: AÑO DE INICIO DEL CONTRATO | J32: AÑO DE TERMINACION DEL CONTRATO | K32: VALOR TOTAL SMMLV - RUP | L32: % PARTICIPACION | M32: VALOR TOTAL AFECTADO | N32: CUMPLE / NO CUMPLE | Q32: =L27/2 -> 263.20219 | R32: 50% PO | BA32: 1994 | BB32: 98700
A33: 81101500, 80101600 | B33: 1 | C33: 28 | D33: AEROCIVIL | E33: INTERVENTORÍA TÉCNICA Y ADMINISTRATIVA PARA LA CONSTRUCCIÓN DE LA PLATAFORMA DEL AEROPUERTO PERALES DE IBAGUE. | F33: CUMPLE | G33: CUMPLE | H33: GRUPO METRO COLOMBIA SAS | I33: 41183 | J33: 41377 | K33: 723 | L33: 0.65 | M33: =IF(AND(F33="CUMPLE",G33="CUMPLE"),(K33*L33),0) -> 469.95 | N33: CUMPLE | Q33: =+IF(OR(N33="CUMPLE")*AND(M33>=$Q$32),"CUMPLE","NO CUMPLE") -> CUMPLE | U33: 2021 | V33: 908526 | BA33: 1995 | BB33: 118933.5
A34: 81101500, 80101600 | B34: 2 | C34: 100 | D34: AEROCIVIL | E34: REALIZAR LA INTERVENTORÍA INTEGRAL A LA REHABILITACIÓN DE LA PISTA Y CALLES DE RODAJE - ADECUACIÓN DE LAS ZONAS DE SEGURIDAD Y MANTENIMIENTO RUTINARIO DE LAS ÁREAS LADO AIRE Y LADO TIERRA DEL AEROPUERTO YARIGUIES DE BARRANCABERMEJA, SANTANDER. | F34: CUMPLE | G34: CUMPLE | H34: GRUPO METRO COLOMBIA SAS | I34: 43822 | J34: 44772 | K34: 2711.8 | L34: 1 | M34: =IF(AND(F34="CUMPLE",G34="CUMPLE"),(K34*L34),0) -> 2711.8 | N34: CUMPLE | Q34: =+IF(OR(N34="CUMPLE")*AND(M34>=$Q$32),"CUMPLE","NO CUMPLE") -> CUMPLE | U34: 2020 | V34: 877803 | BA34: 1996 | BB34: 142125
Q35: =+IF(OR(N35="CUMPLE")*AND(M35>=$Q$32),"CUMPLE","NO CUMPLE") -> NO CUMPLE | U35: 2019 | V35: 828116 | BA35: 1997 | BB35: 172005
Q36: =+IF(OR(N36="CUMPLE")*AND(M36>=$Q$32),"CUMPLE","NO CUMPLE") -> NO CUMPLE | U36: 2018 | V36: 781242 | BA36: 1998 | BB36: 203826 | BC36: DISCAPACIDAD | BD36: APORTA
Q37: =+IF(OR(N37="CUMPLE")*AND(M37>=$Q$32),"CUMPLE","NO CUMPLE") -> NO CUMPLE | U37: 2017 | V37: 737717 | BA37: 1999 | BB37: 236460 | BC37: 0.4 | BD37: GRUPO METRO COLOMBIA SAS
A38: EVALUACION EXPERIENCIA GENERAL PROPONENTE | E38: SUMATORIA | M38: =SUM(M33:M37) -> 3181.75 | BA38: 2002 | BB38: 309000 | BC38: =M38*0.4 -> 1272.7 | BD38: SMMLV
E39: PROMEDIO | M39: =AVERAGEIF(M33:M37,">0") -> 1590.875 | BA39: 2003 | BB39: 332000 | BD39: SI CUMPLE
A40: EXP ESPECIFICA 50%= | C40: =+BA27 -> 263.20219 | D40: =+E34 -> REALIZAR LA INTERVENTORÍA INTEGRAL A LA REHABILITACIÓN DE LA PISTA Y CALLES DE RODAJE - ADECUACIÓN DE LAS ZONAS DE SEGURIDAD Y MANTENIMIENTO RUTINARIO DE LAS ÁREAS LADO AIRE Y LADO TIERRA DEL AEROPUERTO YARIGUIES DE BARRANCABERMEJA, SANTANDER. | F40: =+F34 -> CUMPLE | G40: =+G34 -> CUMPLE | H40: =+H34 -> GRUPO METRO COLOMBIA SAS | I40: =+I34 -> 43822 | J40: =+J34 -> 44772 | K40: =+K34 -> 2711.8 | L40: =+L34 -> 1 | M40: =+M34 -> 2711.8 | N40: =+IF(M40>=C40,"CUMPLE","NO CUMPLE") -> CUMPLE | Q40: =+IF(OR(N40="CUMPLE")*AND(M40>=$Q$32),"CUMPLE","NO CUMPLE") -> CUMPLE | U40: 2016 | V40: 689455 | BA40: 2004 | BB40: 358000
U41: 2012 | V41: 566700 | BA41: 2005 | BB41: 381500
...

Sheet 3
A1: UNIDAD ADMINISTRATIVA ESPECIAL DE AERONAUTICA CIVIL | T1: 1 | U1: 20 | V1: 5
A2: 23001244 H3 DE 2023 | P2: SI | Q2: CUMPLE | R2: SI | T2: 0 | U2: 5 | V2: 0
A3: =RESUMEN!B4 -> Proceso 23001299 H3. REALIZAR LA INTERVENTORIA INTEGRAL AL MEJORAMIENTO DE LAS FRANJAS DE SEGURIDAD DE PISTA DEL AEROPUERTO ANTONIO NARIÑO DE PASTO, NARIÑO (VF). | P3: NO | Q3: NO CUMPLE | R3: NO | T3: NO APORTA | U3: 0
A4: Entregó o anexó poliza de seriedad de la oferta | H4: CUMPLE
A5: Entregó o anexó formato 1 - CARTA DE PRESENTACION DE LA OFERTA | H5: CUMPLE
A6: Entregó o anexó formato 2 - CONFORMACION DEL PROPONENTE | H6: CUMPLE
A7: Entregó o anexó formato 3 - EXPERIENCIA (EXCEL) | H7: CUMPLE
A8: Entregó o anexó formato 4 - CAPACIDAD FINANCIERA Y ORGANIZACIONAL
A9: Entregó o anexó formato 5 - PAGO DE SEGURIDAD SOCIAL
A10: Entregó o anexó formato 6 - VINCULACIÓN DE PERSONAL CON DISCAPACIDAD | H10: CUMPLE
A11: Entregó o anexó formato 7 - PUNTAJE INDUSTRIA NACIONAL | H11: CUMPLE
A12: Entregó o anexó formato 8 - ACEPTACIÓN UY CUMPLIMIENTO PERSONAL CLAVE EVALUABLE | H12: CUMPLE
A13: Entregó o anexó formato 9 - EXPERIENCIA Y FORMACION PERSONAL CLAVE EVALUABLE | H13: CUMPLE
A14: Entregó o anexó formato 10 - AUTORIZACIÓN TRATAMIENTO DE DATOS PERSONALES
A15: Entregó o anexó formato 13 - ACREDITACIÓN EMPRENDIMIENTO Y EMPRESAS MUJERES | H15: CUMPLE
A16: Entregó o anexó formato 13 - EMPRENDIMIENTO MIPYME | H16: CUMPLE
A18: EVALUACIÓN Y ASIGNACION DE PUNTAJES
A19: 3 | B19: ELSA TORRES ARENALES | H19: APORTANTE DE LA EXPERIENCIA | K19: 10.1.2 CONSIDERACIONES PARA LA VALIDEZ DE LA EXPERIENCIA DEL PROPONENTE | O19: =+H19 -> APORTANTE DE LA EXPERIENCIA | Q19: 5
H20: INTEGRANTE | J20: PORCENTAJE DE PARTICIPACION | K20: CONDICIONES DE LA EXPERIENCIA | N20: SI / NO | Q20: NO APORTA | BA20: NIT
H21: ELSA TORRES ARENALES | J21: 1 | K21: CONDICION 1: MIN 50% DE LA EXPERIENCIA | N21: SI | O21: =+H21 -> ELSA TORRES ARENALES | Q21: 0 | V21: =+H21 -> ELSA TORRES ARENALES
K22: CONDICION 2: MIN 5% DE LA EXPERIENCIA CADA INTEGRANTE | N22: SI | O22: =+H22 -> 0 | V22: =+H22 -> 0
K23: CONDICION 3: SOLO 1 INTEGRANTE NO PRESENTA EXPERIENCIA Y SU PARTICIPACION ES MAX 10% (SI APLICA) | N23: SI | O23: =+H23 -> 0 | Q23: SUBSANAR | V23: =+H23 -> 0
K24: CUMPLE / NO CUMPLE | N24: CUMPLE | O24: =+H24 -> 0 | Q24: CUMPLE | V24: =+H24 -> 0
O25: =+H25 -> 0 | Q25: NO CUMPLE | V25: =+H25 -> 0
H26: TOTAL | J26: =+J21+J22+J23+J24+J25 -> 1 | BA26: 0.5
A27: CODIGOS | B27: 81101500, 80101600 | H27: PRESUPUESTO OFICIAL | J27: 684325699 | L27: =J27/BB62 -> 526.40438 | BA27: =+L27*0.5 -> 263.20219
BA28: AÑO | BB28: SMMLV
A29: 10.1 ACREDITACIÓN DE LA EXPERIENCIA DEL PROPONENTE | BA29: 1990 | BB29: 41025
A30: 10.1.1 CARACTERÍSTICAS DE LOS CONTRATOS PRESENTADOS PARA ACREDITAR LA EXPERIENCIA DEL PROPONENTE | BA30: 1991 | BB30: 51716
A31: EXPERIENCIA GENERAL: El proponente podrá acreditar hasta cinco (5) contratos registrados en el RUP e identificados en al menos uno (1) de los códigos UNSPSC requeridos en la experiencia general; que sumados su valor total, expresado en SMMLV, sea igual o mayor al cien por ciento (100%) del presupuesto oficial, y cuyo objeto, actividades u obligaciones contractuales esté relacionadas con: “INTERVENTORÍA A OBRAS DE CONSTRUCCIÓN O RECONSTRUCCIÓN O AMPLIACIÓN O MEJORAMIENTO O MANTENIMIENTO O REHABILITACIÓN O CONSERVACIÓN DE: VÍAS PRIMARIAS O PISTAS DE AERODROMOS O CALLES DE RODAJE DE AERODROMOS O PLATAFORMAS DE AERÓDROMOS O FRANJAS DE SEGURIDAD, DICHAS OBRAS DEBEN CONTENER LA EJECUCION DE PAVIMENTO ASFÁLTICO O PAVIMENTO EN CONCRETO HIDRÁULICO” | H31: EXPERIENCIA ESPECIFICA: “Por lo menos uno (1) de los contratos válidos aportados como experiencia general debe acreditar: INTERVENTORÍA A OBRAS DE CONSTRUCCIÓN O RECONSTRUCCIÓN O AMPLIACIÓN O REHABILITACIÓN DE: PISTAS DE AERODROMOS O CALLES DE RODAJE DE AERODROMOS O PLATAFORMAS DE AERÓDROMOS, DICHAS OBRAS DEBEN CONTENER LA EJECUCION DE PAVIMENTO ASFÁLTICO O PAVIMENTO EN CONCRETO HIDRÁULICO, cuyo valor sea igual o mayor al 50% del valor del PRESUPUESTO OFICIAL (PO) del presente Proceso de Contratación.” Tratándose de Proponentes Plurales se tendrá en cuenta lo siguiente: i) uno de los integrantes debe aportar como mínimo el cincuenta por ciento (50 %) de la experiencia solicitada; ii) los demás integrantes deben acreditar al menos el cinco por ciento (5 %) de la experiencia solicitada; y iii) sin perjuicio de lo anterior, solo uno (1) de los integrantes, si así lo considera pertinente, podrá no demostrar experiencia. En este último caso, el porcentaje de participación del integrante que no aporta experiencia en la estructura plural no podrá superar el diez por ciento (10%). | BA31: 1993 | BB31: 81510
A32: CODIGOS DE LOS CTOS PRESENTADOS | B32: CTO´S | C32: No. CONSECUTIVO EN EL RUP | D32: CONTRATANTE | E32: OBJETO DEL CONTRATO | F32: CUMPLE CODIGOS? | G32: CUMPLE EXPERIENCIA? | H32: QUIEN APORTA LA EXPERIENCIA? | I32: AÑO DE INICIO DEL CONTRATO | J32: AÑO DE TERMINACION DEL CONTRATO | K32: VALOR TOTAL SMMLV - RUP | L32: % PARTICIPACION | M32: VALOR TOTAL AFECTADO | N32: CUMPLE / NO CUMPLE | Q32: =L27/2 -> 263.20219 | R32: 50% PO | BA32: 1994 | BB32: 98700
A33: 81101500, 80101600 | B33: 1 | C33: 11 | D33: AEROCIVIL | E33: INTERVENTORÍA TÉCNICA Y ADMINISTRATIVA PARA LA CONSTRUCCIÓN DE LA FRANJA CENTRAL DE LA PISTA DEL AEROPUERTO ALBERTO LEON BENTLEY DE MITU - VAUPES | F33: CUMPLE | G33: CUMPLE | H33: ELSA TORRES ARENALES | I33: 38593 | J33: 38832 | K33: 757.53 | L33: 0.4 | M33: =IF(AND(F33="CUMPLE",G33="CUMPLE"),(K33*L33),0) -> 303.012 | N33: CUMPLE | Q33: =+IF(OR(N33="CUMPLE")*AND(M33>=$Q$32),"CUMPLE","NO CUMPLE") -> CUMPLE | U33: 2021 | V33: 908526 | BA33: 1995 | BB33: 118933.5
A34: 81101500, 80101600 | B34: 2 | C34: 61 | D34: INVIAS | E34: INTERVENTORIA TECNICA, LEGAL, ADMINISTRATIVA Y FINANCIERA PARA LA RECONSTRUCCIÓN, PAVIMENTACIÓN DE LAS VIAS INCLUIDAS DENTRO DEL PROGRAMA DE PAVIMENTACIÓN DE INFRAESTRUCTURA VIAL DE INTEGRACIÓN Y DESARROLLO REGIONAL - PLAN 2500 DE LOS TRAMOS: TRAMO 1 VIA CHARALA - LA CANTERA DEL K10+880 AL K12+589 CON UNA LONGITUD TOTAL DE 1,709 KM; TRAMO 2: VIA LA CANTERA - EL ENCINO DEL K13+590 AL K17+589 CON UNA LONGITUD TOTAL DE 3999 KM; TRAMO 3: VIA LOS CUROS - MALAGA DEL K11+125 AL K12+625 CON UNA LONGITUD DE 1,50 KM; TRAMO 4 DE LA VIA TRONCAL (ALBANIA) - LA LLANA DEL K0+000 AL K1+830 CON UNA LONGITUD TOTAL DE 1,83 KM; TRAMO 5: VIA LA BELLEZA - JESUS MARIA, DEL K8+300 AL K12+500 CON UNA LONGITUD TOTAL DE 4,2 KM; TRAMO 6: VIA TRONCAL - PUERTO PARRA DEL K2+800 AL K8+000 CON UNA LONGITUD TOTAL DE 5,2 KM; TRAMO 7: VIA OIBA - GUADALUPE DEL K13+550 AL K18+250 CON UNA LONGITUD TOTAL DE 4,70 KM EN EL DEPARTAMENTO DE SANTANDER | F34: CUMPLE | G34: CUMPLE | H34: ELSA TORRES ARENALES | I34: 40074 | J34: 40908 | K34: 4815.12 | L34: 0.4 | M34: =IF(AND(F34="CUMPLE",G34="CUMPLE"),(K34*L34),0) -> 1926.048 | N34: CUMPLE | Q34: =+IF(OR(N34="CUMPLE")*AND(M34>=$Q$32),"CUMPLE","NO CUMPLE") -> CUMPLE | U34: 2020 | V34: 877803 | BA34: 1996 | BB34: 142125
Q35: =+IF(OR(N35="CUMPLE")*AND(M35>=$Q$32),"CUMPLE","NO CUMPLE") -> NO CUMPLE | U35: 2019 | V35: 828116 | BA35: 1997 | BB35: 172005
Q36: =+IF(OR(N36="CUMPLE")*AND(M36>=$Q$32),"CUMPLE","NO CUMPLE") -> NO CUMPLE | U36: 2018 | V36: 781242 | BA36: 1998 | BB36: 203826
Q37: =+IF(OR(N37="CUMPLE")*AND(M37>=$Q$32),"CUMPLE","NO CUMPLE") -> NO CUMPLE | U37: 2017 | V37: 737717 | BA37: 1999 | BB37: 236460
A38: EVALUACION EXPERIENCIA GENERAL PROPONENTE | E38: SUMATORIA | M38: =SUM(M33:M37) -> 2229.06 | BA38: 2002 | BB38: 309000
E39: PROMEDIO | M39: =AVERAGEIF(M33:M37,">0") -> 1114.53 | BA39: 2003 | BB39: 332000
A40: EXP ESPECIFICA 50%= | C40: =+BA27 -> 263.20219 | D40: =+E33 -> INTERVENTORÍA TÉCNICA Y ADMINISTRATIVA PARA LA CONSTRUCCIÓN DE LA FRANJA CENTRAL DE LA PISTA DEL AEROPUERTO ALBERTO LEON BENTLEY DE MITU - VAUPES | F40: =+F33 -> CUMPLE | G40: =+G33 -> CUMPLE | H40: =+H33 -> ELSA TORRES ARENALES | I40: =+I33 -> 38593 | J40: =+J33 -> 38832 | K40: =+K33 -> 757.53 | L40: =+L33 -> 0.4 | M40: =+M33 -> 303.012 | N40: =+IF(M40>=C40,"CUMPLE","NO CUMPLE") -> CUMPLE | Q40: =+IF(OR(N40="CUMPLE")*AND(M40>=$Q$32),"CUMPLE","NO CUMPLE") -> CUMPLE | U40: 2016 | V40: 689455 | BA40: 2004 | BB40: 358000
U41: 2012 | V41: 566700 | BA41: 2005 | BB41: 381500
...

Sheet 4
A1: UNIDAD ADMINISTRATIVA ESPECIAL DE AERONAUTICA CIVIL | T1: 1 | U1: 20 | V1: 5
A2: 23001244 H3 DE 2023 | P2: SI | Q2: CUMPLE | R2: SI | T2: 0 | U2: 5 | V2: 0
A3: =RESUMEN!B4 -> Proceso 23001299 H3. REALIZAR LA INTERVENTORIA INTEGRAL AL MEJORAMIENTO DE LAS FRANJAS DE SEGURIDAD DE PISTA DEL AEROPUERTO ANTONIO NARIÑO DE PASTO, NARIÑO (VF). | P3: NO | Q3: NO CUMPLE | R3: NO | T3: NO APORTA | U3: 0
A4: Entregó o anexó poliza de seriedad de la oferta | H4: CUMPLE
A5: Entregó o anexó formato 1 - CARTA DE PRESENTACION DE LA OFERTA | H5: CUMPLE
A6: Entregó o anexó formato 2 - CONFORMACION DEL PROPONENTE | H6: CUMPLE
A7: Entregó o anexó formato 3 - EXPERIENCIA (EXCEL) | H7: CUMPLE
A8: Entregó o anexó formato 4 - CAPACIDAD FINANCIERA Y ORGANIZACIONAL
A9: Entregó o anexó formato 5 - PAGO DE SEGURIDAD SOCIAL
A10: Entregó o anexó formato 6 - VINCULACIÓN DE PERSONAL CON DISCAPACIDAD | H10: CUMPLE
A11: Entregó o anexó formato 7 - PUNTAJE INDUSTRIA NACIONAL | H11: CUMPLE
A12: Entregó o anexó formato 8 - ACEPTACIÓN UY CUMPLIMIENTO PERSONAL CLAVE EVALUABLE | H12: CUMPLE
A13: Entregó o anexó formato 9 - EXPERIENCIA Y FORMACION PERSONAL CLAVE EVALUABLE | H13: CUMPLE
A14: Entregó o anexó formato 10 - AUTORIZACIÓN TRATAMIENTO DE DATOS PERSONALES
A15: Entregó o anexó formato 13 - ACREDITACIÓN EMPRENDIMIENTO Y EMPRESAS MUJERES | H15: CUMPLE
A16: Entregó o anexó formato 13 - EMPRENDIMIENTO MIPYME | H16: CUMPLE
A18: EVALUACIÓN Y ASIGNACION DE PUNTAJES
A19: 4 | B19: CONSORCIO SUPERVISORES 1299 | H19: APORTANTE DE LA EXPERIENCIA | K19: 10.1.2 CONSIDERACIONES PARA LA VALIDEZ DE LA EXPERIENCIA DEL PROPONENTE | O19: =+H19 -> APORTANTE DE LA EXPERIENCIA | Q19: 5
H20: INTEGRANTE | J20: PORCENTAJE DE PARTICIPACION | K20: CONDICIONES DE LA EXPERIENCIA | N20: SI / NO | Q20: NO APORTA | BA20: NIT
H21: CONSULTEC SAS | J21: 0.5 | K21: CONDICION 1: MIN 50% DE LA EXPERIENCIA | N21: SI | O21: =+H21 -> CONSULTEC SAS | Q21: 0 | V21: =+H21 -> CONSULTEC SAS
H22: INGEPLAN.CO SAS BIC | J22: 0.5 | K22: CONDICION 2: MIN 5% DE LA EXPERIENCIA CADA INTEGRANTE | N22: SI | O22: =+H22 -> INGEPLAN.CO SAS BIC | V22: =+H22 -> INGEPLAN.CO SAS BIC
K23: CONDICION 3: SOLO 1 INTEGRANTE NO PRESENTA EXPERIENCIA Y SU PARTICIPACION ES MAX 10% (SI APLICA) | N23: SI | O23: =+H23 -> 0 | Q23: SUBSANAR | V23: =+H23 -> 0
K24: CUMPLE / NO CUMPLE | N24: CUMPLE | O24: =+H24 -> 0 | Q24: CUMPLE | V24: =+H24 -> 0
O25: =+H25 -> 0 | Q25: NO CUMPLE | V25: =+H25 -> 0
H26: TOTAL | J26: =+J21+J22+J23+J24+J25 -> 1 | BA26: 0.5
A27: CODIGOS | B27: 81101500, 80101600 | H27: PRESUPUESTO OFICIAL | J27: 684325699 | L27: =J27/BB62 -> 526.40438 | BA27: =+L27*0.5 -> 263.20219
BA28: AÑO | BB28: SMMLV
A29: 10.1 ACREDITACIÓN DE LA EXPERIENCIA DEL PROPONENTE | BA29: 1990 | BB29: 41025
A30: 10.1.1 CARACTERÍSTICAS DE LOS CONTRATOS PRESENTADOS PARA ACREDITAR LA EXPERIENCIA DEL PROPONENTE | BA30: 1991 | BB30: 51716
