Workbook

Sheet Datos
A2: Antioquia
A3: Atlantico
A4: Bolivar
A5: Boyaca
A6: Caldas
A7: Cauca
A8: Cundinamarca
A9: Choco
A10: Nariño
A11: Meta
A12: Norte
A13: Risaralda
... A17: Valle

Sheet TEcnologia
A2: ITEM | B2: ELEMENTO | C2: FOTO DE SIMILAR O REFERENCIA | D2: ANTIOQUIA | E2: CHOCO | F2: ATLANTICO | L2: BOLIVAR | AB2: BOYACA | AE2: CALDAS | AG2: CUNDINAMARCA | AH2: CAUCA | AN2: HUILA | AZ2: META | BB2: NARIÑO | BC2: NORTE DE SANTANDER | BH2: RISARALDA | BJ2: SANTANDER | BR2: SEDE CENTRAL | BU2: TOLIMA | BV2: VALLE | CD2: TOTAL | CE2: VR UNITARIO | CF2: VR TOTAL
D3: MEDELLIN | E3: QUIBDO | F3: BARRANQUILLA | G3: MALAMBO | H3: SANTA MARTA | I3: VALLEDUPAR | J3: VILLANUEVA | K3: SUAN | L3: CARTAGENA | M3: SINCELEJO | N3: LA UNION | O3: LORICA | P3: TIERRA ALTA | Q3: San Andres | R3: MAGANGUE | S3: SAN ANDRES | T3: MONTERIA | U3: MONPOX | V3: MAJAGUAL | W3: CARMEN DE BOLIVAR | X3: COROZAL | Y3: SAN ANTERO | Z3: SAHAGUN | AA3: RESGUARDO INDIGENA | AB3: TUNJA | AC3: MONIQUIRA | AD3: SOGAMOSO | AE3: MANIZALES | AF3: LA DORADA | AG3: FUSAGASUGA | AH3: POPAYAN | AI3: MIRANDA | AJ3: BORDO | AK3: SANTANDER DE QUILICHAO | AL3: ROSAS | AM3: CALDONO | AN3: NEIVA | AO3: ALGECIRAS | AP3: LA PLATA | AQ3: GARZON | AR3: ACEVEDO | AS3: PITALITO | AT3: FLORENCIA | AU3: PAUJIL | AV3: SAN VICENTE | AW3: MOCOA | AX3: ORITO | AY3: PUERTO ASIS | AZ3: VILLAVICENCIO | BA3: SAN JOSE DEL GUAVIARE | BB3: PASTO | BC3: ARAUQUITA | BD3: ARAUCA | BE3: TAME | BF3: OCAÑA | BG3: CUCUTA | BH3: DOS QUEBRADAS | BI3: ARMENIA | BJ3: BUCARAMANGA | BK3: SANTA ROSA DEL SUR | BL3: SAN GIL | BM3: OIBA | BN3: BARRRANCABERMEJA | BO3: CIMITARRA | BP3: PUENTE NACIONAL | BQ3: MALAGA | BR3: SEDE CENTRAL | BS3: ROSALES | BT3: TEUSAQUILLO | BU3: IBAGUE | BV3: CALI | BW3: BUENAVENTURA | BX3: CARTAGO | BY3: TULUA | BZ3: SEVILLA | CA3: PRADERA | CB3: PALMIRA | CC3: BUGA
A4: 24 | B4: Video Beam 3400 Lúmenes o superior, Resolución XGA (1024x768) o superior, Tecnología DLP, Contraste 2000:1 o superior, vida de la lámpara hasta 5000 horas o superior en modo económico y 3500 o superior en modo normal, corrección keystone +/- 30° o superior, compatibilidad en señales de PC SVGA, XGA, WXGA, WXGA+, SXGA, | E4: 4 | G4: 3 | H4: 1 | I4: 2 | J4: 4 | K4: 2 | L4: 2 | AB4: 2 | AE4: 5 | AG4: 2 | AH4: 1 | AN4: 2 | BH4: 2 | BI4: 2 | BJ4: 2 | BR4: 0 | BU4: 0 | CD4: =SUM(D4:CC4) -> 36 | CE4: 5000000 | CF4: =+CD4*CE4 -> 180000000
A5: 30 | B5: Aire Acondicionado Inverter- Ahorro de Energia, con reffrigerante R410- A , de capacidad 12000 BTU, tipo minisplit,Voltaje: 220v – monofásico o trifásico, eficiencia 3,51 - Purificador de aire: Si - Protección Anticorrosión: Si - Control Remoto: Si - Temporizado: Si. Función de reinicio automático - Funcionamiento silencioso SEER mínimo 16 Certificado AHRI Garantía: 1 año o más. | BH5: 4 | BI5: 4 | CD5: =SUM(D5:CC5) -> 8 | CE5: 2200000 | CF5: =+CD5*CE5 -> 17600000
A6: 21 | B6: Aire Acondicionado Inverter- Ahorro de Energia, con reffrigerante R410- A , de capacidad 18000 BTU, tipo minisplit,Voltaje: 220v – monofásico o trifásico, eficiencia 3,51 - Purificador de aire: Si - Protección Anticorrosión: Si - Control Remoto: Si - Temporizado: Si. Función de reinicio automático - Funcionamiento silencioso SEER mínimo 16 Certificado AHRI Garantía: 1 año o más. | F6: 1 | G6: 4 | I6: 4 | AZ6: 3 | BV6: 1 | CD6: =SUM(D6:CC6) -> 13 | CE6: 3000000 | CF6: =+CD6*CE6 -> 39000000
A7: 32 | B7: Aire Acondicionado Inverter- Ahorro de Energia, con reffrigerante R410- A , de capacidad 24000 BTU, tipo minisplit,Voltaje: 220v – monofásico o trifásico, eficiencia 3,51 - Purificador de aire: Si - Protección Anticorrosión: Si - Control Remoto: Si - Temporizado: Si. Función de reinicio automático - Funcionamiento silencioso SEER mínimo 16 Certificado AHRI Garantía: 1 año o más. | BH7: 2 | BV7: 1 | CD7: =SUM(D7:CC7) -> 3 | CE7: 4500000 | CF7: =+CD7*CE7 -> 13500000

Sheet EM INICIALES
A4: VALOR OFERTA | F4: DESAGREGACION VALOR OFERTA
A5: ITEM | B5: ESPECIFICACIONES TÉCNICAS | C5: CANTIDAD | D5: UNIDAD | E5: PRECIO UNITARIO OFERTADO | F5: COSTO DEL BIEN, SEVICIO U OBRA (insumos, equipos, personal) | G5: GASTOS GENERALES | H5: IMPREVISTOS | I5: UTILIDAD | J5: VALOR COSTO UNITARIO IVA INCLUIDO | K5: PRECIO TOTAL OFERTADO
A6: 1 | B6: Silla giratoria ergonómica con brazos, Ancho: 61 cm., Altura: 102 cm – 115 cm., Altura asiento: 45 cm – 58 cm., Profundidad asiento: 61 cm, Tapizada en paño hilat, color a seleccionar por la ESAP, con carcazas en la espalda y asiento, Acabado en textil Hilat o similar, asiento en espuma inyectada densidad 45, espalda en espuma laminada de alta densidad 50 mm de espesor, carcasas asiento y espalda media en polipropileno, brazos en nylon Graduables. Mecanismo Contacto permanente, que reclina la espalda de 88 hasta 105 grados permitiendo que los pies permanezcan apoyados en el piso, sistema que permite graduar la altura de la espalda y la profundidad del asiento, columna neumática que amortigua los movimientos del cuerpo y permite ajustar la altura, telescopio protector de columna, base en nylon de cinco aspas, rodachinas doble rueda. | C6: 148 | D6: UN | E6: 304009.1 | F6: =E6*80% -> 243207.28 | G6: =E6*5% -> 15200.455 | H6: =E6*5% -> 15200.455 | I6: =E6*10% -> 30400.91 | J6: =SUM(F6:I6) -> 304009.1 | K6: =J6*C6 -> 44993346
A7: 2 | B7: Silla giratoria ergonómica sin brazos, Ancho: 61 cm., Altura: 102 cm – 115 cm., Altura asiento: 45 cm – 58 cm., Profundidad asiento: 61 cm, Tapizada en paño hilat, color a seleccionar por la ESAP, con carcazas en la espalda y asiento, Acabado en textil Hilat o similar, asiento en espuma inyectada densidad 45, espalda en espuma laminada de alta densidad 50 mm de espesor, carcasas asiento y espalda media en polipropileno, brazos en nylon Graduables. Mecanismo Contacto permanente, que reclina la espalda de 88 hasta 105 grados permitiendo que los pies permanezcan apoyados en el piso, sistema que permite graduar la altura de la espalda y la profundidad del asiento, columna neumática que amortigua los movimientos del cuerpo y permite ajustar la altura, telescopio protector de columna, base en nylon de cinco aspas, rodachinas doble rueda. | C7: 25 | D7: UN | E7: 266118.44 | F7: =E7*80% -> 212894.75 | G7: =E7*5% -> 13305.922 | H7: =E7*5% -> 13305.922 | I7: =E7*10% -> 26611.844 | J7: =SUM(F7:I7) -> 266118.44 | K7: =J7*C7 -> 6652961
A8: 3 | B8: Silla gerencial, Ancho: 71 cm., Altura: 117 cm – 126 cm., Altura asiento: 43 cm – 52 cm., Profundidad asiento: 68 cm., asiento en espuma de alta densidad forrado en paño color a seleccionar por la entidad, espaldar en malla elastica con carcaza en polipropileno y fibra de vidrio, asiento, espaldar y apoya brazos de altura ajustables, espladar con inclinación ajustable, Ajuste del respaldo lumbar y apoya cabeza en altura y posición, base en acero cromado de cinco aspas con rodachines . | C8: 39 | D8: UN | E8: 593133.63 | F8: =E8*80% -> 474506.9 | G8: =E8*5% -> 29656.682 | H8: =E8*5% -> 29656.682 | I8: =E8*10% -> 59313.363 | J8: =SUM(F8:I8) -> 593133.63 | K8: =J8*C8 -> 23132212
A9: 4 | B9: Silla interlocutora fija con brazos, Tapizada en paño hilat- con carcazas en la espalda y asiento, base tubo metálica, Silla Interlocutora, Acabado en paño Hilat o similar, asiento en espuma inyectada densidad 45, espalda en espuma laminada de alta densidad 50 mm de espesor, bastidores y carcazas en polipropileno, con brazos, estructura en tubo elíptico 14 * 24 mm., pintura epoxi poliéster de aplicación electrostática. | C9: 34 | D9: UN | E9: 241586.03 | F9: =E9*80% -> 193268.82 | G9: =E9*5% -> 12079.301 | H9: =E9*5% -> 12079.301 | I9: =E9*10% -> 24158.603 | J9: =SUM(F9:I9) -> 241586.03 | K9: =J9*C9 -> 8213924.9
A10: 5 | B10: Archivador Metalico cuatro gavetas, capacidad aprox. 60 carpetas por gaveta. | C10: 22 | D10: UN | E10: 740121.55 | F10: =E10*80% -> 592097.24 | G10: =E10*5% -> 37006.078 | H10: =E10*5% -> 37006.078 | I10: =E10*10% -> 74012.155 | J10: =SUM(F10:I10) -> 740121.55 | K10: =J10*C10 -> 16282674
A11: 6 | B11: Archivo de dos modulos rodantes manual y dos fijos laterales: Parales de 2.00 alto y entrepaños de 0.30 frente mts de fondo x 1,0 de frente, con dobles tope de espaldar y refuerzo, fabricados en lámina CR C16 y C20 respectivamente, con una resistencia de 80 kg peso repartido. Acabos frontales en lámina CR cal 18 en pintura electrostática, color a elegir por la ESAP, puerta con cerradura. Desplazamiento de módulos móviles manualmente, sobre bases y rieles fabricados en ángulo de 1 1/2" x 3/16 de pulgada, accionados mediante manija de empuje manual sobre las ruedas de tracción macizas de hierro maquinado, que incluyen rodamientos sellados de 3,5" de diámetro. Tensores en platina de 3/4 * 1/8 de pulgada. El archivo estará compuesto por dos unidades de consulta fijas y una doble rodante, con una puerta. Las UDC de consulta fijas medirán en su interior 1.0 de frente x 0.30 de fondo x 2.0 m de alto y el panel frontal será de 0,35 de frente por 2,0 de alto y las dobles rodantes serán cada una de 1,0 de frente x 0,60 de fondo (2 de 0,30 m) y 2,0 de alto y el panel frontal será de 0,75 x 2,0 m, la puerta será de 0,75 de frente por 2,0 de alto con llave. Espacios para carpetas tamaño oficio y AZ- Oficio. | C11: 4 | D11: UN | E11: 2766256.3 | F11: =E11*80% -> 2213005 | G11: =E11*5% -> 138312.81 | H11: =E11*5% -> 138312.81 | I11: =E11*10% -> 276625.63 | J11: =SUM(F11:I11) -> 2766256.3 | K11: =J11*C11 -> 11065025
A12: 7 | B12: Silla fija, Ancho: 54 cm, Altura: 81 cm., Altura asiento: 46 cm, Profundidad asiento: 46 cm, con carcazas en la espalda y asiento, base tubo metálica, Acabado en paño Hilat o similar, asiento en espuma inyectada densidad 45, espalda en espuma laminada de alta densidad 50 mm de espesor, bastidores y carcazas en polipropileno, sin brazos, estructura en tubo elíptico 14 * 24 mm., pintura epoxi poliéster de aplicación electrostática. | C12: 103 | D12: UN | E12: 184083.41 | F12: =E12*80% -> 147266.73 | G12: =E12*5% -> 9204.1707 | H12: =E12*5% -> 9204.1707 | I12: =E12*10% -> 18408.341 | J12: =SUM(F12:I12) -> 184083.41 | K12: =J12*C12 -> 18960592
A13: 8 | B13: Silla universitaria con brazo escualizable, Tapizada en paño hilat- con carcazas en la espalda y asiento, base tubo metálica, con carcazas en la espalda y asiento, base tubo metálica, Acabado en paño Hilat o similar, asiento en espuma inyectada densidad 45, espalda en espuma laminada de alta densidad 50 mm de espesor, bastidores y carcazas en polipropileno, con brazos, estructura en tubo elíptico 14 * 24 mm., pintura epoxi poliéster de aplicación electrostática. | C13: 710 | D13: UN | E13: 281639.41 | F13: =E13*80% -> 225311.53 | G13: =E13*5% -> 14081.971 | H13: =E13*5% -> 14081.971 | I13: =E13*10% -> 28163.941 | J13: =SUM(F13:I13) -> 281639.41 | K13: =J13*C13 -> 1.9996398e+08
A14: 9 | B14: Escritorio rectangular para profesor,( 1.60 m de largo x 0.60 ancho) con dos gavetas, bandeja portacables troquelada, superficie en aglomerado, formica y canto en PVC, estructura en lámica C.R. con pintura al horno, faldera en lámina C.R. troquelada | C14: 9 | D14: UN | E14: 688959.76 | F14: =E14*80% -> 551167.81 | G14: =E14*5% -> 34447.988 | H14: =E14*5% -> 34447.988 | I14: =E14*10% -> 68895.976 | J14: =SUM(F14:I14) -> 688959.76 | K14: =J14*C14 -> 6200637.9
A15: 10 | B15: Tablero en acrilico fijado a muro, medidas: 2.40 x 1.20 m., con porta borrador enmarcado, con esquinas perfectamente de lineadas, ángulos perfectos, sin bordes cortantes ni filos, bordes recubiertos por protectores plásticos, al borrar no debe quedar huella Base en aglomerado de 9 mm con balance Enchapado con fórmica, pizarrón blanca, Marco en perfil de aluminio crudo Esquineros en polipropileno redondeados. | C15: 46 | D15: UN | E15: 225588.28 | F15: =E15*80% -> 180470.62 | G15: =E15*5% -> 11279.414 | H15: =E15*5% -> 11279.414 | I15: =E15*10% -> 22558.828 | J15: =SUM(F15:I15) -> 225588.28 | K15: =J15*C15 -> 10377061
A16: 11 | B16: Tablero en acrilico fijado a muro, medidas: 80cm x 60 cm, con portaborrador enmarcado, con esquinas perfectamente de lineadas, ángulos perfectos, sin bordes cortantes ni filos, bordes recubiertos por protectores plásticos, al borrar no debe quedar huella Base en aglomerado de 9 mm con balance Enchapado con fórmica, pizarrón blanca, Marco en perfil de aluminio crudo Esquineros en polipropileno redondeados. | C16: 8 | D16: UN | E16: 118393.85 | F16: =E16*80% -> 94715.08 | G16: =E16*5% -> 5919.6925 | H16: =E16*5% -> 5919.6925 | I16: =E16*10% -> 11839.385 | J16: =SUM(F16:I16) -> 118393.85 | K16: =J16*C16 -> 947150.8
A17: 12 | B17: Tablero en acrilico fijado a muro, medidas: 80cm x 120 cm, con portaborrador enmarcado, con esquinas perfectamente de lineadas, ángulos perfectos, sin bordes cortantes ni filos, bordes recubiertos por protectores plásticos, al borrar no debe quedar huella Base en aglomerado de 9 mm con balance Enchapado con fórmica, pizarrón blanca, Marco en perfil de aluminio crudo Esquineros en polipropileno redondeados. | C17: 11 | D17: UN | E17: 174515.38 | F17: =E17*80% -> 139612.3 | G17: =E17*5% -> 8725.7689 | H17: =E17*5% -> 8725.7689 | I17: =E17*10% -> 17451.538 | J17: =SUM(F17:I17) -> 174515.38 | K17: =J17*C17 -> 1919669.2
... A44: 39 | B44: Contenedor de Basura Elaborado en plástico Tapa con pedal Con ruedas Capacidad de 80 a 85 litros Color Verde Impresión de las palabras “Residuos No aprovechables y Ordinarios” en la cara delantera del contenedor DEBE PRESENTAR EL PICTOGRAMA O SIMBOLO QUE REPRESENTE LOS RESIDUOS A CONTENER SEGÚN RESOLUCION 2184 de 2019 PARA CADA CANECA PERTENECIENTE A LOS PUNTOS ECOLOGICOS | C44: 4 | D44: UN | E44: 308094.93 | F44: =E44*80% -> 246475.94 | G44: =E44*5% -> 15404.747 | H44: =E44*5% -> 15404.747 | I44: =E44*10% -> 30809.493 | J44: =SUM(F44:I44) -> 308094.93 | K44: =J44*C44 -> 1232379.7
A45: VALOR TOTAL, IVA INCLUIDO | K45: =SUM(K6:K44) -> 6.4e+08

Sheet DOTACION INICIAL
A1: 1. OFERTA ECONÓMICA INICIAL
A2: ITEM | B2: ELEMENTO | C2: FOTO DE SIMILAR O REFERENCIA | D2: ANTIOQUIA | E2: CHOCO | F2: ATLANTICO | L2: BOLIVAR | AB2: BOYACA | AE2: CALDAS | AG2: CUNDINAMARCA | AH2: CAUCA | AN2: HUILA | AZ2: META | BB2: NARIÑO | BC2: NORTE DE SANTANDER | BH2: RISARALDA | BJ2: SANTANDER | BR2: SEDE CENTRAL | BU2: TOLIMA | BV2: VALLE | CD2: CANTIDADES TOTALES | CE2: VALOR UNITARIO INCLUIDO IVA | CF2: VALOR TOTAL INCLUIDO IVA
D3: MEDELLIN | E3: QUIBDO | F3: BARRANQUILLA | G3: MALAMBO | H3: SANTA MARTA | I3: VALLEDUPAR | J3: VILLANUEVA | K3: SUAN | L3: CARTAGENA | M3: SINCELEJO | N3: LA UNION | O3: LORICA | P3: TIERRA ALTA | Q3: San Andres | R3: MAGANGUE | S3: SAN ANDRES | T3: MONTERIA | U3: MONPOX | V3: MAJAGUAL | W3: CARMEN DE BOLIVAR | X3: COROZAL | Y3: SAN ANTERO | Z3: SAHAGUN | AA3: RESGUARDO INDIGENA | AB3: TUNJA | AC3: MONIQUIRA | AD3: SOGAMOSO | AE3: MANIZALES | AF3: LA DORADA | AG3: FUSAGASUGA | AH3: POPAYAN | AI3: MIRANDA | AJ3: BORDO | AK3: SANTANDER DE QUILICHAO | AL3: ROSAS | AM3: CALDONO | AN3: NEIVA | AO3: ALGECIRAS | AP3: LA PLATA | AQ3: GARZON | AR3: ACEVEDO | AS3: PITALITO | AT3: FLORENCIA | AU3: PAUJIL | AV3: SAN VICENTE | AW3: MOCOA | AX3: ORITO | AY3: PUERTO ASIS | AZ3: VILLAVICENCIO | BA3: SAN JOSE DEL GUAVIARE | BB3: PASTO | BC3: ARAUQUITA | BD3: ARAUCA | BE3: TAME | BF3: OCAÑA | BG3: CUCUTA | BH3: DOS QUEBRADAS | BI3: ARMENIA | BJ3: BUCARAMANGA | BK3: SANTA ROSA DEL SUR | BL3: SAN GIL | BM3: OIBA | BN3: BARRRANCABERMEJA | BO3: CIMITARRA | BP3: PUENTE NACIONAL | BQ3: MALAGA | BR3: SEDE CENTRAL | BS3: ROSALES | BT3: TEUSAQUILLO | BU3: IBAGUE | BV3: CALI | BW3: BUENAVENTURA | BX3: CARTAGO | BY3: TULUA | BZ3: SEVILLA | CA3: PRADERA | CB3: PALMIRA | CC3: BUGA
A4: 1 | B4: Silla giratoria ergonómica con brazos, Ancho: 61 cm., Altura: 102 cm – 115 cm., Altura asiento: 45 cm – 58 cm., Profundidad asiento: 61 cm, Tapizada en paño hilat, color a seleccionar por la ESAP, con carcazas en la espalda y asiento, Acabado en textil Hilat o similar, asiento en espuma inyectada densidad 45, espalda en espuma laminada de alta densidad 50 mm de espesor, carcasas asiento y espalda media en polipropileno, brazos en nylon Graduables. Mecanismo Contacto permanente, que reclina la espalda de 88 hasta 105 grados permitiendo que los pies permanezcan apoyados en el piso, sistema que permite graduar la altura de la espalda y la profundidad del asiento, columna neumática que amortigua los movimientos del cuerpo y permite ajustar la altura, telescopio protector de columna, base en nylon de cinco aspas, rodachinas doble rueda. GARANTIA DOS (2) AÑOS | D4: 8 | F4: 8 | H4: 1 | I4: 1 | K4: 1 | AE4: 15 | AG4: 20 | AH4: 6 | BC4: 1 | BF4: 1 | BG4: 15 | BH4: 7 | BI4: 4 | BR4: 20 | BU4: 35 | BV4: 5 | CD4: =SUM(D4:CC4) -> 148 | CE4: ='EM INICIALES'!J6 -> 304009.1 | CF4: =+CD4*CE4 -> 44993346
A5: 2 | B5: Silla giratoria ergonómica sin brazos, Ancho: 61 cm., Altura: 102 cm – 115 cm., Altura asiento: 45 cm – 58 cm., Profundidad asiento: 61 cm, Tapizada en paño hilat, color a seleccionar por la ESAP, con carcazas en la espalda y asiento, Acabado en textil Hilat o similar, asiento en espuma inyectada densidad 45, espalda en espuma laminada de alta densidad 50 mm de espesor, carcasas asiento y espalda media en polipropileno, brazos en nylon Graduables. Mecanismo Contacto permanente, que reclina la espalda de 88 hasta 105 grados permitiendo que los pies permanezcan apoyados en el piso, sistema que permite graduar la altura de la espalda y la profundidad del asiento, columna neumática que amortigua los movimientos del cuerpo y permite ajustar la altura, telescopio protector de columna, base en nylon de cinco aspas, rodachinas doble rueda. GARANTIA DOS (2) AÑOS | E5: 10 | AZ5: 15 | BU5: 0 | CD5: =SUM(D5:CC5) -> 25 | CE5: ='EM INICIALES'!J7 -> 266118.44 | CF5: =+CD5*CE5 -> 6652961
A6: 3 | B6: Silla gerencial, Ancho: 71 cm., Altura: 117 cm – 126 cm., Altura asiento: 43 cm – 52 cm., Profundidad asiento: 68 cm., asiento en espuma de alta densidad forrado en paño color a seleccionar por la entidad, espaldar en malla elastica con carcaza en polipropileno y fibra de vidrio, asiento, espaldar y apoya brazos de altura ajustables, espladar con inclinación ajustable, Ajuste del respaldo lumbar y apoya cabeza en altura y posición, base en acero cromado de cinco aspas con rodachines . REF ROMA | D6: 1 | E6: 1 | F6: 2 | AE6: 1 | AZ6: 1 | BH6: 1 | BJ6: 1 | BR6: 30 | BV6: 1 | CD6: =SUM(D6:CC6) -> 39 | CE6: ='EM INICIALES'!J8 -> 593133.63 | CF6: =+CD6*CE6 -> 23132212
A7: 4 | B7: Silla interlocutora fija con brazos, Tapizada en paño hilat- con carcazas en la espalda y asiento, base tubo metálica, Silla Interlocutora, Acabado en paño Hilat o similar, asiento en espuma inyectada densidad 45, espalda en espuma laminada de alta densidad 50 mm de espesor, bastidores y carcazas en polipropileno, con brazos, estructura en tubo elíptico 14 * 24 mm., pintura epoxi poliéster de aplicación electrostática. DOS (2) AÑOS de Garantía. | D7: 12 | E7: 12 | F7: 4 | G7: 2 | I7: 2 | K7: 2 | CD7: =SUM(D7:CC7) -> 34 | CE7: ='EM INICIALES'!J9 -> 241586.03 | CF7: =+CD7*CE7 -> 8213924.9
A8: 5 | B8: Archivador Metalico cuatro gavetas, capacidad aprox. 60 carpetas por gaveta. | E8: 8 | F8: 2 | G8: 1 | I8: 1 | J8: 1 | K8: 1 | BU8: 8 | CD8: =SUM(D8:CC8) -> 22 | CE8: ='EM INICIALES'!J10 -> 740121.55 | CF8: =+CD8*CE8 -> 16282674
A9: 6 | B9: ESTE ITEM REQUIERE INSTALACION. Archivo de dos modulos rodantes manual y dos fijos laterales: Parales de 2.00 alto y entrepaños de 0.30 frente mts de fondo x 1,0 de frente, con dobles tope de espaldar y refuerzo, fabricados en lámina CR C16 y C20 respectivamente, con una resistencia de 80 kg peso repartido. Acabos frontales en lámina CR cal 18 en pintura electrostática, color a elegir por la ESAP, puerta con cerradura. Desplazamiento de módulos móviles manualmente, sobre bases y rieles fabricados en ángulo de 1 1/2" x 3/16 de pulgada, accionados mediante manija de empuje manual sobre las ruedas de tracción macizas de hierro maquinado, que incluyen rodamientos sellados de 3,5" de diámetro. Tensores en platina de 3/4 * 1/8 de pulgada. El archivo estará compuesto por dos unidades de consulta fijas y una doble rodante, con una puerta. Las UDC de consulta fijas medirán en su interior 1.0 de frente x 0.30 de fondo x 2.0 m de alto y el panel frontal será de 0,35 de frente por 2,0 de alto y las dobles rodantes serán cada una de 1,0 de frente x 0,60 de fondo (2 de 0,30 m) y 2,0 de alto y el panel frontal será de 0,75 x 2,0 m, la puerta será de 0,75 de frente por 2,0 de alto con llave. Espacios para carpetas tamaño oficio y AZ- Oficio. GARANTIA 2 AÑOS. | AG9: 2 | BR9: 2 | CD9: =SUM(D9:CC9) -> 4 | CE9: ='EM INICIALES'!J11 -> 2766256.3 | CF9: =+CD9*CE9 -> 11065025
A10: 7 | B10: Silla fija, Ancho: 54 cm, Altura: 81 cm., Altura asiento: 46 cm, Profundidad asiento: 46 cm, con carcazas en la espalda y asiento, base tubo metálica, Acabado en paño Hilat o similar, asiento en espuma inyectada densidad 45, espalda en espuma laminada de alta densidad 50 mm de espesor, bastidores y carcazas en polipropileno, sin brazos, estructura en tubo elíptico 14 * 24 mm., pintura epoxi poliéster de aplicación electrostática. DOS (2) AÑOS de Garantía. | D10: 12 | E10: 20 | G10: 4 | J10: 4 | AG10: 48 | BG10: 15 | CD10: =SUM(D10:CC10) -> 103 | CE10: ='EM INICIALES'!J12 -> 184083.41 | CF10: =+CD10*CE10 -> 18960592
A11: 8 | B11: Silla universitaria con brazo escualizable, Tapizada en paño hilat- con carcazas en la espalda y asiento, base tubo metálica, con carcazas en la espalda y asiento, base tubo metálica, Acabado en paño Hilat o similar, asiento en espuma inyectada densidad 45, espalda en espuma laminada de alta densidad 50 mm de espesor, bastidores y carcazas en polipropileno, con brazos, estructura en tubo elíptico 14 * 24 mm., pintura epoxi poliéster de aplicación electrostática. DOS (2) AÑOS de Garantía. | F11: 120 | G11: 120 | H11: 60 | I11: 90 | J11: 120 | K11: 90 | BB11: 30 | BD11: 30 | BV11: 50 | CD11: =SUM(D11:CC11) -> 710 | CE11: ='EM INICIALES'!J13 -> 281639.41 | CF11: =+CD11*CE11 -> 1.9996398e+08
A12: 9 | B12: Escritorio rectangular para profesor,( 1.60 m de largo x 0.60 ancho) con dos gavetas, bandeja portacables troquelada, superficie en aglomerado, formica y canto en PVC, estructura en lámica C.R. con pintura al horno, faldera en lámina C.R. troquelada | I12: 3 | J12: 6 | CD12: =SUM(D12:CC12) -> 9 | CE12: ='EM INICIALES'!J14 -> 688959.76 | CF12: =+CD12*CE12 -> 6200637.9
A13: 10 | B13: ESTE ITEM REQUIERE INSTALACION. Tablero en acrilico fijado a muro, medidas: 2.40 x 1.20 m., con porta borrador enmarcado, con esquinas perfectamente de lineadas, ángulos perfectos, sin bordes cortantes ni filos, bordes recubiertos por protectores plásticos, al borrar no debe quedar huella Base en aglomerado de 9 mm con balance Enchapado con fórmica, pizarrón blanca, Marco en perfil de aluminio crudo Esquineros en polipropileno redondeados. | G13: 8 | I13: 5 | J13: 7 | Q13: 5 | AE13: 1 | BD13: 5 | BR13: 15 | CD13: =SUM(D13:CC13) -> 46 | CE13: ='EM INICIALES'!J15 -> 225588.28 | CF13: =+CD13*CE13 -> 10377061
A14: 11 | B14: ESTE ITEM REQUIERE INSTALACION.Tablero en acrilico fijado a muro, medidas: 80cm x 60 cm, con portaborrador enmarcado, con esquinas perfectamente de lineadas, ángulos perfectos, sin bordes cortantes ni filos, bordes recubiertos por protectores plásticos, al borrar no debe quedar huella Base en aglomerado de 9 mm con balance Enchapado con fórmica, pizarrón blanca, Marco en perfil de aluminio crudo Esquineros en polipropileno redondeados. | BH14: 4 | BI14: 3 | BR14: 1 | CD14: =SUM(D14:CC14) -> 8 | CE14: ='EM INICIALES'!J16 -> 118393.85 | CF14: =+CD14*CE14 -> 947150.8
A15: 12 | B15: ESTE ITEM REQUIERE INSTALACION. Tablero en acrilico fijado a muro, medidas: 80cm x 120 cm, con portaborrador enmarcado, con esquinas perfectamente de lineadas, ángulos perfectos, sin bordes cortantes ni filos, bordes recubiertos por protectores plásticos, al borrar no debe quedar huella Base en aglomerado de 9 mm con balance Enchapado con fórmica, pizarrón blanca, Marco en perfil de aluminio crudo Esquineros en polipropileno redondeados. | AE15: 10 | BR15: 1 | CD15: =SUM(D15:CC15) -> 11 | CE15: ='EM INICIALES'!J17 -> 174515.38 | CF15: =+CD15*CE15 -> 1919669.2
A16: 13 | B16: Tablero fabricado en mdf de 9mm y laminado en formica blanca para escritura con marcador borrable, medidas 80*120 cms. Estructura movil fabricada en tubo de 2" x 1" , ruedas con freno medida total de la estructura incluido el tablero 185 * 120 cms. Acabados en pintura electrostatica negra o gris. | AH16: 1 | BH16: 1 | BI16: 1 | BU16: 1 | CD16: =SUM(D16:CC16) -> 4 | CE16: ='EM INICIALES'!J18 -> 245933.89 | CF16: =+CD16*CE16 -> 983735.56
A17: 14 | B17: ESTE ITEM REQUIERE INSTALACION. Puestos de trabajo en L autosoportados (1.20 m. de lado x 0.60 m. ancho) con cajonera 2x1 con cerradura, superficie en aglomerado cara superior en fórmica de alta calidad F8 o superior, superficie inferior en balance Backer para evitar pandeos y proteger de la humedad y canto en PVC, erstructura en lámina de acero CR con pintura electroestática, pantalla en vidrio sandblasting (2) h= 0.40 m. y soportes en acero, faldero en lámica C.R. troquelado con pintura electtoestética. Bandeja portacables en lámica C.R. troquelada y pintura electroestática. Perforación rematada por un pasa cables de material plástico o similar que atraviese la superficie. | E17: 1 | G17: 1 | J17: 1 | K17: 1 | CD17: =SUM(D17:CC17) -> 4 | CE17: ='EM INICIALES'!J19 -> 1256921.4 | CF17: =+CD17*CE17 -> 5027685.5
A18: 15 | B18: ESTE ITEM REQUIERE INSTALACION.Estantes metálicos fijados a muro o piso, h=2m. L=0,90m, a=0.30m, con 5 entrepaños y tapa superior, Anaqueles o bandejas en lámina de hierro calibre 1/32″ o chapa 22. Angulos ranurados de lámina de hierro espesor 1/16″ y 2.0mm., terminados con pintura electrostática. | F18: 6 | AN18: 2 | CD18: =SUM(D18:CC18) -> 8 | CE18: ='EM INICIALES'!J20 -> 318845.66 | CF18: =+CD18*CE18 -> 2550765.3
A19: 16 | B19: Kit Base y asta en madera para Bandera Moharra en bronce, brillante. Base en madera 4 niveles. Asta en madera de 2.20 Cms por 6 Cms de diámetro. | D19: 3 | E19: 3 | F19: 3 | L19: 3 | M19: 3 | AB19: 3 | AE19: 3 | AG19: 3 | AH19: 3 | AI19: 3 | AN19: 3 | AZ19: 3 | BA19: 3 | BB19: 3 | BG19: 3 | BI19: 3 | BJ19: 3 | BR19: 3 | BU19: 3 | BV19: 3 | CD19: =SUM(D19:CC19) -> 60 | CE19: ='EM INICIALES'!J21 -> 169191.21 | CF19: =+CD19*CE19 -> 10151473
A20: 17 | B20: BANDERA DE LA ESAP 100% poliéster (+/-2%) tipo de ligamento tafetán peso: (78 gr/m2) (117 gr/m) +/-5% ancho útil 150 (+/-2cm) encogimiento 2% urdido y trama solidez al lavado 4-5, solidez a la luz 4-5 Anclajes laterales con mínimo 3 ojales metálicos costura en hilo industrial no. 40dobles al margen para cabo de izado doble con refuerzo interno. Garantía: 6 meses contra defectos de fabricación Se debe incluir el nombre de la empresa fabricante, fecha de fabricación, mediante la colocación de una etiqueta de 2×5 cm en el reverso, en la manga (borde) de la bandera. logotipo: Aplicado en el centro de la bandera pegado y cocido puede ser sublimado oserigrafiado de acuerdo al requerimiento de la entidad. Medidas: 3.00m X 2.00m | D20: 1 | E20: 1 | F20: 1 | L20: 1 | M20: 1 | AB20: 1 | AC20: 1 | AE20: 1 | AG20: 1 | AH20: 1 | AI20: 1 | AN20: 1 | AZ20: 1 | BA20: 1 | BB20: 1 | BG20: 1 | BH20: 1 | BI20: 1 | BJ20: 1 | BR20: 2 | BU20: 1 | BV20: 2 | CD20: =SUM(D20:CC20) -> 24 | CE20: ='EM INICIALES'!J22 -> 243471.8 | CF20: =+CD20*CE20 -> 5843323.1
A21: 18 | B21: BANDERA DE COLOMBIA 100% poliéster (+/-2%) tipo de ligamento tafetán peso: (78 gr/m2) (117 gr/m) +/-5% ancho útil 150 (+/-2cm) encogimiento 2% urdido y trama solidez al lavado 4-5, solidez a la luz 4-5 Anclajes laterales con mínimo 3 ojales metálicos costura en hilo industrial no. 40dobles al margen para cabo de izado doble con refuerzo interno. Garantía: 6 meses contra defectos de fabricación Se debe incluir el nombre de la empresa fabricante, fecha de fabricación, mediante la colocación de una etiqueta de 2×5 cm en el reverso, en la manga (borde) de la bandera. logotipo: Aplicado en el centro de la bandera pegado y cocido puede ser sublimado oserigrafiado de acuerdo al requerimiento de la entidad. Medidas: 3.00m X 2.00m | D21: 1 | E21: 1 | F21: 1 | L21: 1 | M21: 1 | AB21: 1 | AC21: 1 | AE21: 1 | AG21: 1 | AH21: 1 | AI21: 1 | AN21: 1 | AZ21: 1 | BA21: 1 | BB21: 1 | BG21: 1 | BH21: 1 | BI21: 1 | BJ21: 1 | BR21: 2 | BU21: 1 | BV21: 2 | CD21: =SUM(D21:CC21) -> 24 | CE21: ='EM INICIALES'!J23 -> 252360.22 | CF21: =+CD21*CE21 -> 6056645.4
A22: 19 | B22: BANDERA DEPARTAMENTAL 100% poliéster (+/-2%) tipo de ligamento tafetán peso: (78 gr/m2) (117 gr/m) +/-5% ancho útil 150 (+/-2cm) encogimiento 2% urdido y trama solidez al lavado 4-5, solidez a la luz 4-5 Anclajes laterales con mínimo 3 ojales metálicos costura en hilo industrial no. 40dobles al margen para cabo de izado doble con refuerzo interno. Garantía: 6 meses contra defectos de fabricación Se debe incluir el nombre de la empresa fabricante, fecha de fabricación, mediante la colocación de una etiqueta de 2×5 cm en el reverso, en la manga (borde) de la bandera. logotipo: Aplicado en el centro de la bandera pegado y cocido puede ser sublimado oserigrafiado de acuerdo al requerimiento de la entidad. Medidas: 3.00m X 2.00m | D22: 1 | E22: 1 | F22: 1 | L22: 1 | M22: 1 | AB22: 1 | AC22: 1 | AE22: 1 | AG22: 1 | AH22: 1 | AI22: 1 | AN22: 1 | AZ22: 1 | BA22: 1 | BB22: 1 | BG22: 1 | BH22: 1 | BI22: 1 | BJ22: 1 | BR22: 2 | BU22: 1 | BV22: 1 | CD22: =SUM(D22:CC22) -> 23 | CE22: ='EM INICIALES'!J24 -> 252360.22 | CF22: =+CD22*CE22 -> 5804285.1
A23: 20 | B23: Basurera: Alto: 30 cms. Frente: 25 cms. Estructura: Lámina lisa cr c20. Fondo: lámina lisa cr c22. Peso: 1.86 kg. Acabado: pintura electrostática previo desengrase y fosfatado. Colores: estándar aluminios, gris nopal, gris tronado y negro | D23: 2 | CD23: =SUM(D23:CC23) -> 2 | CE23: ='EM INICIALES'!J25 -> 81133.563 | CF23: =+CD23*CE23 -> 162267.13
A24: 21 | B24: Ventilador de pedestal/pie de 18” portátil, 3 velocidades, Ventilador de pie con 5 aspas y asa ergonómica integrada para transportarlo, Oscilación automática para una mayor difusión del aire; orientación y altura ajustable, Rejilla reforzada para la seguridad infantil que impide introducir una mano o un dedo en las aspas, ruido 45 dB(A), material: metal platico, con 5 aspas y asa ergonómica integrada para transportarlo | Q24: 10 | AE24: 30 | BC24: 4 | BE24: 4 | BH24: 8 | BI24: 6 | BO24: 3 | BV24: 20 | CD24: =SUM(D24:CC24) -> 85 | CE24: ='EM INICIALES'!J26 -> 139159.88 | CF24: =+CD24*CE24 -> 11828590
A25: 22 | B25: Conjunto de mesa para exterior en madera teka tratada para soportar la intemperie, sillas incluidas (4 personas) en el mismo material. Con sombrilla en tela polyester lavable de armado sencillo, y con traba de seguridad | AG25: 4 | AH25: 8 | BH25: 6 | BR25: 12 | BU25: 4 | CD25: =SUM(D25:CC25) -> 34 | CE25: ='EM INICIALES'!J27 -> 2077723.2 | CF25: =+CD25*CE25 -> 70642588
A26: 23 | B26: Silla de ruedas Estructura en acero cromado. Plegable, apoya brazos abatibles. Tapiz de respaldo en Engomado 600 relleno en espuma densidad 25. Tapiz de asiento en lona impermeable con refuerzo tejido de fibra. Apoya pies desmontables de altura regulable. Ruedas delanteras 7” maciza. Ruedas traseras aro 24, aro propulsor y freno Ancho del asiento: 44cm. Y 40 cm. Profundidad del asiento: 40 cm. | D26: 1 | E26: 1 | F26: 1 | L26: 1 | M26: 1 | AG26: 1 | AH26: 1 | AZ26: 0 | BB26: 1 | BH26: 1 | BI26: 1 | BJ26: 2 | BU26: 1 | BV26: 0 | CD26: =SUM(D26:CC26) -> 13 | CE26: ='EM INICIALES'!J28 -> 387913.18 | CF26: =+CD26*CE26 -> 5042871.4
A27: 24 | B27: Escaleras Dieléctricas - Fibra de Vidrio Cumplen con las normas ANSI 14.2 - AUTOSOPORTADA TIPO TIJERA Rango de Medidas DE 0,91 m hasta 6,10 m Material largueros PLASTICO REFORZADO CON FIBRA DE VIDRIO Material peldaños ALUMINIO Capacidad de carga 300 lb - 136 kg Numero de secciones 1 Tipo de escalera IA Capacidad dieléctrica C.A.90.000 V C.D. 25.000 V Elaboración FABRICADO BAJO NORMA ANSI ASC A14.5:2017 Accesorios Bandeja plástica, Zapatas antideslizantes | D27: 1 | E27: 1 | F27: 1 | L27: 1 | M27: 1 | AH27: 1 | AZ27: 1 | BB27: 1 | BH27: 1 | BI27: 1 | BJ27: 1 | BU27: 1 | BV27: 1 | CD27: =SUM(D27:CC27) -> 13 | CE27: ='EM INICIALES'!J29 -> 2689726.9 | CF27: =+CD27*CE27 -> 34966450
A28: 25 | B28: Cartelera en corcho Medidas: 80 cm largo x 60 cm alto (Este item requiere instalación) Características: diseño tradicional, de alta calidad, resistente y duradera, con marco. Material: Corcho Color Café, plateado | AG28: 2 | BE28: 1 | BG28: 4 | BU28: 2 | CD28: =SUM(D28:CC28) -> 9 | CE28: ='EM INICIALES'!J30 -> 125237.94 | CF28: =+CD28*CE28 -> 1127141.4
A29: 26 | B29: CARRETA SUPER LIVIANA ( 16 Kilos) 2 MODOS DE USO (en dos ruedas o en 4 ruedas) Soporta CARGA (300LB ) , HECHA CON MATERIALES ALUMINIO CALIDAD INDUSTRIAL LIVIANOS Y RESISTENTES, DE MUY FACIL PLEGADO, DIMENSIONES: ( 55 CMS, X 53 CMS X 125 CMS), ERGONÓMICO - Reduce el riesgo de lesiones, fatiga y tensión muscular. FUERTE - Capacidad de 300 lb en la posición 4 ruedas. FÁCIL DE MOVER - Llantas Para Trabajo Pesado. FÁCIL DE USAR - conversión rápida con una sola mano, sin tornillos o herramientas. LIGERO - de aluminio de calidad comercial - Fácil de manejar, ideal tanto para la industria,hogar como la oficina.Cargador manual fabricado en aluminio | L29: 1 | AE29: 1 | AG29: 1 | AH29: 1 | BH29: 1 | BJ29: 1 | BR29: 1 | BU29: 1 | CD29: =SUM(D29:CC29) -> 8 | CE29: ='EM INICIALES'!J31 -> 281805.36 | CF29: =+CD29*CE29 -> 2254442.9
A30: 27 | B30: ESTE ITEM REQUIERE INSTALACION. Cartelera Tablero de corcho 112x72cm espesor 3 mm , su cara interior forrada con tela fieltro, color azul oscura y sujeta a la cara posterior del tablero de corcho con pega en la cual la tela cubrirá 10 cm desde el perímetro del tablero.  EL tablero de MDF delgado 112x72cm espesor 3 mm se colocara junta a la cara posterior del tablero de corcho.  Los dos tableros se ubicarán en el lado posterior de la estructura y será enmarcado con un ángulo de aluminio 10 x 10 mm y espesor 1 mm, a la cual se sujetaran ambos elementos con remaches | F30: 2 | G30: 1 | I30: 1 | J30: 1 | K30: 1 | CD30: =SUM(D30:CC30) -> 6 | CE30: ='EM INICIALES'!J32 -> 725682.3 | CF30: =+CD30*CE30 -> 4354093.8
A31: 28 | B31: Estiba Plastica Medida: 1.00 x 1.20 x 15 cm Resistencia en estática: Desde 3.000 Kg a 5.000 Kg. Resistencia en dinámica: De 1.000 kg a 1.500 kg Material: Plásticos pos industriales y polipropileno Almacenamiento: Piso, piso y rack. Entradas: Dos y cuatro Superficie: Plana Propiedades: Resistencia al impacto, rigidez, frío y calor. | BR31: 20 | CD31: =SUM(D31:CC31) -> 20 | CE31: ='EM INICIALES'!J33 -> 230146.27 | CF31: =+CD31*CE31 -> 4602925.3
A32: 29 | B32: Horno Microhondas Trabajo pesado. Especial para dobles porciones. Descongelamiento automático. 10 botones programables en diferentes opciones. Memoria anti fallos de luz. Reloj indicador de gran visibilidad. Apropiado para calentar almuerzos. Capacidad: 0.8 pie cúbico. Dimensiones internas: 33 x 33 x 20 cm. Dimensiones externas: 51 x 36 x 30 cm. Potencia: 1.000 Wh., 110 V. 1 año de garantía Capacidad para 4 portacomidas, hasta de quince 15 centímetros de diámetro. El tiempo promedio para calentar los 4 almuerzos es de 3 minutos | D32: 2 | E32: 1 | F32: 2 | L32: 2 | M32: 1 | AB32: 1 | AE32: 1 | AG32: 2 | AH32: 2 | AZ32: 1 | BB32: 2 | BG32: 1 | BH32: 2 | BI32: 1 | BJ32: 2 | BR32: 8 | BS32: 1 | BT32: 1 | BU32: 2 | BV32: 2 | CD32: =SUM(D32:CC32) -> 37 | CE32: ='EM INICIALES'!J34 -> 1581784.5 | CF32: =+CD32*CE32 -> 58526026
A33: 30 | B33: Caja Fuerte Digital 31x20x20cm ( Tesoreria) Teclado, Clave y llave Capacidad 8,5lt Anclaje a piso Modo de apertura: Clave- Llave Picaporte Mecanico Tamaño Pequeña | BR33: 1 | CD33: =SUM(D33:CC33) -> 1 | CE33: ='EM INICIALES'!J35 -> 202353.49 | CF33: =+CD33*CE33 -> 202353.49
A34: 31 | B34: Nevera No frost ( Sala Amiga) Tipo Pequeño Entre 230 y 260 lt de capacacidad Ancho : Entre 55 y 65 cm Alto: Entre 130 cm y 160 Cm Tecnología Home Energy Saver. Cuida el ambiente con el compresor Eco Advance y gas refrigerante R600a. Total Fresh Flow Consumo Energetico 28.2 kWh/mes Control de Temperatura, Luz iterna, sin bandeja de huevos Material de Bandejas en Nevera: Cristal Templado | BR34: 1 | CD34: =SUM(D34:CC34) -> 1 | CE34: ='EM INICIALES'!J36 -> 1130154.6 | CF34: =+CD34*CE34 -> 1130154.6
A35: 32 | B35: Poltrona (Sala Amiga) Poltronas fijas Ancho: 70 centímetros Largo: 65 centímetros Material: Facil de limpiar Alto: 65 centímetros Color a Elección. | BR35: 2 | CD35: =SUM(D35:CC35) -> 2 | CE35: ='EM INICIALES'!J37 -> 539138.66 | CF35: =+CD35*CE35 -> 1078277.3
A36: 33 | B36: Papelera Cuerpo metálico enmallado con tapa Pedal Con capacidad mínima de 10 litros Diseño para baños DEBE PRESENTAR EL PICTOGRAMA O SIMBOLO QUE REPRESENTE LOS RESIDUOS A CONTENER SEGÚN RESOLUCION 2184 de 2019 | F36: 7 | M36: 4 | AB36: 6 | AC36: 8 | AD36: 2 | AG36: 15 | AH36: 20 | AN36: 2 | AZ36: 7 | BB36: 15 | BG36: 15 | BH36: 20 | BI36: 6 | BJ36: 18 | BU36: 10 | BV36: 10 | CD36: =SUM(D36:CC36) -> 165 | CE36: ='EM INICIALES'!J38 -> 78771.908 | CF36: =+CD36*CE36 -> 12997365
A37: 34 | B37: Punto Ecológico Base metálica con tablero tres puestos Mínimo tres contenedores así: Color blanco: Para depositar los residuos aprovechables como plástico, botellas, latas, vidrio, metales, papel y cartón. - Este tipo de caneca debe ir con el nombre de Residuos Aprovechables Color negro: Para depositar residuos no aprovechables como el papel higiénico; servilletas, papeles y cartones contaminados con comida; papeles metalizados, entre otros. -Este tipo de caneca debe ir con el nombre de Residuos No Aprovechables u ordinarios. Color verde: Para depositar residuos orgánicos aprovechables como los restos de comida, desechos agrícolas etc.- Este tipo de caneca debe ir con el nombre de Residuos Orgánicos Capacidad 35 litros Contenedores elaborados en plástico DEBE PRESENTAR EL PICTOGRAMA O SIMBOLO QUE REPRESENTE LOS RESIDUOS A CONTENER SEGÚN RESOLUCION 2184 de 2019 PARA CADA CANECA PERTENECIENTE A LOS PUNTOS ECOLOGICOS | D37: 2 | E37: 2 | F37: 2 | L37: 2 | M37: 2 | AB37: 1 | AC37: 2 | AE37: 3 | AG37: 5 | AH37: 8 | AN37: 1 | AZ37: 1 | BB37: 1 | BD37: 1 | BG37: 1 | BH37: 4 | BI37: 3 | BJ37: 2 | BR37: 6 | BU37: 2 | BV37: 1 | CD37: =SUM(D37:CC37) -> 52 | CE37: ='EM INICIALES'!J39 -> 641847.72 | CF37: =+CD37*CE37 -> 33376082
A38: 35 | B38: Punto Ecológico con techo 53 litros tres puestos Base metálica Mínimo tres contenedores así: Color blanco: Para depositar los residuos aprovechables como plástico, botellas, latas, vidrio, metales, papel y cartón. - Este tipo de caneca debe ir con el nombre de Residuos Aprovechables Color negro: Para depositar residuos no aprovechables como el papel higiénico; servilletas, papeles y cartones contaminados con comida; papeles metalizados, entre otros. -Este tipo de caneca debe ir con el nombre de Residuos No Aprovechables u ordinarios. Color verde: Para depositar residuos orgánicos aprovechables como los restos de comida, desechos agrícolas etc.- Este tipo de caneca debe ir con el nombre de Residuos Orgánicos Capacidad 53 litros Contenedores elaborados en plástico DEBE PRESENTAR EL PICTOGRAMA O SIMBOLO QUE REPRESENTE LOS RESIDUOS A CONTENER SEGÚN RESOLUCION 2184 de 2019 PARA CADA CANECA PERTENECIENTE A LOS PUNTOS ECOLOGICOS | AH38: 2 | BR38: 3 | CD38: =SUM(D38:CC38) -> 5 | CE38: ='EM INICIALES'!J40 -> 543002.46 | CF38: =+CD38*CE38 -> 2715012.3
A39: 36 | B39: Contenedor de Basura Elaborado en plástico Tapa con pedal Con ruedas Capacidad de 80 a 85 litros Color Negro Impresión de las palabras “Residuos No aprovechables y Ordinarios” en la cara delantera del contenedor DEBE PRESENTAR EL PICTOGRAMA O SIMBOLO QUE REPRESENTE LOS RESIDUOS A CONTENER SEGÚN RESOLUCION 2184 de 2019 PARA CADA CANECA PERTENECIENTE A LOS PUNTOS ECOLOGICOS | F39: 1 | L39: 1 | M39: 1 | AE39: 1 | AG39: 4 | AH39: 2 | BB39: 2 | BH39: 1 | BI39: 1 | BJ39: 2 | BR39: 1 | CD39: =SUM(D39:CC39) -> 17 | CE39: ='EM INICIALES'!J41 -> 308351.09 | CF39: =+CD39*CE39 -> 5241968.6
A40: 37 | B40: Contenedor de Basura Elaborado en plástico Tapa con pedal Con ruedas Capacidad de 80 a 85 litros Color Blanco Impresión de las palabras “Residuos No aprovechables y Ordinarios” en la cara delantera del contenedor DEBE PRESENTAR EL PICTOGRAMA O SIMBOLO QUE REPRESENTE LOS RESIDUOS A CONTENER SEGÚN RESOLUCION 2184 de 2019 PARA CADA CANECA PERTENECIENTE A LOS PUNTOS ECOLOGICOS | L40: 1 | M40: 1 | AG40: 1 | BG40: 1 | BH40: 1 | BI40: 1 | BJ40: 2 | CD40: =SUM(D40:CC40) -> 8 | CE40: ='EM INICIALES'!J42 -> 308351.09 | CF40: =+CD40*CE40 -> 2466808.7
...

Sheet BALANCE MAYORES Y MENORES
A1: 2. BALANCE DE MAYORES Y MENORES CANTIDADES DE LA OFERTA ECONÓMICA INICIAL
A2: ITEM | B2: ELEMENTO | C2: FOTO DE SIMILAR O REFERENCIA | D2: ANTIOQUIA | E2: CHOCO | F2: ATLANTICO | L2: BOLIVAR | AB2: BOYACA | AE2: CALDAS | AG2: CUNDINAMARCA | AH2: CAUCA | AN2: HUILA | AZ2: META | BB2: NARIÑO | BC2: NORTE DE SANTANDER | BH2: RISARALDA | BJ2: SANTANDER | BR2: SEDE CENTRAL | BU2: TOLIMA | BV2: VALLE | CD2: CANTIDADES TOTALES | CE2: VALOR UNITARIO INCLUIDO IVA | CF2: VALOR TOTAL INCLUIDO IVA
D3: MEDELLIN | E3: QUIBDO | F3: BARRANQUILLA | G3: MALAMBO | H3: SANTA MARTA | I3: VALLEDUPAR | J3: VILLANUEVA | K3: SUAN | L3: CARTAGENA | M3: SINCELEJO | N3: LA UNION | O3: LORICA | P3: TIERRA ALTA | Q3: San Andres | R3: MAGANGUE | S3: SAN ANDRES | T3: MONTERIA | U3: MONPOX | V3: MAJAGUAL | W3: CARMEN DE BOLIVAR | X3: COROZAL | Y3: SAN ANTERO | Z3: SAHAGUN | AA3: RESGUARDO INDIGENA | AB3: TUNJA | AC3: MONIQUIRA | AD3: SOGAMOSO | AE3: MANIZALES | AF3: LA DORADA | AG3: FUSAGASUGA | AH3: POPAYAN | AI3: MIRANDA | AJ3: BORDO | AK3: SANTANDER DE QUILICHAO | AL3: ROSAS | AM3: CALDONO | AN3: NEIVA | AO3: ALGECIRAS | AP3: LA PLATA | AQ3: GARZON | AR3: ACEVEDO | AS3: PITALITO | AT3: FLORENCIA | AU3: PAUJIL | AV3: SAN VICENTE | AW3: MOCOA | AX3: ORITO | AY3: PUERTO ASIS | AZ3: VILLAVICENCIO | BA3: SAN JOSE DEL GUAVIARE | BB3: PASTO | BC3: ARAUQUITA | BD3: ARAUCA | BE3: TAME | BF3: OCAÑA | BG3: CUCUTA | BH3: DOS QUEBRADAS | BI3: ARMENIA | BJ3: BUCARAMANGA | BK3: SANTA ROSA DEL SUR | BL3: SAN GIL | BM3: OIBA | BN3: BARRRANCABERMEJA | BO3: CIMITARRA | BP3: PUENTE NACIONAL | BQ3: MALAGA | BR3: SEDE CENTRAL | BS3: ROSALES | BT3: TEUSAQUILLO | BU3: IBAGUE | BV3: CALI | BW3: BUENAVENTURA | BX3: CARTAGO | BY3: TULUA | BZ3: SEVILLA | CA3: PRADERA | CB3: PALMIRA | CC3: BUGA
A4: 1 | B4: Silla giratoria ergonómica con brazos, Ancho: 61 cm., Altura: 102 cm – 115 cm., Altura asiento: 45 cm – 58 cm., Profundidad asiento: 61 cm, Tapizada en paño hilat, color a seleccionar por la ESAP, con carcazas en la espalda y asiento, Acabado en textil Hilat o similar, asiento en espuma inyectada densidad 45, espalda en espuma laminada de alta densidad 50 mm de espesor, carcasas asiento y espalda media en polipropileno, brazos en nylon Graduables. Mecanismo Contacto permanente, que reclina la espalda de 88 hasta 105 grados permitiendo que los pies permanezcan apoyados en el piso, sistema que permite graduar la altura de la espalda y la profundidad del asiento, columna neumática que amortigua los movimientos del cuerpo y permite ajustar la altura, telescopio protector de columna, base en nylon de cinco aspas, rodachinas doble rueda. GARANTIA DOS (2) AÑOS | D4: ='DOTACION ACTUALIZADA'!D4-'DOTACION INICIAL'!D4 -> -8 | E4: ='DOTACION ACTUALIZADA'!E4-'DOTACION INICIAL'!E4 -> 8 | F4: ='DOTACION ACTUALIZADA'!F4-'DOTACION INICIAL'!F4 -> 4 | G4: ='DOTACION ACTUALIZADA'!G4-'DOTACION INICIAL'!G4 -> 1 | H4: ='DOTACION ACTUALIZADA'!H4-'DOTACION INICIAL'!H4 -> 2 | I4: ='DOTACION ACTUALIZADA'!I4-'DOTACION INICIAL'!I4 -> 3 | J4: ='DOTACION ACTUALIZADA'!J4-'DOTACION INICIAL'!J4 -> 2 | K4: ='DOTACION ACTUALIZADA'!K4-'DOTACION INICIAL'!K4 -> 0 | ... CC4: ='DOTACION ACTUALIZADA'!CC4-'DOTACION INICIAL'!CC4 -> 0 | CD4: =SUM(D4:CC4) -> 105 | CE4: ='EM INICIALES'!J6 -> 304009.1 | CF4: =+CD4*CE4 -> 31920955
A5: 2 | B5: Silla giratoria ergonómica sin brazos, Ancho: 61 cm., Altura: 102 cm – 115 cm., Altura asiento: 45 cm – 58 cm., Profundidad asiento: 61 cm, Tapizada en paño hilat, color a seleccionar por la ESAP, con carcazas en la espalda y asiento, Acabado en textil Hilat o similar, asiento en espuma inyectada densidad 45, espalda en espuma laminada de alta densidad 50 mm de espesor, carcasas asiento y espalda media en polipropileno, brazos en nylon Graduables. Mecanismo Contacto permanente, que reclina la espalda de 88 hasta 105 grados permitiendo que los pies permanezcan apoyados en el piso, sistema que permite graduar la altura de la espalda y la profundidad del asiento, columna neumática que amortigua los movimientos del cuerpo y permite ajustar la altura, telescopio protector de columna, base en nylon de cinco aspas, rodachinas doble rueda. GARANTIA DOS (2) AÑOS | D5: ='DOTACION ACTUALIZADA'!D5-'DOTACION INICIAL'!D5 -> 20 | E5: ='DOTACION ACTUALIZADA'!E5-'DOTACION INICIAL'!E5 -> 0 | F5: ='DOTACION ACTUALIZADA'!F5-'DOTACION INICIAL'!F5 -> 0 | G5: ='DOTACION ACTUALIZADA'!G5-'DOTACION INICIAL'!G5 -> 0 | H5: ='DOTACION ACTUALIZADA'!H5-'DOTACION INICIAL'!H5 -> 0 | I5: ='DOTACION ACTUALIZADA'!I5-'DOTACION INICIAL'!I5 -> 0 | J5: ='DOTACION ACTUALIZADA'!J5-'DOTACION INICIAL'!J5 -> 0 | K5: ='DOTACION ACTUALIZADA'!K5-'DOTACION INICIAL'!K5 -> 0 | ... CC5: ='DOTACION ACTUALIZADA'!CC5-'DOTACION INICIAL'!CC5 -> 0 | CD5: =SUM(D5:CC5) -> 26 | CE5: ='EM INICIALES'!J7 -> 266118.44 | CF5: =+CD5*CE5 -> 6919079.5
A6: 3 | B6: Silla gerencial, Ancho: 71 cm., Altura: 117 cm – 126 cm., Altura asiento: 43 cm – 52 cm., Profundidad asiento: 68 cm., asiento en espuma de alta densidad forrado en paño color a seleccionar por la entidad, espaldar en malla elastica con carcaza en polipropileno y fibra de vidrio, asiento, espaldar y apoya brazos de altura ajustables, espladar con inclinación ajustable, Ajuste del respaldo lumbar y apoya cabeza en altura y posición, base en acero cromado de cinco aspas con rodachines . REF ROMA | D6: ='DOTACION ACTUALIZADA'!D6-'DOTACION INICIAL'!D6 -> 2 | E6: ='DOTACION ACTUALIZADA'!E6-'DOTACION INICIAL'!E6 -> 0 | F6: ='DOTACION ACTUALIZADA'!F6-'DOTACION INICIAL'!F6 -> 4 | G6: ='DOTACION ACTUALIZADA'!G6-'DOTACION INICIAL'!G6 -> 0 | H6: ='DOTACION ACTUALIZADA'!H6-'DOTACION INICIAL'!H6 -> 3 | I6: ='DOTACION ACTUALIZADA'!I6-'DOTACION INICIAL'!I6 -> 3 | J6: ='DOTACION ACTUALIZADA'!J6-'DOTACION INICIAL'!J6 -> 0 | K6: ='DOTACION ACTUALIZADA'!K6-'DOTACION INICIAL'!K6 -> 0 | ... CC6: ='DOTACION ACTUALIZADA'!CC6-'DOTACION INICIAL'!CC6 -> 0 | CD6: =SUM(D6:CC6) -> 111 | CE6: ='EM INICIALES'!J8 -> 593133.63 | CF6: =+CD6*CE6 -> 65837833
A7: 4 | B7: Silla interlocutora fija con brazos, Tapizada en paño hilat- con carcazas en la espalda y asiento, base tubo metálica, Silla Interlocutora, Acabado en paño Hilat o similar, asiento en espuma inyectada densidad 45, espalda en espuma laminada de alta densidad 50 mm de espesor, bastidores y carcazas en polipropileno, con brazos, estructura en tubo elíptico 14 * 24 mm., pintura epoxi poliéster de aplicación electrostática. DOS (2) AÑOS de Garantía. | D7: ='DOTACION ACTUALIZADA'!D7-'DOTACION INICIAL'!D7 -> 0 | E7: ='DOTACION ACTUALIZADA'!E7-'DOTACION INICIAL'!E7 -> 0 | F7: ='DOTACION ACTUALIZADA'!F7-'DOTACION INICIAL'!F7 -> 2 | G7: ='DOTACION ACTUALIZADA'!G7-'DOTACION INICIAL'!G7 -> 0 | H7: ='DOTACION ACTUALIZADA'!H7-'DOTACION INICIAL'!H7 -> 4 | I7: ='DOTACION ACTUALIZADA'!I7-'DOTACION INICIAL'!I7 -> 2 | J7: ='DOTACION ACTUALIZADA'!J7-'DOTACION INICIAL'!J7 -> 2 | K7: ='DOTACION ACTUALIZADA'!K7-'DOTACION INICIAL'!K7 -> 0 | ... CC7: ='DOTACION ACTUALIZADA'!CC7-'DOTACION INICIAL'!CC7 -> 0 | CD7: =SUM(D7:CC7) -> 36 | CE7: ='EM INICIALES'!J9 -> 241586.03 | CF7: =+CD7*CE7 -> 8697097
A8: 5 | B8: Archivador Metalico cuatro gavetas, capacidad aprox. 60 carpetas por gaveta. | D8: ='DOTACION ACTUALIZADA'!D8-'DOTACION INICIAL'!D8 -> 0 | E8: ='DOTACION ACTUALIZADA'!E8-'DOTACION INICIAL'!E8 -> 0 | F8: ='DOTACION ACTUALIZADA'!F8-'DOTACION INICIAL'!F8 -> -1 | G8: ='DOTACION ACTUALIZADA'!G8-'DOTACION INICIAL'!G8 -> 0 | H8: ='DOTACION ACTUALIZADA'!H8-'DOTACION INICIAL'!H8 -> 1 | I8: ='DOTACION ACTUALIZADA'!I8-'DOTACION INICIAL'!I8 -> 3 | J8: ='DOTACION ACTUALIZADA'!J8-'DOTACION INICIAL'!J8 -> 0 | K8: ='DOTACION ACTUALIZADA'!K8-'DOTACION INICIAL'!K8 -> 0 | ... CC8: ='DOTACION ACTUALIZADA'!CC8-'DOTACION INICIAL'!CC8 -> 0 | CD8: =SUM(D8:CC8) -> 5 | CE8: ='EM INICIALES'!J10 -> 740121.55 | CF8: =+CD8*CE8 -> 3700607.8
A9: 6 | B9: ESTE ITEM REQUIERE INSTALACION. Archivo de dos modulos rodantes manual y dos fijos laterales: Parales de 2.00 alto y entrepaños de 0.30 frente mts de fondo x 1,0 de frente, con dobles tope de espaldar y refuerzo, fabricados en lámina CR C16 y C20 respectivamente, con una resistencia de 80 kg peso repartido. Acabos frontales en lámina CR cal 18 en pintura electrostática, color a elegir por la ESAP, puerta con cerradura. Desplazamiento de módulos móviles manualmente, sobre bases y rieles fabricados en ángulo de 1 1/2" x 3/16 de pulgada, accionados mediante manija de empuje manual sobre las ruedas de tracción macizas de hierro maquinado, que incluyen rodamientos sellados de 3,5" de diámetro. Tensores en platina de 3/4 * 1/8 de pulgada. El archivo estará compuesto por dos unidades de consulta fijas y una doble rodante, con una puerta. Las UDC de consulta fijas medirán en su interior 1.0 de frente x 0.30 de fondo x 2.0 m de alto y el panel frontal será de 0,35 de frente por 2,0 de alto y las dobles rodantes serán cada una de 1,0 de frente x 0,60 de fondo (2 de 0,30 m) y 2,0 de alto y el panel frontal será de 0,75 x 2,0 m, la puerta será de 0,75 de frente por 2,0 de alto con llave. Espacios para carpetas tamaño oficio y AZ- Oficio. GARANTIA 2 AÑOS. | D9: ='DOTACION ACTUALIZADA'!D9-'DOTACION INICIAL'!D9 -> 0 | E9: ='DOTACION ACTUALIZADA'!E9-'DOTACION INICIAL'!E9 -> 3 | F9: ='DOTACION ACTUALIZADA'!F9-'DOTACION INICIAL'!F9 -> 2 | G9: ='DOTACION ACTUALIZADA'!G9-'DOTACION INICIAL'!G9 -> 0 | H9: ='DOTACION ACTUALIZADA'!H9-'DOTACION INICIAL'!H9 -> 0 | I9: ='DOTACION ACTUALIZADA'!I9-'DOTACION INICIAL'!I9 -> 0 | J9: ='DOTACION ACTUALIZADA'!J9-'DOTACION INICIAL'!J9 -> 0 | K9: ='DOTACION ACTUALIZADA'!K9-'DOTACION INICIAL'!K9 -> 0 | ... CC9: ='DOTACION ACTUALIZADA'!CC9-'DOTACION INICIAL'!CC9 -> 0 | CD9: =SUM(D9:CC9) -> 7 | CE9: ='EM INICIALES'!J11 -> 2766256.3 | CF9: =+CD9*CE9 -> 19363794
A10: 7 | B10: Silla fija, Ancho: 54 cm, Altura: 81 cm., Altura asiento: 46 cm, Profundidad asiento: 46 cm, con carcazas en la espalda y asiento, base tubo metálica, Acabado en paño Hilat o similar, asiento en espuma inyectada densidad 45, espalda en espuma laminada de alta densidad 50 mm de espesor, bastidores y carcazas en polipropileno, sin brazos, estructura en tubo elíptico 14 * 24 mm., pintura epoxi poliéster de aplicación electrostática. DOS (2) AÑOS de Garantía. | D10: ='DOTACION ACTUALIZADA'!D10-'DOTACION INICIAL'!D10 -> 0 | E10: ='DOTACION ACTUALIZADA'!E10-'DOTACION INICIAL'!E10 -> 0 | F10: ='DOTACION ACTUALIZADA'!F10-'DOTACION INICIAL'!F10 -> 0 | G10: ='DOTACION ACTUALIZADA'!G10-'DOTACION INICIAL'!G10 -> -4 | H10: ='DOTACION ACTUALIZADA'!H10-'DOTACION INICIAL'!H10 -> 0 | I10: ='DOTACION ACTUALIZADA'!I10-'DOTACION INICIAL'!I10 -> 0 | J10: ='DOTACION ACTUALIZADA'!J10-'DOTACION INICIAL'!J10 -> -4 | K10: ='DOTACION ACTUALIZADA'!K10-'DOTACION INICIAL'!K10 -> 0 | ... CC10: ='DOTACION ACTUALIZADA'!CC10-'DOTACION INICIAL'!CC10 -> 0 | CD10: =SUM(D10:CC10) -> 474 | CE10: ='EM INICIALES'!J12 -> 184083.41 | CF10: =+CD10*CE10 -> 87255539
A11: 8 | B11: Silla universitaria con brazo escualizable, Tapizada en paño hilat- con carcazas en la espalda y asiento, base tubo metálica, con carcazas en la espalda y asiento, base tubo metálica, Acabado en paño Hilat o similar, asiento en espuma inyectada densidad 45, espalda en espuma laminada de alta densidad 50 mm de espesor, bastidores y carcazas en polipropileno, con brazos, estructura en tubo elíptico 14 * 24 mm., pintura epoxi poliéster de aplicación electrostática. DOS (2) AÑOS de Garantía. | D11: ='DOTACION ACTUALIZADA'!D11-'DOTACION INICIAL'!D11 -> 0 | E11: ='DOTACION ACTUALIZADA'!E11-'DOTACION INICIAL'!E11 -> 0 | F11: ='DOTACION ACTUALIZADA'!F11-'DOTACION INICIAL'!F11 -> 30 | G11: ='DOTACION ACTUALIZADA'!G11-'DOTACION INICIAL'!G11 -> -70 | H11: ='DOTACION ACTUALIZADA'!H11-'DOTACION INICIAL'!H11 -> -10 | I11: ='DOTACION ACTUALIZADA'!I11-'DOTACION INICIAL'!I11 -> 10 | J11: ='DOTACION ACTUALIZADA'!J11-'DOTACION INICIAL'!J11 -> -70 | K11: ='DOTACION ACTUALIZADA'!K11-'DOTACION INICIAL'!K11 -> -40 | ... CC11: ='DOTACION ACTUALIZADA'!CC11-'DOTACION INICIAL'!CC11 -> 0 | CD11: =SUM(D11:CC11) -> 140 | CE11: ='EM INICIALES'!J13 -> 281639.41 | CF11: =+CD11*CE11 -> 39429518
A12: 9 | B12: Escritorio rectangular para profesor,( 1.60 m de largo x 0.60 ancho) con dos gavetas, bandeja portacables troquelada, superficie en aglomerado, formica y canto en PVC, estructura en lámica C.R. con pintura al horno, faldera en lámina C.R. troquelada | D12: ='DOTACION ACTUALIZADA'!D12-'DOTACION INICIAL'!D12 -> 0 | E12: ='DOTACION ACTUALIZADA'!E12-'DOTACION INICIAL'!E12 -> 10 | F12: ='DOTACION ACTUALIZADA'!F12-'DOTACION INICIAL'!F12 -> 0 | G12: ='DOTACION ACTUALIZADA'!G12-'DOTACION INICIAL'!G12 -> 0 | H12: ='DOTACION ACTUALIZADA'!H12-'DOTACION INICIAL'!H12 -> 0 | I12: ='DOTACION ACTUALIZADA'!I12-'DOTACION INICIAL'!I12 -> -3 | J12: ='DOTACION ACTUALIZADA'!J12-'DOTACION INICIAL'!J12 -> -6 | K12: ='DOTACION ACTUALIZADA'!K12-'DOTACION INICIAL'!K12 -> 0 | ... CC12: ='DOTACION ACTUALIZADA'!CC12-'DOTACION INICIAL'!CC12 -> 0 | CD12: =SUM(D12:CC12) -> 15 | CE12: ='EM INICIALES'!J14 -> 688959.76 | CF12: =+CD12*CE12 -> 10334396
A13: 10 | B13: ESTE ITEM REQUIERE INSTALACION. Tablero en acrilico fijado a muro, medidas: 2.40 x 1.20 m., con porta borrador enmarcado, con esquinas perfectamente de lineadas, ángulos perfectos, sin bordes cortantes ni filos, bordes recubiertos por protectores plásticos, al borrar no debe quedar huella Base en aglomerado de 9 mm con balance Enchapado con fórmica, pizarrón blanca, Marco en perfil de aluminio crudo Esquineros en polipropileno redondeados. | D13: ='DOTACION ACTUALIZADA'!D13-'DOTACION INICIAL'!D13 -> 0 | E13: ='DOTACION ACTUALIZADA'!E13-'DOTACION INICIAL'!E13 -> 0 | F13: ='DOTACION ACTUALIZADA'!F13-'DOTACION INICIAL'!F13 -> 0 | G13: ='DOTACION ACTUALIZADA'!G13-'DOTACION INICIAL'!G13 -> -2 | H13: ='DOTACION ACTUALIZADA'!H13-'DOTACION INICIAL'!H13 -> 0 | I13: ='DOTACION ACTUALIZADA'!I13-'DOTACION INICIAL'!I13 -> 1 | J13: ='DOTACION ACTUALIZADA'!J13-'DOTACION INICIAL'!J13 -> -1 | K13: ='DOTACION ACTUALIZADA'!K13-'DOTACION INICIAL'!K13 -> 2 | ... CC13: ='DOTACION ACTUALIZADA'!CC13-'DOTACION INICIAL'!CC13 -> 0 | CD13: =SUM(D13:CC13) -> 48 | CE13: ='EM INICIALES'!J15 -> 225588.28 | CF13: =+CD13*CE13 -> 10828237
A14: 11 | B14: ESTE ITEM REQUIERE INSTALACION.Tablero en acrilico fijado a muro, medidas: 80cm x 60 cm, con portaborrador enmarcado, con esquinas perfectamente de lineadas, ángulos perfectos, sin bordes cortantes ni filos, bordes recubiertos por protectores plásticos, al borrar no debe quedar huella Base en aglomerado de 9 mm con balance Enchapado con fórmica, pizarrón blanca, Marco en perfil de aluminio crudo Esquineros en polipropileno redondeados. | D14: ='DOTACION ACTUALIZADA'!D14-'DOTACION INICIAL'!D14 -> 0 | E14: ='DOTACION ACTUALIZADA'!E14-'DOTACION INICIAL'!E14 -> 0 | F14: ='DOTACION ACTUALIZADA'!F14-'DOTACION INICIAL'!F14 -> 0 | G14: ='DOTACION ACTUALIZADA'!G14-'DOTACION INICIAL'!G14 -> 0 | H14: ='DOTACION ACTUALIZADA'!H14-'DOTACION INICIAL'!H14 -> 0 | I14: ='DOTACION ACTUALIZADA'!I14-'DOTACION INICIAL'!I14 -> 0 | J14: ='DOTACION ACTUALIZADA'!J14-'DOTACION INICIAL'!J14 -> 0 | K14: ='DOTACION ACTUALIZADA'!K14-'DOTACION INICIAL'!K14 -> 0 | ... CC14: ='DOTACION ACTUALIZADA'!CC14-'DOTACION INICIAL'!CC14 -> 0 | CD14: =SUM(D14:CC14) -> 5 | CE14: ='EM INICIALES'!J16 -> 118393.85 | CF14: =+CD14*CE14 -> 591969.25
A15: 12 | B15: ESTE ITEM REQUIERE INSTALACION. Tablero en acrilico fijado a muro, medidas: 80cm x 120 cm, con portaborrador enmarcado, con esquinas perfectamente de lineadas, ángulos perfectos, sin bordes cortantes ni filos, bordes recubiertos por protectores plásticos, al borrar no debe quedar huella Base en aglomerado de 9 mm con balance Enchapado con fórmica, pizarrón blanca, Marco en perfil de aluminio crudo Esquineros en polipropileno redondeados. | D15: ='DOTACION ACTUALIZADA'!D15-'DOTACION INICIAL'!D15 -> 0 | E15: ='DOTACION ACTUALIZADA'!E15-'DOTACION INICIAL'!E15 -> 0 | F15: ='DOTACION ACTUALIZADA'!F15-'DOTACION INICIAL'!F15 -> 0 | G15: ='DOTACION ACTUALIZADA'!G15-'DOTACION INICIAL'!G15 -> 0 | H15: ='DOTACION ACTUALIZADA'!H15-'DOTACION INICIAL'!H15 -> 0 | I15: ='DOTACION ACTUALIZADA'!I15-'DOTACION INICIAL'!I15 -> 0 | J15: ='DOTACION ACTUALIZADA'!J15-'DOTACION INICIAL'!J15 -> 0 | K15: ='DOTACION ACTUALIZADA'!K15-'DOTACION INICIAL'!K15 -> 0 | ... CC15: ='DOTACION ACTUALIZADA'!CC15-'DOTACION INICIAL'!CC15 -> 0 | CD15: =SUM(D15:CC15) -> 0 | CE15: ='EM INICIALES'!J17 -> 174515.38 | CF15: =+CD15*CE15 -> 0
... A42: 39 | B42: Contenedor de Basura Elaborado en plástico Tapa con pedal Con ruedas Capacidad de 80 a 85 litros Color Verde Impresión de las palabras “Residuos No aprovechables y Ordinarios” en la cara delantera del contenedor DEBE PRESENTAR EL PICTOGRAMA O SIMBOLO QUE REPRESENTE LOS RESIDUOS A CONTENER SEGÚN RESOLUCION 2184 de 2019 PARA CADA CANECA PERTENECIENTE A LOS PUNTOS ECOLOGICOS | D42: ='DOTACION ACTUALIZADA'!D42-'DOTACION INICIAL'!D42 -> 0 | E42: ='DOTACION ACTUALIZADA'!E42-'DOTACION INICIAL'!E42 -> 0 | F42: ='DOTACION ACTUALIZADA'!F42-'DOTACION INICIAL'!F42 -> 0 | G42: ='DOTACION ACTUALIZADA'!G42-'DOTACION INICIAL'!G42 -> 0 | H42: ='DOTACION ACTUALIZADA'!H42-'DOTACION INICIAL'!H42 -> 0 | I42: ='DOTACION ACTUALIZADA'!I42-'DOTACION INICIAL'!I42 -> 0 | J42: ='DOTACION ACTUALIZADA'!J42-'DOTACION INICIAL'!J42 -> 0 | K42: ='DOTACION ACTUALIZADA'!K42-'DOTACION INICIAL'!K42 -> 0 | ... CC42: ='DOTACION ACTUALIZADA'!CC42-'DOTACION INICIAL'!CC42 -> 0 | CD42: =SUM(D42:CC42) -> -1 | CE42: ='EM INICIALES'!J44 -> 308094.93 | CF42: =+CD42*CE42 -> -308094.93
B43: TOTAL ELEMENTOS POR SEDE | D43: =SUM(D4:D42) -> 17 | E43: =SUM(E4:E42) -> 75 | F43: =SUM(F4:F42) -> 70 | G43: =SUM(G4:G42) -> -58 | H43: =SUM(H4:H42) -> 35 | I43: =SUM(I4:I42) -> 62 | J43: =SUM(J4:J42) -> -66 | K43: =SUM(K4:K42) -> -29 | ... CD43: =SUM(CD4:CD42) -> 1512 | CF43: =SUM(CF4:CF42) -> 5.5356841e+08

Sheet EM NO PREVISTOS
B1: ESTUDIO DE MERCADO ITEMS NO PREVISTOS
B2: ITEM | C2: ESPECIFICACIONES TÉCNICAS | D2: CANTIDAD | E2: UNIDAD | F2: PRECIO UNITARIO COTIZACION 1 (SOLMETAL) | G2: PRECIO UNITARIO COTIZACION 2 (ARCHICOL) | H2: PRECIO UNITARIO COTIZACION 3 (ESTANCOL) | I2: PROMEDIO | J2: MEDIA ARMONICA | K2: MINIMO | L2: VALOR UNITARIO DEFINITIVO | M2: VALOR TOTAL | N2: VALOR UNITARIO INCLUIDO IVA | O2: VALOR TOTAL
B3: 1 | C3: TV 70 pulgadas 4K-UHD LED Smart TV, cuenta con un procesador Crystal el cual escala con inteligencia artificial las imágenes hasta 4K | D3: 2 | E3: UN | F3: 7712500 | G3: 6170000 | H3: 7404000 | I3: =AVERAGE(F3:H3) -> 7095500 | J3: =HARMEAN(F3:H3) -> 7029113.9 | K3: =MIN(F3:H3) -> 6170000 | L3: =J3 -> 7029113.9 | M3: =J3*D3 -> 14058228 | N3: =L3+(L3*19%) -> 8364645.6 | O3: =N3*D3 -> 16729291
B4: 2 | C4: kit Mesa redonda de juntas de 4 puestos en madera, incluye sillas tipo gerencial ergonomica tapizada en cuero sintético negro de excelente calidad. | D4: 1 | E4: UN | F4: 5546300 | G4: 4437000 | H4: 5324400 | I4: =AVERAGE(F4:H4) -> 5102566.7 | J4: =HARMEAN(F4:H4) -> 5054824 | K4: =MIN(F4:H4) -> 4437000 | L4: =J4 -> 5054824 | M4: =J4*D4 -> 5054824 | N4: =L4+(L4*19%) -> 6015240.5 | O4: =N4*D4 -> 6015240.5
