Workbook
Name Costos_Directos: #REF!
Name Costos_Directos: #REF!
Name Costos_Directos: #REF!
Name Costos_Indirectos: #REF!
Name Costos_Indirectos: #REF!
Name Costos_Indirectos: #REF!
Name presentacion: #REF!
Name presentacion: #REF!
Name presentacion: #REF!
Name Salario_minimo: #REF!
Name Salario_minimo: #REF!
Name Salario_minimo: #REF!
Name Subsidio_de_transporte: #REF!
Name Subsidio_de_transporte: #REF!
Name Subsidio_de_transporte: #REF!
Name Total_Proyecto: #REF!
Name Total_Proyecto: #REF!
Name Total_Proyecto: #REF!
Name TV: #REF!
Name TV: #REF!
Name TV: #REF!

Sheet FORMATO AIU
A4: COTIZACIÓN
A5: CLIENTE
A6: RAMA JUDICIAL DE MANIZALES
A7: RONEY BARTOLO
F8: FECHA | G8: VALIDEZ
A9: MANIZALES | F9: 45415 | G9: 45430
A10: ENTREGA | C10: UBICACIÓN | E10: COT. | F10: CONDICIONES DE PAGO
A11: 90 DIAS | C11: PALACIO DE JUSTICIA - EDIFICIO FANNY GONZALEZ | E11: 0172C.02.24 | F11: CONTRATO
A12: MODERNIZACIÓN DE LUMINARIAS FASE #4
A15: ITEM | B15: MARCA | C15: DESCRIPCIÓN | D15: UNIDAD | E15: CANT. | F15: VLR.UNIT. | G15: VLR. TOTAL
A16: 1 | B16: CAPÍTULO 1 - PISO 2
A17: SUMINISTRO DE LUMINARIAS NUEVAS - LUMINARIAS EN OFICINAS Y PASILLOS
A18: =A16+0.01 -> 1.01 | C18: Suministro e instalación de Luminaria-PANEL LED de 610X600X80 SOBREPONER 50W | D18: UN | E18: 201 | F18: 423101 | G18: =F18*E18 -> 85043301
A19: =A18+0.01 -> 1.02 | C19: Suministro e instalación de Luminaria EMERGENCIA LED | D19: UN | E19: 48 | F19: 153122 | G19: =F19*E19 -> 7349856
A20: =A19+0.01 -> 1.03 | C20: Suministro e instalación de Luminaria - HERMETICA IT 1OO AQ DUNA LENS E10 660X95X100 SOBRE PONER18W | D20: UN | E20: 8 | F20: 262004 | G20: =F20*E20 -> 2096032
A21: =A20+0.01 -> 1.04 | C21: Suministro e instalación de Luminaria BALA LED REDONDA 22W pasillos | D21: UN | E21: 28 | F21: 169031 | G21: =F21*E21 -> 4732868
A22: ADECUACIONES EN OFICINA Y EDIFICIO - ELECTRICAS DE REDES EXISTENTES
A23: =A21+0.01 -> 1.05 | C23: Retiro de Luminaria Existente de 60x60 | D23: UN | E23: 201 | F23: 23214 | G23: =F23*E23 -> 4666014
A24: =A23+0.01 -> 1.06 | C24: Retiro de Luminaria Existente bala led de 22 w en pasillos | D24: UN | E24: 28 | F24: 23214 | G24: =F24*E24 -> 649992
A25: =A24+0.01 -> 1.07 | C25: Suspensión aislada de punto eléctrico existente | D25: UN | E25: 60 | F25: 11386 | G25: =F25*E25 -> 683160
A26: =A25+0.01 -> 1.08 | C26: Reubicación de punto eléctrico | D26: UN | E26: 60 | F26: 44019 | G26: =F26*E26 -> 2641140
A27: =A26+0.01 -> 1.09 | C27: Adecuación de Alimentación de luminarias existentes para unificar circuito de emergencia y circuito Normal | D27: UN | E27: 60 | F27: 219889 | G27: =F27*E27 -> 13193340
A28: ELECTRICAS DE CONTROL DE ALUMBRADO
A29: =A27+0.01 -> 1.1 | C29: Suministro e instalación de sensor provolt | D29: UN | E29: 23 | F29: 2001431 | G29: =F29*E29 -> 46032913
A30: =A29+0.01 -> 1.11 | C30: Suministro e instalación de Botonera 4 botones para atenuar luminarias a través de sensor | D30: UN | E30: 23 | F30: 476289 | G30: =F30*E30 -> 10954647
A31: =A30+0.01 -> 1.12 | C31: Suministro e instalación de interconexión de control de lampara a lampara con cable de control de 2x20 AWG que va en las luminarias que utilizan atenuador de 0-10v | D31: ML | E31: 1250 | F31: 11662 | G31: =F31*E31 -> 14577500
A32: =A31+0.01 -> 1.13 | C32: Suministro e instalación de encauchetado 3x16AWG desde caja de paso hasta luminaria con accesorios de fijación y empalme eléctrico | D32: ML | E32: 350 | F32: 12694 | G32: =F32*E32 -> 4442900
A33: =A32+0.01 -> 1.14 | C33: Suministro e instalación de salida para iluminación en zona de iluminación de lámparas de emergencia para cumplir requerimiento RETILAP. No incluye tubería, ni circuitos de alimentación. | D33: UN | E33: 27 | F33: 122853 | G33: =F33*E33 -> 3317031
A34: =A33+0.01 -> 1.15 | C34: Suministro e instalación interruptor sencillo. | D34: UN | E34: 16 | F34: 28093 | G34: =F34*E34 -> 449488
A35: OBRAS CIVILES
A36: =A34+0.01 -> 1.16 | C36: Reparación de hueco de luminaria retirada | D36: UN | E36: 165 | F36: 22195 | G36: =F36*E36 -> 3662175
A37: =A36+0.01 -> 1.17 | C37: Reparación de techo en oficinas por adecuaciones realizadas para salidas eléctricas en control | D37: M2 | E37: 125 | F37: 32874 | G37: =F37*E37 -> 4109250
A38: =A37+0.01 -> 1.18 | C38: Reparación de muro afectado por interruptor de encendido por luminarias nuevas | D38: UN | E38: 8 | F38: 34726 | G38: =F38*E38 -> 277808
A39: =A38+0.01 -> 1.19 | C39: Pintura de Techo zonas afectadas por hueco de luminaria | D39: UN | E39: 126 | F39: 21818 | G39: =F39*E39 -> 2749068
A40: =A39+0.01 -> 1.2 | C40: Pintura de muro zonas afectadas por interruptor de encendido por luminarias nuevas en archivos | D40: M2 | E40: 12 | F40: 29677 | G40: =F40*E40 -> 356124
A41: =A40+0.01 -> 1.21 | C41: Pintura de Techo zonas afectadas por adecuaciones realizadas para salidas eléctricas en control | D41: UN | E41: 8 | F41: 29677 | G41: =F41*E41 -> 237416
F42: SUBTOTAL | G42: =SUM(G18:G41) -> 212222023
A44: 2 | B44: CAPÍTULO 2 - PISO 4
A45: SUMINISTRO DE LUMINARIAS NUEVAS - LUMINARIAS EN OFICINAS Y PASILLOS
A46: =A44+0.01 -> 2.01 | C46: Suministro e instalación de Luminaria-PANEL LED de 610X600X80 SOBREPONER 50W | D46: UN | E46: 20 | F46: 423101 | G46: =F46*E46 -> 8462020
...

Sheet AVANCE DE OBRA 
A1: FORMATO PROPUESTA ECONÓMICA CON MAYORES CANTIDADES PISO 4- PISO 2-SÓTANO 1
A2: Dirección Seccional de Administración Judicial de Manizales Calle 27 No. 17-19 piso 9º Manizales
H3: AVANCE DE OBRA 1 mayo-7 | K3: AVANCE DE OBRA 2 mayo-8mayo14 | N3: AVANCE DE OBRA 3 mayo-15 mayo 23 | Q3: AVANCE DE OBRA 4 mayo-24 mayo 29 | T3: AVANCE DE OBRA 5 29 DE MAYO AL 05 DE JUNIO | W3: AVANCE DE OBRA 6 07 DE JUNIO O AL 13 DE JUNIO | Z3: AVANCE TOTAL DE OBRA 4 mayo 29
A4: ITEM | B4: DESCRIPCIÓN | C4: UNIDAD | D4: CANT. | E4: VLR.UNIT. | F4: VLR. TOTAL | H4: CANT. | I4: VLR.UNIT. | J4: VLR. TOTAL | K4: CANT. | L4: VLR.UNIT. | M4: VLR. TOTAL | N4: CANT. | O4: VLR.UNIT. | P4: VLR. TOTAL | Q4: CANT. | R4: VLR.UNIT. | S4: VLR. TOTAL | T4: CANT. | U4: VLR.UNIT. | V4: VLR. TOTAL | W4: CANT. | X4: VLR.UNIT. | Y4: VLR. TOTAL | Z4: CANT. | AA4: VLR.UNIT. | AB4: VLR. TOTAL
A5: 1 | B5: CAPÍTULO 1 - PISO 2
A6: SUMINISTRO DE LUMINARIAS NUEVAS - LUMINARIAS EN OFICINAS Y PASILLOS
A7: 1.01 | B7: Suministro e instalación de Luminaria-PANEL LED de 610X600X80 SOBREPONER 50W | C7: UN | D7: 201 | E7: ='FORMATO AIU'!F69 -> 423101 | F7: =+D7*E7 -> 85043301 | I7: =E7 -> 423101 | J7: =I7*H7 -> 0 | L7: =E7 -> 423101 | M7: =L7*K7 -> 0 | N7: 65 | O7: =E7 -> 423101 | P7: =O7*N7 -> 27501565 | Q7: =117-65 -> 52 | R7: =E7 -> 423101 | S7: =R7*Q7 -> 22001252 | T7: 8 | U7: =E7 -> 423101 | V7: =U7*T7 -> 3384808 | W7: =181-125 -> 56 | X7: =E7 -> 423101 | Y7: =X7*W7 -> 23693656 | Z7: =K7+H7+N7+Q7+T7+W7 -> 181 | AA7: =E7 -> 423101 | AB7: =AA7*Z7 -> 76581281
A8: 1.02 | B8: Suministro e instalación de Luminaria EMERGENCIA LED | C8: UN | D8: 48 | E8: ='FORMATO AIU'!F19 -> 153122 | F8: =+D8*E8 -> 7349856 | I8: =E8 -> 153122 | J8: =I8*H8 -> 0 | L8: =E8 -> 153122 | M8: =L8*K8 -> 0 | N8: 45 | O8: =E8 -> 153122 | P8: =O8*N8 -> 6890490 | Q8: 0 | R8: =E8 -> 153122 | S8: =R8*Q8 -> 0 | T8: 1 | U8: =E8 -> 153122 | V8: =U8*T8 -> 153122 | W8: 2 | X8: =E8 -> 153122 | Y8: =X8*W8 -> 306244 | Z8: =K8+H8+N8+Q8+T8+W8 -> 48 | AA8: =E8 -> 153122 | AB8: =AA8*Z8 -> 7349856
A9: 1.03 | B9: Suministro e instalación de Luminaria - HERMETICA IT 1OO AQ DUNA LENS E10 660X95X100 SOBRE PONER18W | C9: UN | D9: 8 | E9: ='FORMATO AIU'!F20 -> 262004 | F9: =+D9*E9 -> 2096032 | I9: =E9 -> 262004 | J9: =I9*H9 -> 0 | L9: =E9 -> 262004 | M9: =L9*K9 -> 0 | N9: 4 | O9: =E9 -> 262004 | P9: =O9*N9 -> 1048016 | Q9: 0 | R9: =E9 -> 262004 | S9: =R9*Q9 -> 0 | T9: 0 | U9: =E9 -> 262004 | V9: =U9*T9 -> 0 | W9: 0 | X9: =E9 -> 262004 | Y9: =X9*W9 -> 0 | Z9: =K9+H9+N9+Q9+T9+W9 -> 4 | AA9: =E9 -> 262004 | AB9: =AA9*Z9 -> 1048016
A10: 1.04 | B10: Suministro e instalación de Luminaria BALA LED REDONDA 22W pasillos | C10: UN | D10: 28 | E10: ='FORMATO AIU'!F21 -> 169031 | F10: =+D10*E10 -> 4732868 | I10: =E10 -> 169031 | J10: =I10*H10 -> 0 | L10: =E10 -> 169031 | M10: =L10*K10 -> 0 | N10: 28 | O10: =E10 -> 169031 | P10: =O10*N10 -> 4732868 | Q10: 0 | R10: =E10 -> 169031 | S10: =R10*Q10 -> 0 | T10: 0 | U10: =E10 -> 169031 | V10: =U10*T10 -> 0 | W10: 0 | X10: =E10 -> 169031 | Y10: =X10*W10 -> 0 | Z10: =K10+H10+N10+Q10+T10+W10 -> 28 | AA10: =E10 -> 169031 | AB10: =AA10*Z10 -> 4732868
A11: ADECUACIONES EN OFICINA Y EDIFICIO - ELECTRICAS DE REDES EXISTENTES | L11: =E11 -> 0 | O11: =E11 -> 0 | R11: =E11 -> 0 | U11: =E11 -> 0 | V11: =U11*T11 -> 0 | X11: =E11 -> 0 | Y11: =X11*W11 -> 0 | Z11: =K11+H11+N11+Q11+T11+W11 -> 0
A12: 1.05 | B12: Retiro de Luminaria Existente de 60x60 | C12: UN | D12: 201 | E12: ='FORMATO AIU'!F23 -> 23214 | F12: =+E12*D12 -> 4666014 | H12: 49 | I12: =E12 -> 23214 | J12: =I12*H12 -> 1137486 | K12: =91-49 -> 42 | L12: =E12 -> 23214 | M12: =L12*K12 -> 974988 | N12: =172-K12-H12 -> 81 | O12: =E12 -> 23214 | P12: =O12*N12 -> 1880334 | Q12: 0 | R12: =E12 -> 23214 | S12: =R12*Q12 -> 0 | T12: 12 | U12: =E12 -> 23214 | V12: =U12*T12 -> 278568 | W12: 7 | X12: =E12 -> 23214 | Y12: =X12*W12 -> 162498 | Z12: =K12+H12+N12+Q12+T12+W12 -> 191 | AA12: =E12 -> 23214 | AB12: =Z12*AA12 -> 4433874
A13: 1.06 | B13: Retiro de Luminaria Existente bala led de 22 w en pasillos | C13: UN | D13: 28 | E13: ='FORMATO AIU'!F24 -> 23214 | F13: =+E13*D13 -> 649992 | H13: 13 | I13: =E13 -> 23214 | J13: =I13*H13 -> 301782 | K13: =28-13 -> 15 | L13: =E13 -> 23214 | M13: =L13*K13 -> 348210 | N13: 0 | O13: =E13 -> 23214 | P13: =O13*N13 -> 0 | Q13: 1 | R13: =E13 -> 23214 | S13: =R13*Q13 -> 23214 | T13: 0 | U13: =E13 -> 23214 | V13: =U13*T13 -> 0 | W13: 0 | X13: =E13 -> 23214 | Y13: =X13*W13 -> 0 | Z13: =K13+H13+N13+Q13+T13+W13 -> 29 | AA13: =E13 -> 23214 | AB13: =AA13*Z13 -> 673206
A14: 1.07 | B14: Suspensión aislada de punto eléctrico existente | C14: UN | D14: 60 | E14: ='FORMATO AIU'!F25 -> 11386 | F14: =+E14*D14 -> 683160 | H14: 4 | I14: =E14 -> 11386 | J14: =I14*H14 -> 45544 | K14: =30-6 -> 24 | L14: =E14 -> 11386 | M14: =L14*K14 -> 273264 | O14: =E14 -> 11386 | P14: =O14*N14 -> 0 | Q14: =45-28 -> 17 | R14: =E14 -> 11386 | S14: =R14*Q14 -> 193562 | T14: 15 | U14: =E14 -> 11386 | V14: =U14*T14 -> 170790 | X14: =E14 -> 11386 | Y14: =X14*W14 -> 0 | Z14: =K14+H14+N14+Q14+T14+W14 -> 60 | AA14: =E14 -> 11386 | AB14: =AA14*Z14 -> 683160
A15: 1.08 | B15: Reubicación de punto eléctrico | C15: UN | D15: 60 | E15: ='FORMATO AIU'!F26 -> 44019 | F15: =+E15*D15 -> 2641140 | H15: 6 | I15: =E15 -> 44019 | J15: =I15*H15 -> 264114 | K15: =30-6 -> 24 | L15: =E15 -> 44019 | M15: =L15*K15 -> 1056456 | N15: =202-H15-K15 -> 172 | O15: =E15 -> 44019 | P15: =O15*N15 -> 7571268 | Q15: 60 | R15: =E15 -> 44019 | S15: =R15*Q15 -> 2641140 | T15: 60 | U15: =E15 -> 44019 | V15: =U15*T15 -> 2641140 | W15: 60 | X15: =E15 -> 44019 | Y15: =X15*W15 -> 2641140 | Z15: 60 | AA15: =E15 -> 44019 | AB15: =AA15*Z15 -> 2641140
A16: 1.09 | B16: Adecuación de Alimentación de luminarias existentes para unificar circuito de emergencia y circuito Normal | C16: UN | D16: 60 | E16: ='FORMATO AIU'!F27 -> 219889 | F16: =+E16*D16 -> 13193340 | H16: 8 | I16: =E16 -> 219889 | J16: =I16*H16 -> 1759112 | K16: =30-8 -> 22 | L16: =E16 -> 219889 | M16: =L16*K16 -> 4837558 | N16: 15 | O16: =E16 -> 219889 | P16: =O16*N16 -> 3298335 | Q16: 15 | R16: =E16 -> 219889 | S16: =R16*Q16 -> 3298335 | T16: 59 | U16: =E16 -> 219889 | V16: =U16*T16 -> 12973451 | X16: =E16 -> 219889 | Y16: =X16*W16 -> 0 | Z16: =K16+H16+N16+Q16+T16+W16 -> 119 | AA16: =E16 -> 219889 | AB16: =AA16*Z16 -> 26166791
A17: ELECTRICAS DE CONTROL DE ALUMBRADO | L17: =E17 -> 0 | O17: =E17 -> 0 | R17: =E17 -> 0 | U17: =E17 -> 0 | V17: =U17*T17 -> 0 | X17: =E17 -> 0 | Y17: =X17*W17 -> 0 | Z17: =K17+H17+N17+Q17+T17+W17 -> 0
A18: 1.1 | B18: Suministro e instalación de sensor provolt | C18: UN | D18: 23 | E18: ='FORMATO AIU'!F29 -> 2001431 | F18: =+D18*E18 -> 46032913 | H18: 6 | I18: =E18 -> 2001431 | J18: =I18*H18 -> 12008586 | K18: =10-6 -> 4 | L18: =E18 -> 2001431 | M18: =L18*K18 -> 8005724 | N18: 8 | O18: =E18 -> 2001431 | P18: =O18*N18 -> 16011448 | Q18: 0 | R18: =E18 -> 2001431 | S18: =R18*Q18 -> 0 | T18: 0 | U18: =E18 -> 2001431 | V18: =U18*T18 -> 0 | W18: 1 | X18: =E18 -> 2001431 | Y18: =X18*W18 -> 2001431 | Z18: =K18+H18+N18+Q18+T18+W18 -> 19 | AA18: =E18 -> 2001431 | AB18: =AA18*Z18 -> 38027189
A19: 1.11 | B19: Suministro e instalación de Botonera 4 botones para atenuar luminarias a través de sensor | C19: UN | D19: 23 | E19: ='FORMATO AIU'!F30 -> 476289 | F19: =+D19*E19 -> 10954647 | H19: 1 | I19: =E19 -> 476289 | J19: =I19*H19 -> 476289 | L19: =E19 -> 476289 | M19: =L19*K19 -> 0 | O19: =E19 -> 476289 | P19: =O19*N19 -> 0 | Q19: 12 | R19: =E19 -> 476289 | S19: =R19*Q19 -> 5715468 | T19: 5 | U19: =E19 -> 476289 | V19: =U19*T19 -> 2381445 | W19: 1 | X19: =E19 -> 476289 | Y19: =X19*W19 -> 476289 | Z19: =K19+H19+N19+Q19+T19+W19 -> 19 | AA19: =E19 -> 476289 | AB19: =AA19*Z19 -> 9049491
A20: 1.12 | B20: Suministro e instalación de interconexión de control de lampara a lampara con cable de control de 2x20 AWG que va en las luminarias que utilizan atenuador de 0-10v | C20: ML | D20: 1250 | E20: ='FORMATO AIU'!F31 -> 11662 | F20: =+D20*E20 -> 14577500 | H20: 280 | I20: =E20 -> 11662 | J20: =I20*H20 -> 3265360 | K20: =530-280 -> 250 | L20: =E20 -> 11662 | M20: =L20*K20 -> 2915500 | N20: =981-H20-K20 -> 451 | O20: =E20 -> 11662 | P20: =O20*N20 -> 5259562 | Q20: 0 | R20: =E20 -> 11662 | S20: =R20*Q20 -> 0 | T20: =1029-981-3 -> 45 | U20: =E20 -> 11662 | V20: =U20*T20 -> 524790 | W20: =1111.95-1026 -> 85.95 | X20: =E20 -> 11662 | Y20: =X20*W20 -> 1002348.9 | Z20: =K20+H20+N20+Q20+T20+W20 -> 1111.95 | AA20: =E20 -> 11662 | AB20: =AA20*Z20 -> 12967561
A21: 1.13 | B21: Suministro e instalación de encauchetado 3x16AWG desde caja de paso hasta luminaria con accesorios de fijación y empalme eléctrico | C21: ML | D21: 350 | E21: ='FORMATO AIU'!F32 -> 12694 | F21: =+D21*E21 -> 4442900 | H21: 73.5 | I21: =E21 -> 12694 | J21: =I21*H21 -> 933009 | K21: =136.5-H21 -> 63 | L21: =E21 -> 12694 | M21: =L21*K21 -> 799722 | N21: =303.81-H21-K21 -> 167.31 | O21: =E21 -> 12694 | P21: =O21*N21 -> 2123833.1 | Q21: 0 | R21: =E21 -> 12694 | S21: =R21*Q21 -> 0 | T21: =340-303.81 -> 36.19 | U21: =E21 -> 12694 | V21: =U21*T21 -> 459395.86 | W21: -5 | X21: =E21 -> 12694 | Y21: =X21*W21 -> -63470 | Z21: =K21+H21+N21+Q21+T21+W21 -> 335 | AA21: =E21 -> 12694 | AB21: =AA21*Z21 -> 4252490
A22: 1.14 | B22: Suministro e instalación de salida para iluminación en zona de iluminación de lámparas de emergencia para cumplir requerimiento RETILAP. No incluye tubería, ni circuitos de alimentación. | C22: UN | D22: 27 | E22: ='FORMATO AIU'!F33 -> 122853 | F22: =+D22*E22 -> 3317031 | H22: 11 | I22: =E22 -> 122853 | J22: =I22*H22 -> 1351383 | K22: =19-H22 -> 8 | L22: =E22 -> 122853 | M22: =L22*K22 -> 982824 | N22: =45-H22-K22 -> 26 | O22: =E22 -> 122853 | P22: =O22*N22 -> 3194178 | Q22: 27 | R22: =E22 -> 122853 | S22: =R22*Q22 -> 3317031 | T22: 27 | U22: =E22 -> 122853 | V22: =U22*T22 -> 3317031 | W22: -66 | X22: =E22 -> 122853 | Y22: =X22*W22 -> -8108298 | Z22: 31 | AA22: =E22 -> 122853 | AB22: =AA22*Z22 -> 3808443
A23: 1.15 | B23: Suministro e instalación interruptor sencillo. | C23: UN | D23: 16 | E23: ='FORMATO AIU'!F34 -> 28093 | F23: =+D23*E23 -> 449488 | H23: 0 | I23: =E23 -> 28093 | J23: =I23*H23 -> 0 | L23: =E23 -> 28093 | M23: =L23*K23 -> 0 | N23: 13 | O23: =E23 -> 28093 | P23: =O23*N23 -> 365209 | Q23: 0 | R23: =E23 -> 28093 | S23: =R23*Q23 -> 0 | T23: 14 | U23: =E23 -> 28093 | V23: =U23*T23 -> 393302 | W23: -13 | X23: =E23 -> 28093 | Y23: =X23*W23 -> -365209 | Z23: =K23+H23+N23+Q23+T23+W23 -> 14 | AA23: =E23 -> 28093 | AB23: =AA23*Z23 -> 393302
A24: OBRAS CIVILES | L24: =E24 -> 0 | O24: =E24 -> 0 | R24: =E24 -> 0 | U24: =E24 -> 0 | V24: =U24*T24 -> 0 | X24: =E24 -> 0 | Y24: =X24*W24 -> 0 | Z24: =K24+H24+N24+Q24+T24+W24 -> 0 | AA24: =E24 -> 0
A25: 1.16 | B25: Reparación de hueco de luminaria retirada | C25: UN | D25: 165 | E25: ='FORMATO AIU'!F36 -> 22195 | F25: =+D25*E25 -> 3662175 | I25: =E25 -> 22195 | J25: =I25*H25 -> 0 | L25: =E25 -> 22195 | M25: =L25*K25 -> 0 | N25: 7 | O25: =E25 -> 22195 | P25: =O25*N25 -> 155365 | Q25: =159-7 -> 152 | R25: =E25 -> 22195 | S25: =R25*Q25 -> 3373640 | T25: 2 | U25: =E25 -> 22195 | V25: =U25*T25 -> 44390 | W25: 150 | X25: =E25 -> 22195 | Y25: =X25*W25 -> 3329250 | Z25: 150 | AA25: =E25 -> 22195 | AB25: =AA25*Z25 -> 3329250
A26: 1.17 | B26: Reparación de techo en oficinas por adecuaciones realizadas para salidas eléctricas en control | C26: M2 | D26: 125 | E26: ='FORMATO AIU'!F37 -> 32874 | F26: =+D26*E26 -> 4109250 | I26: =E26 -> 32874 | J26: =I26*H26 -> 0 | L26: =E26 -> 32874 | M26: =L26*K26 -> 0 | N26: =18 -> 18 | O26: =E26 -> 32874 | P26: =O26*N26 -> 591732 | Q26: =115-18 -> 97 | R26: =E26 -> 32874 | S26: =R26*Q26 -> 3188778 | T26: 0 | U26: =E26 -> 32874 | V26: =U26*T26 -> 0 | W26: 1 | X26: =E26 -> 32874 | Y26: =X26*W26 -> 32874 | Z26: =K26+H26+N26+Q26+T26+W26 -> 116 | AA26: =E26 -> 32874 | AB26: =AA26*Z26 -> 3813384
A27: 1.18 | B27: Reparación de muro afectado por interruptor de encendido por luminarias nuevas | C27: UN | D27: 8 | E27: ='FORMATO AIU'!F38 -> 34726 | F27: =+D27*E27 -> 277808 | H27: 6 | I27: =E27 -> 34726 | J27: =I27*H27 -> 208356 | K27: 0 | L27: =E27 -> 34726 | M27: =L27*K27 -> 0 | N27: 19 | O27: =E27 -> 34726 | P27: =O27*N27 -> 659794 | Q27: 19 | R27: =E27 -> 34726 | S27: =R27*Q27 -> 659794 | T27: 20 | U27: =E27 -> 34726 | V27: =U27*T27 -> 694520 | X27: =E27 -> 34726 | Y27: =X27*W27 -> 0 | Z27: 8 | AA27: =E27 -> 34726 | AB27: =AA27*Z27 -> 277808
A28: 1.19 | B28: Pintura de Techo zonas afectadas por hueco de luminaria | C28: UN | D28: 126 | E28: ='FORMATO AIU'!F39 -> 21818 | F28: =+D28*E28 -> 2749068 | H28: 49 | I28: =E28 -> 21818 | J28: =I28*H28 -> 1069082 | K28: =91-H28 -> 42 | L28: =E28 -> 21818 | M28: =L28*K28 -> 916356 | N28: =626.23-K28-H28 -> 535.23 | O28: =E28 -> 21818 | P28: =O28*N28 -> 11677648 | Q28: 119 | R28: =E28 -> 21818 | S28: =R28*Q28 -> 2596342 | T28: 126 | U28: =E28 -> 21818 | V28: =U28*T28 -> 2749068 | X28: =E28 -> 21818 | Y28: =X28*W28 -> 0 | Z28: 138 | AA28: =E28 -> 21818 | AB28: =AA28*Z28 -> 3010884
A29: 1.2 | B29: Pintura de muro zonas afectadas por interruptor de encendido por luminarias nuevas en archivos | C29: M2 | D29: 12 | E29: ='FORMATO AIU'!F40 -> 29677 | F29: =+D29*E29 -> 356124 | H29: 3 | I29: =E29 -> 29677 | J29: =I29*H29 -> 89031 | K29: 3 | L29: =E29 -> 29677 | M29: =L29*K29 -> 89031 | N29: =19-H29-K29 -> 13 | O29: =E29 -> 29677 | P29: =O29*N29 -> 385801 | Q29: 12 | R29: =E29 -> 29677 | S29: =R29*Q29 -> 356124 | T29: 12 | U29: =E29 -> 29677 | V29: =U29*T29 -> 356124 | X29: =E29 -> 29677 | Y29: =X29*W29 -> 0 | Z29: 14 | AA29: =E29 -> 29677 | AB29: =AA29*Z29 -> 415478
A30: 1.21 | B30: Pintura de Techo zonas afectadas por adecuaciones realizadas para salidas eléctricas en control | C30: UN | D30: 8 | E30: ='FORMATO AIU'!F41 -> 29677 | F30: =+D30*E30 -> 237416 | H30: 1 | I30: =E30 -> 29677 | J30: =I30*H30 -> 29677 | K30: 3 | L30: =E30 -> 29677 | M30: =L30*K30 -> 89031 | O30: =E30 -> 29677 | P30: =O30*N30 -> 0 | Q30: 4 | R30: =E30 -> 29677 | S30: =R30*Q30 -> 118708 | U30: =E30 -> 29677 | V30: =U30*T30 -> 0 | W30: 1 | X30: =E30 -> 29677 | Y30: =X30*W30 -> 29677 | Z30: =K30+H30+N30+Q30+T30+W30 -> 9 | AA30: =E30 -> 29677 | AB30: =AA30*Z30 -> 267093
A31: 2 | B31: CAPÍTULO 2- PISO 4 | L31: =E31 -> 0 | O31: =E31 -> 0 | R31: =E31 -> 0 | U31: =E31 -> 0 | V31: =U31*T31 -> 0 | X31: =E31 -> 0 | Y31: =X31*W31 -> 0 | Z31: =K31+H31+N31+Q31+T31+W31 -> 0 | AA31: =E31 -> 0
A32: SUMINISTRO DE LUMINARIAS NUEVAS - LUMINARIAS EN OFICINAS Y PASILLOS | L32: =E32 -> 0 | O32: =E32 -> 0 | R32: =E32 -> 0 | U32: =E32 -> 0 | V32: =U32*T32 -> 0 | X32: =E32 -> 0 | Y32: =X32*W32 -> 0 | Z32: =K32+H32+N32+Q32+T32+W32 -> 0 | AA32: =E32 -> 0
A33: 2.01 | B33: Suministro e instalación de Luminaria-PANEL LED de 610X600X80 SOBREPONER 50W | C33: UN | D33: 20 | E33: ='FORMATO AIU'!F46 -> 423101 | F33: =+D33*E33 -> 8462020 | I33: =E33 -> 423101 | J33: =I33*H33 -> 0 | L33: =E33 -> 423101 | M33: =L33*K33 -> 0 | O33: =E33 -> 423101 | P33: =O33*N33 -> 0 | Q33: 20 | R33: =E33 -> 423101 | S33: =R33*Q33 -> 8462020 | T33: 2 | U33: =E33 -> 423101 | V33: =U33*T33 -> 846202 | X33: =E33 -> 423101 | Y33: =X33*W33 -> 0 | Z33: 20 | AA33: =E33 -> 423101 | AB33: =AA33*Z33 -> 8462020
A34: 2.02 | B34: Suministro e instalación de Luminaria BALA LED REDONDA 22W | C34: UN | D34: 4 | E34: ='FORMATO AIU'!F47 -> 169031 | F34: =+D34*E34 -> 676124 | I34: =E34 -> 169031 | J34: =I34*H34 -> 0 | L34: =E34 -> 169031 | M34: =L34*K34 -> 0 | O34: =E34 -> 169031 | P34: =O34*N34 -> 0 | Q34: 4 | R34: =E34 -> 169031 | S34: =R34*Q34 -> 676124 | U34: =E34 -> 169031 | V34: =U34*T34 -> 0 | W34: 3 | X34: =E34 -> 169031 | Y34: =X34*W34 -> 507093 | Z34: =K34+H34+N34+Q34+T34+W34 -> 7 | AA34: =E34 -> 169031 | AB34: =AA34*Z34 -> 1183217
A35: 2.03 | B35: Suministro e instalación de Luminaria Bombillas LED – CCCE | C35: UN | D35: 28 | E35: ='FORMATO AIU'!F48 -> 236182 | F35: =+D35*E35 -> 6613096 | I35: =E35 -> 236182 | J35: =I35*H35 -> 0 | L35: =E35 -> 236182 | M35: =L35*K35 -> 0 | O35: =E35 -> 236182 | P35: =O35*N35 -> 0 | Q35: 28 | R35: =E35 -> 236182 | S35: =R35*Q35 -> 6613096 | T35: 27 | U35: =E35 -> 236182 | V35: =U35*T35 -> 6376914 | X35: =E35 -> 236182 | Y35: =X35*W35 -> 0 | Z35: 27 | AA35: =E35 -> 236182 | AB35: =AA35*Z35 -> 6376914
A36: 2.04 | B36: Suministro e instalación de Luminaria - HERMETICA IT 1OO AQ DUNA LENS E10 660X95X100 SOBRE PONER18W | C36: UN | D36: 6 | E36: ='FORMATO AIU'!F49 -> 262004 | F36: =+D36*E36 -> 1572024 | I36: =E36 -> 262004 | J36: =I36*H36 -> 0 | L36: =E36 -> 262004 | M36: =L36*K36 -> 0 | N36: 6 | O36: =E36 -> 262004 | P36: =O36*N36 -> 1572024 | R36: =E36 -> 262004 | S36: =R36*Q36 -> 0 | T36: 4 | U36: =E36 -> 262004 | V36: =U36*T36 -> 1048016 | W36: -3 | X36: =E36 -> 262004 | Y36: =X36*W36 -> -786012 | Z36: 4 | AA36: =E36 -> 262004 | AB36: =AA36*Z36 -> 1048016
A37: 2.05 | B37: Suministro e instalación de Luminaria EMERGENCIA LED | C37: UN | D37: 7 | E37: ='FORMATO AIU'!F50 -> 153122 | F37: =+D37*E37 -> 1071854 | I37: =E37 -> 153122 | J37: =I37*H37 -> 0 | L37: =E37 -> 153122 | M37: =L37*K37 -> 0 | N37: 7 | O37: =E37 -> 153122 | P37: =O37*N37 -> 1071854 | R37: =E37 -> 153122 | S37: =R37*Q37 -> 0 | T37: 6 | U37: =E37 -> 153122 | V37: =U37*T37 -> 918732 | W37: -6 | X37: =E37 -> 153122 | Y37: =X37*W37 -> -918732 | Z37: 6 | AA37: =E37 -> 153122 | AB37: =AA37*Z37 -> 918732
A38: ADECUACIONES EN OFICINA Y EDIFICIO - ELECTRICAS DE REDES EXISTENTES | L38: =E38 -> 0 | O38: =E38 -> 0 | R38: =E38 -> 0 | U38: =E38 -> 0 | V38: =U38*T38 -> 0 | X38: =E38 -> 0 | Y38: =X38*W38 -> 0 | Z38: =K38+H38+N38+Q38+T38+W38 -> 0 | AA38: =E38 -> 0
A39: 2.06 | B39: Retiro de Luminaria Existente de 60x60 | C39: UN | D39: 20 | E39: ='FORMATO AIU'!F52 -> 23214 | F39: =+E39*D39 -> 464280 | I39: =E39 -> 23214 | J39: =I39*H39 -> 0 | L39: =E39 -> 23214 | M39: =L39*K39 -> 0 | N39: 3 | O39: =E39 -> 23214 | P39: =O39*N39 -> 69642 | Q39: 3 | R39: =E39 -> 23214 | S39: =R39*Q39 -> 69642 | T39: 14 | U39: =E39 -> 23214 | V39: =U39*T39 -> 324996 | X39: =E39 -> 23214 | Y39: =X39*W39 -> 0 | Z39: =K39+H39+N39+Q39+T39+W39 -> 20 | AA39: =E39 -> 23214 | AB39: =AA39*Z39 -> 464280
A40: 2.07 | B40: Retiro de Luminaria Colgante | C40: UN | D40: 28 | E40: ='FORMATO AIU'!F53 -> 23214 | F40: =+E40*D40 -> 649992 | I40: =E40 -> 23214 | J40: =I40*H40 -> 0 | L40: =E40 -> 23214 | M40: =L40*K40 -> 0 | N40: 0 | O40: =E40 -> 23214 | P40: =O40*N40 -> 0 | Q40: 28 | R40: =E40 -> 23214 | S40: =R40*Q40 -> 649992 | T40: 0 | U40: =E40 -> 23214 | V40: =U40*T40 -> 0 | W40: 20 | X40: =E40 -> 23214 | Y40: =X40*W40 -> 464280 | Z40: =K40+H40+N40+Q40+T40+W40 -> 48 | AA40: =E40 -> 23214 | AB40: =AA40*Z40 -> 1114272
...

Sheet Informe ejecutivo 6
D1: INFORME EJECUTIVO 6 -7 DE JUNIO AL 13 DE JUNIO
D3: RESUMEN GERENCIAL
A5: INFORME DE INTERVENTORIA No.: | D5: 6 | F5: FECHA DEL INFORME: | H5: 45456
A7: CONTRATO DE OBRA | H7: CE-17-2024
A8: Objeto: | C8: Contratar en nombre de la NACIÓN – CONSEJO SUPERIOR DE LA JUDICATURA – DIRECCIÓN SECCIONAL DE ADMINISTRACIÓN JUDICIAL DE MANIZALES - CALDAS,ALCANCE DEL OBJETO CONTRACTUAL. De acuerdo a la oferta económica presentada por el CONTRATISTA, los valores unitarios para realizar la Cuarta fase de la MODERNIZACIÓN AL SISTEMA DE ILUMINACIÓN DE LAS OFICINAS DEL PALACIO DE JUSTICIA “FANNY GONZALEZ FRANCO” DE MANIZALES CALDAS – PISOS 2 y SÓTANO UNO
A13: Contrato No: | C13: CE-17-2024
A14: Contratista: | C14: GLOBAL ASTI
A15: Nit:
A16: Valor Inicial: | C16: ='FORMATO AIU'!G100 -> 387282493
A17: Adición 1 | C17: 0
A18: Adición 2 | C18: 0
A19: Valor total del contrato: | C19: =C16+C17+C18 -> 387282493
A20: Plazo | C20: 70
A21: Fecha de inicio | C21: 45401
A22: Fecha de vencimiento: | C22: 45105
A23: Plazo total del contrato: | C23: =C20 -> 70
A26: AVANCES DEL CONTRATO
A27: AVANCE GENERAL DEL PROYECTO | F27: EJECUCION EN PLAZO
F28: CONTRACTUAL | H28: EJECUCION | K28: %
F29: =C20 -> 70 | H29: =H5-C21 -> 55 | K29: =H29/F29 -> 0.78571429
F30: DATOS FINANCIEROS
F31: Vr. CONTRATO: | J31: =C19 -> 387282493
F32: Vr. TOTAL PAGADO EN ACTAS: | J32: 0
F33: SALDO POR PAGAR CONTRATO: | J33: =J31-J32 -> 387282493
F34: Vr. ANTICIPO: | J34: 0
F35: TOTAL AMORTIZADO ANTICIPO: | J35: 0
F36: | | J36: =J34-J35 -> 0
F37: ACTA No. | G37: COSTO DIRECTO | H37: AIU | I37: IVA | J37: TOTAL NETO | K37: % EJECUCIÓN | L37: FECHA DEL ACTA
F38: 1 | G38: 153744535 | H38: 38436133 | I38: 1460573 | J38: =G38+H38+I38 -> 193641241 | K38: =+J38/$C$19 -> 0.49999999 | L38: 45448
F39: 2 | G39: 0 | H39: 0 | J39: =+G39-H39 -> 0 | K39: =+G39/$C$19 -> 0
F40: 3 | G40: 0 | H40: 0 | J40: =+G40-H40 -> 0 | K40: =+G40/$C$19 -> 0
F41: 6 | G41: 0 | H41: 0 | J41: =+G41-H41 -> 0 | K41: =+G41/$C$19 -> 0
F42: 7 | G42: 0 | H42: 0 | J42: =+G42-H42 -> 0 | K42: =+G42/$C$19 -> 0
F43: 8 | G43: 0 | H43: 0 | J43: =+G43-H43 -> 0 | K43: =+G43/$C$19 -> 0
F44: 9 | G44: 0 | H44: 0 | J44: =+G44-H44 -> 0 | K44: =+G44/$C$19 -> 0
F45: 10 | G45: 0 | H45: 0 | J45: =+G45-H45 -> 0 | K45: =+G45/$C$19 -> 0
F46: 11 | G46: 0 | H46: 0 | J46: =+G46-H46 -> 0 | K46: =+G46/$C$19 -> 0
C47: %PROGRAM. | D47: %EJECUT. | E47: DIFERENCIA | F47: 12 | G47: 0 | H47: =G47*0.2 -> 0 | J47: =+G47-H47 -> 0 | K47: =+G47/$C$19 -> 0
A48: Acumulado anterior | C48: 0.2571 | D48: 0.6646 | E48: =D48-C48 -> 0.4075 | F48: 13 | G48: 0 | H48: =G48*0.2 -> 0 | J48: =+G48-H48 -> 0 | K48: =+G48/$C$19 -> 0
A49: Durante el periodo | C49: =K29-C48 -> 0.52861429 | D49: =E130-D48 -> 0.23861784 | E49: =D49+D48-C49 -> 0.37460355 | F49: 14 | G49: 0 | H49: =G49*0.2 -> 0 | J49: =+G49-H49 -> 0 | K49: =+G49/$C$19 -> 0
...
