Workbook

Sheet Información
A1: INFORMACIÓN GENERAL
A2: Proceso Licitatorio | B2: MC-041-2024
A3: Objeto
A4: Presupuesto oficial M1 | B4: 162103000 | D4: =+B4*0.1 -> 16210300
A5: Presupuesto oficial M2 | D5: =+B5*0.1 -> 0
A6: Presupuesto oficial M3 | D6: =+B6*0.1 -> 0
A7: Presupuesto oficial M4 | D7: =+B7*0.1 -> 0
A8: Presupuesto oficial M5 | D8: =+B8*0.1 -> 0
A9: Presupuesto oficial M6 | D9: =+B9*0.1 -> 0
A10: Plazo (meses) M1
A11: Plazo (meses) M2
A12: Plazo (meses) M3
A13: Plazo (meses) M4
A14: Plazo (meses) M5
A15: Plazo (meses) M6
A16: Apertura del proceso
A17: Cierre del Proceso | B17: 45475
A19: REQUISITOS FINANCIEROS HABILITANTES
A20: Liquidez Activo corriente/Pasivo Corriente ≥ 1.03 | B20: 1.11
A21: Nivel de endeudamiento Pasivo Total/Activo Total ≤ 0.74 | B21: 0.75
A22: Razón covertura de intereses Utilidad operacional/gastos de intereses ≥ 1 | B22: 0
A23: Capital de trabajo M1 CT = AC - PC ≥ 10% PO | B23: =ROUNDUP(B4*0.1,0) -> 16210300
A24: Capital de trabajo M2 CT = AC - PC ≥ 10% PO | B24: =ROUNDUP(B5*0.1,0) -> 0
A25: Capital de trabajo M3 CT = AC - PC ≥ 10% PO | B25: =ROUNDUP(B6*0.1,0) -> 0
A26: Capital de trabajo M4 CT = AC - PC ≥ 10% PO | B26: =ROUNDUP(B7*0.1,0) -> 0
A27: Capital de trabajo M5 CT = AC - PC ≥ 10% PO | B27: =ROUNDUP(B8*0.1,0) -> 0
A28: Capital de trabajo M6 CT = AC - PC ≥ 10% PO | B28: =ROUNDUP(B9*0.1,0) -> 0
A30: REQUISITOS ORGANIZACIONALES HABILITANTES
A31: Rentabilidad del patrimonio (ROE) Utilidad operacional/Patrimonio ≥ 0% | B31: 0.0004
A32: Rentabilidad del activo (ROA) Utilidad operacional/Activo total ≥ 0% | B32: 0.0002
A34: CRITERIOS DE COMPARACION Y CALIFICACIÓN DE LAS PROPUESTAS | C34: 1 Y 2 | D34: 3 Y 4 | E34: 5 Y 6
A35: Presupuesto Oficial SMMLV M1 | B35: =+B4/877803 -> 184.669 | C35: =B35*0.75 -> 138.50175 | D35: =B35*1.2 -> 221.6028 | E35: =B35*1.5 -> 277.0035
A36: Presupuesto Oficial SMMLV M2 | B36: =+B5/877803 -> 0 | C36: =B36*0.75 -> 0 | D36: =B36*1.2 -> 0 | E36: =B36*1.5 -> 0
A37: Presupuesto Oficial SMMLV M3 | B37: =+B6/877803 -> 0 | C37: =B37*0.75 -> 0 | D37: =B37*1.2 -> 0 | E37: =B37*1.5 -> 0
A38: Presupuesto Oficial SMMLV M4 | B38: =+B7/877803 -> 0 | C38: =B38*0.75 -> 0 | D38: =B38*1.2 -> 0 | E38: =B38*1.5 -> 0
A39: Presupuesto Oficial SMMLV M5 | B39: =+B8/877803 -> 0 | C39: =B39*0.75 -> 0 | D39: =B39*1.2 -> 0 | E39: =B39*1.5 -> 0
A40: Presupuesto Oficial SMMLV M6 | B40: =+B9/877803 -> 0 | C40: =B40*0.75 -> 0 | D40: =B40*1.2 -> 0 | E40: =B40*1.5 -> 0
C41: =SUM(C35:C40) -> 138.50175 | D41: =SUM(D35:D40) -> 221.6028 | E41: =SUM(E35:E40) -> 277.0035
C43: =+C35*0.4 -> 55.400699 | D43: =+D35*0.4 -> 88.641119 | E43: =+E35*0.4 -> 110.8014

Sheet Cierre
A1: No. | B1: PROPONENTE | C1: REPRESENTANTE LEGAL | D1: CONFORMACION CONSORCIO | E1: % | F1: M1 | G1: M2 | H1: M3 | I1: M4 | J1: M5 | K1: M6 | M1: Abogados | N1: Financieros | O1: Técnicos
A2: 1 | B2: BULLISH CONSTRUCCIONES E INGENIERÍA SAS | C2: FABIÁN ANDRÉS VALENCIA GIRALDO | E2: 1 | F2: X | G2: X | H2: X | I2: X | J2: X | K2: X | M2: LFT | N2: DDG | O2: CDT
A4: 2 | B4: UNIÓN TEMPORAL MANIZALES 2021 | C4: LEONARDO ANDRES TRIGOS IBAÑEZ | D4: CODENCO | E4: 0.95 | F4: X | G4: X | H4: X | I4: X | J4: X | K4: X | M4: LFT | N4: DDG | O4: CDT
D5: THECNOCONSTRUCCIONES SAS | E5: 0.05
A6: 3 | B6: CONSORCIO IP MANIZALES | C6: LUIS FERNANDO LEGUIZAMO | D6: INGEACER SAS | E6: 0.95 | F6: X | G6: X | H6: X | I6: X | J6: X | K6: X | M6: LFT | N6: DDG | O6: CDT
D7: PRIMAVERA SAS | E7: 0.05
A8: 4 | B8: UT MANIZALES 2021 | C8: CARLOS HUMBERTO MANTILLA MONTAÑEZ | D8: CHMM INGENIERIA S.A.S. | E8: 0.9 | F8: X | G8: X | H8: X | I8: X | J8: X | K8: X | M8: LFT | N8: DDG | O8: CDT
D9: CARLOS HUMBERTO MANTILLA MONTAÑEZ | E9: 0.1
A10: 5 | B10: INGENIERIA VOLQUETAS Y CONSTRUCCIONES - INGEVOLCO SAS | C10: JUAN FELIPE DELGADO VALBUENA | E10: 1 | F10: X | G10: X | H10: X | I10: X | J10: X | K10: X | M10: LFT | N10: DDG | O10: CDT
A12: 6 | B12: CESAR AUGUSTO GIRALDO ATEHORTUA | C12: CESAR AUGUSTO GIRALDO ATEHORTUA | E12: 1 | F12: X | G12: X | H12: X | I12: X | J12: X | K12: X | M12: LFT | N12: DDG | O12: CDT
A13: 7 | B13: CONSORCIO LM MANIZALES | C13: OSCAR JAVIER MARTINEZ GIL | D13: OSCAR JAVIER MARTINEZ GIL | E13: 0.05 | F13: X | G13: X | H13: X | I13: X | J13: X | K13: X | M13: LFT | N13: DDG | O13: CDT
D14: ASOINGENIERIA DEL ORIENTE S.A.S | E14: 0.95
A15: 8 | B15: SYC – S.A.S. | C15: JORGE ALIRIO SILVA LÓPEZ | D15: JORGE ALIRIO SILVA LOPEZ | E15: 1 | F15: X | G15: X | H15: X | I15: X | J15: X | K15: X | M15: LFT | N15: DDG | O15: CDT
A17: 9 | B17: CONCRE ACERO SAS | C17: JUAN MANUEL FRANCO YEPES | D17: JUAN MANUEL FRANCO YEPES | E17: 1 | F17: X | G17: X | H17: X | I17: X | J17: X | K17: X | M17: LFT | N17: DDG | O17: CDT
A19: 10 | B19: JAIME ALBERTO OSORIO | C19: JAIME ALBERTO OSORIO GIL | E19: 1 | F19: X | G19: X | H19: X | I19: X | J19: X | K19: X | M19: LFT | N19: DDG | O19: CDT
A20: 11 | B20: SOCOCIL S.A.S. | C20: ANDRÉS FELIPE RAVE ARANGO | E20: 1 | J20: X | K20: X | M20: LFT | N20: DDG | O20: CDT
A22: 12 | B22: MONTAJES DE MARCA S.A. | C22: MIGUEL ANGEL RUIZ CANO | E22: 1 | G22: X | M22: LFT | N22: DDG | O22: CDT
A23: 13 | B23: CONSORCIO ARES | C23: ANGEL OSWALDO ZAPATA CARDENAS | D23: ANGEL OSWALDO ZAPATA CARDENAS | E23: 0.95 | F23: X | G23: X | H23: X | I23: X | J23: X | K23: X | M23: LFT | N23: DDG | O23: CDT
D24: ALQUIMAC INGENIERIA SAS | E24: 0.05
A26: 14 | B26: CONSORCIO COING | C26: JONNY ALEXANDER HERNÁNDEZ RODRÍGUEZ | D26: INDESCO | E26: 0.8 | F26: X | G26: X | H26: X | I26: X | J26: X | K26: X | M26: LFT | N26: DDG | O26: CDT
D27: CODENCO | E27: 0.2
A28: 15 | B28: DIEGO LEON MARTINEZ GOMEZ | C28: DIEGO LEON MARTINEZ GOMEZ | E28: 1 | F28: X | G28: X | H28: X | I28: X | J28: X | K28: X | M28: LFT | N28: DDG | O28: CDT
A29: 16 | B29: CONSTRUCTORA POLIOBRAS | C29: AUGUSTO MORENO MURCIA | E29: 1 | F29: X | G29: X | H29: X | I29: X | J29: X | K29: X | M29: LFT | N29: DDG | O29: CDT
A30: 17 | B30: CONSORCIO VN | C30: RUBEN ANTONO NARANJO BONILLA | D30: RUBEN ANTONO NARANJO BONILLA | E30: 0.5 | F30: X | G30: X | H30: X | I30: X | J30: X | K30: X | M30: LFT | N30: DDG | O30: CDT
D31: HECTOR FABIO VALENCIA QUINTERO | E31: 0.5
A32: 18 | B32: CONSORCIO OMEGA | C32: JUAN CARLOS DE LOS RIOS PINEDA | D32: JUAN CARLOS DE LOS RIOS PINEDA | E32: 0.95 | F32: X | G32: X | H32: X | I32: X | J32: X | K32: X | M32: LFT | N32: DDG | O32: CDT
D33: CONSTRUCTORA 3D SAS | E33: 0.05
A34: 19 | B34: ALVARO AGUIRRE MARIN | C34: ALVARO AGUIRRE MARIN | E34: 1 | F34: X | G34: X | H34: X | I34: X | J34: X | K34: X | M34: LFT | N34: DDG | O34: CDT
A35: 20 | B35: CONSORCIO ESTADIO 21 | C35: HECTOR MARIO SOTO BETANCOURTH | D35: HECTOR MARIO SOTO BETANCOURTH | E35: 0.5 | F35: X | G35: X | H35: X | I35: X | J35: X | K35: X | M35: LFT | N35: DDG | O35: CDT
D36: BEATRIZ HEANO CARMONA | E36: 0.5
A37: 21 | B37: GERMÁN SALAZAR MEJÍA | C37: GERMÁN SALAZAR MEJÍA | E37: 1 | F37: X | G37: X | H37: X | I37: X | J37: X | K37: X | M37: LFT | N37: DDG | O37: CDT
A38: 22 | B38: CONSORCIO MANIZALES GP1 | C38: OSCAR ENRIQUE NUÑEZ ORTEGON | D38: GP CONSTRUCCIONES SAS | E38: 0.05 | F38: X | G38: X | H38: X | I38: X | J38: X | K38: X | M38: LFT | N38: DDG | O38: CDT
D39: GP1 GROUP | E39: 0.95
A40: 23 | B40: LUIS MITON ORTIZ VERGEL | C40: LUIS MITON ORTIZ VERGEL | E40: 1 | F40: X | G40: X | H40: X | I40: X | J40: X | K40: X | M40: LFT | N40: DDG | O40: CDT
A41: 24 | B41: INGENIERIA CIVIL Y GEODESIA SAS – INCIGE SAS | C41: CESAR ARNULFO PICO HERNANDEZ | E41: 1 | F41: X | G41: X | H41: X | I41: X | J41: X | K41: X | M41: LFT | N41: DDG | O41: CDT
A42: 25 | B42: JULIO CESAR SALGADO GALEANO | C42: JULIO CESAR SALGADO GALEANO | E42: 1 | F42: X | G42: X | H42: X | I42: X | J42: X | K42: X | M42: LFT | N42: DDG | O42: CDT
A43: 26 | B43: CONSORCIO J-INGENIEROS PROSPERIDAD | C43: JOSE GABRIEL VARGAS CARVAJAL | D43: VINCOL S.A.S. | E43: 0.05 | F43: X | G43: X | H43: X | I43: X | J43: X | K43: X | M43: LFT | N43: DDG | O43: CDT
D44: JOSE GABRIEL VARGAS CARVAJAL | E44: 0.95
A45: 27 | B45: COINOC S.A.S. | C45: EDWIN HERNANDO TRIGOS QUINTANA | E45: 1 | F45: X | G45: X | H45: X | I45: X | J45: X | K45: X | M45: LFT | N45: DDG | O45: CDT
A46: 28 | B46: CONSORCIO EP MANIZALES | C46: ROGELIO ARDILA TORRES | D46: BUSINESS MILLENIUM GROUP S.A.S. | E46: 0.95 | F46: X | G46: X | H46: X | I46: X | J46: X | K46: X
...

Sheet Capacidad Juridica
A1: No. | B1: PROPONENTE | C1: CARTA PRESENTACIÓN | I1: CONFORMACIÓN CONSORCIAL | N1: CERTIFICADO DE EXISTENCIA Y REPRESENTACIÓN LEGAL | V1: CERTIFICADO DE INSCRIPCIÓN EN EL REGISTRO UNICO DE PROPONENTES (RUP) | AA1: GARANTIA DE SERIEDAD DE LA OFERTA | AF1: OTROS DOCUMENTOS | AQ1: HABIL / NO HABIL / SUBSANAR | AR1: OBSERVACIONES
C2: PRESENTA | D2: REPRESENTANTE LEGAL | E2: INGENIERO QUE AVALA LA PROPUESTA (Nombre) Si es el mismo representante legal, repetir nombre | F2: MATRICULA PROFESIONAL (No. de la Tarjeta) | G2: CERTIFICADO (Presenta/no presenta) | H2: VIGENCIA CERTIFICADO (Fecha Expedición) | I2: PRESENTA (SI/NO) | J2: TIPO (C/UT/I) | K2: DURACION (CUMPLE / NO CUMPLE) | L2: NOMBRE | M2: % PARTICIPACIÓN | N2: PRESENTA (SI/NO) | O2: FECHA DE EXPEDICIÓN | P2: DOMICILIO (Ciudad) | Q2: OBJETO SOCIAL | R2: DURACIÓN DE LA SOCIEDAD | S2: REPRESENTANTE LEGAL | T2: LIMITACIONES AL REPRESENTANTE LEGAL | U2: AUTORIZACIÓN DEL ORGANO SOCIAL | V2: PRESENTA (SI/NO) | W2: FECHA DE EXPEDICIÓN (dd/mm/aaaa) | X2: SANCIONES CONSIGNADAS EN EL RUP | Y2: RENOVADO | Z2: FIRMEZA RUP | AA2: FORMATO A FAVOR DE ENTIDADES ESTATALES | AB2: TOMADOR | AC2: VIGENCIA (HASTA) (DD/MM/AAAA) | AD2: VALOR ($) | AE2: BENEFICIARIO GOBERNACIÓN | AF2: CERTIFICADO DE ANTECEDENTES FISCALES DE LA CONTRALORIA GENERAL DE LA REPUBLICA | AG2: CERTIFICADO DE ANTECEDENTES DISCIPLINARIOS DE LA PROCURADURIA GENERAL DE LA NACION | AH2: CERTIFICADO DE ANTECEDENTES JUDICIALES | AI2: CERTIFICADO DE MEDIDAS CORRECTIVAS | AJ2: CERTIFICACIÓN DE PAGOS DE SEGURIDAD SOCIAL Y APORTES PARAFISCALES | AK2: PACTO DE TRASPARENCIA | AL2: CEDULA PROPONENTE | AM2: TARJETA PROFESIONAL | AN2: COPNIA | AO2: COPIA TARJETA PROFESIONAL CONTADOR O REVISOR FISCAL | AP2: ANTECEDENTES DISCIPLINARIOS JCC
A3: 1 | B3: =VLOOKUP($A3,Cierre!$A:$E,2,FALSE) -> BULLISH CONSTRUCCIONES E INGENIERÍA SAS | D3: =VLOOKUP($A3,Cierre!$A:$E,3,FALSE) -> FABIÁN ANDRÉS VALENCIA GIRALDO | L3: CRHISTIAN COLLAZOS SANDOVAL | M3: 0.5
L4: IVAN ECHEVERRY OSORIO | M4: 0.5
A5: 2 | B5: =VLOOKUP($A5,Cierre!$A:$E,2,FALSE) -> UNIÓN TEMPORAL MANIZALES 2021 | D5: =VLOOKUP($A5,Cierre!$A:$E,3,FALSE) -> LEONARDO ANDRES TRIGOS IBAÑEZ | L5: DYNAMICS CONSTRUCCIONES SAS | M5: 0.89
L6: CONSTRUCTORES E INGENIEROS UNIDOS SAS | M6: 0.11
A7: 3 | B7: =VLOOKUP($A7,Cierre!$A:$E,2,FALSE) -> CONSORCIO IP MANIZALES | D7: =VLOOKUP($A7,Cierre!$A:$E,3,FALSE) -> LUIS FERNANDO LEGUIZAMO | L7: GRUPO QUIMBAYA SAS | M7: 0.5
L8: FABIAN VIVI MORALES | M8: 0.5
A9: 4 | B9: =VLOOKUP($A9,Cierre!$A:$E,2,FALSE) -> UT MANIZALES 2021 | D9: =VLOOKUP($A9,Cierre!$A:$E,3,FALSE) -> CARLOS HUMBERTO MANTILLA MONTAÑEZ | L9: CDC PRO SAS | M9: 0.5
L10: AC2R INGENIERIA Y PROYECTOS SAS | M10: 0.5
A11: 5 | B11: =VLOOKUP($A11,Cierre!$A:$E,2,FALSE) -> INGENIERIA VOLQUETAS Y CONSTRUCCIONES - INGEVOLCO SAS | D11: =VLOOKUP($A11,Cierre!$A:$E,3,FALSE) -> JUAN FELIPE DELGADO VALBUENA | L11: INGECAR SA | M11: 0.99
L12: LUIS ALBERTO BELTRAN BECERRA | M12: 0.01
A13: 6 | B13: =VLOOKUP($A13,Cierre!$A:$E,2,FALSE) -> CESAR AUGUSTO GIRALDO ATEHORTUA | D13: =VLOOKUP($A13,Cierre!$A:$E,3,FALSE) -> CESAR AUGUSTO GIRALDO ATEHORTUA | M13: 1
A14: 7 | B14: =VLOOKUP($A14,Cierre!$A:$E,2,FALSE) -> CONSORCIO LM MANIZALES | D14: =VLOOKUP($A14,Cierre!$A:$E,3,FALSE) -> OSCAR JAVIER MARTINEZ GIL | L14: HERNAN ROPERO ALZATE | M14: 0.5
L15: LUIS GUILERMO CARDENAS SANDOVAL | M15: 0.5
A16: 8 | B16: =VLOOKUP($A16,Cierre!$A:$E,2,FALSE) -> SYC – S.A.S. | D16: =VLOOKUP($A16,Cierre!$A:$E,3,FALSE) -> JORGE ALIRIO SILVA LÓPEZ | L16: INCIVILPRO SAS | M16: 0.5
L17: ECON INGENIERIA SAS | M17: 0.5
A18: 9 | B18: =VLOOKUP($A18,Cierre!$A:$E,2,FALSE) -> CONCRE ACERO SAS | D18: =VLOOKUP($A18,Cierre!$A:$E,3,FALSE) -> JUAN MANUEL FRANCO YEPES | M18: 1
A19: 10 | B19: =VLOOKUP($A19,Cierre!$A:$E,2,FALSE) -> JAIME ALBERTO OSORIO | D19: =VLOOKUP($A19,Cierre!$A:$E,3,FALSE) -> JAIME ALBERTO OSORIO GIL | L19: R&J INGENIERIA SAS | M19: 0.5
L20: MIGUEL ROBLES SAS | M20: 0.5
A21: 11 | B21: =VLOOKUP($A21,Cierre!$A:$E,2,FALSE) -> SOCOCIL S.A.S. | D21: =VLOOKUP($A21,Cierre!$A:$E,3,FALSE) -> ANDRÉS FELIPE RAVE ARANGO | M21: 1
A22: 12 | B22: =VLOOKUP($A22,Cierre!$A:$E,2,FALSE) -> MONTAJES DE MARCA S.A. | D22: =VLOOKUP($A22,Cierre!$A:$E,3,FALSE) -> MIGUEL ANGEL RUIZ CANO | L22: ANDREA ISABEL CAMELO VASQUEZ | M22: 0.8
L23: SOLIDEZ E INGENIERIA | M23: 0.2
A24: 13 | B24: =VLOOKUP($A24,Cierre!$A:$E,2,FALSE) -> CONSORCIO ARES | D24: =VLOOKUP($A24,Cierre!$A:$E,3,FALSE) -> ANGEL OSWALDO ZAPATA CARDENAS | L24: JOSE EDMUNDO ROSERO ORTIZ | M24: 0.3
L25: JD PROYECTOS E INGENIERIA SAS | M25: 0.35
L26: JAVIER EDUARDO CORAL ROSERO | M26: 0.35
A27: 14 | B27: =VLOOKUP($A27,Cierre!$A:$E,2,FALSE) -> CONSORCIO COING | D27: =VLOOKUP($A27,Cierre!$A:$E,3,FALSE) -> JONNY ALEXANDER HERNÁNDEZ RODRÍGUEZ | M27: 1
A28: 15 | B28: =VLOOKUP($A28,Cierre!$A:$E,2,FALSE) -> DIEGO LEON MARTINEZ GOMEZ | D28: =VLOOKUP($A28,Cierre!$A:$E,3,FALSE) -> DIEGO LEON MARTINEZ GOMEZ | L28: PROTECO INGENIERIA SAS | M28: 0.4
L29: ICPT CONSTRUCCIÒN SAS | M29: 0.6
A30: 16 | B30: =VLOOKUP($A30,Cierre!$A:$E,2,FALSE) -> CONSTRUCTORA POLIOBRAS | D30: =VLOOKUP($A30,Cierre!$A:$E,3,FALSE) -> AUGUSTO MORENO MURCIA | L30: GASVIAL GV SAS | M30: 0.3
L31: ZEAR INGENIERIA SAS | M31: 0.7
A32: 17 | B32: =VLOOKUP($A32,Cierre!$A:$E,2,FALSE) -> CONSORCIO VN | D32: =VLOOKUP($A32,Cierre!$A:$E,3,FALSE) -> RUBEN ANTONO NARANJO BONILLA | M32: 1
A33: 18 | B33: =VLOOKUP($A33,Cierre!$A:$E,2,FALSE) -> CONSORCIO OMEGA | D33: =VLOOKUP($A33,Cierre!$A:$E,3,FALSE) -> JUAN CARLOS DE LOS RIOS PINEDA | L33: PEDRO HERNANDO ESCUCHA BARRAGAN | M33: 0.1
L34: PE & H PROYECTOS - CONSTRUCCIONES - INGENIERIA & MINERIA SAS | M34: 0.45
L35: INCA SAS | M35: 0.45
A36: 19 | B36: =VLOOKUP($A36,Cierre!$A:$E,2,FALSE) -> ALVARO AGUIRRE MARIN | D36: =VLOOKUP($A36,Cierre!$A:$E,3,FALSE) -> ALVARO AGUIRRE MARIN | L36: INFRAESTRUCTURA Y VIAS SAS | M36: 0.5
L37: PROMAQCO SAS | M37: 0.5
A38: 20 | B38: =VLOOKUP($A38,Cierre!$A:$E,2,FALSE) -> CONSORCIO ESTADIO 21 | D38: =VLOOKUP($A38,Cierre!$A:$E,3,FALSE) -> HECTOR MARIO SOTO BETANCOURTH | M38: 1
A39: 21 | B39: =VLOOKUP($A39,Cierre!$A:$E,2,FALSE) -> GERMÁN SALAZAR MEJÍA | D39: =VLOOKUP($A39,Cierre!$A:$E,3,FALSE) -> GERMÁN SALAZAR MEJÍA | L39: EMPROYCON SAS | M39: 0.4
L40: SYG SAS | M40: 0.6
...

Sheet Capacidad Financiera
A1: No. | B1: Proponente | C1: Conformación consorcial | D1: % participación | E1: Informacion Financiera | K1: CAPACIDAD FINANCIERA | N1: MÓDULO 5 | O1: =+Información!B4*0.1 -> 16210300 | P1: CAPACIDAD ORGANIZACIONAL | R1: CAPACIDAD FINANCIERA | S1: CAPACIDAD ORGANIZACIONAL | T1: CAPACIDAD RESIDUAL DE CONTRATACIÓN | U1: Observaciones
E2: Informacion Financiera | F2: Activo Total | G2: Pasivo Corriente | H2: Pasivo Total | I2: Utilidad operacional | J2: Gastos de intereses | K2: CAPITAL DE TRABAJO | L2: LIQUIDEZ | M2: NIVEL DE ENDEUDAMIENTO | N2: RAZON DE COBERTURA DE INTERESES | O2: PATRIMONIO | P2: RENTABILIDAD SOBRE PATRIMONIO | Q2: RENTABILIDAD SOBRE ACTIVOS
A3: 1 | B3: CONSORCIO OBRAS REGG. | C3: GESTION ESTUDIOS DE MOVILIDAD VIAS CONSULTORIA Y OBRAS - GEMVICO E.U. | D3: 0.1 | E3: 85625000 | F3: 95285000 | G3: 10160000 | H3: 10160000 | I3: 26812000 | J3: 1 | K3: =($E3-$G3)+($E4-$G4) -> 356846000 | L3: =IFERROR(((E3)+(E4))/((G3)+(G4)),0) -> 29.581978 | M3: =IFERROR(((H3)+(H4))/((F3)+(F4)),0) -> 0.045064949 | N3: =IFERROR(((I3)+(I4))/((J3)+(J4)),0) -> 43320500 | O3: =F3-H3 -> 85125000 | P3: =IFERROR(((I3)+(I4))/((O3)+(O4)),0) -> 0.132751 | Q3: =IFERROR(((I3)+(I4))/((F3)+(F4)),0) -> 0.12676858 | R3: NO HÁBIL | S3: NO HÁBIL | T3: NO HÁBIL | U3: EL PROPONENTE NO SUBSANÓ
C4: REINALDO GARCÍA CAMPIÑO | D4: 0.9 | E4: 283706000 | F4: 588173000 | G4: 2325000 | H4: 20640000 | I4: 59829000 | J4: 1 | O4: =F4-H4 -> 567533000
A5: 2 | B5: INNOVA PROYECTOS SAS | D5: 1 | E5: 1216467829 | F5: 1265516548 | G5: 67864900 | H5: 124756384 | I5: 2932125988 | J5: 10152916 | K5: =($E5-$G5)+($E6-$G6) -> 1148602929 | L5: =IFERROR(((E5)+(E6))/((G5)+(G6)),0) -> 17.924845 | M5: =IFERROR(((H5)+(H6))/((F5)+(F6)),0) -> 0.098581393 | N5: =IFERROR(((I5)+(I6))/((J5)+(J6)),0) -> 288.79644 | O5: =F5-H5 -> 1140760164 | P5: =IFERROR(((I5)+(I6))/((O5)+(O6)),0) -> 2.5703264 | Q5: =IFERROR(((I5)+(I6))/((F5)+(F6)),0) -> 2.3169401 | R5: NO HÁBIL | S5: NO HÁBIL | T5: NO HÁBIL | U5: EL PROPONENTE SUBSANÓ PERO NO APORTÓ EL DICTAMEN Y / O CERTIFICADO DE LOS ESTADOS FINANCIEROS PRESENTADOS TAL Y COMO LO SOLICITA EL PLIEGO DE CONDICIONES EN SU NUMERL 3,10,2 LITERAL A PUNTO I
O6: =F6-H6 -> 0 | U6: APORTAR RUP RENOVADO,ACTUALIZADO Y EN FIRME CON INFORMACION FINANCIERA DEL 2023 EL APORTADO ES DEL 25/04/2024 Y NO TIENE INFORMACION FINANCIERA DEL 2023 - APORTAR TODOS LOS FORMATOS 5 CAPACIDAD RESIDUAL - APORTAR ESTADO DE RESULTADOS INTEGRAL (ESTADO DE RESULTADO O PÉRDIDA O GANANCIAS), DEL AÑO EN QUE HAYAN OBTENIDO EL MAYOR INGRESO OPERACIONAL EN LOS ÚLTIMOS CINCO (5) AÑOS, DEBIDAMENTE FIRMADO POR EL REPRESENTANTE LEGAL Y EL CONTADOR BAJO CUYA RESPONSABILIDAD SE HAN PREPARADO Y POR EL REVISOR FISCAL O, EN CASO DE NO HABERLO, POR NO ESTAR OBLIGADO A TENERLO, POR CONTADOR PÚBLICO INDEPENDIENTE, APORTAR DICTAMEN O CERTIFICADO DE LOS ESTADOS FINANCIEROS OPINIÓN DE CONFORMIDAD CON EL ARTÍCULO 38 DE LA LEY 222 DE 1995 - APORTAR CEDULA, TARJETA PROFESIONAL Y CERTIFICADO JUNTA CENTRAL DE CONTADORES DE QUIENES FIRMAN LOS ESTADOS FINANCIEROS Y SU CERTIFICADOS O DICTAMEN
A7: 3 | B7: ROBLE INGENIERIA S.A.S. | D7: 1 | E7: 349152723 | F7: 349152723 | G7: 176130127 | H7: 176130127 | I7: 45034128 | J7: 1 | K7: =($E7-$G7)+($E8-$G8) -> 173022596 | L7: =IFERROR(((E7)+(E8))/((G7)+(G8)),0) -> 1.9823566 | M7: =IFERROR(((H7)+(H8))/((F7)+(F8)),0) -> 0.5044501 | N7: =IFERROR(((I7)+(I8))/((J7)+(J8)),0) -> 45034128 | O7: =F7-H7 -> 173022596 | P7: =IFERROR(((I7)+(I8))/((O7)+(O8)),0) -> 0.26027888 | Q7: =IFERROR(((I7)+(I8))/((F7)+(F8)),0) -> 0.12898117 | R7: HÁBIL | S7: HÁBIL | T7: HÁBIL
O8: =F8-H8 -> 0
A9: 4 | B9: CONSORCIO MANIZALES 2024. | C9: HERNANDEZ VALENCIA CARLOS EDUARDO | D9: 0.1 | E9: 1268653241 | F9: 1387692275 | G9: 1 | H9: 16020836 | I9: 355601623 | J9: 1 | K9: =($E9-$G9)+($E10-$G10)+($E11-$G11) -> 2742439475 | L9: =IFERROR(((E9)+(E10)+(E11))/((G9)+(G10)+(G11)),0) -> 75.554718 | M9: =IFERROR(((H9)+(H10)+(H11))/((F9)+(F10)+(F11)),0) -> 0.054858227 | N9: =IFERROR(((I9)+(I10)+(I11))/((J9)+(J10)+(J11)),0) -> 32.049386 | O9: =F9-H9 -> 1371671439 | P9: =IFERROR(((I9)+(I10))/((O9)+(O10)),0) -> 0.30130565 | Q9: =IFERROR(((I9)+(I10)+(I11))/((F9)+(F10)+(F11)),0) -> 0.28477655 | R9: HÁBIL | S9: HÁBIL | T9: HÁBIL
C10: :LEON TORRES WENTZER MAURICIO | D10: 0.9 | E10: 1510570485 | F10: 1697990485 | G10: 36784250 | H10: 153254250 | I10: 523128476 | J10: 27418000 | O10: =F10-H10 -> 1544736235
O11: =F11-H11 -> 0
A12: 5 | B12: JR CONSTRUCCIONES Y CONSULTORIAS S.A.S | D12: 1 | E12: 168300000 | F12: 168300000 | G12: 34178000 | H12: 34178000 | I12: 56673850 | J12: 1 | K12: =($E12-$G12)+($E13-$G13)+($E14-$G14)+($E15-$G15) -> 134122000 | L12: =IFERROR(((E12)+(E13)+(E14)+(E15))/((G12)+(G13)+(G14)+(G15)),0) -> 4.9242203 | M12: =IFERROR(((H12)+(H13)+(H14)+(H15))/((F12)+(F13)+(F14)+(F15)),0) -> 0.20307784 | N12: =IFERROR(((I12)+(I13)+(I14)+(I15))/((J12)+(J13)+(J14)+(J15)),0) -> 56673850 | O12: =F12-H12 -> 134122000 | P12: =IFERROR(((I12)+(I14))/((O12)+(O14)),0) -> 0.42255447 | Q12: =IFERROR(((I12)+(I13))/((F12)+(F13)),0) -> 0.33674302 | R12: HÁBIL | S12: HÁBIL | T12: HÁBIL
O13: =F13-H13 -> 0
O14: =F14-H14 -> 0
O15: =+F15-H15 -> 0

Sheet Experiencia
A1: No. | B1: PROPONENTE | C1: NOMBRE | D1: CONTRATANTE | E1: CONTRATO No. | F1: I, C, UT | G1: % (1) | H1: INICIACIÓN (DD/MM/AA) | I1: TERMINACIÓN (DD/MM/AA) | J1: SUSPENSIÓN (MESES) | K1: PLAZO DE EJECUCIÓN (MESES) (2) | L1: VALOR TOTAL DEL CONTRATO INCLUIDAS SUS ADICIONES, AJUSTES Y EL IVA (3) | M1: VALOR TOTAL DEL CONTRATO A CONSIDERAR COMO EXPERIENCIA (4) = (3)*(1) | N1: VALOR FACTURADO ACTUALIZADO SMMLV (VFA) | O1: LONGITUD DE VÍA (KM) | P1: PORCENTAJE MÍNIMO DE EXPERIENCIA | R1: Suspensión 1 | T1: Suspensión 2 | V1: Suspensión 3 | X1: Suspensión 4 | Z1: Suspensión 5 | AB1: Suspensión 6
A2: 1 | B2: =IF($A2="","",VLOOKUP($A2,Cierre!$A:$E,2,FALSE)) -> BULLISH CONSTRUCCIONES E INGENIERÍA SAS | C2: IVAN ECHEVERRI OSORIO | D2: AMABLE SISTEMA ESTRATEGICO DE TRANSPORTE PUBLICO | E2: 003-2013 | F2: C | G2: 0.33 | H2: 41501 | I2: 41789 | J2: =AD2+AE2+AF2+AG2+AH2+AI2 -> 0 | K2: =IF(H2="",0,ROUND(((((I2-H2)+1)/360)*12)-J2,3)) -> 9.633 | L2: 4437178792 | M2: =ROUND(L2*G2,3) -> 1.464269e+09 | N2: =IF(I2="","",ROUND(M2/VLOOKUP(YEAR(I2),SMMLV!$A$2:$B$42,2,FALSE),3)) -> 2377.06 | O2: N.A | P2: =IFERROR(SUMIFS($N:$N,$A:$A,A2,$C:$C,C2)/SUMIF($A:$A,A2,$N:$N),0) -> 0.95430332 | AD2: =IF(R2="",0,ROUND((((S2-R2)+1)/30),3)) -> 0 | AE2: =IF(T2="",0,ROUND((((U2-T2)+1)/30),3)) -> 0 | AF2: =IF(V2="",0,ROUND((((W2-V2)+1)/30),3)) -> 0 | AG2: =IF(X2="",0,ROUND((((Y2-X2)+1)/30),3)) -> 0 | AH2: =IF(Z2="",0,ROUND((((AA2-Z2)+1)/30),3)) -> 0 | AI2: =IF(AB2="",0,ROUND((((AC2-AB2)+1)/30),3)) -> 0
A3: 1 | B3: =IF($A3="","",VLOOKUP($A3,Cierre!$A:$E,2,FALSE)) -> BULLISH CONSTRUCCIONES E INGENIERÍA SAS | C3: IVAN ECHEVERRI OSORIO | D3: ALCALDIA DE MANIZALES | E3: 1606100324 | F3: C | G3: 0.65 | H3: 42557 | I3: 42633 | J3: =AD3+AE3+AF3+AG3+AH3+AI3 -> 0 | K3: =IF(H3="",0,ROUND(((((I3-H3)+1)/360)*12)-J3,3)) -> 2.567 | L3: 4.4770733e+08 | M3: =ROUND(L3*G3,3) -> 2.9100976e+08 | N3: =IF(I3="","",ROUND(M3/VLOOKUP(YEAR(I3),SMMLV!$A$2:$B$42,2,FALSE),3)) -> 422.087 | O3: N.A | P3: =IFERROR(SUMIFS($N:$N,$A:$A,A3,$C:$C,C3)/SUMIF($A:$A,A3,$N:$N),0) -> 0.95430332 | AD3: =IF(R3="",0,ROUND((((S3-R3)+1)/30),3)) -> 0 | AE3: =IF(T3="",0,ROUND((((U3-T3)+1)/30),3)) -> 0 | AF3: =IF(V3="",0,ROUND((((W3-V3)+1)/30),3)) -> 0 | AG3: =IF(X3="",0,ROUND((((Y3-X3)+1)/30),3)) -> 0 | AH3: =IF(Z3="",0,ROUND((((AA3-Z3)+1)/30),3)) -> 0 | AI3: =IF(AB3="",0,ROUND((((AC3-AB3)+1)/30),3)) -> 0
A4: 1 | B4: =IF($A4="","",VLOOKUP($A4,Cierre!$A:$E,2,FALSE)) -> BULLISH CONSTRUCCIONES E INGENIERÍA SAS | C4: CRISTIAN COLLAZOS SANDOVAL | D4: ALCALDIA DE MANIZALES | E4: 1606100324 | F4: C | G4: 0.35 | H4: 42557 | I4: 42633 | J4: =AD4+AE4+AF4+AG4+AH4+AI4 -> 0 | K4: =IF(H4="",0,ROUND(((((I4-H4)+1)/360)*12)-J4,3)) -> 2.567 | L4: 4.4770733e+08 | M4: =ROUND(L4*G4,3) -> 1.5669756e+08 | N4: =IF(I4="","",ROUND(M4/VLOOKUP(YEAR(I4),SMMLV!$A$2:$B$42,2,FALSE),3)) -> 227.277 | O4: N.A | P4: =IFERROR(SUMIFS($N:$N,$A:$A,A4,$C:$C,C4)/SUMIF($A:$A,A4,$N:$N),0) -> 0.045696678 | AD4: =IF(R4="",0,ROUND((((S4-R4)+1)/30),3)) -> 0 | AE4: =IF(T4="",0,ROUND((((U4-T4)+1)/30),3)) -> 0 | AF4: =IF(V4="",0,ROUND((((W4-V4)+1)/30),3)) -> 0 | AG4: =IF(X4="",0,ROUND((((Y4-X4)+1)/30),3)) -> 0 | AH4: =IF(Z4="",0,ROUND((((AA4-Z4)+1)/30),3)) -> 0 | AI4: =IF(AB4="",0,ROUND((((AC4-AB4)+1)/30),3)) -> 0
A5: 1 | B5: =IF($A5="","",VLOOKUP($A5,Cierre!$A:$E,2,FALSE)) -> BULLISH CONSTRUCCIONES E INGENIERÍA SAS | C5: IVAN ECHEVERRI OSORIO | D5: DEPARTAMENTO DE ANTIOQUIA | E5: 4600007541 DE 2017 | F5: C | G5: 0.75 | H5: 43041 | I5: 43150 | J5: =AD5+AE5+AF5+AG5+AH5+AI5 -> 0 | K5: =IF(H5="",0,ROUND(((((I5-H5)+1)/360)*12)-J5,3)) -> 3.667 | L5: 2028287880 | M5: =ROUND(L5*G5,3) -> 1521215910 | N5: =IF(I5="","",ROUND(M5/VLOOKUP(YEAR(I5),SMMLV!$A$2:$B$42,2,FALSE),3)) -> 1947.176 | O5: N.A | P5: =IFERROR(SUMIFS($N:$N,$A:$A,A5,$C:$C,C5)/SUMIF($A:$A,A5,$N:$N),0) -> 0.95430332 | AD5: =IF(R5="",0,ROUND((((S5-R5)+1)/30),3)) -> 0 | AE5: =IF(T5="",0,ROUND((((U5-T5)+1)/30),3)) -> 0 | AF5: =IF(V5="",0,ROUND((((W5-V5)+1)/30),3)) -> 0 | AG5: =IF(X5="",0,ROUND((((Y5-X5)+1)/30),3)) -> 0 | AH5: =IF(Z5="",0,ROUND((((AA5-Z5)+1)/30),3)) -> 0 | AI5: =IF(AB5="",0,ROUND((((AC5-AB5)+1)/30),3)) -> 0
B6: =IF($A6="","",VLOOKUP($A6,Cierre!$A:$E,2,FALSE)) | J6: =AD6+AE6+AF6+AG6+AH6+AI6 -> 0 | K6: =IF(H6="",0,ROUND(((((I6-H6)+1)/360)*12)-J6,3)) -> 0 | M6: =ROUND(L6*G6,3) -> 0 | P6: =IFERROR(SUMIFS($N:$N,$A:$A,A6,$C:$C,C6)/SUMIF($A:$A,A6,$N:$N),0) -> 0 | AD6: =IF(R6="",0,ROUND((((S6-R6)+1)/30),3)) -> 0 | AE6: =IF(T6="",0,ROUND((((U6-T6)+1)/30),3)) -> 0 | AF6: =IF(V6="",0,ROUND((((W6-V6)+1)/30),3)) -> 0 | AG6: =IF(X6="",0,ROUND((((Y6-X6)+1)/30),3)) -> 0 | AH6: =IF(Z6="",0,ROUND((((AA6-Z6)+1)/30),3)) -> 0 | AI6: =IF(AB6="",0,ROUND((((AC6-AB6)+1)/30),3)) -> 0
B7: =IF($A7="","",VLOOKUP($A7,Cierre!$A:$E,2,FALSE)) | J7: =AD7+AE7+AF7+AG7+AH7+AI7 -> 0 | K7: =IF(H7="",0,ROUND(((((I7-H7)+1)/360)*12)-J7,3)) -> 0 | M7: =ROUND(L7*G7,3) -> 0 | N7: =IF(I7="","",ROUND(M7/VLOOKUP(YEAR(I7),SMMLV!$A$2:$B$42,2,FALSE),3)) | P7: =IFERROR(SUMIFS($N:$N,$A:$A,A7,$C:$C,C7)/SUMIF($A:$A,A7,$N:$N),0) -> 0 | AD7: =IF(R7="",0,ROUND((((S7-R7)+1)/30),3)) -> 0 | AE7: =IF(T7="",0,ROUND((((U7-T7)+1)/30),3)) -> 0 | AF7: =IF(V7="",0,ROUND((((W7-V7)+1)/30),3)) -> 0 | AG7: =IF(X7="",0,ROUND((((Y7-X7)+1)/30),3)) -> 0 | AH7: =IF(Z7="",0,ROUND((((AA7-Z7)+1)/30),3)) -> 0 | AI7: =IF(AB7="",0,ROUND((((AC7-AB7)+1)/30),3)) -> 0
B8: =IF($A8="","",VLOOKUP($A8,Cierre!$A:$E,2,FALSE)) | J8: =AD8+AE8+AF8+AG8+AH8+AI8 -> 0 | K8: =IF(H8="",0,ROUND(((((I8-H8)+1)/360)*12)-J8,3)) -> 0 | M8: =ROUND(L8*G8,3) -> 0 | N8: =IF(I8="","",ROUND(M8/VLOOKUP(YEAR(I8),SMMLV!$A$2:$B$42,2,FALSE),3)) | P8: =IFERROR(SUMIFS($N:$N,$A:$A,A8,$C:$C,C8)/SUMIF($A:$A,A8,$N:$N),0) -> 0 | AD8: =IF(R8="",0,ROUND((((S8-R8)+1)/30),3)) -> 0 | AE8: =IF(T8="",0,ROUND((((U8-T8)+1)/30),3)) -> 0 | AF8: =IF(V8="",0,ROUND((((W8-V8)+1)/30),3)) -> 0 | AG8: =IF(X8="",0,ROUND((((Y8-X8)+1)/30),3)) -> 0 | AH8: =IF(Z8="",0,ROUND((((AA8-Z8)+1)/30),3)) -> 0 | AI8: =IF(AB8="",0,ROUND((((AC8-AB8)+1)/30),3)) -> 0
B9: =IF($A9="","",VLOOKUP($A9,Cierre!$A:$E,2,FALSE)) | J9: =AD9+AE9+AF9+AG9+AH9+AI9 -> 0 | K9: =IF(H9="",0,ROUND(((((I9-H9)+1)/360)*12)-J9,3)) -> 0 | M9: =ROUND(L9*G9,3) -> 0 | N9: =IF(I9="","",ROUND(M9/VLOOKUP(YEAR(I9),SMMLV!$A$2:$B$42,2,FALSE),3)) | P9: =IFERROR(SUMIFS($N:$N,$A:$A,A9,$C:$C,C9)/SUMIF($A:$A,A9,$N:$N),0) -> 0 | AD9: =IF(R9="",0,ROUND((((S9-R9)+1)/30),3)) -> 0 | AE9: =IF(T9="",0,ROUND((((U9-T9)+1)/30),3)) -> 0 | AF9: =IF(V9="",0,ROUND((((W9-V9)+1)/30),3)) -> 0 | AG9: =IF(X9="",0,ROUND((((Y9-X9)+1)/30),3)) -> 0 | AH9: =IF(Z9="",0,ROUND((((AA9-Z9)+1)/30),3)) -> 0 | AI9: =IF(AB9="",0,ROUND((((AC9-AB9)+1)/30),3)) -> 0
B10: =IF($A10="","",VLOOKUP($A10,Cierre!$A:$E,2,FALSE)) | J10: =AD10+AE10+AF10+AG10+AH10+AI10 -> 0 | K10: =IF(H10="",0,ROUND(((((I10-H10)+1)/360)*12)-J10,3)) -> 0 | M10: =ROUND(L10*G10,3) -> 0 | N10: =IF(I10="","",ROUND(M10/VLOOKUP(YEAR(I10),SMMLV!$A$2:$B$42,2,FALSE),3)) | P10: =IFERROR(SUMIFS($N:$N,$A:$A,A10,$C:$C,C10)/SUMIF($A:$A,A10,$N:$N),0) -> 0 | AD10: =IF(R10="",0,ROUND((((S10-R10)+1)/30),3)) -> 0 | AE10: =IF(T10="",0,ROUND((((U10-T10)+1)/30),3)) -> 0 | AF10: =IF(V10="",0,ROUND((((W10-V10)+1)/30),3)) -> 0 | AG10: =IF(X10="",0,ROUND((((Y10-X10)+1)/30),3)) -> 0 | AH10: =IF(Z10="",0,ROUND((((AA10-Z10)+1)/30),3)) -> 0 | AI10: =IF(AB10="",0,ROUND((((AC10-AB10)+1)/30),3)) -> 0
B11: =IF($A11="","",VLOOKUP($A11,Cierre!$A:$E,2,FALSE)) | J11: =AD11+AE11+AF11+AG11+AH11+AI11 -> 0 | K11: =IF(H11="",0,ROUND(((((I11-H11)+1)/360)*12)-J11,3)) -> 0 | M11: =ROUND(L11*G11,3) -> 0 | N11: =IF(I11="","",ROUND(M11/VLOOKUP(YEAR(I11),SMMLV!$A$2:$B$42,2,FALSE),3)) | P11: =IFERROR(SUMIFS($N:$N,$A:$A,A11,$C:$C,C11)/SUMIF($A:$A,A11,$N:$N),0) -> 0 | AD11: =IF(R11="",0,ROUND((((S11-R11)+1)/30),3)) -> 0 | AE11: =IF(T11="",0,ROUND((((U11-T11)+1)/30),3)) -> 0 | AF11: =IF(V11="",0,ROUND((((W11-V11)+1)/30),3)) -> 0 | AG11: =IF(X11="",0,ROUND((((Y11-X11)+1)/30),3)) -> 0 | AH11: =IF(Z11="",0,ROUND((((AA11-Z11)+1)/30),3)) -> 0 | AI11: =IF(AB11="",0,ROUND((((AC11-AB11)+1)/30),3)) -> 0
B12: =IF($A12="","",VLOOKUP($A12,Cierre!$A:$E,2,FALSE)) | J12: =AD12+AE12+AF12+AG12+AH12+AI12 -> 0 | K12: =IF(H12="",0,ROUND(((((I12-H12)+1)/360)*12)-J12,3)) -> 0 | M12: =ROUND(L12*G12,3) -> 0 | N12: =IF(I12="","",ROUND(M12/VLOOKUP(YEAR(I12),SMMLV!$A$2:$B$42,2,FALSE),3)) | P12: =IFERROR(SUMIFS($N:$N,$A:$A,A12,$C:$C,C12)/SUMIF($A:$A,A12,$N:$N),0) -> 0 | AD12: =IF(R12="",0,ROUND((((S12-R12)+1)/30),3)) -> 0 | AE12: =IF(T12="",0,ROUND((((U12-T12)+1)/30),3)) -> 0 | AF12: =IF(V12="",0,ROUND((((W12-V12)+1)/30),3)) -> 0 | AG12: =IF(X12="",0,ROUND((((Y12-X12)+1)/30),3)) -> 0 | AH12: =IF(Z12="",0,ROUND((((AA12-Z12)+1)/30),3)) -> 0 | AI12: =IF(AB12="",0,ROUND((((AC12-AB12)+1)/30),3)) -> 0
B13: =IF($A13="","",VLOOKUP($A13,Cierre!$A:$E,2,FALSE)) | J13: =AD13+AE13+AF13+AG13+AH13+AI13 -> 0 | K13: =IF(H13="",0,ROUND(((((I13-H13)+1)/360)*12)-J13,3)) -> 0 | M13: =ROUND(L13*G13,3) -> 0 | N13: =IF(I13="","",ROUND(M13/VLOOKUP(YEAR(I13),SMMLV!$A$2:$B$42,2,FALSE),3)) | P13: =IFERROR(SUMIFS($N:$N,$A:$A,A13,$C:$C,C13)/SUMIF($A:$A,A13,$N:$N),0) -> 0 | AD13: =IF(R13="",0,ROUND((((S13-R13)+1)/30),3)) -> 0 | AE13: =IF(T13="",0,ROUND((((U13-T13)+1)/30),3)) -> 0 | AF13: =IF(V13="",0,ROUND((((W13-V13)+1)/30),3)) -> 0 | AG13: =IF(X13="",0,ROUND((((Y13-X13)+1)/30),3)) -> 0 | AH13: =IF(Z13="",0,ROUND((((AA13-Z13)+1)/30),3)) -> 0 | AI13: =IF(AB13="",0,ROUND((((AC13-AB13)+1)/30),3)) -> 0
B14: =IF($A14="","",VLOOKUP($A14,Cierre!$A:$E,2,FALSE)) | J14: =AD14+AE14+AF14+AG14+AH14+AI14 -> 0 | K14: =IF(H14="",0,ROUND(((((I14-H14)+1)/360)*12)-J14,3)) -> 0 | M14: =ROUND(L14*G14,3) -> 0 | N14: =IF(I14="","",ROUND(M14/VLOOKUP(YEAR(I14),SMMLV!$A$2:$B$42,2,FALSE),3)) | P14: =IFERROR(SUMIFS($N:$N,$A:$A,A14,$C:$C,C14)/SUMIF($A:$A,A14,$N:$N),0) -> 0 | AD14: =IF(R14="",0,ROUND((((S14-R14)+1)/30),3)) -> 0 | AE14: =IF(T14="",0,ROUND((((U14-T14)+1)/30),3)) -> 0 | AF14: =IF(V14="",0,ROUND((((W14-V14)+1)/30),3)) -> 0 | AG14: =IF(X14="",0,ROUND((((Y14-X14)+1)/30),3)) -> 0 | AH14: =IF(Z14="",0,ROUND((((AA14-Z14)+1)/30),3)) -> 0 | AI14: =IF(AB14="",0,ROUND((((AC14-AB14)+1)/30),3)) -> 0
B15: =IF($A15="","",VLOOKUP($A15,Cierre!$A:$E,2,FALSE)) | J15: =AD15+AE15+AF15+AG15+AH15+AI15 -> 0 | K15: =IF(H15="",0,ROUND(((((I15-H15)+1)/360)*12)-J15,3)) -> 0 | M15: =ROUND(L15*G15,3) -> 0 | N15: =IF(I15="","",ROUND(M15/VLOOKUP(YEAR(I15),SMMLV!$A$2:$B$42,2,FALSE),3)) | P15: =IFERROR(SUMIFS($N:$N,$A:$A,A15,$C:$C,C15)/SUMIF($A:$A,A15,$N:$N),0) -> 0 | AD15: =IF(R15="",0,ROUND((((S15-R15)+1)/30),3)) -> 0 | AE15: =IF(T15="",0,ROUND((((U15-T15)+1)/30),3)) -> 0 | AF15: =IF(V15="",0,ROUND((((W15-V15)+1)/30),3)) -> 0 | AG15: =IF(X15="",0,ROUND((((Y15-X15)+1)/30),3)) -> 0 | AH15: =IF(Z15="",0,ROUND((((AA15-Z15)+1)/30),3)) -> 0 | AI15: =IF(AB15="",0,ROUND((((AC15-AB15)+1)/30),3)) -> 0
B16: =IF($A16="","",VLOOKUP($A16,Cierre!$A:$E,2,FALSE)) | J16: =AD16+AE16+AF16+AG16+AH16+AI16 -> 0 | K16: =IF(H16="",0,ROUND(((((I16-H16)+1)/360)*12)-J16,3)) -> 0 | M16: =ROUND(L16*G16,3) -> 0 | N16: =IF(I16="","",ROUND(M16/VLOOKUP(YEAR(I16),SMMLV!$A$2:$B$42,2,FALSE),3)) | P16: =IFERROR(SUMIFS($N:$N,$A:$A,A16,$C:$C,C16)/SUMIF($A:$A,A16,$N:$N),0) -> 0 | AD16: =IF(R16="",0,ROUND((((S16-R16)+1)/30),3)) -> 0 | AE16: =IF(T16="",0,ROUND((((U16-T16)+1)/30),3)) -> 0 | AF16: =IF(V16="",0,ROUND((((W16-V16)+1)/30),3)) -> 0 | AG16: =IF(X16="",0,ROUND((((Y16-X16)+1)/30),3)) -> 0 | AH16: =IF(Z16="",0,ROUND((((AA16-Z16)+1)/30),3)) -> 0 | AI16: =IF(AB16="",0,ROUND((((AC16-AB16)+1)/30),3)) -> 0
B17: =IF($A17="","",VLOOKUP($A17,Cierre!$A:$E,2,FALSE)) | J17: =AD17+AE17+AF17+AG17+AH17+AI17 -> 0 | K17: =IF(H17="",0,ROUND(((((I17-H17)+1)/360)*12)-J17,3)) -> 0 | M17: =ROUND(L17*G17,3) -> 0 | N17: =IF(I17="","",ROUND(M17/VLOOKUP(YEAR(I17),SMMLV!$A$2:$B$42,2,FALSE),3)) | P17: =IFERROR(SUMIFS($N:$N,$A:$A,A17,$C:$C,C17)/SUMIF($A:$A,A17,$N:$N),0) -> 0 | AD17: =IF(R17="",0,ROUND((((S17-R17)+1)/30),3)) -> 0 | AE17: =IF(T17="",0,ROUND((((U17-T17)+1)/30),3)) -> 0 | AF17: =IF(V17="",0,ROUND((((W17-V17)+1)/30),3)) -> 0 | AG17: =IF(X17="",0,ROUND((((Y17-X17)+1)/30),3)) -> 0 | AH17: =IF(Z17="",0,ROUND((((AA17-Z17)+1)/30),3)) -> 0 | AI17: =IF(AB17="",0,ROUND((((AC17-AB17)+1)/30),3)) -> 0
B18: =IF($A18="","",VLOOKUP($A18,Cierre!$A:$E,2,FALSE)) | J18: =AD18+AE18+AF18+AG18+AH18+AI18 -> 0 | K18: =IF(H18="",0,ROUND(((((I18-H18)+1)/360)*12)-J18,3)) -> 0 | M18: =ROUND(L18*G18,3) -> 0 | N18: =IF(I18="","",ROUND(M18/VLOOKUP(YEAR(I18),SMMLV!$A$2:$B$42,2,FALSE),3)) | P18: =IFERROR(SUMIFS($N:$N,$A:$A,A18,$C:$C,C18)/SUMIF($A:$A,A18,$N:$N),0) -> 0 | AD18: =IF(R18="",0,ROUND((((S18-R18)+1)/30),3)) -> 0 | AE18: =IF(T18="",0,ROUND((((U18-T18)+1)/30),3)) -> 0 | AF18: =IF(V18="",0,ROUND((((W18-V18)+1)/30),3)) -> 0 | AG18: =IF(X18="",0,ROUND((((Y18-X18)+1)/30),3)) -> 0 | AH18: =IF(Z18="",0,ROUND((((AA18-Z18)+1)/30),3)) -> 0 | AI18: =IF(AB18="",0,ROUND((((AC18-AB18)+1)/30),3)) -> 0
... B350: =IF($A350="","",VLOOKUP($A350,Cierre!$A:$E,2,FALSE)) | J350: =AD350+AE350+AF350+AG350+AH350+AI350 -> 0 | K350: =IF(H350="",0,ROUND(((((I350-H350)+1)/360)*12)-J350,3)) -> 0 | M350: =ROUND(L350*G350,3) -> 0 | N350: =IF(I350="","",ROUND(M350/VLOOKUP(YEAR(I350),SMMLV!$A$2:$B$42,2,FALSE),3)) | P350: =IFERROR(SUMIFS($N:$N,$A:$A,A350,$C:$C,C350)/SUMIF($A:$A,A350,$N:$N),0) -> 0 | AD350: =IF(R350="",0,ROUND((((S350-R350)+1)/30),3)) -> 0 | AE350: =IF(T350="",0,ROUND((((U350-T350)+1)/30),3)) -> 0 | AF350: =IF(V350="",0,ROUND((((W350-V350)+1)/30),3)) -> 0 | AG350: =IF(X350="",0,ROUND((((Y350-X350)+1)/30),3)) -> 0 | AH350: =IF(Z350="",0,ROUND((((AA350-Z350)+1)/30),3)) -> 0 | AI350: =IF(AB350="",0,ROUND((((AC350-AB350)+1)/30),3)) -> 0

Sheet Resumen Calificación
A1: No. | B1: Proponente | C1: CALIFICACIÓN JURIDICA | D1: CALIFICACIÓN FINANCIERA | E1: CALIFICACIÓN ORGANIZACIONAL | F1: CAPACIDAD RESIDUAL DE CONTRATACIÓN | G1: CALIFICACIÓN TÉCNICA | H1: FACTORES DE COMPARACIÓN DE LAS PROPUESTAS | L1: OBSERVACIONES
H2: Promoción a la industria nacional (10%) | I2: Factor de Calidad (19%) | J2: Acreditación personal en condición de discapacidad (1%) | K2: Acreditación MIPYMES
A3: 1 | B3: =VLOOKUP($A3,Cierre!$A:$E,2,FALSE) -> BULLISH CONSTRUCCIONES E INGENIERÍA SAS | C3: =VLOOKUP($A3,'Capacidad Juridica'!$A:$AR,43,FALSE) -> 0 | D3: =VLOOKUP($A3,'Capacidad Financiera'!$A:$U,18,FALSE) -> NO HÁBIL | E3: =VLOOKUP($A3,'Capacidad Financiera'!$A:$U,19,FALSE) -> NO HÁBIL | F3: =VLOOKUP($A3,'Capacidad Financiera'!$A:$U,20,FALSE) -> NO HÁBIL | G3: =IF(COUNTIF(Experiencia!$N:$N,A3)<2,IF(SUMIF(Experiencia!$A:$A,A3,Experiencia!$N:$N)>Información!$B$35*0.75,"HÁBIL","NO HÁBIL"),IF(OR(COUNTIF(Experiencia!$N:$N,A3)=3,COUNTIF(Experiencia!$N:$N,A3)=4)=TRUE,IF(SUMIF(Experiencia!$A:$A,A3,Experiencia!$N:$N)>Información!$B$35*1.2,"HÁBIL","NO HÁBIL"),IF(SUMIF(Experiencia!$A:$A,A3,Experiencia!$N:$N)>Información!$B$35*1.5,"HÁBIL","NO HÁBIL"))) -> HÁBIL | I3: 0.19 | J3: 0.01
A4: 2 | B4: =VLOOKUP($A4,Cierre!$A:$E,2,FALSE) -> UNIÓN TEMPORAL MANIZALES 2021 | C4: =VLOOKUP($A4,'Capacidad Juridica'!$A:$AR,43,FALSE) -> 0 | D4: =VLOOKUP($A4,'Capacidad Financiera'!$A:$U,18,FALSE) -> NO HÁBIL | E4: =VLOOKUP($A4,'Capacidad Financiera'!$A:$U,19,FALSE) -> NO HÁBIL | F4: =VLOOKUP($A4,'Capacidad Financiera'!$A:$U,20,FALSE) -> NO HÁBIL | G4: =IF(COUNTIF(Experiencia!$N:$N,A4)<2,IF(SUMIF(Experiencia!$A:$A,A4,Experiencia!$N:$N)>Información!$B$35*0.75,"HÁBIL","NO HÁBIL"),IF(OR(COUNTIF(Experiencia!$N:$N,A4)=3,COUNTIF(Experiencia!$N:$N,A4)=4)=TRUE,IF(SUMIF(Experiencia!$A:$A,A4,Experiencia!$N:$N)>Información!$B$35*1.2,"HÁBIL","NO HÁBIL"),IF(SUMIF(Experiencia!$A:$A,A4,Experiencia!$N:$N)>Información!$B$35*1.5,"HÁBIL","NO HÁBIL"))) -> NO HÁBIL
A5: 3 | B5: =VLOOKUP($A5,Cierre!$A:$E,2,FALSE) -> CONSORCIO IP MANIZALES | C5: =VLOOKUP($A5,'Capacidad Juridica'!$A:$AR,43,FALSE) -> 0 | D5: =VLOOKUP($A5,'Capacidad Financiera'!$A:$U,18,FALSE) -> HÁBIL | E5: =VLOOKUP($A5,'Capacidad Financiera'!$A:$U,19,FALSE) -> HÁBIL | F5: =VLOOKUP($A5,'Capacidad Financiera'!$A:$U,20,FALSE) -> HÁBIL | G5: =IF(COUNTIF(Experiencia!$N:$N,A5)<2,IF(SUMIF(Experiencia!$A:$A,A5,Experiencia!$N:$N)>Información!$B$35*0.75,"HÁBIL","NO HÁBIL"),IF(OR(COUNTIF(Experiencia!$N:$N,A5)=3,COUNTIF(Experiencia!$N:$N,A5)=4)=TRUE,IF(SUMIF(Experiencia!$A:$A,A5,Experiencia!$N:$N)>Información!$B$35*1.2,"HÁBIL","NO HÁBIL"),IF(SUMIF(Experiencia!$A:$A,A5,Experiencia!$N:$N)>Información!$B$35*1.5,"HÁBIL","NO HÁBIL"))) -> NO HÁBIL
A6: 4 | B6: =VLOOKUP($A6,Cierre!$A:$E,2,FALSE) -> UT MANIZALES 2021 | C6: =VLOOKUP($A6,'Capacidad Juridica'!$A:$AR,43,FALSE) -> 0 | D6: =VLOOKUP($A6,'Capacidad Financiera'!$A:$U,18,FALSE) -> HÁBIL | E6: =VLOOKUP($A6,'Capacidad Financiera'!$A:$U,19,FALSE) -> HÁBIL | F6: =VLOOKUP($A6,'Capacidad Financiera'!$A:$U,20,FALSE) -> HÁBIL | G6: =IF(COUNTIF(Experiencia!$N:$N,A6)<2,IF(SUMIF(Experiencia!$A:$A,A6,Experiencia!$N:$N)>Información!$B$35*0.75,"HÁBIL","NO HÁBIL"),IF(OR(COUNTIF(Experiencia!$N:$N,A6)=3,COUNTIF(Experiencia!$N:$N,A6)=4)=TRUE,IF(SUMIF(Experiencia!$A:$A,A6,Experiencia!$N:$N)>Información!$B$35*1.2,"HÁBIL","NO HÁBIL"),IF(SUMIF(Experiencia!$A:$A,A6,Experiencia!$N:$N)>Información!$B$35*1.5,"HÁBIL","NO HÁBIL"))) -> NO HÁBIL
A7: 5 | B7: =VLOOKUP($A7,Cierre!$A:$E,2,FALSE) -> INGENIERIA VOLQUETAS Y CONSTRUCCIONES - INGEVOLCO SAS | C7: =VLOOKUP($A7,'Capacidad Juridica'!$A:$AR,43,FALSE) -> 0 | D7: =VLOOKUP($A7,'Capacidad Financiera'!$A:$U,18,FALSE) -> HÁBIL | E7: =VLOOKUP($A7,'Capacidad Financiera'!$A:$U,19,FALSE) -> HÁBIL | F7: =VLOOKUP($A7,'Capacidad Financiera'!$A:$U,20,FALSE) -> HÁBIL | G7: =IF(COUNTIF(Experiencia!$N:$N,A7)<2,IF(SUMIF(Experiencia!$A:$A,A7,Experiencia!$N:$N)>Información!$B$35*0.75,"HÁBIL","NO HÁBIL"),IF(OR(COUNTIF(Experiencia!$N:$N,A7)=3,COUNTIF(Experiencia!$N:$N,A7)=4)=TRUE,IF(SUMIF(Experiencia!$A:$A,A7,Experiencia!$N:$N)>Información!$B$35*1.2,"HÁBIL","NO HÁBIL"),IF(SUMIF(Experiencia!$A:$A,A7,Experiencia!$N:$N)>Información!$B$35*1.5,"HÁBIL","NO HÁBIL"))) -> NO HÁBIL
A8: 6 | B8: =VLOOKUP($A8,Cierre!$A:$E,2,FALSE) -> CESAR AUGUSTO GIRALDO ATEHORTUA | C8: =VLOOKUP($A8,'Capacidad Juridica'!$A:$AR,43,FALSE) -> 0 | D8: =VLOOKUP($A8,'Capacidad Financiera'!$A:$U,18,FALSE) -> #N/A | E8: =VLOOKUP($A8,'Capacidad Financiera'!$A:$U,19,FALSE) -> #N/A | F8: =VLOOKUP($A8,'Capacidad Financiera'!$A:$U,20,FALSE) -> #N/A | G8: =IF(COUNTIF(Experiencia!$N:$N,A8)<2,IF(SUMIF(Experiencia!$A:$A,A8,Experiencia!$N:$N)>Información!$B$35*0.75,"HÁBIL","NO HÁBIL"),IF(OR(COUNTIF(Experiencia!$N:$N,A8)=3,COUNTIF(Experiencia!$N:$N,A8)=4)=TRUE,IF(SUMIF(Experiencia!$A:$A,A8,Experiencia!$N:$N)>Información!$B$35*1.2,"HÁBIL","NO HÁBIL"),IF(SUMIF(Experiencia!$A:$A,A8,Experiencia!$N:$N)>Información!$B$35*1.5,"HÁBIL","NO HÁBIL"))) -> NO HÁBIL
A9: 7 | B9: =VLOOKUP($A9,Cierre!$A:$E,2,FALSE) -> CONSORCIO LM MANIZALES | C9: =VLOOKUP($A9,'Capacidad Juridica'!$A:$AR,43,FALSE) -> 0 | D9: =VLOOKUP($A9,'Capacidad Financiera'!$A:$U,18,FALSE) -> #N/A | E9: =VLOOKUP($A9,'Capacidad Financiera'!$A:$U,19,FALSE) -> #N/A | F9: =VLOOKUP($A9,'Capacidad Financiera'!$A:$U,20,FALSE) -> #N/A | G9: =IF(COUNTIF(Experiencia!$N:$N,A9)<2,IF(SUMIF(Experiencia!$A:$A,A9,Experiencia!$N:$N)>Información!$B$35*0.75,"HÁBIL","NO HÁBIL"),IF(OR(COUNTIF(Experiencia!$N:$N,A9)=3,COUNTIF(Experiencia!$N:$N,A9)=4)=TRUE,IF(SUMIF(Experiencia!$A:$A,A9,Experiencia!$N:$N)>Información!$B$35*1.2,"HÁBIL","NO HÁBIL"),IF(SUMIF(Experiencia!$A:$A,A9,Experiencia!$N:$N)>Información!$B$35*1.5,"HÁBIL","NO HÁBIL"))) -> NO HÁBIL
A10: 8 | B10: =VLOOKUP($A10,Cierre!$A:$E,2,FALSE) -> SYC – S.A.S. | C10: =VLOOKUP($A10,'Capacidad Juridica'!$A:$AR,43,FALSE) -> 0 | D10: =VLOOKUP($A10,'Capacidad Financiera'!$A:$U,18,FALSE) -> #N/A | E10: =VLOOKUP($A10,'Capacidad Financiera'!$A:$U,19,FALSE) -> #N/A | F10: =VLOOKUP($A10,'Capacidad Financiera'!$A:$U,20,FALSE) -> #N/A | G10: =IF(COUNTIF(Experiencia!$N:$N,A10)<2,IF(SUMIF(Experiencia!$A:$A,A10,Experiencia!$N:$N)>Información!$B$35*0.75,"HÁBIL","NO HÁBIL"),IF(OR(COUNTIF(Experiencia!$N:$N,A10)=3,COUNTIF(Experiencia!$N:$N,A10)=4)=TRUE,IF(SUMIF(Experiencia!$A:$A,A10,Experiencia!$N:$N)>Información!$B$35*1.2,"HÁBIL","NO HÁBIL"),IF(SUMIF(Experiencia!$A:$A,A10,Experiencia!$N:$N)>Información!$B$35*1.5,"HÁBIL","NO HÁBIL"))) -> NO HÁBIL
A11: 9 | B11: =VLOOKUP($A11,Cierre!$A:$E,2,FALSE) -> CONCRE ACERO SAS | C11: =VLOOKUP($A11,'Capacidad Juridica'!$A:$AR,43,FALSE) -> 0 | D11: =VLOOKUP($A11,'Capacidad Financiera'!$A:$U,18,FALSE) -> #N/A | E11: =VLOOKUP($A11,'Capacidad Financiera'!$A:$U,19,FALSE) -> #N/A | F11: =VLOOKUP($A11,'Capacidad Financiera'!$A:$U,20,FALSE) -> #N/A | G11: =IF(COUNTIF(Experiencia!$N:$N,A11)<2,IF(SUMIF(Experiencia!$A:$A,A11,Experiencia!$N:$N)>Información!$B$35*0.75,"HÁBIL","NO HÁBIL"),IF(OR(COUNTIF(Experiencia!$N:$N,A11)=3,COUNTIF(Experiencia!$N:$N,A11)=4)=TRUE,IF(SUMIF(Experiencia!$A:$A,A11,Experiencia!$N:$N)>Información!$B$35*1.2,"HÁBIL","NO HÁBIL"),IF(SUMIF(Experiencia!$A:$A,A11,Experiencia!$N:$N)>Información!$B$35*1.5,"HÁBIL","NO HÁBIL"))) -> NO HÁBIL
A12: 10 | B12: =VLOOKUP($A12,Cierre!$A:$E,2,FALSE) -> JAIME ALBERTO OSORIO | C12: =VLOOKUP($A12,'Capacidad Juridica'!$A:$AR,43,FALSE) -> 0 | D12: =VLOOKUP($A12,'Capacidad Financiera'!$A:$U,18,FALSE) -> #N/A | E12: =VLOOKUP($A12,'Capacidad Financiera'!$A:$U,19,FALSE) -> #N/A | F12: =VLOOKUP($A12,'Capacidad Financiera'!$A:$U,20,FALSE) -> #N/A | G12: =IF(COUNTIF(Experiencia!$N:$N,A12)<2,IF(SUMIF(Experiencia!$A:$A,A12,Experiencia!$N:$N)>Información!$B$35*0.75,"HÁBIL","NO HÁBIL"),IF(OR(COUNTIF(Experiencia!$N:$N,A12)=3,COUNTIF(Experiencia!$N:$N,A12)=4)=TRUE,IF(SUMIF(Experiencia!$A:$A,A12,Experiencia!$N:$N)>Información!$B$35*1.2,"HÁBIL","NO HÁBIL"),IF(SUMIF(Experiencia!$A:$A,A12,Experiencia!$N:$N)>Información!$B$35*1.5,"HÁBIL","NO HÁBIL"))) -> NO HÁBIL
A13: 11 | B13: =VLOOKUP($A13,Cierre!$A:$E,2,FALSE) -> SOCOCIL S.A.S. | C13: =VLOOKUP($A13,'Capacidad Juridica'!$A:$AR,43,FALSE) -> 0 | D13: =VLOOKUP($A13,'Capacidad Financiera'!$A:$U,18,FALSE) -> #N/A | E13: =VLOOKUP($A13,'Capacidad Financiera'!$A:$U,19,FALSE) -> #N/A | F13: =VLOOKUP($A13,'Capacidad Financiera'!$A:$U,20,FALSE) -> #N/A | G13: =IF(COUNTIF(Experiencia!$N:$N,A13)<2,IF(SUMIF(Experiencia!$A:$A,A13,Experiencia!$N:$N)>Información!$B$35*0.75,"HÁBIL","NO HÁBIL"),IF(OR(COUNTIF(Experiencia!$N:$N,A13)=3,COUNTIF(Experiencia!$N:$N,A13)=4)=TRUE,IF(SUMIF(Experiencia!$A:$A,A13,Experiencia!$N:$N)>Información!$B$35*1.2,"HÁBIL","NO HÁBIL"),IF(SUMIF(Experiencia!$A:$A,A13,Experiencia!$N:$N)>Información!$B$35*1.5,"HÁBIL","NO HÁBIL"))) -> NO HÁBIL
A14: 12 | B14: =VLOOKUP($A14,Cierre!$A:$E,2,FALSE) -> MONTAJES DE MARCA S.A. | C14: =VLOOKUP($A14,'Capacidad Juridica'!$A:$AR,43,FALSE) -> 0 | D14: =VLOOKUP($A14,'Capacidad Financiera'!$A:$U,18,FALSE) -> #N/A | E14: =VLOOKUP($A14,'Capacidad Financiera'!$A:$U,19,FALSE) -> #N/A | F14: =VLOOKUP($A14,'Capacidad Financiera'!$A:$U,20,FALSE) -> #N/A | G14: =IF(COUNTIF(Experiencia!$N:$N,A14)<2,IF(SUMIF(Experiencia!$A:$A,A14,Experiencia!$N:$N)>Información!$B$35*0.75,"HÁBIL","NO HÁBIL"),IF(OR(COUNTIF(Experiencia!$N:$N,A14)=3,COUNTIF(Experiencia!$N:$N,A14)=4)=TRUE,IF(SUMIF(Experiencia!$A:$A,A14,Experiencia!$N:$N)>Información!$B$35*1.2,"HÁBIL","NO HÁBIL"),IF(SUMIF(Experiencia!$A:$A,A14,Experiencia!$N:$N)>Información!$B$35*1.5,"HÁBIL","NO HÁBIL"))) -> NO HÁBIL
A15: 13 | B15: =VLOOKUP($A15,Cierre!$A:$E,2,FALSE) -> CONSORCIO ARES | C15: =VLOOKUP($A15,'Capacidad Juridica'!$A:$AR,43,FALSE) -> 0 | D15: =VLOOKUP($A15,'Capacidad Financiera'!$A:$U,18,FALSE) -> #N/A | E15: =VLOOKUP($A15,'Capacidad Financiera'!$A:$U,19,FALSE) -> #N/A | F15: =VLOOKUP($A15,'Capacidad Financiera'!$A:$U,20,FALSE) -> #N/A | G15: =IF(COUNTIF(Experiencia!$N:$N,A15)<2,IF(SUMIF(Experiencia!$A:$A,A15,Experiencia!$N:$N)>Información!$B$35*0.75,"HÁBIL","NO HÁBIL"),IF(OR(COUNTIF(Experiencia!$N:$N,A15)=3,COUNTIF(Experiencia!$N:$N,A15)=4)=TRUE,IF(SUMIF(Experiencia!$A:$A,A15,Experiencia!$N:$N)>Información!$B$35*1.2,"HÁBIL","NO HÁBIL"),IF(SUMIF(Experiencia!$A:$A,A15,Experiencia!$N:$N)>Información!$B$35*1.5,"HÁBIL","NO HÁBIL"))) -> NO HÁBIL
... A182: 180 | B182: =VLOOKUP($A182,Cierre!$A:$E,2,FALSE) -> #N/A | C182: =VLOOKUP($A182,'Capacidad Juridica'!$A:$AR,43,FALSE) -> 0 | D182: =VLOOKUP($A182,'Capacidad Financiera'!$A:$U,18,FALSE) -> #N/A | E182: =VLOOKUP($A182,'Capacidad Financiera'!$A:$U,19,FALSE) -> #N/A | F182: =VLOOKUP($A182,'Capacidad Financiera'!$A:$U,20,FALSE) -> #N/A | G182: =IF(COUNTIF(Experiencia!$N:$N,A182)<2,IF(SUMIF(Experiencia!$A:$A,A182,Experiencia!$N:$N)>Información!$B$35*0.75,"HÁBIL","NO HÁBIL"),IF(OR(COUNTIF(Experiencia!$N:$N,A182)=3,COUNTIF(Experiencia!$N:$N,A182)=4)=TRUE,IF(SUMIF(Experiencia!$A:$A,A182,Experiencia!$N:$N)>Información!$B$35*1.2,"HÁBIL","NO HÁBIL"),IF(SUMIF(Experiencia!$A:$A,A182,Experiencia!$N:$N)>Información!$B$35*1.5,"HÁBIL","NO HÁBIL"))) -> NO HÁBIL

Sheet SMMLV
A1: PERÍODO | B1: MONTO MENSUAL
A2: 1980 | B2: 4500
A3: 1981 | B3: 5700
A4: 1982 | B4: 7410
A5: 1983 | B5: 9261
A6: 1984 | B6: 11298
A7: 1985 | B7: 13558
A8: 1986 | B8: 16811
A9: 1987 | B9: 20510
A10: 1988 | B10: 25637
A11: 1989 | B11: 32560
A12: 1990 | B12: 41025
A13: 1991 | B13: 51716
... A42: 2020 | B42: 877803
A43: 2021 | B43: 908526 | D43: =B43*E43 -> 1.8046453e+11 | E43: 198634.41 | F43: CODENCO
A44: SI | D44: =E44*B43 -> 1.477276e+10 | E44: 16260.14
A45: NO | D45: =B43*E45 -> 1.1648939e+10 | E45: 12821.8
A46: N/A | D46: =B43*E46 -> 3.5508103e+09 | E46: 3908.32 | F46: ALDAVIA | G46: 3550810336
A47: PRESENTA | D47: =E47*B43 -> 1.7138244e+10 | E47: 18863.79 | F47: CASIMIRO | G47: 17138243674
A48: NO PRESENTA | D48: =E48*B43 -> 1.1920043e+10 | E48: 13120.2 | F48: CAMPO ELIAS | G48: 11920042825
A49: N/A | D49: =B43*E49 -> 2.1011284e+11 | E49: 231267.83 | F49: IRMA SERNA | G49: 21011283651
D50: =E50*B43 -> 7.6330357e+09 | E50: 8401.56 | F50: JOSE | G50: 7633035701
A51: C | D51: =B43*E51 -> 4.7361224e+10 | E51: 52129.74 | F51: DISSER INGENIERÍA | G51: 4.7361224e+10
A52: UT
A53: I
A55: CUMPLE
A56: NO CUMPLE
A57: N/A
A58: CONSULTADOS ENTIDAD
A61: HÁBIL
A62: NO HÁBIL
A63: SUBSANAR
A65: MÓDULO 1 | B65: 570065278
A66: MÓDULO 2 | B66: 570065278
A67: MÓDULO 3 | B67: 570065278
A68: MÓDULO 4 | B68: 570065278
A69: MÓDULO 5 | B69: 570065278
A70: MÓDULO 6 | B70: 570065278
