Workbook
Name \0: #REF!
Name \00: #REF!
Name \a: #REF!
Name \a: #REF!
Name \AA: [1]LIQUIDACION!#REF!
Name \b: [2]STRSUMM0!#REF!
Name \bb: [2]STRSUMM0!#REF!
Name \E: #REF!
Name \EE: #REF!
Name \G: #REF!
Name \k: '[3]7422CW00'!#REF!
Name \l: [4]STRSUMM0!#REF!
Name \M: #REF!
Name \ñ: '[5]7422CW00'!#REF!
Name \P: #REF!
Name \R: #REF!
Name \s: #REF!
Name \s: #REF!
Name \V: #REF!
Name \X: 'INDICAR CÓDIGO DEL ITEM DE PAGO'!ERR
Name \X: [0]!ERR
Name \Z: 'INDICAR CÓDIGO DEL ITEM DE PAGO'!ERR
Name \Z: [0]!ERR
Name _________AFC1: [6]INV!$A$25:$D$28
Name _________AFC3: [6]INV!$F$25:$I$28
Name _________AFC5: [6]INV!$K$25:$N$28
Name _________BGC1: [6]INV!$A$5:$D$8
Name _________BGC3: [6]INV!$F$5:$I$8
Name _________BGC5: [6]INV!$K$5:$N$8
Name _________CAC1: [6]INV!$A$19:$D$22
Name _________CAC3: [6]INV!$F$19:$I$22
Name _________CAC5: [6]INV!$K$19:$N$22
Name _________PJ50: #REF!
Name _________PJ50: #REF!
Name _________SBC1: [6]INV!$A$12:$D$15
Name _________SBC3: [6]INV!$F$12:$I$15
Name _________SBC5: [6]INV!$K$12:$N$15
Name ________AFC1: [6]INV!$A$25:$D$28
Name ________AFC3: [6]INV!$F$25:$I$28
Name ________AFC5: [6]INV!$K$25:$N$28
Name ________BGC1: [6]INV!$A$5:$D$8
Name ________BGC3: [6]INV!$F$5:$I$8
Name ________BGC5: [6]INV!$K$5:$N$8
Name ________CAC1: [6]INV!$A$19:$D$22
Name ________CAC3: [6]INV!$F$19:$I$22
Name ________CAC5: [6]INV!$K$19:$N$22
Name ________MA2: #REF!
Name ________MA2: #REF!
Name ________PJ50: #REF!
Name ________PJ50: #REF!
Name ________SBC1: [6]INV!$A$12:$D$15
Name ________SBC3: [6]INV!$F$12:$I$15
Name ________SBC5: [6]INV!$K$12:$N$15
Name _______AFC1: [6]INV!$A$25:$D$28
Name _______AFC3: [6]INV!$F$25:$I$28
Name _______AFC5: [6]INV!$K$25:$N$28
Name _______BGC1: [6]INV!$A$5:$D$8
Name _______BGC3: [6]INV!$F$5:$I$8
Name _______BGC5: [6]INV!$K$5:$N$8
Name _______CAC1: [6]INV!$A$19:$D$22

Sheet PRESUPUESTO OFICIAL
C2: Código | D2: CCE-EICP-FM-25 | E2: Versión | F2: 1
C3: FORMULARIO 1
C4: PRESUPUESTO OFICIAL - selección abreviada de menor cuantía No. 20000698 H4
C5: [El presente formulario aplica para los procesos de contratación que tengan como forma de pago precios unitarios. Tratándose de otras modalidades de precio, la Entidad debe ajustarlo cuando corresponde a: precio global, llave en mano, administración delegada, reembolso de gastos o cualquier otra forma precio]
C7: Adicionalmente, cuando el proceso de contratación es estructurado por precios unitarios, la Entidad debe aplicar las notas 1, 2 y 3 del presente formulario y las casillas de "Descripción", "Porcentaje" de la Administración, Imprevisto, Utilidad y total A.I.U. resaltadas en colo amarillo. Tratándose de otras modalidades de precio, la Entidad puede o no configurar los mismos aspectos.
C9: Nº | D9: ITEM DE PAGO | E9: ESPECIFICACIONES | G9: DESCRIPCION | H9: UND. | I9: CANTIDAD | J9: VALOR UNITARIO | K9: VALOR TOTAL
E10: GENERAL | F10: PARTICULAR
C11: 1 | G11: OBRAS DE AMPLIACION Y ADECUACION CUBIERTA SEI B/VENTURA
C12: =+C11+0.01 -> 1.01 | D12: 10-05-24 | E12: X | G12: DESM.CUBIERTA ZINC + ENTRAMADO | H12: M2 | I12: 120 | J12: 14003.965 | K12: =ROUND(I12*J12,0) -> 1680476
C13: =+C12+0.01 -> 1.02 | D13: 10-05-03 | E13: X | G13: DESM.CORREA METALICA [E] | H13: ML | I13: 75 | J13: 2489.0768 | K13: =ROUND(I13*J13,0) -> 186681
C14: =+C13+0.01 -> 1.03 | D14: APU-01 | E14: X | G14: DESMONTE DE CERCHA METALICAS DE 12 MTS | H14: UND | I14: 5 | J14: 198559.7 | K14: =ROUND(I14*J14,0) -> 992799
C15: =+C14+0.01 -> 1.04 | D15: 10-04-13 | E15: X | G15: DEMOL.EDIFICACION EXISTENTE + RETIRO | H15: M2 | I15: 66 | J15: 34139.898 | K15: =ROUND(I15*J15,0) -> 2253233
C16: =+C15+0.01 -> 1.05 | D16: 10-02-16 | E16: X | G16: DEMOL.VIGA CONCRETO 36C-45CM | H16: ML | I16: 66 | J16: 9777.1867 | K16: =ROUND(I16*J16,0) -> 645294
C17: =+C16+0.01 -> 1.06 | D17: 10-02-15 | E17: X | G17: DEMOL.VIGA CANAL | H17: ML | I17: 12 | J17: 19782.345 | K17: =ROUND(I17*J17,0) -> 237388
C18: =+C17+0.01 -> 1.07 | D18: 17-24-15 | E18: X | G18: RETIRO SALIDA ELECTRICA | H18: UND | I18: 6 | J18: 14286.603 | K18: =ROUND(I18*J18,0) -> 85720
C19: =+C18+0.01 -> 1.08 | D19: 17-24-17 | E19: X | G19: RETIRO SWITCHE O TOMA | H19: UND | I19: 6 | J19: 3006.6652 | K19: =ROUND(I19*J19,0) -> 18040
C20: =+C19+0.01 -> 1.09 | D20: 17-24-11 | E20: X | G20: RETIRO DE CABLE #16 A #10 | H20: ML | I20: 100 | J20: 538.52456 | K20: =ROUND(I20*J20,0) -> 53852
C21: =+C20+0.01 -> 1.1 | D21: 05-20-01 | E21: X | G21: DESM.CAMARA VIDEO-PUNTO CCTV-ENERGIA | H21: UND | I21: 1 | J21: 38043.329 | K21: =ROUND(I21*J21,0) -> 38043
C22: =+C21+0.01 -> 1.11 | D22: APU-02 | E22: X | G22: DESMONTE DE REDOBLON SOBRE CUBIERTA | H22: ML | I22: 45 | J22: 30424.893 | K22: =ROUND(I22*J22,0) -> 1369120
C23: =+C22+0.01 -> 1.12 | D23: 13-02-04 | E23: X | G23: COLUMNA CONCRETO 3000 PSI | H23: M3 | I23: 2 | J23: 927029.9 | K23: =ROUND(I23*J23,0) -> 1854060
... C47: =+C46+0.01 -> 1.36 | D47: 31-01-07 | E47: X | G47: LIMPIEZA PERMANENTE OBRA (CUADRILLA 2P) | H47: MES | I47: 3 | J47: 3800610.9 | K47: =ROUND(I47*J47,0) -> 11401833
C48: 2 | E48: MEJORAMIENTO CUARTO DE BASURAS. | G48: MEJORAMIENTO CUARTO DE BASURAS.
C49: =+C48+0.01 -> 2.01 | D49: 10-03-05 | E49: X | G49: DEMOL.ENCHAPE CERAMICO | H49: M2 | I49: 45.2 | J49: 8688.5064 | K49: =ROUND(I49*J49,0) -> 392720
C50: =+C49+0.01 -> 2.02 | D50: 10-04-07 | E50: X | G50: DEMOL.PISO ENCHAPE-BALDOSA+MORTERO | H50: M2 | I50: 12 | J50: 7013.6136 | K50: =ROUND(I50*J50,0) -> 84163
C51: =+C50+0.01 -> 2.03 | D51: 20-02-19 | E51: X | G51: CERAMICA 20.01-22.50 X 20.01-22.50 TRAF | H51: M2 | I51: 12 | J51: 57190.61 | K51: =ROUND(I51*J51,0) -> 686287
C52: =+C51+0.01 -> 2.04 | D52: 29-01-15 | E52: X | G52: RASQUETEADA-LIJADA-RESANE | H52: M2 | I52: 20.4 | J52: 2058.7224 | K52: =ROUND(I52*J52,0) -> 41998
C53: =+C52+0.01 -> 2.05 | D53: 29-06-06 | E53: X | G53: KORAZA DOB VIDA SUPERF.REPELLO [3M] | H53: M2 | I53: 20.4 | J53: 24294.087 | K53: =ROUND(I53*J53,0) -> 495599
C54: =+C53+0.01 -> 2.06 | D54: 19-05-33 | E54: X | G54: ENCHAPE CERAMICA 25x35 | H54: M2 | I54: 45.2 | J54: 51933.308 | K54: =ROUND(I54*J54,0) -> 2347386
C55: =+C54+0.01 -> 2.07 | D55: 10-05-10 | E55: X | G55: DESM.ESTRUCTURA MADERA T.ASBESTO CEMENTO | H55: M2 | I55: 15.75 | J55: 8845.5276 | K55: =ROUND(I55*J55,0) -> 139317
C56: =+C55+0.01 -> 2.08 | D56: 18-09-11 | E56: X | G56: TEJA POLICARBONATO TRAPEZOIDAL 82CM | H56: M2 | I56: 15.75 | J56: 70834.008 | K56: =ROUND(I56*J56,0) -> 1115636
C57: =+C56+0.01 -> 2.09 | D57: 29-01-18 | E57: X | G57: RASQUETEADA-LAVADA SUPERFICIE | H57: M2 | I57: 37.8 | J57: 3279.9984 | K57: =ROUND(I57*J57,0) -> 123984
C58: =+C57+0.01 -> 2.1 | D58: 29-05-03 | E58: X | G58: PROTECCION FACHADAS | H58: M2 | I58: 37.8 | J58: 7420.7056 | K58: =ROUND(I58*J58,0) -> 280503
C59: =+C58+0.01 -> 2.11 | D59: 29-03-04 | E59: X | G59: VINILO MURO TIPO 1 [3M] | H59: M2 | I59: 37.8 | J59: 10677.442 | K59: =ROUND(I59*J59,0) -> 403607
C60: =+C59+0.01 -> 2.12 | D60: APU-08 | E60: X | G60: MANTENIMIENTO PUERTA 2MTS | H60: UND | I60: 1 | J60: 621170.05 | K60: =ROUND(I60*J60,0) -> 621170
... C68: =+C67+0.01 -> 2.2 | D68: 15-03-23- | E68: X | G68: SIFON SANITARIO PVC 2" | H68: UND | I68: 1 | J68: 8141.84 | K68: =ROUND(I68*J68,0) -> 8142
C69: 3 | E69: ANTIGUA BODEGA
C70: =+C69+0.01 -> 3.01 | D70: 10-04-13 | E70: X | G70: DEMOL.EDIFICACION EXISTENTE + RETIRO | H70: M2 | I70: 240 | J70: 34139.898 | K70: =ROUND(I70*J70,0) -> 8193576
C71: Subtotal
G73: COSTO DIRECTO | K73: =SUM(K12:K72) -> 257870425
G74: ADMINISTRACION | J74: =+K82 -> 0.21 | K74: =ROUND(K73*J74,0) -> 54152789
...

Sheet PROPUESTA ECONOMICA
C2: Código | D2: CCE-EICP-FM-25 | E2: Versión | F2: 1
C3: FORMULARIO 1
C4: PROPUESTA ECONOMICA - selección abreviada de menor cuantía No. 20000698 H4
C5: [Los proponentes deben usar el presente formulario para determinar su propuesta económica conforme al Formulario 1 - Presupuesto Oficial publicado por la Entidad] [El presente formato aplica para los procesos de contratación que tengan como forma de pago precios unitarios , la Entidad debe ajustarlo cuando la modalidad de pago corresponde a: precio global, llave en mano, administración delegada, reembolso de gastos o cualquier otra forma de pago.]
C7: Cuando el proceso de contratación es estructurado por precios unitarios, la Entidad debe aplicar las notas 1, 2 y 3 del presente formato y las casillas de "Descripción", "Porcentaje" de la Administración, Imprevisto, Utilidad y total A.I.U. resaltadas en color amarillo.
C9: Nº | D9: ITEM DE PAGO | E9: ESPECIFICACIONES | G9: DESCRIPCION | H9: UND. | I9: CANTIDAD | J9: VALOR UNITARIO | K9: VALOR TOTAL
E10: GENERAL | F10: PARTICULAR
C11: =+'PRESUPUESTO OFICIAL'!C11 -> 1 | E11: =+'PRESUPUESTO OFICIAL'!G11 -> OBRAS DE AMPLIACION Y ADECUACION CUBIERTA SEI B/VENTURA
C12: =+'PRESUPUESTO OFICIAL'!C12 -> 1.01 | E12: X | G12: DESM.CUBIERTA ZINC + ENTRAMADO | H12: M2 | I12: 120
C13: =+'PRESUPUESTO OFICIAL'!C13 -> 1.02 | E13: X | G13: DESM.CORREA METALICA [E] | H13: ML | I13: 75
C14: =+'PRESUPUESTO OFICIAL'!C14 -> 1.03 | E14: X | G14: DESMONTE DE CERCHA METALICAS DE 12 MTS | H14: UND | I14: 5
C15: =+'PRESUPUESTO OFICIAL'!C15 -> 1.04 | E15: X | G15: DEMOL.EDIFICACION EXISTENTE + RETIRO | H15: M2 | I15: 66
C16: =+'PRESUPUESTO OFICIAL'!C16 -> 1.05 | E16: X | G16: DEMOL.VIGA CONCRETO 36C-45CM | H16: ML | I16: 66
C17: =+'PRESUPUESTO OFICIAL'!C17 -> 1.06 | E17: X | G17: DEMOL.VIGA CANAL | H17: ML | I17: 12
C18: =+'PRESUPUESTO OFICIAL'!C18 -> 1.07 | E18: X | G18: RETIRO SALIDA ELECTRICA | H18: UND | I18: 6
C19: =+'PRESUPUESTO OFICIAL'!C19 -> 1.08 | E19: X | G19: RETIRO SWITCHE O TOMA | H19: UND | I19: 6
C20: =+'PRESUPUESTO OFICIAL'!C20 -> 1.09 | E20: X | G20: RETIRO DE CABLE #16 A #10 | H20: ML | I20: 100
C21: =+'PRESUPUESTO OFICIAL'!C21 -> 1.1 | E21: X | G21: DESM.CAMARA VIDEO-PUNTO CCTV-ENERGIA | H21: UND | I21: 1
C22: =+'PRESUPUESTO OFICIAL'!C22 -> 1.11 | E22: X | G22: DESMONTE DE REDOBLON SOBRE CUBIERTA | H22: ML | I22: 45
C23: =+'PRESUPUESTO OFICIAL'!C23 -> 1.12 | E23: X | G23: COLUMNA CONCRETO 3000 PSI | H23: M3 | I23: 2
... C47: =+'PRESUPUESTO OFICIAL'!C47 -> 1.36 | E47: X | G47: LIMPIEZA PERMANENTE OBRA (CUADRILLA 2P) | H47: MES | I47: 3
C48: 2 | E48: MEJORAMIENTO CUARTO DE BASURAS. | G48: MEJORAMIENTO CUARTO DE BASURAS.
C49: =+'PRESUPUESTO OFICIAL'!C49 -> 2.01 | E49: X | G49: DEMOL.ENCHAPE CERAMICO | H49: M2 | I49: 45.2
C50: =+'PRESUPUESTO OFICIAL'!C50 -> 2.02 | E50: X | G50: DEMOL.PISO ENCHAPE-BALDOSA+MORTERO | H50: M2 | I50: 12
C51: =+'PRESUPUESTO OFICIAL'!C51 -> 2.03 | E51: X | G51: CERAMICA 20.01-22.50 X 20.01-22.50 TRAF | H51: M2 | I51: 12
C52: =+'PRESUPUESTO OFICIAL'!C52 -> 2.04 | E52: X | G52: RASQUETEADA-LIJADA-RESANE | H52: M2 | I52: 20.4
C53: =+'PRESUPUESTO OFICIAL'!C53 -> 2.05 | E53: X | G53: KORAZA DOB VIDA SUPERF.REPELLO [3M] | H53: M2 | I53: 20.4
C54: =+'PRESUPUESTO OFICIAL'!C54 -> 2.06 | E54: X | G54: ENCHAPE CERAMICA 25x35 | H54: M2 | I54: 45.2
C55: =+'PRESUPUESTO OFICIAL'!C55 -> 2.07 | E55: X | G55: DESM.ESTRUCTURA MADERA T.ASBESTO CEMENTO | H55: M2 | I55: 15.75
C56: =+'PRESUPUESTO OFICIAL'!C56 -> 2.08 | E56: X | G56: TEJA POLICARBONATO TRAPEZOIDAL 82CM | H56: M2 | I56: 15.75
C57: =+'PRESUPUESTO OFICIAL'!C57 -> 2.09 | E57: X | G57: RASQUETEADA-LAVADA SUPERFICIE | H57: M2 | I57: 37.8
C58: =+'PRESUPUESTO OFICIAL'!C58 -> 2.1 | E58: X | G58: PROTECCION FACHADAS | H58: M2 | I58: 37.8
C59: =+'PRESUPUESTO OFICIAL'!C59 -> 2.11 | E59: X | G59: VINILO MURO TIPO 1 [3M] | H59: M2 | I59: 37.8
C60: =+'PRESUPUESTO OFICIAL'!C60 -> 2.12 | E60: X | G60: MANTENIMIENTO PUERTA 2MTS | H60: UND | I60: 1
... C68: =+'PRESUPUESTO OFICIAL'!C68 -> 2.2 | E68: X | G68: SIFON SANITARIO PVC 2" | H68: UND | I68: 1
C69: 3 | E69: ANTIGUA BODEGA
C70: =+'PRESUPUESTO OFICIAL'!C70 -> 3.01 | E70: X | G70: DEMOL.EDIFICACION EXISTENTE + RETIRO | H70: M2 | I70: 240
C71: Subtotal
G72: COSTO DIRECTO
G73: =+'PRESUPUESTO OFICIAL'!G74:I74 -> ADMINISTRACION
...

Sheet INDICAR CÓDIGO DEL ITEM DE PAGO
C2: Código | D2: CCE-EICP-FM-25 | E2: Versión | F2: 1
C3: [La entidad podrá utilizar este formato para la presentación de los análisis de precios unitarios el contratista en la oportunidad prevista en el numeral 8.1. del Documento Base]
D6: AERONAUTICA CIVIL -UNIDAD ADMINISTRATIVA ESPECIAL
L7: VERSIÓN
D8: 20000698 H4
L9: PÁGINA | M9: 1 | N9: DE | O9: 1
D11: ANALISIS DE PRECIOS UNITARIOS
L13: FECHA | M13: DD | N13: MM | O13: AA
C15: ITEMS DE LA PROPUESTA ECONÓMICA | I15: ITEMS NO PREVISTOS
C19: DATOS ESPECÍFICOS
C21: ITEM | D21: DESCRIPCIÓN | M21: UNIDAD | O21: CANTIDAD
C23: I. EQUIPO
C26: DESCRIPCIÓN | H26: MARCA | J26: TIPO | L26: TARIFA/HORA | M26: RENDIMIENTO | O26: Vr. UNITARIO
C30: SUBTOTAL $
C31: II. MATERIALES
C34: DESCRIPCIÓN | K34: UNIDAD | L34: CANTIDAD | M34: PRECIO UNIT. | O34: Vr. UNITARIO
C37: SUBTOTAL $ | O37: 0
C38: III. TRANSPORTES
C41: MATERIAL | J41: VOL. o PESO | K41: DISTANCIA | L41: M3 o Ton/Km | M41: TARIFA | O41: Vr. UNITARIO
C44: SUBTOTAL $
C45: IV. MANO DE OBRA
C48: TRABAJADOR | J48: JORNAL | K48: PRESTACIONES | L48: JORNAL TOTAL | M48: RENDIMIENTO | O48: Vr. UNITARIO
C53: SUBTOTAL $
C55: TOTAL COSTO DIRECTO $
C56: V. COSTOS INDIRECTOS
C59: Descripción | L59: Porcentaje | M59: Valor Total
C60: ADMINISTRACION
C61: IMPREVISTOS
C62: UTILIDAD
C63: SUBTOTAL $
C65: Precio Unitario Total Aproximado al peso $
H69: Firma
H70: Nombre:
H71: Representante Legal del Contratista o su Apoderado
H72: Matricula No. :
C74: OBSERVACIONES INTERVENTORÍA
C78: APROBACIÓN POR INTERVENTORÍA
C79: Nota 1: Cuando se trate de Análisis de precios unitarios correspondientes a ítems de la propuesta económica aprobada, el Interventor aprueba el desglose de los componentes manteniendo el mismo precio unitario de cada ítem, cumpliendo con las especificaciones de construcción vigentes para el proyecto.
C81: Nota 2: Cuando se trate de Análisis de precios unitarios de ítems no previstos, el Interventor aprueba el desglose y precio unitario de cada ítem no previsto, exigiendo la aplicación de los costos correspondientes a insumos y tarifas de la propuesta económica inicial cuando estén contemplados, cumpliendo con las especificaciones de construcción vigente para el proyecto.
H84: Firma
...
