Workbook

Sheet SMMLV
A1: Año | B1: Salario Mínimo
B2: (Pesos Colombianos)
A3: 2024 | B3: 1300000 | E3: SI
A4: 2023 | B4: 1160000 | E4: NO
A5: 2022 | B5: 1000000
A6: 2021 | B6: 908526
A7: 2020 | B7: 877803
A8: 2019 | B8: 828116
A9: 2018 | B9: 781242
A10: 2017 | B10: 737717
A11: 2016 | B11: 689455
A12: 2015 | B12: 644350
A13: 2014 | B13: 616000
A14: 2013 | B14: 589500
A15: 2012 | B15: 566700
A16: 2011 | B16: 535600
... A43: 1984 | B43: 11298

Sheet EXP PROPONENTE
C2: Rama Judicial del Poder Público
C3: Consejo Superior de la Judicatura
C4: Dirección Ejecutiva de Administración Judicial
C7: EXPERIENCIA DEL PROPONENTE
C8: NUMERO DE PROCESO:
C9: CM-05-2024
C10: OBJETO DEL PROCESO:
C11: Realizar un estudio de investigación aplicada sobre el avance y apropiación en la implementación de la justicia restaurativa y terapéutica en el sistema penal acusatorio y sistema de responsabilidad penal para adolescentes, definir orientaciones para la sensibilización y aplicación voluntaria de los enfoques de justicia restaurativa y terapéutica en los procesos penales
C12: NOMBRE DEL PROPONENTE:
C14: Integrantes:
C15: N/A
C16: N/A
H18: EXPERIENCIA ESPECIFICA HABILITANTE | S18: OBSERVACIONES
C19: ID | D19: No. Contrato en el RUP | E19: Nombre del contratista que registra el RUP | F19: Nombre de la Entidad Contratante | G19: EN CASO DE PROPONENTE PLURAL | H19: UNSPSC | L19: Valor reportado en el contrato en SMMLV que aparece en el RUP | M19: Porcentaje de Participación en el Contrato que registra el RUP | N19: Los proponentes, para acreditar la experiencia especifica habilitante deben presentar máximo cinco (5) certificaciones de contratos ejecutados y relacionados en el RUP y clasificados en cualquiera de los códigos UNSPSC descritos en la siguiente tabla, y cuya sumatoria de los contratos debe ser igual o superior al 50% del presupuesto estimado para la presente contratación, expresado en SMMLV. Investigación socio jurídica o justicia o derecho penal o de justicia restaurativa y terapéutica y/o evaluaciones de impacto en el sector justicia
G20: Nombre del integrante de la figura asociativa que presenta el RUP | H20: 80101500 | I20: 80101600 | J20: 81111900 | K20: 80161700 | N20: Objeto del Contrato | O20: Valor del contrato o actividades | P20: Año de Terminación del Contrato | Q20: Valor en SMMLV (La conversión se realiza con el SMMLV del año de terminación del contrato) | R20: Valor ponderado de acuerdo con la participación en el contrato en SMMLV
C21: 1 | Q21: =ROUND(O21/(VLOOKUP(P21,SMMLV!$A$3:$B$43,2,FALSE)),2) -> #N/A | R21: =ROUND(Q21*M21,2) -> #N/A
C22: 2 | Q22: =ROUND(O22/(VLOOKUP(P22,SMMLV!$A$3:$B$43,2,FALSE)),2) -> #N/A | R22: =ROUND(Q22*M22,2) -> #N/A
C23: 3 | Q23: =ROUND(O23/(VLOOKUP(P23,SMMLV!$A$3:$B$43,2,FALSE)),2) -> #N/A | R23: =ROUND(Q23*M23,2) -> #N/A
C24: 4 | Q24: =ROUND(O24/(VLOOKUP(P24,SMMLV!$A$3:$B$43,2,FALSE)),2) -> #N/A | R24: =ROUND(Q24*M24,2) -> #N/A
C25: 5 | Q25: =ROUND(O25/(VLOOKUP(P25,SMMLV!$A$3:$B$43,2,FALSE)),2) -> #N/A | R25: =ROUND(Q25*M25,2) -> #N/A
C26: 6 | Q26: =ROUND(O26/(VLOOKUP(P26,SMMLV!$A$3:$B$43,2,FALSE)),2) -> #N/A | R26: =ROUND(Q26*M26,2) -> #N/A
C27: 7 | Q27: =ROUND(O27/(VLOOKUP(P27,SMMLV!$A$3:$B$43,2,FALSE)),2) -> #N/A | R27: =ROUND(Q27*M27,2) -> #N/A
C28: 8 | Q28: =ROUND(O28/(VLOOKUP(P28,SMMLV!$A$3:$B$43,2,FALSE)),2) -> #N/A | R28: =ROUND(Q28*M28,2) -> #N/A
C29: 9 | Q29: =ROUND(O29/(VLOOKUP(P29,SMMLV!$A$3:$B$43,2,FALSE)),2) -> #N/A | R29: =ROUND(Q29*M29,2) -> #N/A
C30: 10 | Q30: =ROUND(O30/(VLOOKUP(P30,SMMLV!$A$3:$B$43,2,FALSE)),2) -> #N/A | R30: =ROUND(Q30*M30,2) -> #N/A
Q31: TOTAL (SMMLV) | R31: =_xlfn.AGGREGATE(9,6,R21:R30) -> 0
Q32: SMMLV Min | R32: 405.18
R33: =IF(R31>=R32,"Cumple","No Cumple") -> No Cumple
A35: Experiencia Especifica Adicional Puntuable del Proponente | B35: CONTRATOS | D35: Los contratos aportados para puntuar NO deben ser los mismos contratos presentados para acreditar la experiencia específica habilitante del proponente
C37: ID | D37: No. Contrato en el RUP | E37: Nombre del contratista que registra el RUP | F37: Nombre de la Entidad Contratante | G37: EN CASO DE PROPONENTE PLURAL | H37: UNSPSC | L37: Se asignarán 6 puntos por cada certificación de contrato de experiencia específica adicional a los aportados como requisito habilitante. Los contratos deben haberse ejecutados durante los últimos cinco (5) años, contados a partir de la fecha de cierre del presente proceso. Investigación socio jurídica o justicia o derecho penal o de justicia restaurativa y terapéutica y/o evaluaciones de impacto en el sector justicia Hasta 24 Puntos
G38: Nombre del integrante de la figura asociativa que presenta el RUP | H38: 80101500 | I38: 80101600 | J38: 81111900 | K38: 80161700 | L38: Objeto del Contrato | M38: Fecha de Terminación del Contrato
C39: 1 | W39: =IF(P39="cumple",1,0) -> 0
C40: 2 | W40: =IF(P40="cumple",1,0) -> 0
C41: 3 | W41: =IF(P41="cumple",1,0) -> 0
C42: 4 | W42: =IF(P42="cumple",1,0) -> 0
B45: PUBLICACIONES
C47: ID | D47: Se asignarán 6 puntos por cada publicación indexada. Las publicaciones deben haber sido publicados en los últimos cinco (5) años, contados a partir de la fecha de cierre del presente proceso. Las publicaciones indexadas deben estar relacionas con estudios jurídicos o de justicia o de justicia restaurativa o justicia terapéutica
D48: Tema Publicacion | E48: Fecha de Publicación
C49: 1 | W49: =IF(P49="cumple",1,0) -> 0
C50: 2 | W50: =IF(P50="cumple",1,0) -> 0
...

Sheet Hoja1
