Workbook

Sheet PRESUPUESTO
B1: PROYECTO: SUMINISTRO, REPARACIÓN E INSTALACIÓN DE TRANSFORMADORES Y MATERIALES ELÉCTRICOS REQUERIDOS EN DIFERENTES SITIOS DEL MUNICIPIO DE LA PAZ - CESAR
B2: ALCALDIA MUNICIPAL DE LA PAZ - CESAR
B3: SECRETARIA DE PLANEACION Y DESARROLLO TERRIRORIAL
B4: CONTIENE: PRESUPUESTO OFICIAL
A6: item | B6: DESCRIPCION DE OBJETO | C6: KM | D6: TIPO RUTA | E6: CANTIDAD | F6: UNIDAD | G6: Valor unitario | H6: Valor Total
A7: 1 | B7: INTALACION DE TRANSFORMADORES Y ACCESORIOS | H7: =SUM(H8:H20) -> 64486000
A8: 1.1 | B8: Suministro e intalación de transformador monofasico de 25 kva TP 13200 voltios TS 240/120 voltios tipo poste en aceite | C8: 24KM | D8: DESTAPADA | E8: 1 | F8: UNIDAD | G8: =APU!H26 -> 11290000 | H8: =+G8*E8 -> 11290000
A9: 1.2 | B9: Suministro e intalación de transformador Monofasico de 15 kva TP13200 voltios TS 240/120 voltios tipo poste en aceite | E9: 1 | F9: UNIDAD | G9: =APU!H48 -> 7844000 | H9: =+G9*E9 -> 7844000
A10: 1.3 | B10: Suministro e intalación de transformador Monofasico de 5 kva TP13200 voltios TS 240/120 voltios tipo poste en aceite | E10: 1 | F10: UNIDAD | G10: =APU!H70 -> 5440000 | H10: =+G10*E10 -> 5440000
A11: 1.4 | B11: Suministro e intalación de abrazadera o collarin para transformador de 7 a 8"1 salida bajo silicio de 180 mm | E11: 6 | F11: UNIDAD | G11: =APU!H92 -> 33966 | H11: 204000
A12: 1.5 | B12: Suministro e intalación de cortacircuitos de 27 kv - 125 kv - 100 amperios | E12: 6 | F12: UNIDAD | G12: =APU!H114 -> 328000 | H12: =+G12*E12 -> 1968000
A13: 1.6 | B13: Suministro e intalación de crucetas metálicas auto soportada galvanizado en Caliente 1/4x3x2,40 metros | E13: 8 | F13: UNIDAD | G13: =APU!H136 -> 212000 | H13: =+G13*E13 -> 1696000
A14: 1.7 | B14: Suministro e intalación de fusibles de soga de alta tensión de 1 amp-15 kv | E14: 10 | F14: UNIDAD | G14: =APU!H158 -> 4500 | H14: =+G14*E14 -> 45000
A15: 1.8 | B15: Suministro e intalación de fusibles de soga de alta tension de 2 amp-15 kv | E15: 10 | F15: UNIDAD | G15: =APU!H180 -> 4500 | H15: =+G15*E15 -> 45000
A16: 1.9 | B16: Suministro e intalación de cable cobre forrado THHN # 2 | E16: 90 | F16: METROS | G16: =APU!H204 -> 29800 | H16: =+G16*E16 -> 2682000
A17: 1.10 | B17: Suministro e intalación de pararrayos sintenticos de 12 kv -10 ka | E17: 10 | F17: UNIDAD | G17: =APU!H226 -> 198000 | H17: =+G17*E17 -> 1980000
A18: 1.11 | B18: Suministro e intalación de varillas cooperwell cobre - cobre 5/8 x 1,80 metros con conector | E18: 8 | F18: UNIDAD | G18: =APU!H248 -> 224000 | H18: =+G18*E18 -> 1792000
A19: 1.12 | B19: Suministro e intalación de cable aluminio ACSR #2 | E19: 4000 | F19: METROS | G19: =APU!H270 -> 5200 | H19: =+G19*E19 -> 20800000
A20: 1.13 | B20: Suministro e intalación de cable aluminio ACSR #4 | E20: 3000 | F20: METROS | G20: =APU!H292 -> 2900 | H20: =+G20*E20 -> 8700000
A21: A | B21: REPARACION DE TRANSFORMADORES | H21: =SUM(H22:H24) -> 18844000
A22: 2.1 | B22: Reparación de dos (2) transformadores monofásicos de 25 kva TP 13200 voltios TS voltios TS 240/120 voltios tipo poste en aceite | E22: 2 | F22: UNIDAD | G22: =APU!H326 -> 2800000 | H22: =+G22*E22 -> 5600000
A23: 2.2 | B23: Reparacion de cuatro (4) transformadores monofasicos de 15 kva TP 13200 voltios TS voltios TS 240/120 voltios tipo poste en aceite | E23: 4 | F23: UNIDAD | G23: =APU!H361 -> 2333500 | H23: =+G23*E23 -> 9334000
A24: 2.3 | B24: Reparación de dos (2) transformadores monofásicos de 5 kva TP 13200 voltios TS voltios TS 240/120 voltios tipo poste en aceite | C24: 16KM | D24: DESTAPADA | E24: 2 | F24: UNIDAD | G24: =APU!H392 -> 1955000 | H24: =+G24*E24 -> 3910000
A25: TOTALES COSTO DIRECTOS | C25: 50KM | D25: DESTAPADA | H25: =+H7+H21 -> 83330000
A26: ADMINISTRACION | G26: 0.15 | H26: =+H25*G26 -> 12499500
A27: IMPREVISTOS | G27: 0.01 | H27: =+H25*G27 -> 833300
A28: UTILIDAD | G28: 0.04 | H28: =+H25*G28 -> 3333200
A29: AIU 20% | H29: =SUM(H26:H28) -> 16666000
A30: TOTAL PROYECTO | H30: =+H29+H25 -> 99996000
B33: EDGARDO JESUS AROCA MINDIOLA
B34: Secretario de Planeacion y Desarrollo Territorial
B35: Municipio de La Paz - Cesar

Sheet APU
B1: PROYECTO: SUMINISTRO, REPARACIÓN E INSTALACIÓN DE TRANSFORMADORES Y MATERIALES ELÉCTRICOS REQUERIDOS EN DIFERENTES SITIOS DEL MUNICIPIO DE LA PAZ - CESAR
B2: ALCALDIA MUNICIPAL DE LA PAZ - CESAR
B3: SECRETARIA DE PLANEACION Y DESARROLLO TERRIRORIAL
B4: CONTIENE: ANALISIS DE PRECIOS UNITARIOS ENERO 2024
A6: =+PRESUPUESTO!B8 -> Suministro e intalación de transformador monofasico de 25 kva TP 13200 voltios TS 240/120 voltios tipo poste en aceite | G6: APU | H6: =+PRESUPUESTO!A8 -> 1.1
G7: UNIDAD | H7: UND
A8: MATERIALES.
A9: ITEM | B9: DESCRIPCION | D9: UN. | E9: HORA | F9: CANT. | G9: V/UNITARIO | H9: V/PARCIAL
A10: 1 | B10: =+A6 -> Suministro e intalación de transformador monofasico de 25 kva TP 13200 voltios TS 240/120 voltios tipo poste en aceite | D10: Und | F10: 1 | G10: 10980700 | H10: =+G10*F10 -> 10980700
A11: Subtotal Materiales | H11: =SUM(H10:H10) -> 10980700
A12: TRANSPORTE.
A13: ITEM | B13: DESCRIPCION | D13: CANT. | E13: HORA | F13: REND. | G13: V/JORNAL | H13: V/PARCIAL
A14: 1 | B14: Camioneta ford doble cabina 4X4 | D14: Und | E14: 1 | F14: 1 | G14: 120000 | H14: =(F14*G14)*E14 -> 120000
A15: Subtotal Transporte | H15: =SUM(H14:H14) -> 120000
A16: MAQUINARIA Y EQUIPOS.
A17: ITEM | B17: DESCRIPCION | C17: UN. | D17: CANT. | E17: HORA | F17: REND. | G17: V/JORNAL | H17: V/PARCIAL
A18: 1 | B18: Herramienta menor. | C18: GLB | D18: 0.1 | F18: 1 | G18: 18000 | H18: =+D18*G18*F18 -> 1800
A19: Subtotal Maquinaria y Equipos | H19: =SUM(H18:H18) -> 1800
A20: MANO DE OBRA.
A21: ITEM | B21: DESCRIPCION | D21: CANT. | E21: HORA | F21: REND. | G21: V/JORNAL | H21: V/PARCIAL
A22: 1 | B22: Oficial | D22: 1 | E22: 1.5 | F22: 1 | G22: 85000 | H22: =(+G22*F22)*E22 -> 127500
A23: 2 | B23: Ayudante | D23: 1 | E23: 1.5 | F23: 1 | G23: 40000 | H23: =(+G23*F23)*E23 -> 60000
H24: =SUM(H22:H23) -> 187500
A26: TOTAL VALOR UNITARIO | H26: =H11+H19+H15+H24 -> 11290000
A28: =+PRESUPUESTO!B9 -> Suministro e intalación de transformador Monofasico de 15 kva TP13200 voltios TS 240/120 voltios tipo poste en aceite | G28: APU | H28: =+PRESUPUESTO!A9 -> 1.2
G29: UNIDAD | H29: UND
A30: MATERIALES.
A31: ITEM | B31: DESCRIPCION | D31: UN. | E31: HORA | F31: CANT. | G31: V/UNITARIO | H31: V/PARCIAL
A32: 1 | B32: =+A28 -> Suministro e intalación de transformador Monofasico de 15 kva TP13200 voltios TS 240/120 voltios tipo poste en aceite | D32: Und | F32: 1 | G32: 7534700 | H32: =+G32*F32 -> 7534700
A33: Subtotal Materiales | H33: =SUM(H32:H32) -> 7534700
A34: TRANSPORTE.
A35: ITEM | B35: DESCRIPCION | D35: CANT. | E35: HORA | F35: REND. | G35: V/JORNAL | H35: V/PARCIAL
A36: 1 | B36: Camioneta ford doble cabina 4X4 | D36: Und | E36: 1 | F36: 1 | G36: 120000 | H36: =(F36*G36)*E36 -> 120000
A37: Subtotal Transporte | H37: =SUM(H36:H36) -> 120000
A38: MAQUINARIA Y EQUIPOS.
A39: ITEM | B39: DESCRIPCION | C39: UN. | D39: CANT. | E39: HORA | F39: REND. | G39: V/JORNAL | H39: V/PARCIAL
A40: 1 | B40: Herramienta menor. | C40: GLB | D40: 0.1 | F40: 1 | G40: 18000 | H40: =+D40*G40*F40 -> 1800
A41: Subtotal Maquinaria y Equipos | H41: =SUM(H40:H40) -> 1800
A42: MANO DE OBRA.
A43: ITEM | B43: DESCRIPCION | D43: CANT. | E43: HORA | F43: REND. | G43: V/JORNAL | H43: V/PARCIAL
...

Sheet desgloce AIU
B1: PROYECTO: SUMINISTRO, REPARACIÓN E INSTALACIÓN DE TRANSFORMADORES Y MATERIALES ELÉCTRICOS REQUERIDOS EN DIFERENTES SITIOS DEL MUNICIPIO DE LA PAZ - CESAR
B2: ALCALDIA MUNICIPAL DE LA PAZ, DEPARTAMENTO DEL CESAR
B3: CONTIENE: CALCULO DE AIU
A5: DESGLOSE DEL AIU
A6: Codigo | B6: Descripción | C6: Unidad | D6: Cantidad | E6: Valor Unitario | F6: Valor Parcial | G6: Valor Capitulo
A7: 1 | B7: ADMINISTRACION | C7: % | D7: 15 | G7: =SUM(F8:F12) -> 6800000
A8: 1.1 | B8: Recurso Humano | D8: 1 | E8: 2500000 | F8: =+E8*D8 -> 2500000
A9: 1.3 | B9: Ensayos de laboratorio para materiales, pruebas de resistencia de equipos y otras, requeridas para verificar el cumplimiento de las normas técnicas y códigos vigentes. | D9: 1 | E9: 1000000 | F9: =+E9*D9 -> 1000000
A10: 1.4 | B10: Elaboración de planos finales de obra, manuales, etc. | D10: 1 | E10: 1200000 | F10: =+E10*D10 -> 1200000
A11: 1.5 | B11: Elaboracion de plano record e informe | D11: 1 | E11: 1200000 | F11: =+E11*D11 -> 1200000
A12: 1.6 | B12: Copias/ Fotocopias/ Fotografías | D12: 1 | E12: 900000 | F12: =+E12*D12 -> 900000
A13: 1.7 | B13: LEGALIZACION Y PERFECCIONAMIENTO | G13: =+G14 -> 5699500
A14: 1.7.1 | B14: Pólizas, publicación, impuestos, y demás gastos afines que apliquen a la legalización del contrato. | G14: 5699500 | M14: GTV V VVVVVVVVVVVVVVVVV V
A15: SUBTOTAL | G15: =+G14+G7 -> 12499500 | H15: 12499500 | J15: 83330000
J16: 12499500
A17: 1 | B17: ADMINISTRACION | C17: % | D17: 15 | G17: =G15 -> 12499500 | J17: 833300
A18: 2 | B18: IMPREVISTOS | C18: % | D18: 1 | G18: =+G23*D18% -> 833300 | H18: 833300 | J18: 3333200
A19: 3 | B19: UTILIDAD | C19: % | D19: 4 | G19: =+G23*D19% -> 3333200 | H19: 3333200 | J19: 16666000
J20: 99996000
A21: A.I.U. | C21: % | D21: =+D19+D18+D7 -> 20 | G21: =+G17+G18+G19 -> 16666000
A23: COSTO DIRECTO DE LA OBRA | G23: =+PRESUPUESTO!H25 -> 83330000
B28: EDGARDO JESUS AROCA MINDIOLA
B29: Secretaria de Planeacion y Desarrollo Territorial
B30: Municipio de La Paz - Cesar
