Workbook
Name EFECTIVO: [1]BAL.GRAL!#REF!
Name EFECTIVO: [1]BAL.GRAL!#REF!
Name EFECTIVO: [1]BAL.GRAL!#REF!
Name EFECTIVO: [1]BAL.GRAL!#REF!
Name EFECTIVO: [1]BAL.GRAL!#REF!
Name EFECTIVO: [1]BAL.GRAL!#REF!
Name EFECTIVO: [1]BAL.GRAL!#REF!
Name EFECTIVO: [1]BAL.GRAL!#REF!
Name EFECTIVO: [1]BAL.GRAL!#REF!
Name EFECTIVO: [1]BAL.GRAL!#REF!
Name EFECTIVO: [1]BAL.GRAL!#REF!
Name EFECTIVO: [1]BAL.GRAL!#REF!
Name EFECTIVO: [1]BAL.GRAL!#REF!
Name EFECTIVO: [1]BAL.GRAL!#REF!
Name EFECTIVO: [1]BAL.GRAL!#REF!
Name EFECTIVO: [1]BAL.GRAL!#REF!
Name EFECTIVO: [1]BAL.GRAL!#REF!
Name EFECTIVO: [1]BAL.GRAL!#REF!
Name OTROS_ACT_CORRIENTES: [1]BAL.GRAL!#REF!
Name OTROS_ACT_CORRIENTES: [1]BAL.GRAL!#REF!
Name OTROS_ACT_CORRIENTES: [1]BAL.GRAL!#REF!
Name OTROS_ACT_CORRIENTES: [1]BAL.GRAL!#REF!
Name OTROS_ACT_CORRIENTES: [1]BAL.GRAL!#REF!
Name OTROS_ACT_CORRIENTES: [1]BAL.GRAL!#REF!
Name OTROS_ACT_CORRIENTES: [1]BAL.GRAL!#REF!
Name OTROS_ACT_CORRIENTES: [1]BAL.GRAL!#REF!
Name OTROS_ACT_CORRIENTES: [1]BAL.GRAL!#REF!
Name OTROS_ACT_CORRIENTES: [1]BAL.GRAL!#REF!
Name OTROS_ACT_CORRIENTES: [1]BAL.GRAL!#REF!
Name OTROS_ACT_CORRIENTES: [1]BAL.GRAL!#REF!
Name OTROS_ACT_CORRIENTES: [1]BAL.GRAL!#REF!
Name OTROS_ACT_CORRIENTES: [1]BAL.GRAL!#REF!
Name OTROS_ACT_CORRIENTES: [1]BAL.GRAL!#REF!
Name OTROS_ACT_CORRIENTES: [1]BAL.GRAL!#REF!
Name OTROS_ACT_CORRIENTES: [1]BAL.GRAL!#REF!
Name OTROS_ACT_CORRIENTES: [1]BAL.GRAL!#REF!
Name Usuarios_: '[1]P&G'!#REF!
Name Usuarios_: '[1]P&G'!#REF!
Name Usuarios_: '[1]P&G'!#REF!
Name Usuarios_: '[1]P&G'!#REF!
Name Usuarios_: '[1]P&G'!#REF!
Name Usuarios_: '[1]P&G'!#REF!
Name Usuarios_: '[1]P&G'!#REF!
Name Usuarios_: '[1]P&G'!#REF!
Name Usuarios_: '[1]P&G'!#REF!
Name Usuarios_: '[1]P&G'!#REF!
Name Usuarios_: '[1]P&G'!#REF!
Name Usuarios_: '[1]P&G'!#REF!
Name Usuarios_: '[1]P&G'!#REF!
Name Usuarios_: '[1]P&G'!#REF!
Name Usuarios_: '[1]P&G'!#REF!
Name Usuarios_: '[1]P&G'!#REF!
Name Usuarios_: '[1]P&G'!#REF!
Name Usuarios_: '[1]P&G'!#REF!
Name USUARIOS_ACUEDUCTO: '[1]P&G'!#REF!
Name USUARIOS_ACUEDUCTO: '[1]P&G'!#REF!
Name USUARIOS_ACUEDUCTO: '[1]P&G'!#REF!
Name USUARIOS_ACUEDUCTO: '[1]P&G'!#REF!
Name USUARIOS_ACUEDUCTO: '[1]P&G'!#REF!
Name USUARIOS_ACUEDUCTO: '[1]P&G'!#REF!

Sheet GRUPO 1 DE 50 PERSONAS BOGOTA
C1: PROCESO ADQUISICIONES COMPROMISO DE APORTE ADICIONAL EN DINERO O ESPECIE | H1: Código:
H2: Versión: 0
H3: Fecha:
H4: Página: 1 de 1
A6: Estructura de costos | C6: INTEGRARTE INTERNO EN BOGOTA
A7: Plazo días | C7: 0
A8: Proyecto Encargado | C8: Proyecto 1113 "Por una ciudad incluyente y sin barreras"
A9: Fecha Solicitud
A12: Yo, __________________, identificado con _____________, en mi condición de Representante Legal de (Razón social de la ESAL) identificada con Nit ________, para el presente proceso competitivo, me comprometo a ofrecer el siguiente aporte adicional establecido en la Invitación, así:
C20: DIAS DE OPERACIÓN | G20: OBJETO
G21: Prestar servicios sociales de atención interna en centros integrarte a personas mayores de 18 años con discapacidad intelectual, o psicosocial, o física que requiera de apoyos extensos a generalizados, o múltiple, promoviendo sus procesos de inclusión a través del fortalecimiento de sus habilidades individuales, familiares y de entorno y territorio.
C22: CUPOS | E22: GRUPO 1 50
C25: CONCEPTOS DE LA ESTRUCTURA | D25: CANTIDAD | E25: VALOR UNITARIO MENSIUAL | F25: VALOR TOTAL | G25: VALOR DE APORTES
G27: SDIS | H27: PROPONENTE
H28: VALOR EN ESPECIE | I28: DINERO
A29: DIRECTOS | B29: FIJOS | C29: Coordinador-a de Centro | D29: 1 | E29: 3944722 | F29: =+(D29*E29)*7 -> 27613054
C30: Psicóloga-o | D30: 1 | E30: 2775749 | F30: =+(D30*E30)*7 -> 19430243
C31: Trabajadora Social | D31: 1 | E31: 2775749 | F31: =+(D31*E31)*7 -> 19430243
C32: Terapeuta Ocupacional | D32: 1 | E32: 2775749 | F32: =+(D32*E32)*7 -> 19430243
C33: Terapeuta Física/ | D33: 1 | E33: 2775749 | F33: =+(D33*E33)*7 -> 19430243
C34: Educador-a Físico-a | D34: 1 | E34: 2775749 | F34: =+(D34*E34)*7 -> 19430243
C35: Enfermera-o | D35: 1 | E35: 2770079 | F35: =+(D35*E35)*7 -> 19390553
C36: Nutricionista | D36: 1 | E36: 2775749 | F36: =+(D36*E36)*7 -> 19430243
C37: Tecnólogo gastronomia o en alimentos | D37: 1 | E37: 1870264 | F37: =+(D37*E37)*7 -> 13091848
C38: Talleristas | D38: 2 | E38: 1894324 | F38: =+(D38*E38)*7 -> 26520536
C39: Auxiliar de enfermería | D39: 16 | E39: 2269456 | F39: =+(D39*E39)*7 -> 254179072
C40: Auxiliar Administrativo | D40: 1 | E40: 1894324 | F40: =+(D40*E40)*7 -> 13260268
C41: Servicios generales | D41: 5 | E41: 1558822 | F41: =+(D41*E41)*7 -> 54558770
C42: Manipuladores de alimentos | D42: 3 | E42: 1548669 | F42: =+(D42*E42)*7 -> 32522049
C43: SUBTOTAL TALENTO HUMANO | E43: =SUM(E29:E42) -> 34405154 | F43: =SUM(F29:F42) -> 557717608
C44: Servicios funerarios | E44: 485520 | F44: =+E44*7 -> 3398640
C45: Vigilancia | E45: 7372402 | F45: =+E45*7 -> 51606814
C46: Aseo institucional | E46: 2032692 | F46: =+E46*7 -> 14228844
C47: TRANSPORTE | E47: 9177391 | F47: =+E47*7 -> 64241737
C48: Desgaste y uso de los bienes muebles no consumibles | E48: 5071453 | F48: =+E48*7 -> 35500171
C49: Bienes consumibles | E49: 10306102 | F49: =+E49*7 -> 72142714
C50: Espacios Fisicos Funcionales | E50: 9480116.5 | F50: =+E50*7 -> 66360815
C51: TOTAL COSTOS FIJOS | E51: =+ROUND(SUM(E43:E50),0) -> 78330830 | F51: =+ROUND(SUM(F43:F50),0) -> 865197343
B52: VARIABLES | C52: BIENES CONSUMIBLES | E52: 13339388 | F52: =+E52*7 -> 93375716
C53: ALIMENTOS | E53: 20840575 | F53: =+E53*7 -> 145884025 | J53: =+E53/50 -> 416811.5
C54: TOTAL COSTOS VARIABLES | E54: =+ROUND(SUM(E52:E53),0) -> 34179963 | F54: =+ROUND(SUM(F52:F53),0) -> 239259741
B55: Estos costos se reconoceran una vez se entrege el bien o se preste el servicio descrito
B56: COSTOS POR REALIZACIÓN | C56: Vestuario | D56: 2 Entregas durante todo el contrato | E56: 21912575 | F56: =+E56*2 -> 43825150
C57: Salida Recreativa | D57: 1 Salida durante todo el contrato | E57: 2199175 | F57: =+E57 -> 2199175
C58: Piezas comunicativas | D58: Una Durante todo el contrato | E58: 698660 | F58: =+E58 -> 698660
C59: TOTAL COSTOS POR REALIZACIÓN | E59: =+ROUND(SUM(E56:E58),0) -> 24810410 | F59: =+ROUND(SUM(F56:F58),0) -> 46722985
A60: TOTAL*** | E60: =+ROUND(SUM(E59,E54,E51),0) -> 137321203 | F60: =+ROUND(SUM(F59,F54,F51),0) -> 1151180069
A63: Atentamente,
A64: Nombre o Razón Social del Proponente:
A66: NIT
A67: Nombre del Representante Legal:
A68: C.C. No. De
A69: Dirección Comercial del Proponente
A70: Teléfonos
A71: Fax
A72: Ciudad
A73: FIRMA:
A74: NOMBRE DE QUIEN FIRMA:

Sheet GRUPO 1 DE50 AFUERAS DE BOGOTA 
C1: PROCESO ADQUISICIONES COMPROMISO DE APORTE ADICIONAL EN DINERO O ESPECIE | H1: Código:
H2: Versión: 0
H3: Fecha:
H4: Página: 1 de 1
A6: Estructura de costos | C6: INTEGRARTE INTERNO FUERA DE BOGOTA
A7: Plazo días | C7: 0
A8: Proyecto Encargado | C8: Proyecto 1113 "Por una ciudad incluyente y sin barreras"
A9: Fecha Solicitud
A11: Yo, __________________, identificado con _____________, en mi condición de Representante Legal de (Razón social de la ESAL) identificada con Nit ________, para el presente proceso competitivo, me comprometo a ofrecer el siguiente aporte adicional establecido en la Invitación, así:
C15: DIAS DE OPERACIÓN | G15: OBJETO
G16: Prestar servicios sociales de atención interna en centros integrarte a personas mayores de 18 años con discapacidad intelectual, o psicosocial, o física que requiera de apoyos extensos a generalizados, o múltiple, promoviendo sus procesos de inclusión a través del fortalecimiento de sus habilidades individuales, familiares y de entorno y territorio.
C17: CUPOS | E17: GRUPO 1 50
C20: CONCEPTOS DE LA ESTRUCTURA | D20: CANTIDAD | E20: VALOR UNITARIO MENSIUAL | F20: VALOR TOTAL | G20: VALOR DE APORTES
G22: SDIS | H22: PROPONENTE
H23: VALOR EN ESPECIE | I23: DINERO
A24: DIRECTOS | B24: FIJOS | C24: Coordinador-a de Centro | D24: 1 | E24: 3944722 | F24: =+(D24*E24)*7 -> 27613054
C25: Psicóloga-o | D25: 1 | E25: 2775749 | F25: =+(D25*E25)*7 -> 19430243
C26: Trabajadora Social | D26: 1 | E26: 2775749 | F26: =+(D26*E26)*7 -> 19430243
C27: Terapeuta Ocupacional | D27: 1 | E27: 2775749 | F27: =+(D27*E27)*7 -> 19430243
C28: Terapeuta Física/ | D28: 1 | E28: 2775749 | F28: =+(D28*E28)*7 -> 19430243
C29: Educador-a Físico-a | D29: 1 | E29: 2775749 | F29: =+(D29*E29)*7 -> 19430243
C30: Enfermera-o | D30: 1 | E30: 2770079 | F30: =+(D30*E30)*7 -> 19390553
C31: Nutricionista | D31: 1 | E31: 2775749 | F31: =+(D31*E31)*7 -> 19430243
C32: Tecnólogo gastronomia o en alimentos | D32: 1 | E32: 1870264 | F32: =+(D32*E32)*7 -> 13091848
C33: Talleristas | D33: 2 | E33: 1894324 | F33: =+(D33*E33)*7 -> 26520536
C34: Auxiliar de enfermería | D34: 16 | E34: 2269456 | F34: =+(D34*E34)*7 -> 254179072
C35: Auxiliar Administrativo | D35: 1 | E35: 1894324 | F35: =+(D35*E35)*7 -> 13260268
C36: Servicios generales | D36: 5 | E36: 1558822 | F36: =+(D36*E36)*7 -> 54558770
C37: Manipuladores de alimentos | D37: 3 | E37: 1548669 | F37: =+(D37*E37)*7 -> 32522049
C38: SUBTOTAL TALENTO HUMANO | E38: =SUM(E24:E37) -> 34405154 | F38: =SUM(F24:F37) -> 557717608
C39: Servicios funerarios | E39: 485520 | F39: =+E39*7 -> 3398640
C40: Vigilancia | E40: 7372402 | F40: =+E40*7 -> 51606814
C41: Aseo institucional | E41: 2032692 | F41: =+E41*7 -> 14228844
C42: TRANSPORTE | E42: 9177391 | F42: =+E42*7 -> 64241737
C43: Desgaste y uso de los bienes muebles no consumibles | E43: 5071453 | F43: =+E43*7 -> 35500171
C44: Bienes consumibles | E44: 10306102 | F44: =+E44*7 -> 72142714
C45: Espacios Fisicos Funcionales | E45: 16023410 | F45: =+E45*7 -> 1.1216387e+08
C46: TOTAL COSTOS FIJOS | E46: =+ROUND(SUM(E38:E45),0) -> 84874124 | F46: =+ROUND(SUM(F38:F45),0) -> 911000396
B47: VARIABLES | C47: BIENES CONSUMIBLES | E47: 13339388 | F47: =+E47*7 -> 93375716
C48: ALIMENTOS | E48: 20840575 | F48: =+E48*7 -> 145884025
C49: TOTAL COSTOS VARIABLES | E49: =+ROUND(SUM(E47:E48),0) -> 34179963 | F49: =+ROUND(SUM(F47:F48),0) -> 239259741
C50: Estos costos se reconoceran una vez se entrege el bien o se preste el servicio descrito
B51: COSTOS POR REALIZACIÓN | C51: Vestuario | D51: 2 Entregas durante todo el contrato | E51: 21912575 | F51: =+E51*2 -> 43825150
C52: Salida Recreativa | D52: 1 Salida durante todo el contrato | E52: 2199175 | F52: =+E52 -> 2199175
C53: Piezas comunicativas | D53: Una Durante todo el contrato | E53: 698660 | F53: =+E53 -> 698660
C54: TOTAL COSTOS POR REALIZACIÓN | E54: =+ROUND(SUM(E51:E53),0) -> 24810410 | F54: =+ROUND(SUM(F51:F53),0) -> 46722985
A55: TOTAL*** | E55: =+ROUND(SUM(E54,E49,E46),0) -> 143864497 | F55: =+ROUND(SUM(F54,F49,F46),0) -> 1196983122
A58: Atentamente,
A59: Nombre o Razón Social del Proponente:
A61: NIT
A62: Nombre del Representante Legal:
A63: C.C. No. De
A64: Dirección Comercial del Proponente
A65: Teléfonos
A66: Fax
A67: Ciudad
A68: FIRMA:
A69: NOMBRE DE QUIEN FIRMA:

Sheet GRUPO 2 DE 50 PERSONAS BOGOTA
C1: PROCESO ADQUISICIONES COMPROMISO DE APORTE ADICIONAL EN DINERO O ESPECIE | H1: Código:
H2: Versión: 0
H3: Fecha:
H4: Página: 1 de 1
A6: Estructura de costos | C6: INTEGRARTE INTERNO EN BOGOTA
A7: Plazo días
A8: Proyecto Encargado | C8: Proyecto 1113 "Por una ciudad incluyente y sin barreras"
A9: Fecha Solicitud
A12: Yo, __________________, identificado con _____________, en mi condición de Representante Legal de (Razón social de la ESAL) identificada con Nit ________, para el presente proceso competitivo, me comprometo a ofrecer el siguiente aporte adicional establecido en la Invitación, así:
C19: DIAS DE OPERACIÓN | H19: OBJETO
H20: Prestar servicios sociales de atención interna en centros integrarte a personas mayores de 18 años con discapacidad intelectual, o psicosocial, o física que requiera de apoyos extensos a generalizados, o múltiple, promoviendo sus procesos de inclusión a través del fortalecimiento de sus habilidades individuales, familiares y de entorno y territorio.
C21: CUPOS | E21: GRUPO 2 50
C24: CONCEPTOS DE LA ESTRUCTURA | D24: CANTIDAD | E24: VALOR UNITARIO MENSIUAL | F24: VALOR TOTAL | G24: VALOR DE APORTES
G26: SDIS | H26: PROPONENTE
H27: VALOR EN ESPECIE | I27: DINERO
A28: DIRECTOS | B28: FIJOS | C28: Coordinador-a de Centro | D28: 1 | E28: 3944722 | F28: =+(D28*E28)*7 -> 27613054
C29: Psicóloga-o | D29: 1 | E29: 2775749 | F29: =+(D29*E29)*7 -> 19430243
C30: Trabajadora Social | D30: 1 | E30: 2775749 | F30: =+(D30*E30)*7 -> 19430243
C31: Terapeuta Ocupacional | D31: 1 | E31: 2775749 | F31: =+(D31*E31)*7 -> 19430243
C32: Educador-a Físico-a | D32: 1 | E32: 2775749 | F32: =+(D32*E32)*7 -> 19430243
C33: Terapeuta Física | D33: 1 | E33: 2775749 | F33: =+(D33*E33)*7 -> 19430243
C34: Enfermera-o | D34: 1 | E34: 2770079 | F34: =+(D34*E34)*7 -> 19390553
C35: Nutricionista | D35: 1 | E35: 2775749 | F35: =+(D35*E35)*7 -> 19430243
C36: Tecnólogo gastronomia o en alimentos | D36: 1 | E36: 1870264 | F36: =+(D36*E36)*7 -> 13091848
C37: Talleristas | D37: 2 | E37: 1894324 | F37: =+(D37*E37)*7 -> 26520536
C38: Auxiliar de enfermería | D38: 16 | E38: 2269456 | F38: =+(D38*E38)*7 -> 254179072
C39: Auxiliar Administrativo | D39: 1 | E39: 1894324 | F39: =+(D39*E39)*7 -> 13260268
C40: Servicios generales | D40: 5 | E40: 1558822 | F40: =+(D40*E40)*7 -> 54558770
C41: Manipuladores de alimentos | D41: 3 | E41: 1548669 | F41: =+(D41*E41)*7 -> 32522049
C42: SUBTOTAL TALENTO HUMANO | E42: =SUM(E28:E41) -> 34405154 | F42: =SUM(F28:F41) -> 557717608
C43: Servicios funerarios | E43: 485520 | F43: =+E43*7 -> 3398640
C44: Vigilancia | E44: 7372402 | F44: =+E44*7 -> 51606814
C45: Aseo institucional | E45: 2032692 | F45: =+E45*7 -> 14228844
C46: TRANSPORTE | E46: 9177391 | F46: =+E46*7 -> 64241737
C47: Desgaste y uso de los bienes muebles no consumibles | E47: 5071453 | F47: =+E47*7 -> 35500171
C48: Bienes consumibles | E48: 10306102 | F48: =+E48*7 -> 72142714
C49: Espacios Fisicos Funcionales | E49: 9480116.5 | F49: =+E49*7 -> 66360815
C50: TOTAL COSTOS FIJOS | E50: =+ROUND(SUM(E42:E49),0) -> 78330830 | F50: =+ROUND(SUM(F42:F49),0) -> 865197343
B51: VARIABLES | C51: BIENES CONSUMIBLES | E51: 13339388 | F51: =+E51*7 -> 93375716
C52: ALIMENTOS | E52: 20840575 | F52: =+E52*7 -> 145884025
