Workbook
Name EFECTIVO: [1]BAL.GRAL!#REF!
Name EFECTIVO: [1]BAL.GRAL!#REF!
Name EFECTIVO: [1]BAL.GRAL!#REF!
Name EFECTIVO: [1]BAL.GRAL!#REF!
Name EFECTIVO: [1]BAL.GRAL!#REF!
Name EFECTIVO: [1]BAL.GRAL!#REF!
Name EFECTIVO: [1]BAL.GRAL!#REF!
Name EFECTIVO: [1]BAL.GRAL!#REF!
Name EFECTIVO: [1]BAL.GRAL!#REF!
Name EFECTIVO: [1]BAL.GRAL!#REF!
Name EFECTIVO: [1]BAL.GRAL!#REF!
Name EFECTIVO: [1]BAL.GRAL!#REF!
Name EFECTIVO: [1]BAL.GRAL!#REF!
Name EFECTIVO: [1]BAL.GRAL!#REF!
Name EFECTIVO: [1]BAL.GRAL!#REF!
Name EFECTIVO: [1]BAL.GRAL!#REF!
Name EFECTIVO: [1]BAL.GRAL!#REF!
Name EFECTIVO: [1]BAL.GRAL!#REF!
Name OTROS_ACT_CORRIENTES: [1]BAL.GRAL!#REF!
Name OTROS_ACT_CORRIENTES: [1]BAL.GRAL!#REF!
Name OTROS_ACT_CORRIENTES: [1]BAL.GRAL!#REF!
Name OTROS_ACT_CORRIENTES: [1]BAL.GRAL!#REF!
Name OTROS_ACT_CORRIENTES: [1]BAL.GRAL!#REF!
Name OTROS_ACT_CORRIENTES: [1]BAL.GRAL!#REF!
Name OTROS_ACT_CORRIENTES: [1]BAL.GRAL!#REF!
Name OTROS_ACT_CORRIENTES: [1]BAL.GRAL!#REF!
Name OTROS_ACT_CORRIENTES: [1]BAL.GRAL!#REF!
Name OTROS_ACT_CORRIENTES: [1]BAL.GRAL!#REF!
Name OTROS_ACT_CORRIENTES: [1]BAL.GRAL!#REF!
Name OTROS_ACT_CORRIENTES: [1]BAL.GRAL!#REF!
Name OTROS_ACT_CORRIENTES: [1]BAL.GRAL!#REF!
Name OTROS_ACT_CORRIENTES: [1]BAL.GRAL!#REF!
Name OTROS_ACT_CORRIENTES: [1]BAL.GRAL!#REF!
Name OTROS_ACT_CORRIENTES: [1]BAL.GRAL!#REF!
Name OTROS_ACT_CORRIENTES: [1]BAL.GRAL!#REF!
Name OTROS_ACT_CORRIENTES: [1]BAL.GRAL!#REF!
Name Usuarios_: '[1]P&G'!#REF!
Name Usuarios_: '[1]P&G'!#REF!
Name Usuarios_: '[1]P&G'!#REF!
Name Usuarios_: '[1]P&G'!#REF!
Name Usuarios_: '[1]P&G'!#REF!
Name Usuarios_: '[1]P&G'!#REF!
Name Usuarios_: '[1]P&G'!#REF!
Name Usuarios_: '[1]P&G'!#REF!
Name Usuarios_: '[1]P&G'!#REF!
Name Usuarios_: '[1]P&G'!#REF!
Name Usuarios_: '[1]P&G'!#REF!
Name Usuarios_: '[1]P&G'!#REF!
Name Usuarios_: '[1]P&G'!#REF!
Name Usuarios_: '[1]P&G'!#REF!
Name Usuarios_: '[1]P&G'!#REF!
Name Usuarios_: '[1]P&G'!#REF!
Name Usuarios_: '[1]P&G'!#REF!
Name Usuarios_: '[1]P&G'!#REF!
Name USUARIOS_ACUEDUCTO: '[1]P&G'!#REF!
Name USUARIOS_ACUEDUCTO: '[1]P&G'!#REF!
Name USUARIOS_ACUEDUCTO: '[1]P&G'!#REF!
Name USUARIOS_ACUEDUCTO: '[1]P&G'!#REF!
Name USUARIOS_ACUEDUCTO: '[1]P&G'!#REF!
Name USUARIOS_ACUEDUCTO: '[1]P&G'!#REF!

Sheet GRUPO 1 DE 50 PERSONAS BOGOTA
C1: PROCESO ADQUISICIONES COMPROMISO DE APORTE ADICIONAL EN DINERO O ESPECIE | H1: Código:
H2: Versión: 0
H3: Fecha:
H4: Página: 1 de 1
A6: Estructura de costos | C6: INTEGRARTE INTERNO EN BOGOTA
A7: Plazo días | C7: 0
A8: Proyecto Encargado | C8: Proyecto 1113 "Por una ciudad incluyente y sin barreras"
A9: Fecha Solicitud
A12: Yo, __________________, identificado con _____________, en mi condición de Representante Legal de (Razón social de la ESAL) identificada con Nit ________, para el presente proceso competitivo, me comprometo a ofrecer el siguiente aporte adicional establecido en la Invitación, así:
C20: DIAS DE OPERACIÓN | G20: OBJETO
G21: Prestar servicios sociales de atención interna en centros integrarte a personas mayores de 18 años con discapacidad intelectual, o psicosocial, o física que requiera de apoyos extensos a generalizados, o múltiple, promoviendo sus procesos de inclusión a través del fortalecimiento de sus habilidades individuales, familiares y de entorno y territorio.
C22: CUPOS | E22: GRUPO 1 50
C25: CONCEPTOS DE LA ESTRUCTURA | D25: CANTIDAD | E25: VALOR UNITARIO MENSIUAL | F25: VALOR TOTAL | G25: VALOR DE APORTES
G27: SDIS | H27: PROPONENTE
H28: VALOR EN ESPECIE | I28: DINERO
A29: DIRECTOS | B29: FIJOS | C29: Coordinador-a de Centro | D29: 1 | E29: 3944722 | F29: =+(D29*E29)*7 -> 27613054
C30: Psicóloga-o | D30: 1 | E30: 2775749 | F30: =+(D30*E30)*7 -> 19430243
C31: Trabajadora Social | D31: 1 | E31: 2775749 | F31: =+(D31*E31)*7 -> 19430243
C32: Terapeuta Ocupacional | D32: 1 | E32: 2775749 | F32: =+(D32*E32)*7 -> 19430243
C33: Terapeuta Física/ | D33: 1 | E33: 2775749 | F33: =+(D33*E33)*7 -> 19430243
C34: Educador-a Físico-a | D34: 1 | E34: 2775749 | F34: =+(D34*E34)*7 -> 19430243
C35: Enfermera-o | D35: 1 | E35: 2770079 | F35: =+(D35*E35)*7 -> 19390553
C36: Nutricionista | D36: 1 | E36: 2775749 | F36: =+(D36*E36)*7 -> 19430243
C37: Tecnólogo gastronomia o en alimentos | D37: 1 | E37: 1870264 | F37: =+(D37*E37)*7 -> 13091848
C38: Talleristas | D38: 2 | E38: 1894324 | F38: =+(D38*E38)*7 -> 26520536
C39: Auxiliar de enfermería | D39: 16 | E39: 2269456 | F39: =+(D39*E39)*7 -> 254179072
C40: Auxiliar Administrativo | D40: 1 | E40: 1894324 | F40: =+(D40*E40)*7 -> 13260268
C41: Servicios generales | D41: 5 | E41: 1558822 | F41: =+(D41*E41)*7 -> 54558770
C42: Manipuladores de alimentos | D42: 3 | E42: 1548669 | F42: =+(D42*E42)*7 -> 32522049
C43: SUBTOTAL TALENTO HUMANO | E43: =SUM(E29:E42) -> 34405154 | F43: =SUM(F29:F42) -> 557717608
C44: Servicios funerarios | E44: 485520 | F44: =+E44*7 -> 3398640
C45: Vigilancia | E45: 7372402 | F45: =+E45*7 -> 51606814
C46: Aseo institucional | E46: 2032692 | F46: =+E46*7 -> 14228844
C47: TRANSPORTE | E47: 9177391 | F47: =+E47*7 -> 64241737
C48: Desgaste y uso de los bienes muebles no consumibles | E48: 5071453 | F48: =+E48*7 -> 35500171
C49: Bienes consumibles | E49: 10306102 | F49: =+E49*7 -> 72142714
C50: Espacios Fisicos Funcionales | E50: 9480116.5 | F50: =+E50*7 -> 66360815
C51: TOTAL COSTOS FIJOS | E51: =+ROUND(SUM(E43:E50),0) -> 78330830 | F51: =+ROUND(SUM(F43:F50),0) -> 865197343
B52: VARIABLES | C52: BIENES CONSUMIBLES | E52: 13339388 | F52: =+E52*7 -> 93375716
C53: ALIMENTOS | E53: 20840575 | F53: =+E53*7 -> 145884025 | J53: =+E53/50 -> 416811.5
...

Sheet GRUPO 1 DE50 AFUERAS DE BOGOTA 
C1: PROCESO ADQUISICIONES COMPROMISO DE APORTE ADICIONAL EN DINERO O ESPECIE | H1: Código:
H2: Versión: 0
H3: Fecha:
H4: Página: 1 de 1
A6: Estructura de costos | C6: INTEGRARTE INTERNO FUERA DE BOGOTA
A7: Plazo días | C7: 0
A8: Proyecto Encargado | C8: Proyecto 1113 "Por una ciudad incluyente y sin barreras"
A9: Fecha Solicitud
A11: Yo, __________________, identificado con _____________, en mi condición de Representante Legal de (Razón social de la ESAL) identificada con Nit ________, para el presente proceso competitivo, me comprometo a ofrecer el siguiente aporte adicional establecido en la Invitación, así:
C15: DIAS DE OPERACIÓN | G15: OBJETO
G16: Prestar servicios sociales de atención interna en centros integrarte a personas mayores de 18 años con discapacidad intelectual, o psicosocial, o física que requiera de apoyos extensos a generalizados, o múltiple, promoviendo sus procesos de inclusión a través del fortalecimiento de sus habilidades individuales, familiares y de entorno y territorio.
C17: CUPOS | E17: GRUPO 1 50
C20: CONCEPTOS DE LA ESTRUCTURA | D20: CANTIDAD | E20: VALOR UNITARIO MENSIUAL | F20: VALOR TOTAL | G20: VALOR DE APORTES
G22: SDIS | H22: PROPONENTE
H23: VALOR EN ESPECIE | I23: DINERO
A24: DIRECTOS | B24: FIJOS | C24: Coordinador-a de Centro | D24: 1 | E24: 3944722 | F24: =+(D24*E24)*7 -> 27613054
C25: Psicóloga-o | D25: 1 | E25: 2775749 | F25: =+(D25*E25)*7 -> 19430243
C26: Trabajadora Social | D26: 1 | E26: 2775749 | F26: =+(D26*E26)*7 -> 19430243
C27: Terapeuta Ocupacional | D27: 1 | E27: 2775749 | F27: =+(D27*E27)*7 -> 19430243
C28: Terapeuta Física/ | D28: 1 | E28: 2775749 | F28: =+(D28*E28)*7 -> 19430243
C29: Educador-a Físico-a | D29: 1 | E29: 2775749 | F29: =+(D29*E29)*7 -> 19430243
C30: Enfermera-o | D30: 1 | E30: 2770079 | F30: =+(D30*E30)*7 -> 19390553
C31: Nutricionista | D31: 1 | E31: 2775749 | F31: =+(D31*E31)*7 -> 19430243
C32: Tecnólogo gastronomia o en alimentos | D32: 1 | E32: 1870264 | F32: =+(D32*E32)*7 -> 13091848
C33: Talleristas | D33: 2 | E33: 1894324 | F33: =+(D33*E33)*7 -> 26520536
C34: Auxiliar de enfermería | D34: 16 | E34: 2269456 | F34: =+(D34*E34)*7 -> 254179072
C35: Auxiliar Administrativo | D35: 1 | E35: 1894324 | F35: =+(D35*E35)*7 -> 13260268
C36: Servicios generales | D36: 5 | E36: 1558822 | F36: =+(D36*E36)*7 -> 54558770
C37: Manipuladores de alimentos | D37: 3 | E37: 1548669 | F37: =+(D37*E37)*7 -> 32522049
C38: SUBTOTAL TALENTO HUMANO | E38: =SUM(E24:E37) -> 34405154 | F38: =SUM(F24:F37) -> 557717608
C39: Servicios funerarios | E39: 485520 | F39: =+E39*7 -> 3398640
C40: Vigilancia | E40: 7372402 | F40: =+E40*7 -> 51606814
C41: Aseo institucional | E41: 2032692 | F41: =+E41*7 -> 14228844
C42: TRANSPORTE | E42: 9177391 | F42: =+E42*7 -> 64241737
C43: Desgaste y uso de los bienes muebles no consumibles | E43: 5071453 | F43: =+E43*7 -> 35500171
C44: Bienes consumibles | E44: 10306102 | F44: =+E44*7 -> 72142714
C45: Espacios Fisicos Funcionales | E45: 16023410 | F45: =+E45*7 -> 1.1216387e+08
C46: TOTAL COSTOS FIJOS | E46: =+ROUND(SUM(E38:E45),0) -> 84874124 | F46: =+ROUND(SUM(F38:F45),0) -> 911000396
B47: VARIABLES | C47: BIENES CONSUMIBLES | E47: 13339388 | F47: =+E47*7 -> 93375716
C48: ALIMENTOS | E48: 20840575 | F48: =+E48*7 -> 145884025
...

Sheet GRUPO 2 DE 50 PERSONAS BOGOTA
C1: PROCESO ADQUISICIONES COMPROMISO DE APORTE ADICIONAL EN DINERO O ESPECIE | H1: Código:
H2: Versión: 0
H3: Fecha:
H4: Página: 1 de 1
A6: Estructura de costos | C6: INTEGRARTE INTERNO EN BOGOTA
A7: Plazo días
A8: Proyecto Encargado | C8: Proyecto 1113 "Por una ciudad incluyente y sin barreras"
A9: Fecha Solicitud
A12: Yo, __________________, identificado con _____________, en mi condición de Representante Legal de (Razón social de la ESAL) identificada con Nit ________, para el presente proceso competitivo, me comprometo a ofrecer el siguiente aporte adicional establecido en la Invitación, así:
C19: DIAS DE OPERACIÓN | H19: OBJETO
H20: Prestar servicios sociales de atención interna en centros integrarte a personas mayores de 18 años con discapacidad intelectual, o psicosocial, o física que requiera de apoyos extensos a generalizados, o múltiple, promoviendo sus procesos de inclusión a través del fortalecimiento de sus habilidades individuales, familiares y de entorno y territorio.
C21: CUPOS | E21: GRUPO 2 50
C24: CONCEPTOS DE LA ESTRUCTURA | D24: CANTIDAD | E24: VALOR UNITARIO MENSIUAL | F24: VALOR TOTAL | G24: VALOR DE APORTES
G26: SDIS | H26: PROPONENTE
H27: VALOR EN ESPECIE | I27: DINERO
A28: DIRECTOS | B28: FIJOS | C28: Coordinador-a de Centro | D28: 1 | E28: 3944722 | F28: =+(D28*E28)*7 -> 27613054
C29: Psicóloga-o | D29: 1 | E29: 2775749 | F29: =+(D29*E29)*7 -> 19430243
C30: Trabajadora Social | D30: 1 | E30: 2775749 | F30: =+(D30*E30)*7 -> 19430243
C31: Terapeuta Ocupacional | D31: 1 | E31: 2775749 | F31: =+(D31*E31)*7 -> 19430243
C32: Educador-a Físico-a | D32: 1 | E32: 2775749 | F32: =+(D32*E32)*7 -> 19430243
C33: Terapeuta Física | D33: 1 | E33: 2775749 | F33: =+(D33*E33)*7 -> 19430243
C34: Enfermera-o | D34: 1 | E34: 2770079 | F34: =+(D34*E34)*7 -> 19390553
C35: Nutricionista | D35: 1 | E35: 2775749 | F35: =+(D35*E35)*7 -> 19430243
C36: Tecnólogo gastronomia o en alimentos | D36: 1 | E36: 1870264 | F36: =+(D36*E36)*7 -> 13091848
C37: Talleristas | D37: 2 | E37: 1894324 | F37: =+(D37*E37)*7 -> 26520536
C38: Auxiliar de enfermería | D38: 16 | E38: 2269456 | F38: =+(D38*E38)*7 -> 254179072
C39: Auxiliar Administrativo | D39: 1 | E39: 1894324 | F39: =+(D39*E39)*7 -> 13260268
C40: Servicios generales | D40: 5 | E40: 1558822 | F40: =+(D40*E40)*7 -> 54558770
C41: Manipuladores de alimentos | D41: 3 | E41: 1548669 | F41: =+(D41*E41)*7 -> 32522049
C42: SUBTOTAL TALENTO HUMANO | E42: =SUM(E28:E41) -> 34405154 | F42: =SUM(F28:F41) -> 557717608
C43: Servicios funerarios | E43: 485520 | F43: =+E43*7 -> 3398640
C44: Vigilancia | E44: 7372402 | F44: =+E44*7 -> 51606814
C45: Aseo institucional | E45: 2032692 | F45: =+E45*7 -> 14228844
C46: TRANSPORTE | E46: 9177391 | F46: =+E46*7 -> 64241737
C47: Desgaste y uso de los bienes muebles no consumibles | E47: 5071453 | F47: =+E47*7 -> 35500171
C48: Bienes consumibles | E48: 10306102 | F48: =+E48*7 -> 72142714
C49: Espacios Fisicos Funcionales | E49: 9480116.5 | F49: =+E49*7 -> 66360815
C50: TOTAL COSTOS FIJOS | E50: =+ROUND(SUM(E42:E49),0) -> 78330830 | F50: =+ROUND(SUM(F42:F49),0) -> 865197343
B51: VARIABLES | C51: BIENES CONSUMIBLES | E51: 13339388 | F51: =+E51*7 -> 93375716
C52: ALIMENTOS | E52: 20840575 | F52: =+E52*7 -> 145884025
...

Sheet GRUPO 2 DE50 AFUERAS DE BOGOTA 
C1: PROCESO ADQUISICIONES COMPROMISO DE APORTE ADICIONAL EN DINERO O ESPECIE | H1: Código:
H2: Versión: 0
H3: Fecha:
H4: Página: 1 de 1
A6: Estructura de costos | C6: INTEGRARTE INTERNO FUERA DE BOGOTA
A7: Plazo días | C7: 0
A8: Proyecto Encargado | C8: Proyecto 1113 "Por una ciudad incluyente y sin barreras"
A9: Fecha Solicitud
A12: Yo, __________________, identificado con _____________, en mi condición de Representante Legal de (Razón social de la ESAL) identificada con Nit ________, para el presente proceso competitivo, me comprometo a ofrecer el siguiente aporte adicional establecido en la Invitación, así:
C21: DIAS DE OPERACIÓN | G21: OBJETO
G22: Prestar servicios sociales de atención interna en centros integrarte a personas mayores de 18 años con discapacidad intelectual, o psicosocial, o física que requiera de apoyos extensos a generalizados, o múltiple, promoviendo sus procesos de inclusión a través del fortalecimiento de sus habilidades individuales, familiares y de entorno y territorio.
C23: CUPOS | E23: GRUPO 2 50
C26: CONCEPTOS DE LA ESTRUCTURA | D26: CANTIDAD | E26: VALOR UNITARIO MENSIUAL | F26: VALOR TOTAL | G26: VALOR DE APORTES
G28: SDIS | H28: PROPONENTE
H29: VALOR EN ESPECIE | I29: DINERO
A30: DIRECTOS | B30: FIJOS | C30: Coordinador-a de Centro | D30: 1 | E30: 3944722 | F30: =+(D30*E30)*7 -> 27613054
C31: Psicóloga-o | D31: 1 | E31: 2775749 | F31: =+(D31*E31)*7 -> 19430243
C32: Trabajadora Social | D32: 1 | E32: 2775749 | F32: =+(D32*E32)*7 -> 19430243
C33: Terapeuta Ocupacional | D33: 1 | E33: 2775749 | F33: =+(D33*E33)*7 -> 19430243
C34: Educador-a Físico-a | D34: 1 | E34: 2775749 | F34: =+(D34*E34)*7 -> 19430243
C35: Terapeuta Física | D35: 1 | E35: 2775749 | F35: =+(D35*E35)*7 -> 19430243
C36: Enfermera-o | D36: 1 | E36: 2770079 | F36: =+(D36*E36)*7 -> 19390553
C37: Nutricionista | D37: 1 | E37: 2775749 | F37: =+(D37*E37)*7 -> 19430243
C38: Tecnólogo gastronomia o en alimentos | D38: 1 | E38: 1870264 | F38: =+(D38*E38)*7 -> 13091848
C39: Talleristas | D39: 2 | E39: 1894324 | F39: =+(D39*E39)*7 -> 26520536
C40: Auxiliar de enfermería | D40: 16 | E40: 2269456 | F40: =+(D40*E40)*7 -> 254179072
C41: Auxiliar Administrativo | D41: 1 | E41: 1894324 | F41: =+(D41*E41)*7 -> 13260268
C42: Servicios generales | D42: 5 | E42: 1558822 | F42: =+(D42*E42)*7 -> 54558770
C43: Manipuladores de alimentos | D43: 3 | E43: 1548669 | F43: =+(D43*E43)*7 -> 32522049
C44: SUBTOTAL TALENTO HUMANO | E44: =SUM(E30:E43) -> 34405154 | F44: =SUM(F30:F43) -> 557717608
C45: Servicios funerarios | E45: 485520 | F45: =+E45*7 -> 3398640
C46: Vigilancia | E46: 7372402 | F46: =+E46*7 -> 51606814
C47: Aseo institucional | E47: 2032692 | F47: =+E47*7 -> 14228844
C48: TRANSPORTE | E48: 9177391 | F48: =+E48*7 -> 64241737
C49: Desgaste y uso de los bienes muebles no consumibles | E49: 5071453 | F49: =+E49*7 -> 35500171
C50: Bienes consumibles | E50: 10306102 | F50: =+E50*7 -> 72142714
C51: Espacios Fisicos Funcionales | E51: 16023410 | F51: =+E51*7 -> 1.1216387e+08
C52: TOTAL COSTOS FIJOS | E52: =+ROUND(SUM(E44:E51),0) -> 84874124 | F52: =+ROUND(SUM(F44:F51),0) -> 911000396
B53: VARIABLES | C53: BIENES CONSUMIBLES | E53: 13339388 | F53: =+E53*7 -> 93375716
C54: ALIMENTOS | E54: 20840575 | F54: =+E54*7 -> 145884025
...

Sheet GRUPO 3 DE 60 AFUERAS BOGOT
C1: PROCESO ADQUISICIONES COMPROMISO DE APORTE ADICIONAL EN DINERO O ESPECIE | I1: Código:
I2: Versión: 0
I3: Fecha:
I4: Página: 1 de 1
A6: Estructura de costos | C6: INTEGRARTE INTERNO FUERA DE BOGOTA *
A7: Plazo días | C7: 0
A8: Proyecto Encargado | C8: Proyecto 1113 "Por una ciudad incluyente y sin barreras"
A9: Fecha Solicitud
A10: Yo, __________________, identificado con _____________, en mi condición de Representante Legal de (Razón social de la ESAL) identificada con Nit ________, para el presente proceso competitivo, me comprometo a ofrecer el siguiente aporte mínimo establecido en la Invitación, así:
C15: DIAS DE OPERACIÓN | G15: OBJETO
G16: Prestar servicios sociales de atención interna en centros integrarte a personas mayores de 18 años con discapacidad intelectual, o psicosocial, o física que requiera de apoyos extensos a generalizados, o múltiple, promoviendo sus procesos de inclusión a través del fortalecimiento de sus habilidades individuales, familiares y de entorno y territorio.
C17: CUPOS | E17: GRUPO 3 60
C20: CONCEPTOS DE LA ESTRUCTURA | D20: CANTIDAD | E20: VALOR UNITARIO MENSIUAL | F20: VALOR TOTAL | G20: VALOR DE APORTES
G22: SDIS | H22: PROPONENTE
H23: VALOR EN ESPECIE | I23: DINERO
A24: DIRECTOS | B24: FIJOS | C24: Coordinador-a de Centro | D24: 1 | E24: 3944722 | F24: =+(D24*E24)*7 -> 27613054
C25: Psicóloga-o | D25: 1 | E25: 2775749 | F25: =+(D25*E25)*7 -> 19430243
C26: Trabajadora Social | D26: 1 | E26: 2775749 | F26: =+(D26*E26)*7 -> 19430243
C27: Terapeuta Ocupacional | D27: 1 | E27: 2775749 | F27: =+(D27*E27)*7 -> 19430243
C28: Educador-a Físico-a | D28: 1 | E28: 2775749 | F28: =+(D28*E28)*7 -> 19430243
C29: Terapeuta Física | D29: 1 | E29: 2775749 | F29: =+(D29*E29)*7 -> 19430243
C30: Enfermera-o | D30: 1 | E30: 2770079 | F30: =+(D30*E30)*7 -> 19390553
C31: Nutricionista | D31: 1 | E31: 2775749 | F31: =+(D31*E31)*7 -> 19430243
C32: Tecnólogo gastronomia o en alimentos | D32: 1 | E32: 1870264 | F32: =+(D32*E32)*7 -> 13091848
C33: Talleristas | D33: 2 | E33: 1894324 | F33: =+(D33*E33)*7 -> 26520536
C34: Auxiliar de enfermería | D34: 16 | E34: 2269456 | F34: =+(D34*E34)*7 -> 254179072
C35: Auxiliar Administrativo | D35: 1 | E35: 1894324 | F35: =+(D35*E35)*7 -> 13260268
C36: Servicios generales | D36: 4 | E36: 1558822 | F36: =+(D36*E36)*7 -> 43647016
C37: Manipuladores de alimentos | D37: 3 | E37: 1548669 | F37: =+(D37*E37)*7 -> 32522049
C38: SUBTOTAL TALENTO HUMANO | E38: =SUM(E24:E37) -> 34405154 | F38: =SUM(F24:F37) -> 546805854
C39: Servicios funerarios | E39: 485520 | F39: =+E39*7 -> 3398640
C40: Vigilancia | E40: 7372402 | F40: =+E40*7 -> 51606814
C41: Aseo institucional | E41: 2032692 | F41: =+E41*7 -> 14228844
C42: TRANSPORTE | E42: 9177391 | F42: =+E42*7 -> 64241737
C43: Desgaste y uso de los bienes muebles no consumibles | E43: 5071453 | F43: =+E43*7 -> 35500171
C44: Bienes consumibles | E44: 10306102 | F44: =+E44*7 -> 72142714
C45: Espacios Fisicos Funcionales | E45: 17673031 | F45: =+E45*7 -> 1.2371122e+08
C46: TOTAL COSTOS FIJOS | E46: =+ROUND(SUM(E38:E45),0) -> 86523745 | F46: =+ROUND(SUM(F38:F45),0) -> 911635994
B47: VARIABLES | C47: BIENES CONSUMIBLES | E47: 13339388 | F47: =+E47*7 -> 93375716 | K47: 10627125
C48: ALIMENTOS | E48: 25008690 | F48: =+E48*7 -> 175060830
...

Sheet GRUPO 3 DE 60 BOGOT
C1: PROCESO ADQUISICIONES COMPROMISO DE APORTE ADICIONAL EN DINERO O ESPECIE | I1: Código:
I2: Versión: 0
I3: Fecha:
I4: Página: 1 de 1
A6: Estructura de costos | C6: INTEGRARTE INTERNO BOGOTA *
A7: Plazo días | C7: 0
A8: Proyecto Encargado | C8: Proyecto 1113 "Por una ciudad incluyente y sin barreras"
A9: Fecha Solicitud
A10: Yo, __________________, identificado con _____________, en mi condición de Representante Legal de (Razón social de la ESAL) identificada con Nit ________, para el presente proceso competitivo, me comprometo a ofrecer el siguiente aporte mínimo establecido en la Invitación, así:
C15: DIAS DE OPERACIÓN | G15: OBJETO
G16: Prestar servicios sociales de atención interna en centros integrarte a personas mayores de 18 años con discapacidad intelectual, o psicosocial, o física que requiera de apoyos extensos a generalizados, o múltiple, promoviendo sus procesos de inclusión a través del fortalecimiento de sus habilidades individuales, familiares y de entorno y territorio.
C17: CUPOS | E17: GRUPO 3 60
C20: CONCEPTOS DE LA ESTRUCTURA | D20: CANTIDAD | E20: VALOR UNITARIO MENSIUAL | F20: VALOR TOTAL | G20: VALOR DE APORTES
G22: SDIS | H22: PROPONENTE
H23: VALOREN ESPECIE | I23: DINERO
A24: DIRECTOS | B24: FIJOS | C24: Coordinador-a de Centro | D24: 1 | E24: 3944722 | F24: =+(D24*E24)*7 -> 27613054
C25: Psicóloga-o | D25: 1 | E25: 2775749 | F25: =+(D25*E25)*7 -> 19430243
C26: Trabajadora Social | D26: 1 | E26: 2775749 | F26: =+(D26*E26)*7 -> 19430243
C27: Terapeuta Ocupacional | D27: 1 | E27: 2775749 | F27: =+(D27*E27)*7 -> 19430243
C28: Educador-a Físico-a | D28: 1 | E28: 2775749 | F28: =+(D28*E28)*7 -> 19430243
C29: Terapeuta Física | D29: 1 | E29: 2775749 | F29: =+(D29*E29)*7 -> 19430243
C30: Enfermera-o | D30: 1 | E30: 2770079 | F30: =+(D30*E30)*7 -> 19390553
C31: Nutricionista | D31: 1 | E31: 2775749 | F31: =+(D31*E31)*7 -> 19430243
C32: Tecnólogo gastronomia o en alimentos | D32: 1 | E32: 1870264 | F32: =+(D32*E32)*7 -> 13091848
C33: Talleristas | D33: 2 | E33: 1894324 | F33: =+(D33*E33)*7 -> 26520536
C34: Auxiliar de enfermería | D34: 16 | E34: 2269456 | F34: =+(D34*E34)*7 -> 254179072
C35: Auxiliar Administrativo | D35: 1 | E35: 1894324 | F35: =+(D35*E35)*7 -> 13260268
C36: Servicios generales | D36: 4 | E36: 1558822 | F36: =+(D36*E36)*7 -> 43647016
C37: Manipuladores de alimentos | D37: 3 | E37: 1548669 | F37: =+(D37*E37)*7 -> 32522049
C38: SUBTOTAL TALENTO HUMANO | E38: =SUM(E24:E37) -> 34405154 | F38: =SUM(F24:F37) -> 546805854
C39: Servicios funerarios | E39: 485520 | F39: =+E39*7 -> 3398640
C40: Vigilancia | E40: 7372402 | F40: =+E40*7 -> 51606814
C41: Aseo institucional | E41: 2032692 | F41: =+E41*7 -> 14228844
C42: TRANSPORTE | E42: 9177391 | F42: =+E42*7 -> 64241737
C43: Desgaste y uso de los bienes muebles no consumibles | E43: 5071453 | F43: =+E43*7 -> 35500171
C44: Bienes consumibles | E44: 10306102 | F44: =+E44*7 -> 72142714
C45: Espacios Fisicos Funcionales | E45: 11064847 | F45: =+E45*7 -> 77453932
C46: TOTAL COSTOS FIJOS | E46: =+ROUND(SUM(E38:E45),0) -> 79915561 | F46: =+ROUND(SUM(F38:F45),0) -> 865378706
B47: VARIABLES | C47: BIENES CONSUMIBLES | E47: 13339388 | F47: =+E47*7 -> 93375716 | K47: 10627125
C48: ALIMENTOS | E48: 25008690 | F48: =+E48*7 -> 175060830
...

Sheet GRUPO 4 DE 53 PERSONAS BOGOTA
C1: PROCESO ADQUISICIONES COMPROMISO DE APORTE ADICIONAL EN DINERO O ESPECIE | I1: Código:
I2: Versión: 0
I3: Fecha:
I4: Página: 1 de 1
A6: Estructura de costos | C6: INTEGRARTE INTERNO EN BOGOTA
A7: Plazo días | C7: 0
A8: Proyecto Encargado | C8: Proyecto 1113 "Por una ciudad incluyente y sin barreras"
A9: Fecha Solicitud
A12: Yo, __________________, identificado con _____________, en mi condición de Representante Legal de (Razón social de la ESAL) identificada con Nit ________, para el presente proceso competitivo, me comprometo a ofrecer el siguiente aporte adicional establecido en la Invitación, así:
C19: DIAS DE OPERACIÓN | G19: OBJETO
G20: Prestar servicios sociales de atención interna en centros integrarte a personas mayores de 18 años con discapacidad intelectual, o psicosocial, o física que requiera de apoyos extensos a generalizados, o múltiple, promoviendo sus procesos de inclusión a través del fortalecimiento de sus habilidades individuales, familiares y de entorno y territorio.
C21: CUPOS | E21: GRUPO 4 53
C24: CONCEPTOS DE LA ESTRUCTURA | D24: CANTIDAD | E24: VALOR UNITARIO MENSIUAL | F24: VALOR TOTAL | G24: VALOR DE APORTES
G26: SDIS | H26: PROPONENTE
H27: VALOR EN ESPECIE | I27: DINERO
A28: DIRECTOS | B28: FIJOS | C28: Coordinador-a de Centro | D28: 1 | E28: 3944722 | F28: =+(D28*E28)*7 -> 27613054
C29: Psicóloga-o | D29: 1 | E29: 2775749 | F29: =+(D29*E29)*7 -> 19430243
C30: Trabajadora Social | D30: 1 | E30: 2775749 | F30: =+(D30*E30)*7 -> 19430243
C31: Terapeuta Ocupacional | D31: 1 | E31: 2775749 | F31: =+(D31*E31)*7 -> 19430243
C32: Educador-a Físico-a | D32: 1 | E32: 2775749 | F32: =+(D32*E32)*7 -> 19430243
C33: Terapeuta Física | D33: 1 | E33: 2775749 | F33: =+(D33*E33)*7 -> 19430243
C34: Enfermera-o | D34: 1 | E34: 2770079 | F34: =+(D34*E34)*7 -> 19390553
C35: Nutricionista | D35: 1 | E35: 2775749 | F35: =+(D35*E35)*7 -> 19430243
C36: Tecnólogo gastronomia o en alimentos | D36: 1 | E36: 1870264 | F36: =+(D36*E36)*7 -> 13091848
C37: Talleristas | D37: 2 | E37: 1894324 | F37: =+(D37*E37)*7 -> 26520536
C38: Auxiliar de enfermería | D38: 16 | E38: 2269456 | F38: =+(D38*E38)*7 -> 254179072
C39: Auxiliar Administrativo | D39: 1 | E39: 1894324 | F39: =+(D39*E39)*7 -> 13260268
C40: Servicios generales | D40: 5 | E40: 1558822 | F40: =+(D40*E40)*7 -> 54558770
C41: Manipuladores de alimentos | D41: 3 | E41: 1548669 | F41: =+(D41*E41)*7 -> 32522049
C42: SUBTOTAL TALENTO HUMANO | E42: =SUM(E28:E41) -> 34405154 | F42: =SUM(F28:F41) -> 557717608
C43: Servicios funerarios | E43: 485520 | F43: =+E43*7 -> 3398640
C44: Vigilancia | E44: 7372402 | F44: =+E44*7 -> 51606814
C45: Aseo institucional | E45: 2032692 | F45: =+E45*7 -> 14228844
C46: TRANSPORTE | E46: 9177391 | F46: =+E46*7 -> 64241737
C47: Desgaste y uso de los bienes muebles no consumibles | E47: 5071453 | F47: =+E47*7 -> 35500171
C48: Bienes consumibles | E48: 10306102 | F48: =+E48*7 -> 72142714
C49: Espacios Fisicos Funcionales | E49: 9955535.8 | F49: =+E49*7 -> 69688750
C50: TOTAL COSTOS FIJOS | E50: =+ROUND(SUM(E42:E49),0) -> 78806250 | F50: =+ROUND(SUM(F42:F49),0) -> 868525278
B51: VARIABLES | C51: BIENES CONSUMIBLES | E51: 13339388 | F51: =+E51*7 -> 93375716
C52: ALIMENTOS | E52: 22091010 | F52: =+E52*7 -> 1.5463707e+08 | J52: =+E52/53 -> 416811.5
...

Sheet GRUPO 4 DE 53 AFUERAS BOGOTA 
C1: PROCESO ADQUISICIONES COMPROMISO DE APORTE ADICIONAL EN DINERO O ESPECIE | I1: Código:
I2: Versión: 0
I3: Fecha:
I4: Página: 1 de 1
A6: Estructura de costos | C6: INTEGRARTE INTERNO FUERA DE BOGOTA
A7: Plazo días | C7: 0
A8: Proyecto Encargado | C8: Proyecto 1113 "Por una ciudad incluyente y sin barreras"
A9: Fecha Solicitud
A11: Yo, __________________, identificado con _____________, en mi condición de Representante Legal de (Razón social de la ESAL) identificada con Nit ________, para el presente proceso competitivo, me comprometo a ofrecer el siguiente aporte mínimo establecido en la Invitación, así:
C15: DIAS DE OPERACIÓN | G15: OBJETO
G16: Prestar servicios sociales de atención interna en centros integrarte a personas mayores de 18 años con discapacidad intelectual, o psicosocial, o física que requiera de apoyos extensos a generalizados, o múltiple, promoviendo sus procesos de inclusión a través del fortalecimiento de sus habilidades individuales, familiares y de entorno y territorio.
C17: CUPOS | E17: GRUPO 4 53
C20: CONCEPTOS DE LA ESTRUCTURA | D20: CANTIDAD | E20: VALOR UNITARIO MENSUAL | F20: VALOR TOTAL | G20: VALOR DE APORTES
G22: SDIS | H22: PROPONENTE
H23: VALOR EN ESPECIE | I23: DINERO
A24: DIRECTOS | B24: FIJOS | C24: Coordinador-a de Centro | D24: 1 | E24: 3944722 | F24: =+(D24*E24)*7 -> 27613054
C25: Psicóloga-o | D25: 1 | E25: 2775749 | F25: =+(D25*E25)*7 -> 19430243
C26: Trabajadora Social | D26: 1 | E26: 2775749 | F26: =+(D26*E26)*7 -> 19430243
C27: Terapeuta Ocupacional | D27: 1 | E27: 2775749 | F27: =+(D27*E27)*7 -> 19430243
C28: Educador-a Físico-a | D28: 1 | E28: 2775749 | F28: =+(D28*E28)*7 -> 19430243
C29: Terapeuta Física | D29: 1 | E29: 2775749 | F29: =+(D29*E29)*7 -> 19430243
C30: Enfermera-o | D30: 1 | E30: 2770079 | F30: =+(D30*E30)*7 -> 19390553
C31: Nutricionista | D31: 1 | E31: 2775749 | F31: =+(D31*E31)*7 -> 19430243
C32: Tecnólogo gastronomia o en alimentos | D32: 1 | E32: 1870264 | F32: =+(D32*E32)*7 -> 13091848
C33: Talleristas | D33: 2 | E33: 1894324 | F33: =+(D33*E33)*7 -> 26520536
C34: Auxiliar de enfermería | D34: 16 | E34: 2269456 | F34: =+(D34*E34)*7 -> 254179072
C35: Auxiliar Administrativo | D35: 1 | E35: 1894324 | F35: =+(D35*E35)*7 -> 13260268
C36: Servicios generales | D36: 5 | E36: 1558822 | F36: =+(D36*E36)*7 -> 54558770
C37: Manipuladores de alimentos | D37: 3 | E37: 1548669 | F37: =+(D37*E37)*7 -> 32522049
C38: SUBTOTAL TALENTO HUMANO | E38: =SUM(E24:E37) -> 34405154 | F38: =SUM(F24:F37) -> 557717608
C39: Servicios funerarios | E39: 485520 | F39: =+E39*7 -> 3398640
C40: Vigilancia | E40: 7372402 | F40: =+E40*7 -> 51606814
C41: Aseo institucional | E41: 2032692 | F41: =+E41*7 -> 14228844
C42: TRANSPORTE | E42: 9177391 | F42: =+E42*7 -> 64241737
C43: Desgaste y uso de los bienes muebles no consumibles | E43: 5071453 | F43: =+E43*7 -> 35500171
C44: Bienes consumibles | E44: 10306102 | F44: =+E44*7 -> 72142714
C45: Espacios Fisicos Funcionales | E45: 16518296 | F45: =+E45*7 -> 1.1562807e+08
C46: TOTAL COSTOS FIJOS | E46: =+ROUND(SUM(E38:E45),0) -> 85369010 | F46: =+ROUND(SUM(F38:F45),0) -> 914464601 | I46: 0
B47: VARIABLES | C47: BIENES CONSUMIBLES | E47: 13339388 | F47: =+E47*7 -> 93375716 | K47: 10627125
C48: ALIMENTOS | E48: 22091010 | F48: =+E48*7 -> 1.5463707e+08
...

Sheet GRUPO 5 DE 50 PERSONAS BOGOTA
C1: PROCESO ADQUISICIONES COMPROMISO DE APORTE ADICIONAL EN DINERO O ESPECIE | H1: Código:
H2: Versión: 0
H3: Fecha:
H4: Página: 1 de 1
A6: Estructura de costos | C6: INTEGRARTE INTERNO EN BOGOTA
A7: Plazo días | C7: 0
A8: Proyecto Encargado | C8: Proyecto 1113 "Por una ciudad incluyente y sin barreras"
A9: Fecha Solicitud
A11: Yo, __________________, identificado con _____________, en mi condición de Representante Legal de (Razón social de la ESAL) identificada con Nit ________, para el presente proceso competitivo, me comprometo a ofrecer el siguiente aporte adicional establecido en la Invitación, así:
C19: DIAS DE OPERACIÓN | G19: OBJETO
G20: Prestar servicios sociales de atención interna en centros integrarte a personas mayores de 18 años con discapacidad intelectual, o psicosocial, o física que requiera de apoyos extensos a generalizados, o múltiple, promoviendo sus procesos de inclusión a través del fortalecimiento de sus habilidades individuales, familiares y de entorno y territorio.
C21: CUPOS | E21: GRUPO 5 50
C23: CONCEPTOS DE LA ESTRUCTURA | D23: CANTIDAD | E23: VALOR UNITARIO MENSIUAL | F23: VALOR TOTAL | G23: VALOR DE APORTES
G25: SDIS | H25: PROPONENTE
H26: VALOR EN ESPECIE | I26: DINERO
A27: DIRECTOS | B27: FIJOS | C27: Coordinador-a de Centro | D27: 1 | E27: 3944722 | F27: =+(D27*E27)*7 -> 27613054
C28: Psicóloga-o | D28: 1 | E28: 2775749 | F28: =+(D28*E28)*7 -> 19430243
C29: Trabajadora Social | D29: 1 | E29: 2775749 | F29: =+(D29*E29)*7 -> 19430243
C30: Terapeuta Ocupacional | D30: 1 | E30: 2775749 | F30: =+(D30*E30)*7 -> 19430243
C31: Educador-a Físico-a | D31: 1 | E31: 2775749 | F31: =+(D31*E31)*7 -> 19430243
C32: Terapeuta Física | D32: 1 | E32: 2775749 | F32: =+(D32*E32)*7 -> 19430243
C33: Enfermera-o | D33: 1 | E33: 2770079 | F33: =+(D33*E33)*7 -> 19390553
C34: Nutricionista | D34: 1 | E34: 2775749 | F34: =+(D34*E34)*7 -> 19430243
C35: Tecnólogo gastronomia o en alimentos | D35: 1 | E35: 1870264 | F35: =+(D35*E35)*7 -> 13091848
C36: Talleristas | D36: 2 | E36: 1894324 | F36: =+(D36*E36)*7 -> 26520536
C37: Auxiliar de enfermería | D37: 16 | E37: 2269456 | F37: =+(D37*E37)*7 -> 254179072
C38: Auxiliar Administrativo | D38: 1 | E38: 1894324 | F38: =+(D38*E38)*7 -> 13260268
C39: Servicios generales | D39: 5 | E39: 1558822 | F39: =+(D39*E39)*7 -> 54558770
C40: Manipuladores de alimentos | D40: 3 | E40: 1548669 | F40: =+(D40*E40)*7 -> 32522049
C41: SUBTOTAL TALENTO HUMANO | E41: =SUM(E27:E40) -> 34405154 | F41: =SUM(F27:F40) -> 557717608
C42: Servicios funerarios | E42: 485520 | F42: =+E42*7 -> 3398640
C43: Vigilancia | E43: 7372402 | F43: =+E43*7 -> 51606814
C44: Aseo institucional | E44: 2032692 | F44: =+E44*7 -> 14228844
C45: TRANSPORTE | E45: 9177391 | F45: =+E45*7 -> 64241737
C46: Desgaste y uso de los bienes muebles no consumibles | E46: 5071453 | F46: =+E46*7 -> 35500171
C47: Bienes consumibles | E47: 10306102 | F47: =+E47*7 -> 72142714
C48: Espacios Fisicos Funcionales | E48: 9480116.5 | F48: =+E48*7 -> 66360815
C49: TOTAL COSTOS FIJOS | E49: =+ROUND(SUM(E41:E48),0) -> 78330830 | F49: =+ROUND(SUM(F41:F48),0) -> 865197343
B50: VARIABLES | C50: BIENES CONSUMIBLES | E50: 13339388 | F50: =+E50*7 -> 93375716
C51: ALIMENTOS | E51: 20840575 | F51: =+E51*7 -> 145884025 | J51: =+E51/50 -> 416811.5
...

Sheet GRUPO 5 DE50 AFUERAS DE BOGOTA 
C1: PROCESO ADQUISICIONES COMPROMISO DE APORTE ADICIONAL EN DINERO O ESPECIE | I1: Código:
I2: Versión: 0
I3: Fecha:
I4: Página: 1 de 1
A6: Estructura de costos | C6: INTEGRARTE INTERNO AFUERA DE BOGOTA
A7: Plazo días | C7: 0
A8: Proyecto Encargado | C8: Proyecto 1113 "Por una ciudad incluyente y sin barreras"
A9: Fecha Solicitud
A11: Yo, __________________, identificado con _____________, en mi condición de Representante Legal de (Razón social de la ESAL) identificada con Nit ________, para el presente proceso competitivo, me comprometo a ofrecer el siguiente aporte adicional establecido en la Invitación, así:
C22: DIAS DE OPERACIÓN | G22: OBJETO
G23: Prestar servicios sociales de atención interna en centros integrarte a personas mayores de 18 años con discapacidad intelectual, o psicosocial, o física que requiera de apoyos extensos a generalizados, o múltiple, promoviendo sus procesos de inclusión a través del fortalecimiento de sus habilidades individuales, familiares y de entorno y territorio.
C24: CUPOS | E24: GRUPO 5 50
C27: CONCEPTOS DE LA ESTRUCTURA | D27: CANTIDAD | E27: VALOR UNITARIO MENSIUAL | F27: VALOR TOTAL | G27: VALOR DE APORTES
G29: SDIS | H29: PROPONENTE
H30: VALOR EN ESPECIE | I30: DINERO
A31: DIRECTOS | B31: FIJOS | C31: Coordinador-a de Centro | D31: 1 | E31: 3944722 | F31: =+(D31*E31)*7 -> 27613054
C32: Psicóloga-o | D32: 1 | E32: 2775749 | F32: =+(D32*E32)*7 -> 19430243
C33: Trabajadora Social | D33: 1 | E33: 2775749 | F33: =+(D33*E33)*7 -> 19430243
C34: Terapeuta Ocupacional | D34: 1 | E34: 2775749 | F34: =+(D34*E34)*7 -> 19430243
C35: Educador-a Físico-a | D35: 1 | E35: 2775749 | F35: =+(D35*E35)*7 -> 19430243
C36: Terapeuta Física | D36: 1 | E36: 2775749 | F36: =+(D36*E36)*7 -> 19430243
C37: Enfermera-o | D37: 1 | E37: 2770079 | F37: =+(D37*E37)*7 -> 19390553
C38: Nutricionista | D38: 1 | E38: 2775749 | F38: =+(D38*E38)*7 -> 19430243
C39: Tecnólogo gastronomia o en alimentos | D39: 1 | E39: 1870264 | F39: =+(D39*E39)*7 -> 13091848
C40: Talleristas | D40: 2 | E40: 1894324 | F40: =+(D40*E40)*7 -> 26520536
C41: Auxiliar de enfermería | D41: 16 | E41: 2269456 | F41: =+(D41*E41)*7 -> 254179072
C42: Auxiliar Administrativo | D42: 1 | E42: 1894324 | F42: =+(D42*E42)*7 -> 13260268
C43: Servicios generales | D43: 5 | E43: 1558822 | F43: =+(D43*E43)*7 -> 54558770
C44: Manipuladores de alimentos | D44: 3 | E44: 1548669 | F44: =+(D44*E44)*7 -> 32522049
C45: SUBTOTAL TALENTO HUMANO | E45: =SUM(E31:E44) -> 34405154 | F45: =SUM(F31:F44) -> 557717608
C46: Servicios funerarios | E46: 485520 | F46: =+E46*7 -> 3398640
C47: Vigilancia | E47: 7372402 | F47: =+E47*7 -> 51606814
C48: Aseo institucional | E48: 2032692 | F48: =+E48*7 -> 14228844
C49: TRANSPORTE | E49: 9177391 | F49: =+E49*7 -> 64241737
C50: Desgaste y uso de los bienes muebles no consumibles | E50: 5071453 | F50: =+E50*7 -> 35500171
C51: Bienes consumibles | E51: 10306102 | F51: =+E51*7 -> 72142714
C52: Espacios Fisicos Funcionales | E52: 16023410 | F52: =+E52*7 -> 1.1216387e+08
C53: TOTAL COSTOS FIJOS | E53: =+ROUND(SUM(E45:E52),0) -> 84874124 | F53: =+ROUND(SUM(F45:F52),0) -> 911000396
B54: VARIABLES | C54: BIENES CONSUMIBLES | E54: 13339388 | F54: =+E54*7 -> 93375716
C55: ALIMENTOS | E55: 20840575 | F55: =+E55*7 -> 145884025 | J55: =+E55/50 -> 416811.5
...

Sheet GRUPO 6 DE 50 PERSONAS BOGOTA 
C1: PROCESO ADQUISICIONES COMPROMISO DE APORTE ADICIONAL EN DINERO O ESPECIE | I1: Código:
I2: Versión: 0
I3: Fecha:
I4: Página: 1 de 1
A6: Estructura de costos | C6: INTEGRARTE INTERNO EN BOGOTA
A7: Plazo días | C7: 0
A8: Proyecto Encargado | C8: Proyecto 1113 "Por una ciudad incluyente y sin barreras"
A9: Fecha Solicitud
A11: Yo, __________________, identificado con _____________, en mi condición de Representante Legal de (Razón social de la ESAL) identificada con Nit ________, para el presente proceso competitivo, me comprometo a ofrecer el siguiente aporte adicional establecido en la Invitación, así:
C19: DIAS DE OPERACIÓN | G19: OBJETO
G20: Prestar servicios sociales de atención interna en centros integrarte a personas mayores de 18 años con discapacidad intelectual, o psicosocial, o física que requiera de apoyos extensos a generalizados, o múltiple, promoviendo sus procesos de inclusión a través del fortalecimiento de sus habilidades individuales, familiares y de entorno y territorio.
C21: CUPOS | E21: GRUPO 6 50
C24: CONCEPTOS DE LA ESTRUCTURA | D24: CANTIDAD | E24: VALOR UNITARIO MENSIUAL | F24: VALOR TOTAL | G24: VALOR DE APORTES
G26: SDIS | H26: PROPONENTE
H27: VALOR EN ESPECIE | I27: DINERO
A28: DIRECTOS | B28: FIJOS | C28: Coordinador-a de Centro | D28: 1 | E28: 3944722 | F28: =+(D28*E28)*7 -> 27613054
C29: Psicóloga-o | D29: 1 | E29: 2775749 | F29: =+(D29*E29)*7 -> 19430243
C30: Trabajadora Social | D30: 1 | E30: 2775749 | F30: =+(D30*E30)*7 -> 19430243
C31: Terapeuta Ocupacional | D31: 1 | E31: 2775749 | F31: =+(D31*E31)*7 -> 19430243
C32: Educador-a Especial | D32: 1 | E32: 2925000 | F32: =+(D32*E32)*7 -> 20475000
C33: Educador-a Físico-a | D33: 1 | E33: 2775749 | F33: =+(D33*E33)*7 -> 19430243
C34: Terapeuta Física | D34: 1 | E34: 2775749 | F34: =+(D34*E34)*7 -> 19430243
C35: Enfermera-o | D35: 1 | E35: 2770079 | F35: =+(D35*E35)*7 -> 19390553
C36: Nutricionista | D36: 1 | E36: 2775749 | F36: =+(D36*E36)*7 -> 19430243
C37: Tecnólogo gastronomia o en alimentos | D37: 1 | E37: 1870264 | F37: =+(D37*E37)*7 -> 13091848
C38: Talleristas | D38: 2 | E38: 1894324 | F38: =+(D38*E38)*7 -> 26520536
C39: Auxiliar de enfermería | D39: 12 | E39: 2269456 | F39: =+(D39*E39)*7 -> 190634304
C40: Auxiliar Administrativo | D40: 1 | E40: 1894324 | F40: =+(D40*E40)*7 -> 13260268
... C42: Manipuladores de alimentos | D42: 3 | E42: 1548669 | F42: =+(D42*E42)*7 -> 32522049
C43: SUBTOTAL TALENTO HUMANO | E43: =SUM(E28:E42) -> 37330154 | F43: =SUM(F28:F42) -> 492824332
C44: Servicios funerarios | E44: 485520 | F44: =+E44*7 -> 3398640
C45: Vigilancia | E45: 7372402 | F45: =+E45*7 -> 51606814
C46: Aseo institucional | E46: 2032692 | F46: =+E46*7 -> 14228844
C47: TRANSPORTE | E47: 9177391 | F47: =+E47*7 -> 64241737
C48: Desgaste y uso de los bienes muebles no consumibles | E48: 5071453 | F48: =+E48*7 -> 35500171
C49: Bienes consumibles | E49: 10306102 | F49: =+E49*7 -> 72142714
C50: Espacios Fisicos Funcionales | E50: 9480116.5 | F50: =+E50*7 -> 66360815
C51: TOTAL COSTOS FIJOS | E51: =+ROUND(SUM(E43:E50),0) -> 81255830 | F51: =+ROUND(SUM(F43:F50),0) -> 800304067
B52: VARIABLES | C52: BIENES CONSUMIBLES | E52: 13339388 | F52: =+E52*7 -> 93375716
C53: ALIMENTOS | E53: 20840575 | F53: =+E53*7 -> 145884025 | J53: =+E53/50 -> 416811.5
...

Sheet GRUPO 6 DE 50AFUERAS DE BOGOTA 
C1: PROCESO ADQUISICIONES COMPROMISO DE APORTE ADICIONAL EN DINERO O ESPECIE | I1: Código:
I2: Versión: 0
I3: Fecha:
I4: Página: 1 de 1
A6: Estructura de costos | C6: INTEGRARTE INTERNO FUERA DE BOGOTA
A7: Plazo días | C7: 0
A8: Proyecto Encargado | C8: Proyecto 1113 "Por una ciudad incluyente y sin barreras"
A9: Fecha Solicitud
A12: Yo, __________________, identificado con _____________, en mi condición de Representante Legal de (Razón social de la ESAL) identificada con Nit ________, para el presente proceso competitivo, me comprometo a ofrecer el siguiente aporte adicional establecido en la Invitación, así:
C21: DIAS DE OPERACIÓN | G21: OBJETO
G22: Prestar servicios sociales de atención interna en centros integrarte a personas mayores de 18 años con discapacidad intelectual, o psicosocial, o física que requiera de apoyos extensos a generalizados, o múltiple, promoviendo sus procesos de inclusión a través del fortalecimiento de sus habilidades individuales, familiares y de entorno y territorio.
C23: CUPOS | E23: GRUPO 6 50
C26: CONCEPTOS DE LA ESTRUCTURA | D26: CANTIDAD | E26: VALOR UNITARIO MENSIUAL | F26: VALOR TOTAL | G26: VALOR DE APORTES
G28: SDIS | H28: PROPONENTE
H29: VALOR EN ESPECIE | I29: DINERO
A30: DIRECTOS | B30: FIJOS | C30: Coordinador-a de Centro | D30: 1 | E30: 3944722 | F30: =+(D30*E30)*7 -> 27613054
C31: Psicóloga-o | D31: 1 | E31: 2775749 | F31: =+(D31*E31)*7 -> 19430243
C32: Trabajadora Social | D32: 1 | E32: 2775749 | F32: =+(D32*E32)*7 -> 19430243
C33: Terapeuta Ocupacional | D33: 1 | E33: 2775749 | F33: =+(D33*E33)*7 -> 19430243
C34: Educador-a Especial | D34: 1 | E34: 2925000 | F34: =+(D34*E34)*7 -> 20475000
C35: Educador-a Físico-a | D35: 1 | E35: 2775749 | F35: =+(D35*E35)*7 -> 19430243
C36: Terapeuta Física | D36: 1 | E36: 2775749 | F36: =+(D36*E36)*7 -> 19430243
C37: Enfermera-o | D37: 1 | E37: 2770079 | F37: =+(D37*E37)*7 -> 19390553
C38: Nutricionista | D38: 1 | E38: 2775749 | F38: =+(D38*E38)*7 -> 19430243
C39: Tecnólogo gastronomia o en alimentos | D39: 1 | E39: 1870264 | F39: =+(D39*E39)*7 -> 13091848
C40: Talleristas | D40: 2 | E40: 1894324 | F40: =+(D40*E40)*7 -> 26520536
C41: Auxiliar de enfermería | D41: 12 | E41: 2269456 | F41: =+(D41*E41)*7 -> 190634304
C42: Auxiliar Administrativo | D42: 1 | E42: 1894324 | F42: =+(D42*E42)*7 -> 13260268
... C44: Manipuladores de alimentos | D44: 3 | E44: 1548669 | F44: =+(D44*E44)*7 -> 32522049
C45: SUBTOTAL TALENTO HUMANO | E45: =SUM(E30:E44) -> 37330154 | F45: =SUM(F30:F44) -> 492824332
C46: Servicios funerarios | E46: 485520 | F46: =+E46*7 -> 3398640
C47: Vigilancia | E47: 7372402 | F47: =+E47*7 -> 51606814
C48: Aseo institucional | E48: 2032692 | F48: =+E48*7 -> 14228844
C49: TRANSPORTE | E49: 9177391 | F49: =+E49*7 -> 64241737
C50: Desgaste y uso de los bienes muebles no consumibles | E50: 5071453 | F50: =+E50*7 -> 35500171
C51: Bienes consumibles | E51: 10306102 | F51: =+E51*7 -> 72142714
C52: Espacios Fisicos Funcionales | E52: 16023410 | F52: =+E52*7 -> 1.1216387e+08
C53: TOTAL COSTOS FIJOS | E53: =+ROUND(SUM(E45:E52),0) -> 87799124 | F53: =+ROUND(SUM(F45:F52),0) -> 846107120
B54: VARIABLES | C54: BIENES CONSUMIBLES | E54: 13339388 | F54: =+E54*7 -> 93375716
C55: ALIMENTOS | E55: 20840575 | F55: =+E55*7 -> 145884025 | J55: =+E55/50 -> 416811.5
...

Sheet GRUPO 7 DE 53 AFUERAS BOGOT
C1: PROCESO ADQUISICIONES COMPROMISO DE APORTE ADICIONAL EN DINERO O ESPECIE | I1: Código:
I2: Versión: 0
I3: Fecha:
I4: Página: 1 de 1
A6: Estructura de costos | C6: INTEGRARTE INTERNO FUERA DE BOGOTA
A7: Plazo días | C7: 0
A8: Proyecto Encargado | C8: Proyecto 1113 "Por una ciudad incluyente y sin barreras"
A9: Fecha Solicitud
A11: Yo, __________________, identificado con _____________, en mi condición de Representante Legal de (Razón social de la ESAL) identificada con Nit ________, para el presente proceso competitivo, me comprometo a ofrecer el siguiente aporte mínimo establecido en la Invitación, así:
C14: DIAS DE OPERACIÓN | G14: OBJETO
G15: Prestar servicios sociales de atención interna en centros integrarte a personas mayores de 18 años con discapacidad intelectual, o psicosocial, o física que requiera de apoyos extensos a generalizados, o múltiple, promoviendo sus procesos de inclusión a través del fortalecimiento de sus habilidades individuales, familiares y de entorno y territorio.
C16: CUPOS | E16: GRUPO 7 53
C19: CONCEPTOS DE LA ESTRUCTURA | D19: CANTIDAD | E19: VALOR UNITARIO MENSIUAL | F19: VALOR TOTAL | G19: VALOR DE APORTES
G21: SDIS | H21: PROPONENTE
H22: VALOR EN ESPECIE | I22: DINERO
A23: DIRECTOS | B23: FIJOS | C23: Coordinador-a de Centro | D23: 1 | E23: 3944722 | F23: =+(D23*E23)*7 -> 27613054
C24: Psicóloga-o | D24: 1 | E24: 2775749 | F24: =+(D24*E24)*7 -> 19430243
C25: Trabajadora Social | D25: 1 | E25: 2775749 | F25: =+(D25*E25)*7 -> 19430243
C26: Terapeuta Ocupacional | D26: 1 | E26: 2775749 | F26: =+(D26*E26)*7 -> 19430243
C27: Educador-a Especial | D27: 1 | E27: 2925000 | F27: =+(D27*E27)*7 -> 20475000
C28: Educador-a Físico-a | D28: 1 | E28: 2775749 | F28: =+(D28*E28)*7 -> 19430243
C29: Terapeuta Física | D29: 1 | E29: 2775749 | F29: =+(D29*E29)*7 -> 19430243
C30: Enfermera-o | D30: 1 | E30: 2770079 | F30: =+(D30*E30)*7 -> 19390553
C31: Nutricionista | D31: 1 | E31: 2775749 | F31: =+(D31*E31)*7 -> 19430243
C32: Tecnólogo gastronomia o en alimentos | D32: 1 | E32: 1870264 | F32: =+(D32*E32)*7 -> 13091848
C33: Talleristas | D33: 2 | E33: 1894324 | F33: =+(D33*E33)*7 -> 26520536
C34: Auxiliar de enfermería | D34: 12 | E34: 2269456 | F34: =+(D34*E34)*7 -> 190634304
C35: Auxiliar Administrativo | D35: 1 | E35: 1894324 | F35: =+(D35*E35)*7 -> 13260268
... C37: Manipuladores de alimentos | D37: 3 | E37: 1548669 | F37: =+(D37*E37)*7 -> 32522049
C38: SUBTOTAL TALENTO HUMANO | E38: =SUM(E23:E37) -> 37330154 | F38: =SUM(F23:F37) -> 492824332
C39: Servicios funerarios | E39: 485520 | F39: =+E39*7 -> 3398640
C40: Vigilancia | E40: 7372402 | F40: =+E40*7 -> 51606814
C41: Aseo institucional | E41: 2032692 | F41: =+E41*7 -> 14228844
C42: TRANSPORTE | E42: 9177391 | F42: =+E42*7 -> 64241737
C43: Desgaste y uso de los bienes muebles no consumibles | E43: 5071453 | F43: =+E43*7 -> 35500171
C44: Bienes consumibles | E44: 10306102 | F44: =+E44*7 -> 72142714
C45: Espacios Fisicos Funcionales | E45: 16518296 | F45: =+E45*7 -> 1.1562807e+08
C46: TOTAL COSTOS FIJOS | E46: =+ROUND(SUM(E38:E45),0) -> 88294010 | F46: =+ROUND(SUM(F38:F45),0) -> 849571325
B47: VARIABLES | C47: BIENES CONSUMIBLES | E47: 13339388 | F47: =+E47*7 -> 93375716 | K47: 10627125
C48: ALIMENTOS | E48: 22091010 | F48: =+E48*7 -> 1.5463707e+08
...

Sheet GRUPO 7 DE 53 PERSONAS BOGO 
C1: PROCESO ADQUISICIONES COMPROMISO DE APORTE ADICIONAL EN DINERO O ESPECIE | I1: Código:
I2: Versión: 0
I3: Fecha:
I4: Página: 1 de 1
A6: Estructura de costos | C6: INTEGRARTE INTERNO EN BOGOTA
A7: Plazo días | C7: 0
A8: Proyecto Encargado | C8: Proyecto 1113 "Por una ciudad incluyente y sin barreras"
A9: Fecha Solicitud
A11: Yo, __________________, identificado con _____________, en mi condición de Representante Legal de (Razón social de la ESAL) identificada con Nit ________, para el presente proceso competitivo, me comprometo a ofrecer el siguiente aporte adicional establecido en la Invitación, así:
C16: DIAS DE OPERACIÓN | G16: OBJETO
G17: Prestar servicios sociales de atención interna en centros integrarte a personas mayores de 18 años con discapacidad intelectual, o psicosocial, o física que requiera de apoyos extensos a generalizados, o múltiple, promoviendo sus procesos de inclusión a través del fortalecimiento de sus habilidades individuales, familiares y de entorno y territorio.
C18: CUPOS | E18: GRUPO 7 53
C21: CONCEPTOS DE LA ESTRUCTURA | D21: CANTIDAD | E21: VALOR UNITARIO MENSUAL | F21: VALOR TOTAL | G21: VALOR DE APORTES
G23: SDIS | H23: PROPONENTE
H24: VALOR EN ESPECIE | I24: DINERO
A25: DIRECTOS | B25: FIJOS | C25: Coordinador-a de Centro | D25: 1 | E25: 3944722 | F25: =+(D25*E25)*7 -> 27613054
C26: Psicóloga-o | D26: 1 | E26: 2775749 | F26: =+(D26*E26)*7 -> 19430243
C27: Trabajadora Social | D27: 1 | E27: 2775749 | F27: =+(D27*E27)*7 -> 19430243
C28: Terapeuta Ocupacional | D28: 1 | E28: 2775749 | F28: =+(D28*E28)*7 -> 19430243
C29: Educador-a Especial | D29: 1 | E29: 2925000 | F29: =+(D29*E29)*7 -> 20475000
C30: Educador-a Físico-a | D30: 1 | E30: 2775749 | F30: =+(D30*E30)*7 -> 19430243
C31: Terapeuta Física | D31: 1 | E31: 2775749 | F31: =+(D31*E31)*7 -> 19430243
C32: Enfermera-o | D32: 1 | E32: 2770079 | F32: =+(D32*E32)*7 -> 19390553
C33: Nutricionista | D33: 1 | E33: 2775749 | F33: =+(D33*E33)*7 -> 19430243
C34: Tecnólogo gastronomia o en alimentos | D34: 1 | E34: 1870264 | F34: =+(D34*E34)*7 -> 13091848
C35: Talleristas | D35: 2 | E35: 1894324 | F35: =+(D35*E35)*7 -> 26520536
C36: Auxiliar de enfermería | D36: 12 | E36: 2269456 | F36: =+(D36*E36)*7 -> 190634304
C37: Auxiliar Administrativo | D37: 1 | E37: 1894324 | F37: =+(D37*E37)*7 -> 13260268
... C39: Manipuladores de alimentos | D39: 3 | E39: 1548669 | F39: =+(D39*E39)*7 -> 32522049
C40: SUBTOTAL TALENTO HUMANO | E40: =SUM(E25:E39) -> 37330154 | F40: =SUM(F25:F39) -> 492824332
C41: Servicios funerarios | E41: 485520 | F41: =+E41*7 -> 3398640
C42: Vigilancia | E42: 7372402 | F42: =+E42*7 -> 51606814
C43: Aseo institucional | E43: 2032692 | F43: =+E43*7 -> 14228844
C44: TRANSPORTE | E44: 9177391 | F44: =+E44*7 -> 64241737
C45: Desgaste y uso de los bienes muebles no consumibles | E45: 5071453 | F45: =+E45*7 -> 35500171
C46: Bienes consumibles | E46: 10306102 | F46: =+E46*7 -> 72142714
C47: Espacios Fisicos Funcionales | E47: 9955535.8 | F47: =+E47*7 -> 69688750
C48: TOTAL COSTOS FIJOS | E48: =+ROUND(SUM(E40:E47),0) -> 81731250 | F48: =+ROUND(SUM(F40:F47),0) -> 803632002
B49: VARIABLES | C49: BIENES CONSUMIBLES | E49: 13339388 | F49: =+E49*7 -> 93375716
C50: ALIMENTOS | E50: 22091010 | F50: =+E50*7 -> 1.5463707e+08 | J50: =+E50/53 -> 416811.5
...

Sheet GRUPO 8 DE 53 PERSONAS BOGO
C1: PROCESO ADQUISICIONES COMPROMISO DE APORTE ADICIONAL EN DINERO O ESPECIE | I1: Código:
I2: Versión: 0
I3: Fecha:
I4: Página: 1 de 1
A6: Estructura de costos | C6: INTEGRARTE INTERNO EN BOGOTA *
A7: Plazo días | C7: 0
A8: Proyecto Encargado | C8: Proyecto 1113 "Por una ciudad incluyente y sin barreras"
A9: Fecha Solicitud
A13: Yo, __________________, identificado con _____________, en mi condición de Representante Legal de (Razón social de la ESAL) identificada con Nit ________, para el presente proceso competitivo, me comprometo a ofrecer el siguiente aporte adicional establecido en la Invitación, así:
C16: DIAS DE OPERACIÓN | G16: OBJETO
G17: Prestar servicios sociales de atención interna en centros integrarte a personas mayores de 18 años con discapacidad intelectual, o psicosocial, o física que requiera de apoyos extensos a generalizados, o múltiple, promoviendo sus procesos de inclusión a través del fortalecimiento de sus habilidades individuales, familiares y de entorno y territorio.
C18: CUPOS | E18: GRUPO 8 53
C21: CONCEPTOS DE LA ESTRUCTURA | D21: CANTIDAD | E21: VALOR UNITARIO MENSUAL | F21: VALOR TOTAL | G21: VALOR DE APORTES
G23: SDIS | H23: PROPONENTE
H24: VALOR EN ESPECIE | I24: DINERO
A25: DIRECTOS | B25: FIJOS | C25: Coordinador-a de Centro | D25: 1 | E25: 3944722 | F25: =+(D25*E25)*7 -> 27613054
C26: Psicóloga-o | D26: 1 | E26: 2775749 | F26: =+(D26*E26)*7 -> 19430243
C27: Trabajadora Social | D27: 1 | E27: 2775749 | F27: =+(D27*E27)*7 -> 19430243
C28: Terapeuta Ocupacional | D28: 1 | E28: 2775749 | F28: =+(D28*E28)*7 -> 19430243
C29: Educador-a Especial | D29: 1 | E29: 2925000 | F29: =+(D29*E29)*7 -> 20475000
C30: Educador-a Físico-a | D30: 1 | E30: 2775749 | F30: =+(D30*E30)*7 -> 19430243
C31: Terapeuta Física | D31: 1 | E31: 2775749 | F31: =+(D31*E31)*7 -> 19430243
C32: Enfermera-o | D32: 1 | E32: 2770079 | F32: =+(D32*E32)*7 -> 19390553
C33: Nutricionista | D33: 1 | E33: 2775749 | F33: =+(D33*E33)*7 -> 19430243
C34: Tecnólogo gastronomia o en alimentos | D34: 1 | E34: 1870264 | F34: =+(D34*E34)*7 -> 13091848
C35: Talleristas | D35: 2 | E35: 1894324 | F35: =+(D35*E35)*7 -> 26520536
C36: Auxiliar de enfermería | D36: 13 | E36: 2269456 | F36: =+(D36*E36)*7 -> 206520496
C37: Auxiliar Administrativo | D37: 1 | E37: 1894324 | F37: =+(D37*E37)*7 -> 13260268
... C39: Manipuladores de alimentos | D39: 3 | E39: 1548669 | F39: =+(D39*E39)*7 -> 32522049
C40: SUBTOTAL TALENTO HUMANO | E40: =SUM(E25:E39) -> 37330154 | F40: =SUM(F25:F39) -> 541445786
C41: Servicios funerarios | E41: 485520 | F41: =+E41*7 -> 3398640
C42: Vigilancia | E42: 7372402 | F42: =+E42*7 -> 51606814
C43: Aseo institucional | E43: 2032692 | F43: =+E43*7 -> 14228844
C44: TRANSPORTE | E44: 9177391 | F44: =+E44*7 -> 64241737
C45: Desgaste y uso de los bienes muebles no consumibles | E45: 5071453 | F45: =+E45*7 -> 35500171
C46: Bienes consumibles | E46: 10306102 | F46: =+E46*7 -> 72142714
C47: Espacios Fisicos Funcionales | E47: 9955535.8 | F47: =+E47*7 -> 69688750
C48: TOTAL COSTOS FIJOS | E48: =+ROUND(SUM(E40:E47),0) -> 81731250 | F48: =+ROUND(SUM(F40:F47),0) -> 852253456
B49: VARIABLES | C49: BIENES CONSUMIBLES | E49: 13339388 | F49: =+E49*7 -> 93375716
C50: ALIMENTOS | E50: 22091010 | F50: =+E50*7 -> 1.5463707e+08 | J50: =+E50/53 -> 416811.5
...

Sheet GRUPO 8 DE 53 AFUERAS BOGOT 
C1: PROCESO ADQUISICIONES COMPROMISO DE APORTE ADICIONAL EN DINERO O ESPECIE | I1: Código:
I2: Versión: 0
I3: Fecha:
I4: Página: 1 de 1
A6: Estructura de costos | C6: INTEGRARTE INTERNO FUERA DE BOGOTA *
A7: Plazo días | C7: 0
A8: Proyecto Encargado | C8: Proyecto 1113 "Por una ciudad incluyente y sin barreras"
A9: Fecha Solicitud
A11: Yo, __________________, identificado con _____________, en mi condición de Representante Legal de (Razón social de la ESAL) identificada con Nit ________, para el presente proceso competitivo, me comprometo a ofrecer el siguiente aporte mínimo establecido en la Invitación, así:
C15: DIAS DE OPERACIÓN | G15: OBJETO
G16: Prestar servicios sociales de atención interna en centros integrarte a personas mayores de 18 años con discapacidad intelectual, o psicosocial, o física que requiera de apoyos extensos a generalizados, o múltiple, promoviendo sus procesos de inclusión a través del fortalecimiento de sus habilidades individuales, familiares y de entorno y territorio.
C17: CUPOS | E17: GRUPO 8 53
C20: CONCEPTOS DE LA ESTRUCTURA | D20: CANTIDAD | E20: VALOR UNITARIO MENSUAL | F20: VALOR TOTAL | G20: VALOR DE APORTES
G22: SDIS | H22: PROPONENTE
H23: VALOR EN ESPECIE | I23: DINERO
A24: DIRECTOS | B24: FIJOS | C24: Coordinador-a de Centro | D24: 1 | E24: 3944722 | F24: =+(D24*E24)*7 -> 27613054
C25: Psicóloga-o | D25: 1 | E25: 2775749 | F25: =+(D25*E25)*7 -> 19430243
C26: Trabajadora Social | D26: 1 | E26: 2775749 | F26: =+(D26*E26)*7 -> 19430243
C27: Terapeuta Ocupacional | D27: 1 | E27: 2775749 | F27: =+(D27*E27)*7 -> 19430243
C28: Educador-a Especial | D28: 1 | E28: 2925000 | F28: =+(D28*E28)*7 -> 20475000
C29: Educador-a Físico-a | D29: 1 | E29: 2775749 | F29: =+(D29*E29)*7 -> 19430243
C30: Terapeuta Física | D30: 1 | E30: 2775749 | F30: =+(D30*E30)*7 -> 19430243
C31: Enfermera-o | D31: 1 | E31: 2770079 | F31: =+(D31*E31)*7 -> 19390553
C32: Nutricionista | D32: 1 | E32: 2775749 | F32: =+(D32*E32)*7 -> 19430243
C33: Tecnólogo gastronomia o en alimentos | D33: 1 | E33: 1870264 | F33: =+(D33*E33)*7 -> 13091848
C34: Talleristas | D34: 2 | E34: 1894324 | F34: =+(D34*E34)*7 -> 26520536
C35: Auxiliar de enfermería | D35: 13 | E35: 2269456 | F35: =+(D35*E35)*7 -> 206520496
C36: Auxiliar Administrativo | D36: 1 | E36: 1894324 | F36: =+(D36*E36)*7 -> 13260268
... C38: Manipuladores de alimentos | D38: 3 | E38: 1548669 | F38: =+(D38*E38)*7 -> 32522049
C39: SUBTOTAL TALENTO HUMANO | E39: =SUM(E24:E38) -> 37330154 | F39: =SUM(F24:F38) -> 541445786
C40: Servicios funerarios | E40: 485520 | F40: =+E40*7 -> 3398640
C41: Vigilancia | E41: 7372402 | F41: =+E41*7 -> 51606814
C42: Aseo institucional | E42: 2032692 | F42: =+E42*7 -> 14228844
C43: TRANSPORTE | E43: 9177391 | F43: =+E43*7 -> 64241737
C44: Desgaste y uso de los bienes muebles no consumibles | E44: 5071453 | F44: =+E44*7 -> 35500171
C45: Bienes consumibles | E45: 10306102 | F45: =+E45*7 -> 72142714
C46: Espacios Fisicos Funcionales | E46: 16518296 | F46: =+E46*7 -> 1.1562807e+08
C47: TOTAL COSTOS FIJOS | E47: =+ROUND(SUM(E39:E46),0) -> 88294010 | F47: =+ROUND(SUM(F39:F46),0) -> 898192779
B48: VARIABLES | C48: BIENES CONSUMIBLES | E48: 13339388 | F48: =+E48*7 -> 93375716 | K48: 10627125
C49: ALIMENTOS | E49: 22091010 | F49: =+E49*7 -> 1.5463707e+08
...

Sheet GRUPO 9 DE 53 PERSONAS BOGO 
C1: PROCESO ADQUISICIONES COMPROMISO DE APORTE ADICIONAL EN DINERO O ESPECIE | I1: Código:
I2: Versión: 0
I3: Fecha:
I4: Página: 1 de 1
A6: Estructura de costos | C6: INTEGRARTE INTERNO EN BOGOTA *
A7: Plazo días | C7: 0
A8: Proyecto Encargado | C8: Proyecto 1113 "Por una ciudad incluyente y sin barreras"
A9: Fecha Solicitud
A12: Yo, __________________, identificado con _____________, en mi condición de Representante Legal de (Razón social de la ESAL) identificada con Nit ________, para el presente proceso competitivo, me comprometo a ofrecer el siguiente aporte mínimo establecido en la Invitación, así:
C20: DIAS DE OPERACIÓN | G20: OBJETO
G21: Prestar servicios sociales de atención interna en centros integrarte a personas mayores de 18 años con discapacidad intelectual, o psicosocial, o física que requiera de apoyos extensos a generalizados, o múltiple, promoviendo sus procesos de inclusión a través del fortalecimiento de sus habilidades individuales, familiares y de entorno y territorio.
C22: CUPOS | E22: GRUPO 9 53
C25: CONCEPTOS DE LA ESTRUCTURA | D25: CANTIDAD | E25: VALOR UNITARIO MENSUAL | F25: VALOR TOTAL | G25: VALOR DE APORTES
G27: SDIS | H27: PROPONENTE
H28: VALOR EN ESPECIE | I28: DINERO
A29: DIRECTOS | B29: FIJOS | C29: Coordinador-a de Centro | D29: 1 | E29: 3944722 | F29: =+(D29*E29)*7 -> 27613054
C30: Psicóloga-o | D30: 1 | E30: 2775749 | F30: =+(D30*E30)*7 -> 19430243
C31: Trabajadora Social | D31: 1 | E31: 2775749 | F31: =+(D31*E31)*7 -> 19430243
C32: Terapeuta Ocupacional | D32: 1 | E32: 2775749 | F32: =+(D32*E32)*7 -> 19430243
C33: Educador-a Especial | D33: 1 | E33: 2925000 | F33: =+(D33*E33)*7 -> 20475000
C34: Educador-a Físico-a | D34: 1 | E34: 2775749 | F34: =+(D34*E34)*7 -> 19430243
C35: Terapeuta Física | D35: 1 | E35: 2775749 | F35: =+(D35*E35)*7 -> 19430243
C36: Enfermera-o | D36: 1 | E36: 2770079 | F36: =+(D36*E36)*7 -> 19390553
C37: Nutricionista | D37: 1 | E37: 2775749 | F37: =+(D37*E37)*7 -> 19430243
C38: Tecnólogo gastronomia o en alimentos | D38: 1 | E38: 1870264 | F38: =+(D38*E38)*7 -> 13091848
C39: Talleristas | D39: 2 | E39: 1894324 | F39: =+(D39*E39)*7 -> 26520536
C40: Auxiliar de enfermería | D40: 13 | E40: 2269456 | F40: =+(D40*E40)*7 -> 206520496
C41: Auxiliar Administrativo | D41: 1 | E41: 1894324 | F41: =+(D41*E41)*7 -> 13260268
... C43: Manipuladores de alimentos | D43: 3 | E43: 1548669 | F43: =+(D43*E43)*7 -> 32522049
C44: SUBTOTAL TALENTO HUMANO | E44: =SUM(E29:E43) -> 37330154 | F44: =SUM(F29:F43) -> 541445786
C45: Servicios funerarios | E45: 485520 | F45: =+E45*7 -> 3398640
C46: Vigilancia | E46: 7372402 | F46: =+E46*7 -> 51606814
C47: Aseo institucional | E47: 2032692 | F47: =+E47*7 -> 14228844
C48: TRANSPORTE | E48: 9177391 | F48: =+E48*7 -> 64241737
C49: Desgaste y uso de los bienes muebles no consumibles | E49: 5071453 | F49: =+E49*7 -> 35500171
C50: Bienes consumibles | E50: 10306102 | F50: =+E50*7 -> 72142714
C51: Espacios Fisicos Funcionales | E51: 9955535.8 | F51: =+E51*7 -> 69688750
C52: TOTAL COSTOS FIJOS | E52: =+ROUND(SUM(E44:E51),0) -> 81731250 | F52: =+ROUND(SUM(F44:F51),0) -> 852253456
B53: VARIABLES | C53: BIENES CONSUMIBLES | E53: 13339388 | F53: =+E53*7 -> 93375716
C54: ALIMENTOS | E54: 22091010 | F54: =+E54*7 -> 1.5463707e+08
...

Sheet GRUPO 9 DE 53 AFUERAS BOGOT 
C1: PROCESO ADQUISICIONES COMPROMISO DE APORTE ADICIONAL EN DINERO O ESPECIE | I1: Código:
I2: Versión: 0
I3: Fecha:
I4: Página: 1 de 1
A6: Estructura de costos | C6: INTEGRARTE INTERNO FUERA DE BOGOTA *
A7: Plazo días | C7: 0
A8: Proyecto Encargado | C8: Proyecto 1113 "Por una ciudad incluyente y sin barreras"
A9: Fecha Solicitud
A11: Yo, __________________, identificado con _____________, en mi condición de Representante Legal de (Razón social de la ESAL) identificada con Nit ________, para el presente proceso competitivo, me comprometo a ofrecer el siguiente aporte mínimo establecido en la Invitación, así:
C16: DIAS DE OPERACIÓN | G16: OBJETO
G17: Prestar servicios sociales de atención interna en centros integrarte a personas mayores de 18 años con discapacidad intelectual, o psicosocial, o física que requiera de apoyos extensos a generalizados, o múltiple, promoviendo sus procesos de inclusión a través del fortalecimiento de sus habilidades individuales, familiares y de entorno y territorio.
C18: CUPOS | E18: GRUPO 9 53
C21: CONCEPTOS DE LA ESTRUCTURA | D21: CANTIDAD | E21: VALOR UNITARIO MENSIUAL | F21: VALOR TOTAL | G21: VALOR DE APORTES
G23: SDIS | H23: PROPONENTE
H24: VALOR EN ESPECIE | I24: DINERO
A25: DIRECTOS | B25: FIJOS | C25: Coordinador-a de Centro | D25: 1 | E25: 3944722 | F25: =+(D25*E25)*7 -> 27613054
C26: Psicóloga-o | D26: 1 | E26: 2775749 | F26: =+(D26*E26)*7 -> 19430243
