Workbook
Name __123Graph_A: #REF!
Name __123Graph_A: #REF!
Name __123Graph_A: #REF!
Name __123Graph_A: #REF!
Name __123Graph_AGraph2: #REF!
Name __123Graph_AGraph2: #REF!
Name __123Graph_AGraph2: #REF!
Name __123Graph_AGraph2: #REF!
Name __123Graph_X: #REF!
Name __123Graph_X: #REF!
Name __123Graph_X: #REF!
Name __123Graph_X: #REF!
Name _Fill: #REF!
Name _Fill: #REF!
Name _Fill: #REF!
Name _Fill: #REF!
Name _Key1: #REF!
Name _Key1: #REF!
Name _Key1: #REF!
Name _Key1: #REF!
Name _MttoRp2: #REF!
Name _MttoRp2: #REF!
Name _scenchg1: #REF!
Name _scenchg1: #REF!
Name _scenchg1: #REF!
Name _scenchg1: #REF!
Name _Sort: #REF!
Name _Sort: #REF!
Name _Sort: #REF!
Name _Sort: #REF!
Name _X: #REF!
Name _X: #REF!
Name _X: #REF!
Name _X: #REF!
Name _X_10: #REF!
Name _X_10: #REF!
Name _X_10: #REF!
Name _X_10: #REF!
Name _X_3: #REF!
Name _X_3: #REF!
Name _X_3: #REF!
Name _X_3: #REF!
Name _X_4: #REF!
Name _X_4: #REF!
Name _X_4: #REF!
Name _X_4: #REF!
Name _X_5: #REF!
Name _X_5: #REF!
Name _X_5: #REF!
Name _X_5: #REF!
Name _X_6: #REF!
Name _X_6: #REF!
Name _X_6: #REF!
Name _X_6: #REF!
Name _X_7: #REF!
Name _X_7: #REF!
Name _X_7: #REF!
Name _X_7: #REF!
Name _X_8: #REF!
Name _X_8: #REF!

Sheet Estudio de Mercado
A1: COTIZACIONES HERRAMIENTAS E INSUMOS
A2: ELEMENTO | B2: DESCRIPCION | C2: UNIDAD | D2: DOTACIONES DEL TOLIMA | E2: DISTRIDOTACIONES | F2: DORA EXPRESS DEL TOLIMA | G2: FERREFLEJES | H2: CENTRAL PECUARIA | I2: ACEROS P&G | J2: COLFRUTALES | K2: CEMPROFOREST | L2: SEV COLOMBIA | M2: ALVARO RODRIGUEZ S. | N2: PROMEDIOS | O2: KILO | P2: GRAMO
A3: INSUMOS AGRICOLAS
A4: Abono orgánico compostado -Lombriabono | B4: Lombroabono: polvo granular color café oscuro con olor caracteristico a tierra húmeda, obtenido por medio de la transformacion de la materia orgánica con lombriz roja californiana. Con Registro ICA y etiquetado cada bulto indicando las caracteristicas fisicoquimicas y biologicas del lombriabono. | C4: Bulto 50 Kg | G4: 65000 | I4: 67200 | J4: 70000 | K4: 69000 | L4: 68500 | N4: =+(J4+K4+L4+G4+I4)/5 -> 67940 | O4: =+N4/50 -> 1358.8
A5: Insecticida granular (hormiga) | B5: Cebo toxico control hormiga cortadora de hoja (Ingrediente Activo: Abamectina: Avermectina B1a, mezcla de avermectinas) | C5: Libra 500 gr | G5: 38500 | H5: 23450 | I5: 39500 | N5: =+(G5+H5+I5)/3 -> 33816.667
A6: Fertilizante Quimico Compuesto (Tripe 15) | B6: Fertilizante quimico compuesto N-P-K: Nitrógeno Total 15% (con mayor contenido de Nitrógeno Amoniacal) Fósforo asimilable como (P2O5) ………… 15% Potasio Soluble en Agua (K2O) 15% Apariencia sólida granulado de color beige. Inoloro o débil olor. Ph (solución 5%) 5,5-6,0. Con REGISTRO ICA. | C6: Bulto 50 Kg | G6: 190000 | H6: 121700 | I6: 195000 | N6: =+(G6+H6+I6)/3 -> 168900 | O6: =+N6/50 -> 3378
A7: Fertilizante Quimico Compuesto | B7: Agrimins (NPK. Em) | C7: Bulto 46 Kg | G7: 185000 | H7: 133800 | I7: 190000 | N7: =+(G7+H7+I7)/3 -> 169600 | O7: =+N7/46 -> 3686.9565
A8: Fertilizante Quimico Compuesto (Triple 18) | B8: Fertilizante quimico compuesto N-P-K: Nitrógeno Total 18,4% (con mayor contenido de Nitrógeno organico) Fósforo asimilable como (P2O5) ………… 18% Potasio Soluble en Agua (K2O) 18% Totalmente soluble en agua, 100 % asimilable diseñado para preparar soluciones nutritivas para uso foliar y radicular en todo tipo de cultivos. Con REGISTRO ICA. | C8: =+C6 -> Bulto 50 Kg | G8: 180000 | H8: 141800 | I8: 182300 | N8: =+(G8+H8+I8)/3 -> 168033.33 | O8: =+N8/50 -> 3360.6667
A9: Fertilizante | B9: Fosfato Diamonico DAP | C9: =+C7 -> Bulto 46 Kg | G9: 190200 | H9: 177400 | I9: 193450 | N9: =+(G9+H9+I9)/3 -> 187016.67 | O9: =+N9/46 -> 4065.5797
A10: Fertilizante Quimico Simple | B10: Urea | C10: =+C8 -> Bulto 50 Kg | G10: 180000 | H10: 116400 | I10: 182300 | N10: =+(G10+H10+I10)/3 -> 159566.67 | O10: =+N10/50 -> 3191.3333
A11: Herbicida graminicida (Galón/Ha) | B11: SOCIO | G11: 49200 | H11: 25150 | I11: 49750 | N11: =+(G11+H11+I11)/3 -> 41366.667
A12: GRAMINICIDA Lt | B12: CAMPERO | C12: Litro | G12: 49200 | H12: 33450 | I12: 48600 | N12: =+(G12+H12+I12)/3 -> 43750
A13: Insecticida Liquido | B13: Cipermitrina | C13: Litro | G13: 34500 | H13: 27650 | I13: 35500 | N13: =+(G13+H13+I13)/3 -> 32550
A14: Insecticida Liquido | B14: Amulet | C14: Litro | G14: 68500 | I14: 67600 | N14: =+(G14+H14+I14)/2 -> 68050
A15: Abonaza (Gr./Arb.) | B15: Gallinaza - Compost | C15: Bulto | G15: 41500 | H15: 27500 | I15: 42500 | N15: =+(G15+H15+I15)/3 -> 37166.667
A16: Correctivo | B16: Cal dolomita | C16: Bulto 50 Kg | G16: 35600 | H16: 14500 | I16: 37100 | N16: =+(G16+H16+I16)/3 -> 29066.667 | O16: =+N16/50 -> 581.33333
A17: Correctivo | B17: Hidroretenedor (Debe ser con copolimero de acrilamida y crilato de potasio. | C17: Kilo | G17: 63500 | H17: 43900 | I17: 65500 | N17: =+(G17+H17+I17)/3 -> 57633.333
A18: Pintura (Color Amarillo) | B18: Aceite | C18: Galon | G18: 48500 | I18: 49600 | N18: =+(G18+H18+I18)/2 -> 49050
A19: Disolvente | B19: Tiner | C19: Galon | G19: 38600 | I19: 39500 | N19: =+(G19+H19+I19)/2 -> 39050
A20: HERRAMIENTAS AGRICOLAS
A22: Lima | B22: Triangular 6" | C22: Unidad | G22: 5900 | H22: 4150 | I22: 5500 | N22: =+(G22+H22+I22)/3 -> 5183.3333
A23: Machete | B23: Tres Canales 20" | C23: Unidad | G23: 29500 | H23: 21400 | I23: 28900 | N23: =+(G23+H23+I23)/3 -> 26600
A24: Azadon | B24: Pachuno con Cabo | C24: Unidad | G24: 48600 | H24: 42100 | I24: 45300 | N24: =+(G24+H24+I24)/3 -> 45333.333
A25: Paladraga | B25: Con Mango | C25: Unidad | G25: 73500 | H25: 59200 | I25: 75000 | N25: =+(G25+H25+I25)/3 -> 69233.333
A26: Palin | B26: Ahoyador con Cabo | C26: Unidad | G26: 38500 | H26: =19000+8613 -> 27613 | I26: 39500 | N26: =+(G26+H26+I26)/3 -> 35204.333
A27: Alambre | B27: Pua 12.5 x 350 Mts. | C27: Rollo | G27: 282500 | H27: 229400 | I27: 285000 | N27: =+(G27+H27+I27)/3 -> 265633.33
A28: Alambre dulce | B28: Galvanizado 12.5 x 25 Kilos | C28: Rollo | H28: 259777 | N28: =+H28 -> 259777 | O28: =+N28/25 -> 10391.08
A29: Pivotes | B29: Aislador Pivote Amarillo x 100 unidades (con puntilla) | C29: Bolsa | H29: 31535 | N29: =+H29 -> 31535
A30: Grapa | B30: Galvanizada 1 1/4" | C30: Kilo | G30: 8900 | H30: 7400 | I30: 8550 | N30: =+(G30+H30+I30)/3 -> 8283.3333
A31: Barra Acero | B31: 16 Lbs. | C31: Unidad | G31: 98500 | H31: 90800 | I31: 99500 | N31: =+(G31+H31+I31)/3 -> 96266.667
A32: Martillo | B32: Acero 27" | C32: Unidad | G32: 28500 | H32: 17500 | I32: 27900 | N32: =+(G32+H32+I32)/3 -> 24633.333
A33: Alicate | B33: Tipo Diablo | C33: Unidad | G33: 47600 | H33: 39100 | I33: 49200 | N33: =+(G33+H33+I33)/3 -> 45300
A34: Brocha | B34: Punta Verde 3" | C34: Unidad | G34: 14800 | I34: 15500 | N34: =+(G34+H34+I34)/2 -> 15150
A35: Fumigadora | B35: Bomba espalda 20 Lts | C35: Unidad | G35: 430600 | H35: 378550 | I35: 445000 | N35: =+(G35+H35+I35)/3 -> 418050
A36: ELEMENTOS DE PROTECCION PERSONAL
A37: Bota | B37: Caucho Caña Alta | C37: Par | D37: 60000 | E37: 75000 | F37: 68000 | N37: =+(D37+E37+F37)/3 -> 67666.667
A38: Guantes | B38: Carnaza | C38: Par | D38: 18000 | E38: 25000 | F38: 22000 | N38: =+(D38+E38+F38)/3 -> 21666.667
A39: Guantes | B39: nitrilo | C39: par | D39: 9000 | E39: 13000 | F39: 11000 | N39: =+(D39+E39+F39)/3 -> 11000
A40: Tapabocas | B40: Desechable, De tres pliegues, Con cordón elástico, Empaque individual | C40: Unidad | D40: 300 | E40: 1000 | F40: 360 | N40: =+(D40+E40+F40)/3 -> 553.33333
A41: Gafas | B41: Seguridad | C41: Unidad | D41: 15000 | E41: 19000 | F41: 17000 | N41: =+(D41+E41+F41)/3 -> 17000
...

Sheet Establec predio publico
B3: COSTOS ESTABLECIMIENTO CORTOLIMA
B4: SISTEMA A IMPLEMENTAR: | C4: REFORESTACION PROTECTORA CON ESPECIES NATIVAS
B5: CORPORACIÓN / AAU: | C5: CORTOLIMA
B6: NOMBRE DEL PROYECTO : | C6: ESTABLECIMIENTO DE 44 HAS DE REFORESTACIÓN PROTECTORA EN EL DEPARTAMENTO DEL TOLIMA
B8: DISEÑO DE LA PLANTACIÓN | C8: ALEATORIO | E8: Costo Unitario ($)
B10: 1. Numero de plantulas arboreas por Ha (RP) | D10: 1110 | E10: =+'Estudio de Mercado'!N50 -> 5000
B11: 2. Número de Plántulas Nucleación (50%)por Ha | D11: 936
B12: 2. Número de Plántulas Nucleación (25%)por Ha | D12: 650
B13: 3. Porcentaje de reposición % | D13: 0.1
B14: 4. Insumos Agricolas. | C14: Descripcion | D14: Cantidad Aplicación | E14: Costo $ / kg ó Lt
B15: Fertilizante QuÍmico Compuesto (Gr./Arb.) | C15: Agrimins (NPK.Em) | D15: 40 | E15: =+'Estudio de Mercado'!O7 -> 3686.9565
B16: Fertilizante Quimico Simple (Gr./Arb.) | C16: UREA | D16: 60 | E16: =+'Estudio de Mercado'!O10 -> 3191.3333
B17: Lombriabono (Gr./Arb.) | C17: Humus | D17: 220 | E17: =+'Estudio de Mercado'!O4 -> 1358.8
B18: Fertilizante Quimico Compuesto (Gr./Arb.) | C18: Triple 15 | D18: 70 | E18: =+'Estudio de Mercado'!O6 -> 3378
B19: Correctivo (Gr./Arb.) | C19: Hidroretenedor | D19: 3 | E19: =+'Estudio de Mercado'!N17 -> 57633.333
B20: Correctivo (Kg./Ha.) | C20: Cal dolomita | D20: 50 | E20: =+'Estudio de Mercado'!O16 -> 581.33333
B21: Insecticida líquido (Lts/Ha.) | C21: Amulet | D21: 0.5 | E21: =+'Estudio de Mercado'!N14 -> 68050
B22: Insecticida líquido (Lts/Ha.) | C22: Cipermetryna | D22: 0.5 | E22: =+'Estudio de Mercado'!N13 -> 32550
B23: 5. Costo Jornal Promedio Region (seguridad social, aportes parafiscales, prestaciones sociales) | C23: Jornal | D23: Global | E23: =+'Estudio de Mercado'!B72 -> 71255
B24: 6. Herramientas (5% de la MAO) | C24: Global | D24: 0.03
B25: 7. Elementos de Proteccion Personal (5% de la MO) | C25: Global | D25: 0.03
B26: 8. Costo Flete Promedio Mula (Trans Interno) | C26: Flete | D26: 85000
B27: 9. Transporte Mayor Insumos (% de Insumos) | C27: Global | D27: 0.15
B29: 1. COSTOS DIRECTOS
B30: A. ESTABLECIMIENTO REFORESTACION PROTECTORA SISTEMA TRADICIONAL | F30: hectareas | G30: 18
B31: 1.1 MANO DE OBRA | C31: Unidad | D31: Cantidad / Ha | E31: Valor Unitario ($) | F31: Valor Total/Ha ($) | G31: Valor Total Proyecto ($)
B32: Preparación del terreno | C32: Mts Cuadrados | D32: 10000 | E32: =+(($E$23*E127)/D32) -> 35.6275 | F32: =+D32*E32 -> 356275 | G32: =+F32*$G$30 -> 6412950
B33: Trazado | C33: Arboles | D33: =+$D$10 -> 1110 | E33: =+(($E$23*E128)/D33) -> 128.38739 | F33: =+D33*E33 -> 142510 | G33: =+F33*$G$30 -> 2565180
B34: Plateo (2) | C34: Plateo | D34: =+$D$10 -> 1110 | E34: =+(($E$23*E129)/D34) -> 770.32432 | F34: =+D34*E34 -> 855060 | G34: =+F34*$G$30 -> 15391080
B35: Ahoyado y Repique | C35: Arboles | D35: =+$D$10 -> 1110 | E35: =+(($E$23*E130)/D35) -> 513.54955 | F35: =+D35*E35 -> 570040 | G35: =+F35*$G$30 -> 10260720
B36: Aplicación de Correctivos | C36: Arboles | D36: =+$D$10 -> 1110 | E36: =+(($E$23*D131)/D36) -> 128.38739 | F36: =+D36*E36 -> 142510 | G36: =+F36*$G$30 -> 2565180
B37: Aplicación de Fertilizantes (2) | C37: Arboles | D37: =+$D$10 -> 1110 | E37: =+(($E$23*D132)/D37) -> 256.77477 | F37: =+D37*E37 -> 285020 | G37: =+F37*$G$30 -> 5130360
B38: Transporte interno de insumos | C38: Flete | D38: =+D133 -> 13.611429 | E38: =+D26 -> 85000 | F38: =+D38*E38 -> 1156971.4 | G38: =+F38*$G$30 -> 20825486
B39: Siembra | C39: Arboles | D39: =+$D$10 -> 1110 | E39: =+(($E$23*D134)/D39) -> 320.96847 | F39: =+D39*E39 -> 356275 | G39: =+F39*$G$30 -> 6412950
B40: Control fitosanitario (2) | C40: Arboles | D40: =+$D$10 -> 1110 | E40: =+(($E$23*D135)/D40) -> 128.38739 | F40: =+D40*E40 -> 142510 | G40: =+F40*$G$30 -> 2565180
B41: Reposición (Replante) | C41: Arboles | D41: =+($D$10*D13) -> 111 | E41: =+(($E$23*D136)/D41) -> 1283.8739 | F41: =+D41*E41 -> 142510 | G41: =+F41*$G$30 -> 2565180
B42: Limpias (2) | C42: Mts Cuadrados | D42: 10000 | E42: =+(($E$23*D137)/D42) -> 85.506 | F42: =+D42*E42 -> 855060 | G42: =+F42*$G$30 -> 15391080
B43: Adecuación de Barreras Cortafuego (2) | C43: Mts Lineales | D43: 167 | E43: =+(($E$23*D138)/D43) -> 853.35329 | F43: =+D43*E43 -> 142510 | G43: =+F43*$G$30 -> 2565180
B44: Adecuación de caminos (2) | C44: Global | G44: =+(D139*E23) -> 356275
B45: SUBTOTAL MANO DE OBRA | F45: =+SUM(F32:F44) -> 5147251.4 | G45: =+SUM(G32:G44) -> 93006801
...

Sheet Aisl predio publico
B3: COSTOS AISLAMIENTO
B4: SISTEMA A IMPLEMENTAR: | C4: AISLAMIENTO PARA RESTAURACION ACTIVA
B5: CORPORACIÓN / AAU: | C5: CORTOLIMA
B6: NOMBRE DEL PROYECTO : | C6: INSTALACION DE 1785 METROS LINEALES DE AISLAMIENTO EN PREDIOS PUBLICOS DEL DEPARTAMENTO DEL TOLIMA
B8: META RESTAURACIÓN PASIVA (Has) | C8: 0 | D8: Metros/Has
B10: DISEÑO DE AISLAMIENTO | D10: Costo Unitario $ | E10: ESPECIFICACIONES TECNICAS
B11: # Postes plasticos/KM | C11: 400 | D11: =+'Estudio de Mercado'!N46 -> 40333.333 | E11: Dimensión del poste | G11: (8x8x210cm)
B12: # Postes Piedeamigo/KM | C12: 50 | D12: =+'Estudio de Mercado'!N47 -> 29333.333 | E12: Dimension poste madera (Inmunizado) | G12: (10x10x220 cm)
B13: # Postes de reemplazo/ KM (Mantenimiento) (2%) | C13: =+C11*2% -> 8 | D13: =+'Estudio de Mercado'!N47 -> 29333.333 | E13: Peso poste plastico Aprox. (Kg) | G13: 10
B14: Alambre de pua/Rollos alambre/KM | C14: 9 | D14: =+'Estudio de Mercado'!N27 -> 265633.33 | E14: Peso poste madera Aprox. (Kg) | G14: 16
B15: Alambre galvanizado Kg/Km | C15: 42 | D15: =+'Estudio de Mercado'!O28 -> 10391.08 | E15: Distancia entre postes (m) | G15: 2.5
B16: Grapas/km en kg. (180 Grapas/Kg) | C16: 7 | D16: =+'Estudio de Mercado'!N30 -> 8283.3333 | E16: Distancia entre pie de amigos (m) | G16: 20
B17: Aislador pivote x100 unidades(Bolsa) (con puntilla) | C17: 4.5 | D17: =+'Estudio de Mercado'!H29 -> 31535 | E17: Calibre alambre de púa | G17: 12.5
B18: Galon Pintura (Galon) (Señalizacion) / Km | C18: 1 | D18: =+'Estudio de Mercado'!N18 -> 49050 | E18: Calibre alambre dulce | G18: 12.5
B19: Disolvente THINER (Galon) (Señalizacion) / Km | C19: 1 | D19: =+'Estudio de Mercado'!N19 -> 39050 | E19: Metros de alambre dulce x kilo | G19: 27
B20: Costo Flete zona promedio | D20: 85000 | E20: Metros de alambre de pua/rolllo | G20: 350
B21: Costo por Jornal | D21: =+'Estudio de Mercado'!B72 -> 71255 | E21: Hilos alambre pua | G21: 3
B22: Costo Transp. mayor (% de insumos) | C22: 0.15 | E22: Hilos de alambre dulce | G22: 1
B23: Herramientas (%M.O.) | C23: 0.04 | E23: Distancia entre hilos (cm) | G23: 25 cm
B24: Elementos de Proteccion Personal (%M.O.) | C24: 0.04 | E24: Dimensión del hoyo cms. (prof. x lados) | G24: 50x40x40
E25: Número de grapas por Poste | G25: 3
E26: Numero de pivotes por poste | G26: 1
E29: META AISLAMIENTO
E30: 1.785 | G30: KM
B32: ITEM | C32: COSTOS / KM (1000 ML) | G32: COSTO TOTAL AISLAMIENTO
C33: Unidad | D33: Cantidad | E33: Valor Unitario $ | F33: Valor total/Km
B34: 1.COSTOS DIRECTOS
B35: 1.1 Mano de obra
B36: Limpia | C36: ML | D36: 1000 | E36: =+(($D$21*D75)/D36) -> 142.51 | F36: =+D36*E36 -> 142510 | G36: =+F36*$E$30 -> 254380.35
B37: Trazado | C37: ML | D37: 1000 | E37: =+(($D$21*D76)/D37) -> 142.51 | F37: =+D37*E37 -> 142510 | G37: =+F37*$E$30 -> 254380.35
B38: Ahoyado | C38: ML | D38: 1000 | E38: =+(($D$21*D77)/D38) -> 712.55 | F38: =+D38*E38 -> 712550 | G38: =+F38*$E$30 -> 1271901.8
B39: Transporte menor | C39: Flete | D39: =+D78 -> 84.166667 | E39: =+D20 -> 85000 | F39: =+D39*E39 -> 7154166.7 | G39: =+F39*$E$30 -> 12770188
B40: Hincado | C40: ML | D40: 1000 | E40: =+(($D$21*D79)/D40) -> 356.275 | F40: =+D40*E40 -> 356275 | G40: =+F40*$E$30 -> 635950.88
B41: Templado y grapado | C41: ML | D41: 1000 | E41: =+(($D$21*D80)/D41) -> 285.02 | F41: =+D41*E41 -> 285020 | G41: =+F41*$E$30 -> 508760.7
B42: Pintado y Señalizado | C42: ML | D42: 1000 | E42: =+(($D$21*D81)/D42) -> 142.51 | F42: =+D42*E42 -> 142510 | G42: =+F42*$E$30 -> 254380.35
B43: Subtotal mano de obra | C43: =SUM(C37:C42) -> 0 | F43: =+SUM(F36:F42) -> 8935541.7 | G43: =+SUM(G36:G42) -> 15949942
B44: 1.2 Insumos
B45: Alambre de pua (Rollo) | C45: Rollo | D45: =+C14 -> 9 | E45: =+D14 -> 265633.33 | F45: =+D45*E45 -> 2390700 | G45: =+F45*$E$30 -> 4267399.5
B46: Alambre dulce | C46: Kg | D46: =+C15 -> 42 | E46: =+D15 -> 10391.08 | F46: =+D46*E46 -> 436425.36 | G46: =+F46*$E$30 -> 779019.27
B47: Postes plasticos | C47: Poste | D47: =+C11 -> 400 | E47: =+D11 -> 40333.333 | F47: =+D47*E47 -> 16133333 | G47: =+F47*$E$30 -> 28798000
...

Sheet Mant predios publicos-RP-EF
B3: COSTOS MANTENIMIENTO CORTOLIMA
B4: SISTEMA A IMPLEMENTAR: | C4: REFORESTACION PROTECTORA CON ESPECIES NATIVAS
B5: CORPORACIÓN / AAU: | C5: CORTOLIMA
B6: NOMBRE DEL PROYECTO : | C6: MANTENIMIENTO DE 165,5 HAS DE REFORESTACIÓN PROTECTORA Y 86 HAS DE ENRIQUECIMIENTO FORESTAL EN EL DEPARTAMENTO DEL TOLIMA
B8: DISEÑO DE LA PLANTACIÓN | C8: Has | E8: Costo Unitario ($)
B10: 1. Numero plantulas arboreas por Ha (RP) | D10: 1110 | E10: =+'Estudio de Mercado'!N50 -> 5000
B11: 3. Número de Plántulas Arboreas por Ha (EF) | D11: 500
B12: 4. Porcentaje de reposición % | D12: 0.1
B13: 6. Insumos Agricolas. | C13: Descripcion | D13: Cantidad Aplicación | E13: Costo $ / kg ó Lt
B14: Fertilizante Quimico Compuesto (Gr./Arb.) | C14: Agrimins (NPK.Em) | D14: 40 | E14: =+'Estudio de Mercado'!O7 -> 3686.9565
B15: Fertilizante Quimico Simple (Gr./Arb.) | C15: UREA | D15: 70 | E15: =+'Estudio de Mercado'!O10 -> 3191.3333
B16: Lombriabono (Gr./Arb.) | C16: Humus | D16: 220 | E16: =+'Estudio de Mercado'!O4 -> 1358.8
B17: Fertilizante Quimico Compuesto (Gr./Arb.) | C17: Triple 15 | D17: 70 | E17: =+'Estudio de Mercado'!O6 -> 3378
B18: Correctivo (Gr./Arb.) | C18: Hidroretenedor | D18: 3 | E18: =+'Estudio de Mercado'!N17 -> 57633.333
B19: Correctivo (Gr./Arb.) | C19: Cal dolomita | D19: 100 | E19: =+'Estudio de Mercado'!O16 -> 581.33333
B20: Insecicida líquido (Lts/Ha.) | C20: Amulet | D20: 0.5 | E20: =+'Estudio de Mercado'!N14 -> 68050
B21: Insecicida líquido (Lts/Ha.) | C21: Cipermetryna | D21: 1 | E21: =+'Estudio de Mercado'!N13 -> 32550
B22: 7. Costo Jornal Promedio Region (seguridad social, aportes parafiscales, prestaciones sociales) | C22: Jornal | D22: Global | E22: =+'Estudio de Mercado'!B72 -> 71255
B23: 8. Herramientas (4% de la MAO) | C23: Global | D23: 0.03
B24: 9. Elementos de Proteccion Personal (4% de la MO) | C24: Global | D24: 0.03
B25: 10. Costo Flete Promedio Mula (Trans Interno) | C25: Flete | D25: 85000
B26: 11. Transporte Mayor Insumos (% de Insumos) | C26: Global | D26: 0.15 | L26: *
B28: A. MANTENIMIENTO REFORESTACIÓN PROTECTORA | F28: hectareas | G28: 165.05
B29: Costos Proyectados a 2024
B30: Duración meses | C30: 9
B31: CATEGORIA DE INVERSION | C31: Unidad | D31: Cantidad / Ha | E31: Valor Unitario ($) | F31: Valor Total/Ha ($) | G31: Valor Total Proyecto ($)
B32: 1, COSTOS DIRECTOS
B33: 1.1. MANO DE OBRA
B34: Plateo (2) | C34: Plateo | D34: =+$D$10 -> 1110 | E34: =+(($E$22*D90)/D34) -> 770.32432 | F34: =+D34*E34 -> 855060 | G34: =+F34*$G$28 -> 1.4112765e+08
B35: Transporte interno de insumos | C35: Fletes | D35: =+D92 -> 4.3057143 | E35: =+D25 -> 85000 | F35: =+D35*E35 -> 365985.71 | G35: =+F35*$G$28 -> 60405942
B36: Reposición (Replante) (2) | C36: Arboles | D36: =+($D$10*D12)*2 -> 222 | E36: =+(($E$22*D93)/D36) -> 641.93694 | F36: =+D36*E36 -> 142510 | G36: =+F36*$G$28 -> 23521276
B37: Aplicación de correctivos (2) | C37: Arboles | D37: =+($D$10*D12)*2 -> 222 | E37: =+(($E$22*D91)/D37) -> 641.93694 | F37: =+D37*E37 -> 142510 | G37: =+F37*$G$28 -> 23521276
B38: Aplicación de fertilizantes (2) | C38: Arboles | D38: =+$D$10 -> 1110 | E38: =+(($E$22*D94)/D38) -> 256.77477 | F38: =+D38*E38 -> 285020 | G38: =+F38*$G$28 -> 47042551
B39: Control fitosanitario (2) | C39: Arboles | D39: =+$D$10 -> 1110 | E39: =+(($E$22*D95)/D39) -> 128.38739 | F39: =+D39*E39 -> 142510 | G39: =+F39*$G$28 -> 23521276
B40: Limpias (2) | C40: Mts Cuadrados | D40: 10000 | E40: =+(($E$22*D96)/D40) -> 85.506 | F40: =+D40*E40 -> 855060 | G40: =+F40*$G$28 -> 141127653
B41: Adecuación de Barreras Cortafuego | C41: Mts Lineales | D41: 167 | E41: =+(($E$22*D97)/D41) -> 853.35329 | F41: =+D41*E41 -> 142510 | G41: =+F41*$G$28 -> 23521276
B42: Adecuación de caminos | C42: Globlal | F42: =+G42/G28 -> 5180.6119 | G42: =+D98*E22 -> 855060
B43: SUBTOTAL MANO DE OBRA | F43: =+SUM(F34:F42) -> 2936346.3 | G43: =SUM(G34:G42) -> 4.8464396e+08
B44: 1.2. INSUMOS
B45: Plántulas repos. | C45: Plantulas | D45: =+(D10*D12)*2 -> 222 | E45: =+E10 -> 5000 | F45: =+D45*E45 -> 1110000 | G45: =+F45*$G$28 -> 183205500
...

Sheet CONSOLIDADO
B2: PRESUPUESTO TOTAL
B3: ACTIVIDAD | C3: UNIDAD | D3: CANTIDAD | E3: VALOR UNITARIO | F3: total | H3: presupuesto
B4: Establecimiento | C4: Has | D4: ='Establec predio publico'!G30+'Establec predio publico'!G58+'Establec predio publico'!G86 -> 44 | F4: =+'Establec predio publico'!G120 -> 5.3130204e+08 | H4: 400000000 | J4: =+F4/D4 -> 12075046 | K4: =+J4*1.17 -> 14127804 | L4: =+K4-L6 -> 11361481
B5: Aislamiento | C5: Km | D5: =+'Aisl predio publico'!E30 -> 1.785 | F5: =+'Aisl predio publico'!G60 -> 59748892 | H5: 1845979133 | J5: =+F5/D5 -> 33472769 | K5: =+J5*1.17 -> 39163139
B6: Mantenimiento | C6: Has | D6: =+'Mant predios publicos-RP-EF'!G28+'Mant predios publicos-RP-EF'!G55 -> 251.05 | F6: =+'Mant predios publicos-RP-EF'!G84 -> 1.1871547e+09 | H6: =SUM(H4:H5) -> 2245979133 | J6: =+F6/D6 -> 4728758.1 | K6: =+J6*1.17 -> 5532647 | L6: =+K6/2 -> 2766323.5
B7: ASISTENCIA TECNICA
B8: Coordinador del Proyecto (Ingeniero forestal) | C8: Mes | D8: 8 | E8: 6100000 | F8: =D8*E8 -> 48800000
B9: Ingeniero Forestal | C9: Mes | D9: 8 | E9: 5600000 | F9: =D9*E9 -> 44800000
B10: Tecnico forestal | C10: Mes | D10: 8 | E10: 4000000 | F10: =D10*E10 -> 32000000
B11: TOTAL COSTOS | F11: =SUM(F4:F10) -> 1.9038057e+09
B12: ADMINISTRACION | C12: 0.11 | F12: =+F11*C12 -> 2.0941862e+08
B13: IMPREVISTOS | C13: 0.01 | F13: =+F11*C13 -> 19038057
B14: UTILIDAD | C14: 0.05 | F14: =+F11*C14 -> 95190283
B15: IVA/UTILIDAD | C15: 0.19 | F15: =+F14*C15 -> 18086154
B16: TOTAL | F16: =SUM(F11:F15) -> 2.2455388e+09

Sheet Mtto  RP Yopo
B3: COSTOS MANTENIMIENTO CORTOLIMA
B4: SISTEMA A IMPLEMENTAR: | C4: REFORESTACION PROTECTORA CON ESPECIES NATIVAS
B5: CORPORACIÓN / AAU: | C5: CORTOLIMA
B6: NOMBRE DEL PROYECTO : | C6: RESTAURACIÓN ECOLÓGICA EN LAS ZONAS PROTECTORAS DE FUENTES HÍDRICAS Y ESTRATÉGICAS DEL DEPARTAMENTO DEL TOLIMA
B8: DISEÑO DE LA PLANTACIÓN | C8: ALEATORIO | E8: Costo Unitario ($)
B10: =+[1]Establec.!B10 -> 1. Número de Plántulas Arboreas por Ha | D10: 1100 | E10: =+'Estudio de Mercado'!L50 -> 4500
B11: 1. Número de Plántulas Arbustivas por Ha | D11: 0 | E11: 0
B12: =+[1]Establec.!B12 -> 3. Porcentaje de reposición % | D12: 0.2
B13: 4. Insumos Agricolas. | C13: Descripcion | D13: Cantidad Aplicación | E13: Costo $ / kg ó Lt
B14: Fertilizante Quimico Compuesto (Gr./Arb.) | C14: Agrimins (NPK.Em) | D14: 32 | E14: =+[2]Establecimiento!E14 -> 2206.75
B15: Fertilizante Quimico Simple (Gr./Arb.) | C15: UREA | D15: 50 | E15: =+[2]Establecimiento!E16 -> 3707.595
B16: Lombriabono (Gr./Arb.) | C16: Humus | D16: 275 | E16: =+'Estudio de Mercado'!N4 -> 67940 | G16: 5.5 | T16: 50 | U16: 1000 | V16: =+U16*T16*G16 -> 275000
B17: Fertilizante Quimico Compuesto (Gr./Arb.) | C17: Triple 15 | D17: 50 | E17: =+'Estudio de Mercado'!N6 -> 168900 | T17: 1 | U17: 1
B18: Insecicida Liquido (Lts/Ha.) | C18: Clorpirifos | D18: 1
B19: Insecicida (Lb/Ha.) | C19: Cebo Toxico | D19: 1 | E19: =+'Estudio de Mercado'!L5 -> 0
B20: Insecticida líquido (Lts/Ha.) | C20: Ragen | D20: 0.2 | E20: =+[2]Establecimiento!E21 -> 217019
B21: Insecicida Granular (Kg./Ha.) | C21: Attakill | D21: 0.5 | E21: =+'[2]Estudio de Mercado'!J10 -> 26794.5
B22: Correctivo (Bulto./Ha.) | C22: Caldolomita | D22: 1 | E22: =+'[2]Estudio de Mercado'!K15 -> 236.3358
B23: Correctivo (Gr./Arb.) | C23: Hidroretenedor | D23: 3 | E23: =+[2]Establecimiento!E24 -> 45342.95 | V23: 19007771 | W23: 33000000
B24: 5. Costo Jornal Promedio Region (seguridad social, aportes parafiscales, prestaciones sociales) | C24: Jornal | D24: Global | E24: =+'[3]Estudio de Mercado'!$B$72 -> 62508 | V24: =+V23/877802 -> 21.653825 | W24: =+W23/1160000 -> 28.448276
B25: 6. Herramientas (5% de la MAO) | C25: Global | D25: 0.05 | W25: =+W24/V24 -> 1.313776
B26: 7. Elementos de Proteccion Personal (5% de la MO) | C26: Global | D26: 0.05 | V26: 99601594
B27: 8. Costo Flete Promedio Mula (Trans Interno) | C27: Flete | D27: 65000 | V27: =+V26/1160000 -> 85.863443
B28: 8. Transporte Mayor Insumos (% de Insumos) | C28: Global | D28: 0.1 | G28: 1962 | H28: 359 | I28: =162.5+685 -> 847.5 | J28: =70.5+685 -> 755.5
B31: COSTOS DE MANTENIMIENTO VIGENCIA 2022 | D31: MANTENIMIENTO METAS TOTALES/Has | G31: 91.7 | I31: =+G31+685 -> 776.7
B32: Costos Proyectados a 2016
B33: Duración meses | C33: 8
B34: CATEGORIA DE INVERSIÓN | C34: Unidad | D34: Cantidad / Ha | E34: Valor Unitario ($) | F34: Valor Total/Ha ($) | G34: Valor Total Proyecto ($)
B35: 1. COSTOS DIRECTOS
B36: 1.1. MANO DE OBRA | C36: RENDIMIENTO | I36: 2020
B37: Plateo (2) | C37: Plateo | D37: 1100 | E37: =+(($E$24*D72)/D37) -> 681.90545 | F37: =+D37*E37 -> 750096 | G37: =+F37*$G$31 -> 68783803 | I37: =+'[4]P 5 C.Mant. B.P.'!$F$40 -> 291930
B38: Transporte interno de insumos | C38: Flete | D38: 3 | E38: =+D27 -> 65000 | F38: =+D38*E38 -> 195000 | G38: =+F38*$G$31 -> 17881500 | I38: =+'[4]P 5 C.Mant. B.P.'!$F$44 -> 75000
B39: Reposición (Replante) | C39: Arboles | D39: 220 | E39: =+(($E$24*D74)/D39) -> 568.25455 | F39: =+D39*E39 -> 125016 | G39: =+F39*$G$31 -> 11463967 | I39: =+'[4]P 5 C.Mant. B.P.'!$F$47 -> 97458
A40: 15 15 15 | B40: Aplicación de Fertilizantes (2) | C40: Arboles | D40: =+$D$10+$D$11 -> 1100 | E40: =+(($E$24*D76)/D40) -> 113.65091 | F40: =+D40*E40 -> 125016 | G40: =+F40*$G$31 -> 11463967 | I40: =+'[4]P 5 C.Mant. B.P.'!$F$43 -> 48840
A41: cebo | B41: Control fitosanitario | C41: Arboles | D41: =+$D$10+$D$11 -> 1100 | E41: =+(($E$24*D77)/D41) -> 56.825455 | F41: =+D41*E41 -> 62508 | G41: =+F41*$G$31 -> 5731983.6 | I41: =+'[4]P 5 C.Mant. B.P.'!$F$46 -> 97680 | T41: una vez por ha con el cebo
B42: Limpias (2) | C42: Mts Cuadrados | D42: 10000 | E42: =+(($E$24*D78)/D42) -> 75.0096 | F42: =+D42*E42 -> 750096 | G42: =+F42*$G$31 -> 68783803 | I42: =+'[4]P 5 C.Mant. B.P.'!$F$48 -> 290000
B43: Adecuacion de Barreras Cortafuego | I43: =+'[4]P 5 C.Mant. B.P.'!$F$49 -> 97528
B44: SUBTOTAL MANO DE OBRA | F44: =+SUM(F37:F43) -> 2007732 | G44: =+SUM(G37:G43) -> 1.8410902e+08 | I44: =SUM(I37:I43) -> 998436
B45: 1.2. INSUMOS
B46: Plántulas 20% repos. | C46: Plantulas | D46: =ROUNDUP(D10*D12,0) -> 220 | E46: =+E10 -> 4500 | F46: =+D46*E46 -> 990000 | G46: =+F46*$G$31 -> 90783000 | H46: =+'[4]P 5 C.Mant. B.P.'!$D$52 -> 111 | I46: =+'[4]P 5 C.Mant. B.P.'!$F$52 -> 149073 | J46: ESTABAN TOMANDO MAL EL PORCENTAJE
...

Sheet Mtto  RP Aliso
B3: COSTOS MANTENIMIENTO CORTOLIMA
B4: SISTEMA A IMPLEMENTAR: | C4: REFORESTACION PROTECTORA CON ESPECIES NATIVAS
B5: CORPORACIÓN / AAU: | C5: CORTOLIMA
B6: NOMBRE DEL PROYECTO : | C6: RESTAURACIÓN ECOLÓGICA EN LAS ZONAS PROTECTORAS DE FUENTES HÍDRICAS Y ESTRATÉGICAS DEL DEPARTAMENTO DEL TOLIMA
B8: DISEÑO DE LA PLANTACIÓN | C8: ALEATORIO | E8: Costo Unitario ($)
B10: =+[1]Establec.!B10 -> 1. Número de Plántulas Arboreas por Ha | D10: 1100 | E10: =+'Estudio de Mercado'!#REF! -> #REF!
B11: 1. Número de Plántulas Arbustivas por Ha | D11: 0 | E11: 0
B12: =+[1]Establec.!B12 -> 3. Porcentaje de reposición % | D12: 0.2
B13: 4. Insumos Agricolas. | C13: Descripcion | D13: Cantidad Aplicación | E13: Costo $ / kg ó Lt
B14: Fertilizante Quimico Compuesto (Gr./Arb.) | C14: Agrimins (NPK.Em) | D14: 32 | E14: =+[2]Establecimiento!E14 -> 2206.75
B15: Fertilizante Quimico Simple (Gr./Arb.) | C15: UREA | D15: 50 | E15: =+[2]Establecimiento!E16 -> 3707.595
B16: Lombriabono (Gr./Arb.) | C16: Humus | D16: 275 | E16: =+'Estudio de Mercado'!N4 -> 67940 | G16: 2.5 | T16: 50 | U16: 1000 | V16: =+U16*T16*G16 -> 125000
B17: Fertilizante Quimico Compuesto (Gr./Arb.) | C17: Triple 15 | D17: 50 | E17: =+'Estudio de Mercado'!N6 -> 168900 | T17: 1 | U17: 1
B18: Insecicida Liquido (Lts/Ha.) | C18: Clorpirifos | D18: 1
B19: Insecicida (Lb/Ha.) | C19: Cebo Toxico | D19: 1 | E19: =+'Estudio de Mercado'!L5 -> 0
B20: Insecticida líquido (Lts/Ha.) | C20: Ragen | D20: 0.2 | E20: =+[2]Establecimiento!E21 -> 217019
B21: Insecicida Granular (Kg./Ha.) | C21: Attakill | D21: 0.5 | E21: =+'[2]Estudio de Mercado'!J10 -> 26794.5
B22: Correctivo (Bulto./Ha.) | C22: Caldolomita | D22: 1 | E22: =+'[2]Estudio de Mercado'!K15 -> 236.3358
B23: Correctivo (Gr./Arb.) | C23: Hidroretenedor | D23: 3 | E23: =+[2]Establecimiento!E24 -> 45342.95 | V23: 19007771 | W23: 33000000
B24: 5. Costo Jornal Promedio Region (seguridad social, aportes parafiscales, prestaciones sociales) | C24: Jornal | D24: Global | E24: =+'Mtto RP Yopo'!E24 -> 62508 | V24: =+V23/877802 -> 21.653825 | W24: =+W23/1160000 -> 28.448276
B25: 6. Herramientas (5% de la MAO) | C25: Global | D25: 0.05 | W25: =+W24/V24 -> 1.313776
B26: 7. Elementos de Proteccion Personal (5% de la MO) | C26: Global | D26: 0.05 | V26: 99601594
B27: 8. Costo Flete Promedio Mula (Trans Interno) | C27: Flete | D27: =+'Mtto RP Yopo'!D27 -> 65000 | V27: =+V26/1160000 -> 85.863443
B28: 8. Transporte Mayor Insumos (% de Insumos) | C28: Global | D28: 0.1 | G28: 1962 | H28: 359 | I28: =162.5+685 -> 847.5 | J28: =70.5+685 -> 755.5
B31: COSTOS DE MANTENIMIENTO VIGENCIA 2022 | D31: MANTENIMIENTO METAS TOTALES/Has | G31: 102.33 | I31: =+G31+685 -> 787.33
B32: Costos Proyectados a 2016
B33: Duración meses | C33: 8
B34: CATEGORIA DE INVERSIÓN | C34: Unidad | D34: Cantidad / Ha | E34: Valor Unitario ($) | F34: Valor Total/Ha ($) | G34: Valor Total Proyecto ($)
B35: 1. COSTOS DIRECTOS
B36: 1.1. MANO DE OBRA | C36: RENDIMIENTO | I36: 2020
B37: Plateo (2) | C37: Plateo | D37: 1100 | E37: =+(($E$24*D72)/D37) -> 681.90545 | F37: =+D37*E37 -> 750096 | G37: =+F37*$G$31 -> 76757324 | I37: =+'[4]P 5 C.Mant. B.P.'!$F$40 -> 291930
B38: Transporte interno de insumos | C38: Flete | D38: 3 | E38: =+D27 -> 65000 | F38: =+D38*E38 -> 195000 | G38: =+F38*$G$31 -> 19954350 | I38: =+'[4]P 5 C.Mant. B.P.'!$F$44 -> 75000
B39: Reposición (Replante) | C39: Arboles | D39: 220 | E39: =+(($E$24*D74)/D39) -> 568.25455 | F39: =+D39*E39 -> 125016 | G39: =+F39*$G$31 -> 12792887 | I39: =+'[4]P 5 C.Mant. B.P.'!$F$47 -> 97458
A40: 15 15 15 | B40: Aplicación de Fertilizantes (2) | C40: Arboles | D40: =+$D$10+$D$11 -> 1100 | E40: =+(($E$24*D76)/D40) -> 113.65091 | F40: =+D40*E40 -> 125016 | G40: =+F40*$G$31 -> 12792887 | I40: =+'[4]P 5 C.Mant. B.P.'!$F$43 -> 48840
A41: cebo | B41: Control fitosanitario | C41: Arboles | D41: =+$D$10+$D$11 -> 1100 | E41: =+(($E$24*D77)/D41) -> 56.825455 | F41: =+D41*E41 -> 62508 | G41: =+F41*$G$31 -> 6396443.6 | I41: =+'[4]P 5 C.Mant. B.P.'!$F$46 -> 97680 | T41: una vez por ha con el cebo
B42: Limpias (2) | C42: Mts Cuadrados | D42: 10000 | E42: =+(($E$24*D78)/D42) -> 75.0096 | F42: =+D42*E42 -> 750096 | G42: =+F42*$G$31 -> 76757324 | I42: =+'[4]P 5 C.Mant. B.P.'!$F$48 -> 290000
B43: Adecuacion de Barreras Cortafuego | I43: =+'[4]P 5 C.Mant. B.P.'!$F$49 -> 97528
B44: SUBTOTAL MANO DE OBRA | F44: =+SUM(F37:F43) -> 2007732 | G44: =+SUM(G37:G43) -> 2.0545122e+08 | I44: =SUM(I37:I43) -> 998436
B45: 1.2. INSUMOS
B46: Plántulas 20% repos. | C46: Plantulas | D46: =ROUNDUP(D10*D12,0) -> 220 | E46: =+E10 -> #REF! | F46: =+D46*E46 -> #REF! | G46: =+F46*$G$31 -> #REF! | H46: =+'[4]P 5 C.Mant. B.P.'!$D$52 -> 111 | I46: =+'[4]P 5 C.Mant. B.P.'!$F$52 -> 149073 | J46: ESTABAN TOMANDO MAL EL PORCENTAJE
...

Sheet Mtto  RP Cajeto
B3: COSTOS MANTENIMIENTO CORTOLIMA
B4: SISTEMA A IMPLEMENTAR: | C4: REFORESTACION PROTECTORA CON ESPECIES NATIVAS
B5: CORPORACIÓN / AAU: | C5: CORTOLIMA
B6: NOMBRE DEL PROYECTO : | C6: RESTAURACIÓN ECOLÓGICA EN LAS ZONAS PROTECTORAS DE FUENTES HÍDRICAS Y ESTRATÉGICAS DEL DEPARTAMENTO DEL TOLIMA
B8: DISEÑO DE LA PLANTACIÓN | C8: ALEATORIO | E8: Costo Unitario ($)
B10: =+[1]Establec.!B10 -> 1. Número de Plántulas Arboreas por Ha | D10: 1100 | E10: =+'Estudio de Mercado'!#REF! -> #REF!
B11: 1. Número de Plántulas Arbustivas por Ha | D11: 0 | E11: 0
B12: =+[1]Establec.!B12 -> 3. Porcentaje de reposición % | D12: 0.2
B13: 4. Insumos Agricolas. | C13: Descripcion | D13: Cantidad Aplicación | E13: Costo $ / kg ó Lt
B14: Fertilizante Quimico Compuesto (Gr./Arb.) | C14: Agrimins (NPK.Em) | D14: 32 | E14: =+[2]Establecimiento!E14 -> 2206.75
B15: Fertilizante Quimico Simple (Gr./Arb.) | C15: UREA | D15: 50 | E15: =+[2]Establecimiento!E16 -> 3707.595
B16: Lombriabono (Gr./Arb.) | C16: Humus | D16: 275 | E16: =+'Estudio de Mercado'!N4 -> 67940 | G16: 2.5 | T16: 50 | U16: 1000 | V16: =+U16*T16*G16 -> 125000
B17: Fertilizante Quimico Compuesto (Gr./Arb.) | C17: Triple 15 | D17: 50 | E17: =+'Estudio de Mercado'!N6 -> 168900 | T17: 1 | U17: 1
B18: Insecicida Liquido (Lts/Ha.) | C18: Clorpirifos | D18: 1
B19: Insecicida (Lb/Ha.) | C19: Cebo Toxico | D19: 1 | E19: =+'Estudio de Mercado'!L5 -> 0
B20: Insecticida líquido (Lts/Ha.) | C20: Ragen | D20: 0.2 | E20: =+[2]Establecimiento!E21 -> 217019
B21: Insecicida Granular (Kg./Ha.) | C21: Attakill | D21: 0.5 | E21: =+'[2]Estudio de Mercado'!J10 -> 26794.5
B22: Correctivo (Bulto./Ha.) | C22: Caldolomita | D22: 1 | E22: =+'[2]Estudio de Mercado'!K15 -> 236.3358
B23: Correctivo (Gr./Arb.) | C23: Hidroretenedor | D23: 3 | E23: =+[2]Establecimiento!E24 -> 45342.95 | V23: 19007771 | W23: 33000000
B24: 5. Costo Jornal Promedio Region (seguridad social, aportes parafiscales, prestaciones sociales) | C24: Jornal | D24: Global | E24: =+'Mtto RP Aliso'!E24 -> 62508 | V24: =+V23/877802 -> 21.653825 | W24: =+W23/1160000 -> 28.448276
B25: 6. Herramientas (5% de la MAO) | C25: Global | D25: 0.05 | W25: =+W24/V24 -> 1.313776
B26: 7. Elementos de Proteccion Personal (5% de la MO) | C26: Global | D26: 0.05 | V26: 99601594
B27: 8. Costo Flete Promedio Mula (Trans Interno) | C27: Flete | D27: =+'Mtto RP Aliso'!D27 -> 65000 | V27: =+V26/1160000 -> 85.863443
B28: 8. Transporte Mayor Insumos (% de Insumos) | C28: Global | D28: 0.1 | G28: 1962 | H28: 359 | I28: =162.5+685 -> 847.5 | J28: =70.5+685 -> 755.5
B31: COSTOS DE MANTENIMIENTO VIGENCIA 2022 | D31: MANTENIMIENTO METAS TOTALES/Has | G31: 163 | I31: =+G31+685 -> 848
B32: Costos Proyectados a 2016
B33: Duración meses | C33: 8
B34: CATEGORIA DE INVERSIÓN | C34: Unidad | D34: Cantidad / Ha | E34: Valor Unitario ($) | F34: Valor Total/Ha ($) | G34: Valor Total Proyecto ($)
B35: 1. COSTOS DIRECTOS
B36: 1.1. MANO DE OBRA | C36: RENDIMIENTO | I36: 2020
B37: Plateo (2) | C37: Plateo | D37: 1100 | E37: =+(($E$24*D72)/D37) -> 681.90545 | F37: =+D37*E37 -> 750096 | G37: =+F37*$G$31 -> 122265648 | I37: =+'[4]P 5 C.Mant. B.P.'!$F$40 -> 291930
B38: Transporte interno de insumos | C38: Flete | D38: 3 | E38: =+D27 -> 65000 | F38: =+D38*E38 -> 195000 | G38: =+F38*$G$31 -> 31785000 | I38: =+'[4]P 5 C.Mant. B.P.'!$F$44 -> 75000
B39: Reposición (Replante) | C39: Arboles | D39: 220 | E39: =+(($E$24*D74)/D39) -> 568.25455 | F39: =+D39*E39 -> 125016 | G39: =+F39*$G$31 -> 20377608 | I39: =+'[4]P 5 C.Mant. B.P.'!$F$47 -> 97458
A40: 15 15 15 | B40: Aplicación de Fertilizantes (2) | C40: Arboles | D40: =+$D$10+$D$11 -> 1100 | E40: =+(($E$24*D76)/D40) -> 113.65091 | F40: =+D40*E40 -> 125016 | G40: =+F40*$G$31 -> 20377608 | I40: =+'[4]P 5 C.Mant. B.P.'!$F$43 -> 48840
A41: cebo | B41: Control fitosanitario | C41: Arboles | D41: =+$D$10+$D$11 -> 1100 | E41: =+(($E$24*D77)/D41) -> 56.825455 | F41: =+D41*E41 -> 62508 | G41: =+F41*$G$31 -> 10188804 | I41: =+'[4]P 5 C.Mant. B.P.'!$F$46 -> 97680 | T41: una vez por ha con el cebo
B42: Limpias (2) | C42: Mts Cuadrados | D42: 10000 | E42: =+(($E$24*D78)/D42) -> 75.0096 | F42: =+D42*E42 -> 750096 | G42: =+F42*$G$31 -> 1.2226565e+08 | I42: =+'[4]P 5 C.Mant. B.P.'!$F$48 -> 290000
B43: Adecuacion de Barreras Cortafuego | I43: =+'[4]P 5 C.Mant. B.P.'!$F$49 -> 97528
B44: SUBTOTAL MANO DE OBRA | F44: =+SUM(F37:F43) -> 2007732 | G44: =+SUM(G37:G43) -> 327260316 | I44: =SUM(I37:I43) -> 998436
B45: 1.2. INSUMOS
B46: Plántulas 20% repos. | C46: Plantulas | D46: =ROUNDUP(D10*D12,0) -> 220 | E46: =+E10 -> #REF! | F46: =+D46*E46 -> #REF! | G46: =+F46*$G$31 -> #REF! | H46: =+'[4]P 5 C.Mant. B.P.'!$D$52 -> 111 | I46: =+'[4]P 5 C.Mant. B.P.'!$F$52 -> 149073 | J46: ESTABAN TOMANDO MAL EL PORCENTAJE
...
