Workbook

Sheet FORMULARIO 1 PRESUPUESTO
B6: FORMULARIO 1 - FORMULARIO DE PRESUPUESTO OFICIAL
B7: INSTITUTO COLOMBIANO AGROPECUARIO ICA
B8: GRUPO GESTIÓN INFRAESTRUCTURA FISICA Y MANTENIMIENTO
B10: ADECUACIÓN OFICINA DE MASCOTAS EN EL AEROPUERTO EL DORADO
B11: ÍTEM | C11: DESCRIPCIÓN | D11: UNIDAD | E11: CANTIDAD | F11: VR UNITARIO | G11: SUBTOTAL
B12: 1 | C12: PRELIMINARES | G12: =SUM(G13:G20) -> 497185.78 | J12: 0.0292
B13: 1.01 | C13: Demolición manual de guardaescobas. Incluye retiro de sobrantes al botadero autorizado | D13: m | E13: ='MEMORIA DE CANTIDADES'!N28 -> 8 | F13: 3116 | G13: =ROUND(F13*E13,2) -> 24928 | I13: 3210 | J13: =-I13*J$12+I13 -> 3116.268 | K13: =ROUND(J13,0) -> 3116
B14: 1.02 | C14: Demolición manual de muro para ducto de ventilación. | D14: m2 | E14: ='MEMORIA DE CANTIDADES'!N48 -> 1 | F14: 7322 | G14: =ROUND(F14*E14,2) -> 7322 | I14: 7542 | J14: =-I14*J$12+I14 -> 7321.7736 | K14: =ROUND(J14,0) -> 7322
B15: 1.03 | C15: Desmonte de grifería.Incluye retiro al botadero autorizado y/o entrega a almacén de los elementos reutilizables | D15: Un | E15: ='MEMORIA DE CANTIDADES'!N68 -> 1 | F15: 23517 | G15: =ROUND(F15*E15,2) -> 23517 | I15: 24224 | J15: =-I15*J$12+I15 -> 23516.659 | K15: =ROUND(J15,0) -> 23517
B16: 1.04 | C16: Desmonte de lavamanos.Incluye retiro al botadero autorizado y/o entrega a almacén de los elementos reutilizables | D16: Un | E16: ='MEMORIA DE CANTIDADES'!N88 -> 1 | F16: 23330 | G16: =ROUND(F16*E16,2) -> 23330 | I16: 24032 | J16: =-I16*J$12+I16 -> 23330.266 | K16: =ROUND(J16,0) -> 23330
B17: 1.05 | C17: Desmonte de piso en vinisol.Incluye retiro al botadero autorizado | D17: m2 | E17: ='MEMORIA DE CANTIDADES'!N109 -> 2.2 | F17: 8846 | G17: =ROUND(F17*E17,2) -> 19461.2 | I17: 9112 | J17: =-I17*J$12+I17 -> 8845.9296 | K17: =ROUND(J17,0) -> 8846
B18: 1.06 | C18: Desmonte de puerta en vidrio templado.Incluye retiro al botadero autorizado y/o entrega a almacén de los elementos reutilizables | D18: m2 | E18: ='MEMORIA DE CANTIDADES'!N130 -> 6.93 | F18: 27606 | G18: =ROUND(F18*E18,2) -> 191309.58 | I18: 28436 | J18: =-I18*J$12+I18 -> 27605.669 | K18: =ROUND(J18,0) -> 27606
B19: 1.07 | C19: Desmonte de puesto de trabajo.Incluye retiro al botadero autorizado y/o entrega a almacén de los elementos reutilizables | D19: Un | E19: ='MEMORIA DE CANTIDADES'!N150 -> 5 | F19: 21600 | G19: =ROUND(F19*E19,2) -> 108000 | I19: 22250 | J19: =-I19*J$12+I19 -> 21600.3 | K19: =ROUND(J19,0) -> 21600
B20: 1.08 | C20: Regata en piso para tubería (incl. mortero de resane).Incluye retiro al botadero autorizado. Área de residuos. | D20: m | E20: ='MEMORIA DE CANTIDADES'!N171 -> 3 | F20: 33106 | G20: =ROUND(F20*E20,2) -> 99318 | I20: 34102 | J20: =-I20*J$12+I20 -> 33106.222 | K20: =ROUND(J20,0) -> 33106
B21: 2 | C21: MUROS | G21: =SUM(G22:G24) -> 3313452 | J21: =-I21*J$12+I21 -> 0 | K21: =ROUND(J21,0) -> 0
B22: 2.01 | C22: Suministro e instalación de muro superboard 8mm doble cara E=12, con reforzamiento en madera en apoyos superiores, medios e inferiores para el apoyo y soporte de puertas. | D22: m2 | E22: ='MEMORIA DE CANTIDADES'!N199 -> 25.5 | F22: 122212 | G22: =ROUND(F22*E22,2) -> 3116406 | I22: 125888 | J22: =-I22*J$12+I22 -> 122212.07 | K22: =ROUND(J22,0) -> 122212
B23: 2.02 | C23: Suministro e instalación de dinteles superboard 8mm doble cara E=12, con reforzamiento en madera en apoyos superiores, medios e inferiores para el apoyo y soporte de puertas. | D23: m | E23: ='MEMORIA DE CANTIDADES'!N219 -> 1.5 | F23: 122212 | G23: =ROUND(F23*E23,2) -> 183318 | I23: 125888 | J23: =-I23*J$12+I23 -> 122212.07 | K23: =ROUND(J23,0) -> 122212
B24: 2.03 | C24: Filos y cinta para rejilla de ventilación de área de residuos. | D24: m | E24: ='MEMORIA DE CANTIDADES'!N239 -> 1 | F24: 13728 | G24: =ROUND(F24*E24,2) -> 13728 | I24: 14141 | J24: =-I24*J$12+I24 -> 13728.083 | K24: =ROUND(J24,0) -> 13728
B25: 3 | C25: INSTALACIONES SANITARIAS | G25: =SUM(G26:G27) -> 243141 | J25: =-I25*J$12+I25 -> 0 | K25: =ROUND(J25,0) -> 0
B26: 3.01 | C26: Suministro e instalación de traslado de Punto sanitario pvc de 2" (3 m). Incluye todos los elementos necesarios para su correcta instalación para el área de residuos. | D26: Un | E26: ='MEMORIA DE CANTIDADES'!N261 -> 1 | F26: 124914 | G26: =ROUND(F26*E26,2) -> 124914 | I26: 128671 | J26: =-I26*J$12+I26 -> 124913.81 | K26: =ROUND(J26,0) -> 124914
B27: 3.02 | C27: Suministro e instalación de Sifón sanitario pvc de 2". Incluye todos los elementos necesarios para su correcta instalación para el área de residuos. | D27: Un | E27: ='MEMORIA DE CANTIDADES'!N281 -> 1 | F27: 118227 | G27: =ROUND(F27*E27,2) -> 118227 | I27: 121783 | J27: =-I27*J$12+I27 -> 118226.94 | K27: =ROUND(J27,0) -> 118227
B28: 4 | C28: INSTALACIONES HIDRÁULICAS | G28: =SUM(G29) -> 134127 | J28: =-I28*J$12+I28 -> 0 | K28: =ROUND(J28,0) -> 0
B29: 4.01 | C29: Suministro e instalación. Punto hidráulico cpvc de 1/2" (3 m). Incluye llave dentro de muro y caja de inspección. | D29: Un | E29: ='MEMORIA DE CANTIDADES'!N304 -> 1 | F29: 134127 | G29: =ROUND(F29*E29,2) -> 134127 | I29: 138161 | J29: =-I29*J$12+I29 -> 134126.7 | K29: =ROUND(J29,0) -> 134127
B30: 5 | C30: PISOS | G30: =SUM(G31:G33) -> 1285480.8 | J30: =-I30*J$12+I30 -> 0 | K30: =ROUND(J30,0) -> 0
B31: 5.01 | C31: Suministro e instalación de Guardaescoba en vinisol h= 6.8 cm. Incluye todos los accesorios necesario para su correcta instalación. El color debe ser similar o igual al instalado. | D31: m | E31: ='MEMORIA DE CANTIDADES'!N335 -> 22.68 | F31: 31214 | G31: =ROUND(F31*E31,2) -> 707933.52 | I31: 32153 | J31: =-I31*J$12+I31 -> 31214.132 | K31: =ROUND(J31,0) -> 31214
B32: 5.02 | C32: Suministro e instalación de Piso en vinisol de 2 mm de 30x30 cm. Incluye todos los accesorios necesario para su correcta instalación. El color debe ser similar o igual al instalado. | D32: m2 | E32: ='MEMORIA DE CANTIDADES'!N355 -> 5.25 | F32: 107925 | G32: =ROUND(F32*E32,2) -> 566606.25 | I32: 111171 | J32: =-I32*J$12+I32 -> 107924.81 | K32: =ROUND(J32,0) -> 107925
B33: 5.03 | C33: Suministro e instalación de Rejilla para piso en pvc 3"x2". Para área de residuos | D33: Un | E33: ='MEMORIA DE CANTIDADES'!N375 -> 1 | F33: 10941 | G33: =ROUND(F33*E33,2) -> 10941 | I33: 11270 | J33: =-I33*J$12+I33 -> 10940.916 | K33: =ROUND(J33,0) -> 10941
B34: 6 | C34: ENCHAPES Y ACCESORIOS | G34: =SUM(G35:G35) -> 96586 | J34: =-I34*J$12+I34 -> 0 | K34: =ROUND(J34,0) -> 0
B35: 6.01 | C35: Suministro e instalación de Rejilla ventilación celosía en aluminio 30x30 cm en muro para área de residuos. | D35: Un | E35: ='MEMORIA DE CANTIDADES'!N397 -> 1 | F35: 96586 | G35: =ROUND(F35*E35,2) -> 96586 | I35: 99491 | J35: =-I35*J$12+I35 -> 96585.863 | K35: =ROUND(J35,0) -> 96586
B36: 7 | C36: CARPINTERÍA METÁLICA | G36: =SUM(G37) -> 757068 | J36: =-I36*J$12+I36 -> 0 | K36: =ROUND(J36,0) -> 0
B37: 7.01 | C37: Suministro e instalación Puerta cold rolled con diseño liso lámina Cal. 20, 0.90 x 2.05 m (incl pintura gris).Acabado prime anti corrosión. Incluye manija tipo pesado, refuerzo de bisagra calibre 7 | D37: Un | E37: ='MEMORIA DE CANTIDADES'!N420 -> 1 | F37: 757068 | G37: =ROUND(F37*E37,2) -> 757068 | I37: 779839 | J37: =-I37*J$12+I37 -> 757067.7 | K37: =ROUND(J37,0) -> 757068
B38: 8 | C38: PINTURA | G38: =SUM(G39:G43) -> 16554140 | J38: =-I38*J$12+I38 -> 0 | K38: =ROUND(J38,0) -> 0
B39: 8.01 | C39: Suministro y aplicación de estuco plástico en muros.Incluye resanes, filos y dilataciones | D39: m2 | E39: ='MEMORIA DE CANTIDADES'!N446 -> 56.79 | F39: 11936 | G39: =ROUND(F39*E39,2) -> 677845.44 | I39: 12295 | J39: =-I39*J$12+I39 -> 11935.986 | K39: =ROUND(J39,0) -> 11936
B40: 8.02 | C40: Suministro y aplicación de pintura epoxica en muros.Incluye resanos filos y dilataciones. Tipo pintuco y/o similar. | D40: m2 | E40: ='MEMORIA DE CANTIDADES'!N483 -> 359.478 | F40: 24383 | G40: =ROUND(F40*E40,2) -> 8765152.1 | I40: 25116 | J40: =-I40*J$12+I40 -> 24382.613 | K40: =ROUND(J40,0) -> 24383
B41: 8.03 | C41: Suministro y aplicación de pintura epoxica en cieloraso.Incluye resanos filos y dilataciones. Tipo pintuco y/o similar. | D41: m2 | E41: ='MEMORIA DE CANTIDADES'!N509 -> 55.39 | F41: 24383 | G41: =ROUND(F41*E41,2) -> 1350574.4 | I41: 25116 | J41: =-I41*J$12+I41 -> 24382.613 | K41: =ROUND(J41,0) -> 24383
B42: 8.04 | C42: Suministro y aplicación de pintura koraza exterior para fachadas color blanco.Incluye resanos filos y dilataciones. Tipo pintuco y/o similar. | D42: m2 | E42: ='MEMORIA DE CANTIDADES'!N529 -> 113.41 | F42: 34921 | G42: =ROUND(F42*E42,2) -> 3960390.6 | I42: 35971 | J42: =-I42*J$12+I42 -> 34920.647 | K42: =ROUND(J42,0) -> 34921
B43: 8.05 | C43: Suministro y aplicación de pintura koraza exterior para fachadas color gris zócalo.Incluye resanos filos y dilataciones. Tipo pintuco y/o similar. | D43: m2 | E43: ='MEMORIA DE CANTIDADES'!N549 -> 51.55 | F43: 34921 | G43: =ROUND(F43*E43,2) -> 1800177.6 | I43: 35971 | J43: =-I43*J$12+I43 -> 34920.647 | K43: =ROUND(J43,0) -> 34921
B44: 9 | C44: VARIOS | G44: =SUM(G45:G52) -> 11911396 | J44: =-I44*J$12+I44 -> 0 | K44: =ROUND(J44,0) -> 0
B45: 9.01 | C45: Limpieza y aseo general de todas las áreas intervenidas | D45: m2 | E45: ='MEMORIA DE CANTIDADES'!N571 -> 175.3 | F45: 4956 | G45: =ROUND(F45*E45,2) -> 868786.8 | I45: 5105 | J45: =-I45*J$12+I45 -> 4955.934 | K45: =ROUND(J45,0) -> 4956
B46: 9.02 | C46: Suministro e instalación de aviso tipo caja, estrutura metálica y banner con impresión en alta resolución. Marco metálico color gris plata y/o similar, pintados con imprimación anticorrosiva+pintura acabado.Acrilico frontal translúcido. La dimensión de banner apróx. 3.30x2.00 m.Estructura con dos pilares anclados al suelo sobre dados de concreto. | D46: m2 | E46: ='MEMORIA DE CANTIDADES'!N591 -> 6.6 | F46: 701530 | G46: =ROUND(F46*E46,2) -> 4630098 | I46: 722631 | J46: =-I46*J$12+I46 -> 701530.17 | K46: =ROUND(J46,0) -> 701530
...

Sheet APUS
B7: INSTITUTO COLOMBIANO AGROPECUARIO ICA
B8: GRUPO GESTIÓN INFRAESTRUCTURA FISICA Y MANTENIMIENTO
B9: ANÁLISIS PRECIOS UNITARIOS 2024
B11: ADECUACIÓN OFICINA DE MASCOTAS EN EL AEROPUERTO EL DORADO
B13: ='FORMULARIO 1 PRESUPUESTO'!B12 -> 1 | C13: ='FORMULARIO 1 PRESUPUESTO'!C12 -> PRELIMINARES
B15: ='FORMULARIO 1 PRESUPUESTO'!B13 -> 1.01 | C15: ='FORMULARIO 1 PRESUPUESTO'!C13 -> Demolición manual de guardaescobas. Incluye retiro de sobrantes al botadero autorizado | G15: ='FORMULARIO 1 PRESUPUESTO'!D13 -> m
C16: DESCRIPCIÓN | D16: UNIDAD | E16: CANT/ REND | F16: PRECIO UNITARIO | G16: VR PARCIAL
C17: EQUIPO y HERRAMIENTAS:
C18: ALMADANA 4 lb | D18: Un | E18: 0.0004 | F18: 47860 | G18: =ROUND(E18*F18, 2) -> 19.14
C19: CINCEL 3/4" ACERO TEMPLADO | D19: Un | E19: 0.0004 | F19: 28732 | G19: =ROUND(E19*F19, 2) -> 11.49
F20: Subtotal = | G20: =SUM(G18:G19) -> 30.63
C21: MANO de OBRA:
C22: CUADRILLA 2 Ay | D22: Día | E22: 0.0196 | F22: 162222 | G22: =ROUND(E22*F22, 2) -> 3179.55
F23: Subtotal = | G23: =SUM(G22:G22) -> 3179.55
F25: VR COSTO DIRECTO = | G25: =ROUND(SUM(G17:G23)/2, 0) -> 3210
B28: ='FORMULARIO 1 PRESUPUESTO'!B14 -> 1.02 | C28: ='FORMULARIO 1 PRESUPUESTO'!C14 -> Demolición manual de muro para ducto de ventilación. | G28: ='FORMULARIO 1 PRESUPUESTO'!D14 -> m2
C29: DESCRIPCIÓN | D29: UNIDAD | E29: CANT/ REND | F29: PRECIO UNITARIO | G29: VR PARCIAL
C30: EQUIPO y HERRAMIENTAS:
C31: ALMADANA 18 lb | D31: Un | E31: 0.0009 | F31: 114347 | G31: =ROUND(E31*F31, 2) -> 102.91
C32: BARRA AGRÍCOLA | D32: Un | E32: 0.0009 | F32: 100284 | G32: =ROUND(E32*F32, 2) -> 90.26
F33: Subtotal = | G33: =SUM(G31:G32) -> 193.17
C34: MANO de OBRA:
C35: CUADRILLA 2 Ay | D35: Día | E35: 0.0453 | F35: 162222 | G35: =ROUND(E35*F35, 2) -> 7348.66
F36: Subtotal = | G36: =SUM(G35:G35) -> 7348.66
F38: VR COSTO DIRECTO = | G38: =ROUND(SUM(G30:G36)/2, 0) -> 7542
B41: ='FORMULARIO 1 PRESUPUESTO'!B15 -> 1.03 | C41: ='FORMULARIO 1 PRESUPUESTO'!C15 -> Desmonte de grifería.Incluye retiro al botadero autorizado y/o entrega a almacén de los elementos reutilizables | G41: ='FORMULARIO 1 PRESUPUESTO'!D15 -> Un
C42: DESCRIPCIÓN | D42: UNIDAD | E42: CANT/ REND | F42: PRECIO UNITARIO | G42: VR PARCIAL
C43: EQUIPO y HERRAMIENTAS:
C44: HERRAMIENTAS PARA PLOMERO | D44: Un | E44: 0.0022 | F44: 320887 | G44: =ROUND(E44*F44, 2) -> 705.95
F45: Subtotal = | G45: =SUM(G44:G44) -> 705.95
C46: MANO de OBRA:
C47: PLOMERO (Incl. prestaciones) | D47: Día | E47: 0.223 | F47: 105463 | G47: =ROUND(E47*F47, 2) -> 23518.25
F48: Subtotal = | G48: =SUM(G47:G47) -> 23518.25
F50: VR COSTO DIRECTO = | G50: =ROUND(SUM(G43:G48)/2, 0) -> 24224
B53: ='FORMULARIO 1 PRESUPUESTO'!B16 -> 1.04 | C53: ='FORMULARIO 1 PRESUPUESTO'!C16 -> Desmonte de lavamanos.Incluye retiro al botadero autorizado y/o entrega a almacén de los elementos reutilizables | G53: ='FORMULARIO 1 PRESUPUESTO'!D16 -> Un
C54: DESCRIPCIÓN | D54: UNIDAD | E54: CANT/ REND | F54: PRECIO UNITARIO | G54: VR PARCIAL
C55: EQUIPO y HERRAMIENTAS:
C56: HERRAMIENTAS PARA ALBAÑIL | D56: Un | E56: 0.0012 | F56: 297692 | G56: =ROUND(E56*F56, 2) -> 357.23
F57: Subtotal = | G57: =SUM(G56:G56) -> 357.23
C58: MANO de OBRA:
...

Sheet MEMORIA DE CANTIDADES
B2: INSTITUTO COLOMBIANO AGROPECUARIO ICA
B3: GRUPO GESTIÓN INFRAESTRUCTURA FISICA Y MANTENIMIENTO
B4: MEMORIA DE CANTIDADES
B7: ADECUACIÓN OFICINA DE MASCOTAS EN EL AEROPUERTO EL DORADO
B8: ='FORMULARIO 1 PRESUPUESTO'!B12 -> 1 | C8: ='FORMULARIO 1 PRESUPUESTO'!C12 -> PRELIMINARES
B13: INSTITUTO COLOMBIANO AGROPECUARIO ICA
B14: GRUPO GESTIÓN INFRAESTRUCTURA FISICA Y MANTENIMIENTO
B15: PRESUPUESTO DE OBRA 2024
B17: FECHA | D17: DD | E17: 1 | F17: MM | G17: 4 | H17: AAAA | I17: 2024
B19: PROYECTO | F19: ADECUACIÓN OFICINA DE MASCOTAS
B21: CAPÍTULO | C21: ='FORMULARIO 1 PRESUPUESTO'!B12 -> 1 | D21: ITEM | E21: ='FORMULARIO 1 PRESUPUESTO'!B13 -> 1.01 | F21: ACTIVIDAD | H21: ='FORMULARIO 1 PRESUPUESTO'!C13 -> Demolición manual de guardaescobas. Incluye retiro de sobrantes al botadero autorizado | M21: UNID. | N21: ='FORMULARIO 1 PRESUPUESTO'!D13 -> m
H22: Localización | I22: Dimensiones | L22: ÁREA / VOLUMEN | M22: No Elem. | N22: Medida Total
I23: Ancho | J23: Alto | K23: Longitud/Area/Unidad
K24: 8 | M24: 1 | N24: =M24*K24 -> 8
B26: OBSERVACIONES: Áreas de intervención de residuos, archivo y cafetería | H26: Subtotal | N26: =N24 -> 8
H27: Acumulado | N27: =N26 -> 8
H28: TOTAL | N28: =N27 -> 8
B33: INSTITUTO COLOMBIANO AGROPECUARIO ICA
B34: GRUPO GESTIÓN INFRAESTRUCTURA FISICA Y MANTENIMIENTO
B35: PRESUPUESTO DE OBRA 2024
B37: FECHA | D37: DD | E37: 1 | F37: MM | G37: 4 | H37: AAAA | I37: 2024
B39: PROYECTO | F39: ADECUACIÓN OFICINA DE MASCOTAS
B41: CAPÍTULO | C41: ='FORMULARIO 1 PRESUPUESTO'!B12 -> 1 | D41: ITEM | E41: ='FORMULARIO 1 PRESUPUESTO'!B14 -> 1.02 | F41: ACTIVIDAD | H41: ='FORMULARIO 1 PRESUPUESTO'!C14 -> Demolición manual de muro para ducto de ventilación. | M41: UNID. | N41: ='FORMULARIO 1 PRESUPUESTO'!D14 -> m2
H42: Localización | I42: Dimensiones | L42: ÁREA / VOLUMEN | M42: No Elem. | N42: Medida Total
I43: Ancho | J43: Alto | K43: Longitud/Area/Unidad
H44: Residuos | K44: 1 | L44: 1 | M44: 1 | N44: =M44*L44 -> 1
B46: OBSERVACIONES:Área de residuos | H46: Subtotal | N46: =N44 -> 1
H47: Acumulado | N47: =N46 -> 1
H48: TOTAL | N48: =N47 -> 1
B53: INSTITUTO COLOMBIANO AGROPECUARIO ICA
B54: GRUPO GESTIÓN INFRAESTRUCTURA FISICA Y MANTENIMIENTO
B55: PRESUPUESTO DE OBRA 2024
B57: FECHA | D57: DD | E57: 1 | F57: MM | G57: 4 | H57: AAAA | I57: 2024
B59: PROYECTO | F59: ADECUACIÓN OFICINA DE MASCOTAS
B61: CAPÍTULO | C61: ='FORMULARIO 1 PRESUPUESTO'!B12 -> 1 | D61: ITEM | E61: ='FORMULARIO 1 PRESUPUESTO'!B15 -> 1.03 | F61: ACTIVIDAD | H61: ='FORMULARIO 1 PRESUPUESTO'!C15 -> Desmonte de grifería.Incluye retiro al botadero autorizado y/o entrega a almacén de los elementos reutilizables | M61: UNID. | N61: ='FORMULARIO 1 PRESUPUESTO'!D15 -> Un
H62: Localización | I62: Dimensiones | L62: ÁREA / VOLUMEN | M62: No Elem. | N62: Medida Total
I63: Ancho | J63: Alto | K63: Longitud/Area/Unidad
H64: Lavamanos | K64: 1 | L64: 1 | M64: 1 | N64: =M64*L64 -> 1
B66: OBSERVACIONES: | H66: Subtotal | N66: =N64 -> 1
H67: Acumulado | N67: =N66 -> 1
...

Sheet AIU
B3: SUBGERENCIA ADMINISTRATIVA Y FINANCIERA
B4: GRUPO GESTION DE INFRAESTRUCUTRA FISICA Y MANTENIMIENTO
B5: CALCULO DE AIU
G7: Duración obra(meses) | I7: 3
B10: I. ADMINISTRACIÓN
B11: A. PERSONAL
B12: PERSONAL | C12: CANTIDAD DE PROFESIONALES | D12: SALARIO | E12: DEDIC. | F12: FACTOR PREST. | G12: SAL. + PEST. | H12: MESES | I12: COSTO TOTAL
B13: DIRECTOR DE OBRA | C13: 1 | D13: 4200000 | E13: 0.1 | F13: ='FM '!$D$41 -> 2.22 | G13: =F13*D13 -> 9324000 | H13: =$I$7 -> 3 | I13: =E13*G13*H13*C13 -> 2797200
B14: RESIDENTE DE OBRA 1 | C14: 1 | D14: 2500000 | E14: 0.5 | F14: ='FM '!$D$41 -> 2.22 | G14: =F14*D14 -> 5550000 | H14: =$I$7 -> 3 | I14: =E14*G14*H14*C14 -> 8325000
B15: SISOMA 1 | C15: 1 | D15: 2000000 | E15: 0.5 | F15: ='FM '!$D$41 -> 2.22 | G15: =F15*D15 -> 4440000 | H15: =$I$7 -> 3 | I15: =E15*G15*H15*C15 -> 6660000
B16: RESIDENTE DE OBRA 2 | C16: 1 | D16: 2500000 | E16: 0.5 | F16: ='FM '!$D$41 -> 2.22 | G16: =F16*D16 -> 5550000 | H16: =$I$7 -> 3 | I16: =E16*G16*H16*C16 -> 8325000
B17: SISOMA 2 | C17: 1 | D17: 2000000 | E17: 0.5 | F17: ='FM '!$D$41 -> 2.22 | G17: =F17*D17 -> 4440000 | H17: =$I$7 -> 3 | I17: =E17*G17*H17*C17 -> 6660000
H19: SUBTOTAL | I19: =SUM(I13:I17) -> 32767200
B21: B. FUNCIONAMIENTO
B22: DETALLE | E22: VALOR MES | H22: MESES | I22: COSTO TOTAL
B23: OFICINA | E23: 318000 | H23: =$I$7 -> 3 | I23: =H23*E23 -> 954000
B24: INFORMATICA | E24: 90000 | H24: =$I$7 -> 3 | I24: =H24*E24 -> 270000
B25: PAPELERIA Y OTROS | E25: 90000 | H25: =$I$7 -> 3 | I25: =H25*E25 -> 270000
H27: SUBTOTAL | I27: =SUM(I23:I25) -> 1494000
B29: C. COSTOS LEGALES
B30: DETALLE | H30: % | I30: VALOR
B31: POLIZAS | H31: =SUM(H33:H36) -> 0.014 | I31: =$I$50*H31 -> 3102018.2
B32: Garantía de Seriedad | H32: 0.0004 | I32: =$I$50*H32 -> 88629.093
B33: Estabilidad de la Obra | H33: 0.003 | I33: =$I$50*H33 -> 664718.2
B34: Salarios, Prestaciones | H34: 0.005 | I34: =$I$50*H34 -> 1107863.7
B35: Cumplimiento | H35: 0.003 | I35: =$I$50*H35 -> 664718.2
B36: Responsabilidad Civil | H36: 0.003 | I36: =$I$50*H36 -> 664718.2
B37: IMPUESTOS | H37: =SUM(H38:H41) -> 0.079 | I37: =$I$50*H37 -> 17504246
B38: Pro Universidad nacional Ley 1697 de 2013 | H38: 0.005 | I38: =$I$50*H38 -> 1107863.7
B39: Imp. Transaccciones financieras 4x1000 | H39: 0.004 | I39: =$I$50*H39 -> 886290.93
B40: Impuesto ley 1106-CONTRIBUCION ESPECIAL SOBRE CONTRATOS DE OBRA | H40: 0.05 | I40: =$I$50*H40 -> 11078637
B41: Retención en la fuente | H41: 0.02 | I41: =$I$50*H41 -> 4431454.6
H43: SUBTOTAL | I43: =I31+I32+I37 -> 20694893
B45: D. RESUMEN COSTOS DE ADMINISTRACIÓN
B46: PERSONAL | I46: =I19 -> 32767200
B47: FUNCIONAMIENTO | I47: =I27 -> 1494000
B48: COSTOS DEL CONTRATO | I48: =I43 -> 20694893
B49: TOTAL COSTOS ADMINISTRACIÓN | I49: =SUM(I46:I48) -> 54956093
B50: TOTAL COSTOS DIRECTO | I50: ='FORMULARIO 1 PRESUPUESTO'!G138 -> 2.2157273e+08
B51: % COSTOS ADMINISTRACIÓN | I51: =I49/I50 -> 0.24802733
...

Sheet FM 
B4: INSTITUTO COLOMBIANO AGROPECUARIO ICA
B5: GRUPO GESTIÓN INFRAESTRUCTURA FISICA Y MANTENIMIENTO
B6: FACTOR MULTIPLICADOR
B9: 1 | C9: HONORARIOS MENSUAL BASICO | D9: =+ROUND((100%),2) -> 1
B10: 2 | C10: PRESTACIONES SOCIALES
B11: 2.1 | C11: Prima mensual | D11: 0.085
B12: 2.2 | C12: Cesantía mensual | D12: 0.0833
B13: 2.3 | C13: Intereses de cesantías | D13: 0.01
B14: 2.4 | C14: Salud | D14: 0.08
B15: 2.5 | C15: Pensión | D15: 0.116
B16: 2.6 | C16: SENA | D16: =2% -> 0.02
B17: 2.7 | C17: ICBF | D17: =3% -> 0.03
B18: 2.8 | C18: Subsidio Familiar | D18: =4% -> 0.04
B19: 2.9 | C19: Vacaciones | D19: 0.0417
B20: 2.10 | C20: Polizas | D20: 0.03
B21: 2.11 | C21: Dotación | D21: 0.04
B22: 2.12 | C22: Otros | D22: 0.01
C23: SUBTOTAL 2 - PRESTACIONES SOCIALES | D23: =ROUND((SUM(D11:D22)),3) -> 0.586
B24: 3 | C24: COSTOS INDIRECTOS
C25: GASTOS LEGALES Y DE ADMINISTRACION
B26: 3.1 | C26: Gastos directos no reembolsables | D26: 0.05
B27: 3.2 | C27: Servcios públicos | D27: 0.02
B28: 3.3 | C28: Mantenimiento y operación de oficinas | D28: 0.02
B29: 3.4 | C29: Utiles y papelería | D29: 0.01
B30: 3.5 | C30: Gastos legales y bancarios | D30: 0.03
B31: 3.6 | C31: Gastos de transporte y vehículos | D31: 0.02
B32: 3.7 | C32: Sistematización y Administración | D32: 0.02
B33: 3.8 | C33: Personal administrativo | D33: 0.02
B34: 3.9 | C34: Preparación de propuesta | D34: 0.02
C35: Otros gastos no reembolsables
B36: 3.1 | C36: Seguros | D36: 0.02
C37: SUBTOTAL 3 - COSTOS INDIRECTOS | D37: =ROUND((SUM(D26:D36)),3) -> 0.23
B38: 4 | C38: CARGO POR HONORARIOS | D38: 0.4
C39: SUBTOTAL 4 - HONORARIOS | D39: =ROUND((SUM(D38)),3) -> 0.4
B41: 5 | C41: FACTOR MULTIPLICADOR = ( 1 + 2 + 3 + 4 ) / 100 | D41: =ROUND((D9+D23+D37+D39),2) -> 2.22

Sheet IMÁGEN
B2: IMAGEN CORPORATIVA
B3: CANT | C3: TEXTO ESPAÑOL | D3: TEXTO INGLÉS | E3: TAMAÑOS INICIALES | F3: OBSERVACIONES
B4: 1 | C4: Sala de espera | D4: Waiting area | E4: 25x15cm | F4: Acrílico - fijado con tornillo/pines
B5: 1 | C5: Cafetería | D5: Coffee shop | E5: 25x15cm | F5: Acrílico - fijado con tornillo/pines
B6: 1 | C6: Atención al usuario | D6: Customer service | E6: 25x15cm | F6: Acrílico - fijado con tornillo/pines
B7: 2 | C7: Archivo | D7: Archival storage room | E7: 25x15cm | F7: Acrílico - fijado con tornillo/pines
B8: 2 | C8: Baño mixto funcionarios | D8: Private restroom | E8: 25x15cm | F8: Acrílico - fijado con tornillo/pines
B9: 2 | C9: Área de inspección animal | D9: Animal inspection area | E9: 25x15cm | F9: Acrílico - fijado con tornillo/pines
B10: 2 | C10: Salida | D10: Exit | E10: 25x15cm | F10: Acrílico - fijado con tornillo/pines
B11: 2 | C11: Lavamanos usuarios | D11: Sink for users | E11: 25x15cm | F11: Acrílico - fijado con tornillo/pines
B12: 1 | C12: Lavamanos funcionarios | D12: Sink for employees | E12: 25x15cm | F12: Acrílico - fijado con tornillo/pines
B13: 1 | C13: Área de residuos | E13: 25x15cm | F13: Acrílico - fijado con tornillo/pines
B14: 2 | C14: Entrada | D14: Entrance | E14: 35x30cm | F14: Acrílico - fijado con tornillo/pines
B15: 2 | C15: Horario | D15: Working hours | E15: 35x30cm | F15: Acrílico - fijado con tornillo/pines
B16: 1 | C16: Diseño de branding para paredes | E16: 80x depende la longitud de la pared cm vertical | F16: Impresión para pared
B17: 1 | C17: Diseño de branding para paredes entre puertas de áreas de inspección | E17: 80x depende la longitud de la pared cm vertical | F17: Impresión para pared-Sala des espera
B18: 1 | C18: Diseño de Branding puerta de entrada- Película frost con corte de logo ICA | E18: 80x depende la longitud de la pared cm vertical | F18: Impresión sobre vidrio
B19: 2 | C19: Diseño de Branding puerta de entrada- Película frost con corte de logo ICA -Oficinas de inspección | E19: 80x depende la longitud de la pared cm vertical | F19: Impresión sobre vidrio
