Workbook
Name \a: #REF!
Name \a: #REF!
Name \b: #REF!
Name \eliminar: [1]RESUM96!#REF!
Name \eliminar1: [1]RESUM96!#REF!
Name \i: [2]INSUMOS!#REF!
Name \m: [2]INSUMOS!#REF!
Name \q: #REF!
Name \r: [2]INSUMOS!#REF!
Name \s: #REF!
Name \s: #REF!
Name \t: [2]INSUMOS!#REF!
Name \X: [3]!err
Name \x: [2]INSUMOS!#REF!
Name \Z: [3]!err
Name _\a: #REF!
Name _\b: #REF!
Name _\eliminar: [1]RESUM96!#REF!
Name _\eliminar1: [1]RESUM96!#REF!
Name _\i: [2]INSUMOS!#REF!
Name _________________________________________________AFC1: [4]INV!$A$25:$D$28
Name _________________________________________________AFC3: [4]INV!$F$25:$I$28
Name _________________________________________________AFC5: [4]INV!$K$25:$N$28
Name _________________________________________________BGC1: [4]INV!$A$5:$D$8
Name _________________________________________________BGC3: [4]INV!$F$5:$I$8
Name _________________________________________________BGC5: [4]INV!$K$5:$N$8
Name _________________________________________________CAC1: [4]INV!$A$19:$D$22
Name _________________________________________________CAC3: [4]INV!$F$19:$I$22
Name _________________________________________________CAC5: [4]INV!$K$19:$N$22
Name _________________________________________________SBC1: [4]INV!$A$12:$D$15
Name _________________________________________________SBC3: [4]INV!$F$12:$I$15
Name _________________________________________________SBC5: [4]INV!$K$12:$N$15
Name ________________________________________________AFC1: [4]INV!$A$25:$D$28
Name ________________________________________________AFC3: [4]INV!$F$25:$I$28
Name ________________________________________________AFC5: [4]INV!$K$25:$N$28
Name ________________________________________________BGC1: [4]INV!$A$5:$D$8
Name ________________________________________________BGC3: [4]INV!$F$5:$I$8
Name ________________________________________________BGC5: [4]INV!$K$5:$N$8
Name ________________________________________________CAC1: [4]INV!$A$19:$D$22
Name ________________________________________________CAC3: [4]INV!$F$19:$I$22
Name ________________________________________________CAC5: [4]INV!$K$19:$N$22
Name ________________________________________________SBC1: [4]INV!$A$12:$D$15
Name ________________________________________________SBC3: [4]INV!$F$12:$I$15
Name ________________________________________________SBC5: [4]INV!$K$12:$N$15
Name _______________________________________________AFC1: [4]INV!$A$25:$D$28
Name _______________________________________________AFC3: [4]INV!$F$25:$I$28
Name _______________________________________________AFC5: [4]INV!$K$25:$N$28
Name _______________________________________________BGC1: [4]INV!$A$5:$D$8
Name _______________________________________________BGC3: [4]INV!$F$5:$I$8
Name _______________________________________________BGC5: [4]INV!$K$5:$N$8
Name _______________________________________________CAC1: [4]INV!$A$19:$D$22
Name _______________________________________________CAC3: [4]INV!$F$19:$I$22
Name _______________________________________________CAC5: [4]INV!$K$19:$N$22
Name _______________________________________________SBC1: [4]INV!$A$12:$D$15
Name _______________________________________________SBC3: [4]INV!$F$12:$I$15
Name _______________________________________________SBC5: [4]INV!$K$12:$N$15
Name ______________________________________________AFC1: [4]INV!$A$25:$D$28
Name ______________________________________________AFC3: [4]INV!$F$25:$I$28
Name ______________________________________________AFC5: [4]INV!$K$25:$N$28
Name ______________________________________________BGC1: [4]INV!$A$5:$D$8

Sheet PRESUPUESTO
B1: MEJORAMIENTO DE LA VIA QUE COMUNICA LA VEREDA EL ENCANTO CON EL CORREGIMIENTO EL SILENCIO, MUNICIPIO DE CAREPA, DEPARTAMENTO DE ANTIOQUIA.
B3: PRESUPUESTO OFICIAL
B4: No | C4: ITEM DE PAGO | D4: ESPECIFICACIONES | F4: DESCRIPCION | G4: UNID | H4: CANTIDAD | I4: VALOR UNITARIO | J4: VALOR TOTAL | L4: Duración Etapa I | M4: 2 | N4: meses
D5: GENERAL 2017 | E5: PARTICULAR | L5: Duración Etapa II | M5: 5 | N5: meses
L6: Acarreo cantera | M6: Escombrera
B7: I - EXPLANACIONES | L7: 35 | M7: 15 | N7: km
B8: 1 | C8: 600.1.1 | D8: 600-13 | F8: EXCAVACIONES VARIAS SIN CLASIFICAR (Incluye retiro disposicion final) | G8: m3 | H8: =+[125]Cantidades!$H$8 -> 740.27 | I8: =+'600.1.1'!G43 -> 75026 | J8: =ROUND((+H8*I8),0) -> 55539497 | L8: acero | M8: 20 | N8: km
B9: 2 | C9: 220.1 | D9: 220-13 | F9: TERRAPLENES | G9: m3 | H9: =+[125]Cantidades!$H$9 -> 932.4 | I9: =+'220.1'!G42 -> 166855 | J9: =ROUND((+H9*I9),0) -> 155575602
B10: SUBTOTAL EXPLANACIONES | J10: =ROUND(SUM(J8:J9),0) -> 211115099
B11: II - AFIRMADOS, SUBBASES Y BASES
B12: 3 | C12: 320.3 | D12: 320-13 | F12: SUBBASE GRANULAR CLASE C | G12: m3 | H12: =+[125]Cantidades!$H$12 -> 600 | I12: =+'320.3'!G43 -> 198550 | J12: =ROUND((+H12*I12),0) -> 119130000
B13: SUBTOTAL AFIRMADO, SUBASES Y BASES | J13: =ROUND(SUM(J12:J12),0) -> 119130000
B14: III - ESTRUCTURA DE PAVIMENTO
B15: 4 | C15: 500.1 | D15: 500-13 | F15: PAVIMENTO EN CONCRETO HIDRÁULICO MR=3.8 Mpa (Incluye acero transferencia longitudinal y transversal y juntas) | G15: m3 | H15: =+[125]Cantidades!$H$15 -> 750 | I15: =+'500.1'!G44 -> 1204202 | J15: =ROUND((+H15*I15),0) -> 903151500
B16: SUBTOTAL PAVIMENTOS RIGIDOS | J16: =ROUND(J15,0) -> 903151500
B17: IV - ESTRUCTURAS Y DRENAJES
B18: 5 | C18: 600.1.1 | D18: 600-13 | F18: EXCAVACIONES VARIAS SIN CLASIFICAR | G18: m3 | H18: =+[125]Cantidades!$H$18 -> 414.92 | I18: =+'600.1.1'!G43 -> 75026 | J18: =ROUND((+H18*I18),0) -> 31129788
B19: 6 | C19: 610.2 | D19: 610-13 | F19: RELLENOS PARA ESTRUCTURAS CON RECEBO. | G19: m3 | H19: =+[125]Cantidades!$H$19 -> 57.21 | I19: =+'610.2'!G43 -> 131856 | J19: =ROUND((+H19*I19),0) -> 7543482
B20: 7 | C20: 640.1 | D20: 640-13 | F20: ACERO DE REFUERZO FY 420 MPA. | G20: kg | H20: =+[125]Cantidades!$H$20 -> 20179.72 | I20: =+'640.1'!G42 -> 8636 | J20: =ROUND((+H20*I20),0) -> 174272062
B21: 8 | C21: 661.1 | D21: 661-13 | F21: TUBERÍA DE CONCRETO REFORZADO CLASE D DE 900 MM DE DIAMETRO INTERIOR | G21: m | H21: =+[125]Cantidades!$H$21 -> 22.5 | I21: =+'661.1'!G42 -> 1121281 | J21: =ROUND((+H21*I21),0) -> 25228823
B22: 9 | C22: 630.4 | D22: 630-13 | F22: CONCRETO RESISTENCIA 21MPA (D) | G22: m3 | H22: =+[125]Cantidades!$H$22 -> 38.13 | I22: =+'630.4'!G42 -> 850421 | J22: =ROUND((+H22*I22),0) -> 32426553
B23: 10 | C23: 671.3 | E23: 671-13P | F23: CUNETA DE CONCRETO VACIADA IN SITU; INCLUYE LA CONFORMACION DE LA SUPERFICIE DE APOYO | G23: m3 | H23: =+[125]Cantidades!$H$23 -> 384 | I23: =+'671.3'!G42 -> 766050 | J23: =ROUND((+H23*I23),0) -> 294163200
B24: SUBTOTAL ESTRUCTURAS Y DRENAJES | J24: =ROUND(+SUM(J18:J23),0) -> 564763908
B25: V - SEÑALIZACIÓN Y SEGURIDAD
B26: 11 | C26: 710.1 | D26: 710-13 | F26: SEÑAL VERTICAL DE TRANSITO VERTICAL TIPO 1 CON LAMINA RETRORREFLECTIVA TIPO III (75X75) | G26: Und | H26: =+[125]Cantidades!$H$26 -> 10 | I26: =+'710.1'!G46 -> 696803 | J26: =ROUND((+H26*I26),0) -> 6968030
B27: 12 | C27: 700.1 | D27: 700-13 | F27: LINEA DEMARCACIÓN CON PINTURA EN FRÍO | G27: ml | H27: =+[125]Cantidades!$H$27 -> 3000 | I27: =+'700.1'!G46 -> 3474 | J27: =ROUND((+H27*I27),0) -> 10422000
B28: SUBTOTAL SEÑALIZACION Y SEGURIDAD | J28: =ROUND(+SUM(J26:J27),0) -> 17390030
B29: TOTAL COSTOS DIRECTOS | J29: =ROUND((+J28+J24+J16+J13+J10),0) -> 1815550537
B30: ADMINISTRACION | I30: =+'AIU '!C47 -> 0.31153837 | J30: =ROUND((+$J$29*I30),0) -> 565613662
B31: IMPREVISTOS | I31: 0.01 | J31: =ROUND((+$J$29*I31),0) -> 18155505
B32: UTILIDAD | I32: 0.05 | J32: =ROUND((+$J$29*I32),0) -> 90777527
B33: IVA UTILIDAD | I33: 0 | J33: =ROUND((+J32*I33),0) -> 0
J34: =ROUND(SUM(J29:J33),0) -> 2490097231
B35: V- PLAN DE GESTION INTEGRAL DE LA OBRA y COSTOS AMBIENTALES
B36: 13 | C36: 1010.1 | F36: IMPLEMENTACIÓN DEL PGIO (SST, Calidad, Ambiental, Transito,etc.) | G36: Und | H36: =+[125]Cantidades!$H$30 -> 1 | I36: =+'1010.1 PGIO '!F50 -> 51820627 | J36: =ROUND(+H36*I36,0) -> 51820627
F37: 1. IMPLEMETACIÓN PGIO - EJE SST | G37: Und | H37: 1 | I37: =+'1010.1 PGIO '!F14 -> 2025000
F38: 2. IMPLEMETACION PGIO - EJE AMBIENTAL (en caso de ser requerido) | G38: Und | H38: 1 | I38: =+'1010.1 PGIO '!F24 -> 15644466
F39: 3. IMPLEMETACION PGIO - EJE CALIDAD | G39: Und | H39: 1 | I39: =+'1010.1 PGIO '!F29 -> 1375000
F40: 4. IMPLEMENTACIÓN DE PLAN DE MANEJO DE TRÁNSITO | G40: Und | H40: 1 | I40: =+'1010.1 PGIO '!F48 -> 32776161
B41: VI - COSTO ETAPA I (AJUSTE Y APROPIACION ESTUDIOS Y DISEÑOS)
...

Sheet AIU 
B1: Nombre del Proyecto | C1: MEJORAMIENTO DE LA VIA QUE COMUNICA LA VEREDA EL ENCANTO CON EL CORREGIMIENTO EL SILENCIO, MUNICIPIO DE CAREPA, DEPARTAMENTO DE ANTIOQUIA.
B4: DESGLOCE DEL AIU
F5: Etapa I Duración | G5: 2 | H5: meses
B6: VALOR COSTO DIRECTO ALTERNATIVA | C6: =+PRESUPUESTO!J29 -> 1815550537 | F6: Etapa II Duración | G6: 5 | H6: meses
K7: SMMLV | L7: 1160000
B8: COSTOS DEL PERSONAL | K8: Aux | L8: 140606
B9: PERSONAL PROFESIONAL | C9: CANTIDAD | D9: DEDICACION | E9: VALOR /MES/BASE | F9: FACTOR PRESTACIONAL | G9: MESES | H9: VALOR TOTAL | I9: PORCENTAJE COSTO DIRECTO
B10: Director de Obra | C10: 1 | D10: 0.5 | E10: 6500000 | F10: 0.73 | G10: =+$G$6 -> 5 | H10: =+C10*D10*E10*(F10+1)*G10 -> 28112500 | I10: =+H10/$C$6 -> 0.015484284 | K10: 0.5 | L10: 28112500 | M10: 0.015694404
B11: Ingeniero Residente | C11: 1 | D11: 1 | E11: 4500000 | F11: 0.73 | G11: =+$G$6 -> 5 | H11: =+D11*E11*(F11+1)*G11 -> 38925000 | I11: =+H11/$C$6 -> 0.021439778 | K11: 1 | L11: 38925000 | M11: 0.021730713
B12: Cuadrilla Topografía (Topógrafo y Cadenero) | C12: 1 | D12: 0.5 | E12: 4750000 | F12: 0.73 | G12: =+$G$6 -> 5 | H12: =+D12*E12*(F12+1)*G12 -> 20543750 | I12: =+H12/$C$6 -> 0.011315438 | K12: 0.5 | L12: 20543750 | M12: 0.011468988
B13: Profesional SISOMA | C13: 1 | D13: 1 | E13: 3855000 | F13: 0.73 | G13: =+$G$6 -> 5 | H13: =+D13*E13*(F13+1)*G13 -> 33345750 | I13: =+H13/$C$6 -> 0.018366743 | K13: 1 | L13: 33345750 | M13: 0.018615978
B14: Profesional Social | C14: 1 | D14: 0.65 | E14: 3650000 | F14: 0.73 | G14: =+$G$6 -> 5 | H14: =+D14*E14*(F14+1)*G14 -> 20522125 | I14: =+H14/$C$6 -> 0.011303527 | K14: 0.5 | L14: 15786250 | M14: 0.0088130115
B15: Profesional Financiero | C15: 1 | D15: 0.5 | E15: 2200000 | F15: 0.85003333 | G15: =+$G$6 -> 5 | H15: =+D15*E15*(F15+1)*G15 -> 10175183 | I15: =+H15/$C$6 -> 0.0056044616 | K15: 0.5 | L15: 10175183 | M15: 0.0056805136
B16: Secretaria | C16: 1 | D16: 1 | E16: 1540000 | F16: 0.85003333 | G16: =+$G$6 -> 5 | H16: =+D16*E16*(F16+1)*G16 -> 14245257 | I16: =+H16/$C$6 -> 0.0078462463 | K16: 1 | L16: 14245257 | M16: 0.007952719
B17: TOTAL COSTO PERSONAL | H17: =SUM(H10:H16) -> 165869565 | I17: =SUM(I10:I16) -> 0.091360478 | L17: 161133690 | M17: 0.089956327
B18: GASTOS OPERACIONALES
B19: DESCRIPCIÓN | C19: CANTIDAD | D19: VALOR /MES/BASE | E19: MESES | F19: VALOR TOTAL | G19: PORCENTAJE COSTO DIRECTO
B20: Viaticos | C20: 1 | D20: 250000 | E20: 5 | F20: =+D20*E20*C20 -> 1250000 | G20: =+F20/$C$6 -> 0.0006884964
B21: Oficina/Campamento (incluye dotación y sevicios públicos) | C21: 1 | D21: 1500000 | E21: =+$G$6 -> 5 | F21: =+D21*E21*C21 -> 7500000 | G21: =+F21/$C$6 -> 0.0041309784
B22: Insumos de oficina (Computadores, impresora, entre otros) | C22: 1 | D22: 750000 | E22: =+$G$6 -> 5 | F22: =+D22*E22*C22 -> 3750000 | G22: =+F22/$C$6 -> 0.0020654892
B23: Camioneta o campero de más de 2000 cc modelo 2012 a 2021 (incluye conductor, peajes y combustible) | C23: 1 | D23: 7650000 | E23: =+$G$6 -> 5 | F23: =+D23*E23*C23 -> 38250000 | G23: =+F23/$C$6 -> 0.02106799
B24: Comisión topografía (Incluye equipo y transporte) | C24: 0.7 | D24: 1850000 | E24: 5 | F24: =+D24*E24*C24 -> 6475000 | G24: =+F24/$C$6 -> 0.0035664113
B25: Valla informativa proyecto | C25: 1 | D25: 750000 | E25: 1 | F25: =+D25*E25*C25 -> 750000 | G25: =+F25/$C$6 -> 0.00041309784
B26: Otros (fotos, informes, etc) | C26: 1 | D26: 450000 | E26: =+$G$6 -> 5 | F26: =+D26*E26*C26 -> 2250000 | G26: =+F26/$C$6 -> 0.0012392935
B27: Ensayos de laboratorio | C27: 1 | D27: =+F64 -> 2544000 | E27: =+$G$6 -> 5 | F27: =+D27*E27*C27 -> 12720000 | G27: =+F27/$C$6 -> 0.0070061393
B29: TOTAL GASTOS OPERACIONALES | F29: =SUM(F21:F28) -> 71695000 | G29: =SUM(G20:G28) -> 0.040177896
B30: GASTOS LEGALES Y/O IMPUESTOS
B31: DESCRIPCIÓN | C31: % | D31: VALOR BASE | E31: CANTIDAD | F31: VALOR TOTAL | G31: PORCENTAJE COSTO DIRECTO
B32: PÓLIZAS | C32: 0.015 | D32: =+C32*C6 -> 27233258 | E32: 1 | F32: =+E32*D32 -> 27233258 | G32: =+F32/$C$6 -> 0.015
B33: CONTRIBUCIONES ESPECIALES (IMPUESTO DE GUERRA) | C33: 0.05 | D33: =+C33*$C$6 -> 90777527 | E33: 1 | F33: =+E33*D33 -> 90777527 | G33: =+F33/$C$6 -> 0.05
B34: IMPUESTO DEL 4/1000 | C34: 0.004 | D34: =+C34*$C$6 -> 7262202.1 | E34: 1 | F34: =+E34*D34 -> 7262202.1 | G34: =+F34/$C$6 -> 0.004
B35: RETENCIÓN EN LA FUENTE | C35: 0.02 | D35: =+C35*$C$6 -> 36311011 | E35: 1 | F35: =+E35*D35 -> 36311011 | G35: =+F35/$C$6 -> 0.02
B36: ICA | C36: 0.009 | D36: =+C36*$C$6 -> 16339955 | E36: 1 | F36: =+E36*D36 -> 16339955 | G36: =+F36/$C$6 -> 0.009
B37: Estampilla Hospital | C37: 0.01 | D37: =+C37*$C$6 -> 18155505 | E37: 1 | F37: =+E37*D37 -> 18155505 | G37: =+F37/$C$6 -> 0.01
B38: Estampilla Pro-Cultura | C38: 0.012 | D38: =+C38*$C$6 -> 21786606 | E38: 1 | F38: =+E38*D38 -> 21786606 | G38: =+F38/$C$6 -> 0.012
B39: Estampilla Adulto Mayor | C39: 0.04 | D39: =+C39*$C$6 -> 72622021 | E39: 1 | F39: =+E39*D39 -> 72622021 | G39: =+F39/$C$6 -> 0.04
B40: Estampilla tasa Pro-Deporte | C40: 0.02 | D40: =+C40*$C$6 -> 36311011 | E40: 1 | F40: =+E40*D40 -> 36311011 | G40: =+F40/$C$6 -> 0.02
F41: =+E41*D41 -> 0
F42: =+E42*D42 -> 0
F43: =+E43*D43 -> 0
...

Sheet E1-O (Etapa I-Obra)
A1: PRESUPUESTO ETAPA DE APROPIACIÓN Y AJUSTE DE DISEÑOS PARA 1 PROYECTO OBRA
A3: NOMBRE DEL PROYECTO: | D3: =+PRESUPUESTO!B1 -> MEJORAMIENTO DE LA VIA QUE COMUNICA LA VEREDA EL ENCANTO CON EL CORREGIMIENTO EL SILENCIO, MUNICIPIO DE CAREPA, DEPARTAMENTO DE ANTIOQUIA.
A4: DURACIÓN ETAPA I : | D4: DOS (2) MESES
A6: DATOS ESPECÍFICOS
A9: I. PERSONAL
A10: DESCRIPCIÓN | H10: CANTIDAD | I10: COSTO MENSUAL | J10: TIEMPO (MES) | K10: PARTICIPACIÓN | M10: Vr. UNITARIO
A11: Coordinador Tecnico | H11: 1 | I11: 6000000 | J11: 2 | K11: 0.7 | M11: =ROUND(K11*J11*I11*H11,0) -> 8400000
A12: Especialista geotecnia | H12: 1 | I12: =5410186-372274 -> 5037912 | J12: 1 | K12: 0.5 | M12: =ROUND(K12*J12*I12*H12,0) -> 2518956
A13: Especialista en Hidráulica e Hidrología | H13: 1 | I13: =5410186-372274 -> 5037912 | J13: 1 | K13: 0.5 | M13: =ROUND(K13*J13*I13*H13,0) -> 2518956
A14: Especialista en Estructuras | H14: 1 | I14: =5410186-372274 -> 5037912 | J14: 1 | K14: 0.5 | M14: =ROUND(K14*J14*I14*H14,0) -> 2518956
A15: Especialista en diseño vias (geométrico, Pavimentos, Transito) | H15: 1 | I15: =5410186-372274 -> 5037912 | J15: 1.5 | K15: 0.5 | M15: =ROUND(K15*J15*I15*H15,0) -> 3778434
A16: Profesional en presupuesto | H16: 1 | I16: =4381379-62046 -> 4319333 | J16: 1 | K16: 0.5 | M16: =ROUND(K16*J16*I16*H16,0) -> 2159667
A17: Profesional ambiental | H17: 1 | I17: =4381379-62046 -> 4319333 | J17: 2 | K17: 0.5 | M17: =ROUND(K17*J17*I17*H17,0) -> 4319333
A18: SUBTOTAL | M18: =SUM(M11:M17) -> 26214302
A19: Factor multiplicador | M19: =+'FM Obra'!C39 -> 1.75
A20: SUBTOTAL | M20: =+ROUND(M18*M19,0) -> 45875029
A21: II. OTROS COSTOS
A22: DESCRIPCIÓN | J22: CANTIDAD | K22: PRECIO UNIT. | M22: Vr. UNITARIO
A23: Trabajo de Topografía (comision topografica incluida equipo) | J23: 1 | K23: 5500000 | M23: =ROUND(K23*J23,0) -> 5500000
A24: Ensayos de Laboratorio y sondeos | J24: 1 | K24: 2933332 | M24: =ROUND(K24*J24,0) -> 2933332
A25: Visita de Verificación | J25: 1 | K25: 4054167 | M25: =ROUND(K25*J25,0) -> 4054167
A26: SUBTOTAL | M26: =M25+M23+M24 -> 12487499
A27: TOTAL COSTO | M27: =+M26+M20 -> 58362528
K28: SUBTOTAL | M28: =M27 -> 58362528
K29: IVA 19% | M29: =+ROUND(M28*0.19,0) -> 11088880
K30: SUBTOTAL | M30: =+M28+M29 -> 69451408

Sheet FM Obra
A1: MEJORAMIENTO DE LA VIA QUE COMUNICA LA VEREDA EL ENCANTO CON EL CORREGIMIENTO EL SILENCIO, MUNICIPIO DE CAREPA, DEPARTAMENTO DE ANTIOQUIA.
B3: CALCULO DEL FACTOR MULTIPLICADOR | C3: =+C39 -> 1.75
A5: 1 | B5: HONORARIOS MENSUAL BASICO | C5: 1
A6: 2 | B6: PRESTACIONES SOCIALES
A7: 2.1 | B7: Prima mensual | C7: 0.0833
A8: 2.2 | B8: Cesantía mensual | C8: 0.0833
A9: 2.3 | B9: Intereses de cesantías | C9: 0.01
A10: 2.4 | B10: Salud | C10: 0.085
A11: 2.5 | B11: Pensión | C11: 0.12
A12: 2.6 | B12: SENA | C12: 0.02
A13: 2.7 | B13: ICBF | C13: 0.03
A14: 2.8 | B14: Subsidio Familiar | C14: 0.04
A15: 2.9 | B15: Vacaciones | C15: 0.0417
A16: 2.10 | B16: Arl | C16: 0.0696
B19: SUBTOTAL 2 - PRESTACIONES SOCIALES | C19: =ROUND(SUM(C7:C18),3) -> 0.583
A21: 3 | B21: IMPUESTOS
A22: 3.1 | B22: Rete ICA | C22: 0.007
A23: 3.2 | B23: FONSECON | C23: 0.05
A24: 3.3 | B24: Rtención en la Fuente | C24: 0.02
A25: 3.4 | B25: Estampilla Hospital | C25: 0.01
A26: 3.5 | B26: Estampilla Pro-Cultura | C26: 0.012
A27: 3.6 | B27: Estampilla Adulto Mayor | C27: 0.04
A28: 3.7 | B28: Estampilla tasa Pro-Deporte | C28: 0.02
A29: 3.8 | B29: GMF | C29: 0.004
B35: SUBTOTAL 3 - COSTOS INDIRECTOS | C35: =ROUND(SUM(C22:C33),3) -> 0.163
A39: 5 | B39: FACTOR MULTIPLICADOR = ( 1 + 2 + 3 + 4 ) / 100 | C39: =ROUND((C5+C19+C35+C37),2) -> 1.75
B41: CALCULO DEL FACTOR MULTIPLICADOR

Sheet FM
A1: MEJORAMIENTO DE LA VIA QUE COMUNICA LA VEREDA EL ENCANTO CON EL CORREGIMIENTO EL SILENCIO, MUNICIPIO DE CAREPA, DEPARTAMENTO DE ANTIOQUIA.
F3: SMLV | G3: 1160000
B4: CALCULO DEL FACTOR MULTIPLICADOR | F4: 2 SMLV | G4: =+G3*2 -> 2320000 | M4: Administrativo
F5: SALARIOS MENORES A 2 SMLV | I5: SALARIOS MAYORES A 2 SMLV
A6: 1 | B6: HONORARIOS MENSUAL BÁSICO | C6: =+ROUND((100%),2) -> 1 | F6: FACTOR PRESTACIONAL | G6: =SUM(G7:G21) -> 0.85813806 | I6: FACTOR PRESTACIONAL | J6: =SUM(J7:J21) -> 0.7145 | M6: FACTOR PRESTACIONAL | N6: =SUM(N7:N21) -> 0.77883806
A7: 2 | B7: PRESTACIONES SOCIALES | F7: Primas | G7: 0.0833 | I7: Primas | J7: 0.0833 | M7: Primas | N7: 0.0833
A8: 2.1 | B8: Prima mensual | C8: 0.0833 | F8: Cesantias | G8: 0.0833 | I8: Cesantias | J8: 0.0833 | M8: Cesantias | N8: 0.0833
A9: 2.2 | B9: Cesantía mensual | C9: 0.0833 | F9: Intereses de cesantias | G9: 0.01 | I9: Intereses de cesantias | J9: 0.01 | M9: Intereses de cesantias | N9: 0.01
A10: 2.3 | B10: Intereses de cesantías | C10: 0.01 | F10: Vacaciones | G10: 0.0417 | I10: Vacaciones | J10: 0.0417 | M10: Vacaciones | N10: 0.0417
A11: 2.4 | B11: Salud | C11: 0.085 | F11: Salud | G11: 0.085 | I11: Salud | J11: 0.085 | M11: Salud | N11: 0.085
A12: 2.5 | B12: Pensión | C12: 0.12 | F12: Subsidio familiar | G12: 0.04 | I12: Subsidio familiar | J12: 0.04 | M12: Subsidio familiar | N12: 0.04
A13: 2.6 | B13: SENA | C13: =2% -> 0.02 | F13: Pension | G13: 0.12 | I13: Pension | J13: 0.12 | M13: Pension | N13: 0.12
A14: 2.7 | B14: ICBF | C14: =3% -> 0.03 | F14: ARL | G14: 0.0697 | I14: ARL | J14: 0.0697 | M14: ARL | N14: 0.0104
A15: 2.8 | B15: Subsidio Familiar | C15: 0.04 | F15: Icbf | G15: 0.03 | I15: Icbf | J15: 0.03 | M15: Icbf | N15: 0.03
A16: 2.9 | B16: Vacaciones | C16: 0.0417 | F16: Sena | G16: 0.02 | I16: Sena | J16: 0.02 | M16: Sena | N16: 0.02
A17: 2.12 | B17: ARL | C17: 0.0696 | F17: Auxilio de Transporte | G17: 0.1172 | I17: Auxilio de Transporte | J17: 0 | M17: Auxilio de Transporte | N17: 0.1172
B18: Auxilio de transporte | C18: 0.01 | F18: Domingos y festivos | G18: 0.08 | I18: Domingos y festivos | J18: 0.08 | M18: Domingos y festivos | N18: 0.08
B19: SUBTOTAL 2 - PRESTACIONES SOCIALES | C19: =ROUND((SUM(C8:C18)),3) -> 0.593 | E19: 0 | F19: Dotación seguridad industrial | G19: 0.052938062 | I19: Dotación seguridad industrial | J19: 0.0265 | M19: Dotación seguridad industrial | N19: 0.052938062
A20: 3 | B20: COSTOS INDIRECTOS | F20: Seguro colectivo | G20: 0.005 | I20: Seguro colectivo | J20: 0.005 | M20: Seguro colectivo | N20: 0.005
B21: GASTOS LEGALES Y DE ADMINISTRACIÓN | F21: F.I.C (Para sector de la Construcción) | G21: 0.02 | I21: F.I.C (Para sector de la Construcción) | J21: 0.02 | M21: F.I.C (Para sector de la Construcción)
A22: 3.1 | B22: Gastos directos no reembolsables | C22: 0.03
A23: 3.2 | B23: Servicios públicos | C23: 0.02
A24: 3.3 | B24: Mantenimiento y operación de oficinas | C24: 0.02
A25: 3.4 | B25: Útiles y papelería | C25: 0.01
A26: 3.5 | B26: Póliza de calidad | C26: 0.0053
A27: 3.6 | B27: póliza cumplimiento | C27: 0.0099
A28: 3.7 | B28: Póliza Salarios y prestaciones Sociales | C28: 0.0265
A29: 3.8 | B29: Gastos legales y bancarios | C29: 0.01
A30: 3.9 | B30: Gastos de transporte y vehículos | C30: 0.025
A31: 3.1 | B31: Sistematización y Administración | C31: 0.02
A32: 3.12 | B32: Preparación de propuesta | C32: 0.015
A33: 3.13 | B33: Seguros | C33: 0.02
... A35: 3.15 | B35: Asesoría legal permanente (responsabilidad civil, penal, laboral, etc.) | C35: 0.01
B36: SUBTOTAL 3 - COSTOS INDIRECTOS | C36: =ROUND((SUM(C22:C35)),3) -> 0.232
A37: 4 | B37: CARGO POR HONORARIOS | C37: 0.2
B38: SUBTOTAL 4 - HONORARIOS | C38: =ROUND((SUM(C37)),3) -> 0.2
A40: 5 | C40: =ROUND((C6+C19+C36+C38),2) -> 2.03
B42: CALCULO DEL FACTOR MULTIPLICADOR

Sheet 220.1
A1: ANÁLISIS DE PRECIOS UNITARIOS
A2: MEJORAMIENTO DE LA VIA QUE COMUNICA LA VEREDA EL ENCANTO CON EL CORREGIMIENTO EL SILENCIO, MUNICIPIO DE CAREPA, DEPARTAMENTO DE ANTIOQUIA.
A4: CARRETERA : | B4: Via El Encanto - Corregimiento El Silencio | D4: ITEM | E4: 220.1 | F4: ESPECIFICACIÓN: | G4: 220-13
A5: ITEM: | B5: RELLENO O TERRAPLEN | F5: UNIDAD : | G5: m3
A7: I. EQUIPO
A8: Descripción | C8: Tipo | D8: Tarifa/Hora | E8: Rendimiento | F8: Valor-Unit.
A9: BULDOZER, POTENCIA AL VOLANTE DE 140HP, MOTOR DE 2200 RPM, LONGITUD DE HOJA 4,8m. | D9: =+'equipos y transporte'!E6 -> 289170 | E9: 33 | F9: =+D9/E9 -> 8762.7273
A10: CARRO TANQUE DE AGUA (1000 Galones) | D10: =+'equipos y transporte'!E8 -> 105761.25 | E10: 33 | F10: =+D10/E10 -> 3204.8864
A11: MOTONIVELADORA POTENCIA 215HP, ANCHO DE CUCHILLA 4,27m, PESO 18TON | D11: =+'equipos y transporte'!E19 -> 334687.5 | E11: 33 | F11: =+D11/E11 -> 10142.045
A12: VIBROCOMPACTADOR, POTENCIA 153 HP, PESO 10 TON | D12: =+'equipos y transporte'!E25 -> 166005 | E12: 33 | F12: =+D12/E12 -> 5030.4545
A13: HERRAMIENTA MENOR (5%) | F13: =+G40*0.05 -> 41
F16: Sub-Total | G16: =+ROUND(SUM(F9:F13),0) -> 27181
A17: II. MATERIALES EN OBRA
A18: Descripción | C18: Unidad | D18: Precio-Unit. | E18: Cantidad | F18: Valor-Unit.
A19: =+insumos!C27 -> Material seleccionado para Relleno | C19: =+insumos!D26 -> m3 | D19: =+insumos!E26 -> 48258.788 | E19: 1.3 | F19: =+D19*E19 -> 62736.424
F24: Sub-Total | G24: =+ROUND(SUM(F19:F23),0) -> 62736
A25: III. TRANSPORTES
A26: Material | B26: Vol-peso ó Cant. | C26: Distancia | D26: M3-Km | E26: Tarifa | F26: Valor-Unit.
A27: TRANSPORTE DEL MATERIAL | B27: =+E19 -> 1.3 | C27: =+cantera -> 35 | D27: =+B27*C27 -> 45.5 | E27: =+'equipos y transporte'!E33 -> 1672.9261 | F27: =+E27*D27 -> 76118.139
F31: Sub-Total | G31: =+ROUND(SUM(F27:F30),0) -> 76118
A32: IV. MANO DE OBRA
A33: Trabajador | B33: Jornal | C33: Prestaciones | D33: Jornal Total | E33: Rendimiento | F33: Valor-Unit.
A34: OBREROS (1) | B34: =+jornal -> 43333.333 | C34: 1.85 | D34: =+B34*1.85 -> 80166.667 | E34: =33*8 -> 264 | F34: =+D34/E34 -> 303.66162
A35: OFICIAL | B35: =+ofic -> 73666.667 | C35: 1.85 | D35: =+B35*1.85 -> 136283.33 | E35: =33*8 -> 264 | F35: =+D35/E35 -> 516.22475
F40: Sub-Total | G40: =ROUND(SUM(F34:F39),0) -> 820
D42: Total Costo Directo | G42: =SUM(G16:G40) -> 166855

Sheet 320.3
A1: ANÁLISIS DE PRECIOS UNITARIOS | C1: MEJORAMIENTO DE LA VIA QUE COMUNICA LA VEREDA EL ENCANTO CON EL CORREGIMIENTO EL SILENCIO, MUNICIPIO DE CAREPA, DEPARTAMENTO DE ANTIOQUIA.
A5: CARRETERA : Via El Encanto - Corregimiento El Silencio | D5: ITEM | E5: 320.3 | F5: ESPECIFICACIÓN: | G5: 320-13
A6: ITEM: SUBBASE GRANULAR CLASE C | F6: UNIDAD : | G6: m3
A8: I. EQUIPO
A9: Descripción | C9: Tipo | D9: Tarifa/Hora | E9: Rendimiento | F9: Valor-Unit.
A10: Carrotanque de agua(10000 Galones) | D10: =+'equipos y transporte'!E8 -> 105761.25 | E10: 33 | F10: =+D10/E10 -> 3204.8864
A11: Motoniveladora potencia 215 HP, ancho de cuchilla 4,27 m, peso 18 ton. | D11: =+'equipos y transporte'!E19 -> 334687.5 | E11: 33 | F11: =+D11/E11 -> 10142.045
A12: Vibrocompactador, potencia 153 HP, peso 10 Ton. | D12: =+'equipos y transporte'!E25 -> 166005 | E12: 33 | F12: =+D12/E12 -> 5030.4545
A13: Herramienta menor (1%MO) | F13: =+G41*1% -> 11.24
F17: Sub-Total | G17: =ROUND(SUM(F10:F16),0) -> 18389
A18: II. MATERIALES EN OBRA
A19: Descripción | C19: Unidad | D19: Precio-Unit. | E19: Cantidad | F19: Valor-Unit.
A20: Material subbase CBR 30% | C20: m3 | D20: =+insumos!E25 -> 77112 | E20: 1.3 | F20: =+D20*E20 -> 100245.6
A21: Agua | C21: lt | D21: =+insumos!E5 -> 111.375 | E21: 24 | F21: =+D21*E21 -> 2673
F25: Sub-Total | G25: =ROUND(SUM(F20:F24),0) -> 102919
A26: III. TRANSPORTES
A27: Material | B27: Vol-peso ó Cant. | C27: Distancia | D27: M3-Km | E27: Tarifa | F27: Valor-Unit.
A28: Transporte material subbase | B28: 1.3 | C28: =+cantera -> 35 | D28: =+B28*C28 -> 45.5 | E28: =+'equipos y transporte'!E29 -> 1672.9261 | F28: =+E28*D28 -> 76118.139
F32: Sub-Total | G32: =ROUND(SUM(F28:F31),0) -> 76118
A33: IV. MANO DE OBRA
A34: Trabajador | B34: Jornal | C34: Prestaciones | D34: Jornal Total | E34: Rendimiento | F34: Valor-Unit.
A35: Obreros (2) | B35: =+jornal*2 -> 86666.667 | C35: 1.85 | D35: =+B35*1.85 -> 160333.33 | E35: =+E10*8 -> 264 | F35: =+D35/E35 -> 607.32323
A36: Oficial | B36: =+ofic -> 73666.667 | C36: 1.85 | D36: =+B36*1.85 -> 136283.33 | E36: =+E11*8 -> 264 | F36: =+D36/E36 -> 516.22475
F41: Sub-Total | G41: =ROUND(SUM(F35:F40),0) -> 1124
D43: Total Costo Directo | G43: =G17+G25+G32+G41 -> 198550
D46: Responsable | E46: VIANEY LARA

Sheet 500.1
A1: ANÁLISIS DE PRECIOS UNITARIOS | B1: MEJORAMIENTO DE LA VIA QUE COMUNICA LA VEREDA EL ENCANTO CON EL CORREGIMIENTO EL SILENCIO, MUNICIPIO DE CAREPA, DEPARTAMENTO DE ANTIOQUIA.
A3: CARRETERA : Via El Encanto - Corregimiento El Silencio | D3: ITEM | E3: 500.1 | F3: ESPECIFICACIÓN: | G3: 500-13
A4: ITEM: PAVIMENTO EN CONCRETO HIDRAULICO MR= 3.8 Mpa | F4: UNIDAD : | G4: m3
A6: I. EQUIPO
A7: Descripción | C7: Tipo | D7: Tarifa/Hora | E7: Rendimiento | F7: Valor-Unit.
A8: Aspersor manual | D8: =+'equipos y transporte'!E5 -> 3320.1 | E8: =5.25/8*7 -> 4.59375 | F8: =+D8/E8 -> 722.74286
A9: Compresor (barrido y soplado) | D9: =+'equipos y transporte'!E12 -> 100406.25 | E9: =5*7 -> 35 | F9: =+D9/E9 -> 2868.75
A10: Cortadora de pavimento, Máxima profundidad de corte: 160 mm. Capacidad de disco: desde 12´´ hasta 18´´ de diámetro. Peso operacional: 135 kg, 13.5 hp de potencia | D10: =+'equipos y transporte'!E14 -> 27042.75 | E10: =3.75/8*7 -> 3.28125 | F10: =+D10/E10 -> 8241.6
A11: Formaleta metálica (concreto hidráulico) | D11: =+'equipos y transporte'!E17 -> 15592.5 | E11: =5.25/8*7 -> 4.59375 | F11: =+D11/E11 -> 3394.2857
A12: Regla vibratoria, de longitud de 3 a 5 m, motor de 3600 rpm, potencia 6 HP | D12: =+'equipos y transporte'!E20 -> 17637.21 | E12: =5.25/8*7 -> 4.59375 | F12: =+D12/E12 -> 3839.3927
A13: Vibrador de concreto, Motor de 3 hp a 18.000 rpm Mangueras de 4 mt | D13: =+'equipos y transporte'!E24 -> 9103.5 | E13: =5.25/8*7 -> 4.59375 | F13: =+D13/E13 -> 1981.7143
A14: Herramienta menor (10%MO) | F14: =+G42*10% -> 9963.6
F16: Sub-Total | G16: =ROUND(SUM(F8:F15),0) -> 31012
A17: II. MATERIALES EN OBRA
A18: Descripción | C18: Unidad | D18: Precio-Unit. | E18: Cantidad | F18: Valor-Unit.
A19: Barras de transferencia de carga (7/8'') | C19: kg | D19: =+insumos!E3 -> 6171.4923 | E19: =ROUND(+(18*3.87*0.35)*1.03/1.49,2) -> 16.85 | F19: =+D19*E19 -> 103989.64
A20: Barras de unión de 1/2´´ | C20: kg | D20: =+insumos!E3 -> 6171.4923 | E20: =(8*1.2*1.03)/1.49 -> 6.6362416 | F20: =+D20*E20 -> 40955.514
A21: Cintilla De Poliuretano (Sikarod) (Pavimentos De Concreto Hidráulico) | C21: m | D21: =+insumos!E13 -> 1584.5987 | E21: =11.4/1.49 -> 7.6510067 | F21: =+D21*E21 -> 12123.775
A22: Sello de silicona o sellador autonivelante | C22: m | D22: =+insumos!E32 -> 11502.129 | E22: =11.4/1.49 -> 7.6510067 | F22: =+D22*E22 -> 88002.868
A23: Antisol (presentación 20 kg) | C23: kg | D23: =+insumos!E7 -> 29122.537 | E23: 2.15 | F23: =+D23*E23 -> 62613.456
A24: Concreto hidráulico para pavimento MR 3,8 mpa | C24: m3 | D24: =+insumos!E14 -> 699527 | E24: 1.0103 | F24: =+D24*E24 -> 706732.13
A25: Canastilla para dovela, aceite, tubo pvc, etc. | C25: m3 | D25: =+Canastilla!H37 -> 44131.678 | E25: 1.34 | F25: =+D25*E25 -> 59136.449
F26: Sub-Total | G26: =ROUND(SUM(F19:F25),0) -> 1073554
A27: III. TRANSPORTES
A28: Material | B28: Vol-peso ó Cant. | C28: Distancia | D28: M3-Km | E28: Tarifa | F28: Valor-Unit.
F33: Sub-Total | G33: =SUM(F29:F32) -> 0
A34: IV. MANO DE OBRA
A35: Trabajador | B35: Jornal | C35: Prestaciones | D35: Jornal Total | E35: Rendimiento | F35: Valor-Unit.
A36: Obreros (7) | B36: =+jornal*7 -> 303333.33 | C36: 1.85 | D36: =+B36*1.85 -> 561166.67 | E36: 7 | F36: =+D36/E36 -> 80166.667
A37: Oficial | B37: =+ofic -> 73666.667 | C37: 1.85 | D37: =+B37*1.85 -> 136283.33 | E37: 7 | F37: =+D37/E37 -> 19469.048
F42: Sub-Total | G42: =ROUND(SUM(F36:F41),0) -> 99636
D44: Total Costo Directo | G44: =ROUND((G16+G26+G33+G42),0) -> 1204202

Sheet 600.1.1
A1: ANÁLISIS DE PRECIOS UNITARIOS | C1: MEJORAMIENTO DE LA VIA QUE COMUNICA LA VEREDA EL ENCANTO CON EL CORREGIMIENTO EL SILENCIO, MUNICIPIO DE CAREPA, DEPARTAMENTO DE ANTIOQUIA.
A5: CARRETERA : | B5: Via El Encanto - Corregimiento El Silencio | D5: ITEM | E5: 600.1.1 | F5: ESPECIFICACIÓN: | G5: 600-2013
A6: ITEM: | B6: EXCAVACIONES VARIAS SIN CLASIFICAR | F6: UNIDAD : | G6: m3
A8: I. EQUIPO
A9: Descripción | C9: Tipo | D9: Tarifa/Hora | E9: Rendimiento | F9: Valor-Unit.
A10: Retroexcavadora sobre oruga, potencia 138 HP, balde de 1,5 m3. | D10: =+'equipos y transporte'!E22 -> 342720 | E10: 0.055 | F10: =+D10*E10 -> 18849.6
A11: Compresor 120 HP, con martillo. | D11: =+'equipos y transporte'!E13 -> 129858.75 | E11: 0.055 | F11: =+D11*E11 -> 7142.2313
A12: HERRAMIENTA MENOR (5%) | F12: =+G41*0.05 -> 101.95
F17: Sub-Total | G17: =ROUND(SUM(F10:F16),0) -> 26094
A18: II. MATERIALES EN OBRA
A19: Descripción | C19: Unidad | D19: Precio-Unit. | E19: Cantidad | F19: Valor-Unit.
A20: Derechos de explotación y/o disposición de materiales | C20: m3 | D20: =+insumos!E17 -> 10977.75 | E20: 1.3 | F20: =+D20*E20 -> 14271.075
F25: Sub-Total | G25: =ROUND(SUM(F20:F24),0) -> 14271
A26: III. TRANSPORTES
A27: Material | B27: Vol-peso ó Cant. | C27: Distancia | D27: M3-Km | E27: Tarifa | F27: Valor-Unit.
A28: TRANSPORTE DEL MATERIAL | B28: 1.3 | C28: =+escombro -> 15 | D28: =+B28*C28 -> 19.5 | E28: =+'equipos y transporte'!E32 -> 1672.9261 | F28: =+E28*D28 -> 32622.06
F32: Sub-Total | G32: =ROUND(SUM(F28:F31),0) -> 32622
A33: IV. MANO DE OBRA
A34: Trabajador | B34: Jornal | C34: Prestaciones | D34: Jornal Total | E34: Rendimiento | F34: Valor-Unit.
A35: OBREROS (2) | B35: =+jornal*2 -> 86666.667 | C35: 1.85 | D35: =+B35*1.85 -> 160333.33 | E35: =8/E10 -> 145.45455 | F35: =+D35/E35 -> 1102.2917
A36: OFICIAL | B36: =+ofic -> 73666.667 | C36: 1.85 | D36: =+B36*1.85 -> 136283.33 | E36: =8/E11 -> 145.45455 | F36: =+D36/E36 -> 936.94792
F41: Sub-Total | G41: =ROUND(SUM(F35:F40),0) -> 2039
D43: Total Costo Directo | G43: =ROUND((G17+G25+G32+G41),0) -> 75026
D46: Responsable | E46: VIANEY LARA

Sheet 610.2
A1: ANÁLISIS DE PRECIOS UNITARIOS | B1: MEJORAMIENTO DE LA VIA QUE COMUNICA LA VEREDA EL ENCANTO CON EL CORREGIMIENTO EL SILENCIO, MUNICIPIO DE CAREPA, DEPARTAMENTO DE ANTIOQUIA.
A5: CARRETERA : | B5: Via El Encanto - Corregimiento El Silencio | D5: ITEM | E5: 610.2 | F5: ESPECIFICACIÓN: | G5: 610-13
A6: ITEM: | B6: RELLENOS PARA ESTRUCTURAS CON RECEBO | F6: UNIDAD : | G6: m3
A8: I. EQUIPO
A9: Descripción | C9: Tipo | D9: Tarifa/Hora | E9: Rendimiento | F9: Valor-Unit.
A10: Compactador manual (saltarin) peso de operaciones (kg) 52, fuerza de impacto por golpe (KN) 12. | D10: =+'equipos y transporte'!E10 -> 11379.375 | E10: 2.2 | F10: =+D10/E10 -> 5172.4432
A12: HERRAMIENTA MENOR (5%) | F12: =+G41*0.05 -> 683.25
F17: Sub-Total | G17: =ROUND(SUM(F10:F16),0) -> 5856
A18: II. MATERIALES EN OBRA
A19: Descripción | C19: Unidad | D19: Precio-Unit. | E19: Cantidad | F19: Valor-Unit.
A20: Material de Recebo para relleno | C20: m3 | D20: =+insumos!E24 -> 25288.987 | E20: 1.3 | F20: =+D20*E20 -> 32875.684
A21: Agua | C21: lt | D21: =+insumos!E5 -> 111.375 | E21: 30 | F21: =+D21*E21 -> 3341.25
F25: Sub-Total | G25: =ROUND(SUM(F20:F24),0) -> 36217
A26: III. TRANSPORTES
A27: Material | B27: Vol-peso ó Cant. | C27: Distancia | D27: M3-Km | E27: Tarifa | F27: Valor-Unit.
A28: TRANSPORTE DEL MATERIAL | B28: 1.3 | C28: =+cantera -> 35 | D28: =+B28*C28 -> 45.5 | E28: =+'equipos y transporte'!E32 -> 1672.9261 | F28: =+E28*D28 -> 76118.139
F32: Sub-Total | G32: =ROUND(SUM(F28:F31),0) -> 76118
A33: IV. MANO DE OBRA
A34: Trabajador | B34: Jornal | C34: Prestaciones | D34: Jornal Total | E34: Rendimiento | F34: Valor-Unit.
A35: OBREROS (3) | B35: =+jornal*3 -> 130000 | C35: 1.85 | D35: =+B35*1.85 -> 240500 | E35: =8*2.2 -> 17.6 | F35: =+D35/E35 -> 13664.773
F41: Sub-Total | G41: =ROUND(SUM(F35:F40),0) -> 13665
D43: Total Costo Directo | G43: =G17+G25+G32+G41 -> 131856
D46: Responsable | E46: VIANEY LARA

Sheet 630.4
A1: ANÁLISIS DE PRECIOS UNITARIOS | B1: MEJORAMIENTO DE LA VIA QUE COMUNICA LA VEREDA EL ENCANTO CON EL CORREGIMIENTO EL SILENCIO, MUNICIPIO DE CAREPA, DEPARTAMENTO DE ANTIOQUIA.
A5: CARRETERA : Via El Encanto - Corregimiento El Silencio | D5: ITEM | E5: 630.4 | F5: ESPECIFICACIÓN: | G5: 630-13
A6: ITEM: Concreto Resistencia 21MPa (D) | F6: UNIDAD : | G6: m3
A8: I. EQUIPO
A9: Descripción | C9: Tipo | D9: Tarifa/Hora | E9: Rendimiento | F9: Valor-Unit.
A10: Aspersor manual | D10: =+'equipos y transporte'!E5 -> 3320.1 | E10: 2 | F10: =+D10/E10 -> 1660.05
A11: Vibrador de concreto, motor de 3hp a 18000 rpm, mangueras de 4m | D11: =+'equipos y transporte'!E24 -> 9103.5 | E11: 2 | F11: =+D11/E11 -> 4551.75
A12: Herramienta menor (5%MO) | F12: =+G40*5% -> 1929
F16: Sub-Total | G16: =ROUND(SUM(F10:F15),0) -> 8141
A17: II. MATERIALES EN OBRA
A18: Descripción | C18: Unidad | D18: Precio-Unit. | E18: Cantidad | F18: Valor-Unit.
A19: Concreto de resistencia 21Mpa | C19: m3 | D19: =+insumos!E16 -> 646227 | E19: 1.05 | F19: =+E19*D19 -> 678538.35
A20: Antisol (presentación 20kg) | C20: kg | D20: =+insumos!E7 -> 29122.537 | E20: 1.05 | F20: =+E20*D20 -> 30578.664
A21: Formaleta (gaviones, juntas de bordillos, juntas de cunetas, muros, concretos clase D, E, F y G) | C21: m2 | D21: =+insumos!E20 -> 18916.538 | E21: 5 | F21: =+E21*D21 -> 94582.688
F24: Sub-Total | G24: =ROUND(SUM(F19:F23),0) -> 803700
A25: III. TRANSPORTES
A26: Material | B26: Vol-peso ó Cant. | C26: Distancia | D26: M3-Km | E26: Tarifa | F26: Valor-Unit.
F31: Sub-Total | G31: =ROUND(SUM(F27:F30),0) -> 0
A32: IV. MANO DE OBRA
A33: Trabajador | B33: Jornal | C33: Prestaciones | D33: Jornal Total | E33: Rendimiento | F33: Valor-Unit.
A34: Obreros (6) | B34: =+jornal*6 -> 260000 | C34: 1.85 | D34: =+B34*C34 -> 481000 | E34: 16 | F34: =+D34/E34 -> 30062.5
A35: Oficial | B35: =+ofic -> 73666.667 | C35: 1.85 | D35: =+B35*C35 -> 136283.33 | E35: 16 | F35: =+D35/E35 -> 8517.7083
F40: Sub-Total | G40: =ROUND(SUM(F34:F39),0) -> 38580
D42: Total Costo Directo | G42: =ROUND((G16+G24+G31+G40),0) -> 850421
C47: Responsable | D47: VIANEY LARA

Sheet 640.1
A1: ANÁLISIS DE PRECIOS UNITARIOS | C1: MEJORAMIENTO DE LA VIA QUE COMUNICA LA VEREDA EL ENCANTO CON EL CORREGIMIENTO EL SILENCIO, MUNICIPIO DE CAREPA, DEPARTAMENTO DE ANTIOQUIA.
A5: CARRETERA : Via El Encanto - Corregimiento El Silencio | D5: ITEM | E5: 640.1 | F5: ESPECIFICACIÓN: | G5: 640-13
A6: ITEM: Acero de Refuerzo Fy 4200 Mpa | F6: UNIDAD : | G6: kg
A8: I. EQUIPO
A9: Descripción | C9: Tipo | D9: Tarifa/Hora | E9: Rendimiento | F9: Valor-Unit.
A10: Cizalla manual de 90 cm | D10: =+'equipos y transporte'!E9 -> 2945.25 | E10: 18 | F10: =+D10/E10 -> 163.625
A12: Herramienta menor (5%MO) | F12: =+G40*5% -> 75.15
F16: Sub-Total | G16: =ROUND(SUM(F10:F15),0) -> 239
A17: II. MATERIALES EN OBRA
A18: Descripción | C18: Unidad | D18: Precio-Unit. | E18: Cantidad | F18: Valor-Unit.
A19: Acero PDR-60 | C19: kg | D19: =+insumos!E3 -> 6171.4923 | E19: 1.055 | F19: =+E19*D19 -> 6510.9243
A20: Alambre Negro Para Amarre | C20: kg | D20: =+insumos!E6 -> 10307.04 | E20: 0.035 | F20: =+E20*D20 -> 360.74639
F24: Sub-Total | G24: =ROUND(SUM(F19:F23),0) -> 6872
A25: III. TRANSPORTES
A26: Material | B26: Vol-peso ó Cant. | C26: Distancia | D26: M3-Km | E26: Tarifa | F26: Valor-Unit.
A27: Transporte de acero | B27: 1.05 | C27: =+acero -> 20 | D27: =+B27*C27 -> 21 | E27: =+'equipos y transporte'!E27 -> 1.035 | F27: =+E27*D27 -> 21.735
F31: Sub-Total | G31: =ROUND(SUM(F27:F30),0) -> 22
A32: IV. MANO DE OBRA
A33: Trabajador | B33: Jornal | C33: Prestaciones | D33: Jornal Total | E33: Rendimiento | F33: Valor-Unit.
A34: Obreros | B34: =+jornal -> 43333.333 | C34: 1.85 | D34: =+B34*C34 -> 80166.667 | E34: =8*18 -> 144 | F34: =+D34/E34 -> 556.71296
A35: Oficial | B35: =+ofic -> 73666.667 | C35: 1.85 | D35: =+B35*C35 -> 136283.33 | E35: =8*18 -> 144 | F35: =+D35/E35 -> 946.41204
F40: Sub-Total | G40: =ROUND(SUM(F34:F39),0) -> 1503
D42: Total Costo Directo | G42: =G16+G24+G31+G40 -> 8636
B46: Responsable | C46: VIANEY LARA

Sheet 661.1
A1: ANÁLISIS DE PRECIOS UNITARIOS | C1: MEJORAMIENTO DE LA VIA QUE COMUNICA LA VEREDA EL ENCANTO CON EL CORREGIMIENTO EL SILENCIO, MUNICIPIO DE CAREPA, DEPARTAMENTO DE ANTIOQUIA.
A5: CARRETERA : | B5: Via El Encanto - Corregimiento El Silencio | D5: ITEM | E5: 661.1 | F5: ESPECIFICACIÓN: | G5: 661-13
A6: ITEM: | B6: Tuberia de Concreto Reforzado 21 Mpa de 900 mm de diametro interior | F6: UNIDAD : | G6: m
A8: I. EQUIPO
A9: Descripción | C9: Tipo | D9: Tarifa/Hora | E9: Rendimiento | F9: Valor-Unit.
A10: Retroexcavadora A25C | D10: =+'equipos y transporte'!E21 -> 196796.25 | E10: 2.5 | F10: =+D10/E10 -> 78718.5
A12: Herramienta menor (5%MO) | F12: =+G40*5% -> 1142.4
F16: Sub-Total | G16: =ROUND(SUM(F10:F15),0) -> 79861
A17: II. MATERIALES EN OBRA
A18: Descripción | C18: Unidad | D18: Precio-Unit. | E18: Cantidad | F18: Valor-Unit.
A19: Mortero 1:3 Para Anillos | C19: m3 | D19: =+insumos!E28 -> 608777 | E19: 0.025 | F19: =+E19*D19 -> 15219.425
A20: Materia para solado y atraque | C20: m3 | D20: =+insumos!E26 -> 48258.788 | E20: =0.46*1.05 -> 0.483 | F20: =+E20*D20 -> 23308.994
A21: Tubo concreto reforzado 900mm (tipo 1) | C21: m | D21: =+insumos!E36 -> 925103.02 | E21: 1.03 | F21: =+D21*E21 -> 952856.12
F24: Sub-Total | G24: =ROUND(SUM(F19:F23),0) -> 991385
A25: III. TRANSPORTES
A26: Material | B26: Vol-peso ó Cant. | C26: Distancia | D26: M3-Km | E26: Tarifa | F26: Valor-Unit.
A27: Transporte de tuberia de concreto Reforzado | B27: 0.28 | C27: 290 | D27: =+B27*C27 -> 81.2 | E27: 3.12 | F27: =+E27*D27 -> 253.344
A28: transporte de Material de Solado y Atraque Tuberi de concreto reforzado | B28: 0.46 | C28: =+cantera -> 35 | D28: =+B28*C28 -> 16.1 | E28: =+'equipos y transporte'!E33 -> 1672.9261 | F28: =+E28*D28 -> 26934.111
F31: Sub-Total | G31: =ROUND(SUM(F27:F30),0) -> 27187
A32: IV. MANO DE OBRA
A33: Trabajador | B33: Jornal | C33: Prestaciones | D33: Jornal Total | E33: Rendimiento | F33: Valor-Unit.
A34: Obreros (4) | B34: =+jornal*4 -> 173333.33 | C34: 1.85 | D34: =+B34*C34 -> 320666.67 | E34: =2.5*8 -> 20 | F34: =+D34/E34 -> 16033.333
A35: Oficial | B35: =+ofic -> 73666.667 | C35: 1.85 | D35: =+B35*C35 -> 136283.33 | E35: 20 | F35: =+D35/E35 -> 6814.1667
F40: Sub-Total | G40: =ROUND(SUM(F34:F39),0) -> 22848
D42: Total Costo Directo | G42: =ROUND((G16+G24+G31+G40),0) -> 1121281
D45: Responsable | E45: VIANEY LARA

Sheet 671.3
A1: ANÁLISIS DE PRECIOS UNITARIOS | B1: MEJORAMIENTO DE LA VIA QUE COMUNICA LA VEREDA EL ENCANTO CON EL CORREGIMIENTO EL SILENCIO, MUNICIPIO DE CAREPA, DEPARTAMENTO DE ANTIOQUIA.
A5: CARRETERA : Via El Encanto - Corregimiento El Silencio | D5: ITEM | E5: 671.3 | F5: ESPECIFICACIÓN: | G5: 671-13P
A6: ITEM: Cuneta de Concreto Vaciada In Situ; Incluye la conformacion de la superficie de apoyo | F6: UNIDAD : | G6: m3
A8: I. EQUIPO
A9: Descripción | C9: Tipo | D9: Tarifa/Hora | E9: Rendimiento | F9: Valor-Unit.
A10: Compactadora Manual vibratorio (rana) Con motor de 6 HP | D10: =+'equipos y transporte'!E11 -> 10843.875 | E10: 1.25 | F10: =+D10/E10 -> 8675.1
A11: =+'equipos y transporte'!C24 -> Vibrador de concreto, Motor de 3 hp a 18.000 rpm Mangueras de 4 mt | D11: =+'equipos y transporte'!E24 -> 9103.5 | E11: 1.25 | F11: =+D11/E11 -> 7282.8
A12: Herramienta menor (5%MO) | F12: =+G40*5% -> 2284.75
F16: Sub-Total | G16: =ROUND(SUM(F10:F15),0) -> 18243
A17: II. MATERIALES EN OBRA
A18: Descripción | C18: Unidad | D18: Precio-Unit. | E18: Cantidad | F18: Valor-Unit.
A19: Material seleccionado para Relleno | C19: m3 | D19: =+insumos!E27 -> 49710.93 | E19: 0.35 | F19: =+E19*D19 -> 17398.826
A20: Cemento asfaltico 60-70 | C20: kg | D20: =+insumos!E11 -> 3032.5729 | E20: 0.55 | F20: =+E20*D20 -> 1667.9151
A21: Concreto Resistencia 21 Mpa | C21: m3 | D21: =+insumos!E16 -> 646227 | E21: 1.015 | F21: =+D21*E21 -> 655920.4
A22: Formaleta (gaviones, juntas de bordillos, juntas de cunetas, muros, concretos clase D, E, F y G) | C22: m2 | D22: =+insumos!E20 -> 18916.538 | E22: 0.35 | F22: =+D22*E22 -> 6620.7881
F24: Sub-Total | G24: =ROUND(SUM(F19:F23),0) -> 681608
A25: III. TRANSPORTES
A26: Material | B26: Vol-peso ó Cant. | C26: Distancia | D26: M3-Km | E26: Tarifa | F26: Valor-Unit.
A27: Transporte de material seleccionado para relleno | B27: =+E19 -> 0.35 | C27: =+cantera -> 35 | D27: =+B27*C27 -> 12.25 | E27: =+'equipos y transporte'!E33 -> 1672.9261 | F27: =+E27*D27 -> 20493.345
A28: Transporte de cemento | B28: =+E20 -> 0.55 | C28: =+escombro -> 15 | D28: =+B28*C28 -> 8.25 | E28: =+'equipos y transporte'!E28 -> 1.2375 | F28: =+E28*D28 -> 10.209375
F31: Sub-Total | G31: =ROUND(SUM(F27:F30),0) -> 20504
A32: IV. MANO DE OBRA
A33: Trabajador | B33: Jornal | C33: Prestaciones | D33: Jornal Total | E33: Rendimiento | F33: Valor-Unit.
A34: Obreros (4) | B34: =+jornal*4 -> 173333.33 | C34: 1.85 | D34: =+B34*C34 -> 320666.67 | E34: =1.25*8 -> 10 | F34: =+D34/E34 -> 32066.667
A35: Oficial | B35: =+ofic -> 73666.667 | C35: 1.85 | D35: =+B35*C35 -> 136283.33 | E35: 10 | F35: =+D35/E35 -> 13628.333
F40: Sub-Total | G40: =ROUND(SUM(F34:F39),0) -> 45695
D42: Total Costo Directo | G42: =ROUND((G16+G24+G31+G40),0) -> 766050
C45: Responsable | D45: VIANEY LARA

Sheet 700.1
A1: ANÁLISIS DE PRECIOS UNITARIOS | D1: MEJORAMIENTO DE LA VIA QUE COMUNICA LA VEREDA EL ENCANTO CON EL CORREGIMIENTO EL SILENCIO, MUNICIPIO DE CAREPA, DEPARTAMENTO DE ANTIOQUIA.
A5: CARRETERA : | B5: Via El Encanto - Corregimiento El Silencio | E5: ITEM | F5: 700.1 | G5: ESPECIFICACIÓN: | H5: 700-13
A6: ITEM: | B6: LINEA DE DEMARCACION CON PINTURA EN FRIO | G6: UNIDAD : | H6: m
A8: I. EQUIPO
A9: Descripción | C9: Tipo | D9: Tarifa/Hora | E9: Rendimiento | F9: Valor-Unit.
A10: Camioneta D-300 | D10: =+'equipos y transporte'!E7 -> 67869.141 | E10: 550 | F10: =+D10/E10 -> 123.39844
A11: Vehiculo delineador | D11: =+'equipos y transporte'!E23 -> 202495.34 | E11: 550 | F11: =+D11/E11 -> 368.17335
A12: Herramienta menor (1%MO) | F12: =+G44*1% -> 0.86
F18: Sub-Total | G18: =ROUND(SUM(F10:F17),0) -> 492
A19: II. MATERIALES EN OBRA
A20: Descripción | C20: Unidad | D20: Precio-Unit. | E20: Cantidad | F20: Valor-Unit.
A21: Esferas reflectivas | C21: kg | D21: =+insumos!E19 -> 7710.1184 | E21: 0.048 | F21: =+D21*E21 -> 370.08568
A22: Pintura acrílica pura para tráfico | C22: gal | D22: =+insumos!E30 -> 167062.5 | E22: 0.015 | F22: =+D22*E22 -> 2505.9375
A23: Disolvente para pintura tráfico (acrílico) | C23: gal | D23: =+insumos!E18 -> 44638.403 | E23: 0.00045 | F23: =+D23*E23 -> 20.087281
F28: Sub-Total | G28: =ROUND(SUM(F21:F27),0) -> 2896
A29: III. TRANSPORTES
A30: Material | B30: Vol-peso ó Cant. | C30: Distancia | D30: M3-Km | E30: Tarifa | F30: Valor-Unit.
F35: Sub-Total | G35: =SUM(F31:F34) -> 0
A36: IV. MANO DE OBRA
A37: Trabajador | B37: Jornal | C37: Prestaciones | D37: Jornal Total | E37: Rendimiento | F37: Valor-Unit.
A38: Obreros (3) | B38: =+jornal*3 -> 130000 | C38: 1.85 | D38: =+B38*C38 -> 240500 | E38: =550*8 -> 4400 | F38: =+D38/E38 -> 54.659091
A39: Oficial | B39: =+ofic -> 73666.667 | C39: 1.85 | D39: =+B39*C39 -> 136283.33 | E39: =+E38 -> 4400 | F39: =+D39/E39 -> 30.973485
F44: Sub-Total | G44: =ROUND(SUM(F38:F43),0) -> 86
E46: Total Costo Directo | G46: =ROUND((G18+G28+G35+G44),0) -> 3474
E50: Responsable | F50: VIANEY LARA

Sheet 710.1
A1: ANÁLISIS DE PRECIOS UNITARIOS | D1: MEJORAMIENTO DE LA VIA QUE COMUNICA LA VEREDA EL ENCANTO CON EL CORREGIMIENTO EL SILENCIO, MUNICIPIO DE CAREPA, DEPARTAMENTO DE ANTIOQUIA.
A5: CARRETERA : | B5: Via El Encanto - Corregimiento El Silencio | E5: ITEM | F5: 710.1 | G5: ESPECIFICACIÓN: | H5: 710-13
A6: ITEM: | B6: SEÑAL VERTICAL DE TRANSITO TIPO 1 CON LAMINA RETRORREFLECTIVA TIPO III (75 X 75 ) cm | G6: UNIDAD : | H6: und
A8: I. EQUIPO
A9: Descripción | C9: Tipo | D9: Tarifa/Hora | E9: Rendimiento | F9: Valor-Unit.
A10: CAMIONETA D-300 | D10: =+'equipos y transporte'!E7 -> 67869.141 | E10: 3.5 | F10: =+D10/E10 -> 19391.183
A11: Herramienta menor (1%MO) | F11: =+G44*1% -> 134.57
F18: Sub-Total | G18: =ROUND(SUM(F10:F17),0) -> 19526
A19: II. MATERIALES EN OBRA
A20: Descripción | C20: Unidad | D20: Precio-Unit. | E20: Cantidad | F20: Valor-Unit.
A21: Poste de angulo de 2°2"1/4 de 3,5m para señal | C21: u | D21: =+insumos!E31 -> 165154.22 | E21: 1 | F21: =+D21*E21 -> 165154.22
A22: Señal (grupo 1). Tablero en lámina galvanizada de 75cm*75cm, calibre 16, reflectivo tipo1(incluye poste) | C22: u | D22: =+insumos!E33 -> 477130.5 | E22: 1 | F22: =+D22*E22 -> 477130.5
A23: Concreto Resistencia 14Mpa | C23: m3 | D23: =+insumos!E15 -> 574270 | E23: 0.0375 | F23: =+D23*E23 -> 21535.125
F28: Sub-Total | G28: =ROUND(SUM(F21:F27),0) -> 663820
A29: III. TRANSPORTES
A30: Material | B30: Vol-peso ó Cant. | C30: Distancia | D30: M3-Km | E30: Tarifa | F30: Valor-Unit.
F35: Sub-Total | G35: =ROUND(SUM(F31:F34),0) -> 0
A36: IV. MANO DE OBRA
A37: Trabajador | B37: Jornal | C37: Prestaciones | D37: Jornal Total | E37: Rendimiento | F37: Valor-Unit.
A38: Obreros (3) | B38: =+jornal*3 -> 130000 | C38: 1.85 | D38: =+B38*C38 -> 240500 | E38: =3.5*8 -> 28 | F38: =+D38/E38 -> 8589.2857
A39: Oficial | B39: =+ofic -> 73666.667 | C39: 1.85 | D39: =+B39*C39 -> 136283.33 | E39: 28 | F39: =+D39/E39 -> 4867.2619
F44: Sub-Total | G44: =ROUND(SUM(F38:F43),0) -> 13457
E46: Total Costo Directo | G46: =ROUND((G18+G28+G35+G44),0) -> 696803
E49: Responsable | F49: VIANEY LARA

Sheet 1010.1 PGIO 
B2: =+PRESUPUESTO!B1 -> MEJORAMIENTO DE LA VIA QUE COMUNICA LA VEREDA EL ENCANTO CON EL CORREGIMIENTO EL SILENCIO, MUNICIPIO DE CAREPA, DEPARTAMENTO DE ANTIOQUIA.
A5: P. PROGRAMA DE IMPLEMENTACION DEL PLAN DE GESTION INTEGRAL DE OBRA (PGIO)
A6: DESCRIPCIÓN | C6: UNIDAD | D6: VR. BASE | E6: CANTIDAD | F6: VALOR ($)
A7: 1. IMPLEMETACIÓN PGIO - EJE SST
B8: KIT DE PROTECCION SST - Y PMT
B9: Kit Elementos de protección El kit incluye: elementos de protección personal básicos por persona - personal operativo de los frentes de obra (incluye casco de seguridad, guantes de carnaza o guantes de caucho) | C9: UN | D9: 75000 | E9: 8 | F9: =ROUND(D9*E9,0) -> 600000
B10: Kit de Emergencias El Kit incluye: extintor de 10 lbs (señalización en acrílico de 22 cm x 15 de extintor), camilla rígida, reflectivos y botiquín con elementos necesarios) | C10: UN | D10: 385000 | E10: 1 | F10: =ROUND(D10*E10,0) -> 385000
B11: Kit señalización SST El kit incluye: señal de 15 x 15 cm - uso de EPP, sustancias peligrosas, ruta de evacuación, punto de encuentro, baños. | C11: UN | D11: 60000 | E11: 2 | F11: =ROUND(D11*E11,0) -> 120000
B12: Examen médico ocupacional de ingreso y egreso Examen de ingreso y egreso que incluye: agudeza visual, talla y peso, tensión arterial, serología para todo el personal excepto personal de trabajo en alturas. | C12: UN | D12: 92000 | E12: 10 | F12: =ROUND(D12*E12,0) -> 920000
A14: TOTAL IMPLEMETACIÓN PGIO - EJE SST POR EL TÉRMINO DE EJECUCIÓN | F14: =SUM(F8:F13) -> 2025000
A16: 2. IMPLEMETACION PGIO - EJE AMBIENTAL
B17: Profesional Socio Ambiental, (incluidos en la administración del proyecto) | C17: GLOBAL | D17: 0 | E17: 1 | F17: =D17*E17 -> 0
B18: Capacitación personal | C18: GLOBAL | D18: 75800 | E18: 16 | F18: =D18*E18 -> 1212800
B19: Volantes informativos publicitarios (color) | C19: GLOBAL | D19: 1650 | E19: 100 | F19: =D19*E19 -> 165000
B20: Delimitación con cinta los frentes de obra | C20: ML | D20: 1420 | E20: 300 | F20: =D20*E20 -> 426000
B21: Señalización tubular vial base negra rectangular | C21: GLOBAL | D21: 75000 | E21: 20 | F21: =D21*E21 -> 1500000
B22: Reuniones informativas a la comunidad | C22: GLOBAL | D22: 550000 | E22: 3 | F22: =D22*E22 -> 1650000
B23: Tramite permiso ambiental-compensación (Provisión en caso de ser requerido) | C23: GLOBAL | D23: =9296231*1.15 -> 10690666 | E23: 1 | F23: =ROUND(D23*E23,0) -> 10690666
A24: TOTAL IMPLEMETACIÓN PGIO - EJE AMBIENTAL POR EL TÉRMINO DE EJECUCIÓN | F24: =ROUND(SUM(F17:F23),0) -> 15644466
A26: 3. IMPLEMETACION PGIO - EJE CALIDAD
B27: Ensayos (Incluidos en la Administración del proyecto) | C27: gl | D27: 0 | E27: 1 | F27: =D27*E27 -> 0
B28: Generación de informes, impresión de información, adquisición de información, capacitaciones y mantenimiento del plan de implementación de PGIO eje de calidad. | C28: MES | D28: 275000 | E28: 5 | F28: =D28*E28 -> 1375000
A29: TOTAL IMPLEMETACIÓN PGIO - EJE CALIDAD | F29: =SUM(F27:F28) -> 1375000
A31: 4. IMPLEMENTACIÓN DE PLAN DE MANEJO DE TRÁNSITO
B32: SEÑAL DE TRÁNSITO SIO-01 "OBRA EN LA VÍA" | C32: UN | D32: 323191.15 | E32: 4 | F32: =D32*E32 -> 1292764.6
B33: SEÑAL DE TRÁNSITO SIO-02 "INICIO DE OBRA" | C33: UN | D33: 323191.15 | E33: 2 | F33: =D33*E33 -> 646382.3
B34: SEÑAL DE TRÁNSITO SIO-03 "FIN DE OBRA" | C34: UN | D34: 323191.15 | E34: 2 | F34: =D34*E34 -> 646382.3
B35: SEÑAL DE TRÁNSITO SIO-04 "CARRIL CERRADO" | C35: UN | D35: 323191.15 | E35: 2 | F35: =D35*E35 -> 646382.3
B36: SEÑAL DE TRÁNSITO SPO-01 "TRABAJOS EN LA VÍA" | C36: UN | D36: 323191.15 | E36: 2 | F36: =D36*E36 -> 646382.3
B37: SEÑAL DE TRÁNSITO SPO-02 "MAQUINARIA EN LA VÍA" | C37: UN | D37: 323191.15 | E37: 2 | F37: =D37*E37 -> 646382.3
B38: SEÑAL DE TRÁNSITO SPO-03 "AUXILIAR DE TRÁNSITO" | C38: UN | D38: 323191.15 | E38: 2 | F38: =D38*E38 -> 646382.3
B39: SEÑAL DE TRÁNSITO SPO-05 "ANGOSTAMIENTO A LA DERECHA" | C39: UN | D39: 323191.15 | E39: 1 | F39: =D39*E39 -> 323191.15
B40: SEÑAL DE TRÁNSITO SPO-06 "ANGOSTAMIENTO A LA IZQUIERDA" | C40: UN | D40: 323191.15 | E40: 1 | F40: =D40*E40 -> 323191.15
B41: SEÑAL DE TRÁNSITO SP-10 “CURVA Y CONTRA-CURVA PRONUNCIADA A LA DERECHA” | C41: UN | D41: 323191.15 | E41: 1 | F41: =D41*E41 -> 323191.15
B42: SEÑAL DE TRÁNSITO SP-33 "PREVENCIÓN DE CEDA EL PASO" | C42: UN | D42: 323191.15 | E42: 2 | F42: =D42*E42 -> 646382.3
B43: SEÑAL DE TRÁNSITO SR-02 "CEDA EL PASO" | C43: UN | D43: 323191.15 | E43: 2 | F43: =D43*E43 -> 646382.3
... B46: AUXILIAR DE TRÁNSITO (2) | C46: UN | D46: 4810000 | E46: 5 | F46: =D46*E46 -> 24050000
A48: TOTAL IMPLEMETACIÓN PGIO - PMT POR EL TÉRMINO DE EJECUCIÓN | F48: =ROUND(SUM(F32:F47),0) -> 32776161
A50: PGIO | F50: =ROUND((F14+F24+F29+F48),0) -> 51820627
B52: FIRMAS:
...

Sheet equipos y transporte
B2: CUADRO DE EQUIPOS
B3: Código | C3: Actividades | D3: unidad | E3: Precio guía
B4: EH | C4: EQUIPOS Y HERRAMIENTAS
B5: EH 01 | C5: Aspersor manual | D5: h | E5: 3320.1
B6: EH 02 | C6: Buldozer, Potencia al volante de 140 HP, motor de 2200 RPM, longitud de hoja 4,80m. | D6: h | E6: 289170
B7: EH 03 | C7: Camioneta D-300 | D7: h | E7: 67869.141
B8: EH 04 | C8: Carrotanque de agua(1000 Galones) | D8: h | E8: 105761.25
B9: EH 05 | C9: Cizalla manual de 90 cm. | D9: h | E9: 2945.25
B10: EH 06 | C10: Compactador manual (SALTARIN) Peso de operación (Kg.) 52, Fuerza de impacto por golpe (KN) 12. | D10: h | E10: 11379.375
B11: EH 07 | C11: COMPACTADOR MANUAL VIBRATORIO (RANA) con motor de 6 HP | D11: h | E11: 10843.875
B12: EH 08 | C12: Compresor (barrido y soplado) | D12: h | E12: 100406.25
B13: EH 09 | C13: Compresor 120 HP, con martillo. | D13: h | E13: 129858.75
B14: EH 10 | C14: Cortadora de pavimento, Máxima profundidad de corte: 160 mm. Capacidad de disco: desde 12´´ hasta 18´´ de diámetro. Peso operacional: 135 kg, 13.5 hp de potencia | D14: h | E14: 27042.75
B15: EH21 | C15: Equipo de soldadura 250 AMP | E15: 16065
B16: EH 11 | C16: Formaleta metálica (concreto hidráulico) | D16: h | E16: 1204.875
B17: EH 12 | C17: Formaleta metálica | D17: h | E17: 15592.5
A18: C0010550 | B18: EH 13 | C18: Mezcladora de concreto 1 bulto | D18: h | E18: 50625
B19: EH 14 | C19: Motoniveladora potencia 215 HP, ancho de cuchilla 4,27 m, peso 18 ton. | D19: h | E19: 334687.5
B20: EH 15 | C20: Regla vibratoria, de longitud de 3 a 5 m, motor de 3600 rpm, potencia 6 HP | D20: h | E20: 17637.21
B21: EH 16 | C21: Retroexcavadora A25C | D21: h | E21: 196796.25
B22: EH 17 | C22: Retroexcavadora sobre oruga, potencia 138 HP, balde de 1,5 m3. | D22: h | E22: 342720
B23: EH 18 | C23: Vehículo delineador | D23: h | E23: 202495.34
B24: EH 19 | C24: Vibrador de concreto, Motor de 3 hp a 18.000 rpm Mangueras de 4 mt | D24: h | E24: 9103.5
B25: EH 20 | C25: Vibrocompatador, potencia 153 HP, peso 10 Ton. | D25: h | E25: 166005
E26: 0
C27: Transporte de acero | D27: kg/km | E27: 1.035
A28: T2 | B28: T2 | C28: Transporte de cemento | D28: kg/km | E28: 1.2375
C29: Transporte de material de Demolicion | D29: m3/km | E29: 1672.9261
C30: Transporte de material Excavacion | D30: m3/km | E30: 1672.9261
A31: T5 | B31: t5 | C31: Transporte de Material Petreo | D31: m3/km | E31: 1672.9261
A32: T0010042 | B32: T0010042 | C32: Transporte de Material Triturado | D32: m3/km | E32: 1672.9261
C33: Transporte de Materiales | D33: m3/km | E33: 1672.9261
A34: T0010005 | C34: Transporte de Arena Lavada | D34: m3/km | E34: 1672.9261
E38: =+PRESUPUESTO!J44 -> 2611369266
E39: 359284176
E40: =+E38+E39 -> 2970653442

Sheet insumos
B1: LISTA DE INSUMOS
B2: Código | C2: ACTIVIDADES | D2: Unidad | E2: Valor Unitario
B3: A 01 | C3: Acero PDR-60 | D3: kg | E3: 6171.4923
A4: B0053100 | B4: A 02 | C4: Agregado para concreto hidráulico | D4: m3 | E4: 83939.625
A5: B0063200 | B5: A 03 | C5: Agua | D5: lt | E5: 111.375
B6: A 04 | C6: Alambre Negro Para Amarre | D6: kg | E6: 10307.04
B7: A 05 | C7: Antisol blanco (presentación 20 kg) | D7: kg | E7: 29122.537
A8: B0093350 | B8: A 06 | C8: Arena lavada | D8: m3 | E8: 80190
B9: A 07 | C9: Barras de transferencia de carga (3/4'') | D9: kg | E9: 6171.4923
B10: A 08 | C10: Barras de unión de 1/2´´ | D10: kg | E10: 6171.4923
B11: A 09 | C11: Cemento Asfaltico 60-70 | D11: kg | E11: 3032.5729
A12: B0100001 | B12: A 10 | C12: Cemento gris | D12: kg | E12: 835.3125
B13: A 11 | C13: Cintilla De Poliuretano (Sikarod) (Pavimentos De Concreto Hidráulico) | D13: m | E13: 1584.5987
B14: A 12 | C14: Concreto hidráulico para pavimento MR-3,8 | D14: m3 | E14: =(+'CONCRETOS Y MORTEROS '!J14) -> 699527
B15: A 13 | C15: Concreto Resistencia 14 (Mpa) | D15: m3 | E15: =(+'CONCRETOS Y MORTEROS '!J12) -> 574270
B16: A 14 | C16: Concreto Resistencia 21 (Mpa) | D16: m3 | E16: =(+'CONCRETOS Y MORTEROS '!J10) -> 646227
B17: A 15 | C17: Derechos de explotación y/o disposición de materiales | D17: m3 | E17: 10977.75
B18: A 16 | C18: Disolvente para pintura Trafico (acrílico) | D18: gal | E18: 44638.403
B19: A 17 | C19: Esferas reflectivas | D19: kg | E19: 7710.1184
B20: A 18 | C20: Formaleta (gaviones, juntas de bordillos, juntas de cunetas, muros, concretos clase D,E, F y G) | D20: m2 | E20: 18916.538
B21: A 19 | C21: Geotextil Nt - 2500 o similar (proveedores, Pavco, Geomatrix, Tensar, Omnes u otros) | D21: m2 | E21: 8629.0313
B22: A 20 | C22: Material Afirmado de la Zona | D22: m3 | E22: 96390
B23: A 21 | C23: Material drenante (3") | D23: m3 | E23: 67729.451
B24: A 22 | C24: Material de Recebo Para Relleno | D24: m3 | E24: 25288.987
B25: A 23 | C25: Material de Sub Base CBR | D25: m3 | E25: 77112
B26: A 24 | C26: Material para solado y atraque | D26: m3 | E26: 48258.788
B27: A 25 | C27: Material seleccionado para Relleno | D27: m3 | E27: 49710.93
B28: A 26 | C28: Mortero 1:3 Para Anillos | D28: m3 | E28: =+'CONCRETOS Y MORTEROS '!J17 -> 608777
A29: A 27 | B29: A 27 | C29: Piedra para concreto ciclópeo (rajón o canto rodado) | D29: m3 | E29: 67561.887
B30: A 28 | C30: Pintura acrílica pura para tráfico | D30: gal | E30: 167062.5
B31: A 29 | C31: Poste en ángulo de 2*2*1/4 de 3,5m para señal | D31: u | E31: 165154.22
B32: A 30 | C32: Sello de silicona o sellador autonivelante | D32: m | E32: 11502.129
B33: A 31 | C33: Señal (grupo 1). Tablero en lámina galvanizada de 75cm*75cm, calibre 16, reflectivo tipo 1/ incluye poste ) | D33: u | E33: 477130.5
C34: Soldadura 60-11 | D34: Kg | E34: 19950.241
C35: Tubo PVC | D35: m | E35: 2632.5
B36: A 32 | C36: Tubo concreto reforzado 900mm (tipo 1) | D36: m | E36: 925103.02
B37: A 33 | C37: Tubería perforada PVC de 4" | D37: m | E37: 22661.922
A38: M00035 | C38: Aceite de motor 4 tiempos | D38: gln | E38: 89100

Sheet salarios y prestaciones
C3: MEJORAMIENTO DE LA VIA QUE COMUNICA LA VEREDA EL ENCANTO CON EL CORREGIMIENTO EL SILENCIO, MUNICIPIO DE CAREPA, DEPARTAMENTO DE ANTIOQUIA.
B9: Sueldos y parafiscales personal por salario mínimo
F10: Jornal Ayud | G10: =+C17/30 -> 43333.333 | H10: Jornal Ofic | I10: =+jornal*1.7 -> 73666.667 | N10: SMMLV | O10: ST
B11: ENERO DE 2023 | M11: 2023 | N11: 1160000 | O11: 140606 | P11: =+N11+O11 -> 1300606
D12: =+C17*1.2 -> 1560000 | E12: =+C17*1.5 -> 1950000 | F12: =+E17*1.2 -> 2340000 | G12: =+F17*1.2 -> 2808000 | H12: =+G17*1.2 -> 3120000 | I12: =+H17*1.2 -> 3900000 | J12: =+I17*1.2 -> 4680000 | K12: =+J17*1.2 -> 5460000 | M12: 2024 | N12: 1300000 | O12: 166200 | P12: =+N12+O12 -> 1466200
B14: SALARIO ANUAL SMMLV | C14: 1 | D14: 1.2 | E14: 1.5 | F14: 1.8 | G14: 2 | H14: 2.5 | I14: 3 | J14: 3.5 | K14: 4
B15: AUX. TRANS ANUAL SIN DESC (B*12) | C15: =+C16*12 -> 1944000 | D15: =+D16*12 -> 1944000 | E15: =+E16*12 -> 1944000 | F15: =+F16*12 -> 1944000 | G15: =+G16*12 -> 1944000 | H15: =+H16*12 -> 0 | I15: =+I16*12 -> 0 | J15: =+J16*12 -> 0 | K15: =+K16*12 -> 0
B16: (B) AUX. TRANS MES | C16: 162000 | D16: =$C$16 -> 162000 | E16: =$C$16 -> 162000 | F16: =$C$16 -> 162000 | G16: =$C$16 -> 162000 | H16: 0 | I16: 0 | J16: 0 | K16: 0
B17: (A) SALARIO MES | C17: 1300000 | D17: =+$C$17*D14 -> 1560000 | E17: =+$C$17*E14 -> 1950000 | F17: =+$C$17*F14 -> 2340000 | G17: =+$C$17*G14 -> 2600000 | H17: =+$C$17*H14 -> 3250000 | I17: =+$C$17*I14 -> 3900000 | J17: =+$C$17*J14 -> 4550000 | K17: =+$C$17*K14 -> 5200000
B18: SUELDO ANUAL (Ax 12) | C18: =+ROUND(C17*12,0) -> 15600000 | D18: =+ROUND(D17*12,0) -> 18720000 | E18: =+ROUND(E17*12,0) -> 23400000 | F18: =+ROUND(F17*12,0) -> 28080000 | G18: =+ROUND(G17*12,0) -> 31200000 | H18: =+ROUND(H17*12,0) -> 39000000 | I18: =+ROUND(I17*12,0) -> 46800000 | J18: =+ROUND(J17*12,0) -> 54600000 | K18: =+ROUND(K17*12,0) -> 62400000
B19: (C ) CESANTÍAS (A+B)*10% | C19: =+ROUND((C18+C15)*0.1,0) -> 1754400 | D19: =+ROUND((D18+D15)*0.1,0) -> 2066400 | E19: =+ROUND((E18+E15)*0.1,0) -> 2534400 | F19: =+ROUND((F18+F15)*0.1,0) -> 3002400 | G19: =+ROUND((G18+G15)*0.1,0) -> 3314400 | H19: =+ROUND((H18+H15)*0.1,0) -> 3900000 | I19: =+ROUND((I18+I15)*0.1,0) -> 4680000 | J19: =+ROUND((J18+J15)*0.1,0) -> 5460000 | K19: =+ROUND((K18+K15)*0.1,0) -> 6240000
B20: VACACIONES (A+B) | C20: =+ROUND(C17/2,0) -> 650000 | D20: =+ROUND(D17/2,0) -> 780000 | E20: =+ROUND(E17/2,0) -> 975000 | F20: =+ROUND(F17/2,0) -> 1170000 | G20: =+ROUND(G17/2,0) -> 1300000 | H20: =+ROUND(H17/2,0) -> 1625000 | I20: =+ROUND(I17/2,0) -> 1950000 | J20: =+ROUND(J17/2,0) -> 2275000 | K20: =+ROUND(K17/2,0) -> 2600000
