Workbook
Name A_IMPRESIÓN_IM: #REF!
Name A_IMPRESIÓN_IM: #REF!
Name A_IMPRESIÓN_IM: #REF!
Name A_IMPRESIÓN_IM: #REF!
Name AD: #REF!
Name AD: #REF!
Name AD: #REF!
Name AD: #REF!
Name Área_de_Cantidades: #REF!
Name Área_de_Cantidades: #REF!
Name Área_de_Cantidades: #REF!
Name ASES: #REF!
Name ASES: #REF!
Name ASES: #REF!
Name bASE: #REF!
Name bASE: #REF!
Name bASE: #REF!
Name bASE: #REF!
Name Base_datos_IM: #REF!
Name Base_datos_IM: #REF!
Name Base_datos_IM: #REF!
Name Base_datos_IM: #REF!
Name BASE_DE_DATOS: #REF!
Name BASE_DE_DATOS: #REF!
Name BASE_DE_DATOS: #REF!
Name BASE_DE_DATOS: #REF!
Name BuiltIn_Print_Area: #REF!
Name BuiltIn_Print_Area: #REF!
Name BuiltIn_Print_Area: #REF!
Name BuiltIn_Print_Area___0: #REF!
Name BuiltIn_Print_Area___0: #REF!
Name BuiltIn_Print_Area___0: #REF!
Name BuiltIn_Print_Titles: #REF!
Name BuiltIn_Print_Titles: #REF!
Name BuiltIn_Print_Titles: #REF!
Name CALCULO: #REF!
Name CALCULO: #REF!
Name CALCULO: #REF!
Name CALCULO: #REF!
Name contrato: #REF!
Name contrato: #REF!
Name contrato: #REF!
Name COPIA1: #REF!
Name COPIA1: #REF!
Name COPIA1: #REF!
Name COPIA1: #REF!
Name COPIA2: #REF!
Name COPIA2: #REF!
Name COPIA2: #REF!
Name COPIA2: #REF!
Name CRIT1: #REF!
Name CRIT1: #REF!
Name CRIT1: #REF!
Name CRIT1: #REF!
Name Datos: #REF!
Name Datos: #REF!
Name Datos: #REF!
Name datos1: '[1]Base de Diseño'!$A$1:$D$204
Name datos2: '[2]Base de Diseño'!$AF$2:$AK$245
Name DATOS211111: #REF!

Sheet ESTUDIO DE MERCO LOTE 2 MOMPOX
B2: VILLAVICENCIO | D2: RIOHACHA | F2: STA MARTA | H2: BARRANCABERMEJA | J2: BUCARAMANGA | L2: VALLEDUPAR | N2: SAN ANDRES Y PROVIDENCIA
B3: CTO 19000994-H3- 2019 | D3: CTO 19000659--H3- 2019 LOTE 2 | F3: CTO 19000659-H3- 2019 LOTE 1 | H3: CTO 19000658-H3- 2019 LOTE 1 | J3: CTO 19000658-H3- 2019 LOTE 2 | L3: CTO 19000659-H3- 2019 LOTE 3 | N3: CTO 19000672-H3- 2019 | T3: Cotrato cuyp Objeto es:REALIZAR LA INTERVENTORIA INTEGRAL A LA REHABILITACION DE LA PISTA , MEJORAMIENTO ZONAS DESEGURIDAD ,CANALES , PLATAFORMA,Y MNTO
B4: 2019 | C4: ID-2020 | D4: 2019 | E4: ID-2020 | F4: 2019 | G4: ID-2020 | H4: 2019 | I4: ID-2020 | J4: 2019 | K4: ID-2020 | L4: 2019 | M4: ID-2020 | N4: 2019 | O4: ID-2020 | T4: VALLEDUPAR | V4: CTO 19001421-H3- 2019 | X4: RUTINARIO DE LAS AREAS LADO AIRE Y LADO TIERRA DEL AEROPUERTO….DEL 2019
V5: 2019 | W5: ID-2020
A6: D.I | B6: 4500000 | C6: =B6*(1+$M$15) -> 4671000 | D6: 5300000 | E6: =D6*(1+$M$15) -> 5501400 | F6: 4500000 | G6: =F6*(1+$M$15) -> 4671000 | H6: 6400000 | I6: =H6*(1+$M$15) -> 6643200 | J6: 5000000 | K6: =J6*(1+$M$15) -> 5190000 | L6: 4000000 | M6: =L6*(1+$M$15) -> 4152000 | N6: 5000000 | O6: =N6*(1+$M$15) -> 5190000 | V6: 2019 | W6: ID-2020
A7: I.A | C7: =B7*(1+$M$15) -> 0 | E7: =D7*(1+$M$15) -> 0 | G7: =F7*(1+$M$15) -> 0 | I7: =H7*(1+$M$15) -> 0 | K7: =J7*(1+$M$15) -> 0 | M7: =L7*(1+$M$15) -> 0 | O7: =N7*(1+$M$15) -> 0 | V7: 5000000 | W7: =V7*(1+$M$15) -> 5190000 | X7: RESIDENTE INTERVENTORIA
A8: SISOMA | C8: =B8*(1+$M$15) -> 0 | E8: =D8*(1+$M$15) -> 0 | G8: =F8*(1+$M$15) -> 0 | I8: =H8*(1+$M$15) -> 0 | K8: =J8*(1+$M$15) -> 0 | M8: =L8*(1+$M$15) -> 0 | O8: =N8*(1+$M$15) -> 0 | V8: 2500000 | W8: =V8*(1+$M$15) -> 2595000 | X8: INSPECTOR Y SISOMA
A9: O COSTOS | B9: 12000000 | C9: =B9*(1+$M$15) -> 12456000 | D9: 5600000 | E9: =D9*(1+$M$15) -> 5812800 | F9: 5600000 | G9: =F9*(1+$M$15) -> 5812800 | H9: 7000000 | I9: =H9*(1+$M$15) -> 7266000 | J9: 11200000 | K9: =J9*(1+$M$15) -> 11625600 | L9: 18027385 | M9: =L9*(1+$M$15) -> 18712426 | N9: 10150000 | O9: =N9*(1+$M$15) -> 10535700 | V9: 2400000 | W9: =V9*(1+$M$15) -> 2491200 | X9: TOPOGRAFO
A10: VIATICOS-RE | B10: 4150000 | C10: =B10*(1+$M$15) -> 4307700 | D10: 7400000 | E10: =D10*(1+$M$15) -> 7681200 | F10: 6200000 | G10: =F10*(1+$M$15) -> 6435600 | H10: 2050000 | I10: =H10*(1+$M$15) -> 2127900 | J10: 245000 | K10: =J10*(1+$M$15) -> 254310 | L10: 9561000 | M10: =L10*(1+$M$15) -> 9924318 | N10: 1450000 | O10: =N10*(1+$M$15) -> 1505100 | V10: 1700000 | W10: =V10*(1+$M$15) -> 1764600 | X10: CADENERO 1
B11: IPIALES | D11: CUCUTA | F11: PASTO | H11: POPAYAN | J11: ARMENIA | V11: 1500000 | W11: =V11*(1+$M$15) -> 1557000 | X11: CADENERO 2
B12: CTO 19000666-H3- 2019 LOTE 0 | D12: CTO 19000658-H3- 2019 LOTE 3 | F12: CTO 19000666-H3- 2019 LOTE 4 | H12: CTO 190006666-02-H3- 2019 LOTE 2 | J12: CTO 19000666-01-H3- 2019 | N12: PROMEDIO 2019 | P12: PROFESIONALES | S12: 2019 | T12: RIOHACHA | V12: CTO 19001458-H3- 2019
B13: 2019 | C13: ID-2020 | D13: 2019 | E13: ID-2020 | F13: 2019 | G13: ID-2020 | H13: 2019 | I13: ID-2020 | J13: 2019 | K13: ID-2020 | L13: ICSM 2017 | M13: 0.0443 | V13: 2019 | W13: ID-2020
A14: D.I | B14: 6000000 | C14: =B14*(1+$M$15) -> 6228000 | D14: 5200000 | E14: =D14*(1+$M$15) -> 5397600 | F14: 5100000 | G14: =F14*(1+$M$15) -> 5293800 | H14: 5200000 | I14: =H14*(1+$M$15) -> 5397600 | J14: 5600000 | K14: =J14*(1+$M$15) -> 5812800 | L14: ICSM 2018 | M14: 0.035 | N14: =+(I6+G6+E6)/3 -> 5605200 | P14: DIRECTOR DE INTERVENTORIA | V14: 5000000 | W14: =V14*(1+$M$15) -> 5190000 | X14: RESIDENTE INTERVENTORIA
A15: R.I | C15: =B15*(1+$M$15) -> 0 | D15: 4200000 | E15: =D15*(1+$M$15) -> 4359600 | G15: =F15*(1+$M$15) -> 0 | I15: =H15*(1+$M$15) -> 0 | K15: =J15*(1+$M$15) -> 0 | L15: ICSM 2019 | M15: 0.038 | N15: =+W14 -> 5190000 | P15: RESIDENTE DE INTERVENTORIA | V15: 2500000 | W15: =V15*(1+$M$15) -> 2595000 | X15: INSPECTOR Y SISOMA
A16: SISOMA | E16: =D16*(1+$M$15) -> 0 | G16: =F16*(1+$M$15) -> 0 | I16: =H16*(1+$M$15) -> 0 | K16: =J16*(1+$M$15) -> 0 | N16: =(V8+V15)/2 -> 2500000 | P16: SISOMA E INSPECTOR | V16: 2200000 | W16: =V16*(1+$M$15) -> 2283600 | X16: TOPOGRAFO
A17: O COSTOS | B17: 9800000 | C17: =B17*(1+$M$15) -> 10172400 | D17: 10500000 | E17: =D17*(1+$M$15) -> 10899000 | F17: 10150000 | G17: =F17*(1+$M$15) -> 10535700 | H17: 5600000 | I17: =H17*(1+$M$15) -> 5812800 | J17: 10500000 | K17: =J17*(1+$M$15) -> 10899000 | N17: =(V9+V16)/2 -> 2300000 | P17: TOPOGRAFO | V17: 1800000 | W17: =V17*(1+$M$15) -> 1868400 | X17: CADENERO 1
A18: VIATICOS-RE | B18: 3003000 | C18: =B18*(1+$M$15) -> 3117114 | D18: 1190000 | E18: =D18*(1+$M$15) -> 1235220 | F18: 2940000 | G18: =F18*(1+$M$15) -> 3051720 | H18: 6000000 | I18: =H18*(1+$M$15) -> 6228000 | J18: 1100000 | K18: =J18*(1+$M$15) -> 1141800 | L18: 8 | N18: =(V10+V17)/2 -> 1750000 | P18: CADENERO 1 | V18: 1800000 | W18: =V18*(1+$M$15) -> 1868400 | X18: CADENERO 2
N19: =(V11+V18)/2 -> 1650000 | P19: CADENERO 2 | T19: IBAGUE | V19: CTO 19001460-H3- 2019
N20: =+(E9+G9+I9)/3 -> 6297200 | P20: OTROS COSTOS | V20: 2019 | W20: ID-2020
I21: =N23/N14 -> 0.93518519 | J21: 0.04 | N21: OM | P21: VIATICOS-RESIDENTE | V21: 5600000 | W21: =V21*(1+$M$15) -> 5812800 | X21: RESIDENTE INTERVENTORIA
I22: =N24/N15 -> 1 | N22: 2020 | P22: PROFESIONALES | V22: 3000000 | W22: =V22*(1+$M$15) -> 3114000 | X22: SISOMA
I23: =N25/N16 -> 1.038 | N23: =(E6+G6+I6+M6)/4 -> 5241900 | P23: DIRECTOR DE INTERVENTORIA | V23: 3100000 | W23: =V23*(1+$M$15) -> 3217800 | X23: TOPOGRAFO
N24: =(W7+W14)/2 -> 5190000 | P24: RESIDENTE DE INTERVENTORIA | V24: 2000000 | W24: =V24*(1+$M$15) -> 2076000 | X24: CADENERO 1
N25: =(W8+W15)/2 -> 2595000 | P25: SISOMA | V25: 1600000 | W25: =V25*(1+$M$15) -> 1660800 | X25: CADENERO 2
I26: =N29/N20 -> 0.98517868 | J26: 0.18 | N26: =(W9+W16)/2 -> 2387400 | P26: TOPOGRAFO | T26: GUAYMARAL | V26: CTO 19001424-H3- 2019
N27: =(W10+W17)/2 -> 1816500 | P27: CADENERO 1 | V27: 2019 | W27: ID-2020
N28: =(W11+W18)/2 -> 1712700 | P28: CADENERO 2 | V28: 4000000 | W28: =V28*(1+$M$15) -> 4152000 | X28: RESIDENTE INTERVENTORIA
F29: INTERVENTORI | N29: 6203867.2 | P29: OTROS COSTOS | V29: 2100000 | W29: =V29*(1+$M$15) -> 2179800 | X29: SISOMA
V30: 2300000 | W30: =V30*(1+$M$15) -> 2387400 | X30: TOPOGRAFO
V31: 1300000 | W31: =V31*(1+$M$15) -> 1349400 | X31: CADENERO 1
X32: CADENERO 2
T33: FLORENCIA | V33: CTO 19001425-H3- 2019
V34: 2019 | W34: ID-2020
V35: 4200000 | W35: =V35*(1+$M$15) -> 4359600 | X35: RESIDENTE INTERVENTORIA
V36: 2800000 | W36: =V36*(1+$M$15) -> 2906400 | X36: SISOMA
V37: 2500000 | W37: =V37*(1+$M$15) -> 2595000 | X37: TOPOGRAFO
V38: 1200000 | W38: =V38*(1+$M$15) -> 1245600 | X38: CADENERO 1
V39: 1200000 | W39: =V39*(1+$M$15) -> 1245600 | X39: CADENERO 2
W93: VALLEDUUPr
W94: topogrfo | X94: 2400000
...

Sheet  VIATICOS LOTES 
B2: | | D2: OBJETORNCC0941“REALIZAR LA INTERVENTORÍA INTEGRAL AL MANTENIMIENTO LADO AIRE Y LADO TIERRA DE AEROPUERTOS REGIONAL ATLANTICO (POR LOTES) PUERTO SIMON BOLIVAR DE SANTA MARTA, MAGDALENA.”. LOTE 1: “REALIZAR LA INTERVENTORIA INTEGRAL AL MANTENIMIENTO LADO AIRE Y LADO TIERRA DEL AEROPUERTO SIMOMBOLIVSR DE SANTA MARTA MAGDALENA ”.
D6: FORMATO No. 7 ÍTEMS
B8: PRESUPUESTO.
B9: PRESUPUESTO OFICIAL
B10: Nº | C10: DESCRIPCION | J10: Suma dias que vallla | K10: Valor viaticos | L10: Gastos pasajes | M10: TOTALES
D11: MES 1 | E11: MES 2 | F11: MES 3 | G11: MES 4 | H11: MES 5 | I11: MES 6
B12: 1 | C12: RESIDENTE DE INTERVENTORIA MOMPOX | D12: 1 | E12: 1 | F12: 1 | G12: 1 | H12: 1 | I12: 1 | J12: 6 | K12: =+J12*2*M18 -> 3099840 | L12: =+M17*J12 -> 3642180 | M12: =K12+L12 -> 6742020 | P12: COMISIONES DE SERVICIO EN EL INTERIOR DEL PAÍS DECRETO 1013 DE 2019
B13: 1 | C13: RESIDENTE DE INTERVENTORIA SANTA MARTA | D13: 1 | E13: 1 | F13: 1 | G13: 1 | H13: 1 | I13: 1 | J13: 6 | K13: =J13*U19 -> 1549920 | L13: =M16*7 -> 3872470 | M13: =K13+L13 -> 5422390 | P13: BASE DE LIQUIDACIÓN | T13: VIÁTICOS DIARIOS EN PESOS
P14: Hasta | Q14: 0 | R14: a | S14: 1138856 | T14: Hasta | U14: 103291
M15: TRANSPORTE | P15: De | Q15: 1138856 | R15: a | S15: 1789604 | T15: Hasta | U15: 141166
L16: STA MARTA | M16: 553210 | P16: De | Q16: 1789604 | R16: a | S16: 2389756 | T16: Hasta | U16: 171283
L17: MOMPOX | M17: =547030+30000*2 -> 607030 | P17: De | Q17: 2389756 | R17: a | S17: 3031083 | T17: Hasta | U17: 199306
J18: VIATICOS SEGÚN DECRETO 1013 de 2019 | M18: =+U19 -> 258320 | P18: De | Q18: 3031083 | R18: a | S18: 3660661 | T18: Hasta | U18: 228866
P19: De | Q19: 3660661 | R19: a | S19: 5520831 | T19: Hasta | U19: 258320
P20: De | Q20: 5520831 | R20: a | S20: 7716221 | T20: Hasta | U20: 313769
P21: De | Q21: 7716221 | R21: a | S21: 9161941 | T21: Hasta | U21: 423275
J22: NOTA: | K22: Para llegar a Bogotá desde Mompox, se requiere transporte terrestre desde mompox - Valledupar $30000/ida | P22: De | Q22: 9161941 | R22: a | S22: 11278691 | T22: Hasta | U22: 550252
P23: De | Q23: 11278691 | R23: a | S23: 13638099 | T23: Hasta | U23: 665583
P24: De | Q24: 13638099 | R24: En adelante | T24: Hasta | U24: 783825
C27: SANTA MARTA
B37: (1) Cantidad de profesionales mínimos requeridos para la ejecucion del contrato de interventoria.
B38: (2) Factor de dedicación: porcentaje de dedicación de cada una de las personas que se proponen para la ejecución del contrato. El porcentaje máximo de 100% será asignado por el Proponente a la persona que se dedicará de tiempo completo. El proponente deberá cumplir con las dedicaciones exigidas en el pliego de condiciones para cada uno de los profesionales propuestos y aprobados, el cumplimiento de los servicios ofertados y el cumplimiento de las especificaciones técnicas de obra e interventoria y el avance de ejecución de la obra. Este factor puede variar de acuerdo a la dedicación efectiva en la ejecución del proyecto de los profesionales y los servicios incluidos en otros costos Directos. Para el respectivo pago deben ser debidamente justificados y soportados
B39: (3) Factor multiplicador: comprende arriendo oficinas, servicios públicos, las prestaciones sociales, horas extras, entre otros y demás gastos adicionales.
B40: (4) Salario mensual
B41: (5) En este factor se tiene en cuenta la dedicacion exigida a cada uno de los profesionales y el cumplimiento de los servicios ofertados de acuerdo con lo efectivamente ejecutado. Durante el periodo de ejecución de la interventoria y para efectos de pago, se tendrá en cuenta el porcentaje de avance de la obra de acuerdo con el cronograma de obra presentado y aprobado por la Entidad.
B42: (6) Costo total = (Cantidad X Dik X FM X Salario X Tiempo) / 100
B43: (7) El Personal con dedicación del 100% al Proyecto, debe residir en el lugar de ejecución de la obra, so pena de incurrir en falta grave a sus obligaciones, con la consecuente aplicación de las sanciones establecidas contractualmente.

Sheet |PLAN DE CARGAS LOTE 2
B2: | | E2: RNCC0941“REALIZAR LA INTERVENTORÍA INTEGRAL AL MANTENIMIENTO LADO AIRE Y LADO TIERRA DE AEROPUERTOS REGIONAL ATLANTICO (POR LOTES) LOTE 2: “REALIZAR LA INTERVENTORIA INTEGRAL AL MANTENIMIENTO LADO AIRE Y LADO TIERRA DEL AEROPUERTO SAN BERNARDO DE MOMPOX, BOLIVAR”
E6: FORMATO No. 7 ÍTEMS
B8: PRESUPUESTO.
B9: PRESUPUESTO OFICIAL
B10: Nº | C10: DESCRIPCION | E10: MES 1 | F10: MES 2 | G10: MES 3 | H10: MES 4 | I10: MES 5 | J10: MES 6 | K10: VALOR TOTAL | L10: Dedicación total en meses | M10: Dedicación Promedio en % | N10: SALARIO | O10: FACTOR MULTIPLICADOR | P10: COSTO TOTAL | Q10: 7
B11: 1 | C11: PERSONAL BASE DE INTERVENTORIA | D11: CANTIDAD
B12: 1.1 | C12: DIRECTOR DE INTERVENTORIA | D12: 1 | E12: 0.5 | F12: =+E12 -> 0.5 | G12: =+E12 -> 0.5 | H12: =+E12 -> 0.5 | I12: =+E12 -> 0.5 | J12: =+E12 -> 0.5 | K12: =ROUND(((+I12+J12+E12+F12+G12+H12)*$N12*$O12*D12),0) -> 36994320 | L12: =ROUND((+E12+F12+G12+H12+I12+J12),2) -> 3 | M12: =ROUND(AVERAGE(E12:J12),2) -> 0.5 | N12: =+'ESTUDIO DE MERCO LOTE 2 MOMPOX'!N14 -> 5605200 | O12: 2.2 | P12: =ROUND((+N12*O12*D12*L12),0) -> 36994320
B13: 1.2 | C13: RESIDENTE DE INTERVENTORIA | D13: 1 | E13: 1 | F13: 1 | G13: 1 | H13: 1 | I13: 1 | J13: 1 | K13: =ROUND(((+I13+J13+E13+F13+G13+H13)*$N13*$O13*D13),0) -> 68508000 | L13: =ROUND((+E13+F13+G13+H13+I13+J13),2) -> 6 | M13: =ROUND(AVERAGE(E13:J13),2) -> 1 | N13: =+'ESTUDIO DE MERCO LOTE 2 MOMPOX'!N15 -> 5190000 | O13: 2.2 | P13: =ROUND((+N13*O13*D13*L13),0) -> 68508000
B14: 1.3 | C14: INSPECTOR DE INTERVENTORIA | D14: 1 | E14: 1 | F14: 1 | G14: 1 | H14: 1 | I14: 1 | J14: 1 | K14: =ROUND(((+I14+J14+E14+F14+G14+H14)*$N14*$O14*D14),0) -> 33000000 | L14: =ROUND((+E14+F14+G14+H14+I14+J14),2) -> 6 | M14: =ROUND(AVERAGE(E14:J14),2) -> 1 | N14: =+'ESTUDIO DE MERCO LOTE 2 MOMPOX'!N16 -> 2500000 | O14: 2.2 | P14: =ROUND((+N14*O14*D14*L14),0) -> 33000000
B15: 1.4 | C15: INSPECTOR SISOMA | D15: 1 | E15: 1 | F15: 1 | G15: 1 | H15: 1 | I15: 1 | J15: 1 | K15: =ROUND(((+I15+J15+E15+F15+G15+H15)*$N15*$O15*D15),0) -> 33000000 | L15: =ROUND((+E15+F15+G15+H15+I15+J15),2) -> 6 | M15: =ROUND(AVERAGE(E15:J15),2) -> 1 | N15: =+'ESTUDIO DE MERCO LOTE 2 MOMPOX'!N16 -> 2500000 | O15: 2.2 | P15: =ROUND((+N15*O15*D15*L15),0) -> 33000000
B16: SUBTOTAL PERSONAL | P16: =ROUND(SUM(P12:P15),0) -> 171502320
B17: 2. | C17: INSUMOS PARA OFICINA,(MOBILIARIO, COMUNICACIONES, SISTEMAS, DOTACIONES, EDICION DE INFORMES, PAPELERIA, PLANOS, MEDIO MAGNETICO, DOCUMENTOS Y COPIAS) | E17: 1 | K17: =+'ESTUDIO DE MERCO LOTE 2 MOMPOX'!N20 -> 6297200 | L17: 6 | M17: 1 | N17: =+K17/6 -> 1049533.3 | P17: =N17*L17 -> 6297200
B18: 3 | C18: VIÁTICOS Y TIQUETES(Gastos de alojamiento, alimentación y transporte). | E18: 1 | K18: =+' VIATICOS LOTES '!M12 -> 6742020 | L18: 6 | M18: 1 | N18: =+K18/6 -> 1123670 | P18: =N18*L18 -> 6742020 | Q18: 39681 | S18: =480000000-P21 -> 260395567
B19: SUBTOTAL COSTOS DIRECTOS | P19: =ROUND((+P17+P18),0) -> 13039220
B20: IVA (19%) | P20: =ROUND((+P16*0.19+P19*0.19),0) -> 35062893
B21: TOTAL CONSULTORIA | P21: =ROUND(P20+P19+P16,0) -> 219604433

Sheet LOTE 2. OFERTA ECONOMICA MOMPOX
D2: Objeto: LOTE 2 “REALIZAR LA INTERVENTORIA INTEGRAL AL MANTENIMIENTO LADO AIRE Y LADO TIERRA DEL AEROPUERTO SAN BERNARDO DE MOMPOX, BOLIVAR”
D6: CONCURSO DE MERITOS No:
D7: FECHA:
B8: OFERTA ECONOMICA | D8: PROPONENTE:
B9: PRESUPUESTO OFICIAL
B10: Nº | C10: DESCRIPCION | D10: CANT | E10: DURACIÓN MESES | F10: DIK PROMEDIO | G10: SALARIO | H10: F.M | I10: VALOR TOTAL
B11: 1 | C11: PERSONAL SEGUIIMIENTO OBRA
B12: 1.1 | C12: DIRECTOR DE INTERVENTORIA | D12: 1 | E12: 6 | F12: =+'|PLAN DE CARGAS LOTE 2'!M12 -> 0.5
B13: 1.2 | C13: RESIDENTE DE INTERVENTORIA | D13: 1 | E13: 6 | F13: =+'|PLAN DE CARGAS LOTE 2'!M13 -> 1
B14: 1.3 | C14: INSPECTOR SISO | D14: 1 | E14: 6 | F14: =+'|PLAN DE CARGAS LOTE 2'!M15 -> 1
B15: SUBTOTAL PERSONAL
B16: 2 | C16: COSTOS INDIRECTOS | D16: UND | E16: CANT | G16: VALOR | I16: VALOR TOTAL
B17: 2.1 | C17: INSUMOS PARA OFICINA,(MOBILIARIO, COMUNICACIONES, SISTEMAS). ELEMENTOS DE PROTECCION COVID 19- INCLUYE ( Alcohol Anticéptico, Gel Antibacterial, hipoclorito, tapabocas reutilizable tela, Guantes de nitrilo, Área asilamiento, Termómetros, Entre otros). | D17: MES | E17: 6
B19: SUBTOTAL COSTOS INDIRECTOS
B21: SUBTOTAL COSTOS DIRECTOS
B22: IVA SOBRE TOTAL 19%
B23: TOTAL INTERVENTORIA
B25: "CANT" : Cantidad de profesionales mínimos requeridos para la ejecucion del contrato de interventoría.
B26: "DURACION": Tiempo estimado para la ejecución del contrato de interventoría. En caso de prorroga del contrato de obra sin adición en valor, la prorroga del contrato de interventoría se realizará sin adición en valor.
B27: "DIK PROMEDIO": Porcentaje de dedicación promedio de cada una de las personas que se proponen para la ejecución del contrato de interventoría. El porcentaje máximo de 100% será asignado por el Proponente a la persona que se dedicará de tiempo completo.
B28: "SALARIO": Pago mensual a los profesionales de la interventoría. El contratista se obliga a pagar el salario presentado en la oferta, durante el tiempo de ejecución del contrato de interventoría.
B29: "F.M": Comprende las prestaciones sociales, horas extras y demás gastos indirectos y/o adicionales.
B30: "VALOR TOTAL": PERSONAL : Cantidad X DuraciónX Dedicación (DIK) x Salario X FM / OTROS COSTOS DIRECTOS: Cantidad X Valor
B31: Nota: El Ingeniero Residente y el Inspector SISO con dedicación del 100% al Proyecto, deben residir en el lugar de ejecución de la obra, so pena de incurrir en falta grave a sus obligaciones, con la consecuente aplicación de las sanciones establecidas contractualmente.

Sheet PRESUPUESTO FINAL
B2: | | E2: RNCC0941“REALIZAR LA INTERVENTORÍA INTEGRAL AL MANTENIMIENTO LADO AIRE Y LADO TIERRA DE AEROPUERTOS REGIONAL ATLANTICO (POR LOTES) LOTE 1: “REALIZAR LA INTERVENTORIA INTEGRAL AL MANTENIMIENTO LADO AIRE Y LADO TIERRA DEL AEROPUERTO SIMON BOLIVAR DE SANTA MARTA, MAGDALENA.”. LOTE 2: “REALIZAR LA INTERVENTORIA INTEGRAL AL MANTENIMIENTO LADO AIRE Y LADO TIERRA DEL AEROPUERTO SAN BERNARDO DE MOMPOX, BOLIVAR”.
B8: PRESUPUESTO.
B9: PRESUPUESTO OFICIAL
B10: Nº | C10: DESCRIPCION | D10: CANT | E10: DIK | F10: F.M | G10: SALARIO | H10: TIEMPO (MES) | I10: COSTO TOTAL
J11: 21 | L11: 4 | M11: 17
B12: 1 | C12: PERSONAL MINIMO COMPLEMENTARIO | K12: DIK | L12: ETAPA 1 | M12: ETAPA 2 | O12: ETAPA 1 | P12: ETAPA 2
B13: 1.1 | C13: DIRECTOR DE INTERVENTORIA | D13: =+'|PLAN DE CARGAS LOTE 2'!D12 -> 1 | E13: =+'|PLAN DE CARGAS LOTE 2'!M12 -> 0.5 | F13: =+#REF! -> #REF! | G13: ='ESTUDIO DE MERCO LOTE 2 MOMPOX'!N14 -> 5605200 | H13: 7 | I13: =ROUND((+D13*E13*F13*G13*H13),0) -> #REF! | J13: =+F13/$J$11 -> #REF! | K13: =ROUND(J13,2) -> #REF! | L13: =SUM(#REF!)/$L$11 -> #REF! | M13: =SUM(#REF!)/$M$11 -> #REF! | O13: 0.030514985 | P13: 0.25422752 | Q13: =SUM(O13:P13) -> 0.28474251 | S13: PROMEDIO
B14: 1.2 | C14: RESIDENTE DE INTERVENTORIA | D14: 1 | E14: =+'|PLAN DE CARGAS LOTE 2'!M13 -> 1 | F14: =+#REF! -> #REF! | G14: ='ESTUDIO DE MERCO LOTE 2 MOMPOX'!N15 -> 5190000 | H14: 7 | I14: =ROUND((+D14*E14*F14*G14*H14),0) -> #REF! | J14: =+F14/$J$11 -> #REF! | K14: =ROUND(J14,2) -> #REF! | L14: =SUM(#REF!)/$L$11 -> #REF! | M14: =SUM(#REF!)/$M$11 -> #REF! | O14: 0.12205994 | P14: 0.84 | Q14: =SUM(O14:P14) -> 0.96205994 | S14: 8190347
B15: 1.3 | C15: SISOMA | D15: 1 | E15: =+'|PLAN DE CARGAS LOTE 2'!M15 -> 1 | F15: =+#REF! -> #REF! | G15: ='ESTUDIO DE MERCO LOTE 2 MOMPOX'!N16 -> 2500000 | H15: 7 | I15: =ROUND((+D15*E15*F15*G15*H15),0) -> #REF! | J15: =+F15/$J$11 -> #REF! | K15: =ROUND(J15,2) -> #REF! | L15: =SUM(#REF!)/$L$11 -> #REF! | M15: =SUM(#REF!)/$M$11 -> #REF! | O15: 0.022886239 | P15: 0.16948502 | Q15: =SUM(O15:P15) -> 0.19237125 | S15: 5050743
B16: SUBTOTAL PERSONAL | I16: =SUM(I13:I15) -> #REF!
B17: 2.0 | C17: OTROS COSTOS | D17: 7 | F17: UNIDAD | G17: =+'|PLAN DE CARGAS LOTE 2'!N17 -> 1049533.3 | I17: =G17*D17 -> 7346733.3
B18: 3.0 | C18: VIATICOS Y TIQUETES - | D18: 7 | F18: UNIDAD | G18: =+'|PLAN DE CARGAS LOTE 2'!N18 -> 1123670 | I18: =G18*D18 -> 7865690
B19: SUBTOTAL OTROS COSTOS DIRECTOS | I19: =SUM(I17:I18) -> 15212423 | K19: 1440000000
B20: IVA (19%) | I20: =(I19+I16)*0.19 -> #REF! | Q20: =(Q19+Q15)*0.19 -> 0.036550538
B21: TOTAL INTERVENTORIA | I21: =I20+I19+I16 -> #REF! | K21: =+K19-I21 -> #REF!
B23: (1) Cantidad de profesionales mínimos requeridos para la ejecucion del contrato de interventoria.
B24: (2) Factor de dedicación: porcentaje de dedicación de cada una de las personas que se proponen para la ejecución del contrato. El porcentaje máximo de 100% será asignado por el Proponente a la persona que se dedicará de tiempo completo. El proponente deberá cumplir con las dedicaciones exigidas en el pliego de condiciones para cada uno de los profesionales propuestos y aprobados, el cumplimiento de los servicios ofertados y el cumplimiento de las especificaciones técnicas de obra e interventoria y el avance de ejecución de la obra. Este factor puede variar de acuerdo a la dedicación efectiva en la ejecución del proyecto de los profesionales y los servicios incluidos en otros costos Directos. Para el respectivo pago deben ser debidamente justificados y soportados
B25: (3) Factor multiplicador: comprende arriendo oficinas, servicios públicos, las prestaciones sociales, horas extras, entre otros y demás gastos adicionales.
B26: (4) Salario mensual
B27: (5) En este factor se tiene en cuenta la dedicacion exigida a cada uno de los profesionales y el cumplimiento de los servicios ofertados de acuerdo con lo efectivamente ejecutado. Durante el periodo de ejecución de la interventoria y para efectos de pago, se tendrá en cuenta el porcentaje de avance de la obra de acuerdo con el cronograma de obra presentado y aprobado por la Entidad.
B28: (6) Costo total = (Cantidad X Dik X FM X Salario X Tiempo) / 100
B29: (7) El Personal con dedicación del 100% al Proyecto, debe residir en el lugar de ejecución de la obra, so pena de incurrir en falta grave a sus obligaciones, con la consecuente aplicación de las sanciones establecidas contractualmente.
I30: -1440000000

Sheet FORMATO 1
B2: | | E2: RNCC0941“REALIZAR LA INTERVENTORÍA INTEGRAL AL MANTENIMIENTO LADO AIRE Y LADO TIERRA DE AEROPUERTOS REGIONAL ATLANTICO (POR LOTES) LOTE 1: “REALIZAR LA INTERVENTORIA INTEGRAL AL MANTENIMIENTO LADO AIRE Y LADO TIERRA DEL AEROPUERTO SIMON BOLIVAR DE SANTA MARTA, MAGDALENA.”. LOTE 2: “REALIZAR LA INTERVENTORIA INTEGRAL AL MANTENIMIENTO LADO AIRE Y LADO TIERRA DEL AEROPUERTO SAN BERNARDO DE MOMPOX, BOLIVAR”.
B8: PRESUPUESTO.
B9: PRESUPUESTO OFICIAL
B10: Nº | C10: DESCRIPCION | D10: CANT | E10: DIK | F10: F.M | G10: SALARIO | H10: TIEMPO (MES) | I10: COSTO TOTAL
J11: 21 | L11: 4 | M11: 17
B12: 1 | C12: PERSONAL MINIMO COMPLEMENTARIO | K12: DIK | L12: ETAPA 1 | M12: ETAPA 2 | O12: ETAPA 1 | P12: ETAPA 2
B13: 1.1 | C13: DIRECTOR DE INTERVENTORIA | D13: 1 | J13: =+F13/$J$11 -> 0 | K13: =ROUND(J13,2) -> 0 | L13: =SUM(#REF!)/$L$11 -> #REF! | M13: =SUM(#REF!)/$M$11 -> #REF! | O13: 0.030514985 | P13: 0.25422752 | Q13: =SUM(O13:P13) -> 0.28474251 | S13: PROMEDIO
B14: 1.2 | C14: RESIDENTE DE INTERVENTORIA | D14: 1 | J14: =+F14/$J$11 -> 0 | K14: =ROUND(J14,2) -> 0 | L14: =SUM(#REF!)/$L$11 -> #REF! | M14: =SUM(#REF!)/$M$11 -> #REF! | O14: 0.12205994 | P14: 0.84 | Q14: =SUM(O14:P14) -> 0.96205994 | S14: 8190347
B15: 1.3 | C15: SISOMA | D15: 1
B16: SUBTOTAL PERSONAL
B17: 2.0 | C17: OTROS COSTOS | D17: =+#REF! -> #REF! | F17: UNIDAD
B18: 3.0 | C18: VIATICOS Y TIQUETES | D18: 1 | F18: GLOBAL
B19: SUBTOTAL OTROS COSTOS DIRECTOS | K19: 1440000000
B20: TOTAL INTERVENTORIA | K20: =+K19-I20 -> 1440000000
B22: (1) Cantidad de profesionales mínimos requeridos para la ejecucion del contrato de interventoria.
B23: (2) Factor de dedicación: porcentaje de dedicación de cada una de las personas que se proponen para la ejecución del contrato. El porcentaje máximo de 100% será asignado por el Proponente a la persona que se dedicará de tiempo completo. El proponente deberá cumplir con las dedicaciones exigidas en el pliego de condiciones para cada uno de los profesionales propuestos y aprobados, el cumplimiento de los servicios ofertados y el cumplimiento de las especificaciones técnicas de obra e interventoria y el avance de ejecución de la obra. Este factor puede variar de acuerdo a la dedicación efectiva en la ejecución del proyecto de los profesionales y los servicios incluidos en otros costos Directos. Para el respectivo pago deben ser debidamente justificados y soportados
B24: (3) Factor multiplicador: comprende arriendo oficinas, servicios públicos, las prestaciones sociales, horas extras, entre otros y demás gastos adicionales.
B25: (4) Salario mensual
B26: (5) En este factor se tiene en cuenta la dedicacion exigida a cada uno de los profesionales y el cumplimiento de los servicios ofertados de acuerdo con lo efectivamente ejecutado. Durante el periodo de ejecución de la interventoria y para efectos de pago, se tendrá en cuenta el porcentaje de avance de la obra de acuerdo con el cronograma de obra presentado y aprobado por la Entidad.
B27: (6) Costo total = (Cantidad X Dik X FM X Salario X Tiempo) / 100
B28: (7) El Personal con dedicación del 100% al Proyecto, debe residir en el lugar de ejecución de la obra, so pena de incurrir en falta grave a sus obligaciones, con la consecuente aplicación de las sanciones establecidas contractualmente.
I29: -1440000000
