Workbook
Name a1_Y1: [2]CONFIGURACIÓN!$D$17
Name a1_Y2: [2]CONFIGURACIÓN!$E$17
Name a10_Y10: [2]CONFIGURACIÓN!$M$26
Name a10_Y11: [2]CONFIGURACIÓN!$N$26
Name a2_Y2: [2]CONFIGURACIÓN!$E$18
Name a2_Y3: [2]CONFIGURACIÓN!$F$18
Name a3_Y3: [2]CONFIGURACIÓN!$F$19
Name a3_Y4: [2]CONFIGURACIÓN!$G$19
Name a4_Y4: [2]CONFIGURACIÓN!$G$20
Name a4_Y5: [2]CONFIGURACIÓN!$H$20
Name a5_Y5: [2]CONFIGURACIÓN!$H$21
Name a5_Y6: [2]CONFIGURACIÓN!$I$21
Name a6_Y6: [2]CONFIGURACIÓN!$I$22
Name a6_Y7: [2]CONFIGURACIÓN!$J$22
Name a7_Y7: [2]CONFIGURACIÓN!$J$23
Name a7_Y8: [2]CONFIGURACIÓN!$K$23
Name a8_Y8: [2]CONFIGURACIÓN!$K$24
Name a8_Y9: [2]CONFIGURACIÓN!$L$24
Name a9_Y10: [2]CONFIGURACIÓN!$M$25
Name a9_Y9: [2]CONFIGURACIÓN!$L$25
Name ALMUERZO: '[3]Resumen Preparaciones'!$C$52:$C$113
Name almuerzocena: '[3]Resumen Preparaciones'!$C$52:$C$141
Name año1: [2]CONFIGURACIÓN!$F$9
Name APLICA: #REF!
Name APLICA.: #REF!
Name bbb: [4]lista!$A$11:$A$13
Name CALENDARIO: [2]CALENDARIO!$B$6:$H$161
Name Calidad: [5]PERSONAL!$P$58
Name Campamento: [5]PERSONAL!$P$122
Name Comercio: [6]OCULTAR!$F$14:$G$17
Name Decision: [4]lista!$A$6:$A$7
Name dependencia: '[7]Datos Inciales'!$B$5:$B$30
Name desayuno: '[3]Resumen Preparaciones'!$C$5:$C$50
Name DESAYUNOS: '[3]Resumen Preparaciones'!$C$5:$C$33
Name Ensayos: [5]PERSONAL!$P$100
Name Estrategia: [8]Tablas!$F$2:$F$34
Name EUR: '[2]DATOS ENTRADA'!$E$2
Name fecha_fin_servicio: [2]CONFIGURACIÓN!$C$10
Name fecha_inicio_servicio: [2]CONFIGURACIÓN!$C$9
Name Fuente: [8]Tablas!$D$2:$D$10
Name FUENTES: '[7]Datos Inciales'!$B$40:$B$49
Name GRUPO: #REF!
Name horas_jornada: [2]CONFIGURACIÓN!$C$12
Name horas_ubicacion1: [2]CONFIGURACIÓN!$C$47
Name horas_ubicacion2: [2]CONFIGURACIÓN!$C$48
Name horas_ubicacion3: [2]CONFIGURACIÓN!$C$49
Name horas_ubicacion4: [2]CONFIGURACIÓN!$C$50
Name horas_ubicacion5: [2]CONFIGURACIÓN!$C$51
Name horas_ubicacion6: [2]CONFIGURACIÓN!$C$52
Name horas_ubicacion7: [2]CONFIGURACIÓN!$C$53
Name Info_Prazo_do_contrato: [9]Seletor!$C$13
Name IVASobreUtilidad: [5]IMPUESTOS!$E$16
Name lista_hnp: '[2]COSTES NO SSPP'!$B$24:$B$33
Name lista_lineas_reparto: '[2]HW&SW'!$C$314:$C$324
Name lista_localizaciones: [2]CONFIGURACIÓN!$B$47:$B$53
Name lista_paises: '[2]DATOS MAESTROS'!$B$13:$B$39
Name lista_perfiles_esp: [2]TASAS!$D$7:$D$198
Name lista_perfiles_resto: [2]TASAS!$B$330:$B$450
Name M: [6]OCULTAR!$B$14:$B$17
Name Manufacturero: [6]OCULTAR!$B$14:$C$17

Sheet OFERTA ECONÓMICA
D2: República de Colombia
D3: Instituto Colombiano de Antropología e Historia Proceso de Mínima Cuantía No. MC-ICANH-022-2024
D4: Formato oferta económica
B7: Objeto | D7: Prestar el servicio de mantenimiento, plantación y suministro de jardinería para las sedes del ICANH, inmuebles ubicados en la calle 12 # 2 – 41 y calle 12 b # 2 – 37 de la Bogotá D.C
B8: Nombre o Razón Social | H8: NIT
B9: Persona de contacto | H9: Teléfono celular
B10: Correo electrónico | H10: Teléfono fijo
B12: Instrucciones para el diligenciamiento de la oferta:
B14: • Por favor diligenciar solo las celdas en AZUL. • Los precios unitarios deberán ser expresado en PESOS COLOMBIANOS y en números enteros. • El formato contiene los insumos de costos estimados por el Instituto por lo tanto no se permite modificar, agregar o quitar ningún ítem o sub-ítem. • Para la estructuración de la propuesta por favor tener en cuenta el documento anexo "Ficha técnica" • Los precios deberán aproximarse por exceso o por defecto al entero más cercano así: (i) si es igual o superior a 50 centavos, se aproxima al entero siguiente; (ii) si es inferior a 50 centavos se baja al entero anterior. • Los precios unitarios deben contemplar todos los rubros requeridos para la adecuada prestación del servicio y el cumplimiento de las obligaciones contractuales. • Los precios unitarios ofertados no pueden superar los precios techo establecidos. • Ningún ítem de la propuesta económica debe ser diligenciado con cero (0), so pena de ser rechazada.
B16: Notas: (1) Tener en cuenta en el momento de ofertar, que el plazo de ejecución es estimado y podrá ser inferior. (2) Los valores unitarios deben incluir todos los costos y gastos directos e indirectos en que incurre el contratista durante la ejecución del contrato de acuerdo con las especificaciones de la ficha técnica, las obligaciones tributarias de acuerdo con las normas aplicables para el tipo de servicio y contrato correspondiente.
B18: Plazo de ejecución estimado (Nota 1) | D18: 3 meses
G21: PRECIO TECHO | I21: PRECIO OFERTADO
B22: INMUEBLE | C22: ITEM | D22: Detalle servicios (Nota 2) | E22: Unidad de Medida | F22: Cantidad | G22: PRECIO UNITARIO IVA INCLUIDO | H22: PRECIO TOTAL IVA INCLUIDO | I22: PRECIO UNITARIO IVA INCLUIDO | J22: PRECIO TOTAL IVA INCLUIDO
B23: 1. Inmueble ubicado en la calle 12 # 2-41 - CASA MISIONAL | C23: 1.1 | D23: Servicio de mantenimiento para el jardín vertical y jardineras 1 y 2, incluye: el servicio mensual de podas del césped y árboles, corte de hiedras, entre otro material vegetativo existente y renovado, abonamiento del terreno, riego y fertilización, reparación de raíces, replantar jardín, soportes con los respectivos insumos como: abonos, herramienta menor, fertilizantes, mangueras, surtidores, etc. Por un periodo de tres (3) meses, un servicio por mes. | E23: MES | F23: 3 | G23: 935027 | H23: =F23*G23 -> 2805081 | J23: =ROUND(I23*F23,0) -> 0
C24: 1.2 | D24: Mantenimiento y puesta y funcionamiento de la bomba dosificadora para jardín vertical, existente. Incluye suministro de batería. | E24: UN | F24: 1 | G24: 503100 | H24: =F24*G24 -> 503100 | J24: =ROUND(I24*F24,0) -> 0
C25: 1.3 | D25: Mantenimiento y puesta en funcionamiento del sistema de riesgo existente en maguera de ½ pulgada | E25: ML | F25: 90 | G25: 20335 | H25: =F25*G25 -> 1830150 | J25: =ROUND(I25*F25,0) -> 0
C26: 1.4 | D26: Plantar hiedras y siete cueros rastrero en coordinación con el diseño existente. | E26: UN | F26: 50 | G26: 15998 | H26: =F26*G26 -> 799900 | J26: =ROUND(I26*F26,0) -> 0
B27: 2. Inmueble ubicado en la calle 12 B # 2-37 - EDIFICIO NUEVA SEDE | C27: 2.1 | D27: Suministro y plantación de una especie jerarquica de mayor altura tipo: Agabe, Palma zica, cheflera, Helecho palma, palma carey, Aves del paraíso, palma carey roja, Bamboo, Cauchos, Drasena, Alocacia morada y/o similar. Las jardineras metálicas serán ubicadas en las terrazas de acuerdo con la indicación del supervisor. | E27: UN | F27: 50 | G27: 43266 | H27: =F27*G27 -> 2163300 | J27: =ROUND(I27*F27,0) -> 0
C28: 2.2 | D28: Suministro y plantación de tres especies en la base, alrededor de la planta jerárquica, tipo: Repolla, abrecaminos, afelandras, trasdescantias y/o similar. | E28: UN | F28: 150 | G28: 23137 | H28: =F28*G28 -> 3470550 | J28: =ROUND(I28*F28,0) -> 0
C29: 2.3 | D29: Servicio de mantenimiento post-siembra de las 50 jardineras, incluye el servicio mensual de podas del césped y árboles, corte de hiedras, entre otro material vegetativo existente y renovado, abonamiento del terreno, riego y fertilización, reparación de raíces, resiembras de jardín, soportes con los respectivos insumos como: abonos, herramienta menor, fertilizantes, mangueras, surtidores, etc. Por un periodo de tres (3) meses, un servicio cada 15 días. (6 servicios). | E29: Quincenal | F29: 6 | G29: 1191783 | H29: =F29*G29 -> 7150698 | J29: =ROUND(I29*F29,0) -> 0
C30: 2.4 | D30: Suministro e instalación de grava decorativa en cada una de las macetas, color a elegir por parte del supervisor en el momento de la instalación. | E30: UN | F30: 50 | G30: 35367 | H30: =F30*G30 -> 1768350 | J30: =ROUND(I30*F30,0) -> 0
B31: PRECIO TOTAL IVA INCLUIDO | H31: =SUM(H23:H30) -> 20491129 | J31: =SUM(J23:J30) -> 0
B43: FIRMA DEL REPRESENTANTE LEGAL
B44: C.C.

Sheet Ofertas Recibidas
C1: República de Colombia
C2: Instituto Colombiano de Antropología e Historia Proceso de Mínima Cuantía No. MC-ICANH-022-2024
C3: OFERTAS RECIBIDAS
A5: Objeto | C5: Prestar el servicio de mantenimiento, plantación y suministro de jardinería para las sedes del ICANH, inmuebles ubicados en la calle 12 # 2 – 41 y calle 12 b # 2 – 37 de la Bogotá D.C
A7: Oferta | B7: EMPRESA | F7: VALOR OFERTADO | H7: OBSERVACIÓN | I7: NOTA
A8: Oferta 1 | B8: =+'Oferta 1 AGAC'!D8 -> AGAC CONSTRUCCIÓN & SERVICIOS DE INGENIERÍA S.A.S | F8: =+'Oferta 1 AGAC'!XFA31 -> 16387100 | H8: =+'Oferta 1 AGAC'!XFB31 -> CUMPLE
A9: Oferta 2 | B9: =+'Oferta 2 BGT'!D8 -> BGT CONSTRUCCIONES SAS | F9: =+'Oferta 2 BGT'!XFA31 -> 20081268 | H9: =+'Oferta 2 BGT'!XFB31 -> CUMPLE | I9: Se realiza corrección aritmética
A10: Oferta 3 | B10: =+'Oferta 3 Ecoprados'!D8 -> Ecoprados Ambientales SAS | F10: =+'Oferta 3 Ecoprados'!XFA31 -> 18835000 | H10: =+'Oferta 3 Ecoprados'!XFB31 -> CUMPLE
A11: Oferta 4 | B11: =+'Oferta 4 Fumi Espray'!D8 -> FUMI ESPRAYSAS | F11: =+'Oferta 4 Fumi Espray'!XFA31 -> 16578434 | H11: =+'Oferta 4 Fumi Espray'!XFB31 -> CUMPLE
A12: Oferta 5 | B12: =+'Oferta 5 Ingresos'!D8 -> INGENIERIA Y GESTION PARA EL DESARROLLO SOSTENIBLE SAS (INGESOS SAS) | F12: =+'Oferta 5 Ingresos'!XFA31 -> 16910000 | H12: =+'Oferta 5 Ingresos'!XFB31 -> CUMPLE
A13: Oferta 6 | B13: =+'Oferta 6 M&C'!D8 -> M&C CONSTRUCCIONES Y SERVICIOS S.A.S | F13: =+'Oferta 6 M&C'!XFA31 -> 15882100 | H13: =+'Oferta 6 M&C'!XFB31 -> CUMPLE
A14: Oferta 7 | B14: =+'Oferta 7 Obras Civiles'!D8 -> OBRAS CIVILES INTEGRALES SAS | F14: =+'Oferta 7 Obras Civiles'!XFA31 -> 19261871 | H14: =+'Oferta 7 Obras Civiles'!XFB31 -> CUMPLE
A15: Oferta 8 | B15: =+'Oferta 8 RH'!D8 -> RH-ARQUITECTURA & C. SAS | F15: =+'Oferta 8 RH'!XFA31 -> 13050000 | H15: =+'Oferta 8 RH'!XFB31 -> CUMPLE
A16: Oferta 9 | B16: =+'Oferta 9 SIENSAS'!D8 -> Sistema Integrado de energias naturales | F16: =+'Oferta 9 SIENSAS'!XFA31 -> 17491000 | H16: =+'Oferta 9 SIENSAS'!XFB31 -> CUMPLE

Sheet Posiciones
B1: República de Colombia
B2: Instituto Colombiano de Antropología e Historia Proceso de Mínima Cuantía No. MC-ICANH-022-2024
B3: Posiciones
A5: Objeto | B5: Prestar el servicio de mantenimiento, plantación y suministro de jardinería para las sedes del ICANH, inmuebles ubicados en la calle 12 # 2 – 41 y calle 12 b # 2 – 37 de la Bogotá D.C
A7: Posición | B7: Oferta | C7: EMPRESA | D7: VALOR OFERTADO
A8: Posición 1 | B8: Oferta 8 | C8: =+'Oferta 8 RH'!D8 -> RH-ARQUITECTURA & C. SAS | D8: =+'Oferta 8 RH'!XFA31 -> 13050000
A9: Posición 2 | B9: Oferta 6 | C9: =+'Oferta 6 M&C'!D8 -> M&C CONSTRUCCIONES Y SERVICIOS S.A.S | D9: =+'Oferta 6 M&C'!XFA31 -> 15882100
A10: Posición 3 | B10: Oferta 1 | C10: =+'Oferta 1 AGAC'!D8 -> AGAC CONSTRUCCIÓN & SERVICIOS DE INGENIERÍA S.A.S | D10: =+'Oferta 1 AGAC'!XFA31 -> 16387100
A11: Posición 4 | B11: Oferta 4 | C11: =+'Oferta 4 Fumi Espray'!D8 -> FUMI ESPRAYSAS | D11: =+'Oferta 4 Fumi Espray'!XFA31 -> 16578434
A12: Posición 5 | B12: Oferta 5 | C12: =+'Oferta 5 Ingresos'!D8 -> INGENIERIA Y GESTION PARA EL DESARROLLO SOSTENIBLE SAS (INGESOS SAS) | D12: =+'Oferta 5 Ingresos'!XFA31 -> 16910000
A13: Posición 6 | B13: Oferta 9 | C13: =+'Oferta 9 SIENSAS'!D8 -> Sistema Integrado de energias naturales | D13: =+'Oferta 9 SIENSAS'!XFA31 -> 17491000
A14: Posición 7 | B14: Oferta 3 | C14: =+'Oferta 3 Ecoprados'!D8 -> Ecoprados Ambientales SAS | D14: =+'Oferta 3 Ecoprados'!XFA31 -> 18835000
A15: Posición 8 | B15: Oferta 7 | C15: =+'Oferta 7 Obras Civiles'!D8 -> OBRAS CIVILES INTEGRALES SAS | D15: =+'Oferta 7 Obras Civiles'!XFA31 -> 19261871
A16: Posición 9 | B16: Oferta 2 | C16: =+'Oferta 2 BGT'!D8 -> BGT CONSTRUCCIONES SAS | D16: =+'Oferta 2 BGT'!XFA31 -> 20081268

Sheet Oferta 1 AGAC
D2: República de Colombia
D3: Instituto Colombiano de Antropología e Historia Proceso de Mínima Cuantía No. MC-ICANH-022-2024
D4: Formato oferta económica
B7: Objeto | D7: Prestar el servicio de mantenimiento, plantación y suministro de jardinería para las sedes del ICANH, inmuebles ubicados en la calle 12 # 2 – 41 y calle 12 b # 2 – 37 de la Bogotá D.C
B8: Nombre o Razón Social | D8: AGAC CONSTRUCCIÓN & SERVICIOS DE INGENIERÍA S.A.S | H8: NIT | I8: 901.146.852-4
B9: Persona de contacto | D9: EDNA LIZETH ARIAS SALCEDO | H9: Teléfono celular | I9: 3124176668
B10: Correo electrónico | D10: comercial.agac@gmail.com | H10: Teléfono fijo | I10: 6017160710
B12: Instrucciones para el diligenciamiento de la oferta:
B14: • Por favor diligenciar solo las celdas en AZUL. • Los precios unitarios deberán ser expresado en PESOS COLOMBIANOS y en números enteros. • El formato contiene los insumos de costos estimados por el Instituto por lo tanto no se permite modificar, agregar o quitar ningún ítem o sub-ítem. • Para la estructuración de la propuesta por favor tener en cuenta el documento anexo "Ficha técnica" • Los precios deberán aproximarse por exceso o por defecto al entero más cercano así: (i) si es igual o superior a 50 centavos, se aproxima al entero siguiente; (ii) si es inferior a 50 centavos se baja al entero anterior. • Los precios unitarios deben contemplar todos los rubros requeridos para la adecuada prestación del servicio y el cumplimiento de las obligaciones contractuales. • Los precios unitarios ofertados no pueden superar los precios techo establecidos. • Ningún ítem de la propuesta económica debe ser diligenciado con cero (0), so pena de ser rechazada.
B16: Notas: (1) Tener en cuenta en el momento de ofertar, que el plazo de ejecución es estimado y podrá ser inferior. (2) Los valores unitarios deben incluir todos los costos y gastos directos e indirectos en que incurre el contratista durante la ejecución del contrato de acuerdo con las especificaciones de la ficha técnica, las obligaciones tributarias de acuerdo con las normas aplicables para el tipo de servicio y contrato correspondiente.
B18: Plazo de ejecución estimado (Nota 1) | D18: 3 meses
G21: PRECIO TECHO | I21: PRECIO OFERTADO | XEZ21: CORRECIÓN ARITMÉTICA
B22: INMUEBLE | C22: ITEM | D22: Detalle servicios (Nota 2) | E22: Unidad de Medida | F22: Cantidad | G22: PRECIO UNITARIO IVA INCLUIDO | H22: PRECIO TOTAL IVA INCLUIDO | I22: PRECIO UNITARIO IVA INCLUIDO | J22: PRECIO TOTAL IVA INCLUIDO | XEZ22: PRECIO UNITARIO IVA INCLUIDO | XFA22: PRECIO TOTAL IVA INCLUIDO | XFB22: CUMPLE/NO CUMPLE
B23: 1. Inmueble ubicado en la calle 12 # 2-41 - CASA MISIONAL | C23: 1.1 | D23: Servicio de mantenimiento para el jardín vertical y jardineras 1 y 2, incluye: el servicio mensual de podas del césped y árboles, corte de hiedras, entre otro material vegetativo existente y renovado, abonamiento del terreno, riego y fertilización, reparación de raíces, replantar jardín, soportes con los respectivos insumos como: abonos, herramienta menor, fertilizantes, mangueras, surtidores, etc. Por un periodo de tres (3) meses, un servicio por mes. | E23: MES | F23: 3 | G23: 935027 | H23: =F23*G23 -> 2805081 | I23: 748000 | J23: =ROUND(I23*F23,0) -> 2244000 | XEZ23: =+ROUND(I23,0) -> 748000 | XFA23: =+XEZ23*F23 -> 2244000 | XFB23: =+IF(XEZ23>G23,"No cumple","CUMPLE") -> CUMPLE
C24: 1.2 | D24: Mantenimiento y puesta y funcionamiento de la bomba dosificadora para jardín vertical, existente. Incluye suministro de batería. | E24: UN | F24: 1 | G24: 503100 | H24: =F24*G24 -> 503100 | I24: 402400 | J24: =ROUND(I24*F24,0) -> 402400 | XEZ24: =+ROUND(I24,0) -> 402400 | XFA24: =+XEZ24*F24 -> 402400 | XFB24: =+IF(XEZ24>G24,"No cumple","CUMPLE") -> CUMPLE
C25: 1.3 | D25: Mantenimiento y puesta en funcionamiento del sistema de riesgo existente en maguera de ½ pulgada | E25: ML | F25: 90 | G25: 20335 | H25: =F25*G25 -> 1830150 | I25: 16250 | J25: =ROUND(I25*F25,0) -> 1462500 | XEZ25: =+ROUND(I25,0) -> 16250 | XFA25: =+XEZ25*F25 -> 1462500 | XFB25: =+IF(XEZ25>G25,"No cumple","CUMPLE") -> CUMPLE
C26: 1.4 | D26: Plantar hiedras y siete cueros rastrero en coordinación con el diseño existente. | E26: UN | F26: 50 | G26: 15998 | H26: =F26*G26 -> 799900 | I26: 12750 | J26: =ROUND(I26*F26,0) -> 637500 | XEZ26: =+ROUND(I26,0) -> 12750 | XFA26: =+XEZ26*F26 -> 637500 | XFB26: =+IF(XEZ26>G26,"No cumple","CUMPLE") -> CUMPLE
B27: 2. Inmueble ubicado en la calle 12 B # 2-37 - EDIFICIO NUEVA SEDE | C27: 2.1 | D27: Suministro y plantación de una especie jerarquica de mayor altura tipo: Agabe, Palma zica, cheflera, Helecho palma, palma carey, Aves del paraíso, palma carey roja, Bamboo, Cauchos, Drasena, Alocacia morada y/o similar. Las jardineras metálicas serán ubicadas en las terrazas de acuerdo con la indicación del supervisor. | E27: UN | F27: 50 | G27: 43266 | H27: =F27*G27 -> 2163300 | I27: 34600 | J27: =ROUND(I27*F27,0) -> 1730000 | XEZ27: =+ROUND(I27,0) -> 34600 | XFA27: =+XEZ27*F27 -> 1730000 | XFB27: =+IF(XEZ27>G27,"No cumple","CUMPLE") -> CUMPLE
C28: 2.2 | D28: Suministro y plantación de tres especies en la base, alrededor de la planta jerárquica, tipo: Repolla, abrecaminos, afelandras, trasdescantias y/o similar. | E28: UN | F28: 150 | G28: 23137 | H28: =F28*G28 -> 3470550 | I28: 18500 | J28: =ROUND(I28*F28,0) -> 2775000 | XEZ28: =+ROUND(I28,0) -> 18500 | XFA28: =+XEZ28*F28 -> 2775000 | XFB28: =+IF(XEZ28>G28,"No cumple","CUMPLE") -> CUMPLE
C29: 2.3 | D29: Servicio de mantenimiento post-siembra de las 50 jardineras, incluye el servicio mensual de podas del césped y árboles, corte de hiedras, entre otro material vegetativo existente y renovado, abonamiento del terreno, riego y fertilización, reparación de raíces, resiembras de jardín, soportes con los respectivos insumos como: abonos, herramienta menor, fertilizantes, mangueras, surtidores, etc. Por un periodo de tres (3) meses, un servicio cada 15 días. (6 servicios). | E29: Quincenal | F29: 6 | G29: 1191783 | H29: =F29*G29 -> 7150698 | I29: 953450 | J29: =ROUND(I29*F29,0) -> 5720700 | XEZ29: =+ROUND(I29,0) -> 953450 | XFA29: =+XEZ29*F29 -> 5720700 | XFB29: =+IF(XEZ29>G29,"No cumple","CUMPLE") -> CUMPLE
C30: 2.4 | D30: Suministro e instalación de grava decorativa en cada una de las macetas, color a elegir por parte del supervisor en el momento de la instalación. | E30: UN | F30: 50 | G30: 35367 | H30: =F30*G30 -> 1768350 | I30: 28300 | J30: =ROUND(I30*F30,0) -> 1415000 | XEZ30: =+ROUND(I30,0) -> 28300 | XFA30: =+XEZ30*F30 -> 1415000 | XFB30: =+IF(XEZ30>G30,"No cumple","CUMPLE") -> CUMPLE
B31: PRECIO TOTAL IVA INCLUIDO | H31: =SUM(H23:H30) -> 20491129 | J31: =SUM(J23:J30) -> 16387100 | XFA31: =SUM(XFA23:XFA30) -> 16387100 | XFB31: =+IF(XEZ31>G31,"No cumple","CUMPLE") -> CUMPLE
XFA32: =+XFA31=J31 -> TRUE
B43: FIRMA DEL REPRESENTANTE LEGAL
B44: C.C.

Sheet Oferta 2 BGT
D2: República de Colombia
D3: Instituto Colombiano de Antropología e Historia Proceso de Mínima Cuantía No. MC-ICANH-022-2024
D4: Formato oferta económica
B7: Objeto | D7: Prestar el servicio de mantenimiento, plantación y suministro de jardinería para las sedes del ICANH, inmuebles ubicados en la calle 12 # 2 – 41 y calle 12 b # 2 – 37 de la Bogotá D.C
B8: Nombre o Razón Social | D8: BGT CONSTRUCCIONES SAS | H8: NIT | I8: 901.613.786-1
B9: Persona de contacto | D9: ARMANDO JOSE VIZCAINO ORTIZ | H9: Teléfono celular | I9: 3115187475
B10: Correo electrónico | D10: bgtconstruccionessas@gmail.com | H10: Teléfono fijo | I10: 3115187475
B12: Instrucciones para el diligenciamiento de la oferta:
B14: • Por favor diligenciar solo las celdas en AZUL. • Los precios unitarios deberán ser expresado en PESOS COLOMBIANOS y en números enteros. • El formato contiene los insumos de costos estimados por el Instituto por lo tanto no se permite modificar, agregar o quitar ningún ítem o sub-ítem. • Para la estructuración de la propuesta por favor tener en cuenta el documento anexo "Ficha técnica" • Los precios deberán aproximarse por exceso o por defecto al entero más cercano así: (i) si es igual o superior a 50 centavos, se aproxima al entero siguiente; (ii) si es inferior a 50 centavos se baja al entero anterior. • Los precios unitarios deben contemplar todos los rubros requeridos para la adecuada prestación del servicio y el cumplimiento de las obligaciones contractuales. • Los precios unitarios ofertados no pueden superar los precios techo establecidos. • Ningún ítem de la propuesta económica debe ser diligenciado con cero (0), so pena de ser rechazada.
B16: Notas: (1) Tener en cuenta en el momento de ofertar, que el plazo de ejecución es estimado y podrá ser inferior. (2) Los valores unitarios deben incluir todos los costos y gastos directos e indirectos en que incurre el contratista durante la ejecución del contrato de acuerdo con las especificaciones de la ficha técnica, las obligaciones tributarias de acuerdo con las normas aplicables para el tipo de servicio y contrato correspondiente.
B18: Plazo de ejecución estimado (Nota 1) | D18: 3 meses
G21: PRECIO TECHO | I21: PRECIO OFERTADO | XEZ21: CORRECIÓN ARITMÉTICA
B22: INMUEBLE | C22: ITEM | D22: Detalle servicios (Nota 2) | E22: Unidad de Medida | F22: Cantidad | G22: PRECIO UNITARIO IVA INCLUIDO | H22: PRECIO TOTAL IVA INCLUIDO | I22: PRECIO UNITARIO IVA INCLUIDO | J22: PRECIO TOTAL IVA INCLUIDO | XEZ22: PRECIO UNITARIO IVA INCLUIDO | XFA22: PRECIO TOTAL IVA INCLUIDO | XFB22: CUMPLE/NO CUMPLE
B23: 1. Inmueble ubicado en la calle 12 # 2-41 - CASA MISIONAL | C23: 1.1 | D23: Servicio de mantenimiento para el jardín vertical y jardineras 1 y 2, incluye: el servicio mensual de podas del césped y árboles, corte de hiedras, entre otro material vegetativo existente y renovado, abonamiento del terreno, riego y fertilización, reparación de raíces, replantar jardín, soportes con los respectivos insumos como: abonos, herramienta menor, fertilizantes, mangueras, surtidores, etc. Por un periodo de tres (3) meses, un servicio por mes. | E23: MES | F23: 3 | G23: 935027 | H23: =F23*G23 -> 2805081 | I23: 916326.46 | J23: =ROUND(I23*F23,0) -> 2748979 | XEZ23: =+ROUND(I23,0) -> 916326 | XFA23: =+XEZ23*F23 -> 2748978 | XFB23: =+IF(XEZ23>G23,"No cumple","CUMPLE") -> CUMPLE
C24: 1.2 | D24: Mantenimiento y puesta y funcionamiento de la bomba dosificadora para jardín vertical, existente. Incluye suministro de batería. | E24: UN | F24: 1 | G24: 503100 | H24: =F24*G24 -> 503100 | I24: 493038 | J24: =ROUND(I24*F24,0) -> 493038 | XEZ24: =+ROUND(I24,0) -> 493038 | XFA24: =+XEZ24*F24 -> 493038 | XFB24: =+IF(XEZ24>G24,"No cumple","CUMPLE") -> CUMPLE
C25: 1.3 | D25: Mantenimiento y puesta en funcionamiento del sistema de riesgo existente en maguera de ½ pulgada | E25: ML | F25: 90 | G25: 20335 | H25: =F25*G25 -> 1830150 | I25: 19928.3 | J25: =ROUND(I25*F25,0) -> 1793547 | XEZ25: =+ROUND(I25,0) -> 19928 | XFA25: =+XEZ25*F25 -> 1793520 | XFB25: =+IF(XEZ25>G25,"No cumple","CUMPLE") -> CUMPLE
C26: 1.4 | D26: Plantar hiedras y siete cueros rastrero en coordinación con el diseño existente. | E26: UN | F26: 50 | G26: 15998 | H26: =F26*G26 -> 799900 | I26: 15678.04 | J26: =ROUND(I26*F26,0) -> 783902 | XEZ26: =+ROUND(I26,0) -> 15678 | XFA26: =+XEZ26*F26 -> 783900 | XFB26: =+IF(XEZ26>G26,"No cumple","CUMPLE") -> CUMPLE
B27: 2. Inmueble ubicado en la calle 12 B # 2-37 - EDIFICIO NUEVA SEDE | C27: 2.1 | D27: Suministro y plantación de una especie jerarquica de mayor altura tipo: Agabe, Palma zica, cheflera, Helecho palma, palma carey, Aves del paraíso, palma carey roja, Bamboo, Cauchos, Drasena, Alocacia morada y/o similar. Las jardineras metálicas serán ubicadas en las terrazas de acuerdo con la indicación del supervisor. | E27: UN | F27: 50 | G27: 43266 | H27: =F27*G27 -> 2163300 | I27: 42400.68 | J27: =ROUND(I27*F27,0) -> 2120034 | XEZ27: =+ROUND(I27,0) -> 42401 | XFA27: =+XEZ27*F27 -> 2120050 | XFB27: =+IF(XEZ27>G27,"No cumple","CUMPLE") -> CUMPLE
C28: 2.2 | D28: Suministro y plantación de tres especies en la base, alrededor de la planta jerárquica, tipo: Repolla, abrecaminos, afelandras, trasdescantias y/o similar. | E28: UN | F28: 150 | G28: 23137 | H28: =F28*G28 -> 3470550 | I28: 22674.26 | J28: =ROUND(I28*F28,0) -> 3401139 | XEZ28: =+ROUND(I28,0) -> 22674 | XFA28: =+XEZ28*F28 -> 3401100 | XFB28: =+IF(XEZ28>G28,"No cumple","CUMPLE") -> CUMPLE
C29: 2.3 | D29: Servicio de mantenimiento post-siembra de las 50 jardineras, incluye el servicio mensual de podas del césped y árboles, corte de hiedras, entre otro material vegetativo existente y renovado, abonamiento del terreno, riego y fertilización, reparación de raíces, resiembras de jardín, soportes con los respectivos insumos como: abonos, herramienta menor, fertilizantes, mangueras, surtidores, etc. Por un periodo de tres (3) meses, un servicio cada 15 días. (6 servicios). | E29: Quincenal | F29: 6 | G29: 1191783 | H29: =F29*G29 -> 7150698 | I29: 1167947.3 | J29: =ROUND(I29*F29,0) -> 7007684 | XEZ29: =+ROUND(I29,0) -> 1167947 | XFA29: =+XEZ29*F29 -> 7007682 | XFB29: =+IF(XEZ29>G29,"No cumple","CUMPLE") -> CUMPLE
C30: 2.4 | D30: Suministro e instalación de grava decorativa en cada una de las macetas, color a elegir por parte del supervisor en el momento de la instalación. | E30: UN | F30: 50 | G30: 35367 | H30: =F30*G30 -> 1768350 | I30: 34659.66 | J30: =ROUND(I30*F30,0) -> 1732983 | XEZ30: =+ROUND(I30,0) -> 34660 | XFA30: =+XEZ30*F30 -> 1733000 | XFB30: =+IF(XEZ30>G30,"No cumple","CUMPLE") -> CUMPLE
B31: PRECIO TOTAL IVA INCLUIDO | H31: =SUM(H23:H30) -> 20491129 | J31: =SUM(J23:J30) -> 20081306 | XFA31: =SUM(XFA23:XFA30) -> 20081268 | XFB31: =+IF(XEZ31>G31,"No cumple","CUMPLE") -> CUMPLE
B43: FIRMA DEL REPRESENTANTE LEGAL
B44: C.C.

Sheet Oferta 3 Ecoprados
D2: República de Colombia
D3: Instituto Colombiano de Antropología e Historia Proceso de Mínima Cuantía No. MC-ICANH-022-2024
D4: Formato oferta económica
B7: Objeto | D7: Prestar el servicio de mantenimiento, plantación y suministro de jardinería para las sedes del ICANH, inmuebles ubicados en la calle 12 # 2 – 41 y calle 12 b # 2 – 37 de la Bogotá D.C
B8: Nombre o Razón Social | D8: Ecoprados Ambientales SAS | H8: NIT | I8: 901621427-4
B9: Persona de contacto | D9: Luis Francisco Moreno Sandoval | H9: Teléfono celular | I9: 3118137222
B10: Correo electrónico | D10: gerencia@ecopradosambientales.co | H10: Teléfono fijo | I10: 3118137222
B12: Instrucciones para el diligenciamiento de la oferta:
B14: • Por favor diligenciar solo las celdas en AZUL. • Los precios unitarios deberán ser expresado en PESOS COLOMBIANOS y en números enteros. • El formato contiene los insumos de costos estimados por el Instituto por lo tanto no se permite modificar, agregar o quitar ningún ítem o sub-ítem. • Para la estructuración de la propuesta por favor tener en cuenta el documento anexo "Ficha técnica" • Los precios deberán aproximarse por exceso o por defecto al entero más cercano así: (i) si es igual o superior a 50 centavos, se aproxima al entero siguiente; (ii) si es inferior a 50 centavos se baja al entero anterior. • Los precios unitarios deben contemplar todos los rubros requeridos para la adecuada prestación del servicio y el cumplimiento de las obligaciones contractuales. • Los precios unitarios ofertados no pueden superar los precios techo establecidos. • Ningún ítem de la propuesta económica debe ser diligenciado con cero (0), so pena de ser rechazada.
B16: Notas: (1) Tener en cuenta en el momento de ofertar, que el plazo de ejecución es estimado y podrá ser inferior. (2) Los valores unitarios deben incluir todos los costos y gastos directos e indirectos en que incurre el contratista durante la ejecución del contrato de acuerdo con las especificaciones de la ficha técnica, las obligaciones tributarias de acuerdo con las normas aplicables para el tipo de servicio y contrato correspondiente.
B18: Plazo de ejecución estimado (Nota 1) | D18: 3 meses
G21: PRECIO TECHO | I21: PRECIO OFERTADO | XEZ21: CORRECIÓN ARITMÉTICA
B22: INMUEBLE | C22: ITEM | D22: Detalle servicios (Nota 2) | E22: Unidad de Medida | F22: Cantidad | G22: PRECIO UNITARIO IVA INCLUIDO | H22: PRECIO TOTAL IVA INCLUIDO | I22: PRECIO UNITARIO IVA INCLUIDO | J22: PRECIO TOTAL IVA INCLUIDO | XEZ22: PRECIO UNITARIO IVA INCLUIDO | XFA22: PRECIO TOTAL IVA INCLUIDO | XFB22: CUMPLE/NO CUMPLE
B23: 1. Inmueble ubicado en la calle 12 # 2-41 - CASA MISIONAL | C23: 1.1 | D23: Servicio de mantenimiento para el jardín vertical y jardineras 1 y 2, incluye: el servicio mensual de podas del césped y árboles, corte de hiedras, entre otro material vegetativo existente y renovado, abonamiento del terreno, riego y fertilización, reparación de raíces, replantar jardín, soportes con los respectivos insumos como: abonos, herramienta menor, fertilizantes, mangueras, surtidores, etc. Por un periodo de tres (3) meses, un servicio por mes. | E23: MES | F23: 3 | G23: 935027 | H23: =F23*G23 -> 2805081 | I23: 900000 | J23: =ROUND(I23*F23,0) -> 2700000 | XEZ23: =+ROUND(I23,0) -> 900000 | XFA23: =+XEZ23*F23 -> 2700000 | XFB23: =+IF(XEZ23>G23,"No cumple","CUMPLE") -> CUMPLE
C24: 1.2 | D24: Mantenimiento y puesta y funcionamiento de la bomba dosificadora para jardín vertical, existente. Incluye suministro de batería. | E24: UN | F24: 1 | G24: 503100 | H24: =F24*G24 -> 503100 | I24: 450000 | J24: =ROUND(I24*F24,0) -> 450000 | XEZ24: =+ROUND(I24,0) -> 450000 | XFA24: =+XEZ24*F24 -> 450000 | XFB24: =+IF(XEZ24>G24,"No cumple","CUMPLE") -> CUMPLE
C25: 1.3 | D25: Mantenimiento y puesta en funcionamiento del sistema de riesgo existente en maguera de ½ pulgada | E25: ML | F25: 90 | G25: 20335 | H25: =F25*G25 -> 1830150 | I25: 19500 | J25: =ROUND(I25*F25,0) -> 1755000 | XEZ25: =+ROUND(I25,0) -> 19500 | XFA25: =+XEZ25*F25 -> 1755000 | XFB25: =+IF(XEZ25>G25,"No cumple","CUMPLE") -> CUMPLE
C26: 1.4 | D26: Plantar hiedras y siete cueros rastrero en coordinación con el diseño existente. | E26: UN | F26: 50 | G26: 15998 | H26: =F26*G26 -> 799900 | I26: 13500 | J26: =ROUND(I26*F26,0) -> 675000 | XEZ26: =+ROUND(I26,0) -> 13500 | XFA26: =+XEZ26*F26 -> 675000 | XFB26: =+IF(XEZ26>G26,"No cumple","CUMPLE") -> CUMPLE
B27: 2. Inmueble ubicado en la calle 12 B # 2-37 - EDIFICIO NUEVA SEDE | C27: 2.1 | D27: Suministro y plantación de una especie jerarquica de mayor altura tipo: Agabe, Palma zica, cheflera, Helecho palma, palma carey, Aves del paraíso, palma carey roja, Bamboo, Cauchos, Drasena, Alocacia morada y/o similar. Las jardineras metálicas serán ubicadas en las terrazas de acuerdo con la indicación del supervisor. | E27: UN | F27: 50 | G27: 43266 | H27: =F27*G27 -> 2163300 | I27: 40100 | J27: =ROUND(I27*F27,0) -> 2005000 | XEZ27: =+ROUND(I27,0) -> 40100 | XFA27: =+XEZ27*F27 -> 2005000 | XFB27: =+IF(XEZ27>G27,"No cumple","CUMPLE") -> CUMPLE
C28: 2.2 | D28: Suministro y plantación de tres especies en la base, alrededor de la planta jerárquica, tipo: Repolla, abrecaminos, afelandras, trasdescantias y/o similar. | E28: UN | F28: 150 | G28: 23137 | H28: =F28*G28 -> 3470550 | I28: 22000 | J28: =ROUND(I28*F28,0) -> 3300000 | XEZ28: =+ROUND(I28,0) -> 22000 | XFA28: =+XEZ28*F28 -> 3300000 | XFB28: =+IF(XEZ28>G28,"No cumple","CUMPLE") -> CUMPLE
C29: 2.3 | D29: Servicio de mantenimiento post-siembra de las 50 jardineras, incluye el servicio mensual de podas del césped y árboles, corte de hiedras, entre otro material vegetativo existente y renovado, abonamiento del terreno, riego y fertilización, reparación de raíces, resiembras de jardín, soportes con los respectivos insumos como: abonos, herramienta menor, fertilizantes, mangueras, surtidores, etc. Por un periodo de tres (3) meses, un servicio cada 15 días. (6 servicios). | E29: Quincenal | F29: 6 | G29: 1191783 | H29: =F29*G29 -> 7150698 | I29: 1050000 | J29: =ROUND(I29*F29,0) -> 6300000 | XEZ29: =+ROUND(I29,0) -> 1050000 | XFA29: =+XEZ29*F29 -> 6300000 | XFB29: =+IF(XEZ29>G29,"No cumple","CUMPLE") -> CUMPLE
C30: 2.4 | D30: Suministro e instalación de grava decorativa en cada una de las macetas, color a elegir por parte del supervisor en el momento de la instalación. | E30: UN | F30: 50 | G30: 35367 | H30: =F30*G30 -> 1768350 | I30: 33000 | J30: =ROUND(I30*F30,0) -> 1650000 | XEZ30: =+ROUND(I30,0) -> 33000 | XFA30: =+XEZ30*F30 -> 1650000 | XFB30: =+IF(XEZ30>G30,"No cumple","CUMPLE") -> CUMPLE
B31: PRECIO TOTAL IVA INCLUIDO | H31: =SUM(H23:H30) -> 20491129 | J31: =SUM(J23:J30) -> 18835000 | XFA31: =SUM(XFA23:XFA30) -> 18835000 | XFB31: =+IF(XEZ31>G31,"No cumple","CUMPLE") -> CUMPLE
XFA32: =+XFA31=J31 -> TRUE
B43: FIRMA DEL REPRESENTANTE LEGAL
B44: C.C.

Sheet Oferta 4 Fumi Espray
D2: República de Colombia
D3: Instituto Colombiano de Antropología e Historia Proceso de Mínima Cuantía No. MC-ICANH-022-2024
D4: Formato oferta económica
B7: Objeto | D7: Prestar el servicio de mantenimiento, plantación y suministro de jardinería para las sedes del ICANH, inmuebles ubicados en la calle 12 # 2 – 41 y calle 12 b # 2 – 37 de la Bogotá D.C
B8: Nombre o Razón Social | D8: FUMI ESPRAYSAS | H8: NIT | I8: 900,654,916-2
B9: Persona de contacto | D9: LEIDY YOLIMA OCHOA GUIZA | H9: Teléfono celular | I9: 3112724284
B10: Correo electrónico | D10: fumi_spray2004@hotmail.com | H10: Teléfono fijo
B12: Instrucciones para el diligenciamiento de la oferta:
B14: • Por favor diligenciar solo las celdas en AZUL. • Los precios unitarios deberán ser expresado en PESOS COLOMBIANOS y en números enteros. • El formato contiene los insumos de costos estimados por el Instituto por lo tanto no se permite modificar, agregar o quitar ningún ítem o sub-ítem. • Para la estructuración de la propuesta por favor tener en cuenta el documento anexo "Ficha técnica" • Los precios deberán aproximarse por exceso o por defecto al entero más cercano así: (i) si es igual o superior a 50 centavos, se aproxima al entero siguiente; (ii) si es inferior a 50 centavos se baja al entero anterior. • Los precios unitarios deben contemplar todos los rubros requeridos para la adecuada prestación del servicio y el cumplimiento de las obligaciones contractuales. • Los precios unitarios ofertados no pueden superar los precios techo establecidos. • Ningún ítem de la propuesta económica debe ser diligenciado con cero (0), so pena de ser rechazada.
B16: Notas: (1) Tener en cuenta en el momento de ofertar, que el plazo de ejecución es estimado y podrá ser inferior. (2) Los valores unitarios deben incluir todos los costos y gastos directos e indirectos en que incurre el contratista durante la ejecución del contrato de acuerdo con las especificaciones de la ficha técnica, las obligaciones tributarias de acuerdo con las normas aplicables para el tipo de servicio y contrato correspondiente.
B18: Plazo de ejecución estimado (Nota 1) | D18: 3 meses
G21: PRECIO TECHO | I21: PRECIO OFERTADO | XEZ21: CORRECIÓN ARITMÉTICA
B22: INMUEBLE | C22: ITEM | D22: Detalle servicios (Nota 2) | E22: Unidad de Medida | F22: Cantidad | G22: PRECIO UNITARIO IVA INCLUIDO | H22: PRECIO TOTAL IVA INCLUIDO | I22: PRECIO UNITARIO IVA INCLUIDO | J22: PRECIO TOTAL IVA INCLUIDO | XEZ22: PRECIO UNITARIO IVA INCLUIDO | XFA22: PRECIO TOTAL IVA INCLUIDO | XFB22: CUMPLE/NO CUMPLE
B23: 1. Inmueble ubicado en la calle 12 # 2-41 - CASA MISIONAL | C23: 1.1 | D23: Servicio de mantenimiento para el jardín vertical y jardineras 1 y 2, incluye: el servicio mensual de podas del césped y árboles, corte de hiedras, entre otro material vegetativo existente y renovado, abonamiento del terreno, riego y fertilización, reparación de raíces, replantar jardín, soportes con los respectivos insumos como: abonos, herramienta menor, fertilizantes, mangueras, surtidores, etc. Por un periodo de tres (3) meses, un servicio por mes. | E23: MES | F23: 3 | G23: 935027 | H23: =F23*G23 -> 2805081 | I23: 635818 | J23: =ROUND(I23*F23,0) -> 1907454 | XEZ23: =+ROUND(I23,0) -> 635818 | XFA23: =+XEZ23*F23 -> 1907454 | XFB23: =+IF(XEZ23>G23,"No cumple","CUMPLE") -> CUMPLE
C24: 1.2 | D24: Mantenimiento y puesta y funcionamiento de la bomba dosificadora para jardín vertical, existente. Incluye suministro de batería. | E24: UN | F24: 1 | G24: 503100 | H24: =F24*G24 -> 503100 | I24: 342108 | J24: =ROUND(I24*F24,0) -> 342108 | XEZ24: =+ROUND(I24,0) -> 342108 | XFA24: =+XEZ24*F24 -> 342108 | XFB24: =+IF(XEZ24>G24,"No cumple","CUMPLE") -> CUMPLE
C25: 1.3 | D25: Mantenimiento y puesta en funcionamiento del sistema de riesgo existente en maguera de ½ pulgada | E25: ML | F25: 90 | G25: 20335 | H25: =F25*G25 -> 1830150 | I25: 20335 | J25: =ROUND(I25*F25,0) -> 1830150 | XEZ25: =+ROUND(I25,0) -> 20335 | XFA25: =+XEZ25*F25 -> 1830150 | XFB25: =+IF(XEZ25>G25,"No cumple","CUMPLE") -> CUMPLE
C26: 1.4 | D26: Plantar hiedras y siete cueros rastrero en coordinación con el diseño existente. | E26: UN | F26: 50 | G26: 15998 | H26: =F26*G26 -> 799900 | I26: 15998 | J26: =ROUND(I26*F26,0) -> 799900 | XEZ26: =+ROUND(I26,0) -> 15998 | XFA26: =+XEZ26*F26 -> 799900 | XFB26: =+IF(XEZ26>G26,"No cumple","CUMPLE") -> CUMPLE
B27: 2. Inmueble ubicado en la calle 12 B # 2-37 - EDIFICIO NUEVA SEDE | C27: 2.1 | D27: Suministro y plantación de una especie jerarquica de mayor altura tipo: Agabe, Palma zica, cheflera, Helecho palma, palma carey, Aves del paraíso, palma carey roja, Bamboo, Cauchos, Drasena, Alocacia morada y/o similar. Las jardineras metálicas serán ubicadas en las terrazas de acuerdo con la indicación del supervisor. | E27: UN | F27: 50 | G27: 43266 | H27: =F27*G27 -> 2163300 | I27: 43266 | J27: =ROUND(I27*F27,0) -> 2163300 | XEZ27: =+ROUND(I27,0) -> 43266 | XFA27: =+XEZ27*F27 -> 2163300 | XFB27: =+IF(XEZ27>G27,"No cumple","CUMPLE") -> CUMPLE
C28: 2.2 | D28: Suministro y plantación de tres especies en la base, alrededor de la planta jerárquica, tipo: Repolla, abrecaminos, afelandras, trasdescantias y/o similar. | E28: UN | F28: 150 | G28: 23137 | H28: =F28*G28 -> 3470550 | I28: 23137 | J28: =ROUND(I28*F28,0) -> 3470550 | XEZ28: =+ROUND(I28,0) -> 23137 | XFA28: =+XEZ28*F28 -> 3470550 | XFB28: =+IF(XEZ28>G28,"No cumple","CUMPLE") -> CUMPLE
C29: 2.3 | D29: Servicio de mantenimiento post-siembra de las 50 jardineras, incluye el servicio mensual de podas del césped y árboles, corte de hiedras, entre otro material vegetativo existente y renovado, abonamiento del terreno, riego y fertilización, reparación de raíces, resiembras de jardín, soportes con los respectivos insumos como: abonos, herramienta menor, fertilizantes, mangueras, surtidores, etc. Por un periodo de tres (3) meses, un servicio cada 15 días. (6 servicios). | E29: Quincenal | F29: 6 | G29: 1191783 | H29: =F29*G29 -> 7150698 | I29: 810412 | J29: =ROUND(I29*F29,0) -> 4862472 | XEZ29: =+ROUND(I29,0) -> 810412 | XFA29: =+XEZ29*F29 -> 4862472 | XFB29: =+IF(XEZ29>G29,"No cumple","CUMPLE") -> CUMPLE
C30: 2.4 | D30: Suministro e instalación de grava decorativa en cada una de las macetas, color a elegir por parte del supervisor en el momento de la instalación. | E30: UN | F30: 50 | G30: 35367 | H30: =F30*G30 -> 1768350 | I30: 24050 | J30: =ROUND(I30*F30,0) -> 1202500 | XEZ30: =+ROUND(I30,0) -> 24050 | XFA30: =+XEZ30*F30 -> 1202500 | XFB30: =+IF(XEZ30>G30,"No cumple","CUMPLE") -> CUMPLE
B31: PRECIO TOTAL IVA INCLUIDO | H31: =SUM(H23:H30) -> 20491129 | J31: =SUM(J23:J30) -> 16578434 | XFA31: =SUM(XFA23:XFA30) -> 16578434 | XFB31: =+IF(XEZ31>G31,"No cumple","CUMPLE") -> CUMPLE
XFA32: =+XFA31=J31 -> TRUE
B43: FIRMA DEL REPRESENTANTE LEGAL
B44: C.C.

Sheet Oferta 5 Ingresos
D2: República de Colombia
D3: Instituto Colombiano de Antropología e Historia Proceso de Mínima Cuantía No. MC-ICANH-022-2024
D4: Formato oferta económica
B7: Objeto | D7: Prestar el servicio de mantenimiento, plantación y suministro de jardinería para las sedes del ICANH, inmuebles ubicados en la calle 12 # 2 – 41 y calle 12 b # 2 – 37 de la Bogotá D.C
B8: Nombre o Razón Social | D8: INGENIERIA Y GESTION PARA EL DESARROLLO SOSTENIBLE SAS (INGESOS SAS) | H8: NIT | I8: 9013556825
B9: Persona de contacto | D9: Pablo Enrique Diaz Bernal | H9: Teléfono celular | I9: 3102824199
B10: Correo electrónico | D10: ingesos@ingesos.com | H10: Teléfono fijo
B12: Instrucciones para el diligenciamiento de la oferta:
B14: • Por favor diligenciar solo las celdas en AZUL. • Los precios unitarios deberán ser expresado en PESOS COLOMBIANOS y en números enteros. • El formato contiene los insumos de costos estimados por el Instituto por lo tanto no se permite modificar, agregar o quitar ningún ítem o sub-ítem. • Para la estructuración de la propuesta por favor tener en cuenta el documento anexo "Ficha técnica" • Los precios deberán aproximarse por exceso o por defecto al entero más cercano así: (i) si es igual o superior a 50 centavos, se aproxima al entero siguiente; (ii) si es inferior a 50 centavos se baja al entero anterior. • Los precios unitarios deben contemplar todos los rubros requeridos para la adecuada prestación del servicio y el cumplimiento de las obligaciones contractuales. • Los precios unitarios ofertados no pueden superar los precios techo establecidos. • Ningún ítem de la propuesta económica debe ser diligenciado con cero (0), so pena de ser rechazada.
B16: Notas: (1) Tener en cuenta en el momento de ofertar, que el plazo de ejecución es estimado y podrá ser inferior. (2) Los valores unitarios deben incluir todos los costos y gastos directos e indirectos en que incurre el contratista durante la ejecución del contrato de acuerdo con las especificaciones de la ficha técnica, las obligaciones tributarias de acuerdo con las normas aplicables para el tipo de servicio y contrato correspondiente.
B18: Plazo de ejecución estimado (Nota 1) | D18: 3 meses
G21: PRECIO TECHO | I21: PRECIO OFERTADO | XEZ21: CORRECIÓN ARITMÉTICA
B22: INMUEBLE | C22: ITEM | D22: Detalle servicios (Nota 2) | E22: Unidad de Medida | F22: Cantidad | G22: PRECIO UNITARIO IVA INCLUIDO | H22: PRECIO TOTAL IVA INCLUIDO | I22: PRECIO UNITARIO IVA INCLUIDO | J22: PRECIO TOTAL IVA INCLUIDO | XEZ22: PRECIO UNITARIO IVA INCLUIDO | XFA22: PRECIO TOTAL IVA INCLUIDO | XFB22: CUMPLE/NO CUMPLE
B23: 1. Inmueble ubicado en la calle 12 # 2-41 - CASA MISIONAL | C23: 1.1 | D23: Servicio de mantenimiento para el jardín vertical y jardineras 1 y 2, incluye: el servicio mensual de podas del césped y árboles, corte de hiedras, entre otro material vegetativo existente y renovado, abonamiento del terreno, riego y fertilización, reparación de raíces, replantar jardín, soportes con los respectivos insumos como: abonos, herramienta menor, fertilizantes, mangueras, surtidores, etc. Por un periodo de tres (3) meses, un servicio por mes. | E23: MES | F23: 3 | G23: 935027 | H23: =F23*G23 -> 2805081 | I23: 710000 | J23: =ROUND(I23*F23,0) -> 2130000 | XEZ23: =+ROUND(I23,0) -> 710000 | XFA23: =+XEZ23*F23 -> 2130000 | XFB23: =+IF(XEZ23>G23,"No cumple","CUMPLE") -> CUMPLE
C24: 1.2 | D24: Mantenimiento y puesta y funcionamiento de la bomba dosificadora para jardín vertical, existente. Incluye suministro de batería. | E24: UN | F24: 1 | G24: 503100 | H24: =F24*G24 -> 503100 | I24: 250000 | J24: =ROUND(I24*F24,0) -> 250000 | XEZ24: =+ROUND(I24,0) -> 250000 | XFA24: =+XEZ24*F24 -> 250000 | XFB24: =+IF(XEZ24>G24,"No cumple","CUMPLE") -> CUMPLE
C25: 1.3 | D25: Mantenimiento y puesta en funcionamiento del sistema de riesgo existente en maguera de ½ pulgada | E25: ML | F25: 90 | G25: 20335 | H25: =F25*G25 -> 1830150 | I25: 17000 | J25: =ROUND(I25*F25,0) -> 1530000 | XEZ25: =+ROUND(I25,0) -> 17000 | XFA25: =+XEZ25*F25 -> 1530000 | XFB25: =+IF(XEZ25>G25,"No cumple","CUMPLE") -> CUMPLE
C26: 1.4 | D26: Plantar hiedras y siete cueros rastrero en coordinación con el diseño existente. | E26: UN | F26: 50 | G26: 15998 | H26: =F26*G26 -> 799900 | I26: 9000 | J26: =ROUND(I26*F26,0) -> 450000 | XEZ26: =+ROUND(I26,0) -> 9000 | XFA26: =+XEZ26*F26 -> 450000 | XFB26: =+IF(XEZ26>G26,"No cumple","CUMPLE") -> CUMPLE
B27: 2. Inmueble ubicado en la calle 12 B # 2-37 - EDIFICIO NUEVA SEDE | C27: 2.1 | D27: Suministro y plantación de una especie jerarquica de mayor altura tipo: Agabe, Palma zica, cheflera, Helecho palma, palma carey, Aves del paraíso, palma carey roja, Bamboo, Cauchos, Drasena, Alocacia morada y/o similar. Las jardineras metálicas serán ubicadas en las terrazas de acuerdo con la indicación del supervisor. | E27: UN | F27: 50 | G27: 43266 | H27: =F27*G27 -> 2163300 | I27: 37000 | J27: =ROUND(I27*F27,0) -> 1850000 | XEZ27: =+ROUND(I27,0) -> 37000 | XFA27: =+XEZ27*F27 -> 1850000 | XFB27: =+IF(XEZ27>G27,"No cumple","CUMPLE") -> CUMPLE
C28: 2.2 | D28: Suministro y plantación de tres especies en la base, alrededor de la planta jerárquica, tipo: Repolla, abrecaminos, afelandras, trasdescantias y/o similar. | E28: UN | F28: 150 | G28: 23137 | H28: =F28*G28 -> 3470550 | I28: 19000 | J28: =ROUND(I28*F28,0) -> 2850000 | XEZ28: =+ROUND(I28,0) -> 19000 | XFA28: =+XEZ28*F28 -> 2850000 | XFB28: =+IF(XEZ28>G28,"No cumple","CUMPLE") -> CUMPLE
C29: 2.3 | D29: Servicio de mantenimiento post-siembra de las 50 jardineras, incluye el servicio mensual de podas del césped y árboles, corte de hiedras, entre otro material vegetativo existente y renovado, abonamiento del terreno, riego y fertilización, reparación de raíces, resiembras de jardín, soportes con los respectivos insumos como: abonos, herramienta menor, fertilizantes, mangueras, surtidores, etc. Por un periodo de tres (3) meses, un servicio cada 15 días. (6 servicios). | E29: Quincenal | F29: 6 | G29: 1191783 | H29: =F29*G29 -> 7150698 | I29: 1100000 | J29: =ROUND(I29*F29,0) -> 6600000 | XEZ29: =+ROUND(I29,0) -> 1100000 | XFA29: =+XEZ29*F29 -> 6600000 | XFB29: =+IF(XEZ29>G29,"No cumple","CUMPLE") -> CUMPLE
C30: 2.4 | D30: Suministro e instalación de grava decorativa en cada una de las macetas, color a elegir por parte del supervisor en el momento de la instalación. | E30: UN | F30: 50 | G30: 35367 | H30: =F30*G30 -> 1768350 | I30: 25000 | J30: =ROUND(I30*F30,0) -> 1250000 | XEZ30: =+ROUND(I30,0) -> 25000 | XFA30: =+XEZ30*F30 -> 1250000 | XFB30: =+IF(XEZ30>G30,"No cumple","CUMPLE") -> CUMPLE
B31: PRECIO TOTAL IVA INCLUIDO | H31: =SUM(H23:H30) -> 20491129 | J31: =SUM(J23:J30) -> 16910000 | XFA31: =SUM(XFA23:XFA30) -> 16910000 | XFB31: =+IF(XEZ31>G31,"No cumple","CUMPLE") -> CUMPLE
XFA32: =+XFA31=J31 -> TRUE
B43: FIRMA DEL REPRESENTANTE LEGAL
B44: C.C.

Sheet Oferta 6 M&C
D2: República de Colombia
D3: Instituto Colombiano de Antropología e Historia Proceso de Mínima Cuantía No. MC-ICANH-022-2024
D4: Formato oferta económica
B7: Objeto | D7: Prestar el servicio de mantenimiento, plantación y suministro de jardinería para las sedes del ICANH, inmuebles ubicados en la calle 12 # 2 – 41 y calle 12 b # 2 – 37 de la Bogotá D.C
B8: Nombre o Razón Social | D8: M&C CONSTRUCCIONES Y SERVICIOS S.A.S | H8: NIT | I8: 901763712
B9: Persona de contacto | D9: juan carlos paez martinez | H9: Teléfono celular | I9: 3118236759
B10: Correo electrónico | D10: mc.construservi@hotmail.com | H10: Teléfono fijo
B12: Instrucciones para el diligenciamiento de la oferta:
B14: • Por favor diligenciar solo las celdas en AZUL. • Los precios unitarios deberán ser expresado en PESOS COLOMBIANOS y en números enteros. • El formato contiene los insumos de costos estimados por el Instituto por lo tanto no se permite modificar, agregar o quitar ningún ítem o sub-ítem. • Para la estructuración de la propuesta por favor tener en cuenta el documento anexo "Ficha técnica" • Los precios deberán aproximarse por exceso o por defecto al entero más cercano así: (i) si es igual o superior a 50 centavos, se aproxima al entero siguiente; (ii) si es inferior a 50 centavos se baja al entero anterior. • Los precios unitarios deben contemplar todos los rubros requeridos para la adecuada prestación del servicio y el cumplimiento de las obligaciones contractuales. • Los precios unitarios ofertados no pueden superar los precios techo establecidos. • Ningún ítem de la propuesta económica debe ser diligenciado con cero (0), so pena de ser rechazada.
B16: Notas: (1) Tener en cuenta en el momento de ofertar, que el plazo de ejecución es estimado y podrá ser inferior. (2) Los valores unitarios deben incluir todos los costos y gastos directos e indirectos en que incurre el contratista durante la ejecución del contrato de acuerdo con las especificaciones de la ficha técnica, las obligaciones tributarias de acuerdo con las normas aplicables para el tipo de servicio y contrato correspondiente.
B18: Plazo de ejecución estimado (Nota 1) | D18: 3 meses
G21: PRECIO TECHO | I21: PRECIO OFERTADO | XEZ21: CORRECIÓN ARITMÉTICA
B22: INMUEBLE | C22: ITEM | D22: Detalle servicios (Nota 2) | E22: Unidad de Medida | F22: Cantidad | G22: PRECIO UNITARIO IVA INCLUIDO | H22: PRECIO TOTAL IVA INCLUIDO | I22: PRECIO UNITARIO IVA INCLUIDO | J22: PRECIO TOTAL IVA INCLUIDO | XEZ22: PRECIO UNITARIO IVA INCLUIDO | XFA22: PRECIO TOTAL IVA INCLUIDO | XFB22: CUMPLE/NO CUMPLE
B23: 1. Inmueble ubicado en la calle 12 # 2-41 - CASA MISIONAL | C23: 1.1 | D23: Servicio de mantenimiento para el jardín vertical y jardineras 1 y 2, incluye: el servicio mensual de podas del césped y árboles, corte de hiedras, entre otro material vegetativo existente y renovado, abonamiento del terreno, riego y fertilización, reparación de raíces, replantar jardín, soportes con los respectivos insumos como: abonos, herramienta menor, fertilizantes, mangueras, surtidores, etc. Por un periodo de tres (3) meses, un servicio por mes. | E23: MES | F23: 3 | G23: 935027 | H23: =F23*G23 -> 2805081 | I23: 700000 | J23: =ROUND(I23*F23,0) -> 2100000 | XEZ23: =+ROUND(I23,0) -> 700000 | XFA23: =+XEZ23*F23 -> 2100000 | XFB23: =+IF(XEZ23>G23,"No cumple","CUMPLE") -> CUMPLE
C24: 1.2 | D24: Mantenimiento y puesta y funcionamiento de la bomba dosificadora para jardín vertical, existente. Incluye suministro de batería. | E24: UN | F24: 1 | G24: 503100 | H24: =F24*G24 -> 503100 | I24: 300000 | J24: =ROUND(I24*F24,0) -> 300000 | XEZ24: =+ROUND(I24,0) -> 300000 | XFA24: =+XEZ24*F24 -> 300000 | XFB24: =+IF(XEZ24>G24,"No cumple","CUMPLE") -> CUMPLE
C25: 1.3 | D25: Mantenimiento y puesta en funcionamiento del sistema de riesgo existente en maguera de ½ pulgada | E25: ML | F25: 90 | G25: 20335 | H25: =F25*G25 -> 1830150 | I25: 12000 | J25: =ROUND(I25*F25,0) -> 1080000 | XEZ25: =+ROUND(I25,0) -> 12000 | XFA25: =+XEZ25*F25 -> 1080000 | XFB25: =+IF(XEZ25>G25,"No cumple","CUMPLE") -> CUMPLE
C26: 1.4 | D26: Plantar hiedras y siete cueros rastrero en coordinación con el diseño existente. | E26: UN | F26: 50 | G26: 15998 | H26: =F26*G26 -> 799900 | I26: 15998 | J26: =ROUND(I26*F26,0) -> 799900 | XEZ26: =+ROUND(I26,0) -> 15998 | XFA26: =+XEZ26*F26 -> 799900 | XFB26: =+IF(XEZ26>G26,"No cumple","CUMPLE") -> CUMPLE
B27: 2. Inmueble ubicado en la calle 12 B # 2-37 - EDIFICIO NUEVA SEDE | C27: 2.1 | D27: Suministro y plantación de una especie jerarquica de mayor altura tipo: Agabe, Palma zica, cheflera, Helecho palma, palma carey, Aves del paraíso, palma carey roja, Bamboo, Cauchos, Drasena, Alocacia morada y/o similar. Las jardineras metálicas serán ubicadas en las terrazas de acuerdo con la indicación del supervisor. | E27: UN | F27: 50 | G27: 43266 | H27: =F27*G27 -> 2163300 | I27: 43266 | J27: =ROUND(I27*F27,0) -> 2163300 | XEZ27: =+ROUND(I27,0) -> 43266 | XFA27: =+XEZ27*F27 -> 2163300 | XFB27: =+IF(XEZ27>G27,"No cumple","CUMPLE") -> CUMPLE
C28: 2.2 | D28: Suministro y plantación de tres especies en la base, alrededor de la planta jerárquica, tipo: Repolla, abrecaminos, afelandras, trasdescantias y/o similar. | E28: UN | F28: 150 | G28: 23137 | H28: =F28*G28 -> 3470550 | I28: 23137 | J28: =ROUND(I28*F28,0) -> 3470550 | XEZ28: =+ROUND(I28,0) -> 23137 | XFA28: =+XEZ28*F28 -> 3470550 | XFB28: =+IF(XEZ28>G28,"No cumple","CUMPLE") -> CUMPLE
C29: 2.3 | D29: Servicio de mantenimiento post-siembra de las 50 jardineras, incluye el servicio mensual de podas del césped y árboles, corte de hiedras, entre otro material vegetativo existente y renovado, abonamiento del terreno, riego y fertilización, reparación de raíces, resiembras de jardín, soportes con los respectivos insumos como: abonos, herramienta menor, fertilizantes, mangueras, surtidores, etc. Por un periodo de tres (3) meses, un servicio cada 15 días. (6 servicios). | E29: Quincenal | F29: 6 | G29: 1191783 | H29: =F29*G29 -> 7150698 | I29: 700000 | J29: =ROUND(I29*F29,0) -> 4200000 | XEZ29: =+ROUND(I29,0) -> 700000 | XFA29: =+XEZ29*F29 -> 4200000 | XFB29: =+IF(XEZ29>G29,"No cumple","CUMPLE") -> CUMPLE
C30: 2.4 | D30: Suministro e instalación de grava decorativa en cada una de las macetas, color a elegir por parte del supervisor en el momento de la instalación. | E30: UN | F30: 50 | G30: 35367 | H30: =F30*G30 -> 1768350 | I30: 35367 | J30: =ROUND(I30*F30,0) -> 1768350 | XEZ30: =+ROUND(I30,0) -> 35367 | XFA30: =+XEZ30*F30 -> 1768350 | XFB30: =+IF(XEZ30>G30,"No cumple","CUMPLE") -> CUMPLE
B31: PRECIO TOTAL IVA INCLUIDO | H31: =SUM(H23:H30) -> 20491129 | J31: =SUM(J23:J30) -> 15882100 | XFA31: =SUM(XFA23:XFA30) -> 15882100 | XFB31: =+IF(XEZ31>G31,"No cumple","CUMPLE") -> CUMPLE
XFA32: =+XFA31=J31 -> TRUE
B43: FIRMA DEL REPRESENTANTE LEGAL
B44: C.C.

Sheet Oferta 7 Obras Civiles
D2: República de Colombia
D3: Instituto Colombiano de Antropología e Historia Proceso de Mínima Cuantía No. MC-ICANH-022-2024
D4: Formato oferta económica
B7: Objeto | D7: Prestar el servicio de mantenimiento, plantación y suministro de jardinería para las sedes del ICANH, inmuebles ubicados en la calle 12 # 2 – 41 y calle 12 b # 2 – 37 de la Bogotá D.C
B8: Nombre o Razón Social | D8: OBRAS CIVILES INTEGRALES SAS | H8: NIT | I8: 802.025.079-9
B9: Persona de contacto | D9: ALDO ESPINOSA RAPALINO | H9: Teléfono celular | I9: 3015574908
B10: Correo electrónico | D10: gerencia@obrascivilesintegrales.com | H10: Teléfono fijo | I10: (5) 4424570
B12: Instrucciones para el diligenciamiento de la oferta:
B14: • Por favor diligenciar solo las celdas en AZUL. • Los precios unitarios deberán ser expresado en PESOS COLOMBIANOS y en números enteros. • El formato contiene los insumos de costos estimados por el Instituto por lo tanto no se permite modificar, agregar o quitar ningún ítem o sub-ítem. • Para la estructuración de la propuesta por favor tener en cuenta el documento anexo "Ficha técnica" • Los precios deberán aproximarse por exceso o por defecto al entero más cercano así: (i) si es igual o superior a 50 centavos, se aproxima al entero siguiente; (ii) si es inferior a 50 centavos se baja al entero anterior. • Los precios unitarios deben contemplar todos los rubros requeridos para la adecuada prestación del servicio y el cumplimiento de las obligaciones contractuales. • Los precios unitarios ofertados no pueden superar los precios techo establecidos. • Ningún ítem de la propuesta económica debe ser diligenciado con cero (0), so pena de ser rechazada.
B16: Notas: (1) Tener en cuenta en el momento de ofertar, que el plazo de ejecución es estimado y podrá ser inferior. (2) Los valores unitarios deben incluir todos los costos y gastos directos e indirectos en que incurre el contratista durante la ejecución del contrato de acuerdo con las especificaciones de la ficha técnica, las obligaciones tributarias de acuerdo con las normas aplicables para el tipo de servicio y contrato correspondiente.
B18: Plazo de ejecución estimado (Nota 1) | D18: 3 meses
G21: PRECIO TECHO | I21: PRECIO OFERTADO | XEZ21: CORRECIÓN ARITMÉTICA
B22: INMUEBLE | C22: ITEM | D22: Detalle servicios (Nota 2) | E22: Unidad de Medida | F22: Cantidad | G22: PRECIO UNITARIO IVA INCLUIDO | H22: PRECIO TOTAL IVA INCLUIDO | I22: PRECIO UNITARIO IVA INCLUIDO | J22: PRECIO TOTAL IVA INCLUIDO | XEZ22: PRECIO UNITARIO IVA INCLUIDO | XFA22: PRECIO TOTAL IVA INCLUIDO | XFB22: CUMPLE/NO CUMPLE
B23: 1. Inmueble ubicado en la calle 12 # 2-41 - CASA MISIONAL | C23: 1.1 | D23: Servicio de mantenimiento para el jardín vertical y jardineras 1 y 2, incluye: el servicio mensual de podas del césped y árboles, corte de hiedras, entre otro material vegetativo existente y renovado, abonamiento del terreno, riego y fertilización, reparación de raíces, replantar jardín, soportes con los respectivos insumos como: abonos, herramienta menor, fertilizantes, mangueras, surtidores, etc. Por un periodo de tres (3) meses, un servicio por mes. | E23: MES | F23: 3 | G23: 935027 | H23: =F23*G23 -> 2805081 | I23: 878937 | J23: =ROUND(I23*F23,0) -> 2636811 | XEZ23: =+ROUND(I23,0) -> 878937 | XFA23: =+XEZ23*F23 -> 2636811 | XFB23: =+IF(XEZ23>G23,"No cumple","CUMPLE") -> CUMPLE
C24: 1.2 | D24: Mantenimiento y puesta y funcionamiento de la bomba dosificadora para jardín vertical, existente. Incluye suministro de batería. | E24: UN | F24: 1 | G24: 503100 | H24: =F24*G24 -> 503100 | I24: 472920 | J24: =ROUND(I24*F24,0) -> 472920 | XEZ24: =+ROUND(I24,0) -> 472920 | XFA24: =+XEZ24*F24 -> 472920 | XFB24: =+IF(XEZ24>G24,"No cumple","CUMPLE") -> CUMPLE
C25: 1.3 | D25: Mantenimiento y puesta en funcionamiento del sistema de riesgo existente en maguera de ½ pulgada | E25: ML | F25: 90 | G25: 20335 | H25: =F25*G25 -> 1830150 | I25: 19115 | J25: =ROUND(I25*F25,0) -> 1720350 | XEZ25: =+ROUND(I25,0) -> 19115 | XFA25: =+XEZ25*F25 -> 1720350 | XFB25: =+IF(XEZ25>G25,"No cumple","CUMPLE") -> CUMPLE
C26: 1.4 | D26: Plantar hiedras y siete cueros rastrero en coordinación con el diseño existente. | E26: UN | F26: 50 | G26: 15998 | H26: =F26*G26 -> 799900 | I26: 15038 | J26: =ROUND(I26*F26,0) -> 751900 | XEZ26: =+ROUND(I26,0) -> 15038 | XFA26: =+XEZ26*F26 -> 751900 | XFB26: =+IF(XEZ26>G26,"No cumple","CUMPLE") -> CUMPLE
B27: 2. Inmueble ubicado en la calle 12 B # 2-37 - EDIFICIO NUEVA SEDE | C27: 2.1 | D27: Suministro y plantación de una especie jerarquica de mayor altura tipo: Agabe, Palma zica, cheflera, Helecho palma, palma carey, Aves del paraíso, palma carey roja, Bamboo, Cauchos, Drasena, Alocacia morada y/o similar. Las jardineras metálicas serán ubicadas en las terrazas de acuerdo con la indicación del supervisor. | E27: UN | F27: 50 | G27: 43266 | H27: =F27*G27 -> 2163300 | I27: 40671 | J27: =ROUND(I27*F27,0) -> 2033550 | XEZ27: =+ROUND(I27,0) -> 40671 | XFA27: =+XEZ27*F27 -> 2033550 | XFB27: =+IF(XEZ27>G27,"No cumple","CUMPLE") -> CUMPLE
C28: 2.2 | D28: Suministro y plantación de tres especies en la base, alrededor de la planta jerárquica, tipo: Repolla, abrecaminos, afelandras, trasdescantias y/o similar. | E28: UN | F28: 150 | G28: 23137 | H28: =F28*G28 -> 3470550 | I28: 21749 | J28: =ROUND(I28*F28,0) -> 3262350 | XEZ28: =+ROUND(I28,0) -> 21749 | XFA28: =+XEZ28*F28 -> 3262350 | XFB28: =+IF(XEZ28>G28,"No cumple","CUMPLE") -> CUMPLE
C29: 2.3 | D29: Servicio de mantenimiento post-siembra de las 50 jardineras, incluye el servicio mensual de podas del césped y árboles, corte de hiedras, entre otro material vegetativo existente y renovado, abonamiento del terreno, riego y fertilización, reparación de raíces, resiembras de jardín, soportes con los respectivos insumos como: abonos, herramienta menor, fertilizantes, mangueras, surtidores, etc. Por un periodo de tres (3) meses, un servicio cada 15 días. (6 servicios). | E29: Quincenal | F29: 6 | G29: 1191783 | H29: =F29*G29 -> 7150698 | I29: 1120290 | J29: =ROUND(I29*F29,0) -> 6721740 | XEZ29: =+ROUND(I29,0) -> 1120290 | XFA29: =+XEZ29*F29 -> 6721740 | XFB29: =+IF(XEZ29>G29,"No cumple","CUMPLE") -> CUMPLE
C30: 2.4 | D30: Suministro e instalación de grava decorativa en cada una de las macetas, color a elegir por parte del supervisor en el momento de la instalación. | E30: UN | F30: 50 | G30: 35367 | H30: =F30*G30 -> 1768350 | I30: 33245 | J30: =ROUND(I30*F30,0) -> 1662250 | XEZ30: =+ROUND(I30,0) -> 33245 | XFA30: =+XEZ30*F30 -> 1662250 | XFB30: =+IF(XEZ30>G30,"No cumple","CUMPLE") -> CUMPLE
B31: PRECIO TOTAL IVA INCLUIDO | H31: =SUM(H23:H30) -> 20491129 | J31: =SUM(J23:J30) -> 19261871 | XFA31: =SUM(XFA23:XFA30) -> 19261871 | XFB31: =+IF(XEZ31>G31,"No cumple","CUMPLE") -> CUMPLE
XFA32: =+XFA31=J31 -> TRUE
B43: FIRMA DEL REPRESENTANTE LEGAL
B44: C.C.

Sheet Oferta 8 RH
D2: República de Colombia
D3: Instituto Colombiano de Antropología e Historia Proceso de Mínima Cuantía No. MC-ICANH-022-2024
D4: Formato oferta económica
B7: Objeto | D7: Prestar el servicio de mantenimiento, plantación y suministro de jardinería para las sedes del ICANH, inmuebles ubicados en la calle 12 # 2 – 41 y calle 12 b # 2 – 37 de la Bogotá D.C
B8: Nombre o Razón Social | D8: RH-ARQUITECTURA & C. SAS | H8: NIT | I8: 901158622-9
B9: Persona de contacto | D9: ARQ JOSE F RHENALS A | H9: Teléfono celular | I9: 3015679236
B10: Correo electrónico | D10: RHARQ.DIRECCION@GMAIL.COM | H10: Teléfono fijo | I10: ---
