Workbook
Name \0: #REF!
Name \0: #REF!
Name \00: #REF!
Name \00: #REF!
Name \a: #REF!
Name \AA: [1]LIQUIDACION!#REF!
Name \b: [2]STRSUMM0!#REF!
Name \bb: [2]STRSUMM0!#REF!
Name \E: #REF!
Name \EE: #REF!
Name \G: #REF!
Name \k: '[3]7422CW00'!#REF!
Name \l: [4]STRSUMM0!#REF!
Name \M: #REF!
Name \ñ: '[5]7422CW00'!#REF!
Name \P: #REF!
Name \R: #REF!
Name \s: #REF!
Name \V: #REF!
Name \X: 'A.U % '!ERR
Name \X: [6]!ERR
Name \Z: 'A.U % '!ERR
Name \Z: [6]!ERR
Name ____________________________________________________i1: #REF!
Name ___________________________________________________i1: #REF!
Name __________________________________________________i1: #REF!
Name _________________________________________________i1: #REF!
Name ________________________________________________i1: #REF!
Name _______________________________________________i1: #REF!
Name ______________________________________________i1: #REF!
Name _____________________________________________i1: #REF!
Name ____________________________________________i1: #REF!
Name ___________________________________________i1: #REF!
Name __________________________________________i1: #REF!
Name _________________________________________i1: #REF!
Name ________________________________________i1: #REF!
Name _______________________________________i1: #REF!
Name ______________________________________i1: #REF!
Name _____________________________________i1: #REF!
Name ____________________________________i1: #REF!
Name ___________________________________i1: #REF!
Name __________________________________i1: #REF!
Name _________________________________i1: #REF!
Name ________________________________i1: #REF!
Name _______________________________i1: #REF!
Name ______________________________i1: #REF!
Name _____________________________i1: #REF!
Name ____________________________i1: #REF!
Name ___________________________i1: #REF!
Name __________________________i1: #REF!
Name _________________________i1: #REF!
Name ________________________i1: #REF!
Name _______________________i1: #REF!
Name ______________________i1: #REF!
Name _____________________i1: #REF!
Name ____________________i1: #REF!
Name ___________________i1: #REF!
Name __________________i1: #REF!
Name __________________MA2: #REF!
Name _________________i1: #REF!

Sheet Desglose
A1: CÓDIGO | B1: DESCRIPCIÓN | C1: UNIDAD | D1: CANTIDAD | E1: PRECIO PESO | F1: TOTAL PESO
A2: 1 | B2: PRELIMINARES
A3: 1.01 | B3: Localización, trazado y replanteo del proyecto. Se utilizará equipo de precisión, personal experto. Se hará con la frecuencia que lo indique la interventoria. incluye demarcación con pintura, línea de trazado, corte de piso, libretas, planos. | C3: Día | D3: 7 | E3: =+'APU2'!F35 -> 674330 | F3: =D3*E3 -> 4720310 | J3: 312.13878 | K3: =4.6 -> 4.6
A4: 2 | B4: MOVIMIENTOS DE TIERRA | K4: =4.6+1.3 -> 5.9
A5: 2.01 | B5: Conformación y compactación de la calzada existente | C5: m2 | D5: =+J3*K4 -> 1841.6188 | E5: =+'APU2'!F72 -> 1578.4745 | F5: =D5*E5 -> 2906948.3
A6: 2.02 | B6: Excavación mecanica en material heterogéneo, bajo cualquier grado de humedad, medido in situ, incluye botada. | C6: M3 | D6: =+J3*K3*0.25 -> 358.9596 | E6: =+'APU2'!F110 -> 52923.358 | F6: =D6*E6 -> 18997347
A7: 2.03 | B7: Lleno compactado con material del sitio manual | C7: M3 | D7: =+J3*K3*0.03 -> 43.075151 | E7: =+'APU2'!F145 -> 28906.45 | F7: =D7*E7 -> 1245149.7
A8: 2.04 | B8: Rocería de taludes a = 3 m, | C8: Km | D8: =+J3/1000 -> 0.31213878 | E8: =+'APU2'!F180 -> 1115402.5 | F8: =D8*E8 -> 348160.36
A9: 3 | B9: CONSTRUCCIÓN DE VÍA Y ANDÉN
A10: 3.01 | B10: Suministro, transporte y colocación de Subbase, reacomodado con medios mecánicos y compactado al 100% mínimo del ensayo del proctor modificado según normas para la construcción de pavimentos del INVIAS. Incluye todo lo necesario para su correcta construcción y funcionamiento. Su medida será tomada en sitio ya compactado. | C10: M3 | D10: =+J3*K3*0.1 -> 143.58384 | E10: =+'APU2'!F219 -> 127481.01 | F10: =D10*E10 -> 18304213
A11: 3.02 | B11: Suministro, transporte y colocación de base granular de máximo Ø 1½", reacomodado con medios mecánicos y compactado al 100% mínimo del ensayo del proctor modificado según normas para la construcción de pavimentos del INVIAS. Incluye todo lo necesario para su correcta construcción y funcionamiento. Su medida será tomada en sitio ya compactado. | C11: M3 | D11: =+J3*K3*0.2 -> 287.16768 | E11: =+'APU2'!F258 -> 263731.02 | F11: =D11*E11 -> 75735023
A12: 3.03 | B12: Suministro, transporte y aplicación de imprimante tipo emulsión asfáltica catiónica de rompimiento lento (CRL). | C12: M2 | D12: =+J3*K3 -> 1435.8384 | E12: =+'APU2'!F293 -> 7740.444 | F12: =D12*E12 -> 11114027
A13: 3.04 | B13: Suministro, transporte y colocación de mezcla asfáltica en caliente para pavimento MDC-19 con un espesor de 3" (7.5cm). Compactada con medios mecánicos según normas para la construcción de pavimentos del INVIAS. Incluye: compactador Rodillo + Operador + Combustible + Finisher + Operador + Combustible o equivalente, mano de obra y todo lo necesario para su correcta construcción y funcionamiento. | C13: M3 | D13: =+J3*K3*0.075 -> 107.68788 | E13: =+'APU2'!F332 -> 1536252.1 | F13: =D13*E13 -> 1.6543573e+08
A14: 3.05 | B14: Suministro Acero de Fy=4200 (4,200 Kg/Cm²), para cunetas (Según Diseño) Incluye Figurado y Colocación. | C14: Kg | D14: 4159 | E14: =+'APU2'!F367 -> 8582.99 | F14: =D14*E14 -> 35696655
A15: 3.06 | B15: Construcción de cunetas de 0,4m de ancho y 0,15 m de espesor. Concreto preparado en obra de 21 MPa.. Incluye suministro, transporte e instalación del concreto, mano de obra, vibrado, protección y curado, para estructuras de acuerdo con las diferentes dimensiones establecidas en los planos y diseños. El acero de refuerzo se paga en su item respectivo. | C15: M | D15: =+J3*2 -> 624.27756 | E15: =+'APU2'!F412 -> 99861.602 | F15: =D15*E15 -> 62341357
A16: 3.07 | B16: Bordillo de Piezas Prefabricadas de Concreto; incluye la preparacion de la superficie de apoyo | C16: M | D16: =+J3*2 -> 624.27756 | E16: =+'APU2'!F450 -> 79269.908 | F16: =D16*E16 -> 49486424
A17: 3.08 | B17: Anden en concreto de 20,7 Mpa (3.000 psi) e = 0,10 m | C17: M2 | D17: =+J3*1.3 -> 405.78041 | E17: =+'APU2'!F495 -> 92072.519 | F17: =D17*E17 -> 37361225
A18: 4 | B18: OBRAS DE DRENAJE | I18: 3
A19: 4.01 | B19: Excavación en material común mecánica | C19: M3 | D19: =+I18*4.6*1.5*2 -> 41.4 | E19: =+'APU2'!F531 -> 20271.359 | F19: =D19*E19 -> 839234.25
A20: 4.02 | B20: Relleno con arena protección tubería | C20: m3 | D20: =+I18*1*0.1*K3 -> 1.38 | E20: =+'APU2'!F565 -> 87338.94 | F20: =D20*E20 -> 120527.74
A21: 4.03 | B21: Concreto para estructuras resistencia de 210 kg/cm² (3.000 psi) | C21: M3 | D21: =+I18*12 -> 36 | E21: =+'APU2'!F612 -> 944214.61 | F21: =D21*E21 -> 33991726
A22: 4.04 | B22: Tubería PVC de diámetro 0,9 m (36") en pared estructural exterior corrugada para cada alcantarilla | C22: M | D22: =+I18*K3 -> 13.8 | E22: =+'APU2'!F649 -> 1624092.9 | F22: =D22*E22 -> 22412482
A23: 2.03 | B23: Lleno compactado con material del sitio manual | C23: M3 | D23: =+I18*K3*1.5*1.7 -> 35.19 | E23: =+'APU2'!F145 -> 28906.45 | F23: =D23*E23 -> 1017218
A24: 4.06 | B24: Zanja colectora en concreto de 20,7 Mpa a = 0,60 e = 0,10 h = 0,30 m | C24: M | D24: =+I18*8 -> 24 | E24: =+'APU2'!F695 -> 144488.5 | F24: =D24*E24 -> 3467724.1
A25: SUBTOTAL | B25: TOTAL | C25: TOTAL | D25: TOTAL | E25: TOTAL | F25: =SUM(F2:F24) -> 5.4554148e+08
A26: ADMINISTRACION | E26: =+'A.U % '!F30 -> 0.28 | F26: =+E26*F25 -> 1.5275161e+08
A27: UTILIDAD | E27: =+'A.U % '!F32 -> 0.05 | F27: =+F25*E27 -> 27277074
A28: TOTAL AU | E28: =+E26+E27 -> 0.33 | F28: =+F26+F27 -> 1.8002869e+08
A29: VALOR TOTAL OBRA | F29: =+F25+F28 -> 7.2557016e+08
A30: INTERVENTORIA | F30: =+'INTERVENTORÍA No 1'!F48 -> 74450565 | H30: =+F30/F29 -> 0.10260974
A31: VALOR TOTAL OBRA + INTERVENTORIA | F31: =F29+F30 -> 8.0002073e+08
A32: HONORARIOS | E32: 0.016806723 | F32: =+F31*E32 -> 13445727
A33: IVA SOBRE HONORARIOS | E33: 0.19 | F33: =+F32*0.19 -> 2554688
A34: TOTAL PROYECTO | F34: =SUM(F31:F33) -> 816021144

Sheet APU2
A1: CÓDIGO | B1: 1.01 | E1: UNIDAD | F1: Día
A2: DESCRIPCIÓN | B2: Localización, trazado y replanteo del proyecto. Se utilizará equipo de precisión, personal experto. Se hará con la frecuencia que lo indique la interventoria. incluye demarcación con pintura, línea de trazado, corte de piso, libretas, planos.
A4: CÓDIGO | B4: DESCRIPCIÓN | C4: UNIDAD | D4: CANTIDAD | E4: PRECIO | F4: TOTAL
A6: 1 - Mano de Obra
A7: MOB010 | B7: Comisión topografía (topógrafo + Cadenero 1 + 2 Cadeneros 2) | C7: Día | D7: 1.05 | E7: 430000 | F7: =D7*E7 -> 451500
E8: TOTAL 1 | F8: =F7 -> 451500
A10: 2 - Equipos
A11: 1 - % Mano de Obra | B11: Herramienta menor | C11: % | F11: 22575
A12: EQU011 | B12: Equipo completo de topografía | C12: Día | D12: 1 | E12: 140000 | F12: =D12*E12 -> 140000
E13: TOTAL 2 | F13: =F11+F12 -> 162575
A15: 3 - Materiales
A16: MAT,116 | B16: Cuartón de sajo 2" x 4" x 2,9 m | C16: M | D16: 3 | E16: 7500 | F16: =D16*E16 -> 22500
A17: MAT,222 | B17: Listón sajo de 5 x 3 cm x 2,5 m (varilla) | C17: M | D17: 3 | E17: 5000 | F17: =D17*E17 -> 15000
A18: MAT,334 | B18: Puntilla de 3" | C18: Lb | D18: 0.02 | E18: 9000 | F18: =D18*E18 -> 180
E19: TOTAL 3 | F19: =F16+F17+F18 -> 37680
A21: 4 - Subcontratos
E23: TOTAL 4 | F23: =0 -> 0
A25: 5 - Otros
A26: 2 - % Mano de Obra | B26: Acarreo interno | C26: % | F26: 22575
E27: TOTAL 5 | F27: =F26 -> 22575
A30: TOTAL 1 | B30: Mano de Obra | F30: =+VLOOKUP(A30,E2:F29,2,0) -> 451500
A31: TOTAL 2 | B31: Equipos | F31: =+VLOOKUP(A31,E2:F29,2,0) -> 162575
A32: TOTAL 3 | B32: Materiales | F32: =+VLOOKUP(A32,E3:F30,2,0) -> 37680
A33: TOTAL 4 | B33: Subcontratos | F33: =+VLOOKUP(A33,E4:F31,2,0) -> 0
A34: TOTAL 5 | B34: Otros | F34: =+VLOOKUP(A34,E2:F29,2,0) -> 22575
A35: CD | B35: COSTO DIRECTO | F35: =SUM(F30:F34) -> 674330
A38: CÓDIGO | B38: 2.01 | E38: UNIDAD | F38: m2
A39: DESCRIPCIÓN | B39: Conformación y compactación de la calzada existente
A41: CÓDIGO | B41: DESCRIPCIÓN | C41: UNIDAD | D41: CANTIDAD | E41: PRECIO | F41: TOTAL
A43: 1 - Mano de Obra
A44: MOB015 | B44: Cuadrilla E 1 Of + 1 Ay (jornal + prestaciones) | C44: Día | D44: 0.0015 | E44: 221263 | F44: =D44*E44 -> 331.8945
E45: TOTAL 1 | F45: =F44 -> 331.8945
A47: 2 - Equipos
A48: 1 - % Mano de Obra | B48: Herramienta menor | C48: % | F48: 16.59
A49: EQU008 | B49: Motoniveladora | C49: Hr | D49: 0.0022 | E49: 217000 | F49: =D49*E49 -> 477.4
A50: EQU013 | B50: Cilindro compactador vibratorio Dynapac y tractor | C50: Hr | D50: 0.0028 | E50: 120000 | F50: =D50*E50 -> 336
A51: EQU030 | B51: Cama baja | C51: Serv x 10Km | D51: 0.001 | E51: 400000 | F51: =D51*E51 -> 400
E52: TOTAL 2 | F52: =F48+F49+F50+F51 -> 1229.99
A54: 3 - Materiales
E56: TOTAL 3 | F56: =0 -> 0
...

Sheet Análisis de precios unitarios
A1: CÓDIGO | B1: 1.01 | E1: UNIDAD | F1: M
A2: DESCRIPCIÓN | B2: Localización, trazado y replanteo del proyecto. Se utilizará equipo de precisión, personal experto. Se hará con la frecuencia que lo indique la interventoria. incluye demarcación con pintura, línea de trazado, corte de piso, libretas, planos.
A4: CÓDIGO | B4: DESCRIPCIÓN | C4: UNIDAD | D4: CANTIDAD | E4: PRECIO | F4: TOTAL
A6: 1 - Mano de Obra
A7: MOB010 | B7: Comisión topografía (topógrafo + Cadenero 1 + 2 Cadeneros 2) | C7: Día | D7: 0.006 | E7: 692330 | F7: =D7*E7 -> 4153.98
E8: TOTAL 1 | F8: =F7 -> 4153.98
A10: 2 - Equipos
A11: 1 - % Mano de Obra | B11: Herramienta menor | C11: % | F11: 207.7
A12: EQU011 | B12: Equipo completo de topografía | C12: Día | D12: 0.006 | E12: 140000 | F12: =D12*E12 -> 840
E13: TOTAL 2 | F13: =F11+F12 -> 1047.7
A15: 3 - Materiales
A16: MAT,116 | B16: Cuartón de sajo 2" x 4" x 2,9 m | C16: M | D16: 0.0333 | E16: 7500 | F16: =D16*E16 -> 249.75
A17: MAT,176 | B17: Guadua basa longitud promedio = 5 m | C17: Un | D17: 0.0067 | E17: 6000 | F17: =D17*E17 -> 40.2
A18: MAT,222 | B18: Listón sajo de 5 x 3 cm x 2,5 m (varilla) | C18: M | D18: 0.0333 | E18: 5000 | F18: =D18*E18 -> 166.5
A19: MAT,334 | B19: Puntilla de 3" | C19: Lb | D19: 0.02 | E19: 9000 | F19: =D19*E19 -> 180
E20: TOTAL 3 | F20: =F16+F17+F18+F19 -> 636.45
A22: 4 - Subcontratos
E24: TOTAL 4 | F24: =0 -> 0
A26: 5 - Otros
A27: 2 - % Mano de Obra | B27: Acarreo interno | C27: % | F27: 207.7
E28: TOTAL 5 | F28: =F27 -> 207.7
A31: TOTAL 1 | B31: Mano de Obra | F31: =+VLOOKUP(A31,E3:F30,2,0) -> 4153.98
A32: TOTAL 2 | B32: Equipos | F32: =+VLOOKUP(A32,E3:F30,2,0) -> 1047.7
A33: TOTAL 3 | B33: Materiales | F33: =+VLOOKUP(A33,E4:F31,2,0) -> 636.45
A34: TOTAL 4 | B34: Subcontratos | F34: =+VLOOKUP(A34,E5:F32,2,0) -> 0
A35: TOTAL 5 | B35: Otros | F35: =+VLOOKUP(A35,E3:F30,2,0) -> 207.7
A36: CD | B36: COSTO DIRECTO | F36: =SUM(F31:F35) -> 6045.83
A39: CÓDIGO | B39: 2.01 | E39: UNIDAD | F39: Km
A40: DESCRIPCIÓN | B40: Conformación y compactación de la calzada existente
A42: CÓDIGO | B42: DESCRIPCIÓN | C42: UNIDAD | D42: CANTIDAD | E42: PRECIO | F42: TOTAL
A44: 1 - Mano de Obra
A45: MOB015 | B45: Cuadrilla E 1 Of + 1 Ay (jornal + prestaciones) | C45: Día | D45: 0.7 | E45: 221263 | F45: =D45*E45 -> 154884.1
E46: TOTAL 1 | F46: =F45 -> 154884.1
A48: 2 - Equipos
A49: 1 - % Mano de Obra | B49: Herramienta menor | C49: % | F49: 7744.21
A50: EQU008 | B50: Motoniveladora | C50: Hr | D50: 24 | E50: 217000 | F50: =D50*E50 -> 5208000
A51: EQU013 | B51: Cilindro compactador vibratorio Dynapac y tractor | C51: Hr | D51: 12 | E51: 120000 | F51: =D51*E51 -> 1440000
A52: EQU030 | B52: Cama baja | C52: Serv x 10Km | D52: 1 | E52: 400000 | F52: =D52*E52 -> 400000
E53: TOTAL 2 | F53: =F49+F50+F51+F52 -> 7055744.2
A55: 3 - Materiales
...

Sheet INTERVENTORÍA No 1
A1: ANALISIS DE INTERVENTORIA
A3: ALCALDIA MUNICIPAL
A4: Municipio de Santa Fe de Antioquia - Antioquia
A8: OBJETO: INTERVENTORÍA PROYECTO DE RECUPERACIÓN Y MANTENIMIENTO DE LA VÍA TERCIARIA SANTA FE DE ANTIOQUIA - VEREDA EL TUNAL DEL MUNICIPIO DE SANTA FE DE ANTIOQUIA, MEDIANTE LA PAVIMENTACIÓN
A11: Plazo estimado de ejecución (meses)= | D11: 3 | G11: =D11*30 -> 90 | H11: días
A13: CARGO / OFICIO | B13: Cantidad | C13: Participacion (meses) | D13: Dedicacion (% mes) | E13: Vr. Salario Mensual ($) | F13: VALOR PARCIAL
A14: COSTOS DIRECTOS DE PERSONAL
A15: PERSONAL PROFESIONAL
A16: Director de Interventoría | B16: 1 | C16: =+D11 -> 3 | D16: 0.5 | E16: 5000000 | F16: =+PRODUCT(B16:E16) -> 7500000 | G16: =+B16*C16*D16*E16 -> 7500000
A17: Residente de interventoría | B17: 1 | C17: 2.5 | D17: 1 | E17: 3550000 | F17: =+PRODUCT(B17:E17) -> 8875000
A18: Tecnologo en seguridad ocupacional SISO | B18: 1 | C18: 2.5 | D18: 1 | E18: 2500000 | F18: =+PRODUCT(B18:E18) -> 6250000
A20: PERSONAL AUXILIAR | G20: =+B20*C20*D20*E20 -> 0
A21: Auxiliar Administrativo | B21: 1 | C21: 2.5 | D21: 1 | E21: 1800000 | F21: =+PRODUCT(B21:E21) -> 4500000 | G21: =+B21*C21*D21*E21 -> 4500000
F22: =+PRODUCT(B22:E22) -> 0
A23: SUBTOTAL COSTOS DE PERSONAL (1) | F23: =SUM(F15:F22) -> 27125000 | G23: =SUM(G16:G22) -> 12000000
A24: FACTOR MULTIPLICADOR (2) | F24: =ROUND('FM INTERVENTORÍA No 1.2'!E41,3) -> 1.648
A25: (A) TOTAL COSTOS DE PERSONAL = (1)*(2) | F25: =ROUND(F23*F24,0) -> 44702000 | G25: =+G23*F24 -> 19776000
A27: COSTOS DIRECTOS | B27: UNIDAD | C27: CANTIDAD | D27: Valor Parcial ($) | E27: Tiempo Utilización (%) | F27: VALOR TOTAL ($)
A28: Viajes y Viaticos | B28: mes | C28: 0 | D28: 704974.79 | E28: 1 | F28: =+E28*C28*D28 -> 0
A29: Equipos de topografía | B29: und | C29: 2.5 | D29: 500000 | E29: 1 | F29: =+E29*C29*D29 -> 1250000
A30: Ensayos de Laboratorio e informes | B30: und | C30: 1 | D30: 4500000 | E30: 1 | F30: =+E30*C30*D30 -> 4500000
A31: Alquiler de oficina y servicios públicos | B31: mes | C31: 3 | D31: 1200000 | E31: 1 | F31: =+E31*C31*D31 -> 3600000
A32: Gastos de Oficina (Papelería, fotocopias, etc) | B32: mes | C32: 3 | D32: 438898.88 | E32: 1 | F32: =+E32*C32*D32 -> 1316696.6
A33: (B) TOTAL COSTOS DIRECTOS | F33: =ROUND(SUM(F27:F32),0) -> 10666697
A35: IMPUESTOS Y RETENCIONES | B35: UNIDAD | C35: CANTIDAD | D35: Valor Parcial ($) | F35: VALOR TOTAL ($)
A36: Estampilla pro-anciano | B36: % | C36: 0.04 | D36: =+$F$45 -> 62563500 | F36: =+C36*D36 -> 2502540
A37: Estampilla pro-cultura | B37: % | C37: 0.02 | D37: =+$F$45 -> 62563500 | F37: =+C37*D37 -> 1251270
A38: Estampilla Justicia familiar | B38: % | C38: 0.02 | D38: =+$F$45 -> 62563500 | F38: =+C38*D38 -> 1251270
A39: Estampilla pro-Hospital | B39: % | C39: 0.01 | D39: =+$F$45 -> 62563500 | F39: =+C39*D39 -> 625635
A40: Estampilla pro-Deporte | B40: % | C40: 0.025 | D40: =+$F$45 -> 62563500 | F40: =+C40*D40 -> 1564087.5
A43: (C) TOTAL COSTOS IMPUESTOS Y RETENCIONES | F43: =ROUND(SUM(F36:F42),0) -> 7194803
A45: VALOR ESTIMADO | F45: 62563500
A46: COSTO = (A)+(B)+(C) | F46: =+F25+F43+F33 -> 62563500
A47: IVA | E47: 0.19 | F47: =ROUND(+F46*E47,0) -> 11887065
A48: COSTO TOTAL | F48: =+F46+F47 -> 74450565

Sheet FM INTERVENTORÍA No 1.2
A1: ANALISIS DE INTERVENTORIA
A3: ALCALDIA MUNICIPAL
A7: FACTOR MULTIPLICADOR
A8: OBRA:
A9: =+'INTERVENTORÍA No 1'!A8:F8 -> OBJETO: INTERVENTORÍA PROYECTO DE RECUPERACIÓN Y MANTENIMIENTO DE LA VÍA TERCIARIA SANTA FE DE ANTIOQUIA - VEREDA EL TUNAL DEL MUNICIPIO DE SANTA FE DE ANTIOQUIA, MEDIANTE LA PAVIMENTACIÓN
A10: Plazo estimado de ejecución (meses)= | D10: =+'INTERVENTORÍA No 1'!D11:F11 -> 3 | F10: =D10*30 -> 90 | G10: días
A11: FACTOR MULTIPLICADOR PARA PERSONAL PROFESIONAL, ADMINISTRATIVO Y TÉCNICO | E11: %
A12: A. | C12: SALARIO BÁSICO (Nómina total mensual) | E12: 100
A14: B. | C14: PRESTACIONES SOCIALES | E14: =SUM(E16:E31) -> 55.573333
B15: SEGURIDAD SOCIAL Y APORTES PARAFISCALES
B16: a. | C16: Caja de Compensación | D16: % A | E16: 4 | H16: 4
B17: b. | C17: SENA | D17: % A | E17: 0 | H17: 2
B18: c. | C18: ICBF | D18: % A | E18: 0 | H18: 3
B19: d. | C19: Sistema de seguridad social : Salud | D19: % A | E19: 0 | H19: 8.5
B20: e. | C20: Sistema de seguridad social : Pensiòn | D20: % A | E20: 12 | H20: 12
B21: f. | C21: ARP personal en obra | D21: % A | E21: 6.96 | H21: 6.96
B22: PRESTACIONES SOCIALES
B23: g | C23: Vacaciones | D23: (15/360*100) | E23: =15*100/360 -> 4.1666667 | H23: 4.17
B24: h. | C24: Prima de Servicios | D24: (30/360*100) | E24: =30/360*100 -> 8.3333333
B25: i. | C25: Cesantias | D25: (30/360*100) | E25: =30/360*100 -> 8.3333333
B26: j. | C26: Intereses a las cesantias | D26: (0,12*30/360) | E26: 1
B27: OTROS
B28: k. | C28: Ausencias justificadas | D28: (3/360*100) | E28: 2.78 | H28: 0.83
B29: l. | C29: Dotación | D29: %A | E29: 5
B30: m. | C30: Indemnizaciones | D30: % A | E30: 1 | H30: 0.1
B31: n. | C31: Incapacidad no cubierta seguridad social | D31: % A | E31: 2
A32: C. | C32: SUMA (A + B) | E32: =E12+E14 -> 155.57333
A34: D. | C34: COSTOS INDIRECTOS | E34: =SUM(E35:E37) -> 9.21
B35: a. | C35: Asesorías financieras y contables | D35: % A | E35: 4
B36: b. | C36: Perfeccionamiento (póliza única, publicación) | D36: % A | E36: 5.21
B37: c. | C37: Otros | D37: % A | E37: 0
A39: F. | C39: SUBTOTAL (C + D + E) | E39: =E32+E34 -> 164.78333
C41: FACTOR MULTIPLICADOR FINAL | E41: =ROUND(E39/100,4) -> 1.6478
A45: =+'INTERVENTORÍA No 1'!A51:C51 -> 0
A46: =+'INTERVENTORÍA No 1'!A52:C52 -> 0

Sheet A.U % 
A1: CALCULO DETALLADO DEL VALOR PORCENTUAL DEL A.U.
A4: Duración estimada del Proyecto en meses | F4: 2.5
A5: Costo directo total del Proyecto | F5: =+Desglose!F25 -> 5.4554148e+08
A6: A.U. Asumido para el cálculo | B6: 0.33 | F6: =ROUND((F5)*B6,0) -> 180028687
A7: Valor total estimado del Proyecto | F7: =SUM(F5:F6) -> 7.2557016e+08 | H7: =+F7*0.185 -> 1.3423048e+08
A8: DESCRIPCION | B8: UNIDAD | C8: CANTIDAD | D8: VR UNITARIO | E8: DEDICACIÒN Y/O PORCENTAJE DE UTILIZACIÓN | F8: VR. TOTAL
A9: GASTOS ARRENDAMIENTO Y OFICINA
A10: Transportes | B10: Mes | C10: =+F4 -> 2.5 | D10: 250000 | E10: 1 | F10: =+ROUND(D10*C10*E10,0) -> 625000
A11: Arrendamiento Almacén | B11: Mes | C11: =+F4 -> 2.5 | D11: 600000 | E11: 1 | F11: =+ROUND(D11*C11*E11,0) -> 1500000
A12: GASTOS DE LEGALIZACIÓN E IMPUESTOS
A13: Póliza de Cumplimiento | B13: % | C13: 0.002 | D13: =+$F$7 -> 7.2557016e+08 | E13: 1 | F13: =+ROUND(D13*C13*E13,0) -> 1451140
A14: Póliza calidad del servicio | B14: % | C14: 0.002 | D14: =+$F$7 -> 7.2557016e+08 | E14: 1 | F14: =+ROUND(D14*C14*E14,0) -> 1451140
A15: Póliza de Salarios y Prestaciones Sociales | B15: % | C15: 0.0005 | D15: =+$F$7 -> 7.2557016e+08 | E15: 1 | F15: =+ROUND(D15*C15*E15,0) -> 362785
A16: Póliza de Estabilidad | B16: % | C16: 0.002 | D16: =+$F$7 -> 7.2557016e+08 | E16: 1 | F16: =+ROUND(D16*C16*E16,0) -> 1451140
A17: Póliza de Responsabilidad Civil | B17: % | C17: 0.0012 | D17: =+$F$7 -> 7.2557016e+08 | E17: 1 | F17: =+ROUND(D17*C17*E17,0) -> 870684
A18: Estampilla pro-anciano | B18: % | C18: 0.04 | D18: =+$F$7 -> 7.2557016e+08 | E18: 1 | F18: =+ROUND(D18*C18*E18,0) -> 29022807
A19: Estampilla pro-cultura | B19: % | C19: 0.02 | D19: =+$F$7 -> 7.2557016e+08 | E19: 1 | F19: =+ROUND(D19*C19*E19,0) -> 14511403
A20: Estampilla Justicia familiar | B20: % | C20: 0.02 | D20: =+$F$7 -> 7.2557016e+08 | E20: 1 | F20: =+ROUND(D20*C20*E20,0) -> 14511403
A21: Estampilla pro-Hospital | B21: % | C21: 0.01 | D21: =+$F$7 -> 7.2557016e+08 | E21: 1 | F21: =+ROUND(D21*C21*E21,0) -> 7255702
A22: Estampilla pro-Deporte | B22: % | C22: 0.025 | D22: =+$F$7 -> 7.2557016e+08 | E22: 1 | F22: =+ROUND(D22*C22*E22,0) -> 18139254
A23: Fondo de seguridad | B23: % | C23: 0.05 | D23: =+$F$7 -> 7.2557016e+08 | E23: 1 | F23: =+ROUND(D23*C23*E23,0) -> 36278508
A25: PERSONAL TÉCNICO
A26: Ingeniero Director (Con Prestac. Sociales) | B26: Mes | C26: =+F4 -> 2.5 | D26: ='INTERVENTORÍA No 1'!E16*1.66 -> 8300000 | E26: 0.25 | F26: =+ROUND(D26*C26*E26,0) -> 5187500
A27: Ingeniero Residente (Con Prestac. Sociales) | B27: Mes | C27: =+F4 -> 2.5 | D27: ='INTERVENTORÍA No 1'!E17*'INTERVENTORÍA No 1'!F24 -> 5850400 | E27: 1 | F27: =+ROUND(D27*C27*E27,0) -> 14626000
A28: Residente SG-SST (Con Prestac. Sociales) | B28: Mes | C28: =+F4 -> 2.5 | D28: ='INTERVENTORÍA No 1'!E18*1.66 -> 4150000 | E28: 0.3 | F28: =+ROUND(D28*C28*E28,0) -> 3112500
A29: Valor total de los Costos de Legalización y Administración | F29: =SUM(F10:F28) -> 150356966
A30: Valor porcentual de la Legalización y Administración | F30: =ROUNDUP((F29/F5),2) -> 0.28
A31: Valor porcentual de los Imprevistos | F31: 0
A32: Valor porcentual de la Utilidad estimada | F32: 0.05
A34: Valor Total porcentual del A.U. | F34: =SUM(F30:F33) -> 0.33
A39: SMMLV AÑO 2022 | B39: 1000000
A41: CARGO | B41: CANTIDAD SMMLV | C41: VALOR SALARIO | D41: % PRESTACIONES | E41: VALOR TOTAL
A42: INGENIERO DIRECTOR | B42: =C42/$B$39 -> 3.5 | C42: 3500000 | D42: 1.6 | E42: =+D42*C42 -> 5600000
A43: INGENIERO RESIDENTE | B43: =C43/$B$39 -> 2.1 | C43: 2100000 | D43: 1.6 | E43: =+D43*C43 -> 3360000
