Workbook
Name \0: #REF!
Name \0: #REF!
Name \0: #REF!
Name \00: #REF!
Name \00: #REF!
Name \00: #REF!
Name \a: #REF!
Name \a: #REF!
Name \a: #REF!
Name \AA: [1]LIQUIDACION!#REF!
Name \AA: [1]LIQUIDACION!#REF!
Name \AA: [1]LIQUIDACION!#REF!
Name \b: [2]STRSUMM0!#REF!
Name \b: [2]STRSUMM0!#REF!
Name \b: [2]STRSUMM0!#REF!
Name \bb: [2]STRSUMM0!#REF!
Name \bb: [2]STRSUMM0!#REF!
Name \bb: [2]STRSUMM0!#REF!
Name \E: #REF!
Name \E: #REF!
Name \E: #REF!
Name \EE: #REF!
Name \EE: #REF!
Name \EE: #REF!
Name \G: #REF!
Name \G: #REF!
Name \G: #REF!
Name \k: '[3]7422CW00'!#REF!
Name \k: '[3]7422CW00'!#REF!
Name \k: '[3]7422CW00'!#REF!
Name \l: [4]STRSUMM0!#REF!
Name \l: [4]STRSUMM0!#REF!
Name \l: [4]STRSUMM0!#REF!
Name \M: #REF!
Name \M: #REF!
Name \M: #REF!
Name \ñ: '[5]7422CW00'!#REF!
Name \ñ: '[5]7422CW00'!#REF!
Name \ñ: '[5]7422CW00'!#REF!
Name \P: #REF!
Name \P: #REF!
Name \P: #REF!
Name \R: #REF!
Name \R: #REF!
Name \R: #REF!
Name \s: #REF!
Name \s: #REF!
Name \s: #REF!
Name \V: #REF!
Name \V: #REF!
Name \V: #REF!
Name \X: APU!ERR
Name \X: 'FORMULARIO 01'!ERR
Name \X: [0]!ERR
Name \Z: APU!ERR
Name \Z: 'FORMULARIO 01'!ERR
Name \Z: [0]!ERR
Name _: #REF!
Name _________AFC1: [6]INV!$A$25:$D$28
Name _________AFC3: [6]INV!$F$25:$I$28

Sheet FORMULARIO 01
B2: FORMULARIO 1
B3: PRESUPUESTO OFICIAL
B4: “REPARACIONES LOCATIVAS EN LA INFRAESTRUCTURA DONDE FUNCIONA EL PROGRAMA CASA DE LA MUJER EMPODERADA A CARGO DE LA SECRETARIA DE LAS MUJERES Y EQUIDAD DE GENERO "
C5: ITEM DE PAGO | D5: DESCRIPCION | E5: UND | F5: CANTIDAD | G5: VALOR UNITARIO | H5: VALOR TOTAL
C6: =+APU!A4 -> 001 | D6: =+APU!C4 -> PRELIMINARES
C7: =+APU!A7 -> 001.043 | D7: =+APU!C7 -> ROCERIA Y LIMPIEZA | E7: =+APU!E7 -> M2 | F7: 7 | G7: =+APU!$J$7 -> 3428 | H7: =ROUND(G7*F7,0) -> 23996
B8: Subtotal | H8: =+H7 -> 23996
C9: =+APU!A13 -> 002 | D9: =+APU!C13 -> MOVIMIENTO DE TIERRAS
C10: =+APU!A16 -> 002.032 | D10: =+APU!C16 -> RETIRO DE MATERIAL SOBRANTE EN VOLQUETA, CARGUE MANUAL | E10: =+APU!E16 -> M3 | F10: 12 | G10: =+APU!$J$16 -> 60395 | H10: =ROUND(G10*F10,0) -> 724740
C11: 002.083 | D11: =+APU!C22 -> EXCAVACION MANUAL | E11: =+APU!E22 -> M3 | F11: =70*0.2*0.6 -> 8.4 | G11: =+APU!J22 -> 30238 | H11: =ROUND(G11*F11,0) -> 253999
B12: Subtotal | H12: =SUM(H10:H11) -> 978739
C13: =+APU!A64 -> 005 | D13: =+APU!C64 -> ESTRUCTURAS EN CONCRETO, METALICAS Y DE MADERA
C14: =+APU!A91 -> 005.056 | D14: =+APU!C91 -> SUMINISTRO, TRANSPORTE E INSTALACION JUNTA DE DILATACION PARA PLACA CONTRAPISO (Inlcuye sellante) | E14: =+APU!E91 -> ML | F14: 16 | G14: =+APU!$J$91 -> 21617 | H14: =ROUND(G14*F14,0) -> 345872
C15: =+APU!A67 -> 005.011 | D15: =+APU!C67 -> SUMINISTRO, TRANSPORTE E INSTALACION PLACA CONTRAPISO CONCRETO 3000 PSI E=0.10 m | E15: =+APU!E67 -> M2 | F15: =+F81 -> 25 | G15: =+APU!J67 -> 138017 | H15: =ROUND(G15*F15,0) -> 3450425
C16: 005.079 | D16: =+APU!C99 -> SUMINISTRO, TRANSPORTE E INSTALACION CINTA SIKA PVC V - 10 PARA JUNTAS | E16: =+APU!E99 -> ML | F16: =+F62 -> 21 | G16: =+APU!$J$99 -> 40035 | H16: =ROUND(G16*F16,0) -> 840735
C17: 005.106 | D17: =+APU!C107 -> SUMINISTRO, TRANSPORTE E INSTALACION MALLA ELECTROSOLDADA M-442 Q-9 DIAMETRO 7,50 MM C/.10 M EN AMBOS SENTIDOS. PESO 7 KG/M2. INCLUYE ALAMBRE NEGRO, COLOCACIÓN Y TRASLAPO. | E17: =+APU!E107 -> M2 | F17: =+F15 -> 25 | G17: =+APU!$J$107 -> 54398 | H17: =ROUND(G17*F17,0) -> 1359950
B18: Subtotal | H18: =SUM(H14:H17) -> 5996982
C19: =+APU!A128 -> 007 | D19: =+APU!C128 -> INSTALACIONES HIDRAULICAS
C20: =+APU!A154 -> 007.120 | D20: =+APU!C154 -> SONDEO DE TUBERÍAS Y BAJANTES DE AGUAS LLUVIA | E20: =+APU!E154 -> ML | F20: =3*20 -> 60 | G20: =+APU!$J$154 -> 7855 | H20: =ROUND(G20*F20,0) -> 471300
B21: Subtotal | H21: =+H20 -> 471300
C22: =+APU!A175 -> 08B | D22: =+APU!C175 -> INSTALACIONES ELECTRICAS - REDES INTERNAS
C23: =+APU!A187 -> 08B.311 | D23: =+APU!C187 -> DESMONTE Y RETIRO DE REDES ELÉCTRICAS PARÁSITAS. INCLUYE ANDAMIO CERTIFICADO | E23: =+APU!E187 -> ML | F23: 40 | G23: =+APU!$J$187 -> 9055 | H23: =ROUND(G23*F23,0) -> 362200
B24: Subtotal | H24: =+H23 -> 362200
C25: =+APU!A194 -> 009 | D25: =+APU!C194 -> REVOQUES-RESANES
C26: =+APU!A197 -> 009.005 | D26: =+APU!C197 -> SUMINISTRO,TRANSPORTE E INSTALACION REVOQUE LISO MUROS 1:3 IMPERMEABILIZADO (INCLUYE FILOS Y DILATACIONES) PARA ALTURAS MENORES A 3 METROS | E26: =+APU!E197 -> M2 | F26: 318.86588 | G26: =+APU!$J$197 -> 56251 | H26: =ROUND(G26*F26,0) -> 17936525
C27: =+APU!A206 -> 009.006 | D27: =+APU!C206 -> SUMINISTRO,TRANSPORTE E INSTALACION REVOQUE LISO MUROS 1:3 IMPERMEABILIZADO (INCLUYE FILOS Y DILATACIONES) ANCHO < 0.50 M. | E27: =+APU!E206 -> ML | F27: =+CALCULOS!G28*0.15 -> 122.67 | G27: =+APU!$J$206 -> 32319 | H27: =ROUND(G27*F27,0) -> 3964572
C28: =+APU!A215 -> 009.022 | D28: =+APU!C215 -> SUMINISTRO, TRANSPORTE E INSTALACION CARTERA VENTANAS EN MORTERO 1:3 ANCHO 15-20 CMS. | E28: =+APU!E215 -> ML | F28: 10 | G28: =+APU!$J$215 -> 33004 | H28: =ROUND(G28*F28,0) -> 330040
B29: Subtotal | H29: =SUM(H26:H28) -> 22231137
C30: =+APU!A229 -> 010 | D30: =+APU!C229 -> CUBIERTAS
C31: =+APU!A232 -> 010.013 | D31: =+APU!C232 -> SUMINISTRO, TRANSPORTE E INSTALACION IMPERMEABILIZACION Tipo Manto Morter Plas AL-80 de 3.5 mm con foil de aluminio o Similar. INCLUYE (Canales y/o cubiertas planas, incluye media cañas, remates, pintura bituminosa) | E31: =+APU!E232 -> M2 | F31: =+CALCULOS!G3 -> 161.47 | G31: =+APU!$J$232 -> 63141 | H31: =ROUND(G31*F31,0) -> 10195377
D32: =+APU!C256 -> RECORRIDO DE CUBIERTA (SIN REEMPLAZO DE TEJAS) | E32: =+APU!E256 -> m2 | F32: =+CALCULOS!$G$10 -> 547.0225 | G32: =+APU!$J$256 -> 9542 | H32: =ROUND(G32*F32,0) -> 5219689
C33: =+APU!A243 -> 010.023 | D33: =+APU!C243 -> SUMINISTRO, TRANSPORTE E INSTALACION FLANCHE EN LAMINA GALVANIZADA Cal .20 d/ 1.00 m. (Suministro e instalación con wash primer + esmalte + anclaje a muro + silicona) | E33: =+APU!E243 -> ML | F33: 140 | G33: =+APU!$J$243 -> 80067 | H33: =ROUND(G33*F33,0) -> 11209380
B34: Subtotal | H34: =SUM(H31:H33) -> 26624446
C35: =+APU!A263 -> 011 | D35: =+APU!C263 -> CIELO RASOS
C36: =+APU!A266 -> 011.009 | D36: =+APU!C266 -> SUMINISTRO, TRANSPORTE E INSTALACIÓN DE CIELO RASO EN LÁMINAS DE PVC A TODO COSTO. INCLUYE ESTRUCTURA METÁLICA, PERIMETRALES Y HASTA 2 CAJAS DE INSPECCION DE 0.60 X 0.60 CADA 30 M2. TEXTURA SEGÚN DISEÑO | E36: =+APU!E266 -> M2 | F36: =+CALCULOS!$G$21 -> 136.32 | G36: =+APU!$J$266 -> 86678 | H36: =ROUND(G36*F36,0) -> 11815945
B37: Subtotal | H37: =SUM(H35:H36) -> 11815945
C38: =+APU!A269 -> 012 | D38: =+APU!C269 -> PISOS - ACABADOS
C39: =+APU!A272 -> 012.007 | D39: =+APU!C272 -> SUMINISTRO, TRANSPORTE E INSTALACION CERAMICA PISO ANTIQUE TIPO ALFA O SIMILAR. COLOR BEIGE O BLANCO SEGÚN DISEÑO (INCLUYE BOQUILLA.). INCLUYE MORTERO DE PEGA Y/O NIVELACIÓN. | E39: =+APU!E272 -> M2 | F39: =+F80 -> 12 | G39: =+APU!$J$272 -> 117869 | H39: =ROUND(G39*F39,0) -> 1414428
C40: 012.031 | D40: =+APU!C284 -> SUMINISTRO, TRANSPORTE E INSTALACION GUARDAESCOBA CERAMICA TIPO ANTIQUE H = 10 CM. TIPO ALFA O SIMILAR. COLOR BEIGE O BLANCO SEGÚN DISEÑO (INCLUYE BOQUILLA.). INCLUYE MORTERO DE PEGA Y/O NIVELACIÓN | E40: =+APU!E284 -> ML | F40: =+F85 -> 15.5 | G40: =+APU!$J$284 -> 35150 | H40: =ROUND(G40*F40,0) -> 544825
C41: =+APU!A314 -> 012.078 | D41: =+APU!C314 -> SUMINISTRO, TRANSPORTE E INSTALACIÓN DE CINTA-ANTIDESLIZANTE COLOR NEGRA 48MM, PARA PISOS, ESCALAS, RAMPAS Y ACCESOS INCLUYE ( TODOS LOS ACCESORIOS PARA SU CORRECTA INSTALACION,SEGÚN DISEÑO) | E41: =+APU!E314 -> ML | F41: 10 | G41: =+APU!$J$314 -> 24961 | H41: =ROUND(G41*F41,0) -> 249610
...

Sheet APU
A2: =+'FORMULARIO 01'!B4 -> “REPARACIONES LOCATIVAS EN LA INFRAESTRUCTURA DONDE FUNCIONA EL PROGRAMA CASA DE LA MUJER EMPODERADA A CARGO DE LA SECRETARIA DE LAS MUJERES Y EQUIDAD DE GENERO " | I2: =+AU!G26 -> 1.393
A4: 001 | C4: PRELIMINARES
A6: CODIGO | B6: COD INSUMO | C6: INSUMO | D6: TIPO | E6: UNIDAD | F6: REND | G6: VALOR UNITARIO | H6: VALOR TOTAL | I6: AIU | J6: VALOR TOTAL INCLUIDO AIU
A7: 001.043 | B7: - | C7: ROCERIA Y LIMPIEZA | D7: Actividad | E7: M2 | H7: =SUM(H8:H11) -> 2461 | I7: =+$I$2 -> 1.393 | J7: =ROUND(H7*I7,0) -> 3428
A8: 001.043 | B8: C1 | C8: CUADRILLA AA TIPO 1 (1 OFICIAL + 1 AYUDANTE) (Albañileria) | D8: Cuadrilla | E8: HR | F8: 0.07 | G8: 23915 | H8: =ROUND(F8*G8,0) -> 1674
A9: 001.043 | B9: E24 | C9: VOLQUETA 6M3 (CARGUE A MANO) | D9: Equipos | E9: VJE | F9: 0.003 | G9: 154179 | H9: =ROUND(F9*G9,0) -> 463
A10: 001.043 | B10: H2 | C10: EQUIPO BASICO (HERRAMIENTA MENOR) | D10: Herramienta | E10: UND | F10: 0.07 | G10: 3311 | H10: =ROUND(F10*G10,0) -> 232
A11: 001.043 | B11: I1565 | C11: ACARREO INTERNO | D11: Insumo | E11: UND | F11: 0.053 | G11: 1733 | H11: =ROUND(F11*G11,0) -> 92
A13: 002 | C13: MOVIMIENTO DE TIERRAS
A15: CODIGO | B15: COD INSUMO | C15: INSUMO | D15: TIPO | E15: UNIDAD | F15: REND | G15: VALOR UNITARIO | H15: VALOR TOTAL | I15: AIU | J15: VALOR TOTAL INCLUIDO AIU
A16: 002.032 | B16: - | C16: RETIRO DE MATERIAL SOBRANTE EN VOLQUETA, CARGUE MANUAL | D16: Actividad | E16: M3 | H16: =SUM(H17:H20) -> 43356 | I16: =+$I$2 -> 1.393 | J16: =ROUND(H16*I16,0) -> 60395
A17: 002.032 | B17: C15 | C17: CUADRILLA AA TIPO 3 (1 OFICIAL + 3 AYUDANTE) (Albañileria) | D17: Cuadrilla | E17: HR | F17: 0.217 | G17: 42311 | H17: =ROUND(F17*G17,0) -> 9181
A18: 002.032 | B18: E24 | C18: VOLQUETA 6M3 (CARGUE A MANO) | D18: Equipos | E18: VJE | F18: 0.217 | G18: 154179 | H18: =ROUND(F18*G18,0) -> 33457
A19: 002.032 | B19: H2 | C19: EQUIPO BASICO (HERRAMIENTA MENOR) | D19: Herramienta | E19: UND | F19: 0.217 | G19: 3311 | H19: =ROUND(F19*G19,0) -> 718
A21: CODIGO | B21: COD INSUMO | C21: INSUMO | D21: TIPO | E21: UNIDAD | F21: REND | G21: VALOR UNITARIO | H21: VALOR TOTAL | I21: AIU | J21: VALOR TOTAL INCLUIDO AIU
A22: 002.83 | B22: - | C22: EXCAVACION MANUAL | D22: Actividad | E22: M3 | H22: 21707 | I22: =+$I$2 -> 1.393 | J22: =ROUND(H22*I22,0) -> 30238
A23: 002.83 | B23: C44 | C23: CUADRILLA AA (2 AYUDANTES) | D23: Cuadrilla | E23: HR | F23: 1 | G23: =+VLOOKUP(B23,[113]Insumos!$A$2:$F$5000,5,FALSE) -> 18396 | H23: =+ROUND(F23*G23,0) -> 18396
A24: 002.83 | B24: H2 | C24: EQUIPO BASICO (HERRAMIENTA MENOR) | D24: Herramienta | E24: UND | F24: 1 | G24: =+VLOOKUP(B24,[113]Insumos!$A$2:$F$5000,5,FALSE) -> 3311 | H24: =+ROUND(F24*G24,0) -> 3311
A26: 003 | C26: DESAGUES E INSTALACIONES SANITARIAS
A28: CODIGO | B28: COD INSUMO | C28: INSUMO | D28: TIPO | E28: UNIDAD | F28: REND | G28: VALOR UNITARIO | H28: VALOR TOTAL | I28: AIU | J28: VALOR TOTAL INCLUIDO AIU
A29: 003.010 | B29: - | C29: SUMINISTRO, TRANSPORTE E INSTALACION BAJANTE AGUAS LLUVIAS PVC 3" (INCLUYE CODO, UNION Y ACCESORIOS DE FIJACION) | D29: Actividad | E29: ML | H29: =SUM(H30:H39) -> 32030 | I29: =+$I$2 -> 1.393 | J29: =ROUND(H29*I29,0) -> 44618
A30: 003.010 | B30: C9 | C30: CUADRILLA BB TIPO 2 (1 OFICIAL + 2 AYUDANTE) (Instalaciones) | D30: Cuadrilla | E30: HR | F30: 0.3 | G30: 36419 | H30: =ROUND(F30*G30,0) -> 10926
A31: 003.010 | B31: E12 | C31: EQUIPO DE TRANSPORTE | D31: Equipos | E31: DIA | F31: 0.002 | G31: 171308 | H31: =ROUND(F31*G31,0) -> 343
A32: 003.010 | B32: H2 | C32: EQUIPO BASICO (HERRAMIENTA MENOR) | D32: Herramienta | E32: UND | F32: 0.1 | G32: 3311 | H32: =ROUND(F32*G32,0) -> 331
A33: 003.010 | B33: I1565 | C33: ACARREO INTERNO | D33: Insumo | E33: UND | F33: 0.4 | G33: 1733 | H33: =ROUND(F33*G33,0) -> 693
A34: 003.010 | B34: I521 | C34: ABRAZADERA EN ACERO | D34: Insumo | E34: UND | F34: 0.63 | G34: 2708 | H34: =ROUND(F34*G34,0) -> 1706
A35: 003.010 | B35: I575 | C35: CODO 90° 1/4 CXC SANITARIO 3'' | D35: Insumo | E35: UND | F35: 0.1 | G35: 9411 | H35: =ROUND(F35*G35,0) -> 941
A36: 003.010 | B36: I614 | C36: LIMPIADOR REM PVC 760 GRMS. (1/4) | D36: Insumo | E36: UND | F36: 0.015 | G36: 59308 | H36: =ROUND(F36*G36,0) -> 890
A37: 003.010 | B37: I647 | C37: SOLDADURA PVC LIQUIDA 1/4 | D37: Insumo | E37: UND | F37: 0.015 | G37: 122942 | H37: =ROUND(F37*G37,0) -> 1844
A38: 003.010 | B38: I750 | C38: TUBO PVC A.LL-VENTILACION 3'' | D38: Insumo | E38: M | F38: 1.03 | G38: 13204 | H38: =ROUND(F38*G38,0) -> 13600
A39: 003.010 | B39: I794 | C39: UNION SANITARIA 3" PVC | D39: Insumo | E39: UND | F39: 0.16 | G39: 4728 | H39: =ROUND(F39*G39,0) -> 756
A41: CODIGO | B41: COD INSUMO | C41: INSUMO | D41: TIPO | E41: UNIDAD | F41: REND | G41: VALOR UNITARIO | H41: VALOR TOTAL | I41: AIU | J41: VALOR TOTAL INCLUIDO AIU
A42: 003.013 | B42: - | C42: SUMINISTRO, TRANSPORTE E INSTALACION PUNTO DESAGUE PVC 2" Aparatos sanitarios y desagues (INCLUYE CODO, YEE Y ACCESORIOS) | D42: Actividad | E42: UND | H42: =SUM(H43:H51) -> 101184 | I42: =+$I$2 -> 1.393 | J42: =ROUND(H42*I42,0) -> 140949
A43: 003.013 | B43: C9 | C43: CUADRILLA BB TIPO 2 (1 OFICIAL + 2 AYUDANTE) (Instalaciones) | D43: Cuadrilla | E43: HR | F43: 1.35 | G43: 36419 | H43: =ROUND(F43*G43,0) -> 49166
A44: 003.013 | B44: E12 | C44: EQUIPO DE TRANSPORTE | D44: Equipos | E44: DIA | F44: 0.005 | G44: 171308 | H44: =ROUND(F44*G44,0) -> 857
A45: 003.013 | B45: H2 | C45: EQUIPO BASICO (HERRAMIENTA MENOR) | D45: Herramienta | E45: UND | F45: 0.2 | G45: 3311 | H45: =ROUND(F45*G45,0) -> 662
A46: 003.013 | B46: I1565 | C46: ACARREO INTERNO | D46: Insumo | E46: UND | F46: 2.4 | G46: 1733 | H46: =ROUND(F46*G46,0) -> 4159
A47: 003.013 | B47: I574 | C47: CODO 90° 1/4 CXC SANITARIO 2'' | D47: Insumo | E47: UND | F47: 1 | G47: 4058 | H47: =ROUND(F47*G47,0) -> 4058
A48: 003.013 | B48: I614 | C48: LIMPIADOR REM PVC 760 GRMS. (1/4) | D48: Insumo | E48: UND | F48: 0.05 | G48: 59308 | H48: =ROUND(F48*G48,0) -> 2965
A49: 003.013 | B49: I647 | C49: SOLDADURA PVC LIQUIDA 1/4 | D49: Insumo | E49: UND | F49: 0.05 | G49: 122942 | H49: =ROUND(F49*G49,0) -> 6147
...

Sheet AU
A1: PROYECTO | B1: BASE A.U OBRA / SECRETARIA DE INFRAESTRUCTURA
A3: Valor estimado de la Obra (Costo Directo). | C3: Valor | E3: =+'FORMULARIO 01'!#REF! -> #REF!
A4: Plazo estimado de ejecución | C4: Meses | E4: 2
C5: Días | E5: =+E4*30 -> 60
A7: CAPITULO | B7: TIPO DE GASTO | C7: UN | D7: CANTIDAD | E7: DEDICACIÓN (del tiempo de la obra) | F7: VALOR UNITARIO (mes) | G7: Factor Prestacional | H7: VALOR TOTAL | I7: SUMA | J7: PORCENTAJE
A9: 1 | B9: GASTOS GENERALES. | J9: =+J10 -> #REF!
A10: 1.1 | B10: MANO DE OBRA Y GASTOS DE OFICINA | I10: =SUM(H11:H22) -> 15699762 | J10: =+I10/$E$3 -> #REF! | K10: =SUM(J11:J23) -> #REF!
B11: Director(a) de Obra | C11: Un | D11: 1 | E11: 0 | F11: 6500000 | G11: 0.5483 | H11: =+D11*E11*F11*(1+G11)*$E$4 -> 0 | J11: =+H11/$E$3 -> #REF!
B12: Ingeniero(a) Civil Residente | C12: Un | D12: 1 | E12: 0.5 | F12: 4200000 | G12: 0.5483 | H12: =+D12*E12*F12*(1+G12)*$E$4 -> 6502860 | J12: =+H12/$E$3 -> #REF!
B13: Técnico constructor como Maestro de obra (Inspector de Obra) | C13: Un | D13: 1 | E13: 0.5 | F13: 2690000 | G13: 0.5483 | H13: =+D13*E13*F13*(1+G13)*$E$4 -> 4164927 | J13: =+H13/$E$3 -> #REF!
B14: Profesional en Seguridad y Salud en el Trabajo - HSEQ | C14: Un | D14: 1 | E14: 0.5 | F14: 3250000 | G14: 0.5483 | H14: =+D14*E14*F14*(1+G14)*$E$4 -> 5031975 | J14: =+H14/$E$3 -> #REF!
B15: Técnico Electricista | C15: Un | D15: 1 | E15: 0 | F15: 2690000 | G15: 0.5483 | H15: =+D15*E15*F15*(1+G15)*$E$4 -> 0 | J15: =+H15/$E$3 -> #REF!
B16: Trabajador(a) social | C16: Un | D16: 1 | E16: 0 | F16: 3250000 | G16: 0.5483 | H16: =+D16*E16*F16*(1+G16)*$E$4 -> 0 | J16: =+H16/$E$3 -> #REF!
B17: Ingeniero(a) Ambiental | C17: Un | D17: 1 | E17: 0 | F17: 3250000 | G17: 0.5483 | H17: =+D17*E17*F17*(1+G17)*$E$4 -> 0 | J17: =+H17/$E$3 -> #REF!
B18: Secretaria con prestaciones | C18: Un | D18: 1 | E18: 0 | F18: 1300000 | G18: 0.6995 | H18: =+D18*E18*F18*(1+G18)*$E$4 -> 0 | J18: =+H18/$E$3 -> #REF!
B20: Oficina y/o campamento (Equipo de Oficina, Escritorio, pc, impresora, sillas, papeleria, consumo servicios publicos etc) | C20: Mes | D20: 0 | E20: 1 | F20: 800000 | H20: =+D20*E20*F20*E4 -> 0 | J20: =+H20/$E$3 -> #REF!
B21: Plan Manejo Tránsito | C21: Un | D21: 0 | E21: 1 | F21: 1000000 | H21: =+D21*E21*F21 -> 0 | J21: =+H21/$E$3 -> #REF!
B22: Ensayos de laboratorio | C22: Gl | D22: 0 | E22: 1 | F22: 500000 | H22: =D22*E22*F22*E4 -> 0 | J22: =+H22/$E$3 -> #REF!
J23: =+H23/$E$3 -> #REF!
A24: 2 | B24: GASTOS INDIRECTOS. | J24: =J25+J28+J34+J38 -> #REF! | K24: =SUM(K28:K46) -> #REF!
A25: 2.1 | B25: LEGALIZACION.
B26: Factor de formula circular | G26: 1.393
A28: 2.2 | B28: POLIZAS | I28: =SUM(H29:H32) -> #REF! | J28: =+I28/$E$3 -> #REF! | K28: =SUM(J29:J32) -> #REF!
B29: Cumplimiento del contrato | C29: % | D29: 0.0006 | F29: =+$E$3 -> #REF! | G29: =+$G$26 -> 1.393 | H29: =+(((F29*G29*D29)/365)*($E$5+120))*1.19 -> #REF! | J29: =+H29/$E$3 -> #REF!
B30: Estabilidad de la obra | C30: % | D30: 0.0009 | F30: =+$E$3 -> #REF! | G30: =+$G$26 -> 1.393 | H30: =+(((F30*G30*D30)/365)*(1825))*1.19 -> #REF! | J30: =+H30/$E$3 -> #REF!
B31: Pago de salarios, prestaciones sociales legales e indemnizaciones laborales | C31: % | D31: 0.0005 | F31: =+$E$3 -> #REF! | G31: =+$G$26 -> 1.393 | H31: =+(((F31*G31*D31)/365)*($E$5+1095))*1.19 -> #REF! | J31: =+H31/$E$3 -> #REF!
B32: Resposabilidad civil extracontractual | C32: % | D32: 0.0025 | F32: 348000000 | G32: =+$G$26 -> 1.393 | H32: =+(((F32*G32*D32)/365)*($E$5+0))*1.19 -> 237069.52 | J32: =+H32/$E$3 -> #REF!
A34: 2.3 | B34: VALLAS Y SEÑALIZACIÓN | I34: =SUM(H35:H36) -> 2220000 | J34: =+I34/$E$3 -> #REF! | K34: =SUM(J35:J36) -> #REF!
B35: Valla (8 metros cuadrados en lona) | C35: Un | D35: 1 | E35: 1 | F35: 720000 | H35: =+D35*F35 -> 720000 | J35: =+H35/$E$3 -> #REF!
B36: Señalización obra (señalizacion vertical, delineadores y cinta) etc | C36: Gb | D36: 1 | F36: 1500000 | H36: =+F36*D36 -> 1500000 | J36: =+H36/$E$3 -> #REF!
A38: 2.4 | B38: IMPUESTOS Y VALORES AGREGADOS | I38: =SUM(H39:H46) -> #REF! | J38: =+I38/$E$3 -> #REF! | K38: =SUM(J39:J46) -> #REF!
B39: Contribución Especial (Seguridad Ciudadana) | C39: % | D39: 0.05 | F39: =+$E$3 -> #REF! | G39: =+$G$26 -> 1.393 | H39: =+D39*F39*G39 -> #REF! | J39: =+H39/$E$3 -> #REF!
B40: Estampillas para el bienestar del adulto mayor | C40: % | D40: 0.02 | F40: =+$E$3 -> #REF! | G40: =+$G$26 -> 1.393 | H40: =+D40*F40*G40 -> #REF! | J40: =+H40/$E$3 -> #REF!
B41: Estampillas Pro - Universidades. | C41: % | D41: 0.02 | F41: =+$E$3 -> #REF! | G41: =+$G$26 -> 1.393 | H41: =+D41*F41*G41 -> #REF! | J41: =+H41/$E$3 -> #REF!
B42: Tasa Pro Deporte y Recreación | C42: % | D42: 0.005 | F42: =+$E$3 -> #REF! | G42: =+$G$26 -> 1.393 | H42: =+D42*F42*G42 -> #REF! | J42: =+H42/$E$3 -> #REF!
B43: Estampilla Pro Cultura | C43: % | D43: 0.02 | F43: =+$E$3 -> #REF! | G43: =+$G$26 -> 1.393 | H43: =+D43*F43*G43 -> #REF! | J43: =+H43/$E$3 -> #REF!
B44: Estampilla Pro Justicia Familiar | C44: % | D44: 0.02 | F44: =+$E$3 -> #REF! | G44: =+$G$26 -> 1.393 | H44: =+D44*F44*G44 -> #REF! | J44: =+H44/$E$3 -> #REF!
B45: 4/1000 (transacciones financieras) | C45: % | D45: 0.004 | F45: =+$E$3 -> #REF! | G45: =+$G$26 -> 1.393 | H45: =+D45*F45*G45 -> #REF! | J45: =+H45/$E$3 -> #REF!
B46: Industria y Comercio 3,5 x 1.000 sobre valor total. | C46: % | D46: 0.0037 | F46: =+$E$3 -> #REF! | G46: =+$G$26 -> 1.393 | H46: =+D46*F46*G46 -> #REF! | J46: =+H46/$E$3 -> #REF!
B47: TOTAL GASTOS INDIRECTOS DE ADMINISTRACION. | I47: =SUM(I10:I46) -> #REF! | J47: =+ROUND((J9+J24),4) -> #REF! | K47: =+J24+J9 -> #REF!
...

Sheet CALCULOS
B3: 010.013. SUMINISTRO. TRANSPORTE E INSTALACION IMPERMEABILIZACION Tipo Manto Morter Plas AL - 80 de 3.5 mm con foil de aluminio o Similar. | G3: =SUM(G5:G8) -> 161.47
B4: N° | C4: Longitud | D4: Ancho | E4: Área | F4: Cantidad | G4: Área Total
B5: 1 | C5: 5.2 | D5: 4.1 | E5: =+C5*D5 -> 21.32 | F5: 1 | G5: =+F5*E5 -> 21.32
B6: 2 | C6: 15.5 | D6: 10 | E6: =+C6*D6 -> 155 | F6: 1 | G6: =+F6*E6 -> 155
B7: 3 | C7: 4.5 | D7: 4 | E7: =+C7*D7 -> 18 | F7: 1 | G7: =+F7*E7 -> 18
B8: 4 | C8: 7.3 | D8: 4.5 | E8: =+C8*-D8 -> -32.85 | F8: 1 | G8: =+F8*E8 -> -32.85
B10: 010.026. RECORRIDO DE CUBIERTA | G10: =SUM(G12:G19) -> 547.0225
B11: N° | C11: Longitud | D11: Ancho | E11: Área | F11: Cantidad | G11: Área Total | K11: =SUM(C12:C19) -> 96.65
B12: 1 | C12: 20.5 | D12: 5.5 | E12: =+C12*D12 -> 112.75 | F12: 1 | G12: =+F12*E12 -> 112.75 | K12: =SUM(D12:D19) -> 43.2
B13: 2 | C13: 16.5 | D13: 4.5 | E13: =+C13*D13 -> 74.25 | F13: 1 | G13: =+F13*E13 -> 74.25 | K13: =+K12+K11 -> 139.85
B14: 3 | C14: 13.55 | D14: 6 | E14: =+C14*D14 -> 81.3 | F14: 1 | G14: =+F14*E14 -> 81.3
B15: 4 | C15: 9 | D15: 4.5 | E15: =+C15*D15 -> 40.5 | F15: 1 | G15: =+F15*E15 -> 40.5
B16: 5 | C16: 7.05 | D16: 3.3 | E16: =+C16*D16 -> 23.265 | F16: 2 | G16: =+F16*E16 -> 46.53
B17: 6 | C17: 7.5 | D17: 7.05 | E17: =+C17*D17 -> 52.875 | F17: 1 | G17: =+F17*E17 -> 52.875
B18: 7 | C18: 10.05 | D18: 6.35 | E18: =+C18*D18 -> 63.8175 | F18: 1 | G18: =+F18*E18 -> 63.8175 | I18: =4.05*2.05 -> 8.3025
B19: 8 | C19: 12.5 | D19: 6 | E19: =+C19*D19 -> 75 | F19: 1 | G19: =+F19*E19 -> 75
B21: 011.009. SUMINISTRO. TRANSPORTE E INSTALACIÓN DE CIELO RASO EN LÁMINAS DE PVC | G21: =SUM(G23:G26) -> 136.32 | H21: =SUM(H23:H26) -> 63.07
B22: N° | C22: Longitud | D22: Ancho | E22: Área | F22: Cantidad | G22: Área Total
B23: 1 | C23: 5.95 | D23: 5.3 | E23: =+D23*C23 -> 31.535 | F23: 2 | G23: =+F23*E23 -> 63.07 | H23: =+G23 -> 63.07
B24: 2 | C24: 9.55 | D24: 6.35 | E24: =+D24*C24 -> 60.6425 | F24: 1 | G24: =+F24*E24 -> 60.6425
B25: 3 | C25: 4.05 | D25: 2.05 | E25: =+D25*C25 -> 8.3025 | F25: 1 | G25: =+F25*E25 -> 8.3025
B26: 4 | C26: 2.1 | D26: 2.05 | E26: =+D26*C26 -> 4.305 | F26: 1 | G26: =+F26*E26 -> 4.305
B28: 019.006. SUMINISTRO. TRANSPORTE E INSTALACION PINTURA SOBRE REVOQUE VINILO 3 MANOS SOBRE MURO (INCLUYE 1 MANO EN PINTURA TIPO 2 Y DOS MANOS EN PINTURA TIPO 1. FILOS Y DILATACIONES). COLOR SEGÚN DISEÑO POR ML | G28: =SUM(G30:G44) -> 817.8
B29: N° | C29: Descripción | D29: Altura | E29: Longitud | F29: Cantidad | G29: Longitud Total
B30: 1 | C30: Columnas - Frontal | D30: 2.5 | F30: 40 | G30: =+F30*D30 -> 100
B31: 2 | C31: Columnas - Laterales | D31: 2.5 | F31: 75 | G31: =+F31*D31 -> 187.5
B32: 3 | C32: Viga Superior | E32: 16.5 | F32: 2 | G32: =+F32*E32 -> 33
B33: 1 | C33: Columnas - Frontal | D33: 2.3 | F33: 14 | G33: =+F33*D33 -> 32.2
B34: 2 | C34: Columnas - Laterales | D34: 2.3 | F34: 26 | G34: =+F34*D34 -> 59.8
B35: 3 | C35: Viga Superior | E35: 13.55 | F35: 2 | G35: =+F35*E35 -> 27.1
B36: 1 | C36: Columnas - Frontal | D36: 3 | F36: 9 | G36: =+F36*D36 -> 27 | N36: =1.12+1.18+0.4 -> 2.7
B37: 2 | C37: Columnas - Laterales | D37: 3 | F37: 17 | G37: =+F37*D37 -> 51
B38: 3 | C38: Viga Superior | E38: 9 | F38: 2 | G38: =+F38*E38 -> 18
B39: 1 | C39: Columnas - Frontal | D39: 2.4 | F39: 20 | G39: =+F39*D39 -> 48
B40: 2 | C40: Columnas - Laterales | D40: 2.4 | F40: 38 | G40: =+F40*D40 -> 91.2
B41: 3 | C41: Viga Superior | E41: 20.5 | F41: 2 | G41: =+F41*E41 -> 41
B42: 1 | C42: Columnas - Frontal | D42: 2.2 | F42: 12 | G42: =+F42*D42 -> 26.4
B43: 2 | C43: Columnas - Laterales | D43: 2.2 | F43: 23 | G43: =+F43*D43 -> 50.6
B44: 3 | C44: Viga Superior | E44: 12.5 | F44: 2 | G44: =+F44*E44 -> 25
B46: 019.007. SUMINISTRO. TRANSPORTE E INSTALACION PINTURA SOBRE REVOQUE VINILO 3 MANOS SOBRE MURO (INCLUYE 1 MANO EN PINTURA TIPO 2 Y DOS MANOS EN PINTURA TIPO 1. FILOS Y DILATACIONES). COLOR SEGÚN DISEÑO POR M2 | G46: =SUM(G48:G62)+SUM(H48:H62) -> 221.8726
...
