Workbook

Sheet Resumen
A1: Cod Depto | B1: Departamento | C1: Cantidad niñas, niños y adolescentes Atrapasuesños Espacios Comunitarios 2024 | D1: Zonificación | E1: Costo Etapa Alistamiento | F1: Costo Etapa Atención | G1: Costo Etapa Ciere | H1: Costo Total atención (Recursos ICBF) | I1: Contrapartida del 3% | J1: Total Valor (Recursos ICBF + Contrapartida del 3%)
A2: 5 | B2: Antioquia | C2: =+SUMIF(Detallado!$H$2:$H$774,Resumen!D2,Detallado!$G$2:$G$774) -> 1600 | D2: 1 | E2: =+SUMIF(Detallado!$H$2:$H$774,Resumen!D2,Detallado!$O$2:$O$774) -> 124711200 | F2: =+SUMIF(Detallado!$H$2:$H$774,Resumen!D2,Detallado!$P$2:$P$774) -> 2174808000 | G2: =+SUMIF(Detallado!$H$2:$H$774,Resumen!D2,Detallado!$Q$2:$Q$774) -> 114470400 | H2: =+SUMIF(Detallado!$H$2:$H$774,Resumen!D2,Detallado!$R$2:$R$774) -> 2413989600 | I2: =+SUMIF(Detallado!$H$2:$H$774,Resumen!D2,Detallado!$S$2:$S$774) -> 72419689 | J2: =+SUMIF(Detallado!$H$2:$H$774,Resumen!D2,Detallado!$T$2:$T$774) -> 2486409289
A3: 5 | B3: Antioquia | C3: =+SUMIF(Detallado!$H$2:$H$774,Resumen!D3,Detallado!$G$2:$G$774) -> 1000 | D3: 2 | E3: =+SUMIF(Detallado!$H$2:$H$774,Resumen!D3,Detallado!$O$2:$O$774) -> 77944500 | F3: =+SUMIF(Detallado!$H$2:$H$774,Resumen!D3,Detallado!$P$2:$P$774) -> 1359255000 | G3: =+SUMIF(Detallado!$H$2:$H$774,Resumen!D3,Detallado!$Q$2:$Q$774) -> 71544000 | H3: =+SUMIF(Detallado!$H$2:$H$774,Resumen!D3,Detallado!$R$2:$R$774) -> 1508743500 | I3: =+SUMIF(Detallado!$H$2:$H$774,Resumen!D3,Detallado!$S$2:$S$774) -> 45262306 | J3: =+SUMIF(Detallado!$H$2:$H$774,Resumen!D3,Detallado!$T$2:$T$774) -> 1554005806
A4: 5 | B4: Antioquia | C4: =+SUMIF(Detallado!$H$2:$H$774,Resumen!D4,Detallado!$G$2:$G$774) -> 1300 | D4: 3 | E4: =+SUMIF(Detallado!$H$2:$H$774,Resumen!D4,Detallado!$O$2:$O$774) -> 101327850 | F4: =+SUMIF(Detallado!$H$2:$H$774,Resumen!D4,Detallado!$P$2:$P$774) -> 1767031500 | G4: =+SUMIF(Detallado!$H$2:$H$774,Resumen!D4,Detallado!$Q$2:$Q$774) -> 93007200 | H4: =+SUMIF(Detallado!$H$2:$H$774,Resumen!D4,Detallado!$R$2:$R$774) -> 1961366550 | I4: =+SUMIF(Detallado!$H$2:$H$774,Resumen!D4,Detallado!$S$2:$S$774) -> 58840998 | J4: =+SUMIF(Detallado!$H$2:$H$774,Resumen!D4,Detallado!$T$2:$T$774) -> 2020207548
A5: 5 | B5: Antioquia | C5: =+SUMIF(Detallado!$H$2:$H$774,Resumen!D5,Detallado!$G$2:$G$774) -> 1500 | D5: 4 | E5: =+SUMIF(Detallado!$H$2:$H$774,Resumen!D5,Detallado!$O$2:$O$774) -> 116916750 | F5: =+SUMIF(Detallado!$H$2:$H$774,Resumen!D5,Detallado!$P$2:$P$774) -> 2038882500 | G5: =+SUMIF(Detallado!$H$2:$H$774,Resumen!D5,Detallado!$Q$2:$Q$774) -> 107316000 | H5: =+SUMIF(Detallado!$H$2:$H$774,Resumen!D5,Detallado!$R$2:$R$774) -> 2263115250 | I5: =+SUMIF(Detallado!$H$2:$H$774,Resumen!D5,Detallado!$S$2:$S$774) -> 67893458 | J5: =+SUMIF(Detallado!$H$2:$H$774,Resumen!D5,Detallado!$T$2:$T$774) -> 2331008708
A6: 5 | B6: Antioquia | C6: =+SUMIF(Detallado!$H$2:$H$774,Resumen!D6,Detallado!$G$2:$G$774) -> 1000 | D6: 5 | E6: =+SUMIF(Detallado!$H$2:$H$774,Resumen!D6,Detallado!$O$2:$O$774) -> 77944500 | F6: =+SUMIF(Detallado!$H$2:$H$774,Resumen!D6,Detallado!$P$2:$P$774) -> 1359255000 | G6: =+SUMIF(Detallado!$H$2:$H$774,Resumen!D6,Detallado!$Q$2:$Q$774) -> 71544000 | H6: =+SUMIF(Detallado!$H$2:$H$774,Resumen!D6,Detallado!$R$2:$R$774) -> 1508743500 | I6: =+SUMIF(Detallado!$H$2:$H$774,Resumen!D6,Detallado!$S$2:$S$774) -> 45262306 | J6: =+SUMIF(Detallado!$H$2:$H$774,Resumen!D6,Detallado!$T$2:$T$774) -> 1554005806
A7: 5 | B7: Antioquia | C7: =+SUMIF(Detallado!$H$2:$H$774,Resumen!D7,Detallado!$G$2:$G$774) -> 500 | D7: 6 | E7: =+SUMIF(Detallado!$H$2:$H$774,Resumen!D7,Detallado!$O$2:$O$774) -> 38972250 | F7: =+SUMIF(Detallado!$H$2:$H$774,Resumen!D7,Detallado!$P$2:$P$774) -> 679627500 | G7: =+SUMIF(Detallado!$H$2:$H$774,Resumen!D7,Detallado!$Q$2:$Q$774) -> 35772000 | H7: =+SUMIF(Detallado!$H$2:$H$774,Resumen!D7,Detallado!$R$2:$R$774) -> 754371750 | I7: =+SUMIF(Detallado!$H$2:$H$774,Resumen!D7,Detallado!$S$2:$S$774) -> 22631153 | J7: =+SUMIF(Detallado!$H$2:$H$774,Resumen!D7,Detallado!$T$2:$T$774) -> 777002903
A8: 5 | B8: Antioquia | C8: =+SUMIF(Detallado!$H$2:$H$774,Resumen!D8,Detallado!$G$2:$G$774) -> 1200 | D8: 7 | E8: =+SUMIF(Detallado!$H$2:$H$774,Resumen!D8,Detallado!$O$2:$O$774) -> 93533400 | F8: =+SUMIF(Detallado!$H$2:$H$774,Resumen!D8,Detallado!$P$2:$P$774) -> 1631106000 | G8: =+SUMIF(Detallado!$H$2:$H$774,Resumen!D8,Detallado!$Q$2:$Q$774) -> 85852800 | H8: =+SUMIF(Detallado!$H$2:$H$774,Resumen!D8,Detallado!$R$2:$R$774) -> 1810492200 | I8: =+SUMIF(Detallado!$H$2:$H$774,Resumen!D8,Detallado!$S$2:$S$774) -> 54314767 | J8: =+SUMIF(Detallado!$H$2:$H$774,Resumen!D8,Detallado!$T$2:$T$774) -> 1864806967
A9: 5 | B9: Antioquia | C9: =+SUMIF(Detallado!$H$2:$H$774,Resumen!D9,Detallado!$G$2:$G$774) -> 800 | D9: 8 | E9: =+SUMIF(Detallado!$H$2:$H$774,Resumen!D9,Detallado!$O$2:$O$774) -> 62355600 | F9: =+SUMIF(Detallado!$H$2:$H$774,Resumen!D9,Detallado!$P$2:$P$774) -> 1087404000 | G9: =+SUMIF(Detallado!$H$2:$H$774,Resumen!D9,Detallado!$Q$2:$Q$774) -> 57235200 | H9: =+SUMIF(Detallado!$H$2:$H$774,Resumen!D9,Detallado!$R$2:$R$774) -> 1206994800 | I9: =+SUMIF(Detallado!$H$2:$H$774,Resumen!D9,Detallado!$S$2:$S$774) -> 36209845 | J9: =+SUMIF(Detallado!$H$2:$H$774,Resumen!D9,Detallado!$T$2:$T$774) -> 1243204645
A10: 5 | B10: Antioquia | C10: =+SUMIF(Detallado!$H$2:$H$774,Resumen!D10,Detallado!$G$2:$G$774) -> 1000 | D10: 9 | E10: =+SUMIF(Detallado!$H$2:$H$774,Resumen!D10,Detallado!$O$2:$O$774) -> 77944500 | F10: =+SUMIF(Detallado!$H$2:$H$774,Resumen!D10,Detallado!$P$2:$P$774) -> 1359255000 | G10: =+SUMIF(Detallado!$H$2:$H$774,Resumen!D10,Detallado!$Q$2:$Q$774) -> 71544000 | H10: =+SUMIF(Detallado!$H$2:$H$774,Resumen!D10,Detallado!$R$2:$R$774) -> 1508743500 | I10: =+SUMIF(Detallado!$H$2:$H$774,Resumen!D10,Detallado!$S$2:$S$774) -> 45262306 | J10: =+SUMIF(Detallado!$H$2:$H$774,Resumen!D10,Detallado!$T$2:$T$774) -> 1554005806
A11: 5 | B11: Antioquia | C11: =+SUMIF(Detallado!$H$2:$H$774,Resumen!D11,Detallado!$G$2:$G$774) -> 1200 | D11: 10 | E11: =+SUMIF(Detallado!$H$2:$H$774,Resumen!D11,Detallado!$O$2:$O$774) -> 93533400 | F11: =+SUMIF(Detallado!$H$2:$H$774,Resumen!D11,Detallado!$P$2:$P$774) -> 1631106000 | G11: =+SUMIF(Detallado!$H$2:$H$774,Resumen!D11,Detallado!$Q$2:$Q$774) -> 85852800 | H11: =+SUMIF(Detallado!$H$2:$H$774,Resumen!D11,Detallado!$R$2:$R$774) -> 1810492200 | I11: =+SUMIF(Detallado!$H$2:$H$774,Resumen!D11,Detallado!$S$2:$S$774) -> 54314768 | J11: =+SUMIF(Detallado!$H$2:$H$774,Resumen!D11,Detallado!$T$2:$T$774) -> 1864806968
A12: 5 | B12: Antioquia | C12: =+SUMIF(Detallado!$H$2:$H$774,Resumen!D12,Detallado!$G$2:$G$774) -> 800 | D12: 11 | E12: =+SUMIF(Detallado!$H$2:$H$774,Resumen!D12,Detallado!$O$2:$O$774) -> 62355600 | F12: =+SUMIF(Detallado!$H$2:$H$774,Resumen!D12,Detallado!$P$2:$P$774) -> 1087404000 | G12: =+SUMIF(Detallado!$H$2:$H$774,Resumen!D12,Detallado!$Q$2:$Q$774) -> 57235200 | H12: =+SUMIF(Detallado!$H$2:$H$774,Resumen!D12,Detallado!$R$2:$R$774) -> 1206994800 | I12: =+SUMIF(Detallado!$H$2:$H$774,Resumen!D12,Detallado!$S$2:$S$774) -> 36209846 | J12: =+SUMIF(Detallado!$H$2:$H$774,Resumen!D12,Detallado!$T$2:$T$774) -> 1243204646
A13: 5 | B13: Antioquia | C13: =+SUMIF(Detallado!$H$2:$H$774,Resumen!D13,Detallado!$G$2:$G$774) -> 1200 | D13: 12 | E13: =+SUMIF(Detallado!$H$2:$H$774,Resumen!D13,Detallado!$O$2:$O$774) -> 93533400 | F13: =+SUMIF(Detallado!$H$2:$H$774,Resumen!D13,Detallado!$P$2:$P$774) -> 1631106000 | G13: =+SUMIF(Detallado!$H$2:$H$774,Resumen!D13,Detallado!$Q$2:$Q$774) -> 85852800 | H13: =+SUMIF(Detallado!$H$2:$H$774,Resumen!D13,Detallado!$R$2:$R$774) -> 1810492200 | I13: =+SUMIF(Detallado!$H$2:$H$774,Resumen!D13,Detallado!$S$2:$S$774) -> 54314768 | J13: =+SUMIF(Detallado!$H$2:$H$774,Resumen!D13,Detallado!$T$2:$T$774) -> 1864806968
... A164: 99 | B164: Vichada | C164: =+SUMIF(Detallado!$H$2:$H$774,Resumen!D164,Detallado!$G$2:$G$774) -> 500 | D164: 163 | E164: =+SUMIF(Detallado!$H$2:$H$774,Resumen!D164,Detallado!$O$2:$O$774) -> 43922750 | F164: =+SUMIF(Detallado!$H$2:$H$774,Resumen!D164,Detallado!$P$2:$P$774) -> 746595000 | G164: =+SUMIF(Detallado!$H$2:$H$774,Resumen!D164,Detallado!$Q$2:$Q$774) -> 39418000 | H164: =+SUMIF(Detallado!$H$2:$H$774,Resumen!D164,Detallado!$R$2:$R$774) -> 829935750 | I164: =+SUMIF(Detallado!$H$2:$H$774,Resumen!D164,Detallado!$S$2:$S$774) -> 24898073 | J164: =+SUMIF(Detallado!$H$2:$H$774,Resumen!D164,Detallado!$T$2:$T$774) -> 854833823
A165: Total general | C165: =SUM(C2:C164) -> 144400 | E165: =SUM(E2:E164) -> 11546236150 | F165: =SUM(F2:F164) -> 200573734500 | G165: =SUM(G2:G164) -> 10434013800 | H165: =SUM(H2:H164) -> 222553984450 | I165: =SUM(I2:I164) -> 6676619653 | J165: =SUM(J2:J164) -> 229230604103

Sheet Detallado
A1: Cod Depto | B1: Departamento | C1: Cód. Municipio Divipola | D1: Municipio | E1: Cód. CZ - Área de influencia 2024 | F1: Nombre CZ - Área de influencia 2024 | G1: Cantidad niñas, niños y adolescentes Atrapasuesños Espacios Comunitarios 2024 | H1: Zonificación | I1: Costo cupos mes (Etapa Alistamiento) | J1: Costo cupos mes (Etapa Atención) | K1: Costo cupos mes (Etapa Cierre) | L1: Tiempo Etapa Alistamiento | M1: Tiempo Etapa Atención | N1: Tiempo Etapa Ciere | O1: Costo Etapa Alistamiento | P1: Costo Etapa Atención | Q1: Costo Etapa Ciere | R1: Costo Total atención (Recursos ICBF) | S1: Contrapartida del 3% | T1: Total Valor (Recursos ICBF + Contrapartida del 3%)
A2: 5 | B2: Antioquia | C2: 5079 | D2: Barbosa | E2: 0505 | F2: CZ ABURRA NORTE | G2: 300 | H2: 1 | I2: 155889 | J2: 271851 | K2: 143088 | L2: 0.5 | M2: 5 | N2: 0.5 | O2: =+ROUND(I2*L2*$G2,0) -> 23383350 | P2: =+ROUND(J2*M2*$G2,0) -> 407776500 | Q2: =+ROUND(K2*N2*$G2,0) -> 21463200 | R2: =+ROUND(SUM(O2:Q2),0) -> 452623050 | S2: =+ROUNDUP(R2*3%,0) -> 13578692 | T2: =+R2+S2 -> 466201742
A3: 5 | B3: Antioquia | C3: 5088 | D3: Bello | E3: 0505 | F3: CZ ABURRA NORTE | G3: 400 | H3: 1 | I3: 155889 | J3: 271851 | K3: 143088 | L3: 0.5 | M3: 5 | N3: 0.5 | O3: =+ROUND(I3*L3*$G3,0) -> 31177800 | P3: =+ROUND(J3*M3*$G3,0) -> 543702000 | Q3: =+ROUND(K3*N3*$G3,0) -> 28617600 | R3: =+ROUND(SUM(O3:Q3),0) -> 603497400 | S3: =+ROUNDUP(R3*3%,0) -> 18104922 | T3: =+R3+S3 -> 621602322
A4: 5 | B4: Antioquia | C4: 5212 | D4: Copacabana | E4: 0505 | F4: CZ ABURRA NORTE | G4: 200 | H4: 1 | I4: 155889 | J4: 271851 | K4: 143088 | L4: 0.5 | M4: 5 | N4: 0.5 | O4: =+ROUND(I4*L4*$G4,0) -> 15588900 | P4: =+ROUND(J4*M4*$G4,0) -> 271851000 | Q4: =+ROUND(K4*N4*$G4,0) -> 14308800 | R4: =+ROUND(SUM(O4:Q4),0) -> 301748700 | S4: =+ROUNDUP(R4*3%,0) -> 9052461 | T4: =+R4+S4 -> 310801161
A5: 5 | B5: Antioquia | C5: 5237 | D5: Donmatías | E5: 0505 | F5: CZ ABURRA NORTE | G5: 200 | H5: 1 | I5: 155889 | J5: 271851 | K5: 143088 | L5: 0.5 | M5: 5 | N5: 0.5 | O5: =+ROUND(I5*L5*$G5,0) -> 15588900 | P5: =+ROUND(J5*M5*$G5,0) -> 271851000 | Q5: =+ROUND(K5*N5*$G5,0) -> 14308800 | R5: =+ROUND(SUM(O5:Q5),0) -> 301748700 | S5: =+ROUNDUP(R5*3%,0) -> 9052461 | T5: =+R5+S5 -> 310801161
A6: 5 | B6: Antioquia | C6: 5308 | D6: Girardota | E6: 0505 | F6: CZ ABURRA NORTE | G6: 300 | H6: 1 | I6: 155889 | J6: 271851 | K6: 143088 | L6: 0.5 | M6: 5 | N6: 0.5 | O6: =+ROUND(I6*L6*$G6,0) -> 23383350 | P6: =+ROUND(J6*M6*$G6,0) -> 407776500 | Q6: =+ROUND(K6*N6*$G6,0) -> 21463200 | R6: =+ROUND(SUM(O6:Q6),0) -> 452623050 | S6: =+ROUNDUP(R6*3%,0) -> 13578692 | T6: =+R6+S6 -> 466201742
A7: 5 | B7: Antioquia | C7: 5664 | D7: San Pedro de Los Milagros | E7: 0505 | F7: CZ ABURRA NORTE | G7: 200 | H7: 1 | I7: 155889 | J7: 271851 | K7: 143088 | L7: 0.5 | M7: 5 | N7: 0.5 | O7: =+ROUND(I7*L7*$G7,0) -> 15588900 | P7: =+ROUND(J7*M7*$G7,0) -> 271851000 | Q7: =+ROUND(K7*N7*$G7,0) -> 14308800 | R7: =+ROUND(SUM(O7:Q7),0) -> 301748700 | S7: =+ROUNDUP(R7*3%,0) -> 9052461 | T7: =+R7+S7 -> 310801161
A8: 5 | B8: Antioquia | C8: 5282 | D8: Fredonia | E8: 0506 | F8: CZ ABURRA SUR | G8: 400 | H8: 2 | I8: 155889 | J8: 271851 | K8: 143088 | L8: 0.5 | M8: 5 | N8: 0.5 | O8: =+ROUND(I8*L8*$G8,0) -> 31177800 | P8: =+ROUND(J8*M8*$G8,0) -> 543702000 | Q8: =+ROUND(K8*N8*$G8,0) -> 28617600 | R8: =+ROUND(SUM(O8:Q8),0) -> 603497400 | S8: =+ROUNDUP(R8*3%,0) -> 18104922 | T8: =+R8+S8 -> 621602322
A9: 5 | B9: Antioquia | C9: 5467 | D9: Montebello | E9: 0506 | F9: CZ ABURRA SUR | G9: 300 | H9: 2 | I9: 155889 | J9: 271851 | K9: 143088 | L9: 0.5 | M9: 5 | N9: 0.5 | O9: =+ROUND(I9*L9*$G9,0) -> 23383350 | P9: =+ROUND(J9*M9*$G9,0) -> 407776500 | Q9: =+ROUND(K9*N9*$G9,0) -> 21463200 | R9: =+ROUND(SUM(O9:Q9),0) -> 452623050 | S9: =+ROUNDUP(R9*3%,0) -> 13578692 | T9: =+R9+S9 -> 466201742
A10: 5 | B10: Antioquia | C10: 5861 | D10: Venecia | E10: 0506 | F10: CZ ABURRA SUR | G10: 300 | H10: 2 | I10: 155889 | J10: 271851 | K10: 143088 | L10: 0.5 | M10: 5 | N10: 0.5 | O10: =+ROUND(I10*L10*$G10,0) -> 23383350 | P10: =+ROUND(J10*M10*$G10,0) -> 407776500 | Q10: =+ROUND(K10*N10*$G10,0) -> 21463200 | R10: =+ROUND(SUM(O10:Q10),0) -> 452623050 | S10: =+ROUNDUP(R10*3%,0) -> 13578692 | T10: =+R10+S10 -> 466201742
A11: 5 | B11: Antioquia | C11: 5030 | D11: Amagá | E11: 0506 | F11: CZ ABURRA SUR | G11: 300 | H11: 3 | I11: 155889 | J11: 271851 | K11: 143088 | L11: 0.5 | M11: 5 | N11: 0.5 | O11: =+ROUND(I11*L11*$G11,0) -> 23383350 | P11: =+ROUND(J11*M11*$G11,0) -> 407776500 | Q11: =+ROUND(K11*N11*$G11,0) -> 21463200 | R11: =+ROUND(SUM(O11:Q11),0) -> 452623050 | S11: =+ROUNDUP(R11*3%,0) -> 13578692 | T11: =+R11+S11 -> 466201742
A12: 5 | B12: Antioquia | C12: 5036 | D12: Angelópolis | E12: 0506 | F12: CZ ABURRA SUR | G12: 300 | H12: 3 | I12: 155889 | J12: 271851 | K12: 143088 | L12: 0.5 | M12: 5 | N12: 0.5 | O12: =+ROUND(I12*L12*$G12,0) -> 23383350 | P12: =+ROUND(J12*M12*$G12,0) -> 407776500 | Q12: =+ROUND(K12*N12*$G12,0) -> 21463200 | R12: =+ROUND(SUM(O12:Q12),0) -> 452623050 | S12: =+ROUNDUP(R12*3%,0) -> 13578692 | T12: =+R12+S12 -> 466201742
A13: 5 | B13: Antioquia | C13: 5129 | D13: Caldas | E13: 0506 | F13: CZ ABURRA SUR | G13: 300 | H13: 3 | I13: 155889 | J13: 271851 | K13: 143088 | L13: 0.5 | M13: 5 | N13: 0.5 | O13: =+ROUND(I13*L13*$G13,0) -> 23383350 | P13: =+ROUND(J13*M13*$G13,0) -> 407776500 | Q13: =+ROUND(K13*N13*$G13,0) -> 21463200 | R13: =+ROUND(SUM(O13:Q13),0) -> 452623050 | S13: =+ROUNDUP(R13*3%,0) -> 13578692 | T13: =+R13+S13 -> 466201742
... A774: 99 | B774: Vichada | C774: 99773 | D774: Cumaribo | E774: 9403 | F774: CZ INIRIDA | G774: 500 | H774: 163 | I774: 175691 | J774: 298638 | K774: 157672 | L774: 0.5 | M774: 5 | N774: 0.5 | O774: =+ROUND(I774*L774*$G774,0) -> 43922750 | P774: =+ROUND(J774*M774*$G774,0) -> 746595000 | Q774: =+ROUND(K774*N774*$G774,0) -> 39418000 | R774: =+ROUND(SUM(O774:Q774),0) -> 829935750 | S774: =+ROUNDUP(R774*3%,0) -> 24898073 | T774: =+R774+S774 -> 854833823
