Workbook

Sheet Presupuesto
B2: ALCALDIA MUNICIPAL DE LA LLANADA
B3: SECRETARIA DE PLANEACIÓN Y OBRAS MUNICIPAL
A5: PRESUPUESTO MANTENIMIENTO EDIFICO ALCALDÍA MUNICIPAL
A6: PROYECTO | B6: Mejoramiento y adecuaciones CDI | E6: FECHA | F6: 45457
A7: UBICACIÓN | B7: Barrio Pichincha | C7: DEPARAMENTO | E7: Nariño
A9: ITEM | B9: DETALLE | C9: UNID | D9: CANT | E9: PRECIO | F9: TOTAL
A10: 1 | B10: DEMOLICIONES | F10: =SUM(F11:F12) -> 91980
A11: =A10+0.1 -> 1.1 | B11: Vanos para reubicación de puertas | C11: m3 | D11: 0.49 | E11: =APU!F15 -> 63000 | F11: =D11*E11 -> 30870
A12: =A11+0.1 -> 1.2 | B12: División ampliación de aula | C12: m3 | D12: 0.97 | E12: =APU!F15 -> 63000 | F12: =D12*E12 -> 61110
A13: 2 | B13: LOCALIZACIÓN Y REPLANTEO | F13: =SUM(F14:F15) -> 220650
A14: 2.1 | B14: Descapote y limpieza | C14: Glb | D14: 1 | E14: =APU!F21 -> 111200 | F14: =E14*D14 -> 111200
A15: 2.2 | B15: Trazado barda de cerramiento | C15: Glb | D15: 1 | E15: =APU!F30 -> 109450 | F15: =E15*D15 -> 109450
A16: 3 | B16: EXCAVACIONES | F16: =F17 -> 111500
A17: 3.1 | B17: Viga de cimentación h=25cm | C17: Glb | D17: 1 | E17: =APU!F36 -> 111500 | F17: =E17*D17 -> 111500
A18: 4 | B18: CONCRETOS | F18: =SUM(F19:F23) -> 1874567.1
A19: =A18+0.1 -> 4.1 | B19: Viga de cimentación 3000PSI | C19: m3 | D19: 1.68 | E19: =APU!F45 -> 574945.5 | F19: =D19*E19 -> 965908.44
A20: =A19+0.1 -> 4.2 | B20: Dados en ccto ciclópeo 2400PSI | C20: Glb | D20: 1 | E20: =APU!F55 -> 355879 | F20: =E20*D20 -> 355879
A21: =A20+0.1 -> 4.3 | B21: Castillos cerramiento 3000PSI | C21: m3 | D21: 0.22 | E21: =APU!F45 -> 574945.5 | F21: =D21*E21 -> 126488.01
A22: =A21+0.1 -> 4.4 | B22: Cinta sobre barda de cerramiento 3000PSI | C22: m3 | D22: 0.504 | E22: =E21 -> 574945.5 | F22: =D22*E22 -> 289772.53
A23: =A22+0.1 -> 4.5 | B23: Concreto para solado e=5cm 1500PSI | C23: m3 | D23: 0.42 | E23: =APU!F75 -> 325045.5 | F23: =D23*E23 -> 136519.11
A24: 5 | B24: ACEROS | F24: =SUM(F25:F27) -> 2770312.7
A25: =A24+0.1 -> 5.1 | B25: Refuerzo longitudinal #3 | C25: kg | D25: 220.92 | E25: 4666 | F25: =E25*D25 -> 1030812.7
A26: =A25+0.1 -> 5.2 | B26: Refuerzo transversal | C26: Kg | D26: 65 | E26: 7300 | F26: =D26*E26 -> 474500
A27: =A26+0.1 -> 5.3 | B27: Malla electrosoldada 4mm | C27: m2 | D27: 11.5 | E27: 110000 | F27: =D27*E27 -> 1265000
A28: 6 | B28: BATERIAS SANITARIAS | F28: =F29 -> 350000
A29: =A28+0.1 -> 6.1 | B29: Mantenimiento y arreglo baterias sanitarias | C29: Glb | D29: 1 | E29: 350000 | F29: =E29*D29 -> 350000
A30: 7 | B30: MAMPOSTERÍA | F30: =SUM(F31:F32) -> 2311897.2
A31: =A30+0.1 -> 7.1 | B31: Selle de vanos (Puertas) | C31: m2 | D31: 4.12 | E31: =APU!F94 -> 78850.52 | F31: =E31*D31 -> 324864.14
A32: =A31+0.1 -> 7.2 | B32: Cierre perimetral (h=60cm) | C32: m2 | D32: 25.2 | E32: =E31 -> 78850.52 | F32: =E32*D32 -> 1987033.1
A33: 8 | B33: REVOQUE | F33: =SUM(F34:F38) -> 2772927.3
A34: =A33+0.1 -> 8.1 | B34: Selle de vanos (Puertas) | C34: m2 | D34: 8.25 | E34: =APU!F102 -> 42058.657 | F34: =D34*E34 -> 346983.92
A35: =A34+0.1 -> 8.2 | B35: Revoque barda de cerramiento | C35: m2 | D35: 50.4 | E35: =APU!F102 -> 42058.657 | F35: =D35*E35 -> 2119756.3
A36: =A35+0.1 -> 8.3 | B36: Revoque de corona barda de cerramiento | C36: m2 | D36: 5.04 | E36: =APU!F102 -> 42058.657 | F36: =D36*E36 -> 211975.63
A37: =A36+0.1 -> 8.4 | B37: Afinado vano división | C37: m2 | D37: 0.97 | E37: =APU!F102 -> 42058.657 | F37: =D37*E37 -> 40796.897
A38: =A37+0.1 -> 8.5 | B38: Afinado puertas reubicadas | C38: m2 | D38: 1.27 | E38: =APU!F102 -> 42058.657 | F38: =D38*E38 -> 53414.495
A39: 9 | B39: PINTURA | F39: =F40+F41+F42 -> 864424.59
A40: =A39+0.1 -> 9.1 | B40: Selle de vanos (Puertas) | C40: m2 | D40: 4.12 | E40: =APU!F110 -> 8904.25 | F40: =D40*E40 -> 36685.51
A41: 9.2 | B41: Caseta vigilante | C41: m2 | D41: 20.16 | E41: =APU!F110 -> 8904.25 | F41: =D41*E41 -> 179509.68
A42: 9.3 | B42: Bodega | C42: m2 | D42: 72.8 | E42: =E41 -> 8904.25 | F42: =D42*E42 -> 648229.4
A43: 10 | B43: SUPER BOARD | F43: =SUM(F44:F46) -> 1905195.1
...

Sheet APU
A9: Item | B9: Nombre | C9: Und | D9: Rend | E9: Precio | F9: Total
A11: 1 | B11: Demolición de mampostería | C11: m3 | D11: =Presupuesto!D11+Presupuesto!D12 -> 1.46
B12: M.O | C12: Jor/H | D12: 1 | E12: 60000 | F12: =D12*E12 -> 60000
B13: Herramienta Menor | C13: Glb | D13: 1 | E13: =F12*0.05 -> 3000 | F13: =E13*D13 -> 3000
E15: TOTAL | F15: =F12+F13 -> 63000
A17: 2,1 | B17: Descapote y limpieza | C17: Glb | D17: 1
A18: 2,1,1 | B18: M.O | C18: Jor/H | D18: 1 | E18: 110000 | F18: =D18*E18 -> 110000
A19: 2,1,2 | B19: Herramienta Menor | C19: Glb | D19: 1 | E19: 1200 | F19: =D19*E19 -> 1200
E21: TOTAL | F21: =F18+F19 -> 111200
A23: 2,2 | B23: Trazado barda de cerramiento | C23: Glb | D23: 1
A24: 2,2,1 | B24: Cal | C24: Saco | D24: 1 | E24: 20000 | F24: =D24*E24 -> 20000
A25: 2,2,2 | B25: Estacas | C25: Und | D25: 9 | E25: 3000 | F25: =D25*E25 -> 27000
A26: 2,2,3 | B26: Nylon | C26: Und | D26: 1 | E26: 6000 | F26: =D26*E26 -> 6000
A27: 2,2,4 | B27: M.O | C27: Jor/H | D27: 0.5 | E27: 110000 | F27: =D27*E27 -> 55000
A28: 2,2,5 | B28: Herramienta Menor | C28: Glb | D28: 1 | E28: =0.05*(E24+E25+E26) -> 1450 | F28: =D28*E28 -> 1450
E30: TOTAL | F30: =SUM(F24:F28) -> 109450
A32: 3,1 | B32: Excavación Viga de cimentación | C32: Glb | D32: 1
A33: 3,1,1 | B33: M.O | C33: Jor/H | D33: 1 | E33: 110000 | F33: =D33*E33 -> 110000
A34: 3,1,2 | B34: Herramienta Menor | C34: Glb | D34: 1 | E34: 1500 | F34: =D34*E34 -> 1500
E36: TOTAL | F36: =SUM(F33:F34) -> 111500
A38: 4,1 | B38: Viga de cimentación h=20 3000PSI | C38: m3 | D38: =Presupuesto!D19 -> 1.68
A39: 4,1,1 | B39: Cemento | C39: Bulto | D39: 7 | E39: 38000 | F39: =D39*E39 -> 266000
A40: 4,1,2 | B40: Arena | C40: m3 | D40: 0.7 | E40: 114300 | F40: =D40*E40 -> 80010
A41: 4,1,3 | B41: Grava | C41: m3 | D41: 1 | E41: 116700 | F41: =D41*E41 -> 116700
A42: 4,1,4 | B42: M.O | C42: Jor/H | D42: 0.81 | E42: 110000 | F42: =D42*E42 -> 89100
A43: 4,1,5 | B43: Herrameinta Menor | C43: Glb | D43: 1 | E43: =(SUM(F39:F41))*0.05 -> 23135.5 | F43: =E43*D43 -> 23135.5
E45: TOTAL | F45: =SUM(F39:F43) -> 574945.5
A47: 4,2 | B47: Concreto Ciclópeo | C47: Glb | D47: 1
A48: 4,2,1 | B48: Piedra | C48: m3 | D48: 0.5 | E48: 100000 | F48: =D48*E48 -> 50000
A49: 4,2,2 | B49: Cemento | C49: Bulto | D49: 4 | E49: 38000 | F49: =D49*E49 -> 152000
A50: 4,2,3 | B50: Arena | C50: m3 | D50: 0.3 | E50: 114300 | F50: =D50*E50 -> 34290
A51: 4,2,4 | B51: Triturado | C51: m3 | D51: 0.7 | E51: 116700 | F51: =D51*E51 -> 81690
A52: 4,2,5 | B52: M.O | C52: Jor/H | D52: 0.2 | E52: 110000 | F52: =D52*E52 -> 22000
A53: 4,2,6 | B53: Herramienta Menor | C53: Glb | D53: 1 | E53: =(SUM(F48:F51))*0.05 -> 15899 | F53: =D53*E53 -> 15899
E55: TOTAL | F55: =SUM(F48:F53) -> 355879
A57: 4,3 | B57: Castillo cerramiento | C57: m3 | D57: 0.22
A58: 4,3,1 | B58: Cemento | C58: Bulto | D58: 7 | E58: 38000 | F58: =D58*E58 -> 266000
A59: 4,3,2 | B59: Arena | C59: m3 | D59: 0.7 | E59: 114300 | F59: =D59*E59 -> 80010
A60: 4,3,3 | B60: Triturado | C60: m3 | D60: 0.9 | E60: 116700 | F60: =D60*E60 -> 105030
A61: 4,3,4 | B61: Formaleta en madera | C61: Und | D61: 0.33 | E61: 13000 | F61: =D61*E61 -> 4290
...

Sheet Amarres y cantidades
B2: CONCRETOS | C2: Cant | D2: L (m) | E2: b (m) o e | F2: h (m) | G2: Total (m3)
B3: DEMOLICIONES
B4: Demolición vanos puertas | C4: 2 | D4: 0.95 | E4: 0.12 | F4: 2.17 | G4: =D4*E4*F4*C4 -> 0.49476
B5: Demolición divisón salón | C5: 1 | D5: 3.5 | E5: 0.12 | F5: 2.3 | G5: =D5*E5*F5*C5 -> 0.966
B7: CONCRETOS
B8: Viga de cimentación para barda de cierre | C8: 1 | D8: 42 | E8: 0.2 | F8: 0.2 | G8: =D8*E8*F8*C8 -> 1.68
B9: Castillos de cerramiento | C9: 15 | D9: 0.12 | E9: 0.2 | F9: 0.6 | G9: =D9*E9*F9*C9 -> 0.216
B10: Dados concrto ciclópeo soporte de castillos | C10: 15 | D10: 0.3 | E10: 0.3 | F10: 0.35 | G10: =D10*E10*F10*C10 -> 0.4725
B11: Cinta de amarre | C11: 1 | D11: 42 | E11: 0.12 | F11: 0.1 | G11: =D11*E11*F11*C11 -> 0.504
K12: Maestro | L12: 60000
B13: ACEROS | C13: Cant Long | E13: L varilla | F13: Ad | K13: Obrero | L13: 50000
B14: Refuerzo viga de cimentación #3 | C14: =D14/E14 -> 7 | D14: 42 | E14: 6 | F14: =C14*0.38 -> 2.66 | G14: =((D14/E14)+F14)*5 -> 48.3
B15: Refuerzo transversal 1/4"
B17: =Presupuesto!$B$30 -> MAMPOSTERÍA
B18: Selle de vanos (Puertas) | C18: 2 | D18: 0.95 | E18: - | F18: 2.17 | G18: =F18*D18*C18 -> 4.123
B19: Cierre perimetral (h=47cm) | C19: 1 | D19: 42 | E19: - | F19: 0.6 | G19: =D19*F19 -> 25.2
B21: REVOQUE
B22: Selle de vanos (Puertas) | C22: 2 | D22: 0.95 | E22: - | F22: 2.17 | G22: =F22*D22*C22*2 -> 8.246 | H22: M2
B23: Afinado vanos puertas | C23: 2 | D23: 0.95 | E23: - | F23: 4.34 | G23: =(D23+F23)*C23 -> 10.58 | H23: ML
B24: Afinado vano división | C24: 1 | D24: 3.5 | E24: - | F24: 4.6 | G24: =(F24+D24)*C24 -> 8.1 | H24: ML
B25: Revoque barda de cerramiento | C25: 2 | D25: 42 | E25: - | F25: 0.6 | G25: =(D25*F25)*C25 -> 50.4 | H25: M2
B26: Revoque de corona barda de cerramiento | C26: 1 | D26: 42 | E26: - | F26: - | G26: =D26 -> 42 | H26: ML
B28: PINTURA
B29: Selle de vanos (Puertas) | C29: 2 | D29: 0.95 | E29: - | F29: 2.17 | G29: =F29*D29*C29 -> 4.123
B31: SUPER BOARD
B32: Estructura | C32: 1 | D32: 5.75 | E32: - | F32: 1.6 | G32: =D32*F32 -> 9.2
B38: PEGA DE LADRILLO
B39: Mampostería | C39: =G18+G19 -> 29.323 | D39: m2
B40: A Ladrillo + e junta (1,5cm) | C40: =0.03 -> 0.03 | D40: m2
B41: # Ladrillos incluye desperdicio | C41: =(C39/C40)*1.05 -> 1026.305 | D41: Und
B42: Vol Mortero | C42: =(C39*0.1)-(0.2*0.11*0.1) -> 2.9301 | D42: m3
B43: Dosificación | D43: ="1:4" -> 1:4
B44: Arena dos | C44: 1.16 | D44: m3
B45: Cemento dos | C45: 364 | D45: Kg | E45: =C45/50 -> 7.28 | F45: Bultos | H45: Bultos | I45: =E47+E60+E72+E84+E98 -> 66.550247
B46: Arena | C46: =(C42*C44)*1.05 -> 3.5688618 | D46: m3 | H46: Arena | I46: =C46+C61+C73+C85+C97 -> 7.5945093
B47: Cemento | C47: =(C42*C45)*1.05 -> 1119.8842 | D47: Kg | E47: =C47/50 -> 22.397684 | F47: Bultos | H47: Grava | I47: =C62+C74+C86 -> 4.629975
B48: Vol Mortero 1m2 | C48: =0.1-0.0022 -> 0.0978 | D48: m3
B49: Arena 1m2 | C49: =(C48*C44)*1.05 -> 0.1191204 | D49: m3
B50: Cemento 1m2 | C50: =(C48*C45)*1.05 -> 37.37916 | D50: Kg | E50: =C50/50 -> 0.7475832 | F50: Bultos
B54: CONCRETO 3000 PSI
...

Sheet Cantidades
B2: MATERIALES
B3: Cal x 10Kg | C3: Saco | D3: 1 | E3: 20000 | F3: =D3*E3 -> 20000
B4: Estacas | C4: Und | D4: 9 | E4: 3000 | F4: =D4*E4 -> 27000
B5: Rollo de Nylon | C5: Und | D5: 1 | E5: 6000 | F5: =D5*E5 -> 6000
B6: Cemento | C6: Bulto | D6: 70 | E6: 38000 | F6: =D6*E6 -> 2660000
B7: Arena | C7: m3 | D7: 8 | E7: 114286 | F7: =D7*E7 -> 914288
B8: Grava | C8: m3 | D8: 5 | E8: 116667 | F8: =D8*E8 -> 583335
B9: Piedra | C9: m3 | D9: 0.5 | E9: 110000 | F9: =D9*E9 -> 55000
B10: Tablas | C10: Und | D10: 10 | E10: 15000 | F10: =D10*E10 -> 150000
B11: Clavos de hierro | C11: Lb | D11: 3 | E11: 6500 | F11: =D11*E11 -> 19500
B12: Ladrillos | C12: Und | D12: ='Amarres y cantidades'!C39*45 -> 1319.535 | E12: 800 | F12: =D12*E12 -> 1055628
B13: Pintura vinilo tipo 1 | C13: Galón | D13: 7 | E13: 90000 | F13: =D13*E13 -> 630000
B14: Lija | C14: Und | D14: 10 | E14: 1700 | F14: =D14*E14 -> 17000
B15: Grifería grival | C15: Und | D15: 3 | E15: 16000 | F15: =D15*E15 -> 48000
B16: Cinta teflón | C16: Und | D16: 3 | E16: 2000 | F16: =D16*E16 -> 6000
B17: Accesorios hidrosanitarios | C17: Und | D17: 4 | E17: 30000 | F17: =D17*E17 -> 120000
B18: Perfiles | C18: Und | D18: 11 | E18: 60000 | F18: =D18*E18 -> 660000
B19: Viguetas | C19: Und | D19: 42 | E19: 4000 | F19: =D19*E19 -> 168000
B20: Tornillos | C20: Ciento | D20: 10 | E20: 6000 | F20: =D20*E20 -> 60000
B21: Superboard 4mm | C21: Und | D21: 17 | E21: 52000 | F21: =D21*E21 -> 884000
B22: Varilla #3 x 6m | C22: Und | D22: 75 | E22: 16000 | F22: =D22*E22 -> 1200000
B23: Acero 1/4" | C23: Kg | D23: 70 | E23: 5300 | F23: =D23*E23 -> 371000
B24: Alambre de amarre | C24: Kg | D24: 4 | E24: 7000 | F24: =D24*E24 -> 28000
... B39: Malla electrosoldada 4mm | C39: m2 | D39: 11.5 | E39: 110000 | F39: =D39*E39 -> 1265000
C40: TOTAL | F40: =SUM(F3:F39) -> 15605751
