Workbook
Name Elementos: Distrib_Elementos!$D$1:$H$514

Sheet Reactivos resumen
A3: Tipo de contratación | B3: Proveedor o contratista 2023 | C3: Suma de Valor total | D3: Suma de Valor Total LNDV | E3: Suma de Valor total LDV | F3: Suma de Valor total LANIP | G3: Suma de Valor Total LDF | H3: Suma de Valor Total LDF&MR | I3: Suma de Valor Total SPA | J3: Suma de Valor Total LANIA | K3: Suma de Valor Total RED LASE
A4: Licitación pública | B4: ANNAR | C4: 2.1528847e+08 | D4: 71582930 | E4: 36072683 | F4: 44359036 | G4: 7771381.6 | H4: 1961051.5 | I4: 0 | J4: 53541386 | K4: 0
B5: AVÁNTIKA | C5: 2.6008814e+09 | D5: 6.4822632e+08 | E5: 9.164649e+08 | F5: 4.3274671e+08 | G5: 2.273364e+08 | H5: 70378323 | I5: 5376506.1 | J5: 2.7570239e+08 | K5: 24649819
B6: BIOCELL | C6: 4.144055e+08 | D6: 62646946 | E6: 52699187 | F6: 0 | G6: 182972968 | H6: 1.160864e+08 | I6: 0 | J6: 0 | K6: 0
B7: CAHOZ | C7: 6.7065289e+08 | D7: 2.3393317e+08 | E7: 1.8655068e+08 | F7: 2996455.4 | G7: 1.1530436e+08 | H7: 1.3186823e+08 | I7: 0 | J7: 0 | K7: 0
B8: CYMA | C8: 53020875 | D8: 14958869 | E8: 3102830.8 | F8: 12017292 | G8: 13988408 | H8: 3792059.7 | I8: 0 | J8: 2625572.2 | K8: 2535842.4
B9: DESIERTO | C9: 4.796347e+08 | D9: 1.6818908e+08 | E9: 88977776 | F9: 1.0752892e+08 | G9: 58265446 | H9: 13038757 | I9: 0 | J9: 43160068 | K9: 474657.68
B10: DISPROQUILAB | C10: 1274423.4 | D10: 182060.48 | E10: 273090.72 | F10: 91030.24 | G10: 546181.44 | H10: 0 | I10: 0 | J10: 182060.48 | K10: 0
B11: EQUIPOS Y LAB | C11: 43022308 | D11: 43022308 | E11: 0 | F11: 0 | G11: 0 | H11: 0 | I11: 0 | J11: 0 | K11: 0
B12: INSOLAB | C12: 29871092 | D12: 0 | E12: 0 | F12: 11145746 | G12: 0 | H12: 0 | I12: 0 | J12: 18725347 | K12: 0
B13: SCIENTIFIC PRODUCTS | C13: 1326440.6 | D13: 390129.6 | E13: 0 | F13: 442146.88 | G13: 130043.2 | H13: 0 | I13: 0 | J13: 364120.96 | K13: 0
B14: UT GENMEDIMALCO | C14: 2.8379789e+08 | D14: 97218395 | E14: 1.5248439e+08 | F14: 14744014 | G14: 14376003 | H14: 939808 | I14: 0 | J14: 1888358.4 | K14: 2146914.9
B15: VIDCOL | C15: 1.7707968e+08 | D15: 49908384 | E15: 15761892 | F15: 62793195 | G15: 10731165 | H15: 11077233 | I15: 0 | J15: 24669905 | K15: 2137910.2
B16: (en blanco) | C16: 0 | D16: 0 | E16: 0 | F16: 0 | G16: 0 | H16: 0 | I16: 0 | J16: 0 | K16: 0
A17: Total Licitación pública | C17: 4.9702556e+09 | D17: 1.3902586e+09 | E17: 1.4523874e+09 | F17: 6.8886454e+08 | G17: 6.3142236e+08 | H17: 3.4914185e+08 | I17: 5376506.1 | J17: 4.2085921e+08 | K17: 31945144
A18: Total general | C18: 4.9702556e+09 | D18: 1.3902586e+09 | E18: 1.4523874e+09 | F18: 6.8886454e+08 | G18: 6.3142236e+08 | H18: 3.4914185e+08 | I18: 5376506.1 | J18: 4.2085921e+08 | K18: 31945144

Sheet Resumen elementos
A3: Etiquetas de fila | B3: Proveedor o contratista 2023 | C3: Suma de Valor total del adjudicado | D3: Suma de Valor Total LNDV | E3: Suma de Valor total LDV | F3: Suma de Valor total LANIP | G3: Suma de Valor Total LDF | H3: Suma de Valor Total LDF&MR | I3: Suma de Valor Total RED LASE | J3: Suma de Valor Total LANIA | K3: Suma de Valor Total SPA
A4: Contratación directa | C4: 2.6989826e+08 | D4: 28783762 | E4: 19386840 | F4: 34092224 | G4: 97411460 | H4: 88539913 | I4: 0 | J4: 1684059.4 | K4: 0
B5: A M Asesoría y Mantenimiento Ltda | C5: 2.3618576e+08 | D5: 28783762 | E5: 19386840 | F5: 10523096 | G5: 88952150 | H5: 88539913 | I5: 0 | J5: 0 | K5: 0
B6: R Biopharm Colombia SAS | C6: 23569128 | D6: 0 | E6: 0 | F6: 23569128 | G6: 0 | H6: 0 | I6: 0 | J6: 0 | K6: 0
B7: Sanitas SAS | C7: 10143370 | D7: 0 | E7: 0 | F7: 0 | G7: 8459310.2 | H7: 0 | I7: 0 | J7: 1684059.4 | K7: 0
A8: Licitación pública | C8: 3.5997675e+09 | D8: 5.4487658e+08 | E8: 5.1206518e+08 | F8: 3.9030048e+08 | G8: 2.8055717e+08 | H8: 2.3924485e+08 | I8: 3.2288959e+08 | J8: 4.3047917e+08 | K8: 8.6201871e+08
B9: ANNAR | C9: 4551512 | D9: 0 | E9: 2275756 | F9: 0 | G9: 0 | H9: 0 | I9: 0 | J9: 2275756 | K9: 0
B10: AVANTIKA | C10: 2.6164499e+09 | D10: 4.2616177e+08 | E10: 3.6093419e+08 | F10: 3.0497562e+08 | G10: 1.7866518e+08 | H10: 1.6497277e+08 | I10: 3.1920781e+08 | J10: 3.2311148e+08 | K10: 5.3443815e+08
B11: CAHOZ | C11: 84434189 | D11: 16339668 | E11: 47006195 | F11: 14004352 | G11: 3756948 | H11: 0 | I11: 0 | J11: 3327025.2 | K11: 0
B12: CYMA | C12: 39175807 | D12: 133424.32 | E12: 4840847.2 | F12: 2074189 | G12: 2156625.5 | H12: 102723.2 | I12: 0 | J12: 3359991.2 | K12: 26508006
B13: DESIERTO | C13: 1.6899717e+08 | D13: 30272284 | E13: 25929919 | F13: 19934790 | G13: 24181690 | H13: 24020683 | I13: 1308220.4 | J13: 15524533 | K13: 14472202
B14: DISPROQUILAB | C14: 16894952 | D14: 10240902 | E14: 4241749.1 | F14: 0 | G14: 0 | H14: 357618.8 | I14: 0 | J14: 2054682.6 | K14: 0
B15: INSOLAB | C15: 20445652 | D15: 0 | E15: 383525.81 | F15: 14608331 | G15: 0 | H15: 0 | I15: 0 | J15: 5453795.4 | K15: 0
B16: JIMSA | C16: 5849212 | D16: 0 | E16: 945818.4 | F16: 185776 | G16: 1484022.4 | H16: 0 | I16: 0 | J16: 3233595.2 | K16: 0
B17: METALCORTE | C17: 81189093 | D17: 132644.06 | E17: 4187930.9 | F17: 634740.86 | G17: 705484.36 | H17: 88429.376 | I17: 0 | J17: 0 | K17: 75439863
B18: QUIMIREL | C18: 285574.87 | D18: 0 | E18: 0 | F18: 0 | G18: 0 | H18: 285574.87 | I18: 0 | J18: 0 | K18: 0
B19: SADIREP | C19: 1.8280752e+08 | D19: 894697.22 | E19: 8166487.8 | F19: 91467.36 | G19: 10972411 | H19: 6039577.8 | I19: 0 | J19: 1980153.6 | K19: 1.5466273e+08
B20: SCIENTIFIC PRODUCTS | C20: 7139371.7 | D20: 0 | E20: 936311.04 | F20: 0 | G20: 1144380.2 | H20: 3433140.5 | I20: 0 | J20: 1625540 | K20: 0
... B23: (en blanco) | C23: 0 | D23: 0 | E23: 0 | F23: 0 | G23: 0 | H23: 0 | I23: 0 | J23: 0 | K23: 0
A24: (en blanco) | C24: 0 | D24: 0 | E24: 0 | F24: 0 | G24: 0 | H24: 0 | I24: 0 | J24: 0 | K24: 0
B25: (en blanco) | C25: 0 | D25: 0 | E25: 0 | F25: 0 | G25: 0 | H25: 0 | I25: 0 | J25: 0 | K25: 0
A26: Total general | C26: 3.8696658e+09 | D26: 5.7366034e+08 | E26: 5.3145202e+08 | F26: 4.243927e+08 | G26: 3.7796863e+08 | H26: 3.2778476e+08 | I26: 3.2288959e+08 | J26: 4.3216322e+08 | K26: 8.6201871e+08

Sheet Distri_Reactivos
D1: DISTRIBUCIÓN REACTIVOS
A2: RESPONSABLE | B2: MAX | C2: Consecutivo oferta economica (las observaciones fueron realizadas con base en este número de ITEM) Dar respuesta teniendo en cuenta este número | D2: ítem | E2: Descripción técnica | F2: NUMERO CAS- PARA LOS QUE APLIQUE | G2: FORMULA PARA LOS QUE APLIQUE | H2: Marca-Ref | I2: Presentación | J2: Cantidad | K2: Valor de referencia | L2: Valor Total | M2: Cantidad LANIP | N2: Valor total LANIP | O2: Cantidad LDV | P2: Valor total LDV | Q2: Cantidad LNDV | R2: Valor Total LNDV | S2: GGCA | T2: Valor GGCA | U2: Cantidad LDF | V2: Valor Total LDF | W2: Cantidad LDF&MR | X2: Valor Total LDF&MR | Y2: Cantidad RED LASE | Z2: Valor Total RED LASE | AA2: Cantidad LANIA | AB2: Valor Total LANIA | AC2: Cantidad SPA | AD2: Valor Total SPA | AE2: Certificado de sustancias de estupefacientes | AF2: Carta de distribución
A3: =IF(B3=Reactivos_[[#This Row],[Cantidad LANIP]],"LANIP",IF(B3=Reactivos_[[#This Row],[Cantidad LDV]],"LDV",IF(B3=Reactivos_[[#This Row],[Cantidad LNDV]],"LNDV",IF(B3=Reactivos_[[#This Row],[GGCA]],"GGCA",IF(B3=Reactivos_[[#This Row],[Cantidad LDF]],"LDF",IF(Reactivos_[[#This Row],[Cantidad LDF&MR]],"LDF&MR",IF(B3=Reactivos_[[#This Row],[Cantidad RED LASE]],"LASE",IF(B3=Reactivos_[[#This Row],[Cantidad LANIA]],"LANIA",IF(B3=Reactivos_[[#This Row],[Cantidad SPA]],"SPA"," "))))))))) -> LDF&MR | B3: =MAX(Reactivos_[[#This Row],[Cantidad LANIP]],Reactivos_[[#This Row],[Cantidad LDV]],Reactivos_[[#This Row],[Cantidad LNDV]],Reactivos_[[#This Row],[GGCA]],Reactivos_[[#This Row],[Cantidad LDF]],Reactivos_[[#This Row],[Cantidad LDF&MR]],Reactivos_[[#This Row],[Cantidad RED LASE]],Reactivos_[[#This Row],[Cantidad LANIA]],Reactivos_[[#This Row],[Cantidad SPA]]) -> 5 | C3: 1 | D3: 1 | E3: 1-Methylimidazole 99% de pureza. | F3: 616-47-7 | H3: SIGMA Aldrich Ref. M50834 | I3: Frasco de 100g | J3: =SUM(Reactivos_[[#This Row],[Cantidad LANIP]],Reactivos_[[#This Row],[Cantidad LDV]],Reactivos_[[#This Row],[Cantidad LNDV]],Reactivos_[[#This Row],[GGCA]],Reactivos_[[#This Row],[Cantidad LDF]],Reactivos_[[#This Row],[Cantidad LDF&MR]],Reactivos_[[#This Row],[Cantidad RED LASE]],Reactivos_[[#This Row],[Cantidad LANIA]],Reactivos_[[#This Row],[Cantidad SPA]]) -> 6 | K3: 392997 | L3: =+Reactivos_[[#This Row],[Cantidad]]*Reactivos_[[#This Row],[Valor de referencia]] -> 2357982 | M3: 1 | N3: =+Reactivos_[[#This Row],[Valor de referencia]]*Reactivos_[[#This Row],[Cantidad LANIP]] -> 392997 | P3: =+Reactivos_[[#This Row],[Cantidad LDV]]*Reactivos_[[#This Row],[Valor de referencia]] -> 0 | R3: =+Reactivos_[[#This Row],[Cantidad LNDV]]*Reactivos_[[#This Row],[Valor de referencia]] -> 0 | T3: =+Reactivos_[[#This Row],[GGCA]]*Reactivos_[[#This Row],[Valor de referencia]] -> 0 | V3: =+Reactivos_[[#This Row],[Cantidad LDF]]*Reactivos_[[#This Row],[Valor de referencia]] -> 0 | W3: 5 | X3: =+Reactivos_[[#This Row],[Cantidad LDF&MR]]*Reactivos_[[#This Row],[Valor de referencia]] -> 1964985 | Z3: =+Reactivos_[[#This Row],[Cantidad RED LASE]]*Reactivos_[[#This Row],[Valor de referencia]] -> 0 | AB3: =+Reactivos_[[#This Row],[Cantidad LANIA]]*Reactivos_[[#This Row],[Valor de referencia]] -> 0 | AD3: =+Reactivos_[[#This Row],[Cantidad SPA]]*Reactivos_[[#This Row],[Valor de referencia]] -> 0 | AE3: No aplica | AF3: SI
A4: =IF(B4=Reactivos_[[#This Row],[Cantidad LANIP]],"LANIP",IF(B4=Reactivos_[[#This Row],[Cantidad LDV]],"LDV",IF(B4=Reactivos_[[#This Row],[Cantidad LNDV]],"LNDV",IF(B4=Reactivos_[[#This Row],[GGCA]],"GGCA",IF(B4=Reactivos_[[#This Row],[Cantidad LDF]],"LDF",IF(Reactivos_[[#This Row],[Cantidad LDF&MR]],"LDF&MR",IF(B4=Reactivos_[[#This Row],[Cantidad RED LASE]],"LASE",IF(B4=Reactivos_[[#This Row],[Cantidad LANIA]],"LANIA",IF(B4=Reactivos_[[#This Row],[Cantidad SPA]],"SPA"," "))))))))) -> LDF | B4: =MAX(Reactivos_[[#This Row],[Cantidad LANIP]],Reactivos_[[#This Row],[Cantidad LDV]],Reactivos_[[#This Row],[Cantidad LNDV]],Reactivos_[[#This Row],[GGCA]],Reactivos_[[#This Row],[Cantidad LDF]],Reactivos_[[#This Row],[Cantidad LDF&MR]],Reactivos_[[#This Row],[Cantidad RED LASE]],Reactivos_[[#This Row],[Cantidad LANIA]],Reactivos_[[#This Row],[Cantidad SPA]]) -> 2 | C4: 2 | D4: 2 | E4: 2-Mercaptoetanol (1.000X), 55mM en D-PBS. | H4: Gibco Ref: 21985023 o equivalente | I4: Frasco x 50 ml | J4: =SUM(Reactivos_[[#This Row],[Cantidad LANIP]],Reactivos_[[#This Row],[Cantidad LDV]],Reactivos_[[#This Row],[Cantidad LNDV]],Reactivos_[[#This Row],[GGCA]],Reactivos_[[#This Row],[Cantidad LDF]],Reactivos_[[#This Row],[Cantidad LDF&MR]],Reactivos_[[#This Row],[Cantidad RED LASE]],Reactivos_[[#This Row],[Cantidad LANIA]],Reactivos_[[#This Row],[Cantidad SPA]]) -> 3 | K4: 373233 | L4: =+Reactivos_[[#This Row],[Cantidad]]*Reactivos_[[#This Row],[Valor de referencia]] -> 1119699 | M4: 0 | N4: =+Reactivos_[[#This Row],[Valor de referencia]]*Reactivos_[[#This Row],[Cantidad LANIP]] -> 0 | P4: =+Reactivos_[[#This Row],[Cantidad LDV]]*Reactivos_[[#This Row],[Valor de referencia]] -> 0 | R4: =+Reactivos_[[#This Row],[Cantidad LNDV]]*Reactivos_[[#This Row],[Valor de referencia]] -> 0 | T4: =+Reactivos_[[#This Row],[GGCA]]*Reactivos_[[#This Row],[Valor de referencia]] -> 0 | U4: 2 | V4: =+Reactivos_[[#This Row],[Cantidad LDF]]*Reactivos_[[#This Row],[Valor de referencia]] -> 746466 | W4: 1 | X4: =+Reactivos_[[#This Row],[Cantidad LDF&MR]]*Reactivos_[[#This Row],[Valor de referencia]] -> 373233 | Z4: =+Reactivos_[[#This Row],[Cantidad RED LASE]]*Reactivos_[[#This Row],[Valor de referencia]] -> 0 | AB4: =+Reactivos_[[#This Row],[Cantidad LANIA]]*Reactivos_[[#This Row],[Valor de referencia]] -> 0 | AD4: =+Reactivos_[[#This Row],[Cantidad SPA]]*Reactivos_[[#This Row],[Valor de referencia]] -> 0 | AE4: No aplica | AF4: SI
A5: =IF(B5=Reactivos_[[#This Row],[Cantidad LANIP]],"LANIP",IF(B5=Reactivos_[[#This Row],[Cantidad LDV]],"LDV",IF(B5=Reactivos_[[#This Row],[Cantidad LNDV]],"LNDV",IF(B5=Reactivos_[[#This Row],[GGCA]],"GGCA",IF(B5=Reactivos_[[#This Row],[Cantidad LDF]],"LDF",IF(Reactivos_[[#This Row],[Cantidad LDF&MR]],"LDF&MR",IF(B5=Reactivos_[[#This Row],[Cantidad RED LASE]],"LASE",IF(B5=Reactivos_[[#This Row],[Cantidad LANIA]],"LANIA",IF(B5=Reactivos_[[#This Row],[Cantidad SPA]],"SPA"," "))))))))) -> LANIP | B5: =MAX(Reactivos_[[#This Row],[Cantidad LANIP]],Reactivos_[[#This Row],[Cantidad LDV]],Reactivos_[[#This Row],[Cantidad LNDV]],Reactivos_[[#This Row],[GGCA]],Reactivos_[[#This Row],[Cantidad LDF]],Reactivos_[[#This Row],[Cantidad LDF&MR]],Reactivos_[[#This Row],[Cantidad RED LASE]],Reactivos_[[#This Row],[Cantidad LANIA]],Reactivos_[[#This Row],[Cantidad SPA]]) -> 2 | C5: 3 | D5: 3 | E5: 2-Nitrobenzaldehido | F5: 552-89-6 | G5: O2NC6H4CHO | H5: Sigma N10802 o equivalente | I5: Frasco x 2g | J5: =SUM(Reactivos_[[#This Row],[Cantidad LANIP]],Reactivos_[[#This Row],[Cantidad LDV]],Reactivos_[[#This Row],[Cantidad LNDV]],Reactivos_[[#This Row],[GGCA]],Reactivos_[[#This Row],[Cantidad LDF]],Reactivos_[[#This Row],[Cantidad LDF&MR]],Reactivos_[[#This Row],[Cantidad RED LASE]],Reactivos_[[#This Row],[Cantidad LANIA]],Reactivos_[[#This Row],[Cantidad SPA]]) -> 2 | K5: 570074 | L5: =+Reactivos_[[#This Row],[Cantidad]]*Reactivos_[[#This Row],[Valor de referencia]] -> 1140148 | M5: 2 | N5: =+Reactivos_[[#This Row],[Valor de referencia]]*Reactivos_[[#This Row],[Cantidad LANIP]] -> 1140148 | P5: =+Reactivos_[[#This Row],[Cantidad LDV]]*Reactivos_[[#This Row],[Valor de referencia]] -> 0 | R5: =+Reactivos_[[#This Row],[Cantidad LNDV]]*Reactivos_[[#This Row],[Valor de referencia]] -> 0 | T5: =+Reactivos_[[#This Row],[GGCA]]*Reactivos_[[#This Row],[Valor de referencia]] -> 0 | V5: =+Reactivos_[[#This Row],[Cantidad LDF]]*Reactivos_[[#This Row],[Valor de referencia]] -> 0 | X5: =+Reactivos_[[#This Row],[Cantidad LDF&MR]]*Reactivos_[[#This Row],[Valor de referencia]] -> 0 | Z5: =+Reactivos_[[#This Row],[Cantidad RED LASE]]*Reactivos_[[#This Row],[Valor de referencia]] -> 0 | AB5: =+Reactivos_[[#This Row],[Cantidad LANIA]]*Reactivos_[[#This Row],[Valor de referencia]] -> 0 | AD5: =+Reactivos_[[#This Row],[Cantidad SPA]]*Reactivos_[[#This Row],[Valor de referencia]] -> 0 | AE5: No aplica | AF5: SI
A6: =IF(B6=Reactivos_[[#This Row],[Cantidad LANIP]],"LANIP",IF(B6=Reactivos_[[#This Row],[Cantidad LDV]],"LDV",IF(B6=Reactivos_[[#This Row],[Cantidad LNDV]],"LNDV",IF(B6=Reactivos_[[#This Row],[GGCA]],"GGCA",IF(B6=Reactivos_[[#This Row],[Cantidad LDF]],"LDF",IF(Reactivos_[[#This Row],[Cantidad LDF&MR]],"LDF&MR",IF(B6=Reactivos_[[#This Row],[Cantidad RED LASE]],"LASE",IF(B6=Reactivos_[[#This Row],[Cantidad LANIA]],"LANIA",IF(B6=Reactivos_[[#This Row],[Cantidad SPA]],"SPA"," "))))))))) -> LANIP | B6: =MAX(Reactivos_[[#This Row],[Cantidad LANIP]],Reactivos_[[#This Row],[Cantidad LDV]],Reactivos_[[#This Row],[Cantidad LNDV]],Reactivos_[[#This Row],[GGCA]],Reactivos_[[#This Row],[Cantidad LDF]],Reactivos_[[#This Row],[Cantidad LDF&MR]],Reactivos_[[#This Row],[Cantidad RED LASE]],Reactivos_[[#This Row],[Cantidad LANIA]],Reactivos_[[#This Row],[Cantidad SPA]]) -> 2 | C6: 4 | D6: 4 | E6: 3-3",5," -TETRAMEILBENCIDINA | F6: 54827-17-7 | G6: C16H20N2 | I6: Frasco x1 g | J6: =SUM(Reactivos_[[#This Row],[Cantidad LANIP]],Reactivos_[[#This Row],[Cantidad LDV]],Reactivos_[[#This Row],[Cantidad LNDV]],Reactivos_[[#This Row],[GGCA]],Reactivos_[[#This Row],[Cantidad LDF]],Reactivos_[[#This Row],[Cantidad LDF&MR]],Reactivos_[[#This Row],[Cantidad RED LASE]],Reactivos_[[#This Row],[Cantidad LANIA]],Reactivos_[[#This Row],[Cantidad SPA]]) -> 2 | K6: 674641 | L6: =+Reactivos_[[#This Row],[Cantidad]]*Reactivos_[[#This Row],[Valor de referencia]] -> 1349282 | M6: 2 | N6: =+Reactivos_[[#This Row],[Valor de referencia]]*Reactivos_[[#This Row],[Cantidad LANIP]] -> 1349282 | P6: =+Reactivos_[[#This Row],[Cantidad LDV]]*Reactivos_[[#This Row],[Valor de referencia]] -> 0 | R6: =+Reactivos_[[#This Row],[Cantidad LNDV]]*Reactivos_[[#This Row],[Valor de referencia]] -> 0 | T6: =+Reactivos_[[#This Row],[GGCA]]*Reactivos_[[#This Row],[Valor de referencia]] -> 0 | V6: =+Reactivos_[[#This Row],[Cantidad LDF]]*Reactivos_[[#This Row],[Valor de referencia]] -> 0 | X6: =+Reactivos_[[#This Row],[Cantidad LDF&MR]]*Reactivos_[[#This Row],[Valor de referencia]] -> 0 | Z6: =+Reactivos_[[#This Row],[Cantidad RED LASE]]*Reactivos_[[#This Row],[Valor de referencia]] -> 0 | AB6: =+Reactivos_[[#This Row],[Cantidad LANIA]]*Reactivos_[[#This Row],[Valor de referencia]] -> 0 | AD6: =+Reactivos_[[#This Row],[Cantidad SPA]]*Reactivos_[[#This Row],[Valor de referencia]] -> 0 | AE6: No aplica | AF6: SI
A7: =IF(B7=Reactivos_[[#This Row],[Cantidad LANIP]],"LANIP",IF(B7=Reactivos_[[#This Row],[Cantidad LDV]],"LDV",IF(B7=Reactivos_[[#This Row],[Cantidad LNDV]],"LNDV",IF(B7=Reactivos_[[#This Row],[GGCA]],"GGCA",IF(B7=Reactivos_[[#This Row],[Cantidad LDF]],"LDF",IF(Reactivos_[[#This Row],[Cantidad LDF&MR]],"LDF&MR",IF(B7=Reactivos_[[#This Row],[Cantidad RED LASE]],"LASE",IF(B7=Reactivos_[[#This Row],[Cantidad LANIA]],"LANIA",IF(B7=Reactivos_[[#This Row],[Cantidad SPA]],"SPA"," "))))))))) -> LNDV | B7: =MAX(Reactivos_[[#This Row],[Cantidad LANIP]],Reactivos_[[#This Row],[Cantidad LDV]],Reactivos_[[#This Row],[Cantidad LNDV]],Reactivos_[[#This Row],[GGCA]],Reactivos_[[#This Row],[Cantidad LDF]],Reactivos_[[#This Row],[Cantidad LDF&MR]],Reactivos_[[#This Row],[Cantidad RED LASE]],Reactivos_[[#This Row],[Cantidad LANIA]],Reactivos_[[#This Row],[Cantidad SPA]]) -> 1 | C7: 5 | D7: 5 | E7: 3-AMINO-9-ETHYL-CARBAZOLE | F7: 132-32-1 | G7: C14H14N2 | H7: SIGMA A5754-50G o equivalente | I7: FRASCO X 50g | J7: =SUM(Reactivos_[[#This Row],[Cantidad LANIP]],Reactivos_[[#This Row],[Cantidad LDV]],Reactivos_[[#This Row],[Cantidad LNDV]],Reactivos_[[#This Row],[GGCA]],Reactivos_[[#This Row],[Cantidad LDF]],Reactivos_[[#This Row],[Cantidad LDF&MR]],Reactivos_[[#This Row],[Cantidad RED LASE]],Reactivos_[[#This Row],[Cantidad LANIA]],Reactivos_[[#This Row],[Cantidad SPA]]) -> 1 | K7: 1197218 | L7: =+Reactivos_[[#This Row],[Cantidad]]*Reactivos_[[#This Row],[Valor de referencia]] -> 1197218 | M7: 0 | N7: =+Reactivos_[[#This Row],[Valor de referencia]]*Reactivos_[[#This Row],[Cantidad LANIP]] -> 0 | P7: =+Reactivos_[[#This Row],[Cantidad LDV]]*Reactivos_[[#This Row],[Valor de referencia]] -> 0 | Q7: 1 | R7: =+Reactivos_[[#This Row],[Cantidad LNDV]]*Reactivos_[[#This Row],[Valor de referencia]] -> 1197218 | T7: =+Reactivos_[[#This Row],[GGCA]]*Reactivos_[[#This Row],[Valor de referencia]] -> 0 | V7: =+Reactivos_[[#This Row],[Cantidad LDF]]*Reactivos_[[#This Row],[Valor de referencia]] -> 0 | X7: =+Reactivos_[[#This Row],[Cantidad LDF&MR]]*Reactivos_[[#This Row],[Valor de referencia]] -> 0 | Z7: =+Reactivos_[[#This Row],[Cantidad RED LASE]]*Reactivos_[[#This Row],[Valor de referencia]] -> 0 | AB7: =+Reactivos_[[#This Row],[Cantidad LANIA]]*Reactivos_[[#This Row],[Valor de referencia]] -> 0 | AD7: =+Reactivos_[[#This Row],[Cantidad SPA]]*Reactivos_[[#This Row],[Valor de referencia]] -> 0 | AE7: No aplica | AF7: SI
A8: =IF(B8=Reactivos_[[#This Row],[Cantidad LANIP]],"LANIP",IF(B8=Reactivos_[[#This Row],[Cantidad LDV]],"LDV",IF(B8=Reactivos_[[#This Row],[Cantidad LNDV]],"LNDV",IF(B8=Reactivos_[[#This Row],[GGCA]],"GGCA",IF(B8=Reactivos_[[#This Row],[Cantidad LDF]],"LDF",IF(Reactivos_[[#This Row],[Cantidad LDF&MR]],"LDF&MR",IF(B8=Reactivos_[[#This Row],[Cantidad RED LASE]],"LASE",IF(B8=Reactivos_[[#This Row],[Cantidad LANIA]],"LANIA",IF(B8=Reactivos_[[#This Row],[Cantidad SPA]],"SPA"," "))))))))) -> LDF | B8: =MAX(Reactivos_[[#This Row],[Cantidad LANIP]],Reactivos_[[#This Row],[Cantidad LDV]],Reactivos_[[#This Row],[Cantidad LNDV]],Reactivos_[[#This Row],[GGCA]],Reactivos_[[#This Row],[Cantidad LDF]],Reactivos_[[#This Row],[Cantidad LDF&MR]],Reactivos_[[#This Row],[Cantidad RED LASE]],Reactivos_[[#This Row],[Cantidad LANIA]],Reactivos_[[#This Row],[Cantidad SPA]]) -> 12 | C8: 6 | D8: 6 | E8: AccuPower 2X GreenStar QPCR Master Mix | H8: Bioneer K-6252 | I8: Kit de 2X Master Mix 0.625 ml x 8 tubos | J8: =SUM(Reactivos_[[#This Row],[Cantidad LANIP]],Reactivos_[[#This Row],[Cantidad LDV]],Reactivos_[[#This Row],[Cantidad LNDV]],Reactivos_[[#This Row],[GGCA]],Reactivos_[[#This Row],[Cantidad LDF]],Reactivos_[[#This Row],[Cantidad LDF&MR]],Reactivos_[[#This Row],[Cantidad RED LASE]],Reactivos_[[#This Row],[Cantidad LANIA]],Reactivos_[[#This Row],[Cantidad SPA]]) -> 22 | K8: 2279068 | L8: =+Reactivos_[[#This Row],[Cantidad]]*Reactivos_[[#This Row],[Valor de referencia]] -> 50139496 | M8: 0 | N8: =+Reactivos_[[#This Row],[Valor de referencia]]*Reactivos_[[#This Row],[Cantidad LANIP]] -> 0 | P8: =+Reactivos_[[#This Row],[Cantidad LDV]]*Reactivos_[[#This Row],[Valor de referencia]] -> 0 | R8: =+Reactivos_[[#This Row],[Cantidad LNDV]]*Reactivos_[[#This Row],[Valor de referencia]] -> 0 | T8: =+Reactivos_[[#This Row],[GGCA]]*Reactivos_[[#This Row],[Valor de referencia]] -> 0 | U8: 12 | V8: =+Reactivos_[[#This Row],[Cantidad LDF]]*Reactivos_[[#This Row],[Valor de referencia]] -> 27348816 | W8: 10 | X8: =+Reactivos_[[#This Row],[Cantidad LDF&MR]]*Reactivos_[[#This Row],[Valor de referencia]] -> 22790680 | Z8: =+Reactivos_[[#This Row],[Cantidad RED LASE]]*Reactivos_[[#This Row],[Valor de referencia]] -> 0 | AB8: =+Reactivos_[[#This Row],[Cantidad LANIA]]*Reactivos_[[#This Row],[Valor de referencia]] -> 0 | AD8: =+Reactivos_[[#This Row],[Cantidad SPA]]*Reactivos_[[#This Row],[Valor de referencia]] -> 0 | AE8: No aplica | AF8: SI
A9: =IF(B9=Reactivos_[[#This Row],[Cantidad LANIP]],"LANIP",IF(B9=Reactivos_[[#This Row],[Cantidad LDV]],"LDV",IF(B9=Reactivos_[[#This Row],[Cantidad LNDV]],"LNDV",IF(B9=Reactivos_[[#This Row],[GGCA]],"GGCA",IF(B9=Reactivos_[[#This Row],[Cantidad LDF]],"LDF",IF(Reactivos_[[#This Row],[Cantidad LDF&MR]],"LDF&MR",IF(B9=Reactivos_[[#This Row],[Cantidad RED LASE]],"LASE",IF(B9=Reactivos_[[#This Row],[Cantidad LANIA]],"LANIA",IF(B9=Reactivos_[[#This Row],[Cantidad SPA]],"SPA"," "))))))))) -> SPA | B9: =MAX(Reactivos_[[#This Row],[Cantidad LANIP]],Reactivos_[[#This Row],[Cantidad LDV]],Reactivos_[[#This Row],[Cantidad LNDV]],Reactivos_[[#This Row],[GGCA]],Reactivos_[[#This Row],[Cantidad LDF]],Reactivos_[[#This Row],[Cantidad LDF&MR]],Reactivos_[[#This Row],[Cantidad RED LASE]],Reactivos_[[#This Row],[Cantidad LANIA]],Reactivos_[[#This Row],[Cantidad SPA]]) -> 32 | C9: 7 | D9: 7 | E9: Aceite de clavo | H9: ENTHOS | I9: Frasco x 250 ml | J9: =SUM(Reactivos_[[#This Row],[Cantidad LANIP]],Reactivos_[[#This Row],[Cantidad LDV]],Reactivos_[[#This Row],[Cantidad LNDV]],Reactivos_[[#This Row],[GGCA]],Reactivos_[[#This Row],[Cantidad LDF]],Reactivos_[[#This Row],[Cantidad LDF&MR]],Reactivos_[[#This Row],[Cantidad RED LASE]],Reactivos_[[#This Row],[Cantidad LANIA]],Reactivos_[[#This Row],[Cantidad SPA]]) -> 42 | K9: 322008 | L9: =+Reactivos_[[#This Row],[Cantidad]]*Reactivos_[[#This Row],[Valor de referencia]] -> 13524336 | M9: 0 | N9: =+Reactivos_[[#This Row],[Valor de referencia]]*Reactivos_[[#This Row],[Cantidad LANIP]] -> 0 | O9: 3 | P9: =+Reactivos_[[#This Row],[Cantidad LDV]]*Reactivos_[[#This Row],[Valor de referencia]] -> 966024 | R9: =+Reactivos_[[#This Row],[Cantidad LNDV]]*Reactivos_[[#This Row],[Valor de referencia]] -> 0 | T9: =+Reactivos_[[#This Row],[GGCA]]*Reactivos_[[#This Row],[Valor de referencia]] -> 0 | U9: 7 | V9: =+Reactivos_[[#This Row],[Cantidad LDF]]*Reactivos_[[#This Row],[Valor de referencia]] -> 2254056 | X9: =+Reactivos_[[#This Row],[Cantidad LDF&MR]]*Reactivos_[[#This Row],[Valor de referencia]] -> 0 | Z9: =+Reactivos_[[#This Row],[Cantidad RED LASE]]*Reactivos_[[#This Row],[Valor de referencia]] -> 0 | AB9: =+Reactivos_[[#This Row],[Cantidad LANIA]]*Reactivos_[[#This Row],[Valor de referencia]] -> 0 | AC9: 32 | AD9: =+Reactivos_[[#This Row],[Cantidad SPA]]*Reactivos_[[#This Row],[Valor de referencia]] -> 10304256 | AE9: No aplica | AF9: NO APLICA
A10: =IF(B10=Reactivos_[[#This Row],[Cantidad LANIP]],"LANIP",IF(B10=Reactivos_[[#This Row],[Cantidad LDV]],"LDV",IF(B10=Reactivos_[[#This Row],[Cantidad LNDV]],"LNDV",IF(B10=Reactivos_[[#This Row],[GGCA]],"GGCA",IF(B10=Reactivos_[[#This Row],[Cantidad LDF]],"LDF",IF(Reactivos_[[#This Row],[Cantidad LDF&MR]],"LDF&MR",IF(B10=Reactivos_[[#This Row],[Cantidad RED LASE]],"LASE",IF(B10=Reactivos_[[#This Row],[Cantidad LANIA]],"LANIA",IF(B10=Reactivos_[[#This Row],[Cantidad SPA]],"SPA"," "))))))))) -> LDV | B10: =MAX(Reactivos_[[#This Row],[Cantidad LANIP]],Reactivos_[[#This Row],[Cantidad LDV]],Reactivos_[[#This Row],[Cantidad LNDV]],Reactivos_[[#This Row],[GGCA]],Reactivos_[[#This Row],[Cantidad LDF]],Reactivos_[[#This Row],[Cantidad LDF&MR]],Reactivos_[[#This Row],[Cantidad RED LASE]],Reactivos_[[#This Row],[Cantidad LANIA]],Reactivos_[[#This Row],[Cantidad SPA]]) -> 7 | C10: 8 | D10: 8 | E10: Aceite de inmersión | H10: Albor o equivalente | I10: Frasco x 100ml | J10: =SUM(Reactivos_[[#This Row],[Cantidad LANIP]],Reactivos_[[#This Row],[Cantidad LDV]],Reactivos_[[#This Row],[Cantidad LNDV]],Reactivos_[[#This Row],[GGCA]],Reactivos_[[#This Row],[Cantidad LDF]],Reactivos_[[#This Row],[Cantidad LDF&MR]],Reactivos_[[#This Row],[Cantidad RED LASE]],Reactivos_[[#This Row],[Cantidad LANIA]],Reactivos_[[#This Row],[Cantidad SPA]]) -> 16 | K10: 154085 | L10: =+Reactivos_[[#This Row],[Cantidad]]*Reactivos_[[#This Row],[Valor de referencia]] -> 2465360 | M10: 1 | N10: =+Reactivos_[[#This Row],[Valor de referencia]]*Reactivos_[[#This Row],[Cantidad LANIP]] -> 154085 | O10: 7 | P10: =+Reactivos_[[#This Row],[Cantidad LDV]]*Reactivos_[[#This Row],[Valor de referencia]] -> 1078595 | R10: =+Reactivos_[[#This Row],[Cantidad LNDV]]*Reactivos_[[#This Row],[Valor de referencia]] -> 0 | T10: =+Reactivos_[[#This Row],[GGCA]]*Reactivos_[[#This Row],[Valor de referencia]] -> 0 | U10: 6 | V10: =+Reactivos_[[#This Row],[Cantidad LDF]]*Reactivos_[[#This Row],[Valor de referencia]] -> 924510 | X10: =+Reactivos_[[#This Row],[Cantidad LDF&MR]]*Reactivos_[[#This Row],[Valor de referencia]] -> 0 | Z10: =+Reactivos_[[#This Row],[Cantidad RED LASE]]*Reactivos_[[#This Row],[Valor de referencia]] -> 0 | AA10: 2 | AB10: =+Reactivos_[[#This Row],[Cantidad LANIA]]*Reactivos_[[#This Row],[Valor de referencia]] -> 308170 | AD10: =+Reactivos_[[#This Row],[Cantidad SPA]]*Reactivos_[[#This Row],[Valor de referencia]] -> 0 | AE10: No aplica | AF10: NO APLICA
A11: =IF(B11=Reactivos_[[#This Row],[Cantidad LANIP]],"LANIP",IF(B11=Reactivos_[[#This Row],[Cantidad LDV]],"LDV",IF(B11=Reactivos_[[#This Row],[Cantidad LNDV]],"LNDV",IF(B11=Reactivos_[[#This Row],[GGCA]],"GGCA",IF(B11=Reactivos_[[#This Row],[Cantidad LDF]],"LDF",IF(Reactivos_[[#This Row],[Cantidad LDF&MR]],"LDF&MR",IF(B11=Reactivos_[[#This Row],[Cantidad RED LASE]],"LASE",IF(B11=Reactivos_[[#This Row],[Cantidad LANIA]],"LANIA",IF(B11=Reactivos_[[#This Row],[Cantidad SPA]],"SPA"," "))))))))) -> LDF | B11: =MAX(Reactivos_[[#This Row],[Cantidad LANIP]],Reactivos_[[#This Row],[Cantidad LDV]],Reactivos_[[#This Row],[Cantidad LNDV]],Reactivos_[[#This Row],[GGCA]],Reactivos_[[#This Row],[Cantidad LDF]],Reactivos_[[#This Row],[Cantidad LDF&MR]],Reactivos_[[#This Row],[Cantidad RED LASE]],Reactivos_[[#This Row],[Cantidad LANIA]],Reactivos_[[#This Row],[Cantidad SPA]]) -> 2 | C11: 9 | D11: 9 | E11: Aceite de parafina | H11: Cualquier marca | I11: Presentación desde frasco x 100 ml hasta presentación frasco x 500 ml | J11: =SUM(Reactivos_[[#This Row],[Cantidad LANIP]],Reactivos_[[#This Row],[Cantidad LDV]],Reactivos_[[#This Row],[Cantidad LNDV]],Reactivos_[[#This Row],[GGCA]],Reactivos_[[#This Row],[Cantidad LDF]],Reactivos_[[#This Row],[Cantidad LDF&MR]],Reactivos_[[#This Row],[Cantidad RED LASE]],Reactivos_[[#This Row],[Cantidad LANIA]],Reactivos_[[#This Row],[Cantidad SPA]]) -> 4 | K11: 267750 | L11: =+Reactivos_[[#This Row],[Cantidad]]*Reactivos_[[#This Row],[Valor de referencia]] -> 1071000 | M11: 0 | N11: =+Reactivos_[[#This Row],[Valor de referencia]]*Reactivos_[[#This Row],[Cantidad LANIP]] -> 0 | P11: =+Reactivos_[[#This Row],[Cantidad LDV]]*Reactivos_[[#This Row],[Valor de referencia]] -> 0 | R11: =+Reactivos_[[#This Row],[Cantidad LNDV]]*Reactivos_[[#This Row],[Valor de referencia]] -> 0 | T11: =+Reactivos_[[#This Row],[GGCA]]*Reactivos_[[#This Row],[Valor de referencia]] -> 0 | U11: 2 | V11: =+Reactivos_[[#This Row],[Cantidad LDF]]*Reactivos_[[#This Row],[Valor de referencia]] -> 535500 | X11: =+Reactivos_[[#This Row],[Cantidad LDF&MR]]*Reactivos_[[#This Row],[Valor de referencia]] -> 0 | Z11: =+Reactivos_[[#This Row],[Cantidad RED LASE]]*Reactivos_[[#This Row],[Valor de referencia]] -> 0 | AA11: 2 | AB11: =+Reactivos_[[#This Row],[Cantidad LANIA]]*Reactivos_[[#This Row],[Valor de referencia]] -> 535500 | AD11: =+Reactivos_[[#This Row],[Cantidad SPA]]*Reactivos_[[#This Row],[Valor de referencia]] -> 0 | AE11: No aplica | AF11: SI
A12: =IF(B12=Reactivos_[[#This Row],[Cantidad LANIP]],"LANIP",IF(B12=Reactivos_[[#This Row],[Cantidad LDV]],"LDV",IF(B12=Reactivos_[[#This Row],[Cantidad LNDV]],"LNDV",IF(B12=Reactivos_[[#This Row],[GGCA]],"GGCA",IF(B12=Reactivos_[[#This Row],[Cantidad LDF]],"LDF",IF(Reactivos_[[#This Row],[Cantidad LDF&MR]],"LDF&MR",IF(B12=Reactivos_[[#This Row],[Cantidad RED LASE]],"LASE",IF(B12=Reactivos_[[#This Row],[Cantidad LANIA]],"LANIA",IF(B12=Reactivos_[[#This Row],[Cantidad SPA]],"SPA"," "))))))))) -> LDV | B12: =MAX(Reactivos_[[#This Row],[Cantidad LANIP]],Reactivos_[[#This Row],[Cantidad LDV]],Reactivos_[[#This Row],[Cantidad LNDV]],Reactivos_[[#This Row],[GGCA]],Reactivos_[[#This Row],[Cantidad LDF]],Reactivos_[[#This Row],[Cantidad LDF&MR]],Reactivos_[[#This Row],[Cantidad RED LASE]],Reactivos_[[#This Row],[Cantidad LANIA]],Reactivos_[[#This Row],[Cantidad SPA]]) -> 8 | C12: 10 | D12: 10 | E12: Aceite mineral | F12: 8042-47-5 | H12: Nacional o merck o equivalente | I12: Frasco x 50ml | J12: =SUM(Reactivos_[[#This Row],[Cantidad LANIP]],Reactivos_[[#This Row],[Cantidad LDV]],Reactivos_[[#This Row],[Cantidad LNDV]],Reactivos_[[#This Row],[GGCA]],Reactivos_[[#This Row],[Cantidad LDF]],Reactivos_[[#This Row],[Cantidad LDF&MR]],Reactivos_[[#This Row],[Cantidad RED LASE]],Reactivos_[[#This Row],[Cantidad LANIA]],Reactivos_[[#This Row],[Cantidad SPA]]) -> 16 | K12: 136434 | L12: =+Reactivos_[[#This Row],[Cantidad]]*Reactivos_[[#This Row],[Valor de referencia]] -> 2182944 | M12: 0 | N12: =+Reactivos_[[#This Row],[Valor de referencia]]*Reactivos_[[#This Row],[Cantidad LANIP]] -> 0 | O12: 8 | P12: =+Reactivos_[[#This Row],[Cantidad LDV]]*Reactivos_[[#This Row],[Valor de referencia]] -> 1091472 | Q12: 4 | R12: =+Reactivos_[[#This Row],[Cantidad LNDV]]*Reactivos_[[#This Row],[Valor de referencia]] -> 545736 | T12: =+Reactivos_[[#This Row],[GGCA]]*Reactivos_[[#This Row],[Valor de referencia]] -> 0 | U12: 4 | V12: =+Reactivos_[[#This Row],[Cantidad LDF]]*Reactivos_[[#This Row],[Valor de referencia]] -> 545736 | X12: =+Reactivos_[[#This Row],[Cantidad LDF&MR]]*Reactivos_[[#This Row],[Valor de referencia]] -> 0 | Z12: =+Reactivos_[[#This Row],[Cantidad RED LASE]]*Reactivos_[[#This Row],[Valor de referencia]] -> 0 | AB12: =+Reactivos_[[#This Row],[Cantidad LANIA]]*Reactivos_[[#This Row],[Valor de referencia]] -> 0 | AD12: =+Reactivos_[[#This Row],[Cantidad SPA]]*Reactivos_[[#This Row],[Valor de referencia]] -> 0 | AE12: No aplica | AF12: NO APLICA
A13: =IF(B13=Reactivos_[[#This Row],[Cantidad LANIP]],"LANIP",IF(B13=Reactivos_[[#This Row],[Cantidad LDV]],"LDV",IF(B13=Reactivos_[[#This Row],[Cantidad LNDV]],"LNDV",IF(B13=Reactivos_[[#This Row],[GGCA]],"GGCA",IF(B13=Reactivos_[[#This Row],[Cantidad LDF]],"LDF",IF(Reactivos_[[#This Row],[Cantidad LDF&MR]],"LDF&MR",IF(B13=Reactivos_[[#This Row],[Cantidad RED LASE]],"LASE",IF(B13=Reactivos_[[#This Row],[Cantidad LANIA]],"LANIA",IF(B13=Reactivos_[[#This Row],[Cantidad SPA]],"SPA"," "))))))))) -> LANIA | B13: =MAX(Reactivos_[[#This Row],[Cantidad LANIP]],Reactivos_[[#This Row],[Cantidad LDV]],Reactivos_[[#This Row],[Cantidad LNDV]],Reactivos_[[#This Row],[GGCA]],Reactivos_[[#This Row],[Cantidad LDF]],Reactivos_[[#This Row],[Cantidad LDF&MR]],Reactivos_[[#This Row],[Cantidad RED LASE]],Reactivos_[[#This Row],[Cantidad LANIA]],Reactivos_[[#This Row],[Cantidad SPA]]) -> 4 | C13: 11 | D13: 12 | E13: Acetato de amonio grado masas | F13: 631-61-8 | G13: C2H7NO2 | H13: Merck o SCHARLAU o equivalnete | I13: Frasco x 50g | J13: =SUM(Reactivos_[[#This Row],[Cantidad LANIP]],Reactivos_[[#This Row],[Cantidad LDV]],Reactivos_[[#This Row],[Cantidad LNDV]],Reactivos_[[#This Row],[GGCA]],Reactivos_[[#This Row],[Cantidad LDF]],Reactivos_[[#This Row],[Cantidad LDF&MR]],Reactivos_[[#This Row],[Cantidad RED LASE]],Reactivos_[[#This Row],[Cantidad LANIA]],Reactivos_[[#This Row],[Cantidad SPA]]) -> 5 | K13: 900286 | L13: =+Reactivos_[[#This Row],[Cantidad]]*Reactivos_[[#This Row],[Valor de referencia]] -> 4501430 | M13: 1 | N13: =+Reactivos_[[#This Row],[Valor de referencia]]*Reactivos_[[#This Row],[Cantidad LANIP]] -> 900286 | P13: =+Reactivos_[[#This Row],[Cantidad LDV]]*Reactivos_[[#This Row],[Valor de referencia]] -> 0 | R13: =+Reactivos_[[#This Row],[Cantidad LNDV]]*Reactivos_[[#This Row],[Valor de referencia]] -> 0 | T13: =+Reactivos_[[#This Row],[GGCA]]*Reactivos_[[#This Row],[Valor de referencia]] -> 0 | V13: =+Reactivos_[[#This Row],[Cantidad LDF]]*Reactivos_[[#This Row],[Valor de referencia]] -> 0 | X13: =+Reactivos_[[#This Row],[Cantidad LDF&MR]]*Reactivos_[[#This Row],[Valor de referencia]] -> 0 | Z13: =+Reactivos_[[#This Row],[Cantidad RED LASE]]*Reactivos_[[#This Row],[Valor de referencia]] -> 0 | AA13: 4 | AB13: =+Reactivos_[[#This Row],[Cantidad LANIA]]*Reactivos_[[#This Row],[Valor de referencia]] -> 3601144 | AD13: =+Reactivos_[[#This Row],[Cantidad SPA]]*Reactivos_[[#This Row],[Valor de referencia]] -> 0 | AE13: No aplica | AF13: SI
A14: =IF(B14=Reactivos_[[#This Row],[Cantidad LANIP]],"LANIP",IF(B14=Reactivos_[[#This Row],[Cantidad LDV]],"LDV",IF(B14=Reactivos_[[#This Row],[Cantidad LNDV]],"LNDV",IF(B14=Reactivos_[[#This Row],[GGCA]],"GGCA",IF(B14=Reactivos_[[#This Row],[Cantidad LDF]],"LDF",IF(Reactivos_[[#This Row],[Cantidad LDF&MR]],"LDF&MR",IF(B14=Reactivos_[[#This Row],[Cantidad RED LASE]],"LASE",IF(B14=Reactivos_[[#This Row],[Cantidad LANIA]],"LANIA",IF(B14=Reactivos_[[#This Row],[Cantidad SPA]],"SPA"," "))))))))) -> LANIP | B14: =MAX(Reactivos_[[#This Row],[Cantidad LANIP]],Reactivos_[[#This Row],[Cantidad LDV]],Reactivos_[[#This Row],[Cantidad LNDV]],Reactivos_[[#This Row],[GGCA]],Reactivos_[[#This Row],[Cantidad LDF]],Reactivos_[[#This Row],[Cantidad LDF&MR]],Reactivos_[[#This Row],[Cantidad RED LASE]],Reactivos_[[#This Row],[Cantidad LANIA]],Reactivos_[[#This Row],[Cantidad SPA]]) -> 1 | C14: 12 | D14: 13 | E14: Acetato de amonio grado RA | F14: 631-61-8 | G14: CH₃COONH₄ | H14: Merck o SCHARLAU o equivalnete | I14: Frasco x 500g | J14: =SUM(Reactivos_[[#This Row],[Cantidad LANIP]],Reactivos_[[#This Row],[Cantidad LDV]],Reactivos_[[#This Row],[Cantidad LNDV]],Reactivos_[[#This Row],[GGCA]],Reactivos_[[#This Row],[Cantidad LDF]],Reactivos_[[#This Row],[Cantidad LDF&MR]],Reactivos_[[#This Row],[Cantidad RED LASE]],Reactivos_[[#This Row],[Cantidad LANIA]],Reactivos_[[#This Row],[Cantidad SPA]]) -> 2 | K14: 523719 | L14: =+Reactivos_[[#This Row],[Cantidad]]*Reactivos_[[#This Row],[Valor de referencia]] -> 1047438 | M14: 1 | N14: =+Reactivos_[[#This Row],[Valor de referencia]]*Reactivos_[[#This Row],[Cantidad LANIP]] -> 523719 | P14: =+Reactivos_[[#This Row],[Cantidad LDV]]*Reactivos_[[#This Row],[Valor de referencia]] -> 0 | R14: =+Reactivos_[[#This Row],[Cantidad LNDV]]*Reactivos_[[#This Row],[Valor de referencia]] -> 0 | T14: =+Reactivos_[[#This Row],[GGCA]]*Reactivos_[[#This Row],[Valor de referencia]] -> 0 | V14: =+Reactivos_[[#This Row],[Cantidad LDF]]*Reactivos_[[#This Row],[Valor de referencia]] -> 0 | X14: =+Reactivos_[[#This Row],[Cantidad LDF&MR]]*Reactivos_[[#This Row],[Valor de referencia]] -> 0 | Z14: =+Reactivos_[[#This Row],[Cantidad RED LASE]]*Reactivos_[[#This Row],[Valor de referencia]] -> 0 | AA14: 1 | AB14: =+Reactivos_[[#This Row],[Cantidad LANIA]]*Reactivos_[[#This Row],[Valor de referencia]] -> 523719 | AD14: =+Reactivos_[[#This Row],[Cantidad SPA]]*Reactivos_[[#This Row],[Valor de referencia]] -> 0 | AE14: No aplica | AF14: SI
A15: =IF(B15=Reactivos_[[#This Row],[Cantidad LANIP]],"LANIP",IF(B15=Reactivos_[[#This Row],[Cantidad LDV]],"LDV",IF(B15=Reactivos_[[#This Row],[Cantidad LNDV]],"LNDV",IF(B15=Reactivos_[[#This Row],[GGCA]],"GGCA",IF(B15=Reactivos_[[#This Row],[Cantidad LDF]],"LDF",IF(Reactivos_[[#This Row],[Cantidad LDF&MR]],"LDF&MR",IF(B15=Reactivos_[[#This Row],[Cantidad RED LASE]],"LASE",IF(B15=Reactivos_[[#This Row],[Cantidad LANIA]],"LANIA",IF(B15=Reactivos_[[#This Row],[Cantidad SPA]],"SPA"," "))))))))) -> LANIP | B15: =MAX(Reactivos_[[#This Row],[Cantidad LANIP]],Reactivos_[[#This Row],[Cantidad LDV]],Reactivos_[[#This Row],[Cantidad LNDV]],Reactivos_[[#This Row],[GGCA]],Reactivos_[[#This Row],[Cantidad LDF]],Reactivos_[[#This Row],[Cantidad LDF&MR]],Reactivos_[[#This Row],[Cantidad RED LASE]],Reactivos_[[#This Row],[Cantidad LANIA]],Reactivos_[[#This Row],[Cantidad SPA]]) -> 5 | C15: 13 | D15: 14 | E15: Acetato de etilo grado masas | F15: 141-78-6 | G15: C4H8O2 | H15: Merck o SCHARLAU o equivalnete | I15: Frasco x 2.5 litros | J15: =SUM(Reactivos_[[#This Row],[Cantidad LANIP]],Reactivos_[[#This Row],[Cantidad LDV]],Reactivos_[[#This Row],[Cantidad LNDV]],Reactivos_[[#This Row],[GGCA]],Reactivos_[[#This Row],[Cantidad LDF]],Reactivos_[[#This Row],[Cantidad LDF&MR]],Reactivos_[[#This Row],[Cantidad RED LASE]],Reactivos_[[#This Row],[Cantidad LANIA]],Reactivos_[[#This Row],[Cantidad SPA]]) -> 5 | K15: 1935187 | L15: =+Reactivos_[[#This Row],[Cantidad]]*Reactivos_[[#This Row],[Valor de referencia]] -> 9675935 | M15: 5 | N15: =+Reactivos_[[#This Row],[Valor de referencia]]*Reactivos_[[#This Row],[Cantidad LANIP]] -> 9675935 | P15: =+Reactivos_[[#This Row],[Cantidad LDV]]*Reactivos_[[#This Row],[Valor de referencia]] -> 0 | R15: =+Reactivos_[[#This Row],[Cantidad LNDV]]*Reactivos_[[#This Row],[Valor de referencia]] -> 0 | T15: =+Reactivos_[[#This Row],[GGCA]]*Reactivos_[[#This Row],[Valor de referencia]] -> 0 | V15: =+Reactivos_[[#This Row],[Cantidad LDF]]*Reactivos_[[#This Row],[Valor de referencia]] -> 0 | X15: =+Reactivos_[[#This Row],[Cantidad LDF&MR]]*Reactivos_[[#This Row],[Valor de referencia]] -> 0 | Z15: =+Reactivos_[[#This Row],[Cantidad RED LASE]]*Reactivos_[[#This Row],[Valor de referencia]] -> 0 | AB15: =+Reactivos_[[#This Row],[Cantidad LANIA]]*Reactivos_[[#This Row],[Valor de referencia]] -> 0 | AD15: =+Reactivos_[[#This Row],[Cantidad SPA]]*Reactivos_[[#This Row],[Valor de referencia]] -> 0 | AE15: SI | AF15: SI
A16: =IF(B16=Reactivos_[[#This Row],[Cantidad LANIP]],"LANIP",IF(B16=Reactivos_[[#This Row],[Cantidad LDV]],"LDV",IF(B16=Reactivos_[[#This Row],[Cantidad LNDV]],"LNDV",IF(B16=Reactivos_[[#This Row],[GGCA]],"GGCA",IF(B16=Reactivos_[[#This Row],[Cantidad LDF]],"LDF",IF(Reactivos_[[#This Row],[Cantidad LDF&MR]],"LDF&MR",IF(B16=Reactivos_[[#This Row],[Cantidad RED LASE]],"LASE",IF(B16=Reactivos_[[#This Row],[Cantidad LANIA]],"LANIA",IF(B16=Reactivos_[[#This Row],[Cantidad SPA]],"SPA"," "))))))))) -> LANIP | B16: =MAX(Reactivos_[[#This Row],[Cantidad LANIP]],Reactivos_[[#This Row],[Cantidad LDV]],Reactivos_[[#This Row],[Cantidad LNDV]],Reactivos_[[#This Row],[GGCA]],Reactivos_[[#This Row],[Cantidad LDF]],Reactivos_[[#This Row],[Cantidad LDF&MR]],Reactivos_[[#This Row],[Cantidad RED LASE]],Reactivos_[[#This Row],[Cantidad LANIA]],Reactivos_[[#This Row],[Cantidad SPA]]) -> 5 | C16: 14 | D16: 15 | E16: Acetato de etilo para análisis de residuos | F16: 141-78-6 | G16: C4H8O2 | H16: Merck o SCHARLAU o equivalnete | I16: Frasco x 4 litros | J16: =SUM(Reactivos_[[#This Row],[Cantidad LANIP]],Reactivos_[[#This Row],[Cantidad LDV]],Reactivos_[[#This Row],[Cantidad LNDV]],Reactivos_[[#This Row],[GGCA]],Reactivos_[[#This Row],[Cantidad LDF]],Reactivos_[[#This Row],[Cantidad LDF&MR]],Reactivos_[[#This Row],[Cantidad RED LASE]],Reactivos_[[#This Row],[Cantidad LANIA]],Reactivos_[[#This Row],[Cantidad SPA]]) -> 5 | K16: 2236701 | L16: =+Reactivos_[[#This Row],[Cantidad]]*Reactivos_[[#This Row],[Valor de referencia]] -> 11183505 | M16: 5 | N16: =+Reactivos_[[#This Row],[Valor de referencia]]*Reactivos_[[#This Row],[Cantidad LANIP]] -> 11183505 | P16: =+Reactivos_[[#This Row],[Cantidad LDV]]*Reactivos_[[#This Row],[Valor de referencia]] -> 0 | R16: =+Reactivos_[[#This Row],[Cantidad LNDV]]*Reactivos_[[#This Row],[Valor de referencia]] -> 0 | T16: =+Reactivos_[[#This Row],[GGCA]]*Reactivos_[[#This Row],[Valor de referencia]] -> 0 | V16: =+Reactivos_[[#This Row],[Cantidad LDF]]*Reactivos_[[#This Row],[Valor de referencia]] -> 0 | X16: =+Reactivos_[[#This Row],[Cantidad LDF&MR]]*Reactivos_[[#This Row],[Valor de referencia]] -> 0 | Z16: =+Reactivos_[[#This Row],[Cantidad RED LASE]]*Reactivos_[[#This Row],[Valor de referencia]] -> 0 | AB16: =+Reactivos_[[#This Row],[Cantidad LANIA]]*Reactivos_[[#This Row],[Valor de referencia]] -> 0 | AD16: =+Reactivos_[[#This Row],[Cantidad SPA]]*Reactivos_[[#This Row],[Valor de referencia]] -> 0 | AE16: SI | AF16: SI
A17: =IF(B17=Reactivos_[[#This Row],[Cantidad LANIP]],"LANIP",IF(B17=Reactivos_[[#This Row],[Cantidad LDV]],"LDV",IF(B17=Reactivos_[[#This Row],[Cantidad LNDV]],"LNDV",IF(B17=Reactivos_[[#This Row],[GGCA]],"GGCA",IF(B17=Reactivos_[[#This Row],[Cantidad LDF]],"LDF",IF(Reactivos_[[#This Row],[Cantidad LDF&MR]],"LDF&MR",IF(B17=Reactivos_[[#This Row],[Cantidad RED LASE]],"LASE",IF(B17=Reactivos_[[#This Row],[Cantidad LANIA]],"LANIA",IF(B17=Reactivos_[[#This Row],[Cantidad SPA]],"SPA"," "))))))))) -> LANIP | B17: =MAX(Reactivos_[[#This Row],[Cantidad LANIP]],Reactivos_[[#This Row],[Cantidad LDV]],Reactivos_[[#This Row],[Cantidad LNDV]],Reactivos_[[#This Row],[GGCA]],Reactivos_[[#This Row],[Cantidad LDF]],Reactivos_[[#This Row],[Cantidad LDF&MR]],Reactivos_[[#This Row],[Cantidad RED LASE]],Reactivos_[[#This Row],[Cantidad LANIA]],Reactivos_[[#This Row],[Cantidad SPA]]) -> 1 | C17: 15 | D17: 16 | E17: ACETATO DE PLOMO | F17: 13-35-32-6 | G17: PB(C2H3O2)2 | I17: Frasco x100g | J17: =SUM(Reactivos_[[#This Row],[Cantidad LANIP]],Reactivos_[[#This Row],[Cantidad LDV]],Reactivos_[[#This Row],[Cantidad LNDV]],Reactivos_[[#This Row],[GGCA]],Reactivos_[[#This Row],[Cantidad LDF]],Reactivos_[[#This Row],[Cantidad LDF&MR]],Reactivos_[[#This Row],[Cantidad RED LASE]],Reactivos_[[#This Row],[Cantidad LANIA]],Reactivos_[[#This Row],[Cantidad SPA]]) -> 1 | K17: 369781 | L17: =+Reactivos_[[#This Row],[Cantidad]]*Reactivos_[[#This Row],[Valor de referencia]] -> 369781 | M17: 1 | N17: =+Reactivos_[[#This Row],[Valor de referencia]]*Reactivos_[[#This Row],[Cantidad LANIP]] -> 369781 | P17: =+Reactivos_[[#This Row],[Cantidad LDV]]*Reactivos_[[#This Row],[Valor de referencia]] -> 0 | R17: =+Reactivos_[[#This Row],[Cantidad LNDV]]*Reactivos_[[#This Row],[Valor de referencia]] -> 0 | T17: =+Reactivos_[[#This Row],[GGCA]]*Reactivos_[[#This Row],[Valor de referencia]] -> 0 | V17: =+Reactivos_[[#This Row],[Cantidad LDF]]*Reactivos_[[#This Row],[Valor de referencia]] -> 0 | X17: =+Reactivos_[[#This Row],[Cantidad LDF&MR]]*Reactivos_[[#This Row],[Valor de referencia]] -> 0 | Z17: =+Reactivos_[[#This Row],[Cantidad RED LASE]]*Reactivos_[[#This Row],[Valor de referencia]] -> 0 | AB17: =+Reactivos_[[#This Row],[Cantidad LANIA]]*Reactivos_[[#This Row],[Valor de referencia]] -> 0 | AD17: =+Reactivos_[[#This Row],[Cantidad SPA]]*Reactivos_[[#This Row],[Valor de referencia]] -> 0 | AE17: No aplica | AF17: SI
A18: =IF(B18=Reactivos_[[#This Row],[Cantidad LANIP]],"LANIP",IF(B18=Reactivos_[[#This Row],[Cantidad LDV]],"LDV",IF(B18=Reactivos_[[#This Row],[Cantidad LNDV]],"LNDV",IF(B18=Reactivos_[[#This Row],[GGCA]],"GGCA",IF(B18=Reactivos_[[#This Row],[Cantidad LDF]],"LDF",IF(Reactivos_[[#This Row],[Cantidad LDF&MR]],"LDF&MR",IF(B18=Reactivos_[[#This Row],[Cantidad RED LASE]],"LASE",IF(B18=Reactivos_[[#This Row],[Cantidad LANIA]],"LANIA",IF(B18=Reactivos_[[#This Row],[Cantidad SPA]],"SPA"," "))))))))) -> LDF&MR | B18: =MAX(Reactivos_[[#This Row],[Cantidad LANIP]],Reactivos_[[#This Row],[Cantidad LDV]],Reactivos_[[#This Row],[Cantidad LNDV]],Reactivos_[[#This Row],[GGCA]],Reactivos_[[#This Row],[Cantidad LDF]],Reactivos_[[#This Row],[Cantidad LDF&MR]],Reactivos_[[#This Row],[Cantidad RED LASE]],Reactivos_[[#This Row],[Cantidad LANIA]],Reactivos_[[#This Row],[Cantidad SPA]]) -> 2 | C18: 16 | D18: 17 | E18: Acetato de potasio Anhidro | F18: 127-08-02 | G18: CH3CO2K | H18: Merck o MOL LABS Ref: R6805 o equivalente | I18: Presentación desde Frasco x 50g hasta frasco x 250g | J18: =SUM(Reactivos_[[#This Row],[Cantidad LANIP]],Reactivos_[[#This Row],[Cantidad LDV]],Reactivos_[[#This Row],[Cantidad LNDV]],Reactivos_[[#This Row],[GGCA]],Reactivos_[[#This Row],[Cantidad LDF]],Reactivos_[[#This Row],[Cantidad LDF&MR]],Reactivos_[[#This Row],[Cantidad RED LASE]],Reactivos_[[#This Row],[Cantidad LANIA]],Reactivos_[[#This Row],[Cantidad SPA]]) -> 4 | K18: 517293 | L18: =+Reactivos_[[#This Row],[Cantidad]]*Reactivos_[[#This Row],[Valor de referencia]] -> 2069172 | M18: 0 | N18: =+Reactivos_[[#This Row],[Valor de referencia]]*Reactivos_[[#This Row],[Cantidad LANIP]] -> 0 | P18: =+Reactivos_[[#This Row],[Cantidad LDV]]*Reactivos_[[#This Row],[Valor de referencia]] -> 0 | Q18: 1 | R18: =+Reactivos_[[#This Row],[Cantidad LNDV]]*Reactivos_[[#This Row],[Valor de referencia]] -> 517293 | T18: =+Reactivos_[[#This Row],[GGCA]]*Reactivos_[[#This Row],[Valor de referencia]] -> 0 | U18: 1 | V18: =+Reactivos_[[#This Row],[Cantidad LDF]]*Reactivos_[[#This Row],[Valor de referencia]] -> 517293 | W18: 2 | X18: =+Reactivos_[[#This Row],[Cantidad LDF&MR]]*Reactivos_[[#This Row],[Valor de referencia]] -> 1034586 | Z18: =+Reactivos_[[#This Row],[Cantidad RED LASE]]*Reactivos_[[#This Row],[Valor de referencia]] -> 0 | AB18: =+Reactivos_[[#This Row],[Cantidad LANIA]]*Reactivos_[[#This Row],[Valor de referencia]] -> 0 | AD18: =+Reactivos_[[#This Row],[Cantidad SPA]]*Reactivos_[[#This Row],[Valor de referencia]] -> 0 | AE18: No aplica | AF18: SI
A19: =IF(B19=Reactivos_[[#This Row],[Cantidad LANIP]],"LANIP",IF(B19=Reactivos_[[#This Row],[Cantidad LDV]],"LDV",IF(B19=Reactivos_[[#This Row],[Cantidad LNDV]],"LNDV",IF(B19=Reactivos_[[#This Row],[GGCA]],"GGCA",IF(B19=Reactivos_[[#This Row],[Cantidad LDF]],"LDF",IF(Reactivos_[[#This Row],[Cantidad LDF&MR]],"LDF&MR",IF(B19=Reactivos_[[#This Row],[Cantidad RED LASE]],"LASE",IF(B19=Reactivos_[[#This Row],[Cantidad LANIA]],"LANIA",IF(B19=Reactivos_[[#This Row],[Cantidad SPA]],"SPA"," "))))))))) -> LNDV | B19: =MAX(Reactivos_[[#This Row],[Cantidad LANIP]],Reactivos_[[#This Row],[Cantidad LDV]],Reactivos_[[#This Row],[Cantidad LNDV]],Reactivos_[[#This Row],[GGCA]],Reactivos_[[#This Row],[Cantidad LDF]],Reactivos_[[#This Row],[Cantidad LDF&MR]],Reactivos_[[#This Row],[Cantidad RED LASE]],Reactivos_[[#This Row],[Cantidad LANIA]],Reactivos_[[#This Row],[Cantidad SPA]]) -> 1 | C19: 17 | D19: 18 | E19: Acetato de sodio anhidro | F19: 127-09-3 | G19: C2H3NaO2 | H19: Sigma - Merck SUPELCO 106268 o equivalente | I19: Frasco x 50g | J19: =SUM(Reactivos_[[#This Row],[Cantidad LANIP]],Reactivos_[[#This Row],[Cantidad LDV]],Reactivos_[[#This Row],[Cantidad LNDV]],Reactivos_[[#This Row],[GGCA]],Reactivos_[[#This Row],[Cantidad LDF]],Reactivos_[[#This Row],[Cantidad LDF&MR]],Reactivos_[[#This Row],[Cantidad RED LASE]],Reactivos_[[#This Row],[Cantidad LANIA]],Reactivos_[[#This Row],[Cantidad SPA]]) -> 1 | K19: 339150 | L19: =+Reactivos_[[#This Row],[Cantidad]]*Reactivos_[[#This Row],[Valor de referencia]] -> 339150 | M19: 0 | N19: =+Reactivos_[[#This Row],[Valor de referencia]]*Reactivos_[[#This Row],[Cantidad LANIP]] -> 0 | P19: =+Reactivos_[[#This Row],[Cantidad LDV]]*Reactivos_[[#This Row],[Valor de referencia]] -> 0 | Q19: 1 | R19: =+Reactivos_[[#This Row],[Cantidad LNDV]]*Reactivos_[[#This Row],[Valor de referencia]] -> 339150 | T19: =+Reactivos_[[#This Row],[GGCA]]*Reactivos_[[#This Row],[Valor de referencia]] -> 0 | V19: =+Reactivos_[[#This Row],[Cantidad LDF]]*Reactivos_[[#This Row],[Valor de referencia]] -> 0 | X19: =+Reactivos_[[#This Row],[Cantidad LDF&MR]]*Reactivos_[[#This Row],[Valor de referencia]] -> 0 | Z19: =+Reactivos_[[#This Row],[Cantidad RED LASE]]*Reactivos_[[#This Row],[Valor de referencia]] -> 0 | AB19: =+Reactivos_[[#This Row],[Cantidad LANIA]]*Reactivos_[[#This Row],[Valor de referencia]] -> 0 | AD19: =+Reactivos_[[#This Row],[Cantidad SPA]]*Reactivos_[[#This Row],[Valor de referencia]] -> 0 | AE19: No aplica | AF19: SI
A20: =IF(B20=Reactivos_[[#This Row],[Cantidad LANIP]],"LANIP",IF(B20=Reactivos_[[#This Row],[Cantidad LDV]],"LDV",IF(B20=Reactivos_[[#This Row],[Cantidad LNDV]],"LNDV",IF(B20=Reactivos_[[#This Row],[GGCA]],"GGCA",IF(B20=Reactivos_[[#This Row],[Cantidad LDF]],"LDF",IF(Reactivos_[[#This Row],[Cantidad LDF&MR]],"LDF&MR",IF(B20=Reactivos_[[#This Row],[Cantidad RED LASE]],"LASE",IF(B20=Reactivos_[[#This Row],[Cantidad LANIA]],"LANIA",IF(B20=Reactivos_[[#This Row],[Cantidad SPA]],"SPA"," "))))))))) -> LANIA | B20: =MAX(Reactivos_[[#This Row],[Cantidad LANIP]],Reactivos_[[#This Row],[Cantidad LDV]],Reactivos_[[#This Row],[Cantidad LNDV]],Reactivos_[[#This Row],[GGCA]],Reactivos_[[#This Row],[Cantidad LDF]],Reactivos_[[#This Row],[Cantidad LDF&MR]],Reactivos_[[#This Row],[Cantidad RED LASE]],Reactivos_[[#This Row],[Cantidad LANIA]],Reactivos_[[#This Row],[Cantidad SPA]]) -> 1 | C20: 18 | D20: 19 | E20: Acetato de zinc dihidrato, grado reactivo, pureza > 98%. Con certificado de análisis trazable por lote | H20: Merck o equivalente | I20: Frasco X 1 kg | J20: =SUM(Reactivos_[[#This Row],[Cantidad LANIP]],Reactivos_[[#This Row],[Cantidad LDV]],Reactivos_[[#This Row],[Cantidad LNDV]],Reactivos_[[#This Row],[GGCA]],Reactivos_[[#This Row],[Cantidad LDF]],Reactivos_[[#This Row],[Cantidad LDF&MR]],Reactivos_[[#This Row],[Cantidad RED LASE]],Reactivos_[[#This Row],[Cantidad LANIA]],Reactivos_[[#This Row],[Cantidad SPA]]) -> 1 | K20: 724914 | L20: =+Reactivos_[[#This Row],[Cantidad]]*Reactivos_[[#This Row],[Valor de referencia]] -> 724914 | M20: 0 | N20: =+Reactivos_[[#This Row],[Valor de referencia]]*Reactivos_[[#This Row],[Cantidad LANIP]] -> 0 | P20: =+Reactivos_[[#This Row],[Cantidad LDV]]*Reactivos_[[#This Row],[Valor de referencia]] -> 0 | R20: =+Reactivos_[[#This Row],[Cantidad LNDV]]*Reactivos_[[#This Row],[Valor de referencia]] -> 0 | T20: =+Reactivos_[[#This Row],[GGCA]]*Reactivos_[[#This Row],[Valor de referencia]] -> 0 | V20: =+Reactivos_[[#This Row],[Cantidad LDF]]*Reactivos_[[#This Row],[Valor de referencia]] -> 0 | X20: =+Reactivos_[[#This Row],[Cantidad LDF&MR]]*Reactivos_[[#This Row],[Valor de referencia]] -> 0 | Z20: =+Reactivos_[[#This Row],[Cantidad RED LASE]]*Reactivos_[[#This Row],[Valor de referencia]] -> 0 | AA20: 1 | AB20: =+Reactivos_[[#This Row],[Cantidad LANIA]]*Reactivos_[[#This Row],[Valor de referencia]] -> 724914 | AD20: =+Reactivos_[[#This Row],[Cantidad SPA]]*Reactivos_[[#This Row],[Valor de referencia]] -> 0 | AE20: No aplica | AF20: SI
A21: =IF(B21=Reactivos_[[#This Row],[Cantidad LANIP]],"LANIP",IF(B21=Reactivos_[[#This Row],[Cantidad LDV]],"LDV",IF(B21=Reactivos_[[#This Row],[Cantidad LNDV]],"LNDV",IF(B21=Reactivos_[[#This Row],[GGCA]],"GGCA",IF(B21=Reactivos_[[#This Row],[Cantidad LDF]],"LDF",IF(Reactivos_[[#This Row],[Cantidad LDF&MR]],"LDF&MR",IF(B21=Reactivos_[[#This Row],[Cantidad RED LASE]],"LASE",IF(B21=Reactivos_[[#This Row],[Cantidad LANIA]],"LANIA",IF(B21=Reactivos_[[#This Row],[Cantidad SPA]],"SPA"," "))))))))) -> LNDV | B21: =MAX(Reactivos_[[#This Row],[Cantidad LANIP]],Reactivos_[[#This Row],[Cantidad LDV]],Reactivos_[[#This Row],[Cantidad LNDV]],Reactivos_[[#This Row],[GGCA]],Reactivos_[[#This Row],[Cantidad LDF]],Reactivos_[[#This Row],[Cantidad LDF&MR]],Reactivos_[[#This Row],[Cantidad RED LASE]],Reactivos_[[#This Row],[Cantidad LANIA]],Reactivos_[[#This Row],[Cantidad SPA]]) -> 4 | C21: 19 | D21: 20 | E21: Acetona grado reactivo | F21: 67-64-1 | G21: C3H6O | H21: Merck o JT Baker o Mallinckrodt o Scharlau o equivalente | I21: Frasco x 4 litros | J21: =SUM(Reactivos_[[#This Row],[Cantidad LANIP]],Reactivos_[[#This Row],[Cantidad LDV]],Reactivos_[[#This Row],[Cantidad LNDV]],Reactivos_[[#This Row],[GGCA]],Reactivos_[[#This Row],[Cantidad LDF]],Reactivos_[[#This Row],[Cantidad LDF&MR]],Reactivos_[[#This Row],[Cantidad RED LASE]],Reactivos_[[#This Row],[Cantidad LANIA]],Reactivos_[[#This Row],[Cantidad SPA]]) -> 4 | K21: 944257 | L21: =+Reactivos_[[#This Row],[Cantidad]]*Reactivos_[[#This Row],[Valor de referencia]] -> 3777028 | M21: 0 | N21: =+Reactivos_[[#This Row],[Valor de referencia]]*Reactivos_[[#This Row],[Cantidad LANIP]] -> 0 | P21: =+Reactivos_[[#This Row],[Cantidad LDV]]*Reactivos_[[#This Row],[Valor de referencia]] -> 0 | Q21: 4 | R21: =+Reactivos_[[#This Row],[Cantidad LNDV]]*Reactivos_[[#This Row],[Valor de referencia]] -> 3777028 | T21: =+Reactivos_[[#This Row],[GGCA]]*Reactivos_[[#This Row],[Valor de referencia]] -> 0 | V21: =+Reactivos_[[#This Row],[Cantidad LDF]]*Reactivos_[[#This Row],[Valor de referencia]] -> 0 | X21: =+Reactivos_[[#This Row],[Cantidad LDF&MR]]*Reactivos_[[#This Row],[Valor de referencia]] -> 0 | Z21: =+Reactivos_[[#This Row],[Cantidad RED LASE]]*Reactivos_[[#This Row],[Valor de referencia]] -> 0 | AB21: =+Reactivos_[[#This Row],[Cantidad LANIA]]*Reactivos_[[#This Row],[Valor de referencia]] -> 0 | AD21: =+Reactivos_[[#This Row],[Cantidad SPA]]*Reactivos_[[#This Row],[Valor de referencia]] -> 0 | AE21: SI | AF21: SI
A22: =IF(B22=Reactivos_[[#This Row],[Cantidad LANIP]],"LANIP",IF(B22=Reactivos_[[#This Row],[Cantidad LDV]],"LDV",IF(B22=Reactivos_[[#This Row],[Cantidad LNDV]],"LNDV",IF(B22=Reactivos_[[#This Row],[GGCA]],"GGCA",IF(B22=Reactivos_[[#This Row],[Cantidad LDF]],"LDF",IF(Reactivos_[[#This Row],[Cantidad LDF&MR]],"LDF&MR",IF(B22=Reactivos_[[#This Row],[Cantidad RED LASE]],"LASE",IF(B22=Reactivos_[[#This Row],[Cantidad LANIA]],"LANIA",IF(B22=Reactivos_[[#This Row],[Cantidad SPA]],"SPA"," "))))))))) -> LANIP | B22: =MAX(Reactivos_[[#This Row],[Cantidad LANIP]],Reactivos_[[#This Row],[Cantidad LDV]],Reactivos_[[#This Row],[Cantidad LNDV]],Reactivos_[[#This Row],[GGCA]],Reactivos_[[#This Row],[Cantidad LDF]],Reactivos_[[#This Row],[Cantidad LDF&MR]],Reactivos_[[#This Row],[Cantidad RED LASE]],Reactivos_[[#This Row],[Cantidad LANIA]],Reactivos_[[#This Row],[Cantidad SPA]]) -> 1 | C22: 20 | D22: 21 | E22: Acetona HPLC | F22: 6764-1 | G22: C3H6O | H22: SCHARLAU o equivalente | I22: Frasco 2,5 a 4 litros | J22: =SUM(Reactivos_[[#This Row],[Cantidad LANIP]],Reactivos_[[#This Row],[Cantidad LDV]],Reactivos_[[#This Row],[Cantidad LNDV]],Reactivos_[[#This Row],[GGCA]],Reactivos_[[#This Row],[Cantidad LDF]],Reactivos_[[#This Row],[Cantidad LDF&MR]],Reactivos_[[#This Row],[Cantidad RED LASE]],Reactivos_[[#This Row],[Cantidad LANIA]],Reactivos_[[#This Row],[Cantidad SPA]]) -> 1 | K22: 1408358 | L22: =+Reactivos_[[#This Row],[Cantidad]]*Reactivos_[[#This Row],[Valor de referencia]] -> 1408358 | M22: 1 | N22: =+Reactivos_[[#This Row],[Valor de referencia]]*Reactivos_[[#This Row],[Cantidad LANIP]] -> 1408358 | P22: =+Reactivos_[[#This Row],[Cantidad LDV]]*Reactivos_[[#This Row],[Valor de referencia]] -> 0 | R22: =+Reactivos_[[#This Row],[Cantidad LNDV]]*Reactivos_[[#This Row],[Valor de referencia]] -> 0 | T22: =+Reactivos_[[#This Row],[GGCA]]*Reactivos_[[#This Row],[Valor de referencia]] -> 0 | V22: =+Reactivos_[[#This Row],[Cantidad LDF]]*Reactivos_[[#This Row],[Valor de referencia]] -> 0 | X22: =+Reactivos_[[#This Row],[Cantidad LDF&MR]]*Reactivos_[[#This Row],[Valor de referencia]] -> 0 | Z22: =+Reactivos_[[#This Row],[Cantidad RED LASE]]*Reactivos_[[#This Row],[Valor de referencia]] -> 0 | AB22: =+Reactivos_[[#This Row],[Cantidad LANIA]]*Reactivos_[[#This Row],[Valor de referencia]] -> 0 | AD22: =+Reactivos_[[#This Row],[Cantidad SPA]]*Reactivos_[[#This Row],[Valor de referencia]] -> 0 | AE22: SI | AF22: SI
A23: =IF(B23=Reactivos_[[#This Row],[Cantidad LANIP]],"LANIP",IF(B23=Reactivos_[[#This Row],[Cantidad LDV]],"LDV",IF(B23=Reactivos_[[#This Row],[Cantidad LNDV]],"LNDV",IF(B23=Reactivos_[[#This Row],[GGCA]],"GGCA",IF(B23=Reactivos_[[#This Row],[Cantidad LDF]],"LDF",IF(Reactivos_[[#This Row],[Cantidad LDF&MR]],"LDF&MR",IF(B23=Reactivos_[[#This Row],[Cantidad RED LASE]],"LASE",IF(B23=Reactivos_[[#This Row],[Cantidad LANIA]],"LANIA",IF(B23=Reactivos_[[#This Row],[Cantidad SPA]],"SPA"," "))))))))) -> LANIA | B23: =MAX(Reactivos_[[#This Row],[Cantidad LANIP]],Reactivos_[[#This Row],[Cantidad LDV]],Reactivos_[[#This Row],[Cantidad LNDV]],Reactivos_[[#This Row],[GGCA]],Reactivos_[[#This Row],[Cantidad LDF]],Reactivos_[[#This Row],[Cantidad LDF&MR]],Reactivos_[[#This Row],[Cantidad RED LASE]],Reactivos_[[#This Row],[Cantidad LANIA]],Reactivos_[[#This Row],[Cantidad SPA]]) -> 70 | C23: 21 | D23: 22 | E23: Acetonitrilo grado HPLC | F23: 75-05-8 | G23: CH3CN | H23: FISHER SCIENTIFIC A998-4 o Merck o JT BAKER o equivalente | I23: Frasco x 4 litros | J23: =SUM(Reactivos_[[#This Row],[Cantidad LANIP]],Reactivos_[[#This Row],[Cantidad LDV]],Reactivos_[[#This Row],[Cantidad LNDV]],Reactivos_[[#This Row],[GGCA]],Reactivos_[[#This Row],[Cantidad LDF]],Reactivos_[[#This Row],[Cantidad LDF&MR]],Reactivos_[[#This Row],[Cantidad RED LASE]],Reactivos_[[#This Row],[Cantidad LANIA]],Reactivos_[[#This Row],[Cantidad SPA]]) -> 75 | K23: 809627 | L23: =+Reactivos_[[#This Row],[Cantidad]]*Reactivos_[[#This Row],[Valor de referencia]] -> 60722025 | M23: 5 | N23: =+Reactivos_[[#This Row],[Valor de referencia]]*Reactivos_[[#This Row],[Cantidad LANIP]] -> 4048135 | P23: =+Reactivos_[[#This Row],[Cantidad LDV]]*Reactivos_[[#This Row],[Valor de referencia]] -> 0 | R23: =+Reactivos_[[#This Row],[Cantidad LNDV]]*Reactivos_[[#This Row],[Valor de referencia]] -> 0 | T23: =+Reactivos_[[#This Row],[GGCA]]*Reactivos_[[#This Row],[Valor de referencia]] -> 0 | V23: =+Reactivos_[[#This Row],[Cantidad LDF]]*Reactivos_[[#This Row],[Valor de referencia]] -> 0 | X23: =+Reactivos_[[#This Row],[Cantidad LDF&MR]]*Reactivos_[[#This Row],[Valor de referencia]] -> 0 | Z23: =+Reactivos_[[#This Row],[Cantidad RED LASE]]*Reactivos_[[#This Row],[Valor de referencia]] -> 0 | AA23: 70 | AB23: =+Reactivos_[[#This Row],[Cantidad LANIA]]*Reactivos_[[#This Row],[Valor de referencia]] -> 56673890 | AD23: =+Reactivos_[[#This Row],[Cantidad SPA]]*Reactivos_[[#This Row],[Valor de referencia]] -> 0 | AE23: No aplica | AF23: SI
