Workbook

Sheet PROPONENTES
A6: SECRETARÍA DE GESTIÓN Y CONTROL TERRITORIAL
A8: SELECCIÓN ABREVIADA DE MENOR CUANTÍA No. 9015314
A11: "Construir obras complementarias del alcantarillado de la centralidad del corregimiento San Sebastián de Palmitas" | P11: =A11 -> "Construir obras complementarias del alcantarillado de la centralidad del corregimiento San Sebastián de Palmitas"
A13: PROPONENTES
B15: PROPONENTE | C15: NIT | D15: PAÍS | E15: DEPARTAMENTO | F15: MUNICIPIO | G15: TAMAÑO EMPRESARIAL
J16: Si es proponente plural, poner acá el # de integrantes
A17: 1 | B17: C.T. 2 CONSTRUCCIONES S.A.S | C17: 900211682-3 | D17: COLOMBIA | E17: ANTIOQUIA | F17: RIONEGRO | G17: MICRO EMPRESA | J17: 1 | K17: 2
A18: 2 | B18: CONSORCIO OBRAS MC (COINAR - CONSULTORES INGENIEROS Y ARQUITECTOS LTDA (70%) y MATMAR CONSTRUCCIONES S.A.S. (30%)) | C18: 822007497-0 | D18: COLOMBIA | E18: META | F18: VILLAVICENCIO | G18: MEDIANA EMPRESA | J18: 2 | K18: 2
C19: 901429186-2 | D19: COLOMBIA | E19: NEIVA | F19: HUILA | G19: PEQUEÑA EMPRESA
A20: 3 | B20: MEGACONSTRUCCIONES Y EQUIPOS S.A.S | C20: 900211521-6 | D20: COLOMBIA | E20: ANTIOQUIA | F20: MEDELLIN | G20: MEDIANA EMPRESA | J20: 1 | K20: 2
A21: 4 | B21: EMPRESA ASOCIATIVA DE TRABAJO UNIDOS AL FUTURO | C21: 811031717-7 | D21: COLOMBIA | E21: ANTIOQUIA | F21: MEDELLIN | G21: MICRO EMPRESA | J21: 1 | K21: 2
A22: 5 | B22: DYA INGENIERIA SAS | C22: 900214670-9 | D22: COLOMBIA | E22: CUNDINAMARCA | F22: BOGOTA D.C. | G22: MICRO EMPRESA | J22: 1 | K22: 2
A23: 6 | B23: ESTORAQUES 20 SAS | C23: 901420326-6 | D23: COLOMBIA | E23: NORTE DE SANTANDER | F23: CUCUTA | G23: PEQUEÑA EMPRESA | J23: 1 | K23: 2
A27: F. | B27: Elaboró: Diego Alberto Acosta Betancur - Natalia Zapata Puerta
B28: Cargo: Profesional Universitario - Ingeniero Contratista

Sheet EXP. ACREDITADA
A6: SECRETARÍA DE SUMINISTROS Y SERVICIOS
A7: =+PROPONENTES!A8 -> SELECCIÓN ABREVIADA DE MENOR CUANTÍA No. 9015314
A9: =+PROPONENTES!A11 -> "Construir obras complementarias del alcantarillado de la centralidad del corregimiento San Sebastián de Palmitas"
A11: EXPERIENCIA GENERAL Y ESPECÍFICA DEL PROPONENTE
A13: EXPERIENCIA GENERAL: El proponente deberá acreditar experiencia en un mínimo de un (1) y máximo de tres (3) contratos ejecutados, en PROYECTOS QUE CORRESPONDAN O HAYAN CONTENIDO ACTIVIDADES DE: AMPLIACION Y/U OPTIMIZACION Y/O CONSTRUCCION Y/O MEJORAMIENTO Y/O REPOSICION DE ALCANTARILLADOS, cuya sumatoria deberá ser igual o superior al cien por ciento (100%) del presupuesto oficial expresado en salarios mínimos mensuales legales vigentes (SMMLV). Los contratos aportados para efectos de acreditación de la experiencia requerida deben estar clasificados en al menos dos (2) de los siguientes códigos: 721029 SERVICIOS DE MANTENIMIENTO Y REPARACIÓN DE INSTALACIONES 721411 SERVICIOS DE PAVIMENTACIÓN Y SUPERFICIES DE INFRAESTRUTURA 721415 SERVICIOS DE PREPARACIÓN DE TIERRAS 811015 INGENIERIA CIVIL Y ARQUITECTURA 831015 SERVICIOS DE ACUEDUCTO Y ALCANTARILLADO Experiencia específica: De los contratos aportados para la Experiencia General, mínimo uno (1) deberá contemplar en el objeto y/o alcance y/o actividades la construcción de obras de mitigación o contención, para lo cual deberá aportar los correspondientes certificados y deberán estar inscritos en RUP. | K13: Cód.. (UNSPSC): | L13: 721029 | M13: 721411 | N13: 721415 | O13: 811015 | P13: 831015
K14: NUMERO MÁXIMO DE CONTRATOS QUE PUEDE ACREDITAR: | O14: 5
K15: CONDICIÓN PROPONENTES PLURALES | L15: El valor a acreditar por cada uno de los integrantes del consorcio, unión temporal u otra forma de asociación permitida por la ley, deberá corresponder a su porcentaje de participación en la forma asociativa y expresada en Salarios Mínimos Mensuales Legales Vigentes (SMMLV). En todo caso, cada integrante deberá acreditar como mínimo un (1) contrato, independientemente del número de integrantes de la forma asociativa. Si el proponente plural se conforma por un número mayor al número de contratos solicitados, el proponente informará cuales de los contratos aportados se deberán tener en cuenta para la verificación de la experiencia, sin perjuicio en todo caso de que, a cada uno de los integrantes de la forma asociativa, le corresponde acreditar un (1) contrato que corresponda a su porcentaje de participación en el correspondiente proponente plural.
K17: VALOR PRESUPUESTO OFICIAL | N17: 522182486 | O17: =N17/LOOKUP(2024,SMML!A:A,SMML!B:B) -> 401.67884
A19: 1 | B19: =LOOKUP(A19,PROPONENTES!$A$16:$A$23,PROPONENTES!$B$16:$B$23) -> C.T. 2 CONSTRUCCIONES S.A.S | H19: No. Contratos Validos | J19: =+COUNTIFS(D22:D28,"<>",M22:M28,">0") -> 4 | K19: Valor a Acreditar | L19: =+$O$17 -> 401.67884 | M19: VERIFICACIÓN | N19: =IF(AND(COUNTIFS(E22:E28,"S",M22:M28,">"&0)>0,R19="ok",AB19>=1,M29>=L19),"CUMPLE","NO CUMPLE") -> CUMPLE | P19: =A19 -> 1 | Q19: =VALUE(LOOKUP(A19,PROPONENTES!A:A,PROPONENTES!J:J)) -> 1 | R19: =IF(Q19=1,"ok",IF(AND(COUNTIF(U22:U28,">=0,5")>=1,COUNTIFS(U22:U28,">=0,05")>=IF(S19=1,Q19,Q19-1),S19>=0.95),"ok","no")) -> ok | S19: =SUM(S22:S28) -> 0 | AA19: 0.01 | AB19: =COUNTIF(AB22:AB28,">="&$AA$19) -> 4
A20: FOLIOS | B20: RUP No. DE ORDEN | C20: CONTRATANTE | D20: NUMERO DEL CONTRATO | E20: CUMPLE ALCANCE GENERAL (S/N) | F20: Cód.. (UNSPSC) RUP | G20: INTEGRANTE QUE ACREDITA | H20: %PAR. EN EL PROCESO | I20: VALOR DEL CONTRATO EN COP | J20: %PAR. EN EL CONTRATO | K20: FECHA DE TERMINACIÓN (día - mes - año) | L20: VALOR DEL CONTRATO EN SMMLV | M20: EXPERIENCIA EN SMMLV (=RUP) | N20: OBSERVACIONES
B22: 11 | C22: MUNICIPIO DE MARINILLA - SECRETARÍA DE OBRAS PÚBLICAS E INFRAESTRUCTURA | D22: 161-SO-2014 | E22: S | F22: 721029 721411 | I22: 70179350 | J22: 1 | K22: 41943 | L22: =IFERROR(IF(I22="","",ROUND(I22/LOOKUP(YEAR(K22),SMML!$A$2:$A$48,SMML!$B$2:$B$48),2)),"") -> 113.93 | M22: 114 | R22: =IF(M22<>0,G22,0) -> 0 | S22: =IFERROR(INDEX(G22:H28,MATCH(R22,G22:G28,0),2),"") | T22: =SUMIF(G22:G28,R22,M22:M28) -> 0 | U22: =T22/L19 -> 0 | V22: =G22 -> 0 | W22: =IFERROR(IF(SUMIF(G22:G28,V22,H22:H28)/COUNTIF(G22:G28,V22)=INDEX(R22:S28,MATCH(G22,R22:R28,0),2),1,2),1) -> 1 | Y22: =IF(R22=0,"",P19&"-"&COUNTIF(R22:R22,"<>0")*1) | Z22: =IF(M22>0,IF(D22="",D21,D22),"") -> 161-SO-2014 | AA22: =IF(Z23=Z22,IF(M22="",0,M22)+AA23,IF(M22="",0,M22)) -> 114 | AB22: =AA22/$O$17 -> 0.28380883
B23: 31 | C23: EEPP DEL SANTUARIO E.S.P. | D23: 012 DE 2015 | E23: S | F23: 811015 831015 | I23: 45441989 | J23: 1 | K23: 42360 | L23: =IFERROR(IF(I23="","",ROUND(I23/LOOKUP(YEAR(K23),SMML!$A$2:$A$48,SMML!$B$2:$B$48),2)),"") -> 70.52 | M23: 71 | R23: =IF(AND(COUNTIF(R22:R22,G23)<1,M23>0),G23,0) -> 0 | S23: =IFERROR(INDEX(G22:H28,MATCH(R23,G22:G28,0),2),"") | T23: =SUMIF(G22:G28,R23,M22:M28) -> 0 | U23: =T23/L19 -> 0 | V23: =G23 -> 0 | W23: =IFERROR(IF(SUMIF(G22:G28,V23,H22:H28)/COUNTIF(G22:G28,V23)=INDEX(R22:S28,MATCH(G23,R22:R28,0),2),1,2),1) -> 1 | Y23: =IF(R23=0,"",P19&"-"&COUNTIF(R22:R23,"<>0")*1) | Z23: =IF(M23>0,IF(D23="",D22,D23),"") -> 012 DE 2015 | AA23: =IF(Z24=Z23,IF(M23="",0,M23)+AA24,IF(M23="",0,M23)) -> 71 | AB23: =AA23/$O$17 -> 0.17675813
B24: 42 | C24: EMPRESAS VARIAS DE MEDELLÍN S.A. E.S.P. EMVARIAS - GRUPO EPM | D24: 0S-022 DE 2011 | E24: N | F24: 721411 811015 | I24: 27144000 | J24: 1 | K24: 40624 | L24: =IFERROR(IF(I24="","",ROUND(I24/LOOKUP(YEAR(K24),SMML!$A$2:$A$48,SMML!$B$2:$B$48),2)),"") -> 50.68 | M24: 51 | N24: Cumple experiencia especifica | R24: =IF(AND(COUNTIF(R22:R23,G24)<1,M24>0),G24,0) -> 0 | S24: =IFERROR(INDEX(G22:H28,MATCH(R24,G22:G28,0),2),"") | T24: =SUMIF(G22:G28,R24,M22:M28) -> 0 | U24: =T24/L19 -> 0 | V24: =G24 -> 0 | W24: =IFERROR(IF(SUMIF(G22:G28,V24,H22:H28)/COUNTIF(G22:G28,V24)=INDEX(R22:S28,MATCH(G24,R22:R28,0),2),1,2),1) -> 1 | Y24: =IF(R24=0,"",P19&"-"&COUNTIF(R22:R24,"<>0")*1) | Z24: =IF(M24>0,IF(D24="",D23,D24),"") -> 0S-022 DE 2011 | AA24: =IF(Z25=Z24,IF(M24="",0,M24)+AA25,IF(M24="",0,M24)) -> 51 | AB24: =AA24/$O$17 -> 0.12696711
B25: 67 | C25: EMPRESAS VARIAS DE MEDELLÍN S.A. E.S.P. EMVARIAS - GRUPO EPM | D25: CONTRATO CW-69851 DE 2019 | E25: S | F25: 721029 721411 | I25: 193957570 | J25: 1 | K25: 43764 | L25: =IFERROR(IF(I25="","",ROUND(I25/LOOKUP(YEAR(K25),SMML!$A$2:$A$48,SMML!$B$2:$B$48),2)),"") -> 234.22 | M25: 234.21 | R25: =IF(AND(COUNTIF(R22:R24,G25)<1,M25>0),G25,0) -> 0 | S25: =IFERROR(INDEX(G22:H28,MATCH(R25,G22:G28,0),2),"") | T25: =SUMIF(G22:G28,R25,M22:M28) -> 0 | U25: =T25/L19 -> 0 | V25: =G25 -> 0 | W25: =IFERROR(IF(SUMIF(G22:G28,V25,H22:H28)/COUNTIF(G22:G28,V25)=INDEX(R22:S28,MATCH(G25,R22:R28,0),2),1,2),1) -> 1 | Y25: =IF(R25=0,"",P19&"-"&COUNTIF(R22:R25,"<>0")*1) | Z25: =IF(M25>0,IF(D25="",D24,D25),"") -> CONTRATO CW-69851 DE 2019 | AA25: =IF(Z26=Z25,IF(M25="",0,M25)+AA26,IF(M25="",0,M25)) -> 234.21 | AB25: =AA25/$O$17 -> 0.58307777
L26: =IFERROR(IF(I26="","",ROUND(I26/LOOKUP(YEAR(K26),SMML!$A$2:$A$48,SMML!$B$2:$B$48),2)),"") | M26: =IFERROR(IF(AND(E26="S",COUNTIF($L$13:$R$13,F26)>=1),L26*J26,""),"") | N26: Aporta un contrato adicional según criterios para Mipymes y Empresas de Mujeres | R26: =IF(AND(COUNTIF(R22:R25,G26)<1,M26>0),G26,0) -> 0 | S26: =IFERROR(INDEX(G22:H28,MATCH(R26,G22:G28,0),2),"") | T26: =SUMIF(G22:G28,R26,M22:M28) -> 0 | U26: =T26/L19 -> 0 | V26: =G26 -> 0 | W26: =IFERROR(IF(SUMIF(G22:G28,V26,H22:H28)/COUNTIF(G22:G28,V26)=INDEX(R22:S28,MATCH(G26,R22:R28,0),2),1,2),1) -> 1 | Y26: =IF(R26=0,"",P19&"-"&COUNTIF(R22:R26,"<>0")*1) | Z26: =IF(M26>0,IF(D26="",D25,D26),"") -> CONTRATO CW-69851 DE 2019 | AA26: =IF(Z27=Z26,IF(M26="",0,M26)+AA27,IF(M26="",0,M26)) -> 0 | AB26: =AA26/$O$17 -> 0
L27: =IFERROR(IF(I27="","",ROUND(I27/LOOKUP(YEAR(K27),SMML!$A$2:$A$48,SMML!$B$2:$B$48),2)),"") | M27: =IFERROR(IF(AND(E27="S",COUNTIF($L$13:$R$13,F27)>=1),L27*J27,""),"") | R27: =IF(AND(COUNTIF(R22:R26,G27)<1,M27>0),G27,0) -> 0 | S27: =IFERROR(INDEX(G22:H28,MATCH(R27,G22:G28,0),2),"") | T27: =SUMIF(G22:G28,R27,M22:M28) -> 0 | U27: =T27/L19 -> 0 | V27: =G27 -> 0 | W27: =IFERROR(IF(SUMIF(G22:G28,V27,H22:H28)/COUNTIF(G22:G28,V27)=INDEX(R22:S28,MATCH(G27,R22:R28,0),2),1,2),1) -> 1 | Y27: =IF(R27=0,"",P19&"-"&COUNTIF(R22:R27,"<>0")*1) | Z27: =IF(M27>0,IF(D27="",D26,D27),"") -> 0 | AA27: =IF(Z28=Z27,IF(M27="",0,M27)+AA28,IF(M27="",0,M27)) -> 0 | AB27: =AA27/$O$17 -> 0
L28: =IFERROR(IF(I28="","",ROUND(I28/LOOKUP(YEAR(K28),SMML!$A$2:$A$48,SMML!$B$2:$B$48),2)),"") | M28: =IFERROR(IF(AND(E28="S",COUNTIF($L$13:$R$13,F28)>=1),L28*J28,""),"") | R28: =IF(AND(COUNTIF(R22:R27,G28)<1,M28>0),G28,0) -> 0 | S28: =IFERROR(INDEX(G22:H28,MATCH(R28,G22:G28,0),2),"") | T28: =SUMIF(G22:G28,R28,M22:M28) -> 0 | U28: =T28/L19 -> 0 | V28: =G28 -> 0 | W28: =IFERROR(IF(SUMIF(G22:G28,V28,H22:H28)/COUNTIF(G22:G28,V28)=INDEX(R22:S28,MATCH(G28,R22:R28,0),2),1,2),1) -> 1 | Y28: =IF(R28=0,"",P19&"-"&COUNTIF(R22:R28,"<>0")*1) | Z28: =IF(M28>0,IF(D28="",D27,D28),"") -> 0 | AA28: =IF(M28="",0,M28) -> 0 | AB28: =AA28/$O$17 -> 0
H29: =S19 -> 0 | L29: TOTAL | M29: =SUM(M22:M28) -> 470.21 | N29: =IF(R19="no","NO CUMPLE CONDICIÓN DEL CONSORCIO","")
A31: =+A19+1 -> 2 | B31: =LOOKUP(A31,PROPONENTES!$A$16:$A$23,PROPONENTES!$B$16:$B$23) -> CONSORCIO OBRAS MC (COINAR - CONSULTORES INGENIEROS Y ARQUITECTOS LTDA (70%) y MATMAR CONSTRUCCIONES S.A.S. (30%)) | H31: No. Contratos Validos | J31: =+COUNTIFS(D34:D40,"<>",M34:M40,">0") -> 2 | K31: Valor a Acreditar | L31: =+$O$17 -> 401.67884 | M31: VERIFICACIÓN | N31: =IF(AND(COUNTIFS(E34:E40,"S",M34:M40,">"&0)>0,R31="ok",AB31>=1,M41>=L31),"CUMPLE","NO CUMPLE") -> CUMPLE | P31: =A31 -> 2 | Q31: =VALUE(LOOKUP(A31,PROPONENTES!A:A,PROPONENTES!J:J)) -> 2 | R31: =IF(Q31=1,"ok",IF(AND(COUNTIF(U34:U40,">=0,5")>=1,COUNTIFS(U34:U40,">=0,05")>=IF(S31=1,Q31,Q31-1),S31>=0.95),"ok","no")) -> ok | S31: =SUM(S34:S40) -> 1 | AA31: 0.01 | AB31: =COUNTIF(AB34:AB40,">="&$AA$19) -> 2
A32: FOLIOS | B32: RUP No. DE ORDEN | C32: CONTRATANTE | D32: NUMERO DEL CONTRATO | E32: CUMPLE ALCANCE GENERAL (S/N) | F32: Cód.. (UNSPSC) RUP | G32: INTEGRANTE QUE ACREDITA | H32: %PAR. EN EL PROCESO | I32: VALOR DEL CONTRATO EN COP | J32: %PAR. EN EL CONTRATO | K32: FECHA DE TERMINACIÓN (día - mes - año) | L32: VALOR DEL CONTRATO EN SMMLV | M32: EXPERIENCIA EN SMMLV (=RUP) | N32: OBSERVACIONES
B34: 4 | C34: EDESA S.A E.S.P. | D34: 072-2022 | E34: S | F34: 721029 721411 | G34: MATMAR CONSTRUCCIONES S.A.S. | H34: 0.7 | I34: 3955722834 | J34: 0.35 | K34: 45169 | L34: =IFERROR(IF(I34="","",ROUND(I34/LOOKUP(YEAR(K34),SMML!$A$2:$A$48,SMML!$B$2:$B$48),2)),"") -> 3410.11 | M34: =3410.1*0.35 -> 1193.535 | R34: =IF(M34<>0,G34,0) -> MATMAR CONSTRUCCIONES S.A.S. | S34: =IFERROR(INDEX(G34:H40,MATCH(R34,G34:G40,0),2),"") -> 0.7 | T34: =SUMIF(G34:G40,R34,M34:M40) -> 1193.535 | U34: =T34/L31 -> 2.9713664 | V34: =G34 -> MATMAR CONSTRUCCIONES S.A.S. | W34: =IFERROR(IF(SUMIF(G34:G40,V34,H34:H40)/COUNTIF(G34:G40,V34)=INDEX(R34:S40,MATCH(G34,R34:R40,0),2),1,2),1) -> 1 | Y34: =IF(R34=0,"",P31&"-"&COUNTIF(R34:R34,"<>0")*1) -> 2-1 | Z34: =IF(M34>0,IF(D34="",D33,D34),"") -> 072-2022 | AA34: =IF(Z35=Z34,IF(M34="",0,M34)+AA35,IF(M34="",0,M34)) -> 1193.535 | AB34: =AA34/$O$17 -> 2.9713664
B35: 40 | C35: EDESA S.A E.S.P. | D35: 150-2007 | E35: S | F35: 721029 721411 | G35: COINAR . CONSULTORES INGENIEROS Y ARQUITECTOS LTDA | H35: 0.3 | I35: 419429415 | J35: 0.98 | K35: 39633 | L35: =IFERROR(IF(I35="","",ROUND(I35/LOOKUP(YEAR(K35),SMML!$A$2:$A$48,SMML!$B$2:$B$48),2)),"") -> 908.84 | M35: =908.83*0.98 -> 890.6534 | N35: Cumple experiencia especifica | R35: =IF(AND(COUNTIF(R34:R34,G35)<1,M35>0),G35,0) -> COINAR . CONSULTORES INGENIEROS Y ARQUITECTOS LTDA | S35: =IFERROR(INDEX(G34:H40,MATCH(R35,G34:G40,0),2),"") -> 0.3 | T35: =SUMIF(G34:G40,R35,M34:M40) -> 890.6534 | U35: =T35/L31 -> 2.2173272 | V35: =G35 -> COINAR . CONSULTORES INGENIEROS Y ARQUITECTOS LTDA | W35: =IFERROR(IF(SUMIF(G34:G40,V35,H34:H40)/COUNTIF(G34:G40,V35)=INDEX(R34:S40,MATCH(G35,R34:R40,0),2),1,2),1) -> 1 | Y35: =IF(R35=0,"",P31&"-"&COUNTIF(R34:R35,"<>0")*1) -> 2-2 | Z35: =IF(M35>0,IF(D35="",D34,D35),"") -> 150-2007 | AA35: =IF(Z36=Z35,IF(M35="",0,M35)+AA36,IF(M35="",0,M35)) -> 890.6534 | AB35: =AA35/$O$17 -> 2.2173272
L36: =IFERROR(IF(I36="","",ROUND(I36/LOOKUP(YEAR(K36),SMML!$A$2:$A$48,SMML!$B$2:$B$48),2)),"") | M36: =IFERROR(IF(AND(E36="S",COUNTIF($L$13:$R$13,F36)>=1),L36*J36,""),"") | R36: =IF(AND(COUNTIF(R34:R35,G36)<1,M36>0),G36,0) -> 0 | S36: =IFERROR(INDEX(G34:H40,MATCH(R36,G34:G40,0),2),"") | T36: =SUMIF(G34:G40,R36,M34:M40) -> 0 | U36: =T36/L31 -> 0 | V36: =G36 -> 0 | W36: =IFERROR(IF(SUMIF(G34:G40,V36,H34:H40)/COUNTIF(G34:G40,V36)=INDEX(R34:S40,MATCH(G36,R34:R40,0),2),1,2),1) -> 1 | Y36: =IF(R36=0,"",P31&"-"&COUNTIF(R34:R36,"<>0")*1) | Z36: =IF(M36>0,IF(D36="",D35,D36),"") -> 150-2007 | AA36: =IF(Z37=Z36,IF(M36="",0,M36)+AA37,IF(M36="",0,M36)) -> 0 | AB36: =AA36/$O$17 -> 0
L37: =IFERROR(IF(I37="","",ROUND(I37/LOOKUP(YEAR(K37),SMML!$A$2:$A$48,SMML!$B$2:$B$48),2)),"") | M37: =IFERROR(IF(AND(E37="S",COUNTIF($L$13:$R$13,F37)>=1),L37*J37,""),"") | R37: =IF(AND(COUNTIF(R34:R36,G37)<1,M37>0),G37,0) -> 0 | S37: =IFERROR(INDEX(G34:H40,MATCH(R37,G34:G40,0),2),"") | T37: =SUMIF(G34:G40,R37,M34:M40) -> 0 | U37: =T37/L31 -> 0 | V37: =G37 -> 0 | W37: =IFERROR(IF(SUMIF(G34:G40,V37,H34:H40)/COUNTIF(G34:G40,V37)=INDEX(R34:S40,MATCH(G37,R34:R40,0),2),1,2),1) -> 1 | Y37: =IF(R37=0,"",P31&"-"&COUNTIF(R34:R37,"<>0")*1) | Z37: =IF(M37>0,IF(D37="",D36,D37),"") -> 0 | AA37: =IF(Z38=Z37,IF(M37="",0,M37)+AA38,IF(M37="",0,M37)) -> 0 | AB37: =AA37/$O$17 -> 0
L38: =IFERROR(IF(I38="","",ROUND(I38/LOOKUP(YEAR(K38),SMML!$A$2:$A$48,SMML!$B$2:$B$48),2)),"") | M38: =IFERROR(IF(AND(E38="S",COUNTIF($L$13:$R$13,F38)>=1),L38*J38,""),"") | R38: =IF(AND(COUNTIF(R34:R37,G38)<1,M38>0),G38,0) -> 0 | S38: =IFERROR(INDEX(G34:H40,MATCH(R38,G34:G40,0),2),"") | T38: =SUMIF(G34:G40,R38,M34:M40) -> 0 | U38: =T38/L31 -> 0 | V38: =G38 -> 0 | W38: =IFERROR(IF(SUMIF(G34:G40,V38,H34:H40)/COUNTIF(G34:G40,V38)=INDEX(R34:S40,MATCH(G38,R34:R40,0),2),1,2),1) -> 1 | Y38: =IF(R38=0,"",P31&"-"&COUNTIF(R34:R38,"<>0")*1) | Z38: =IF(M38>0,IF(D38="",D37,D38),"") -> 0 | AA38: =IF(Z39=Z38,IF(M38="",0,M38)+AA39,IF(M38="",0,M38)) -> 0 | AB38: =AA38/$O$17 -> 0
L39: =IFERROR(IF(I39="","",ROUND(I39/LOOKUP(YEAR(K39),SMML!$A$2:$A$48,SMML!$B$2:$B$48),2)),"") | M39: =IFERROR(IF(AND(E39="S",COUNTIF($L$13:$R$13,F39)>=1),L39*J39,""),"") | R39: =IF(AND(COUNTIF(R34:R38,G39)<1,M39>0),G39,0) -> 0 | S39: =IFERROR(INDEX(G34:H40,MATCH(R39,G34:G40,0),2),"") | T39: =SUMIF(G34:G40,R39,M34:M40) -> 0 | U39: =T39/L31 -> 0 | V39: =G39 -> 0 | W39: =IFERROR(IF(SUMIF(G34:G40,V39,H34:H40)/COUNTIF(G34:G40,V39)=INDEX(R34:S40,MATCH(G39,R34:R40,0),2),1,2),1) -> 1 | Y39: =IF(R39=0,"",P31&"-"&COUNTIF(R34:R39,"<>0")*1) | Z39: =IF(M39>0,IF(D39="",D38,D39),"") -> 0 | AA39: =IF(Z40=Z39,IF(M39="",0,M39)+AA40,IF(M39="",0,M39)) -> 0 | AB39: =AA39/$O$17 -> 0
L40: =IFERROR(IF(I40="","",ROUND(I40/LOOKUP(YEAR(K40),SMML!$A$2:$A$48,SMML!$B$2:$B$48),2)),"") | M40: =IFERROR(IF(AND(E40="S",COUNTIF($L$13:$R$13,F40)>=1),L40*J40,""),"") | R40: =IF(AND(COUNTIF(R34:R39,G40)<1,M40>0),G40,0) -> 0 | S40: =IFERROR(INDEX(G34:H40,MATCH(R40,G34:G40,0),2),"") | T40: =SUMIF(G34:G40,R40,M34:M40) -> 0 | U40: =T40/L31 -> 0 | V40: =G40 -> 0 | W40: =IFERROR(IF(SUMIF(G34:G40,V40,H34:H40)/COUNTIF(G34:G40,V40)=INDEX(R34:S40,MATCH(G40,R34:R40,0),2),1,2),1) -> 1 | Y40: =IF(R40=0,"",P31&"-"&COUNTIF(R34:R40,"<>0")*1) | Z40: =IF(M40>0,IF(D40="",D39,D40),"") -> 0 | AA40: =IF(M40="",0,M40) -> 0 | AB40: =AA40/$O$17 -> 0
H41: =S31 -> 1 | L41: TOTAL | M41: =SUM(M34:M40) -> 2084.1884 | N41: =IF(R31="no","NO CUMPLE CONDICIÓN DEL CONSORCIO","")
A43: =+A31+1 -> 3 | B43: =LOOKUP(A43,PROPONENTES!$A$16:$A$23,PROPONENTES!$B$16:$B$23) -> MEGACONSTRUCCIONES Y EQUIPOS S.A.S | H43: No. Contratos Validos | J43: =+COUNTIFS(D46:D52,"<>",M46:M52,">0") -> 2 | K43: Valor a Acreditar | L43: =+$O$17 -> 401.67884 | M43: VERIFICACIÓN | N43: =IF(AND(COUNTIFS(E46:E52,"S",M46:M52,">"&0)>0,R43="ok",AB43>=1,M53>=L43),"CUMPLE","NO CUMPLE") -> CUMPLE | P43: =A43 -> 3 | Q43: =VALUE(LOOKUP(A43,PROPONENTES!A:A,PROPONENTES!J:J)) -> 1 | R43: =IF(Q43=1,"ok",IF(AND(COUNTIF(U46:U52,">=0,5")>=1,COUNTIFS(U46:U52,">=0,05")>=IF(S43=1,Q43,Q43-1),S43>=0.95),"ok","no")) -> ok | S43: =SUM(S46:S52) -> 0 | AA43: 0.01 | AB43: =COUNTIF(AB46:AB52,">="&$AA$19) -> 2
A44: FOLIOS | B44: RUP No. DE ORDEN | C44: CONTRATANTE | D44: NUMERO DEL CONTRATO | E44: CUMPLE ALCANCE GENERAL (S/N) | F44: Cód.. (UNSPSC) RUP | G44: INTEGRANTE QUE ACREDITA | H44: %PAR. EN EL PROCESO | I44: VALOR DEL CONTRATO EN COP | J44: %PAR. EN EL CONTRATO | K44: FECHA DE TERMINACIÓN (día - mes - año) | L44: VALOR DEL CONTRATO EN SMMLV | M44: EXPERIENCIA EN SMMLV (=RUP) | N44: OBSERVACIONES
B46: 52 | C46: AGUAS REGIONALES EPM S.A.E.S.P. | D46: CO-2021-083 | E46: S | F46: 721411 721415 | I46: 4870231470 | J46: 1 | K46: 44927 | L46: =IFERROR(IF(I46="","",ROUND(I46/LOOKUP(YEAR(K46),SMML!$A$2:$A$48,SMML!$B$2:$B$48),2)),"") -> 4198.48 | M46: 4198.47 | R46: =IF(M46<>0,G46,0) -> 0 | S46: =IFERROR(INDEX(G46:H52,MATCH(R46,G46:G52,0),2),"") | T46: =SUMIF(G46:G52,R46,M46:M52) -> 0 | U46: =T46/L43 -> 0 | V46: =G46 -> 0 | W46: =IFERROR(IF(SUMIF(G46:G52,V46,H46:H52)/COUNTIF(G46:G52,V46)=INDEX(R46:S52,MATCH(G46,R46:R52,0),2),1,2),1) -> 1 | Y46: =IF(R46=0,"",P43&"-"&COUNTIF(R46:R46,"<>0")*1) | Z46: =IF(M46>0,IF(D46="",D45,D46),"") -> CO-2021-083 | AA46: =IF(Z47=Z46,IF(M46="",0,M46)+AA47,IF(M46="",0,M46)) -> 4198.47 | AB46: =AA46/$O$17 -> 10.452306
B47: 4 | C47: DEPARTAMENTO DE ANTIOQUIA | D47: 2013-OO-37-0012 | E47: S | F47: 721411 811015 | I47: 2029786717 | J47: 0.5 | K47: 41883 | L47: =IFERROR(IF(I47="","",ROUND(I47/LOOKUP(YEAR(K47),SMML!$A$2:$A$48,SMML!$B$2:$B$48),2)),"") -> 3295.11 | M47: =3295.11*0.5 -> 1647.555 | N47: Cumple experiencia especifica | R47: =IF(AND(COUNTIF(R46:R46,G47)<1,M47>0),G47,0) -> 0 | S47: =IFERROR(INDEX(G46:H52,MATCH(R47,G46:G52,0),2),"") | T47: =SUMIF(G46:G52,R47,M46:M52) -> 0 | U47: =T47/L43 -> 0 | V47: =G47 -> 0 | W47: =IFERROR(IF(SUMIF(G46:G52,V47,H46:H52)/COUNTIF(G46:G52,V47)=INDEX(R46:S52,MATCH(G47,R46:R52,0),2),1,2),1) -> 1 | Y47: =IF(R47=0,"",P43&"-"&COUNTIF(R46:R47,"<>0")*1) | Z47: =IF(M47>0,IF(D47="",D46,D47),"") -> 2013-OO-37-0012 | AA47: =IF(Z48=Z47,IF(M47="",0,M47)+AA48,IF(M47="",0,M47)) -> 1647.555 | AB47: =AA47/$O$17 -> 4.1016724
L48: =IFERROR(IF(I48="","",ROUND(I48/LOOKUP(YEAR(K48),SMML!$A$2:$A$48,SMML!$B$2:$B$48),2)),"") | M48: =IFERROR(IF(AND(E48="S",COUNTIF($L$13:$R$13,F48)>=1),L48*J48,""),"") | R48: =IF(AND(COUNTIF(R46:R47,G48)<1,M48>0),G48,0) -> 0 | S48: =IFERROR(INDEX(G46:H52,MATCH(R48,G46:G52,0),2),"") | T48: =SUMIF(G46:G52,R48,M46:M52) -> 0 | U48: =T48/L43 -> 0 | V48: =G48 -> 0 | W48: =IFERROR(IF(SUMIF(G46:G52,V48,H46:H52)/COUNTIF(G46:G52,V48)=INDEX(R46:S52,MATCH(G48,R46:R52,0),2),1,2),1) -> 1 | Y48: =IF(R48=0,"",P43&"-"&COUNTIF(R46:R48,"<>0")*1) | Z48: =IF(M48>0,IF(D48="",D47,D48),"") -> 2013-OO-37-0012 | AA48: =IF(Z49=Z48,IF(M48="",0,M48)+AA49,IF(M48="",0,M48)) -> 0 | AB48: =AA48/$O$17 -> 0
L49: =IFERROR(IF(I49="","",ROUND(I49/LOOKUP(YEAR(K49),SMML!$A$2:$A$48,SMML!$B$2:$B$48),2)),"") | M49: =IFERROR(IF(AND(E49="S",COUNTIF($L$13:$R$13,F49)>=1),L49*J49,""),"") | R49: =IF(AND(COUNTIF(R46:R48,G49)<1,M49>0),G49,0) -> 0 | S49: =IFERROR(INDEX(G46:H52,MATCH(R49,G46:G52,0),2),"") | T49: =SUMIF(G46:G52,R49,M46:M52) -> 0 | U49: =T49/L43 -> 0 | V49: =G49 -> 0 | W49: =IFERROR(IF(SUMIF(G46:G52,V49,H46:H52)/COUNTIF(G46:G52,V49)=INDEX(R46:S52,MATCH(G49,R46:R52,0),2),1,2),1) -> 1 | Y49: =IF(R49=0,"",P43&"-"&COUNTIF(R46:R49,"<>0")*1) | Z49: =IF(M49>0,IF(D49="",D48,D49),"") -> 0 | AA49: =IF(Z50=Z49,IF(M49="",0,M49)+AA50,IF(M49="",0,M49)) -> 0 | AB49: =AA49/$O$17 -> 0
L50: =IFERROR(IF(I50="","",ROUND(I50/LOOKUP(YEAR(K50),SMML!$A$2:$A$48,SMML!$B$2:$B$48),2)),"") | M50: =IFERROR(IF(AND(E50="S",COUNTIF($L$13:$R$13,F50)>=1),L50*J50,""),"") | R50: =IF(AND(COUNTIF(R46:R49,G50)<1,M50>0),G50,0) -> 0 | S50: =IFERROR(INDEX(G46:H52,MATCH(R50,G46:G52,0),2),"") | T50: =SUMIF(G46:G52,R50,M46:M52) -> 0 | U50: =T50/L43 -> 0 | V50: =G50 -> 0 | W50: =IFERROR(IF(SUMIF(G46:G52,V50,H46:H52)/COUNTIF(G46:G52,V50)=INDEX(R46:S52,MATCH(G50,R46:R52,0),2),1,2),1) -> 1 | Y50: =IF(R50=0,"",P43&"-"&COUNTIF(R46:R50,"<>0")*1) | Z50: =IF(M50>0,IF(D50="",D49,D50),"") -> 0 | AA50: =IF(Z51=Z50,IF(M50="",0,M50)+AA51,IF(M50="",0,M50)) -> 0 | AB50: =AA50/$O$17 -> 0
L51: =IFERROR(IF(I51="","",ROUND(I51/LOOKUP(YEAR(K51),SMML!$A$2:$A$48,SMML!$B$2:$B$48),2)),"") | M51: =IFERROR(IF(AND(E51="S",COUNTIF($L$13:$R$13,F51)>=1),L51*J51,""),"") | R51: =IF(AND(COUNTIF(R46:R50,G51)<1,M51>0),G51,0) -> 0 | S51: =IFERROR(INDEX(G46:H52,MATCH(R51,G46:G52,0),2),"") | T51: =SUMIF(G46:G52,R51,M46:M52) -> 0 | U51: =T51/L43 -> 0 | V51: =G51 -> 0 | W51: =IFERROR(IF(SUMIF(G46:G52,V51,H46:H52)/COUNTIF(G46:G52,V51)=INDEX(R46:S52,MATCH(G51,R46:R52,0),2),1,2),1) -> 1 | Y51: =IF(R51=0,"",P43&"-"&COUNTIF(R46:R51,"<>0")*1) | Z51: =IF(M51>0,IF(D51="",D50,D51),"") -> 0 | AA51: =IF(Z52=Z51,IF(M51="",0,M51)+AA52,IF(M51="",0,M51)) -> 0 | AB51: =AA51/$O$17 -> 0
L52: =IFERROR(IF(I52="","",ROUND(I52/LOOKUP(YEAR(K52),SMML!$A$2:$A$48,SMML!$B$2:$B$48),2)),"") | M52: =IFERROR(IF(AND(E52="S",COUNTIF($L$13:$R$13,F52)>=1),L52*J52,""),"") | R52: =IF(AND(COUNTIF(R46:R51,G52)<1,M52>0),G52,0) -> 0 | S52: =IFERROR(INDEX(G46:H52,MATCH(R52,G46:G52,0),2),"") | T52: =SUMIF(G46:G52,R52,M46:M52) -> 0 | U52: =T52/L43 -> 0 | V52: =G52 -> 0 | W52: =IFERROR(IF(SUMIF(G46:G52,V52,H46:H52)/COUNTIF(G46:G52,V52)=INDEX(R46:S52,MATCH(G52,R46:R52,0),2),1,2),1) -> 1 | Y52: =IF(R52=0,"",P43&"-"&COUNTIF(R46:R52,"<>0")*1) | Z52: =IF(M52>0,IF(D52="",D51,D52),"") -> 0 | AA52: =IF(M52="",0,M52) -> 0 | AB52: =AA52/$O$17 -> 0
H53: =S43 -> 0 | L53: TOTAL | M53: =SUM(M46:M52) -> 5846.025 | N53: =IF(R43="no","NO CUMPLE CONDICIÓN DEL CONSORCIO","")
A55: =+A43+1 -> 4 | B55: =LOOKUP(A55,PROPONENTES!$A$16:$A$23,PROPONENTES!$B$16:$B$23) -> EMPRESA ASOCIATIVA DE TRABAJO UNIDOS AL FUTURO | H55: No. Contratos Validos | J55: =+COUNTIFS(D58:D64,"<>",M58:M64,">0") -> 3 | K55: Valor a Acreditar | L55: =+$O$17 -> 401.67884 | M55: VERIFICACIÓN | N55: =IF(AND(COUNTIFS(E58:E64,"S",M58:M64,">"&0)>0,R55="ok",AB55>=1,M65>=L55),"CUMPLE","NO CUMPLE") -> CUMPLE | P55: =A55 -> 4 | Q55: =VALUE(LOOKUP(A55,PROPONENTES!A:A,PROPONENTES!J:J)) -> 1 | R55: =IF(Q55=1,"ok",IF(AND(COUNTIF(U58:U64,">=0,5")>=1,COUNTIFS(U58:U64,">=0,05")>=IF(S55=1,Q55,Q55-1),S55>=0.95),"ok","no")) -> ok | S55: =SUM(S58:S64) -> 0 | AA55: 0.01 | AB55: =COUNTIF(AB58:AB64,">="&$AA$19) -> 3
A56: FOLIOS | B56: RUP No. DE ORDEN | C56: CONTRATANTE | D56: NUMERO DEL CONTRATO | E56: CUMPLE ALCANCE GENERAL (S/N) | F56: Cód.. (UNSPSC) RUP | G56: INTEGRANTE QUE ACREDITA | H56: %PAR. EN EL PROCESO | I56: VALOR DEL CONTRATO EN COP | J56: %PAR. EN EL CONTRATO | K56: FECHA DE TERMINACIÓN (día - mes - año) | L56: VALOR DEL CONTRATO EN SMMLV | M56: EXPERIENCIA EN SMMLV (=RUP) | N56: OBSERVACIONES
...

Sheet CAPACIDAD RESIDUAL 
A6: SECRETARÍA DE SUMINISTROS Y SERVICIOS
A7: SELECCIÓN ABREVIADA DE MENOR CUANTÍA No. 9015314
A9: "Construir obras complementarias del alcantarillado de la centralidad del corregimiento San Sebastián de Palmitas"
A11: CAPACIDAD RESIDUAL (Cr)
A13: Presupuesto estimado del Proceso de Contratación ($COP) | E13: 522182486 | H13: Cr: Capacidad Residual del proponente CO: Capacidad de Organización E: Experiencia CF: Capacidad financiera CT: Capacidad técnica SCE: Saldos de los Contratos en Ejecución | K13: Factor | M13: Puntaje Máximo | O13: Menos de un (1) Año
A14: Fecha de presentación la oferta (dd-mm-aaaa) | E14: 45512 | K14: Experiencia (E) | M14: 120 | O14: Mas de un (1) año
A15: Porcentaje de Anticipo (%) | E15: 0 | K15: Capacidad financiera (CF) | M15: 40
A16: Plazo estimado del Proceso de Contratación (meses) | E16: 3 | K16: Capacidad técnica (CT) | M16: 40
A17: Capacidad Residual del Proceso de Contratación ($COP) | E17: =IF(E16<12,E13-E15*E13,(E13-E15*E13)/E16*12) -> 522182486 | K17: Total | M17: 200
A19: ="Se considerará HÁBIL el proponente que presente una Cr igual o superior a "&TEXT(E17,"$#.##0") -> Se considerará HÁBIL el proponente que presente una Cr igual o superior a $522.182.486
A21: 1 | B21: C.T. 2 CONSTRUCCIONES S.A.S | J21: Cr Total = | K21: =G30*(H41+H47+H52)/100-M63 -> 2.69359e+09 | M21: =IF(K21>$E$17,"CUMPLE","NO CUMPLE") -> CUMPLE | N21: 1 | Q21: =B21 -> C.T. 2 CONSTRUCCIONES S.A.S | W21: 1
W22: 1
C23: Capacidad de Organización (CO) | I23: Años de información financiera | K23: Capacidad de organización (CO) | W23: 1
C24: Tipo de información financiera que tiene el proponente o participantes del proponente plural: | G24: Mas de un (1) año | I24: Cinco (5) años o más | K24: Mayor ingreso operacional de los últimos cinco años | W24: 1
C25: Año - Documento Estado de Resultado o Estado Pérdida o Ganancias | G25: 2023 | I25: Entre uno (1) y cinco (5) años | K25: Mayor ingreso operacional de los años de vida del oferente. | W25: 1
C26: =IF(G24="","",IF(G24=$O$13,"Valor umbral Mipyme.","Total Ingresos Operacionales Acreditados")) -> Total Ingresos Operacionales Acreditados | G26: 1502426000 | I26: Menos de un (1) año | K26: USD 125.000 | L26: =4048*125000 -> 506000000 | W26: 1
C27: Firmas Estados de Resultados | W27: 1
C28: CONTADOR | D28: CLAUDIA TERESA GOMEZ ZULUAGA | F28: Matricula y Certificado de antecedentes | H28: VIGENTE | I28: =IF(OR(H28="Vigente",H28=""),"",IF(H28="no aporta","No aporta el certificado de antecedentes disciplinarios del "&PROPER(C28)&" ("&PROPER(D28)&") quien suscribe los estados de resultados de "&B21&". Debe subsanar ese documento.","El certificado de antecedentes disciplinarios del "&PROPER(C28)&" ("&PROPER(D28)&") quien suscribe los estados de resultados de "&B21&", no se encuentran vigentes a la fecha de cierre del proceso. Debe subsanar ese documento.")) | W28: 1
C29: REVISOR FISCAL | D29: GIOVANA MELISSA GONZALES CARBALLO | F29: Matricula y Certificado de antecedentes | H29: VIGENTE | I29: =IF(OR(H29="Vigente",H29=""),"",IF(H29="no aporta","No aporta el certificado de antecedentes disciplinarios del "&PROPER(C29)&" ("&PROPER(D29)&") quien suscribe los estados de resultados de "&B21&" Debe subsanar ese documento.","El certificado de antecedentes disciplinarios del "&PROPER(C29)&" ("&PROPER(D29)&") quien suscribe los estados de resultados de "&B21&", no se encuentran vigentes a la fecha de cierre del proceso. Debe subsanar ese documento.")) | W29: 1
C30: Capacidad de Organización del proponente o participantes del proponente plural: | G30: =IF(OR(H28="SIN VIGENCIA",H28="NO APORTA",H29="SIN VIGENCIA",H29="NO APORTA"),0,IF(G24="",0,IF(G24=$O$13,L26,IF(G26<L26,L26,G26)))) -> 1502426000 | W30: 1
W31: 1
C32: Experiencia (E) | I32: Mayor a | J32: Menor o igual a | K32: Puntaje | W32: 1
C33: % de Participación en el presente proceso | G33: 1 | I33: 0 | J33: 3 | K33: 60 | W33: 1
C34: Presupuesto estimado del Proceso de Contratación ($COP) | G34: =$E$13 -> 522182486 | I34: 3 | J34: 6 | K34: 80 | W34: 1
C35: RUP | I35: 6 | J35: 10 | K35: 100 | W35: 1
C36: Contratos relacionados con la actividad de la construcción | G36: Valor COP | I36: 10 | J36: Mayores | K36: 120 | W36: 1
C37: Formato 5.1A o Formato 5.1B | G37: 3.8902585e+10 | W37: 1
W38: 1
C39: Valor total de los contratos relacionados con la actividad de la construcción (COP) | G39: =SUM(G36:H38) -> 3.8902585e+10 | W39: 1
C40: Factor Experiencia | H40: =IF(OR(G33="",G33=0,G39=0),0,G39/(G34*G33)) -> 74.49998 | W40: 1
C41: Puntaje por Experiencia | H41: =IF(H40<=3,60,IF(H40<=6,80,IF(H40<=10,100,120))) -> 120 | W41: 1
W42: 1
C43: Capacidad Financiera (CF) | I43: Mayor a igual a | J43: Menor a | K43: Puntaje | W43: 1
C44: Activo Corriente | G44: Mas de un (1) año | H44: 318382000 | I44: 0 | J44: 0.5 | K44: 20 | W44: 1
C45: Pasivo Corriente | H45: 17449000 | I45: 0.5 | J45: 0.75 | K45: 25 | W45: 1
C46: Índice de Liquidez | H46: =IF(H44="",0,H44/H45) -> 18.246432 | I46: 0.75 | J46: 1 | K46: 30 | W46: 1
C47: Puntaje por Capacidad Financiera | H47: =IF(H46="",0,IF(H46<0.5,20,IF(H46<0.75,25,IF(H46<1,30,IF(H46<1.5,35,40))))) -> 40 | I47: 1 | J47: 1.5 | K47: 35 | W47: 1
I48: 1.5 | J48: Mayores | K48: 40 | W48: 1
W49: 1
C50: Capacidad Técnica (CT) | I50: Desde | J50: Hasta | K50: Puntaje | W50: 1
...

Sheet RESUMEN
A6: SECRETARÍA DE SUMINISTROS Y SERVICIOS
A8: =+PROPONENTES!A8 -> SELECCIÓN ABREVIADA DE MENOR CUANTÍA No. 9015314
A10: =+PROPONENTES!A11 -> "Construir obras complementarias del alcantarillado de la centralidad del corregimiento San Sebastián de Palmitas" | P10: =A10 -> "Construir obras complementarias del alcantarillado de la centralidad del corregimiento San Sebastián de Palmitas"
A12: RESUMEN EVALUACIÓN TÉCNICA
B14: PROPONENTE | C14: CAPACIDAD RESIDUAL (Cr) | D14: EXPERIENCIA | E14: RESUMEN | F14: FECHA SUBSANACION | G14: DOCUMENTOS APORTADOS PARA SUBSANAR | H14: OBSERVACIONES
J15: SUBSANACION | K15: SI | L15: NO
A16: 1 | B16: =LOOKUP(A16,PROPONENTES!$A$16:$A$23,PROPONENTES!$B$16:$B$23) -> C.T. 2 CONSTRUCCIONES S.A.S | C16: CUMPLE | D16: =LOOKUP(A16,'EXP. ACREDITADA'!P:P,'EXP. ACREDITADA'!N:N) -> CUMPLE | E16: =IF(COUNTIF(C16:D16,"NO CUMPLE")>0,"NO CUMPLE","CUMPLE") -> CUMPLE
A17: 2 | B17: =LOOKUP(A17,PROPONENTES!$A$16:$A$23,PROPONENTES!$B$16:$B$23) -> CONSORCIO OBRAS MC (COINAR - CONSULTORES INGENIEROS Y ARQUITECTOS LTDA (70%) y MATMAR CONSTRUCCIONES S.A.S. (30%)) | C17: CUMPLE | D17: =LOOKUP(A17,'EXP. ACREDITADA'!P:P,'EXP. ACREDITADA'!N:N) -> CUMPLE | E17: =IF(COUNTIF(C17:D17,"NO CUMPLE")>0,"NO CUMPLE","CUMPLE") -> CUMPLE
A18: 3 | B18: =LOOKUP(A18,PROPONENTES!$A$16:$A$23,PROPONENTES!$B$16:$B$23) -> MEGACONSTRUCCIONES Y EQUIPOS S.A.S | C18: CUMPLE | D18: =LOOKUP(A18,'EXP. ACREDITADA'!P:P,'EXP. ACREDITADA'!N:N) -> CUMPLE | E18: =IF(COUNTIF(C18:D18,"NO CUMPLE")>0,"NO CUMPLE","CUMPLE") -> CUMPLE
A19: 4 | B19: =LOOKUP(A19,PROPONENTES!$A$16:$A$23,PROPONENTES!$B$16:$B$23) -> EMPRESA ASOCIATIVA DE TRABAJO UNIDOS AL FUTURO | C19: CUMPLE | D19: =LOOKUP(A19,'EXP. ACREDITADA'!P:P,'EXP. ACREDITADA'!N:N) -> CUMPLE | E19: =IF(COUNTIF(C19:D19,"NO CUMPLE")>0,"NO CUMPLE","CUMPLE") -> CUMPLE
A20: 5 | B20: =LOOKUP(A20,PROPONENTES!$A$16:$A$23,PROPONENTES!$B$16:$B$23) -> DYA INGENIERIA SAS | C20: CUMPLE | D20: =LOOKUP(A20,'EXP. ACREDITADA'!P:P,'EXP. ACREDITADA'!N:N) -> NO CUMPLE | E20: =IF(COUNTIF(C20:D20,"NO CUMPLE")>0,"NO CUMPLE","CUMPLE") -> NO CUMPLE | H20: No presentó Formato de Experiencia del Proponente. Además no cumple, pues el contrato con consecutivo No. 30 del RUP se encuentra relacionado solo en uno de los códigos de la Clasificación UNSPSC exigidos para el proceso, es decir el 811015. El pliego de condiciones establece "Los contratos aportados para efectos de acreditación de la experiencia requerida deben estar clasificados en al menos dos (2) de los siguientes códigos: 721029 SERVICIOS DE MANTENIMIENTO Y REPARACIÓN DE INSTALACIONES 721411 SERVICIOS DE PAVIMENTACIÓN Y SUPERFICIES DE INFRAESTRUTURA 721415 SERVICIOS DE PREPARACIÓN DE TIERRAS 811015 INGENIERIA CIVIL Y ARQUITECTURA 831015 SERVICIOS DE ACUEDUCTO Y ALCANTARILLADO" Por lo anterior también debe aclarar en cual de los contratos acredita la experiencia específica.
A21: 6 | B21: =LOOKUP(A21,PROPONENTES!$A$16:$A$23,PROPONENTES!$B$16:$B$23) -> ESTORAQUES 20 SAS | C21: CUMPLE | D21: =LOOKUP(A21,'EXP. ACREDITADA'!P:P,'EXP. ACREDITADA'!N:N) -> NO CUMPLE | E21: =IF(COUNTIF(C21:D21,"NO CUMPLE")>0,"NO CUMPLE","CUMPLE") -> NO CUMPLE | H21: No presentó Formato de Experiencia del Proponente. Para el contrato No. RSVM-01-2020 no se evidencia en el RUP a qué contrato se hace referencia, debe aclarar. El proponente debe aclarar en cual de los contratos acredita la experiencia específica solicitada, así mismo aclarar los porcentajes del A.I.U, pues el mismo se consignó solo en valores ($).
A24: F. | B24: =+PROPONENTES!B27 -> Elaboró: Diego Alberto Acosta Betancur - Natalia Zapata Puerta
B25: =+PROPONENTES!B28 -> Cargo: Profesional Universitario - Ingeniero Contratista

Sheet EQUIPO
A6: SECRETARÍA DE SUMINISTROS Y SERVICIOS
A8: =+PROPONENTES!A8 -> SELECCIÓN ABREVIADA DE MENOR CUANTÍA No. 9015314
A10: =+PROPONENTES!A11 -> "Construir obras complementarias del alcantarillado de la centralidad del corregimiento San Sebastián de Palmitas"
A12: EQUIPO DE TRABAJO
B13: Criterio | D13: Puntos
B14: Formato Experiencia y formación adicional del Personal evaluable | D14: 190
A16: No. | B16: PROPONENTE | C16: =+B14 -> Formato Experiencia y formación adicional del Personal evaluable | F16: Registro Nacional de Obras Civiles Inconclusas. | H16: PUNTAJE TOTAL
C17: Aporta Compromiso (S/N) | D17: PUNTAJE | E17: Observación | F17: PUNTAJE | G17: Observación
A19: 1 | B19: =LOOKUP(A19,PROPONENTES!$A$16:$A$23,PROPONENTES!$B$16:$B$23) -> C.T. 2 CONSTRUCCIONES S.A.S | C19: S | D19: =IFERROR(IF(C19="S",$D$14,0),0) -> 190 | E19: Aportó Formato 5 diligenciado y firmado | F19: 0 | G19: Se consultó el registro nacional de obras civiles inconclusas y el proponente no tiene anotaciones. | H19: =+D19+F19 -> 190
A20: 2 | B20: =LOOKUP(A20,PROPONENTES!$A$16:$A$23,PROPONENTES!$B$16:$B$23) -> CONSORCIO OBRAS MC (COINAR - CONSULTORES INGENIEROS Y ARQUITECTOS LTDA (70%) y MATMAR CONSTRUCCIONES S.A.S. (30%)) | C20: S | D20: =IFERROR(IF(C20="S",$D$14,0),0) -> 190 | E20: Aportó Formato 5 diligenciado y firmado | F20: 0 | G20: Se consultó el registro nacional de obras civiles inconclusas y el proponente no tiene anotaciones. | H20: =+D20+F20 -> 190
A21: 3 | B21: =LOOKUP(A21,PROPONENTES!$A$16:$A$23,PROPONENTES!$B$16:$B$23) -> MEGACONSTRUCCIONES Y EQUIPOS S.A.S | C21: N | D21: =IFERROR(IF(C21="S",$D$14,0),0) -> 0 | E21: Aportó Formato 5 diligenciado y firmado | F21: 0 | G21: Se consultó el registro nacional de obras civiles inconclusas y el proponente no tiene anotaciones. | H21: =+D21+F21 -> 0
A22: 4 | B22: =LOOKUP(A22,PROPONENTES!$A$16:$A$23,PROPONENTES!$B$16:$B$23) -> EMPRESA ASOCIATIVA DE TRABAJO UNIDOS AL FUTURO | C22: S | D22: =IFERROR(IF(C22="S",$D$14,0),0) -> 190 | E22: Aportó Formato 5 diligenciado y firmado | F22: 0 | G22: Se consultó el registro nacional de obras civiles inconclusas y el proponente no tiene anotaciones. | H22: =+D22+F22 -> 190
A23: 5 | B23: =LOOKUP(A23,PROPONENTES!$A$16:$A$23,PROPONENTES!$B$16:$B$23) -> DYA INGENIERIA SAS | C23: S | D23: =IFERROR(IF(C23="S",$D$14,0),0) -> 190 | E23: Aportó Formato 5 diligenciado y firmado | F23: 0 | G23: Se consultó el registro nacional de obras civiles inconclusas y el proponente no tiene anotaciones. | H23: =+D23+F23 -> 190
A24: 6 | B24: =LOOKUP(A24,PROPONENTES!$A$16:$A$23,PROPONENTES!$B$16:$B$23) -> ESTORAQUES 20 SAS | C24: S | D24: =IFERROR(IF(C24="S",$D$14,0),0) -> 190 | E24: Aportó Formato 5 diligenciado y firmado | F24: 0 | G24: Se consultó el registro nacional de obras civiles inconclusas y el proponente no tiene anotaciones. | H24: =+D24+F24 -> 190
A28: F. | B28: =+PROPONENTES!B27 -> Elaboró: Diego Alberto Acosta Betancur - Natalia Zapata Puerta
B29: =+PROPONENTES!B28 -> Cargo: Profesional Universitario - Ingeniero Contratista

Sheet IMPACTO SOCIAL
A6: SECRETARÍA DE SUMINISTROS Y SERVICIOS
A8: =+PROPONENTES!A8 -> SELECCIÓN ABREVIADA DE MENOR CUANTÍA No. 9015314
A10: =+PROPONENTES!A11 -> "Construir obras complementarias del alcantarillado de la centralidad del corregimiento San Sebastián de Palmitas"
A12: POLITICA DE FOMENTO DE IMPACTO SOCIAL
B13: Criterio | D13: Puntos
B14: Formato de compromiso fomento al impacto social | D14: 10
A16: No. | B16: PROPONENTE | C16: =+B14 -> Formato de compromiso fomento al impacto social | F16: PUNTAJE TOTAL
C17: Aporta Compromiso (S/N) | D17: PUNTAJE | E17: Observación
A19: 1 | B19: =LOOKUP(A19,PROPONENTES!$A$16:$A$23,PROPONENTES!$B$16:$B$23) -> C.T. 2 CONSTRUCCIONES S.A.S | C19: S | D19: =IFERROR(IF(C19="S",$D$14,0),0) -> 10 | E19: Aportó Formato diligenciado y firmado | F19: =+D19 -> 10
A20: 2 | B20: =LOOKUP(A20,PROPONENTES!$A$16:$A$23,PROPONENTES!$B$16:$B$23) -> CONSORCIO OBRAS MC (COINAR - CONSULTORES INGENIEROS Y ARQUITECTOS LTDA (70%) y MATMAR CONSTRUCCIONES S.A.S. (30%)) | C20: S | D20: =IFERROR(IF(C20="S",$D$14,0),0) -> 10 | E20: Aportó Formato diligenciado y firmado | F20: =+D20 -> 10
A21: 3 | B21: =LOOKUP(A21,PROPONENTES!$A$16:$A$23,PROPONENTES!$B$16:$B$23) -> MEGACONSTRUCCIONES Y EQUIPOS S.A.S | C21: N | D21: =IFERROR(IF(C21="S",$D$14,0),0) -> 0 | E21: Aportó Formato diligenciado y firmado | F21: =+D21 -> 0
A22: 4 | B22: =LOOKUP(A22,PROPONENTES!$A$16:$A$23,PROPONENTES!$B$16:$B$23) -> EMPRESA ASOCIATIVA DE TRABAJO UNIDOS AL FUTURO | C22: S | D22: =IFERROR(IF(C22="S",$D$14,0),0) -> 10 | E22: Aportó Formato diligenciado y firmado | F22: =+D22 -> 10
A23: 5 | B23: =LOOKUP(A23,PROPONENTES!$A$16:$A$23,PROPONENTES!$B$16:$B$23) -> DYA INGENIERIA SAS | C23: N | D23: =IFERROR(IF(C23="S",$D$14,0),0) -> 0 | E23: Aportó Formato diligenciado y firmado | F23: =+D23 -> 0
A24: 6 | B24: =LOOKUP(A24,PROPONENTES!$A$16:$A$23,PROPONENTES!$B$16:$B$23) -> ESTORAQUES 20 SAS | C24: N | D24: =IFERROR(IF(C24="S",$D$14,0),0) -> 0 | E24: Aportó Formato diligenciado y firmado | F24: =+D24 -> 0
A28: F. | B28: =+PROPONENTES!B27 -> Elaboró: Diego Alberto Acosta Betancur - Natalia Zapata Puerta
B29: =+PROPONENTES!B28 -> Cargo: Profesional Universitario - Ingeniero Contratista

Sheet INDUSTRIA NACIONAL
J1: Concepto | K1: Puntaje
J2: Promoción de servicios nacionales o con trato nacional | K2: 20
J3: incorporación de componente nacional en servicios extranjeros | K3: 5
A6: SECRETARÍA DE SUMINISTROS Y SERVICIOS
A8: =+PROPONENTES!A8 -> SELECCIÓN ABREVIADA DE MENOR CUANTÍA No. 9015314
A10: =+PROPONENTES!A11 -> "Construir obras complementarias del alcantarillado de la centralidad del corregimiento San Sebastián de Palmitas"
A12: ESTÍMULO A LA INDUSTRIA NACIONAL
A14: No. | B14: PROPONENTE | C14: Promoción de Servicios Nacionales o con Trato Nacional (100 puntos) | G14: Incorporación de componente nacional en servicios extranjeros (50 puntos) | I14: OBSERVACIONES
C15: Cedula / Residencia / Certificado de existencia y representación (S/N) | D15: Formato – Promoción de Servicios Nacionales o con Trato Nacional (S/N) | E15: % de Participación | F15: PUNTAJE | G15: Porcentaje de personal técnico, operativo y profesional de origen colombiano (%) | H15: PUNTAJE
A16: 1 | B16: =LOOKUP(A16,PROPONENTES!$A$16:$A$23,PROPONENTES!$B$16:$B$23) -> C.T. 2 CONSTRUCCIONES S.A.S | C16: S | D16: S | E16: 0.8 | F16: =+IF(AND(C16="S",D16="S",E16>=80%),100,0) -> 100 | H16: =+IF(G16>=0.9,50,0) -> 0 | I16: Aportó Formato diligenciado y firmado
A17: 2 | B17: =LOOKUP(A17,PROPONENTES!$A$16:$A$23,PROPONENTES!$B$16:$B$23) -> CONSORCIO OBRAS MC (COINAR - CONSULTORES INGENIEROS Y ARQUITECTOS LTDA (70%) y MATMAR CONSTRUCCIONES S.A.S. (30%)) | C17: S | D17: S | E17: 0.8 | F17: =+IF(AND(C17="S",D17="S",E17>=80%),100,0) -> 100 | H17: =+IF(G17>=0.9,50,0) -> 0 | I17: Aportó Formato diligenciado y firmado
A18: 3 | B18: =LOOKUP(A18,PROPONENTES!$A$16:$A$23,PROPONENTES!$B$16:$B$23) -> MEGACONSTRUCCIONES Y EQUIPOS S.A.S | C18: S | D18: N | E18: 0.8 | F18: =+IF(AND(C18="S",D18="S",E18>=80%),100,0) -> 0 | H18: =+IF(G18>=0.9,50,0) -> 0 | I18: Aportó Formato diligenciado y firmado
A19: 4 | B19: =LOOKUP(A19,PROPONENTES!$A$16:$A$23,PROPONENTES!$B$16:$B$23) -> EMPRESA ASOCIATIVA DE TRABAJO UNIDOS AL FUTURO | C19: S | D19: S | E19: 0.8 | F19: =+IF(AND(C19="S",D19="S",E19>=80%),100,0) -> 100 | H19: =+IF(G19>=0.9,50,0) -> 0 | I19: Aportó Formato diligenciado y firmado
A20: 5 | B20: =LOOKUP(A20,PROPONENTES!$A$16:$A$23,PROPONENTES!$B$16:$B$23) -> DYA INGENIERIA SAS | C20: S | D20: S | E20: 0.8 | F20: =+IF(AND(C20="S",D20="S",E20>=80%),100,0) -> 100 | H20: =+IF(G20>=0.9,50,0) -> 0 | I20: Aportó Formato diligenciado y firmado
A21: 6 | B21: =LOOKUP(A21,PROPONENTES!$A$16:$A$23,PROPONENTES!$B$16:$B$23) -> ESTORAQUES 20 SAS | C21: S | D21: S | E21: 0.8 | F21: =+IF(AND(C21="S",D21="S",E21>=80%),100,0) -> 100 | H21: =+IF(G21>=0.9,50,0) -> 0 | I21: Aportó Formato diligenciado y firmado | J21: =B21 -> ESTORAQUES 20 SAS
A25: F. | B25: =+PROPONENTES!B27 -> Elaboró: Diego Alberto Acosta Betancur - Natalia Zapata Puerta
B26: =+PROPONENTES!B28 -> Cargo: Profesional Universitario - Ingeniero Contratista

Sheet CONSORCIOS
A6: =+[1]PROPONENTES!A6 -> SECRETARÍA DE SUMINISTROS Y SERVICIOS
A8: =+PROPONENTES!A8 -> SELECCIÓN ABREVIADA DE MENOR CUANTÍA No. 9015314
A10: =+PROPONENTES!A11 -> "Construir obras complementarias del alcantarillado de la centralidad del corregimiento San Sebastián de Palmitas"
A12: EXPERIENCIA CONSORCIO Y/O UNIONES TEMPORALES
A14: No. | B14: PROPONENTE | C14: INTEGRANTE | D14: EXP. ACREDITADA (smmlv) | E14: % DE EXP. ACREDITADA RESPECTO DEL TOTAL REQUERIDO
A16: 2 | B16: =LOOKUP(A16,PROPONENTES!$A$16:$A$23,PROPONENTES!$B$16:$B$23) -> CONSORCIO OBRAS MC (COINAR - CONSULTORES INGENIEROS Y ARQUITECTOS LTDA (70%) y MATMAR CONSTRUCCIONES S.A.S. (30%)) | C16: =IFERROR(INDEX('EXP. ACREDITADA'!R:Y,MATCH(CONSORCIOS!J16,'EXP. ACREDITADA'!Y:Y,0),1),"") -> MATMAR CONSTRUCCIONES S.A.S. | D16: =IFERROR(INDEX('EXP. ACREDITADA'!R:Y,MATCH(CONSORCIOS!J16,'EXP. ACREDITADA'!Y:Y,0),3),"") -> 1193.535 | E16: =IFERROR(INDEX('EXP. ACREDITADA'!R:Y,MATCH(CONSORCIOS!J16,'EXP. ACREDITADA'!Y:Y,0),4),"") -> 2.9713664 | J16: =K16&"-"&L16 -> 2-1 | K16: =IF(A16="",K15,A16) -> 2 | L16: =IF(A16="",L15+1,1) -> 1
C17: =IFERROR(INDEX('EXP. ACREDITADA'!R:Y,MATCH(CONSORCIOS!J17,'EXP. ACREDITADA'!Y:Y,0),1),"") -> COINAR . CONSULTORES INGENIEROS Y ARQUITECTOS LTDA | D17: =IFERROR(INDEX('EXP. ACREDITADA'!R:Y,MATCH(CONSORCIOS!J17,'EXP. ACREDITADA'!Y:Y,0),3),"") -> 890.6534 | E17: =IFERROR(INDEX('EXP. ACREDITADA'!R:Y,MATCH(CONSORCIOS!J17,'EXP. ACREDITADA'!Y:Y,0),4),"") -> 2.2173272 | J17: =K17&"-"&L17 -> 2-2 | K17: =IF(A17="",K16,A17) -> 2 | L17: =IF(A17="",L16+1,1) -> 2
C18: =IFERROR(INDEX('EXP. ACREDITADA'!R:Y,MATCH(CONSORCIOS!J18,'EXP. ACREDITADA'!Y:Y,0),1),"") | D18: =IFERROR(INDEX('EXP. ACREDITADA'!R:Y,MATCH(CONSORCIOS!J18,'EXP. ACREDITADA'!Y:Y,0),3),"") | E18: =IFERROR(INDEX('EXP. ACREDITADA'!R:Y,MATCH(CONSORCIOS!J18,'EXP. ACREDITADA'!Y:Y,0),4),"")

Sheet SMML
A1: AÑO | B1: SMMLV
A2: 1980 | B2: 4500
A3: 1981 | B3: 5700
A4: 1982 | B4: 7410
A5: 1983 | B5: 9261
A6: 1984 | B6: 11298
A7: 1985 | B7: 13558
A8: 1986 | B8: 16811
A9: 1987 | B9: 20510
A10: 1988 | B10: 25637
A11: 1989 | B11: 32560
A12: 1990 | B12: 41025
A13: 1991 | B13: 51720
... A47: 3000 | B47: 0
