Workbook

Sheet PROPONENTES
A6: SECRETARÍA DE GESTIÓN Y CONTROL TERRITORIAL
A8: SELECCIÓN ABREVIADA DE MENOR CUANTÍA No. 9015314
A10: "Construir obras complementarias del alcantarillado de la centralidad del corregimiento San Sebastián de Palmitas" | L10: =A10 -> "Construir obras complementarias del alcantarillado de la centralidad del corregimiento San Sebastián de Palmitas"
A12: PROPONENTES
B14: PROPONENTE | C14: NIT
A16: 1 | B16: C.T. 2 CONSTRUCCIONES S.A.S
A17: 2 | B17: CONSORCIO OBRAS MC (COINAR - CONSULTORES INGENIEROS Y ARQUITECTOS LTDA (70%) y MATMAR CONSTRUCCIONES S.A.S. (30%))
A18: 3 | B18: MEGACONSTRUCCIONES Y EQUIPOS S.A.S
A19: 4 | B19: EMPRESA ASOCIATIVA DE TRABAJO UNIDOS AL FUTURO
A20: 5 | B20: DYA INGENIERIA SAS
A21: 6 | B21: ESTORAQUES 20 SAS

Sheet formulario 4
A6: SECRETARÍA DE INFRAESTRUCTURA FÍSICA
A8: Formulario No. 4
A9: INFORMACIÓN SOBRE MULTAS Y SANCIONES
A11: No. | B11: CONTRATO | C11: RESOLUCION MULTA | D11: FECHA EJECUTORIADA LA MULTA | E11: RESOLUCION SANCIÓN | F11: FECHA EJECUTORIADA LA SANCIÓN
A27: Nombre del Proponente: | E27: Firma

Sheet formulario 5
A6: SECRETARÍA DE INFRAESTRUCTURA FÍSICA
A8: Formulario No. 5
A9: ANÁLISIS DE PRECIOS UNITARIOS
A11: PROPONENTE: | D11: PROYECTO U OBRA:
A13: DESCRIPCION DEL ÍTEM: | F13: UNIDAD:
F14: FECHA:
A16: I. EQUIPO
A17: Descripción | C17: Tipo | D17: Tarifa/Hora | E17: Rendimiento | F17: Valor Unit. | G17: Valor Parcial
F22: Sub-Total
A23: II. MATERIALES EN OBRA
A24: Descripción | C24: Unidad | D24: Precio Unit. | E24: Cantidad | F24: Valor Unit. | G24: Valor Parcial
F29: Sub-Total
A30: III. TRANSPORTES
A31: Material | B31: Vol., peso o cant. | C31: Distancia | D31: m3-km | E31: Tarifa | F31: Valor Unit. | G31: Valor Parcial
F36: Sub-Total
A37: IV. MANO DE OBRA
A38: Trabajador | B38: Jornal | C38: Prestaciones | D38: Jornal Total | E38: Rendimiento | F38: Valor Unit. | G38: Valor Parcial
F43: Sub-Total
D45: Total Costo Directo
A46: V. COSTOS INDIRECTOS
A47: Descripción | E47: Porcentaje | F47: Valor Total | G47: Valor Parcial
F52: Sub-Total
B54: PRECIO UNITARIO TOTAL (aproximado al peso)

Sheet Formulario 1
A6: =+PROPONENTES!A6 -> SECRETARÍA DE GESTIÓN Y CONTROL TERRITORIAL
A7: =PROPONENTES!A8:C8 -> SELECCIÓN ABREVIADA DE MENOR CUANTÍA No. 9015314 | H7: =IF(I124="","",ABS(I7/I124)) -> 2.3772101e-10 | I7: =IF(I124="","",I124-I117) -> -0.12099999 | K7: =IF(L124="","",ABS(L7/L124)) -> 0 | L7: =IF(L124="","",L124-L117) -> 0 | N7: =IF(O124="","",ABS(O7/O124)) -> 0 | O7: =IF(O124="","",O124-O117) -> 0 | Q7: =IF(R124="","",ABS(R7/R124)) -> 3.5981951e-10 | R7: =IF(R124="","",R124-R117) -> 0.18000001 | T7: =IF(U124="","",ABS(U7/U124)) -> 4.2820738e-10 | U7: =IF(U124="","",U124-U117) -> 0.21000004 | W7: =IF(X124="","",ABS(X7/X124)) -> 0.32896859 | X7: =IF(X124="","",X124-X117) -> 1.5946521e+08
A9: =PROPONENTES!A10:C10 -> "Construir obras complementarias del alcantarillado de la centralidad del corregimiento San Sebastián de Palmitas" | G9: =LOOKUP(I11,PROPONENTES!$A:$A,PROPONENTES!$B:$B) -> C.T. 2 CONSTRUCCIONES S.A.S | J9: =LOOKUP(L11,PROPONENTES!$A:$A,PROPONENTES!$B:$B) -> CONSORCIO OBRAS MC (COINAR - CONSULTORES INGENIEROS Y ARQUITECTOS LTDA (70%) y MATMAR CONSTRUCCIONES S.A.S. (30%)) | M9: =LOOKUP(O11,PROPONENTES!$A:$A,PROPONENTES!$B:$B) -> MEGACONSTRUCCIONES Y EQUIPOS S.A.S | P9: =LOOKUP(R11,PROPONENTES!$A:$A,PROPONENTES!$B:$B) -> EMPRESA ASOCIATIVA DE TRABAJO UNIDOS AL FUTURO | S9: =LOOKUP(U11,PROPONENTES!$A:$A,PROPONENTES!$B:$B) -> DYA INGENIERIA SAS | V9: =LOOKUP(X11,PROPONENTES!$A:$A,PROPONENTES!$B:$B) -> ESTORAQUES 20 SAS
A10: Formulario No. 3
A11: CANTIDADES DE OBRA Y PRECIOS UNITARIOS | I11: 1 | L11: =+I11+1 -> 2 | O11: =+L11+1 -> 3 | R11: =+O11+1 -> 4 | U11: =+R11+1 -> 5 | X11: =+U11+1 -> 6
A12: ÍTEM DE PAGO | B12: DESCRIPCIÓN | C12: UND. | D12: CANTIDAD | E12: VALOR UNITARIO | F12: Vr. total | G12: Cant | H12: Vr. Unitario | I12: Vr. total | J12: Cant | K12: Vr. Unitario | L12: Vr. total | M12: Cant | N12: Vr. Unitario | O12: Vr. total | P12: Cant | Q12: Vr. Unitario | R12: Vr. total | S12: Cant | T12: Vr. Unitario | U12: Vr. total | V12: Cant | W12: Vr. Unitario | X12: Vr. total
B13: TRAMO CÁMARAS C209 - C210 | F13: =SUBTOTAL(9,F14:F67) -> 46782740 | I13: =SUBTOTAL(9,I14:I67) -> 45613175 | L13: =SUBTOTAL(9,L14:L67) -> 44962469 | O13: =SUBTOTAL(9,O14:O67) -> 45300642 | R13: =SUBTOTAL(9,R14:R67) -> 42710086 | U13: =SUBTOTAL(9,U14:U67) -> 45776830 | X13: =SUBTOTAL(9,X14:X67) -> 43743212
A14: 1 | B14: ACTIVIDADES PRELIMINARES | F14: =SUBTOTAL(9,F15:F20) -> 8559195 | I14: =SUBTOTAL(9,I15:I20) -> 8345215 | L14: =SUBTOTAL(9,L15:L20) -> 8226267 | O14: =SUBTOTAL(9,O15:O20) -> 8263737 | R14: =SUBTOTAL(9,R15:R20) -> 7476145 | U14: =SUBTOTAL(9,U15:U20) -> 8305580 | X14: =SUBTOTAL(9,X15:X20) -> 7756502
A15: 1.1 | B15: Localización y Replanteo | F15: =SUBTOTAL(9,F16:F16) -> 7734040 | I15: =SUBTOTAL(9,I16:I16) -> 7540689 | L15: =SUBTOTAL(9,L16:L16) -> 7433190 | O15: =SUBTOTAL(9,O16:O16) -> 7463340 | R15: =SUBTOTAL(9,R16:R16) -> 6734040 | U15: =SUBTOTAL(9,U16:U16) -> 7500000 | X15: =SUBTOTAL(9,X16:X16) -> 7000000
A16: 1.1.1 | B16: LOCALIZACIÓN, TRAZADO Y REPLANTEO. Se utilizará personal experto con equipo de precisión. Se hará con la frecuencia que lo indique la interventoría. Incluye demarcación con pintura, línea de trazado, corte de piso, libretas y planos. | C16: Dia | D16: 10 | E16: 773404 | F16: =IFERROR(ROUND(E16*D16,0),"") -> 7734040 | G16: 10 | H16: 754068.9 | I16: =IFERROR(ROUND(H16*G16,0),"") -> 7540689 | J16: 10 | K16: 743319 | L16: =IFERROR(ROUND(K16*J16,0),"") -> 7433190 | M16: 10 | N16: 746334 | O16: =IFERROR(ROUND(N16*M16,0),"") -> 7463340 | P16: 10 | Q16: 673404 | R16: =IFERROR(ROUND(Q16*P16,0),"") -> 6734040 | S16: 10 | T16: 750000 | U16: =IFERROR(ROUND(T16*S16,0),"") -> 7500000 | V16: 10 | W16: 700000 | X16: =IFERROR(ROUND(W16*V16,0),"") -> 7000000
A17: 1.2 | B17: Desmonte y Limpieza | F17: =SUBTOTAL(9,F18:F18) -> 683751 | H17: 0 | I17: =SUBTOTAL(9,I18:I18) -> 666657 | L17: =SUBTOTAL(9,L18:L18) -> 657175 | O17: =SUBTOTAL(9,O18:O18) -> 663237 | R17: =SUBTOTAL(9,R18:R18) -> 600701 | U17: =SUBTOTAL(9,U18:U18) -> 664400 | X17: =SUBTOTAL(9,X18:X18) -> 622875
A18: 1.2.1 | B18: DESMONTE, DESCAPOTE Y LIMPIEZA a mano, e=0.15m. Incluye cargue, transporte interno y botada de escombros material vegetal. Su medida será en sitio. | C18: m2 | D18: 83.05 | E18: 8233 | F18: =IFERROR(ROUND(E18*D18,0),"") -> 683751 | G18: 83.05 | H18: 8027.175 | I18: =IFERROR(ROUND(H18*G18,0),"") -> 666657 | J18: 83.05 | K18: 7913 | L18: =IFERROR(ROUND(K18*J18,0),"") -> 657175 | M18: 83.05 | N18: 7986 | O18: =IFERROR(ROUND(N18*M18,0),"") -> 663237 | P18: 83.05 | Q18: 7233 | R18: =IFERROR(ROUND(Q18*P18,0),"") -> 600701 | S18: 83.05 | T18: 8000 | U18: =IFERROR(ROUND(T18*S18,0),"") -> 664400 | V18: 83.05 | W18: 7500 | X18: =IFERROR(ROUND(W18*V18,0),"") -> 622875
A19: 1.3 | B19: Demoliciones | F19: =SUBTOTAL(9,F20:F20) -> 141404 | H19: 53026.35 | I19: =SUBTOTAL(9,I20:I20) -> 137869 | L19: =SUBTOTAL(9,L20:L20) -> 135902 | O19: =SUBTOTAL(9,O20:O20) -> 137160 | R19: =SUBTOTAL(9,R20:R20) -> 141404 | U19: =SUBTOTAL(9,U20:U20) -> 141180 | X19: =SUBTOTAL(9,X20:X20) -> 133627
A20: 1.3.1 | B20: DEMOLICIÓN PAVIMENTO ASFÁLTICO (para brecha), cargue, transporte y botada de escombros, HASTA ESPESOR DE 4". Incluye corte con máquina de disco según trazado y compresor neumático con martillo, además recuperación de los materiales aprovechables o su transporte hasta el sitio que lo indique la interventoría. | C20: m2 | D20: 2.6 | E20: 54386 | F20: =IFERROR(ROUND(E20*D20,0),"") -> 141404 | G20: 2.6 | H20: 53026.35 | I20: =IFERROR(ROUND(H20*G20,0),"") -> 137869 | J20: 2.6 | K20: 52270 | L20: =IFERROR(ROUND(K20*J20,0),"") -> 135902 | M20: 2.6 | N20: 52754 | O20: =IFERROR(ROUND(N20*M20,0),"") -> 137160 | P20: 2.6 | Q20: 54386 | R20: =IFERROR(ROUND(Q20*P20,0),"") -> 141404 | S20: 2.6 | T20: 54300 | U20: =IFERROR(ROUND(T20*S20,0),"") -> 141180 | V20: 2.6 | W20: 51395 | X20: =IFERROR(ROUND(W20*V20,0),"") -> 133627
A21: 2 | B21: MOVIMIENTOS DE TIERRA | F21: =SUBTOTAL(9,F22:F33) -> 16978370 | H21: 0 | I21: =SUBTOTAL(9,I22:I33) -> 16553911 | L21: =SUBTOTAL(9,L22:L33) -> 16317667 | O21: =SUBTOTAL(9,O22:O33) -> 16414251 | R21: =SUBTOTAL(9,R22:R33) -> 14863930 | U21: =SUBTOTAL(9,U22:U33) -> 16713850 | X21: =SUBTOTAL(9,X22:X33) -> 15965491
A22: 2.1 | B22: Excavaciones | F22: =SUBTOTAL(9,F23:F25) -> 791100 | H22: 0 | I22: =SUBTOTAL(9,I23:I25) -> 771323 | L22: =SUBTOTAL(9,L23:L25) -> 760322 | O22: =SUBTOTAL(9,O23:O25) -> 763931 | R22: =SUBTOTAL(9,R23:R25) -> 583560 | U22: =SUBTOTAL(9,U23:U25) -> 776330 | X22: =SUBTOTAL(9,X23:X25) -> 743638
A23: 2.1.1 | B23: EXCAVACIÓN MECÁNICA Y/O MANUAL de material heterogéneo, bajo cualquier grado de humedad. Incluye: roca descompuesta, bolas de roca de volumen inferior a 0.35 m³., el cargue, transporte interno y botada de material proveniente de las excavaciones en los sitios donde lo indique la interventoría y su medida será en el sitio. No incluye entibado. | H23: 0
A24: 2.1.1.1 | B24: EXCAVACIÓN MECÁNICA y/o MANUAL de material heterogéneo DE 0.00 - 2.00 m | C24: m3 | D24: 23.06 | E24: 29636 | F24: =IFERROR(ROUND(E24*D24,0),"") -> 683406 | G24: 23.06 | H24: 28895.1 | I24: =IFERROR(ROUND(H24*G24,0),"") -> 666321 | J24: 23.06 | K24: 28483 | L24: =IFERROR(ROUND(K24*J24,0),"") -> 656818 | M24: 23.06 | N24: 28598 | O24: =IFERROR(ROUND(N24*M24,0),"") -> 659470 | P24: 23.06 | Q24: 20636 | R24: =IFERROR(ROUND(Q24*P24,0),"") -> 475866 | S24: 23.06 | T24: 29000 | U24: =IFERROR(ROUND(T24*S24,0),"") -> 668740 | V24: 23.06 | W24: 27858 | X24: =IFERROR(ROUND(W24*V24,0),"") -> 642405
A25: 2.1.1.2 | B25: EXCAVACIÓN MECÁNICA y/o MANUAL de material heterogéneo DE 2.00 - 4.00 m | C25: m3 | D25: 2.9 | E25: 37136 | F25: =IFERROR(ROUND(E25*D25,0),"") -> 107694 | G25: 2.9 | H25: 36207.6 | I25: =IFERROR(ROUND(H25*G25,0),"") -> 105002 | J25: 2.9 | K25: 35691 | L25: =IFERROR(ROUND(K25*J25,0),"") -> 103504 | M25: 2.9 | N25: 36021 | O25: =IFERROR(ROUND(N25*M25,0),"") -> 104461 | P25: 2.9 | Q25: 37136 | R25: =IFERROR(ROUND(Q25*P25,0),"") -> 107694 | S25: 2.9 | T25: 37100 | U25: =IFERROR(ROUND(T25*S25,0),"") -> 107590 | V25: 2.9 | W25: 34908 | X25: =IFERROR(ROUND(W25*V25,0),"") -> 101233
A26: 2.2 | B26: Entibado | F26: =SUBTOTAL(9,F27:F27) -> 1327001 | H26: 0 | I26: =SUBTOTAL(9,I27:I27) -> 1293826 | L26: =SUBTOTAL(9,L27:L27) -> 1275381 | O26: =SUBTOTAL(9,O27:O27) -> 1287169 | R26: =SUBTOTAL(9,R27:R27) -> 1327001 | U26: =SUBTOTAL(9,U27:U27) -> 1314600 | X26: =SUBTOTAL(9,X27:X27) -> 1228143
A27: 2.2.1 | B27: Construcción de ENTIBADO TEMPORAL en tablón de madera (6 usos), bajo cualquier altura y grado de humedad. Incluye suministro, transporte y colocación de elementos en madera, el cargue, transporte interno y externo y botada de material sobrantes en los sitios donde lo indique la interventoría y su medida será en el sitio, su forma de pago se hará por el área que se encuentre en contacto con la tierra. | C27: m2 | D27: 43.82 | E27: 30283 | F27: =IFERROR(ROUND(E27*D27,0),"") -> 1327001 | G27: 43.82 | H27: 29525.925 | I27: =IFERROR(ROUND(H27*G27,0),"") -> 1293826 | J27: 43.82 | K27: 29105 | L27: =IFERROR(ROUND(K27*J27,0),"") -> 1275381 | M27: 43.82 | N27: 29374 | O27: =IFERROR(ROUND(N27*M27,0),"") -> 1287169 | P27: 43.82 | Q27: 30283 | R27: =IFERROR(ROUND(Q27*P27,0),"") -> 1327001 | S27: 43.82 | T27: 30000 | U27: =IFERROR(ROUND(T27*S27,0),"") -> 1314600 | V27: 43.82 | W27: 28027 | X27: =IFERROR(ROUND(W27*V27,0),"") -> 1228143
A28: 2.3 | B28: Llenos | F28: =SUBTOTAL(9,F29:F31) -> 11167692 | H28: 0 | I28: =SUBTOTAL(9,I29:I31) -> 10888499 | L28: =SUBTOTAL(9,L29:L31) -> 10733283 | O28: =SUBTOTAL(9,O29:O31) -> 10781612 | R28: =SUBTOTAL(9,R29:R31) -> 10393832 | U28: =SUBTOTAL(9,U29:U31) -> 10940540 | X28: =SUBTOTAL(9,X29:X31) -> 10536805
A29: 2.3.1 | B29: Lleno y apisonado de zanjas y apiques con material selecto de la excavación, densidad de compactación >=95% de la obtenida en el ensayo del Proctor modificado. Incluye: selección, acarreo interno y la compactación de esta. Y su medida será en sitio ya compactado. | C29: m3 | D29: 4.75 | E29: 47579 | F29: =IFERROR(ROUND(E29*D29,0),"") -> 226000 | G29: 4.75 | H29: 46389.525 | I29: =IFERROR(ROUND(H29*G29,0),"") -> 220350 | J29: 4.75 | K29: 45728 | L29: =IFERROR(ROUND(K29*J29,0),"") -> 217208 | M29: 4.75 | N29: 46151 | O29: =IFERROR(ROUND(N29*M29,0),"") -> 219217 | P29: 4.75 | Q29: 40579 | R29: =IFERROR(ROUND(Q29*P29,0),"") -> 192750 | S29: 4.75 | T29: 47000 | U29: =IFERROR(ROUND(T29*S29,0),"") -> 223250 | V29: 4.75 | W29: 44248 | X29: =IFERROR(ROUND(W29*V29,0),"") -> 210178
A30: 2.3.2 | B30: LLENOS EN ARENILLA, compactados mecánicamente hasta obtener una densidad del 98% de la máxima obtenida en el ensayo del próctor modificado. Incluye: el suministro, transporte, colocación de la arenilla, la compactación de la misma y transporte interno. Y su medida será en sitio ya compactado. | C30: m3 | D30: 53.37 | E30: 191086 | F30: =IFERROR(ROUND(E30*D30,0),"") -> 10198260 | G30: 53.37 | H30: 186308.85 | I30: =IFERROR(ROUND(H30*G30,0),"") -> 9943303 | J30: 53.37 | K30: 183653 | L30: =IFERROR(ROUND(K30*J30,0),"") -> 9801561 | M30: 53.37 | N30: 184397 | O30: =IFERROR(ROUND(N30*M30,0),"") -> 9841268 | P30: 53.37 | Q30: 178086 | R30: =IFERROR(ROUND(Q30*P30,0),"") -> 9504450 | S30: 53.37 | T30: 187000 | U30: =IFERROR(ROUND(T30*S30,0),"") -> 9980190 | V30: 53.37 | W30: 180557 | X30: =IFERROR(ROUND(W30*V30,0),"") -> 9636327
A31: 2.3.3 | B31: Colocación de MATERIAL GRANULAR limpio de 3/4" a 1½" para filtros, camas de triturado, reemplazos de suelo o la aplicación para la cual sea necesario. Incluye el suministro y transporte interno y externo del material y todo lo necesario para su correcta instalación según diseño y especificaciones de la interventoría. Su medida será en sitio. | C31: m3 | D31: 4.68 | E31: 158853 | F31: =IFERROR(ROUND(E31*D31,0),"") -> 743432 | G31: 4.68 | H31: 154881.67 | I31: =IFERROR(ROUND(H31*G31,0),"") -> 724846 | J31: 4.68 | K31: 152674 | L31: =IFERROR(ROUND(K31*J31,0),"") -> 714514 | M31: 4.68 | N31: 154087 | O31: =IFERROR(ROUND(N31*M31,0),"") -> 721127 | P31: 4.68 | Q31: 148853 | R31: =IFERROR(ROUND(Q31*P31,0),"") -> 696632 | S31: 4.68 | T31: 157500 | U31: =IFERROR(ROUND(T31*S31,0),"") -> 737100 | V31: 4.68 | W31: 147500 | X31: =IFERROR(ROUND(W31*V31,0),"") -> 690300
A32: 2.4 | B32: Transporte | F32: =SUBTOTAL(9,F33:F33) -> 3692577 | H32: 0 | I32: =SUBTOTAL(9,I33:I33) -> 3600263 | L32: =SUBTOTAL(9,L33:L33) -> 3548681 | O32: =SUBTOTAL(9,O33:O33) -> 3581539 | R32: =SUBTOTAL(9,R33:R33) -> 2559537 | U32: =SUBTOTAL(9,U33:U33) -> 3682380 | X32: =SUBTOTAL(9,X33:X33) -> 3456905
A33: 2.4.1 | B33: Cargue, retiro y disposición final de material excedente a sitio autorizado. | C33: m3 - km | D33: 1133.04 | E33: 3259 | F33: =IFERROR(ROUND(E33*D33,0),"") -> 3692577 | G33: 1133.04 | H33: 3177.525 | I33: =IFERROR(ROUND(H33*G33,0),"") -> 3600263 | J33: 1133.04 | K33: 3132 | L33: =IFERROR(ROUND(K33*J33,0),"") -> 3548681 | M33: 1133.04 | N33: 3161 | O33: =IFERROR(ROUND(N33*M33,0),"") -> 3581539 | P33: 1133.04 | Q33: 2259 | R33: =IFERROR(ROUND(Q33*P33,0),"") -> 2559537 | S33: 1133.04 | T33: 3250 | U33: =IFERROR(ROUND(T33*S33,0),"") -> 3682380 | V33: 1133.04 | W33: 3051 | X33: =IFERROR(ROUND(W33*V33,0),"") -> 3456905
A34: 3 | B34: TERRAPLÉN | F34: =SUBTOTAL(9,F35:F40) -> 12337360 | H34: 0 | I34: =SUBTOTAL(9,I35:I40) -> 12028926 | L34: =SUBTOTAL(9,L35:L40) -> 11857353 | O34: =SUBTOTAL(9,O35:O40) -> 11893646 | R34: =SUBTOTAL(9,R35:R40) -> 11858196 | U34: =SUBTOTAL(9,U35:U40) -> 12152920 | X34: =SUBTOTAL(9,X35:X40) -> 11656966
A35: 3.1 | B35: Concretos | F35: =SUBTOTAL(9,F36) -> 8665121 | H35: 0 | I35: =SUBTOTAL(9,I36) -> 8448493 | L35: =SUBTOTAL(9,L36) -> 8328039 | O35: =SUBTOTAL(9,O36) -> 8405157 | R35: =SUBTOTAL(9,R36) -> 8495221 | U35: =SUBTOTAL(9,U36) -> 8596940 | X35: =SUBTOTAL(9,X36) -> 8188534
A36: 3.1.1 | B36: Suministro, transporte y colocación de concreto de 21 MPa para MURETE. Incluye formaleta en súper T de 19 mm. para acabado a la vista por 3 caras, vibrado, curado y todos los demás elementos necesarios para su correcta construcción. Según diseño. No incluye refuerzo. | C36: m | D36: 16.99 | E36: 510013 | F36: =IFERROR(ROUND(E36*D36,0),"") -> 8665121 | G36: 16.99 | H36: 497262.67 | I36: =IFERROR(ROUND(H36*G36,0),"") -> 8448493 | J36: 16.99 | K36: 490173 | L36: =IFERROR(ROUND(K36*J36,0),"") -> 8328039 | M36: 16.99 | N36: 494712 | O36: =IFERROR(ROUND(N36*M36,0),"") -> 8405157 | P36: 16.99 | Q36: 500013 | R36: =IFERROR(ROUND(Q36*P36,0),"") -> 8495221 | S36: 16.99 | T36: 506000 | U36: =IFERROR(ROUND(T36*S36,0),"") -> 8596940 | V36: 16.99 | W36: 481962 | X36: =IFERROR(ROUND(W36*V36,0),"") -> 8188534
A37: 3.2 | B37: Geotextil | F37: =SUBTOTAL(9,F38) -> 2533664 | H37: 0 | I37: =SUBTOTAL(9,I38) -> 2470322 | L37: =SUBTOTAL(9,L38) -> 2435034 | O37: =SUBTOTAL(9,O38) -> 2406854 | R37: =SUBTOTAL(9,R38) -> 2254400 | U37: =SUBTOTAL(9,U38) -> 2423480 | X37: =SUBTOTAL(9,X38) -> 2392482
A38: 3.2.1 | B38: Instalación de GEOTEXTIL TEJIDO 1700 tipo Pavco o equivalente para muro en tierra armada, muro de contención o actividades similares. Incluye suministro y transporte de los materiales, traslapos, costuras y todos los elementos necesarios para su correcta instalación y funcionamiento. Según diseño. | C38: m2 | D38: 281.8 | E38: 8991 | F38: =IFERROR(ROUND(E38*D38,0),"") -> 2533664 | G38: 281.8 | H38: 8766.225 | I38: =IFERROR(ROUND(H38*G38,0),"") -> 2470322 | J38: 281.8 | K38: 8641 | L38: =IFERROR(ROUND(K38*J38,0),"") -> 2435034 | M38: 281.8 | N38: 8541 | O38: =IFERROR(ROUND(N38*M38,0),"") -> 2406854 | P38: 281.8 | Q38: 8000 | R38: =IFERROR(ROUND(Q38*P38,0),"") -> 2254400 | S38: 281.8 | T38: 8600 | U38: =IFERROR(ROUND(T38*S38,0),"") -> 2423480 | V38: 281.8 | W38: 8490 | X38: =IFERROR(ROUND(W38*V38,0),"") -> 2392482
A39: 3.3 | B39: Cuneta | F39: =SUBTOTAL(9,F40:F40) -> 1138575 | H39: 0 | I39: =SUBTOTAL(9,I40:I40) -> 1110111 | L39: =SUBTOTAL(9,L40:L40) -> 1094280 | O39: =SUBTOTAL(9,O40:O40) -> 1081635 | R39: =SUBTOTAL(9,R40:R40) -> 1108575 | U39: =SUBTOTAL(9,U40:U40) -> 1132500 | X39: =SUBTOTAL(9,X40:X40) -> 1075950
A40: 3.3.1 | B40: Construcción de CUNETA SEMICIRCULAR en concreto de 17.5 MPa., con un DESARROLLO DE 0.55 m. y un ESPESOR DE 0.08 m. Incluye suministro, transporte y colocación del concreto, entresuelo o material granular apto para filtro e=0,20 m. No incluye refuerzo. | C40: m | D40: 15 | E40: 75905 | F40: =IFERROR(ROUND(E40*D40,0),"") -> 1138575 | G40: 15 | H40: 74007.375 | I40: =IFERROR(ROUND(H40*G40,0),"") -> 1110111 | J40: 15 | K40: 72952 | L40: =IFERROR(ROUND(K40*J40,0),"") -> 1094280 | M40: 15 | N40: 72109 | O40: =IFERROR(ROUND(N40*M40,0),"") -> 1081635 | P40: 15 | Q40: 73905 | R40: =IFERROR(ROUND(Q40*P40,0),"") -> 1108575 | S40: 15 | T40: 75500 | U40: =IFERROR(ROUND(T40*S40,0),"") -> 1132500 | V40: 15 | W40: 71730 | X40: =IFERROR(ROUND(W40*V40,0),"") -> 1075950
A41: 4 | B41: RED DE ALCANTARILLADO | F41: =SUBTOTAL(9,F42:F55) -> 6222178 | H41: 0 | I41: =SUBTOTAL(9,I42:I55) -> 6066626 | L41: =SUBTOTAL(9,L42:L55) -> 5980138 | O41: =SUBTOTAL(9,O42:O55) -> 6160878 | R41: =SUBTOTAL(9,R42:R55) -> 5826178 | U41: =SUBTOTAL(9,U42:U55) -> 6002004 | X41: =SUBTOTAL(9,X42:X55) -> 5845990
A42: 4.1 | B42: Tubería | F42: =SUBTOTAL(9,F43:F44) -> 1722600 | H42: 0 | I42: =SUBTOTAL(9,I43:I44) -> 1679536 | L42: =SUBTOTAL(9,L43:L44) -> 1655592 | O42: =SUBTOTAL(9,O43:O44) -> 1663920 | R42: =SUBTOTAL(9,R43:R44) -> 1530600 | U42: =SUBTOTAL(9,U43:U44) -> 1580004 | X42: =SUBTOTAL(9,X43:X44) -> 1602012
A43: 4.1.1 | B43: Suministro, transporte e instalación de TUBERÍA PVC-NOVAFORT, con un DIÁMETRO DE 250 mm. Incluye suministro y transporte de los materiales, bocas, accesorios, acondicionador de superficie y adhesivo Novafort y todos los elementos necesarios para su correcta instalación y funcionamiento. La excavación, encamado, atraques y los llenos se pagarán en su ítem respectivo. | C43: m | D43: 12 | E43: 116535 | F43: =IFERROR(ROUND(E43*D43,0),"") -> 1398420 | G43: 12 | H43: 113621.62 | I43: =IFERROR(ROUND(H43*G43,0),"") -> 1363460 | J43: 12 | K43: 112002 | L43: =IFERROR(ROUND(K43*J43,0),"") -> 1344024 | M43: 12 | N43: 112456 | O43: =IFERROR(ROUND(N43*M43,0),"") -> 1349472 | P43: 12 | Q43: 100535 | R43: =IFERROR(ROUND(Q43*P43,0),"") -> 1206420 | S43: 12 | T43: 106667 | U43: =IFERROR(ROUND(T43*S43,0),"") -> 1280004 | V43: 12 | W43: 108378 | X43: =IFERROR(ROUND(W43*V43,0),"") -> 1300536
A44: 4.1.2 | B44: Televisación de redes de alcantarillado. Incluye el lavado de las redes. | C44: m | D44: 12 | E44: 27015 | F44: =IFERROR(ROUND(E44*D44,0),"") -> 324180 | G44: 12 | H44: 26339.625 | I44: =IFERROR(ROUND(H44*G44,0),"") -> 316076 | J44: 12 | K44: 25964 | L44: =IFERROR(ROUND(K44*J44,0),"") -> 311568 | M44: 12 | N44: 26204 | O44: =IFERROR(ROUND(N44*M44,0),"") -> 314448 | P44: 12 | Q44: 27015 | R44: =IFERROR(ROUND(Q44*P44,0),"") -> 324180 | S44: 12 | T44: 25000 | U44: =IFERROR(ROUND(T44*S44,0),"") -> 300000 | V44: 12 | W44: 25123 | X44: =IFERROR(ROUND(W44*V44,0),"") -> 301476
A45: 4.2 | B45: Cámara de Inspección | F45: =SUBTOTAL(9,F46:F53) -> 4412220 | H45: 0 | I45: =SUBTOTAL(9,I46:I53) -> 4301916 | L45: =SUBTOTAL(9,L46:L53) -> 4240586 | O45: =SUBTOTAL(9,O46:O53) -> 4412220 | R45: =SUBTOTAL(9,R46:R53) -> 4208220 | U45: =SUBTOTAL(9,U46:U53) -> 4335000 | X45: =SUBTOTAL(9,X46:X53) -> 4162298
A46: 4.2.1 | B46: Suministro, transporte e instalación de elementos prefabricados de concreto para la red de alcantarillado. Incluye: cortes, mortero para ajustes, resanes y pega de los elementos, según especificaciones técnicas de diseño y de EEPP de Medellín; transporte interno con equipo y maquinaria (volquetas, retroexcavadora, entre otros); mano de obra y todo lo necesario para su correcta instalación y funcionamiento. Para: | H46: 0
...

Sheet CORRECCIÓN
A6: =+PROPONENTES!A6 -> SECRETARÍA DE GESTIÓN Y CONTROL TERRITORIAL
A8: =PROPONENTES!A8 -> SELECCIÓN ABREVIADA DE MENOR CUANTÍA No. 9015314
A10: =PROPONENTES!A10:C10 -> "Construir obras complementarias del alcantarillado de la centralidad del corregimiento San Sebastián de Palmitas"
B12: PRESUPUESTO OFICIAL | C12: ='Formulario 1'!F117 -> 522182486
B13: A.I.U. PRESUPUESTO OFICIAL | C13: =+'Formulario 1'!F122 -> 0.53
BV14: 0.05
A15: No. | B15: PROPONENTE | C15: FORMULARIO 1 | G15: %DESCUENTO PPTO OFICIAL | H15: CALIFICACIÓN | I15: OBSERVACIONES | BV15: 0.3192
C16: VALOR TOTAL PROPUESTA | D16: VALOR TOTAL CORREGIDO | E16: DIFERENCIA | F16: DESVIACIÓN | BD16: 0.3328
A17: 1 | B17: =LOOKUP(A17,PROPONENTES!A:A,PROPONENTES!B:B) -> C.T. 2 CONSTRUCCIONES S.A.S | C17: =IF(OR(H17="INHABILITADO",H17="RECHAZADA"),"",LOOKUP(A17,'Formulario 1'!$11:$11,'Formulario 1'!$124:$124)) -> 5.09e+08 | D17: =IF(OR(H17="INHABILITADO",H17="RECHAZADA"),"",LOOKUP(A17,'Formulario 1'!$11:$11,'Formulario 1'!$117:$117)) -> 5.09e+08 | E17: =IF(OR(H17="INHABILITADO",H17="RECHAZADA"),"",C17-D17) -> -0.12099999 | F17: =IF(OR(H17="INHABILITADO",H17="RECHAZADA"),"-",ABS(E17/C17)) -> 2.3772101e-10 | G17: =IF(OR(H17="INHABILITADO",H17="RECHAZADA"),"",1-D17/$C$12) -> 0.025244979 | H17: =+LOOKUP(A17,'Formulario 1'!$11:$11,'Formulario 1'!$126:$126) -> VALIDA | Q17: 1.6483721e+08
A18: 2 | B18: =LOOKUP(A18,PROPONENTES!A:A,PROPONENTES!B:B) -> CONSORCIO OBRAS MC (COINAR - CONSULTORES INGENIEROS Y ARQUITECTOS LTDA (70%) y MATMAR CONSTRUCCIONES S.A.S. (30%)) | C18: =IF(OR(H18="INHABILITADO",H18="RECHAZADA"),"",LOOKUP(A18,'Formulario 1'!$11:$11,'Formulario 1'!$124:$124)) -> 502810882 | D18: =IF(OR(H18="INHABILITADO",H18="RECHAZADA"),"",LOOKUP(A18,'Formulario 1'!$11:$11,'Formulario 1'!$117:$117)) -> 502810882 | E18: =IF(OR(H18="INHABILITADO",H18="RECHAZADA"),"",C18-D18) -> 0 | F18: =IF(OR(H18="INHABILITADO",H18="RECHAZADA"),"-",ABS(E18/C18)) -> 0 | G18: =IF(OR(H18="INHABILITADO",H18="RECHAZADA"),"",1-D18/$C$12) -> 0.037097384 | H18: =+LOOKUP(A18,'Formulario 1'!$11:$11,'Formulario 1'!$126:$126) -> VALIDA | Q18: 7795274
A19: 3 | B19: =LOOKUP(A19,PROPONENTES!A:A,PROPONENTES!B:B) -> MEGACONSTRUCCIONES Y EQUIPOS S.A.S | C19: =IF(OR(H19="INHABILITADO",H19="RECHAZADA"),"",LOOKUP(A19,'Formulario 1'!$11:$11,'Formulario 1'!$124:$124)) | D19: =IF(OR(H19="INHABILITADO",H19="RECHAZADA"),"",LOOKUP(A19,'Formulario 1'!$11:$11,'Formulario 1'!$117:$117)) | E19: =IF(OR(H19="INHABILITADO",H19="RECHAZADA"),"",C19-D19) | F19: =IF(OR(H19="INHABILITADO",H19="RECHAZADA"),"-",ABS(E19/C19)) -> - | G19: =IF(OR(H19="INHABILITADO",H19="RECHAZADA"),"",1-D19/$C$12) | H19: =+LOOKUP(A19,'Formulario 1'!$11:$11,'Formulario 1'!$126:$126) -> INHABILITADO | Q19: 14628450
A20: 4 | B20: =LOOKUP(A20,PROPONENTES!A:A,PROPONENTES!B:B) -> EMPRESA ASOCIATIVA DE TRABAJO UNIDOS AL FUTURO | C20: =IF(OR(H20="INHABILITADO",H20="RECHAZADA"),"",LOOKUP(A20,'Formulario 1'!$11:$11,'Formulario 1'!$124:$124)) | D20: =IF(OR(H20="INHABILITADO",H20="RECHAZADA"),"",LOOKUP(A20,'Formulario 1'!$11:$11,'Formulario 1'!$117:$117)) | E20: =IF(OR(H20="INHABILITADO",H20="RECHAZADA"),"",C20-D20) | F20: =IF(OR(H20="INHABILITADO",H20="RECHAZADA"),"-",ABS(E20/C20)) -> - | G20: =IF(OR(H20="INHABILITADO",H20="RECHAZADA"),"",1-D20/$C$12) | H20: =+LOOKUP(A20,'Formulario 1'!$11:$11,'Formulario 1'!$126:$126) -> INHABILITADO | Q20: 1976279
A21: 5 | B21: =LOOKUP(A21,PROPONENTES!A:A,PROPONENTES!B:B) -> DYA INGENIERIA SAS | C21: =IF(OR(H21="INHABILITADO",H21="RECHAZADA"),"",LOOKUP(A21,'Formulario 1'!$11:$11,'Formulario 1'!$124:$124)) | D21: =IF(OR(H21="INHABILITADO",H21="RECHAZADA"),"",LOOKUP(A21,'Formulario 1'!$11:$11,'Formulario 1'!$117:$117)) | E21: =IF(OR(H21="INHABILITADO",H21="RECHAZADA"),"",C21-D21) | F21: =IF(OR(H21="INHABILITADO",H21="RECHAZADA"),"-",ABS(E21/C21)) -> - | G21: =IF(OR(H21="INHABILITADO",H21="RECHAZADA"),"",1-D21/$C$12) | H21: =+LOOKUP(A21,'Formulario 1'!$11:$11,'Formulario 1'!$126:$126) -> RECHAZADA | Q21: 5.0025082e+08
A22: 6 | B22: =LOOKUP(A22,PROPONENTES!A:A,PROPONENTES!B:B) -> ESTORAQUES 20 SAS | C22: =IF(OR(H22="INHABILITADO",H22="RECHAZADA"),"",LOOKUP(A22,'Formulario 1'!$11:$11,'Formulario 1'!$124:$124)) | D22: =IF(OR(H22="INHABILITADO",H22="RECHAZADA"),"",LOOKUP(A22,'Formulario 1'!$11:$11,'Formulario 1'!$117:$117)) | E22: =IF(OR(H22="INHABILITADO",H22="RECHAZADA"),"",C22-D22) | F22: =IF(OR(H22="INHABILITADO",H22="RECHAZADA"),"-",ABS(E22/C22)) -> - | G22: =IF(OR(H22="INHABILITADO",H22="RECHAZADA"),"",1-D22/$C$12) | H22: =+LOOKUP(A22,'Formulario 1'!$11:$11,'Formulario 1'!$126:$126) -> INHABILITADO
Q105: 149531
Q106: 25015
N109: 16000000 | Q109: 16114640
O113: 162459247 | R113: 1.6483721e+08
O114: 7795274 | R114: 7795274
O115: 14628450 | R115: 14628450
O116: 1976279 | R116: 1976279
O119: 0.45 | R119: 0.46
O120: 0.02 | R120: 0.02
O121: 0.05 | R121: 0.05
O124: 499280879 | R124: 5.0025082e+08
BE158: 136799075
BE159: 40725683
BE160: 17174520
BE163: 0.2628
BE164: 0.02
BE165: 0.05
BE168: 4373328392
BW184: 137949891
BW185: 74049068
BW186: 23933588
BW189: 0.2492
BW190: 0.02
BW191: 0.05
BW194: 3728512532
R195: 100916887
...

Sheet RESUMEN
U2: CUMPLE
U3: NO CUMPLE
A6: =+PROPONENTES!A6 -> SECRETARÍA DE GESTIÓN Y CONTROL TERRITORIAL
A8: =PROPONENTES!A8 -> SELECCIÓN ABREVIADA DE MENOR CUANTÍA No. 9015314
A10: =PROPONENTES!A10 -> "Construir obras complementarias del alcantarillado de la centralidad del corregimiento San Sebastián de Palmitas"
B12: PROPONENTE | C12: CONDICIONES TECNICAS | D12: CAPACIDAD JURIDICA | E12: CAPACIDAD FINANCIERA Y ORG. | F12: CALIFICACION | G12: CORRECCIÓN | H12: PUNTAJE | Q12: ORDEN | R12: CALIDAD | S12: OBSERVACIONES
H13: PRECIO | I13: EQUIPO DE TRABAJO | J13: POLITICA DE FOMENTO AL IMPACTO SOCIAL | K13: INDUSTRIA NACIONAL | L13: Empresa de mujeres | M13: Mipyme | N13: Disminución puntaje Obras Inconclusas | O13: Disminución puntaje Multas | P13: TOTAL | W13: EQUIPO DE TRABAJO | X13: POLITICA DE FOMENTO AL IMPACTO SOCIAL | Y13: INDUSTRIA NACIONAL | Z13: Empresa de mujeres | AA13: Mipyme
A14: 1 | B14: =LOOKUP(A14,PROPONENTES!A:A,PROPONENTES!B:B) -> C.T. 2 CONSTRUCCIONES S.A.S | C14: CUMPLE | D14: CUMPLE | E14: CUMPLE | F14: =IF(COUNTIF(C14:F14,"CUMPLE")=3,"HABILITADO","INHABILITADO") -> HABILITADO | G14: =+CORRECCIÓN!H17 -> VALIDA | H14: =IFERROR(LOOKUP(A14,PRECIO!$A$38:$A$44,PRECIO!$D$38:$D$44),"") -> 691.72956 | I14: =IF(AND($F14="HABILITADO",$G14="VALIDA"),W14,"") -> 190 | J14: =IF(AND($F14="HABILITADO",$G14="VALIDA"),X14,"") -> 10 | K14: =IF(AND($F14="HABILITADO",$G14="VALIDA"),Y14,"") -> 100 | L14: =IF(AND($F14="HABILITADO",$G14="VALIDA"),Z14,"") -> 0 | M14: =IF(AND($F14="HABILITADO",$G14="VALIDA"),AA14,"") -> 0 | N14: 0 | O14: 0 | P14: =IF(H14="","",SUM(H14:O14)) -> 991.72956 | Q14: =IF(OR(R14="RECHAZADO",R14="INHABILITADO"),"",COUNTIF($P$14:$P$19,">="&P14)) -> 2 | R14: =IF(P14=MAX($P$14:$P$19),"GANADOR",IF(G14="RECHAZADA","RECHAZADA",IF(F14="HABILITADO","HABILITADO","INHABILITADO"))) -> HABILITADO | W14: 190 | X14: 10 | Y14: 100
A15: 2 | B15: =LOOKUP(A15,PROPONENTES!A:A,PROPONENTES!B:B) -> CONSORCIO OBRAS MC (COINAR - CONSULTORES INGENIEROS Y ARQUITECTOS LTDA (70%) y MATMAR CONSTRUCCIONES S.A.S. (30%)) | C15: CUMPLE | D15: CUMPLE | E15: CUMPLE | F15: =IF(COUNTIF(C15:F15,"CUMPLE")=3,"HABILITADO","INHABILITADO") -> HABILITADO | G15: =+CORRECCIÓN!H18 -> VALIDA | H15: =IFERROR(LOOKUP(A15,PRECIO!$A$38:$A$44,PRECIO!$D$38:$D$44),"") -> 696 | I15: =IF(AND($F15="HABILITADO",$G15="VALIDA"),W15,"") -> 190 | J15: =IF(AND($F15="HABILITADO",$G15="VALIDA"),X15,"") -> 10 | K15: =IF(AND($F15="HABILITADO",$G15="VALIDA"),Y15,"") -> 100 | L15: =IF(AND($F15="HABILITADO",$G15="VALIDA"),Z15,"") -> 0 | M15: =IF(AND($F15="HABILITADO",$G15="VALIDA"),AA15,"") -> 0 | N15: 0 | O15: 0 | P15: =IF(H15="","",SUM(H15:O15)) -> 996 | Q15: =IF(OR(R15="RECHAZADO",R15="INHABILITADO"),"",COUNTIF($P$14:$P$19,">="&P15)) -> 1 | R15: =IF(P15=MAX($P$14:$P$19),"GANADOR",IF(G15="RECHAZADA","RECHAZADA",IF(F15="HABILITADO","HABILITADO","INHABILITADO"))) -> GANADOR | W15: 190 | X15: 10 | Y15: 100
A16: 3 | B16: =LOOKUP(A16,PROPONENTES!A:A,PROPONENTES!B:B) -> MEGACONSTRUCCIONES Y EQUIPOS S.A.S | C16: CUMPLE | D16: NO CUMPLE | E16: CUMPLE | F16: =IF(COUNTIF(C16:F16,"CUMPLE")=3,"HABILITADO","INHABILITADO") -> INHABILITADO | G16: =+CORRECCIÓN!H19 -> INHABILITADO | H16: =IFERROR(LOOKUP(A16,PRECIO!$A$38:$A$44,PRECIO!$D$38:$D$44),"") | I16: =IF(AND($F16="HABILITADO",$G16="VALIDA"),W16,"") | J16: =IF(AND($F16="HABILITADO",$G16="VALIDA"),X16,"") | K16: =IF(AND($F16="HABILITADO",$G16="VALIDA"),Y16,"") | L16: =IF(AND($F16="HABILITADO",$G16="VALIDA"),Z16,"") | M16: =IF(AND($F16="HABILITADO",$G16="VALIDA"),AA16,"") | N16: 0 | O16: 0 | P16: =IF(H16="","",SUM(H16:O16)) | Q16: =IF(OR(R16="RECHAZADO",R16="INHABILITADO"),"",COUNTIF($P$14:$P$19,">="&P16)) | R16: =IF(P16=MAX($P$14:$P$19),"GANADOR",IF(G16="RECHAZADA","RECHAZADA",IF(F16="HABILITADO","HABILITADO","INHABILITADO"))) -> INHABILITADO | W16: 0 | X16: 0 | Y16: 0
A17: 4 | B17: =LOOKUP(A17,PROPONENTES!A:A,PROPONENTES!B:B) -> EMPRESA ASOCIATIVA DE TRABAJO UNIDOS AL FUTURO | C17: CUMPLE | D17: NO CUMPLE | E17: CUMPLE | F17: =IF(COUNTIF(C17:F17,"CUMPLE")=3,"HABILITADO","INHABILITADO") -> INHABILITADO | G17: =+CORRECCIÓN!H20 -> INHABILITADO | H17: =IFERROR(LOOKUP(A17,PRECIO!$A$38:$A$44,PRECIO!$D$38:$D$44),"") | I17: =IF(AND($F17="HABILITADO",$G17="VALIDA"),W17,"") | J17: =IF(AND($F17="HABILITADO",$G17="VALIDA"),X17,"") | K17: =IF(AND($F17="HABILITADO",$G17="VALIDA"),Y17,"") | L17: =IF(AND($F17="HABILITADO",$G17="VALIDA"),Z17,"") | M17: =IF(AND($F17="HABILITADO",$G17="VALIDA"),AA17,"") | N17: 0 | O17: 0 | P17: =IF(H17="","",SUM(H17:O17)) | Q17: =IF(OR(R17="RECHAZADO",R17="INHABILITADO"),"",COUNTIF($P$14:$P$19,">="&P17)) | R17: =IF(P17=MAX($P$14:$P$19),"GANADOR",IF(G17="RECHAZADA","RECHAZADA",IF(F17="HABILITADO","HABILITADO","INHABILITADO"))) -> INHABILITADO | W17: 190 | X17: 10 | Y17: 100
A18: 5 | B18: =LOOKUP(A18,PROPONENTES!A:A,PROPONENTES!B:B) -> DYA INGENIERIA SAS | C18: NO CUMPLE | D18: NO CUMPLE | E18: CUMPLE | F18: =IF(COUNTIF(C18:F18,"CUMPLE")=3,"HABILITADO","INHABILITADO") -> INHABILITADO | G18: =+CORRECCIÓN!H21 -> RECHAZADA | H18: =IFERROR(LOOKUP(A18,PRECIO!$A$38:$A$44,PRECIO!$D$38:$D$44),"") | I18: =IF(AND($F18="HABILITADO",$G18="VALIDA"),W18,"") | J18: =IF(AND($F18="HABILITADO",$G18="VALIDA"),X18,"") | K18: =IF(AND($F18="HABILITADO",$G18="VALIDA"),Y18,"") | L18: =IF(AND($F18="HABILITADO",$G18="VALIDA"),Z18,"") | M18: =IF(AND($F18="HABILITADO",$G18="VALIDA"),AA18,"") | N18: 0 | O18: 0 | P18: =IF(H18="","",SUM(H18:O18)) | Q18: =IF(OR(R18="RECHAZADO",R18="INHABILITADO"),"",COUNTIF($P$14:$P$19,">="&P18)) -> 0 | R18: =IF(P18=MAX($P$14:$P$19),"GANADOR",IF(G18="RECHAZADA","RECHAZADA",IF(F18="HABILITADO","HABILITADO","INHABILITADO"))) -> RECHAZADA | S18: Causal de rechazo 21. Cuando el valor presentado por los proponentes supere el presupuesto oficial por ítems o total, incluso después de realizadas las correcciones aritméticas. El item 4.2.1.1 el proponente lo establece por valor de $210.000 y el valor unitario oficial es $194.239 | W18: 190 | X18: 0 | Y18: 100
A19: 6 | B19: =LOOKUP(A19,PROPONENTES!A:A,PROPONENTES!B:B) -> ESTORAQUES 20 SAS | C19: NO CUMPLE | D19: CUMPLE | E19: NO CUMPLE | F19: =IF(COUNTIF(C19:F19,"CUMPLE")=3,"HABILITADO","INHABILITADO") -> INHABILITADO | G19: =+CORRECCIÓN!H22 -> INHABILITADO | H19: =IFERROR(LOOKUP(A19,PRECIO!$A$38:$A$44,PRECIO!$D$38:$D$44),"") | I19: =IF(AND($F19="HABILITADO",$G19="VALIDA"),W19,"") | J19: =IF(AND($F19="HABILITADO",$G19="VALIDA"),X19,"") | K19: =IF(AND($F19="HABILITADO",$G19="VALIDA"),Y19,"") | L19: =IF(AND($F19="HABILITADO",$G19="VALIDA"),Z19,"") | M19: =IF(AND($F19="HABILITADO",$G19="VALIDA"),AA19,"") | N19: 0 | O19: 0 | P19: =IF(H19="","",SUM(H19:O19)) | Q19: =IF(OR(R19="RECHAZADO",R19="INHABILITADO"),"",COUNTIF($P$14:$P$19,">="&P19)) | R19: =IF(P19=MAX($P$14:$P$19),"GANADOR",IF(G19="RECHAZADA","RECHAZADA",IF(F19="HABILITADO","HABILITADO","INHABILITADO"))) -> INHABILITADO | S19: El valor del AIU debe expresarse en un porcentaje (%) y deberá consignarlo y discriminarlo en la propuesta económica. (pagina 54 del pliego de condiciones) | W19: 190 | X19: 0 | Y19: 100

Sheet PRECIO
A5: SECRETARÍA DE GESTIÓN Y CONTROL TERRITORIAL
A6: =+PROPONENTES!A8 -> SELECCIÓN ABREVIADA DE MENOR CUANTÍA No. 9015314
A8: =+PROPONENTES!A10 -> "Construir obras complementarias del alcantarillado de la centralidad del corregimiento San Sebastián de Palmitas"
A10: PRECIO
B12: PRESUPUESTO OFICIAL (en miles de pesos) | C12: =+'Formulario 1'!F117 -> 522182486
B13: TRM (Agosto 06 de 2024) | C13: 4063.26
A15: N° | B15: PROPUESTA | C15: VALOR CORREGIDO (en pesos)
A16: 1 | B16: =LOOKUP(A16,PROPONENTES!A:A,PROPONENTES!B:B) -> C.T. 2 CONSTRUCCIONES S.A.S | C16: =IF(CORRECCIÓN!H17="VALIDA",CORRECCIÓN!D17,"") -> 5.09e+08
A17: 2 | B17: =LOOKUP(A17,PROPONENTES!A:A,PROPONENTES!B:B) -> CONSORCIO OBRAS MC (COINAR - CONSULTORES INGENIEROS Y ARQUITECTOS LTDA (70%) y MATMAR CONSTRUCCIONES S.A.S. (30%)) | C17: =IF(CORRECCIÓN!H18="VALIDA",CORRECCIÓN!D18,"") -> 502810882
A18: 3 | B18: =LOOKUP(A18,PROPONENTES!A:A,PROPONENTES!B:B) -> MEGACONSTRUCCIONES Y EQUIPOS S.A.S | C18: =IF(CORRECCIÓN!H19="VALIDA",CORRECCIÓN!D19,"")
A19: 4 | B19: =LOOKUP(A19,PROPONENTES!A:A,PROPONENTES!B:B) -> EMPRESA ASOCIATIVA DE TRABAJO UNIDOS AL FUTURO | C19: =IF(CORRECCIÓN!H20="VALIDA",CORRECCIÓN!D20,"")
A20: 5 | B20: =LOOKUP(A20,PROPONENTES!A:A,PROPONENTES!B:B) -> DYA INGENIERIA SAS | C20: =IF(CORRECCIÓN!H21="VALIDA",CORRECCIÓN!D21,"")
A21: 6 | B21: =LOOKUP(A21,PROPONENTES!A:A,PROPONENTES!B:B) -> ESTORAQUES 20 SAS | C21: =IF(CORRECCIÓN!H22="VALIDA",CORRECCIÓN!D22,"")
B24: PROPUESTAS VÁLIDAS [n] | C24: =+COUNT(C16:C21) -> 2
B25: DECIMALES TRM | C25: =+C13-INT(C13) -> 0.26
B26: PUNTAJE MÁXIMO | C26: 696
B27: MÉTODO DE ASIGNACIÓN DE PUNTAJE | C27: MEDIA GEOMÉTRICA
B29: MEDIANA CON VALOR ABSOLUTO | C29: =IF(C27="MEDIANA CON VALOR ABSOLUTO",MEDIAN(C16:C21),"NO APLICA ESTE MÉTODO") -> NO APLICA ESTE MÉTODO
B30: MEDIA GEOMÉTRICA | C30: =IF(C27="MEDIA GEOMÉTRICA",GEOMEAN(C16:C21),"NO APLICA ESTE MÉTODO") -> 5.0589598e+08
B31: MEDIA ARITMÉTICA BAJA | C31: =IF(C27="MEDIA ARITMÉTICA BAJA",((MIN(C16:C21))+AVERAGE(C16:C22))/2,"NO APLICA ESTE MÉTODO") -> NO APLICA ESTE MÉTODO
B32: MENOR VALOR | C32: =IF(C27="MENOR VALOR",MIN(C16:C21),"NO APLICA ESTE MÉTODO") -> NO APLICA ESTE MÉTODO
A34: N° | B34: PROPUESTA MAYOR PUNTAJE | C34: VALOR CORREGIDO | D34: PUNTAJES | E34: % PRESUPUESTO OFICIAL
A35: =INDEX($A$37:$E$44,MATCH((MAX(D38:D44)),$D$37:$D$44,),MATCH("N°",$A$37:$E$37,)) -> 2 | B35: =INDEX($A$37:$E$44,MATCH((MAX(D38:D44)),$D$37:$D$44,),MATCH("PROPUESTA",$A$37:$E$37,)) -> CONSORCIO OBRAS MC (COINAR - CONSULTORES INGENIEROS Y ARQUITECTOS LTDA (70%) y MATMAR CONSTRUCCIONES S.A.S. (30%)) | C35: =INDEX($A$37:$E$44,MATCH((MAX(D38:D44)),$D$37:$D$44,),MATCH("VALOR CORREGIDO",$A$37:$E$37,)) -> 502810882 | D35: =+MAX(D38:D44) -> 696 | E35: =+LOOKUP(D35,D38:$D$44,E38:$E$44) -> 0.96290262
A37: N° | B37: PROPUESTA | C37: VALOR CORREGIDO | D37: PUNTAJES | E37: % PRESUPUESTO OFICIAL
A38: 1 | B38: =B16 -> C.T. 2 CONSTRUCCIONES S.A.S | C38: =+C16 -> 5.09e+08 | D38: =IF(OR(COUNTIF(RESUMEN!C14:E14,"NO CUMPLE")>0,C16=""),"",(IF($C$27="MEDIA ARITMÉTICA BAJA",(IF(C38<=$C$31,($C$26*(1-(($C$31-C38)/$C$31))),($C$26*(1-(((ABS($C$31-C38))/$C$31)))))),IF($C$27="MEDIA GEOMÉTRICA",IF(J38=MIN($J$38:$J$44),$C$26,$C$26*(1-(ABS($C$30-C38)/$C$30))),IF($C$27="MENOR VALOR",(($C$26*$C$32)/C38),IF(ISODD($C$24),($C$26*(1-ABS(($C$29-C38)/$C$29))),($C$26*(1-(ABS((MAX($I$38:$I$44)-C38)/MAX($I$38:$I$44))))))))))) -> 691.72956 | E38: =IF(D38="","",C38/$C$12) -> 0.97475502 | H38: =IFERROR(IF($C$27="mediana con valor absoluto",$C$29-C38),"") -> FALSE | I38: =IF(H38<0,"",C38) -> 5.09e+08 | J38: =IFERROR(ABS(C38-$C$30),"") -> 3104023.8
A39: 2 | B39: =B17 -> CONSORCIO OBRAS MC (COINAR - CONSULTORES INGENIEROS Y ARQUITECTOS LTDA (70%) y MATMAR CONSTRUCCIONES S.A.S. (30%)) | C39: =+C17 -> 502810882 | D39: =IF(OR(COUNTIF(RESUMEN!C15:E15,"NO CUMPLE")>0,C17=""),"",(IF($C$27="MEDIA ARITMÉTICA BAJA",(IF(C39<=$C$31,($C$26*(1-(($C$31-C39)/$C$31))),($C$26*(1-(((ABS($C$31-C39))/$C$31)))))),IF($C$27="MEDIA GEOMÉTRICA",IF(J39=MIN($J$38:$J$44),$C$26,$C$26*(1-(ABS($C$30-C39)/$C$30))),IF($C$27="MENOR VALOR",(($C$26*$C$32)/C39),IF(ISODD($C$24),($C$26*(1-ABS(($C$29-C39)/$C$29))),($C$26*(1-(ABS((MAX($I$38:$I$44)-C39)/MAX($I$38:$I$44))))))))))) -> 696 | E39: =IF(D39="","",C39/$C$12) -> 0.96290262 | H39: =IFERROR(IF($C$27="mediana con valor absoluto",$C$29-C39),"") -> FALSE | I39: =IF(H39<0,"",C39) -> 502810882 | J39: =IFERROR(ABS(C39-$C$30),"") -> 3085094.5
A40: 3 | B40: =B18 -> MEGACONSTRUCCIONES Y EQUIPOS S.A.S | C40: =+C18 | D40: =IF(OR(COUNTIF(RESUMEN!C16:E16,"NO CUMPLE")>0,C18=""),"",(IF($C$27="MEDIA ARITMÉTICA BAJA",(IF(C40<=$C$31,($C$26*(1-(($C$31-C40)/$C$31))),($C$26*(1-(((ABS($C$31-C40))/$C$31)))))),IF($C$27="MEDIA GEOMÉTRICA",IF(J40=MIN($J$38:$J$44),$C$26,$C$26*(1-(ABS($C$30-C40)/$C$30))),IF($C$27="MENOR VALOR",(($C$26*$C$32)/C40),IF(ISODD($C$24),($C$26*(1-ABS(($C$29-C40)/$C$29))),($C$26*(1-(ABS((MAX($I$38:$I$44)-C40)/MAX($I$38:$I$44))))))))))) | E40: =IF(D40="","",C40/$C$12) | H40: =IFERROR(IF($C$27="mediana con valor absoluto",$C$29-C40),"") -> FALSE | I40: =IF(H40<0,"",C40) | J40: =IFERROR(ABS(C40-$C$30),"")
A41: 4 | B41: =B19 -> EMPRESA ASOCIATIVA DE TRABAJO UNIDOS AL FUTURO | C41: =+C19 | D41: =IF(OR(COUNTIF(RESUMEN!C17:E17,"NO CUMPLE")>0,C19=""),"",(IF($C$27="MEDIA ARITMÉTICA BAJA",(IF(C41<=$C$31,($C$26*(1-(($C$31-C41)/$C$31))),($C$26*(1-(((ABS($C$31-C41))/$C$31)))))),IF($C$27="MEDIA GEOMÉTRICA",IF(J41=MIN($J$38:$J$44),$C$26,$C$26*(1-(ABS($C$30-C41)/$C$30))),IF($C$27="MENOR VALOR",(($C$26*$C$32)/C41),IF(ISODD($C$24),($C$26*(1-ABS(($C$29-C41)/$C$29))),($C$26*(1-(ABS((MAX($I$38:$I$44)-C41)/MAX($I$38:$I$44))))))))))) | E41: =IF(D41="","",C41/$C$12) | H41: =IFERROR(IF($C$27="mediana con valor absoluto",$C$29-C41),"") -> FALSE | I41: =IF(H41<0,"",C41) | J41: =IFERROR(ABS(C41-$C$30),"")
A42: 5 | B42: =B20 -> DYA INGENIERIA SAS | C42: =+C20 | D42: =IF(OR(COUNTIF(RESUMEN!C18:E18,"NO CUMPLE")>0,C20=""),"",(IF($C$27="MEDIA ARITMÉTICA BAJA",(IF(C42<=$C$31,($C$26*(1-(($C$31-C42)/$C$31))),($C$26*(1-(((ABS($C$31-C42))/$C$31)))))),IF($C$27="MEDIA GEOMÉTRICA",IF(J42=MIN($J$38:$J$44),$C$26,$C$26*(1-(ABS($C$30-C42)/$C$30))),IF($C$27="MENOR VALOR",(($C$26*$C$32)/C42),IF(ISODD($C$24),($C$26*(1-ABS(($C$29-C42)/$C$29))),($C$26*(1-(ABS((MAX($I$38:$I$44)-C42)/MAX($I$38:$I$44))))))))))) | E42: =IF(D42="","",C42/$C$12) | H42: =IFERROR(IF($C$27="mediana con valor absoluto",$C$29-C42),"") -> FALSE | I42: =IF(H42<0,"",C42) | J42: =IFERROR(ABS(C42-$C$30),"")
A43: 6 | B43: =B21 -> ESTORAQUES 20 SAS | C43: =+C21 | D43: =IF(OR(COUNTIF(RESUMEN!C19:E19,"NO CUMPLE")>0,C21=""),"",(IF($C$27="MEDIA ARITMÉTICA BAJA",(IF(C43<=$C$31,($C$26*(1-(($C$31-C43)/$C$31))),($C$26*(1-(((ABS($C$31-C43))/$C$31)))))),IF($C$27="MEDIA GEOMÉTRICA",IF(J43=MIN($J$38:$J$44),$C$26,$C$26*(1-(ABS($C$30-C43)/$C$30))),IF($C$27="MENOR VALOR",(($C$26*$C$32)/C43),IF(ISODD($C$24),($C$26*(1-ABS(($C$29-C43)/$C$29))),($C$26*(1-(ABS((MAX($I$38:$I$44)-C43)/MAX($I$38:$I$44))))))))))) | E43: =IF(D43="","",C43/$C$12) | H43: =IFERROR(IF($C$27="mediana con valor absoluto",$C$29-C43),"") -> FALSE | I43: =IF(H43<0,"",C43) | J43: =IFERROR(ABS(C43-$C$30),"")

Sheet ORDEN
A6: =+PROPONENTES!A6 -> SECRETARÍA DE GESTIÓN Y CONTROL TERRITORIAL
A7: =PROPONENTES!A8:C8 -> SELECCIÓN ABREVIADA DE MENOR CUANTÍA No. 9015314
A9: =PROPONENTES!A10:C10 -> "Construir obras complementarias del alcantarillado de la centralidad del corregimiento San Sebastián de Palmitas"
A11: ORDEN DE ELEGIBILIDAD
B13: Orden | C13: Numero | D13: Proponente | E13: Puntaje Total
B14: =LOOKUP(C14,RESUMEN!A:A,RESUMEN!Q:Q) -> 0 | C14: 5 | D14: =LOOKUP(C14,PROPONENTES!A:A,PROPONENTES!B:B) -> DYA INGENIERIA SAS | E14: =LOOKUP(C14,RESUMEN!A:A,RESUMEN!P:P)
B15: =LOOKUP(C15,RESUMEN!A:A,RESUMEN!Q:Q) | C15: 10 | D15: =LOOKUP(C15,PROPONENTES!A:A,PROPONENTES!B:B) -> ESTORAQUES 20 SAS | E15: =LOOKUP(C15,RESUMEN!A:A,RESUMEN!P:P)
B16: =LOOKUP(C16,RESUMEN!A:A,RESUMEN!Q:Q) -> 0 | C16: 5 | D16: =LOOKUP(C16,PROPONENTES!A:A,PROPONENTES!B:B) -> DYA INGENIERIA SAS | E16: =LOOKUP(C16,RESUMEN!A:A,RESUMEN!P:P)
B17: =LOOKUP(C17,RESUMEN!A:A,RESUMEN!Q:Q) -> 1 | C17: 2 | D17: =LOOKUP(C17,PROPONENTES!A:A,PROPONENTES!B:B) -> CONSORCIO OBRAS MC (COINAR - CONSULTORES INGENIEROS Y ARQUITECTOS LTDA (70%) y MATMAR CONSTRUCCIONES S.A.S. (30%)) | E17: =LOOKUP(C17,RESUMEN!A:A,RESUMEN!P:P) -> 996
B18: =LOOKUP(C18,RESUMEN!A:A,RESUMEN!Q:Q) -> 2 | C18: 1 | D18: =LOOKUP(C18,PROPONENTES!A:A,PROPONENTES!B:B) -> C.T. 2 CONSTRUCCIONES S.A.S | E18: =LOOKUP(C18,RESUMEN!A:A,RESUMEN!P:P) -> 991.72956
B19: =LOOKUP(C19,RESUMEN!A:A,RESUMEN!Q:Q) | C19: 3 | D19: =LOOKUP(C19,PROPONENTES!A:A,PROPONENTES!B:B) -> MEGACONSTRUCCIONES Y EQUIPOS S.A.S | E19: =LOOKUP(C19,RESUMEN!A:A,RESUMEN!P:P)
B20: =LOOKUP(C20,RESUMEN!A:A,RESUMEN!Q:Q) | C20: 4 | D20: =LOOKUP(C20,PROPONENTES!A:A,PROPONENTES!B:B) -> EMPRESA ASOCIATIVA DE TRABAJO UNIDOS AL FUTURO | E20: =LOOKUP(C20,RESUMEN!A:A,RESUMEN!P:P)
B21: =LOOKUP(C21,RESUMEN!A:A,RESUMEN!Q:Q) | C21: 6 | D21: =LOOKUP(C21,PROPONENTES!A:A,PROPONENTES!B:B) -> ESTORAQUES 20 SAS | E21: =LOOKUP(C21,RESUMEN!A:A,RESUMEN!P:P)
