Workbook
Name DEPENDENCIAS: Listas!$B$2:$B$16
Name METEVA: [1]LISTAS!$T$2:$T$5
Name RESULTADO: Listas!$C$2:$C$4

Sheet RESUMEN-M (1)
B1: INSTITUTO NACIONAL DE VÍAS
B2: DIRECCIÓN GENERAL
B3: DIRECCIÓN TERRITORIAL MAGDALENA
B4: CONCURSO DE MÉRITOS ABIERTO No CMA-DT-MAG-001-2024
B5: OBJETO: “INTERVENTORIA TÉCNICA, ADMINISTRATIVA, FINANCIERA Y AMBIENTAL, PARA EL MEJORAMIENTO Y MANTENIMIENTO DE LAS VÍAS: RICAURTE – HATOVIEJO CÓDIGO 78218 EN EL MUNICIPIO DE GUAMAL; Y SAN SEBASTIÁN - LOS GALVIS CÓDIGO 78141, EN EL MUNICIPIO DE SAN SEBASTIÁN DE BUENAVISTA, DEPARTAMENTO DEL MAGDALENA”.
B7: CUADRO No. 1
B8: RESULTADO FINAL DEL PROCESO DE EVALUACIÓN
B9: CONSECUTIVO | C9: PROPUESTA NÚMERO | D9: PROPONENTE | E9: CALIFICACIÓN OBTENIDA | F9: PUNTAJES OTORGADOS A LOS SIGUIENTES CRITERIOS:
F10: Equipo de trabajo | G10: Factor de sostenibilidad | H10: Apoyo a la industria nacional | I10: Vinculación de personas con discapacidad | J10: Emprendimientos y empresas mujeres | K10: Mipyme
B12: 1 | C12: 1 | D12: CONSORCIO CAP-SAS | E12: HÁBIL | F12: 10 | G12: 1 | H12: 20 | I12: 1 | J12: 0.25 | K12: 0.25
B13: 2 | C13: 2 | D13: BRAIN INGENIERIA VIAL SAS | E13: HÁBIL | F13: 10 | G13: 1 | H13: 20 | I13: 1 | J13: 0.25 | K13: 0.25
B14: 3 | C14: 3 | D14: CONSORCIO INTER CONSTR UCCION VIAL | E14: RECHAZADO | F14: 10 | G14: 1 | H14: 20 | I14: 1 | J14: 0.25 | K14: 0.25
B15: 4 | C15: 4 | D15: CONSORCIO INFRAVIAL | E15: HÁBIL | F15: 10 | G15: 1 | H15: 20 | I15: 1 | J15: 0.25 | K15: 0.25
B16: 5 | C16: 5 | D16: C&A PROFESIONALES DE IN GENIERÍA S.A.S | E16: HÁBIL | F16: 10 | G16: 1 | H16: 20 | I16: 1 | J16: 0.25 | K16: 0.25
B17: 6 | C17: 6 | D17: CONSORCIO VIAS NRT | E17: HÁBIL | F17: 10 | G17: 1 | H17: 20 | I17: 1 | J17: 0.25 | K17: 0.25
B18: 7 | C18: 7 | D18: INTERSA S.A. | E18: HÁBIL | F18: 10 | G18: 1 | H18: 20 | I18: 1 | J18: 0.25 | K18: 0.25
B19: 8 | C19: 8 | D19: PROESING | E19: HÁBIL | F19: 10 | G19: 1 | H19: 0 | I19: 0 | J19: 0 | K19: 0.25
B20: 9 | C20: 9 | D20: INTERVAL2 | E20: HÁBIL | F20: 10 | G20: 1 | H20: 20 | I20: 1 | J20: 0.25 | K20: 0.25
B21: 10 | C21: 10 | D21: CONINTER JMJ SAS | E21: HÁBIL | F21: 10 | G21: 1 | H21: 20 | I21: 1 | J21: 0.25 | K21: 0.25
B22: 11 | C22: 11 | D22: CONSORCIO METRO CINCO | E22: HÁBIL | F22: 10 | G22: 1 | H22: 20 | I22: 1 | J22: 0.25 | K22: 0.25
B23: 12 | C23: 12 | D23: Consorcio INTERING | E23: HÁBIL | F23: 10 | G23: 1 | H23: 20 | I23: 0 | J23: 0.25 | K23: 0.25
... B72: 61 | C72: 61 | D72: INTEGRAL MAGDALENA 78 | E72: HÁBIL | F72: 10 | G72: 1 | H72: 20 | I72: 1 | J72: 0.25 | K72: 0.25
B73: 84 | C73: 84 | F73: 20 | G73: 10 | K73: 1
B74: 85 | C74: 85 | F74: 20 | G74: 10 | K74: 1
B75: 86 | C75: 86 | F75: 20 | G75: 10 | K75: 0
B76: 87 | C76: 87 | F76: 20 | G76: 10 | K76: 1
B77: 88 | C77: 88 | F77: 20 | G77: 10 | K77: 1
B78: 89 | C78: 89 | F78: 20 | G78: 10 | K78: 1
B79: 90 | C79: 90 | F79: 20 | G79: 10 | K79: 1
B80: 91 | C80: 91 | F80: 20 | G80: 10 | K80: 0
B81: 92 | C81: 92 | F81: 20 | G81: 10 | K81: 1
B96: TOTALES | D96: HÁBIL | E96: =COUNTIF($E$12:$E$94,D96) -> 58
D97: NO HÁBIL | E97: =COUNTIF($E$12:$E$94,D97) -> 0
D98: RECHAZADO | E98: =COUNTIF($E$12:$E$94,D98) -> 3
D99: TOTAL | E99: =SUM(E96:E98) -> 61

Sheet Lista desplegable 1
A1: HÁBIL
A2: NO HÁBIL
A3: RECHAZADO

Sheet MEDIA GEOMETRICA
B1: ='RESUMEN-M (1)'!B1 -> INSTITUTO NACIONAL DE VÍAS
B2: ='RESUMEN-M (1)'!B2 -> DIRECCIÓN GENERAL
B3: ='RESUMEN-M (1)'!B3 -> DIRECCIÓN TERRITORIAL MAGDALENA
B4: ='RESUMEN-M (1)'!#REF! -> #REF!
B5: ='RESUMEN-M (1)'!B4 -> CONCURSO DE MÉRITOS ABIERTO No CMA-DT-MAG-001-2024
B6: ='RESUMEN-M (1)'!B5 -> OBJETO: “INTERVENTORIA TÉCNICA, ADMINISTRATIVA, FINANCIERA Y AMBIENTAL, PARA EL MEJORAMIENTO Y MANTENIMIENTO DE LAS VÍAS: RICAURTE – HATOVIEJO CÓDIGO 78218 EN EL MUNICIPIO DE GUAMAL; Y SAN SEBASTIÁN - LOS GALVIS CÓDIGO 78141, EN EL MUNICIPIO DE SAN SEBASTIÁN DE BUENAVISTA, DEPARTAMENTO DEL MAGDALENA”.
B7: ='RESUMEN-M (1)'!B6 -> 0
B8: CUADRO No. 3
B9: DETERMINACIÓN DEL PUNTAJE POR VALOR DE LA PROPUESTA
B10: MEDIA GEOMETRICA
B11: CONSECUTIVO | C11: PROP. No. | D11: PROPONENTE | E11: PROPUESTA ECONÓMICA | F11: PORCENTAJE DE OFRECIMIENTO MENOR AL PRECIO OFICIAL | G11: PUNTAJE ASIGNADO | AD11: =UPPER(P11) | AE11: =UPPER(Q11) | AF11: =UPPER(R11) | AG11: =UPPER(S11)
E12: ($)
D13: PROPUESTAS VALIDAS | E13: =COUNT(E17:E24) -> 0
G14: CONDICION
D15: PRESUPUESTO OFICIAL | E15: =#REF! -> #REF! | G15: admisible
G16: =DPRODUCT(G17:G26,"ofertas",G17:G26) -> #VALUE!
B17: 1 | C17: ='RESUMEN-M (1)'!C12 -> 1 | D17: ='RESUMEN-M (1)'!D12 -> CONSORCIO CAP-SAS | E17: =IF(ISTEXT(#REF!),"DESCARTADO",#REF! ) -> #REF! | F17: =IF(E17="DESCARTADO",,($E$15-E17)/$E$15) -> #REF! | G17: =IF(E17="DESCARTADO","",IF(E17<$E$34,$E$37*(1-(($E$34-E17)/$E$34)),$E$37*(1-2*(ABS($E$34-E17)/$E$34)))) -> #REF!
B18: 2 | C18: ='RESUMEN-M (1)'!C13 -> 2 | D18: ='RESUMEN-M (1)'!D13 -> BRAIN INGENIERIA VIAL SAS | E18: =IF(ISTEXT(#REF!),"DESCARTADO",#REF! ) -> #REF! | G18: =IF(E18="DESCARTADO","",IF(E18<$E$34,$E$37*(1-(($E$34-E18)/$E$34)),$E$37*(1-2*(ABS($E$34-E18)/$E$34)))) -> #REF!
B19: 3 | C19: ='RESUMEN-M (1)'!C14 -> 3 | D19: ='RESUMEN-M (1)'!D14 -> CONSORCIO INTER CONSTR UCCION VIAL | E19: =IF(ISTEXT(#REF!),"DESCARTADO",#REF! ) -> #REF! | G19: =IF(E19="DESCARTADO","",IF(E19<$E$34,$E$37*(1-(($E$34-E19)/$E$34)),$E$37*(1-2*(ABS($E$34-E19)/$E$34)))) -> #REF!
B20: 4 | C20: ='RESUMEN-M (1)'!#REF! -> #REF! | D20: ='RESUMEN-M (1)'!#REF! -> #REF! | E20: =IF(ISTEXT(#REF!),"DESCARTADO",#REF! ) -> #REF! | G20: =IF(E20="DESCARTADO","",IF(E20<$E$34,$E$37*(1-(($E$34-E20)/$E$34)),$E$37*(1-2*(ABS($E$34-E20)/$E$34)))) -> #REF!
B21: 5 | C21: ='RESUMEN-M (1)'!#REF! -> #REF! | D21: ='RESUMEN-M (1)'!#REF! -> #REF! | E21: =IF(ISTEXT(#REF!),"DESCARTADO",#REF! ) -> #REF! | G21: =IF(E21="DESCARTADO","",IF(E21<$E$34,$E$37*(1-(($E$34-E21)/$E$34)),$E$37*(1-2*(ABS($E$34-E21)/$E$34)))) -> #REF!
B22: 6 | C22: ='RESUMEN-M (1)'!#REF! -> #REF! | D22: ='RESUMEN-M (1)'!#REF! -> #REF! | E22: =IF(ISTEXT(#REF!),"DESCARTADO",#REF! ) -> #REF! | G22: =IF(E22="DESCARTADO","",IF(E22<$E$34,$E$37*(1-(($E$34-E22)/$E$34)),$E$37*(1-2*(ABS($E$34-E22)/$E$34)))) -> #REF!
B23: 7 | C23: ='RESUMEN-M (1)'!#REF! -> #REF! | D23: ='RESUMEN-M (1)'!#REF! -> #REF! | E23: =IF(ISTEXT(#REF!),"DESCARTADO",#REF! ) -> #REF! | G23: =IF(E23="DESCARTADO","",IF(E23<$E$34,$E$37*(1-(($E$34-E23)/$E$34)),$E$37*(1-2*(ABS($E$34-E23)/$E$34)))) -> #REF!
B24: 8 | C24: ='RESUMEN-M (1)'!#REF! -> #REF! | D24: ='RESUMEN-M (1)'!#REF! -> #REF! | E24: =IF(ISTEXT(#REF!),"DESCARTADO",#REF! ) -> #REF! | G24: =IF(E24="DESCARTADO","",IF(E24<$E$34,$E$37*(1-(($E$34-E24)/$E$34)),$E$37*(1-2*(ABS($E$34-E24)/$E$34)))) -> #REF!
AD28: 1 | AE28: 1 | AF28: =LOOKUP(AD28,AE28) -> 1
AD29: =AD28+1 -> 2 | AE29: 1 | AF29: =LOOKUP(AD29,AE29) -> 1
AD30: =AD29+1 -> 3 | AE30: 1 | AF30: =LOOKUP(AD30,AE30) -> 1
B31: PROPUESTAS VALIDAS=n | E31: =COUNT($E$17:$E$26) -> 0 | AD31: =AD30+1 -> 4 | AE31: 2 | AF31: =LOOKUP(AD31,AE31) -> 2
B32: NUMERO DE VECES A REPETIR EN PRESUPUESTO OFICIAL= nv | E32: =LOOKUP(E31,AD27:AD92,AE27:AE99) -> #N/A | AD32: =AD31+1 -> 5 | AE32: 2 | AF32: =LOOKUP(AD32,AE32) -> 2
B33: nv+n | E33: =E31+E32 -> #N/A | AD33: =AD32+1 -> 6 | AE33: 2 | AF33: =LOOKUP(AD33,AE33) -> 2
B34: MEDIA GEOMETRICA = Gpo | E34: =(POWER(POWER(E15,E32),1/E33))*((POWER(PRODUCT(E17:E26),1/E33))) -> #REF! | AD34: =AD33+1 -> 7 | AE34: 3 | AF34: =LOOKUP(AD34,AE34) -> 3
B35: MAXIMO | E35: =MAX(E17:E26) -> #REF! | AD35: =AD34+1 -> 8 | AE35: 3 | AF35: =LOOKUP(AD35,AE35) -> 3
B36: MINIMO | E36: =MIN(E17:E26) -> #REF! | AD36: =AD35+1 -> 9 | AE36: 3 | AF36: =LOOKUP(AD36,AE36) -> 3
B37: VALOR MAXIMO DE PUNTAJE PARA EL PROCESO | E37: 800 | F37: SEGÚN PROCESO | AD37: =AD36+1 -> 10 | AE37: 4 | AF37: =LOOKUP(AD37,AE37) -> 4
AD38: =AD37+1 -> 11 | AE38: 4 | AF38: =LOOKUP(AD38,AE38) -> 4
AD39: =AD38+1 -> 12 | AE39: 4 | AF39: =LOOKUP(AD39,AE39) -> 4
AD40: =AD39+1 -> 13 | AE40: 5 | AF40: =LOOKUP(AD40,AE40) -> 5
AD41: =AD40+1 -> 14 | AE41: 5 | AF41: =LOOKUP(AD41,AE41) -> 5
AD42: =AD41+1 -> 15 | AE42: 5 | AF42: =LOOKUP(AD42,AE42) -> 5
AD43: =AD42+1 -> 16 | AE43: 6 | AF43: =LOOKUP(AD43,AE43) -> 6
...

Sheet ELEGIBILIDAD M GEOMETRICA
B1: ='RESUMEN-M (1)'!B1 -> INSTITUTO NACIONAL DE VÍAS | P1: =B1 -> INSTITUTO NACIONAL DE VÍAS
B2: ='RESUMEN-M (1)'!B2 -> DIRECCIÓN GENERAL | P2: =B2 -> DIRECCIÓN GENERAL
B3: ='RESUMEN-M (1)'!B3 -> DIRECCIÓN TERRITORIAL MAGDALENA | P3: =B3 -> DIRECCIÓN TERRITORIAL MAGDALENA
B4: ='RESUMEN-M (1)'!#REF! -> #REF! | P4: =B4 -> #REF!
B5: ='RESUMEN-M (1)'!B4 -> CONCURSO DE MÉRITOS ABIERTO No CMA-DT-MAG-001-2024 | P5: =B5 -> CONCURSO DE MÉRITOS ABIERTO No CMA-DT-MAG-001-2024
B6: ='RESUMEN-M (1)'!B5 -> OBJETO: “INTERVENTORIA TÉCNICA, ADMINISTRATIVA, FINANCIERA Y AMBIENTAL, PARA EL MEJORAMIENTO Y MANTENIMIENTO DE LAS VÍAS: RICAURTE – HATOVIEJO CÓDIGO 78218 EN EL MUNICIPIO DE GUAMAL; Y SAN SEBASTIÁN - LOS GALVIS CÓDIGO 78141, EN EL MUNICIPIO DE SAN SEBASTIÁN DE BUENAVISTA, DEPARTAMENTO DEL MAGDALENA”. | P6: =B6 -> OBJETO: “INTERVENTORIA TÉCNICA, ADMINISTRATIVA, FINANCIERA Y AMBIENTAL, PARA EL MEJORAMIENTO Y MANTENIMIENTO DE LAS VÍAS: RICAURTE – HATOVIEJO CÓDIGO 78218 EN EL MUNICIPIO DE GUAMAL; Y SAN SEBASTIÁN - LOS GALVIS CÓDIGO 78141, EN EL MUNICIPIO DE SAN SEBASTIÁN DE BUENAVISTA, DEPARTAMENTO DEL MAGDALENA”.
B7: ='RESUMEN-M (1)'!B6 -> 0 | P7: =B7 -> 0
B8: CUADRO No. 4 | P8: CUADRO No. 5
B9: RESÚMEN DE LA PONDERACIÓN OTORGADA
P10: ORDEN DE ELEGIBILIDAD
O11: JERARQUIA
B12: CONSECUTIVO | C12: PROPUESTA NUMERO | D12: PROPONENTE | E12: PROPUESTA ECONÓMICA | F12: DIFERENCIA RESPECTO A LA MEDIA $ | G12: CONDICIÓN FINAL | H12: PUNTAJES OTORGADOS A LOS SIGUIENTES CRITERIOS: | L12: PUNTAJE DEFINITIVO | M12: CIFRA DE AJUSTE
E13: ($) | H13: Precio | I13: Industria Nacional | J13: Reincorporados | K13: Condiciones Técnicas Adicionales.Y/0 FACTOR DE CALIDAD | P13: =VLOOKUP(Q16,D16:E25,2,FALSE) -> #N/A
D14: PROPUESTAS VÁLIDAS | E14: =COUNT(E16:E25) -> 0 | H14: ='MEDIA GEOMETRICA'!E37 -> 800 | I14: 100 | K14: 100 | L14: =H14+I14+J14+K14 -> 1000 | P14: No. | Q14: PROPONENTE | R14: PUNTAJE
B16: 1 | C16: ='RESUMEN-M (1)'!C12 -> 1 | D16: ='RESUMEN-M (1)'!D12 -> CONSORCIO CAP-SAS | E16: ='MEDIA GEOMETRICA'!E17 -> #REF! | F16: =ABS('MEDIA GEOMETRICA'!$E$34-'MEDIA GEOMETRICA'!E17) -> #REF! | G16: =IF(E16="DESCARTADO","DESCARTADO","ADMISIBLE") -> #REF! | H16: =VLOOKUP($D16,'MEDIA GEOMETRICA'!$D$17:$G$26,4,FALSE) -> #REF! | I16: =VLOOKUP($D16,'RESUMEN-M (1)'!$D$12:$G$16,3,FALSE) -> 10 | K16: =VLOOKUP($D16,'RESUMEN-M (1)'!$D$12:$G$16,5,FALSE) -> #REF! | L16: =IF(E16="DESCARTADO",-M16,H16+I16+J16+K16+M16) -> #REF! | O16: =RANK(L16,$L$16:$L$23,0) -> #REF! | P16: 1 | Q16: =IF(P16="","",OFFSET($D$15,MATCH(B16,$O$16:$O$23,0),0)) -> #N/A | R16: =IF(Q16="","",VLOOKUP(Q16,$D$16:$L$25,9,FALSE)) -> #N/A
B17: 2 | C17: ='RESUMEN-M (1)'!C13 -> 2 | D17: ='RESUMEN-M (1)'!D13 -> BRAIN INGENIERIA VIAL SAS | E17: ='MEDIA GEOMETRICA'!E18 -> #REF! | F17: =ABS('MEDIA GEOMETRICA'!$E$34-'MEDIA GEOMETRICA'!E18) -> #REF! | G17: =IF(E17="DESCARTADO","DESCARTADO","ADMISIBLE") -> #REF! | H17: =VLOOKUP($D17,'MEDIA GEOMETRICA'!$D$17:$G$26,4,FALSE) -> #REF! | I17: =VLOOKUP($D17,'RESUMEN-M (1)'!$D$12:$G$16,3,FALSE) -> 10 | K17: =VLOOKUP($D17,'RESUMEN-M (1)'!$D$12:$G$16,5,FALSE) -> #REF! | L17: =IF(E17="DESCARTADO",-M17,H17+I17+J17+K17+M17) -> #REF! | O17: =RANK(L17,$L$16:$L$23,0) -> #REF! | P17: 2 | Q17: =IF(P17="","",OFFSET($D$15,MATCH(B17,$O$16:$O$23,0),0)) -> #N/A | R17: =IF(Q17="","",VLOOKUP(Q17,$D$16:$L$25,9,FALSE)) -> #N/A
B18: 3 | C18: ='RESUMEN-M (1)'!C14 -> 3 | D18: ='RESUMEN-M (1)'!D14 -> CONSORCIO INTER CONSTR UCCION VIAL | E18: ='MEDIA GEOMETRICA'!E19 -> #REF! | F18: =ABS('MEDIA GEOMETRICA'!$E$34-'MEDIA GEOMETRICA'!E19) -> #REF! | G18: =IF(E18="DESCARTADO","DESCARTADO","ADMISIBLE") -> #REF! | H18: =VLOOKUP($D18,'MEDIA GEOMETRICA'!$D$17:$G$26,4,FALSE) -> #REF! | I18: =VLOOKUP($D18,'RESUMEN-M (1)'!$D$12:$G$16,3,FALSE) -> 10 | K18: =VLOOKUP($D18,'RESUMEN-M (1)'!$D$12:$G$16,5,FALSE) -> #REF! | L18: =IF(E18="DESCARTADO",-M18,H18+I18+J18+K18+M18) -> #REF! | O18: =RANK(L18,$L$16:$L$23,0) -> #REF! | P18: 3 | Q18: =IF(P18="","",OFFSET($D$15,MATCH(B18,$O$16:$O$23,0),0)) -> #N/A | R18: =IF(Q18="","",VLOOKUP(Q18,$D$16:$L$25,9,FALSE)) -> #N/A
B19: 4 | C19: ='RESUMEN-M (1)'!#REF! -> #REF! | D19: ='RESUMEN-M (1)'!#REF! -> #REF! | E19: ='MEDIA GEOMETRICA'!E20 -> #REF! | F19: =ABS('MEDIA GEOMETRICA'!$E$34-'MEDIA GEOMETRICA'!E20) -> #REF! | G19: =IF(E19="DESCARTADO","DESCARTADO","ADMISIBLE") -> #REF! | H19: =VLOOKUP($D19,'MEDIA GEOMETRICA'!$D$17:$G$26,4,FALSE) -> #REF! | I19: =VLOOKUP($D19,'RESUMEN-M (1)'!$D$12:$G$16,3,FALSE) -> #REF! | K19: =VLOOKUP($D19,'RESUMEN-M (1)'!$D$12:$G$16,5,FALSE) -> #REF! | L19: =IF(E19="DESCARTADO",-M19,H19+I19+J19+K19+M19) -> #REF! | O19: =RANK(L19,$L$16:$L$23,0) -> #REF! | P19: 4 | Q19: =IF(P19="","",OFFSET($D$15,MATCH(B19,$O$16:$O$23,0),0)) -> #N/A | R19: =IF(Q19="","",VLOOKUP(Q19,$D$16:$L$25,9,FALSE)) -> #N/A
B20: 5 | C20: ='RESUMEN-M (1)'!#REF! -> #REF! | D20: ='RESUMEN-M (1)'!#REF! -> #REF! | E20: ='MEDIA GEOMETRICA'!E21 -> #REF! | F20: =ABS('MEDIA GEOMETRICA'!$E$34-'MEDIA GEOMETRICA'!E21) -> #REF! | G20: =IF(E20="DESCARTADO","DESCARTADO","ADMISIBLE") -> #REF! | H20: =VLOOKUP($D20,'MEDIA GEOMETRICA'!$D$17:$G$26,4,FALSE) -> #REF! | I20: =VLOOKUP($D20,'RESUMEN-M (1)'!$D$12:$G$16,3,FALSE) -> #REF! | K20: =VLOOKUP($D20,'RESUMEN-M (1)'!$D$12:$G$16,5,FALSE) -> #REF! | L20: =IF(E20="DESCARTADO",-M20,H20+I20+J20+K20+M20) -> #REF! | O20: =RANK(L20,$L$16:$L$23,0) -> #REF! | P20: 5 | Q20: =IF(P20="","",OFFSET($D$15,MATCH(B20,$O$16:$O$23,0),0)) -> #N/A | R20: =IF(Q20="","",VLOOKUP(Q20,$D$16:$L$25,9,FALSE)) -> #N/A
B21: 6 | C21: ='RESUMEN-M (1)'!#REF! -> #REF! | D21: ='RESUMEN-M (1)'!#REF! -> #REF! | E21: ='MEDIA GEOMETRICA'!E22 -> #REF! | F21: =ABS('MEDIA GEOMETRICA'!$E$34-'MEDIA GEOMETRICA'!E22) -> #REF! | G21: =IF(E21="DESCARTADO","DESCARTADO","ADMISIBLE") -> #REF! | H21: =VLOOKUP($D21,'MEDIA GEOMETRICA'!$D$17:$G$26,4,FALSE) -> #REF! | I21: =VLOOKUP($D21,'RESUMEN-M (1)'!$D$12:$G$16,3,FALSE) -> #REF! | K21: =VLOOKUP($D21,'RESUMEN-M (1)'!$D$12:$G$16,5,FALSE) -> #REF! | L21: =IF(E21="DESCARTADO",-M21,H21+I21+J21+K21+M21) -> #REF! | O21: =RANK(L21,$L$16:$L$23,0) -> #REF! | P21: 6 | Q21: =IF(P21="","",OFFSET($D$15,MATCH(B21,$O$16:$O$23,0),0)) -> #N/A | R21: =IF(Q21="","",VLOOKUP(Q21,$D$16:$L$25,9,FALSE)) -> #N/A
B22: 7 | C22: ='RESUMEN-M (1)'!#REF! -> #REF! | D22: ='RESUMEN-M (1)'!#REF! -> #REF! | E22: ='MEDIA GEOMETRICA'!E23 -> #REF! | F22: =ABS('MEDIA GEOMETRICA'!$E$34-'MEDIA GEOMETRICA'!E23) -> #REF! | G22: =IF(E22="DESCARTADO","DESCARTADO","ADMISIBLE") -> #REF! | H22: =VLOOKUP($D22,'MEDIA GEOMETRICA'!$D$17:$G$26,4,FALSE) -> #REF! | I22: =VLOOKUP($D22,'RESUMEN-M (1)'!$D$12:$G$16,3,FALSE) -> #REF! | K22: =VLOOKUP($D22,'RESUMEN-M (1)'!$D$12:$G$16,5,FALSE) -> #REF! | L22: =IF(E22="DESCARTADO",-M22,H22+I22+J22+K22+M22) -> #REF! | O22: =RANK(L22,$L$16:$L$23,0) -> #REF! | P22: 7 | Q22: =IF(P22="","",OFFSET($D$15,MATCH(B22,$O$16:$O$23,0),0)) -> #N/A | R22: =IF(Q22="","",VLOOKUP(Q22,$D$16:$L$25,9,FALSE)) -> #N/A
B23: 8 | C23: ='RESUMEN-M (1)'!#REF! -> #REF! | D23: ='RESUMEN-M (1)'!#REF! -> #REF! | E23: ='MEDIA GEOMETRICA'!E24 -> #REF! | F23: =ABS('MEDIA GEOMETRICA'!$E$34-'MEDIA GEOMETRICA'!E24) -> #REF! | G23: =IF(E23="DESCARTADO","DESCARTADO","ADMISIBLE") -> #REF! | H23: =VLOOKUP($D23,'MEDIA GEOMETRICA'!$D$17:$G$26,4,FALSE) -> #REF! | I23: =VLOOKUP($D23,'RESUMEN-M (1)'!$D$12:$G$16,3,FALSE) -> #REF! | K23: =VLOOKUP($D23,'RESUMEN-M (1)'!$D$12:$G$16,5,FALSE) -> #REF! | L23: =IF(E23="DESCARTADO",-M23,H23+I23+J23+K23+M23) -> #REF! | O23: =RANK(L23,$L$16:$L$23,0) -> #REF! | P23: 8 | Q23: =IF(P23="","",OFFSET($D$15,MATCH(B23,$O$16:$O$23,0),0)) -> #N/A | R23: =IF(Q23="","",VLOOKUP(Q23,$D$16:$L$25,9,FALSE)) -> #N/A
P28: =IF(P13="DESCARTADO","MODULO DESIERTO","") -> #N/A

Sheet MEDIA ARITMETICA
B1: ='RESUMEN-M (1)'!B1 -> INSTITUTO NACIONAL DE VÍAS
B2: ='RESUMEN-M (1)'!B2 -> DIRECCIÓN GENERAL
B3: ='RESUMEN-M (1)'!B3 -> DIRECCIÓN TERRITORIAL MAGDALENA
B4: ='RESUMEN-M (1)'!#REF! -> #REF!
B5: ='RESUMEN-M (1)'!B4 -> CONCURSO DE MÉRITOS ABIERTO No CMA-DT-MAG-001-2024
B6: ='RESUMEN-M (1)'!B5 -> OBJETO: “INTERVENTORIA TÉCNICA, ADMINISTRATIVA, FINANCIERA Y AMBIENTAL, PARA EL MEJORAMIENTO Y MANTENIMIENTO DE LAS VÍAS: RICAURTE – HATOVIEJO CÓDIGO 78218 EN EL MUNICIPIO DE GUAMAL; Y SAN SEBASTIÁN - LOS GALVIS CÓDIGO 78141, EN EL MUNICIPIO DE SAN SEBASTIÁN DE BUENAVISTA, DEPARTAMENTO DEL MAGDALENA”.
B7: ='RESUMEN-M (1)'!B6 -> 0
B8: CUADRO No. 3
B9: DETERMINACIÓN DEL PUNTAJE POR VALOR DE LA PROPUESTA
B10: MEDIA ARITMETICA
B11: CONSECUTIVO | C11: PROP. No. | D11: PROPONENTE | E11: PROPUESTA ECONÓMICA | F11: DIFERENCIA ENTRE LA MEDIA Y LA PROPUESTA | G11: PORCENTAJE DE OFRECIMIENTO MENOR AL PRECIO OFICIAL | H11: PUNTAJE POR PRECIO OFRECIDO | I11: CON RESPECTO A PRESUPUESTO OFICIAL | J11: CON RESPECTO A PRECIO DE REFERENCIA ( 1 ) | K11: CON RESPECTO A PRECIO DE REFERENCIA ( 2 ) | AE11: =UPPER(Q11) | AF11: =UPPER(R11) | AG11: =UPPER(S11) | AH11: =UPPER(T11)
E12: ($)
D13: PROPUESTAS VALIDAS | E13: =COUNT(E17:E27) -> 0
F14: Porcentaje mejora | H14: CONDICION
D15: PRESUPUESTO OFICIAL | E15: =#REF! -> #REF! | F15: <0 | H15: admisible
B17: 1 | C17: ='RESUMEN-M (1)'!C12 -> 1 | D17: ='RESUMEN-M (1)'!D12 -> CONSORCIO CAP-SAS | E17: =IF(ISTEXT(#REF!),"DESCARTADO",#REF! ) -> #REF! | F17: =IF(E17="DESCARTADO","DESCARTADO",ABS((E31-E17))) -> #REF! | G17: =IF(F17="DESCARTADO","DESCARTADO",($E$15-E17)/$E$15) -> #REF! | H17: =IF(E17="DESCARTADO","",IF(E17<$E$31,$E$32*(1-(($E$31-E17)/$E$31)),$E$32*(1-2*(ABS($E$31-E17)/$E$31)))) -> #REF! | I17: =IF(#REF!<>"",#REF!/$E$15,"") -> #REF! | J17: =IF(#REF!<>"",#REF!/$E$33,"") -> #REF! | K17: =IF(#REF!<>"",#REF!/#REF!,"") -> #REF!
B18: 2 | C18: ='RESUMEN-M (1)'!C13 -> 2 | D18: ='RESUMEN-M (1)'!D13 -> BRAIN INGENIERIA VIAL SAS | E18: =IF(ISTEXT(#REF!),"DESCARTADO",#REF! ) -> #REF! | H18: =IF(E18="DESCARTADO","",IF(E18<$E$31,$E$32*(1-(($E$31-E18)/$E$31)),$E$32*(1-2*(ABS($E$31-E18)/$E$31)))) -> #REF!
B19: 3 | C19: ='RESUMEN-M (1)'!C14 -> 3 | D19: ='RESUMEN-M (1)'!D14 -> CONSORCIO INTER CONSTR UCCION VIAL | E19: =IF(ISTEXT(#REF!),"DESCARTADO",#REF! ) -> #REF! | H19: =IF(E19="DESCARTADO","",IF(E19<$E$31,$E$32*(1-(($E$31-E19)/$E$31)),$E$32*(1-2*(ABS($E$31-E19)/$E$31)))) -> #REF!
B20: 4 | C20: ='RESUMEN-M (1)'!#REF! -> #REF! | D20: ='RESUMEN-M (1)'!#REF! -> #REF! | E20: =IF(ISTEXT(#REF!),"DESCARTADO",#REF! ) -> #REF! | H20: =IF(E20="DESCARTADO","",IF(E20<$E$31,$E$32*(1-(($E$31-E20)/$E$31)),$E$32*(1-2*(ABS($E$31-E20)/$E$31)))) -> #REF!
B21: 5 | C21: ='RESUMEN-M (1)'!#REF! -> #REF! | D21: ='RESUMEN-M (1)'!#REF! -> #REF! | E21: =IF(ISTEXT(#REF!),"DESCARTADO",#REF! ) -> #REF! | H21: =IF(E21="DESCARTADO","",IF(E21<$E$31,$E$32*(1-(($E$31-E21)/$E$31)),$E$32*(1-2*(ABS($E$31-E21)/$E$31)))) -> #REF!
B22: 6 | C22: ='RESUMEN-M (1)'!#REF! -> #REF! | D22: ='RESUMEN-M (1)'!#REF! -> #REF! | E22: =IF(ISTEXT(#REF!),"DESCARTADO",#REF! ) -> #REF! | H22: =IF(E22="DESCARTADO","",IF(E22<$E$31,$E$32*(1-(($E$31-E22)/$E$31)),$E$32*(1-2*(ABS($E$31-E22)/$E$31)))) -> #REF!
B23: 7 | C23: ='RESUMEN-M (1)'!#REF! -> #REF! | D23: ='RESUMEN-M (1)'!#REF! -> #REF! | E23: =IF(ISTEXT(#REF!),"DESCARTADO",#REF! ) -> #REF! | H23: =IF(E23="DESCARTADO","",IF(E23<$E$31,$E$32*(1-(($E$31-E23)/$E$31)),$E$32*(1-2*(ABS($E$31-E23)/$E$31)))) -> #REF!
B24: 8 | C24: ='RESUMEN-M (1)'!#REF! -> #REF! | D24: ='RESUMEN-M (1)'!#REF! -> #REF! | E24: =IF(ISTEXT(#REF!),"DESCARTADO",#REF! ) -> #REF! | H24: =IF(E24="DESCARTADO","",IF(E24<$E$31,$E$32*(1-(($E$31-E24)/$E$31)),$E$32*(1-2*(ABS($E$31-E24)/$E$31)))) -> #REF!
F28: PORCENTAJE DE MEJORA | H28: ESTADO PROPUESTA DE ACUERDO AL RANGO
F29: <0 | H29: admisible
B31: Media Aritmética =X1 | E31: =IF(E13=0,0,AVERAGE(E17:E27)) -> 0 | F31: CANTIDAD
B32: VALOR DE LA PROPUESTA PARA ESTE PROCESO | E32: 800
B33: VALOR MAXIMO | E33: =MAX(E17:E27) -> #REF! | F33: =COUNTIF(E17:E27,"DESCARTADO")+COUNTIF(E17:E27,"ES MENOR Q' LI. INFER.")+COUNTIF(E17:E27,"ES MAYOR Q' LIM. SUPER.") -> 0
B34: VALOR MINIMO | E34: =MIN(E16:E27) -> #REF!

Sheet ELEGIBILIDAD MEDIA ARITMETICA)
B1: ='RESUMEN-M (1)'!B1 -> INSTITUTO NACIONAL DE VÍAS | Q1: =B1 -> INSTITUTO NACIONAL DE VÍAS
B2: ='RESUMEN-M (1)'!B2 -> DIRECCIÓN GENERAL | Q2: =B2 -> DIRECCIÓN GENERAL
B3: ='RESUMEN-M (1)'!B3 -> DIRECCIÓN TERRITORIAL MAGDALENA | Q3: =B3 -> DIRECCIÓN TERRITORIAL MAGDALENA
B4: ='RESUMEN-M (1)'!#REF! -> #REF! | Q4: =B4 -> #REF!
B5: ='RESUMEN-M (1)'!B4 -> CONCURSO DE MÉRITOS ABIERTO No CMA-DT-MAG-001-2024 | Q5: =B5 -> CONCURSO DE MÉRITOS ABIERTO No CMA-DT-MAG-001-2024
B6: ='RESUMEN-M (1)'!B5 -> OBJETO: “INTERVENTORIA TÉCNICA, ADMINISTRATIVA, FINANCIERA Y AMBIENTAL, PARA EL MEJORAMIENTO Y MANTENIMIENTO DE LAS VÍAS: RICAURTE – HATOVIEJO CÓDIGO 78218 EN EL MUNICIPIO DE GUAMAL; Y SAN SEBASTIÁN - LOS GALVIS CÓDIGO 78141, EN EL MUNICIPIO DE SAN SEBASTIÁN DE BUENAVISTA, DEPARTAMENTO DEL MAGDALENA”. | Q6: =B6 -> OBJETO: “INTERVENTORIA TÉCNICA, ADMINISTRATIVA, FINANCIERA Y AMBIENTAL, PARA EL MEJORAMIENTO Y MANTENIMIENTO DE LAS VÍAS: RICAURTE – HATOVIEJO CÓDIGO 78218 EN EL MUNICIPIO DE GUAMAL; Y SAN SEBASTIÁN - LOS GALVIS CÓDIGO 78141, EN EL MUNICIPIO DE SAN SEBASTIÁN DE BUENAVISTA, DEPARTAMENTO DEL MAGDALENA”.
B7: ='RESUMEN-M (1)'!B6 -> 0 | Q7: =B7 -> 0
B8: CUADRO No. 4 | Q8: CUADRO No. 5
B9: RESÚMEN DE LA PONDERACIÓN OTORGADA
Q10: ORDEN DE ELEGIBILIDAD
P11: JERARQUIA
B12: CONSECUTIVO | C12: PROPUESTA NUMERO | D12: PROPONENTE | E12: PROPUESTA ECONÓMICA | F12: PORCENTAJE DE MEJORA | G12: CONDICIÓN FINAL | H12: PUNTAJES OTORGADOS A LOS SIGUIENTES CRITERIOS: | L12: PUNTAJE DEFINITIVO | M12: CIFRA DE AJUSTE
E13: ($) | F13: (%) | H13: Precio | I13: Industria Nacional | J13: Reincorporados | K13: Condiciones Técnicas Adicionales. | Q13: =VLOOKUP(R16,D16:E28,2,FALSE) -> #N/A
D14: PROPUESTAS VÁLIDAS | E14: =COUNT(E16:E28) -> 0 | H14: ='MEDIA ARITMETICA'!E32 -> 800 | I14: 100 | K14: 100 | L14: =H14+I14+J14+K14 -> 1000 | Q14: No. | R14: PROPONENTE | S14: PUNTAJE
B16: 1 | C16: ='RESUMEN-M (1)'!C12 -> 1 | D16: ='RESUMEN-M (1)'!D12 -> CONSORCIO CAP-SAS | E16: ='MEDIA ARITMETICA'!E17 -> #REF! | F16: ='MEDIA ARITMETICA'!F17 -> #REF! | H16: =VLOOKUP($D16,'MEDIA ARITMETICA'!$D$13:$I$27,5,FALSE) -> #REF! | I16: =VLOOKUP($D16,'RESUMEN-M (1)'!$D$12:$G$94,3,FALSE) -> 10 | K16: =VLOOKUP($D16,'RESUMEN-M (1)'!$D$12:$G$94,5,FALSE) -> #REF! | L16: =IF(E16="DESCARTADO",-M16,H16+I16+J16+K16+M16) -> #REF! | P16: =RANK(L16,$L$16:$L$23,0) -> #REF! | Q16: 1 | R16: =IF(Q16="","",OFFSET($D$15,MATCH(B16,$P$16:$P$28,0),0)) -> #N/A | S16: =IF(R16="","",VLOOKUP(R16,$D$16:$L$28,9,FALSE)) -> #N/A
B17: 2 | C17: ='RESUMEN-M (1)'!C13 -> 2 | D17: ='RESUMEN-M (1)'!D13 -> BRAIN INGENIERIA VIAL SAS | E17: ='MEDIA ARITMETICA'!E18 -> #REF! | H17: =VLOOKUP($D17,'MEDIA ARITMETICA'!$D$13:$I$27,5,FALSE) -> #REF! | I17: =VLOOKUP($D17,'RESUMEN-M (1)'!$D$12:$G$94,3,FALSE) -> 10 | K17: =VLOOKUP($D17,'RESUMEN-M (1)'!$D$12:$G$94,5,FALSE) -> #REF! | L17: =IF(E17="DESCARTADO",-M17,H17+I17+J17+K17+M17) -> #REF! | P17: =RANK(L17,$L$16:$L$23,0) -> #REF! | Q17: 2 | R17: =IF(Q17="","",OFFSET($D$15,MATCH(B17,$P$16:$P$28,0),0)) -> #N/A | S17: =IF(R17="","",VLOOKUP(R17,$D$16:$L$28,9,FALSE)) -> #N/A
B18: 3 | C18: ='RESUMEN-M (1)'!C14 -> 3 | D18: ='RESUMEN-M (1)'!D14 -> CONSORCIO INTER CONSTR UCCION VIAL | E18: ='MEDIA ARITMETICA'!E19 -> #REF! | H18: =VLOOKUP($D18,'MEDIA ARITMETICA'!$D$13:$I$27,5,FALSE) -> #REF! | I18: =VLOOKUP($D18,'RESUMEN-M (1)'!$D$12:$G$94,3,FALSE) -> 10 | K18: =VLOOKUP($D18,'RESUMEN-M (1)'!$D$12:$G$94,5,FALSE) -> #REF! | L18: =IF(E18="DESCARTADO",-M18,H18+I18+J18+K18+M18) -> #REF! | P18: =RANK(L18,$L$16:$L$23,0) -> #REF! | Q18: 3 | R18: =IF(Q18="","",OFFSET($D$15,MATCH(B18,$P$16:$P$28,0),0)) -> #N/A | S18: =IF(R18="","",VLOOKUP(R18,$D$16:$L$28,9,FALSE)) -> #N/A
B19: 4 | C19: ='RESUMEN-M (1)'!#REF! -> #REF! | D19: ='RESUMEN-M (1)'!#REF! -> #REF! | E19: ='MEDIA ARITMETICA'!E20 -> #REF! | H19: =VLOOKUP($D19,'MEDIA ARITMETICA'!$D$13:$I$27,5,FALSE) -> #REF! | I19: =VLOOKUP($D19,'RESUMEN-M (1)'!$D$12:$G$94,3,FALSE) -> #REF! | K19: =VLOOKUP($D19,'RESUMEN-M (1)'!$D$12:$G$94,5,FALSE) -> #REF! | L19: =IF(E19="DESCARTADO",-M19,H19+I19+J19+K19+M19) -> #REF! | P19: =RANK(L19,$L$16:$L$23,0) -> #REF! | Q19: 4 | R19: =IF(Q19="","",OFFSET($D$15,MATCH(B19,$P$16:$P$28,0),0)) -> #N/A | S19: =IF(R19="","",VLOOKUP(R19,$D$16:$L$28,9,FALSE)) -> #N/A
B20: 5 | C20: ='RESUMEN-M (1)'!#REF! -> #REF! | D20: ='RESUMEN-M (1)'!#REF! -> #REF! | E20: ='MEDIA ARITMETICA'!E21 -> #REF! | H20: =VLOOKUP($D20,'MEDIA ARITMETICA'!$D$13:$I$27,5,FALSE) -> #REF! | I20: =VLOOKUP($D20,'RESUMEN-M (1)'!$D$12:$G$94,3,FALSE) -> #REF! | K20: =VLOOKUP($D20,'RESUMEN-M (1)'!$D$12:$G$94,5,FALSE) -> #REF! | L20: =IF(E20="DESCARTADO",-M20,H20+I20+J20+K20+M20) -> #REF! | P20: =RANK(L20,$L$16:$L$23,0) -> #REF! | Q20: 5 | R20: =IF(Q20="","",OFFSET($D$15,MATCH(B20,$P$16:$P$28,0),0)) -> #N/A | S20: =IF(R20="","",VLOOKUP(R20,$D$16:$L$28,9,FALSE)) -> #N/A
B21: 6 | C21: ='RESUMEN-M (1)'!#REF! -> #REF! | D21: ='RESUMEN-M (1)'!#REF! -> #REF! | E21: ='MEDIA ARITMETICA'!E22 -> #REF! | H21: =VLOOKUP($D21,'MEDIA ARITMETICA'!$D$13:$I$27,5,FALSE) -> #REF! | I21: =VLOOKUP($D21,'RESUMEN-M (1)'!$D$12:$G$94,3,FALSE) -> #REF! | K21: =VLOOKUP($D21,'RESUMEN-M (1)'!$D$12:$G$94,5,FALSE) -> #REF! | L21: =IF(E21="DESCARTADO",-M21,H21+I21+J21+K21+M21) -> #REF! | P21: =RANK(L21,$L$16:$L$23,0) -> #REF! | Q21: 6 | R21: =IF(Q21="","",OFFSET($D$15,MATCH(B21,$P$16:$P$28,0),0)) -> #N/A | S21: =IF(R21="","",VLOOKUP(R21,$D$16:$L$28,9,FALSE)) -> #N/A
B22: 7 | C22: ='RESUMEN-M (1)'!#REF! -> #REF! | D22: ='RESUMEN-M (1)'!#REF! -> #REF! | E22: ='MEDIA ARITMETICA'!E23 -> #REF! | H22: =VLOOKUP($D22,'MEDIA ARITMETICA'!$D$13:$I$27,5,FALSE) -> #REF! | I22: =VLOOKUP($D22,'RESUMEN-M (1)'!$D$12:$G$94,3,FALSE) -> #REF! | K22: =VLOOKUP($D22,'RESUMEN-M (1)'!$D$12:$G$94,5,FALSE) -> #REF! | L22: =IF(E22="DESCARTADO",-M22,H22+I22+J22+K22+M22) -> #REF! | P22: =RANK(L22,$L$16:$L$23,0) -> #REF! | Q22: 7 | R22: =IF(Q22="","",OFFSET($D$15,MATCH(B22,$P$16:$P$28,0),0)) -> #N/A | S22: =IF(R22="","",VLOOKUP(R22,$D$16:$L$28,9,FALSE)) -> #N/A
B23: 8 | C23: ='RESUMEN-M (1)'!#REF! -> #REF! | D23: ='RESUMEN-M (1)'!#REF! -> #REF! | E23: ='MEDIA ARITMETICA'!E24 -> #REF! | H23: =VLOOKUP($D23,'MEDIA ARITMETICA'!$D$13:$I$27,5,FALSE) -> #REF! | I23: =VLOOKUP($D23,'RESUMEN-M (1)'!$D$12:$G$94,3,FALSE) -> #REF! | K23: =VLOOKUP($D23,'RESUMEN-M (1)'!$D$12:$G$94,5,FALSE) -> #REF! | L23: =IF(E23="DESCARTADO",-M23,H23+I23+J23+K23+M23) -> #REF! | P23: =RANK(L23,$L$16:$L$23,0) -> #REF! | Q23: 8 | R23: =IF(Q23="","",OFFSET($D$15,MATCH(B23,$P$16:$P$28,0),0)) -> #N/A | S23: =IF(R23="","",VLOOKUP(R23,$D$16:$L$28,9,FALSE)) -> #N/A
P24: =RANK(L24,$L$16:$L$22,0) -> #REF! | Q24: 9 | R24: =IF(Q24="","",OFFSET($D$15,MATCH(B24,$P$16:$P$28,0),0)) -> #N/A | S24: =IF(R24="","",VLOOKUP(R24,$D$16:$L$28,9,FALSE)) -> #N/A
P25: =RANK(L25,$L$16:$L$22,0) -> #REF! | S25: =IF(R25="","",VLOOKUP(R25,$D$16:$L$28,9,FALSE))
P26: =RANK(L26,$L$16:$L$22,0) -> #REF! | S26: =IF(R26="","",VLOOKUP(R26,$D$16:$L$28,9,FALSE))
P27: =RANK(L27,$L$16:$L$22,0) -> #REF!
P28: =RANK(L28,$L$16:$L$22,0) -> #REF!
P29: =RANK(L29,$L$16:$L$22,0) -> #REF!
P30: =RANK(L30,$L$16:$L$22,0) -> #REF!
P31: =RANK(L31,$L$16:$L$22,0) -> #REF! | Q31: SI(N19="","",DESREF($C$15,COINCIDIR(B19,$M$16:$M$19,0),0))

Sheet PROM-CTOS EXP
A1: ='RESUMEN-M (1)'!B1 -> INSTITUTO NACIONAL DE VÍAS
A2: ='RESUMEN-M (1)'!B2 -> DIRECCIÓN GENERAL
A3: ='RESUMEN-M (1)'!B3 -> DIRECCIÓN TERRITORIAL MAGDALENA
A4: ='RESUMEN-M (1)'!B4 -> CONCURSO DE MÉRITOS ABIERTO No CMA-DT-MAG-001-2024
A5: ='RESUMEN-M (1)'!B5 -> OBJETO: “INTERVENTORIA TÉCNICA, ADMINISTRATIVA, FINANCIERA Y AMBIENTAL, PARA EL MEJORAMIENTO Y MANTENIMIENTO DE LAS VÍAS: RICAURTE – HATOVIEJO CÓDIGO 78218 EN EL MUNICIPIO DE GUAMAL; Y SAN SEBASTIÁN - LOS GALVIS CÓDIGO 78141, EN EL MUNICIPIO DE SAN SEBASTIÁN DE BUENAVISTA, DEPARTAMENTO DEL MAGDALENA”.
A6: PROP. No. | B6: PROPONENTE | D6: CONTRATOS VALIDOS | J6: PROMEDIO CONTRATOS VALIDOS
C7: CALIFICACION OBTENIDA | D7: (SMMLV) | J7: (SMMLV)
D8: 1 | E8: 2 | F8: 3 | G8: 4 | H8: 5 | I8: 6
A9: 1 | B9: =VLOOKUP(A9,'RESUMEN-M (1)'!B$12:D$93,3,FALSE) -> CONSORCIO CAP-SAS | C9: ='RESUMEN-M (1)'!E12 -> HÁBIL | D9: 687.56 | E9: 30.66 | J9: =IF(C9="HÁBIL",AVERAGE(D9:I9),C9) -> 359.11
A10: 2 | B10: =VLOOKUP(A10,'RESUMEN-M (1)'!B$12:D$93,3,FALSE) -> BRAIN INGENIERIA VIAL SAS | C10: ='RESUMEN-M (1)'!E13 -> HÁBIL | D10: 517.57 | J10: =IF(C10="HÁBIL",AVERAGE(D10:I10),C10) -> 517.57
A11: 3 | B11: =VLOOKUP(A11,'RESUMEN-M (1)'!B$12:D$93,3,FALSE) -> CONSORCIO INTER CONSTR UCCION VIAL | C11: ='RESUMEN-M (1)'!E14 -> RECHAZADO | D11: 774.68 | J11: =IF(C11="HÁBIL",AVERAGE(D11:I11),C11) -> RECHAZADO
A12: 4 | B12: =VLOOKUP(A12,'RESUMEN-M (1)'!B$12:D$93,3,FALSE) -> CONSORCIO INFRAVIAL | C12: ='RESUMEN-M (1)'!E15 -> HÁBIL | D12: 360.67 | J12: =IF(C12="HÁBIL",AVERAGE(D12:I12),C12) -> 360.67
A13: 5 | B13: =VLOOKUP(A13,'RESUMEN-M (1)'!B$12:D$93,3,FALSE) -> C&A PROFESIONALES DE IN GENIERÍA S.A.S | C13: ='RESUMEN-M (1)'!E16 -> HÁBIL | D13: 477.74 | J13: =IF(C13="HÁBIL",AVERAGE(D13:I13),C13) -> 477.74
A14: 6 | B14: =VLOOKUP(A14,'RESUMEN-M (1)'!B$12:D$93,3,FALSE) -> CONSORCIO VIAS NRT | C14: ='RESUMEN-M (1)'!E17 -> HÁBIL | D14: 502.98 | J14: =IF(C14="HÁBIL",AVERAGE(D14:I14),C14) -> 502.98
A15: 7 | B15: =VLOOKUP(A15,'RESUMEN-M (1)'!B$12:D$93,3,FALSE) -> INTERSA S.A. | C15: ='RESUMEN-M (1)'!E18 -> HÁBIL | D15: 444.85 | E15: 185.76 | F15: 590.43 | J15: =IF(C15="HÁBIL",AVERAGE(D15:I15),C15) -> 407.01333
A16: 8 | B16: =VLOOKUP(A16,'RESUMEN-M (1)'!B$12:D$93,3,FALSE) -> PROESING | C16: ='RESUMEN-M (1)'!E19 -> HÁBIL | D16: 203.37 | J16: =IF(C16="HÁBIL",AVERAGE(D16:I16),C16) -> 203.37
A17: 9 | B17: =VLOOKUP(A17,'RESUMEN-M (1)'!B$12:D$93,3,FALSE) -> INTERVAL2 | C17: ='RESUMEN-M (1)'!E20 -> HÁBIL | D17: 536.51 | E17: 445.14 | F17: 589.5 | J17: =IF(C17="HÁBIL",AVERAGE(D17:I17),C17) -> 523.71667
A18: 10 | B18: =VLOOKUP(A18,'RESUMEN-M (1)'!B$12:D$93,3,FALSE) -> CONINTER JMJ SAS | C18: ='RESUMEN-M (1)'!E21 -> HÁBIL | D18: 645.1 | J18: =IF(C18="HÁBIL",AVERAGE(D18:I18),C18) -> 645.1
A19: 11 | B19: =VLOOKUP(A19,'RESUMEN-M (1)'!B$12:D$93,3,FALSE) -> CONSORCIO METRO CINCO | C19: ='RESUMEN-M (1)'!E22 -> HÁBIL | D19: 7351.85 | E19: 2177.35 | F19: 328.65 | J19: =IF(C19="HÁBIL",AVERAGE(D19:I19),C19) -> 3285.95
A20: 12 | B20: =VLOOKUP(A20,'RESUMEN-M (1)'!B$12:D$93,3,FALSE) -> Consorcio INTERING | C20: ='RESUMEN-M (1)'!E23 -> HÁBIL | D20: 2198.74 | J20: =IF(C20="HÁBIL",AVERAGE(D20:I20),C20) -> 2198.74
A21: 13 | B21: =VLOOKUP(A21,'RESUMEN-M (1)'!B$12:D$93,3,FALSE) -> CONSORCIO INFRAESTRUCT URA CAUCA | C21: ='RESUMEN-M (1)'!E24 -> RECHAZADO | D21: 496.11 | J21: =IF(C21="HÁBIL",AVERAGE(D21:I21),C21) -> RECHAZADO
A22: 14 | B22: =VLOOKUP(A22,'RESUMEN-M (1)'!B$12:D$93,3,FALSE) -> CONSORCIO HUPK VIAS MAG DALENA | C22: ='RESUMEN-M (1)'!E25 -> HÁBIL | D22: 479.08 | E22: 95.97 | J22: =IF(C22="HÁBIL",AVERAGE(D22:I22),C22) -> 287.525
A23: 15 | B23: =VLOOKUP(A23,'RESUMEN-M (1)'!B$12:D$93,3,FALSE) -> CONSORCIO INTER VIAL G& G | C23: ='RESUMEN-M (1)'!E26 -> HÁBIL | D23: 301.505 | E23: 841.33 | F23: 155.57 | J23: =IF(C23="HÁBIL",AVERAGE(D23:I23),C23) -> 432.80167
A24: 16 | B24: =VLOOKUP(A24,'RESUMEN-M (1)'!B$12:D$93,3,FALSE) -> IC INGENIO CIVIL | C24: ='RESUMEN-M (1)'!E27 -> HÁBIL | D24: 321.035 | E24: 237.96 | J24: =IF(C24="HÁBIL",AVERAGE(D24:I24),C24) -> 279.4975
A25: 17 | B25: =VLOOKUP(A25,'RESUMEN-M (1)'!B$12:D$93,3,FALSE) -> MORAM CONSULTORIA SAS | C25: ='RESUMEN-M (1)'!E28 -> HÁBIL | D25: 352.955 | J25: =IF(C25="HÁBIL",AVERAGE(D25:I25),C25) -> 352.955
A26: 18 | B26: =VLOOKUP(A26,'RESUMEN-M (1)'!B$12:D$93,3,FALSE) -> VELNEC S.A. | C26: ='RESUMEN-M (1)'!E29 -> HÁBIL | D26: 1119.75 | J26: =IF(C26="HÁBIL",AVERAGE(D26:I26),C26) -> 1119.75
A27: 19 | B27: =VLOOKUP(A27,'RESUMEN-M (1)'!B$12:D$93,3,FALSE) -> CONSULTORES SOLANO NA VAS LTDA | C27: ='RESUMEN-M (1)'!E30 -> HÁBIL | D27: 853.665 | E27: 490.86 | F27: 255.323 | J27: =IF(C27="HÁBIL",AVERAGE(D27:I27),C27) -> 533.28267
A28: 20 | B28: =VLOOKUP(A28,'RESUMEN-M (1)'!B$12:D$93,3,FALSE) -> MAVECA INGENIERIA S.A.S | C28: ='RESUMEN-M (1)'!E31 -> HÁBIL | D28: 58.41 | E28: 452.21 | F28: 511.01 | G28: 26.32 | H28: 1906.71 | J28: =IF(C28="HÁBIL",AVERAGE(D28:I28),C28) -> 590.932
A29: 21 | B29: =VLOOKUP(A29,'RESUMEN-M (1)'!B$12:D$93,3,FALSE) -> CONSORCIO SF 2023 | C29: ='RESUMEN-M (1)'!E32 -> HÁBIL | D29: 446.07 | J29: =IF(C29="HÁBIL",AVERAGE(D29:I29),C29) -> 446.07
A30: 22 | B30: =VLOOKUP(A30,'RESUMEN-M (1)'!B$12:D$93,3,FALSE) -> ALMA INTERVENTORÍA & CONSULTORÍA S.A.S. | C30: ='RESUMEN-M (1)'!E33 -> HÁBIL | D30: 1277.76 | J30: =IF(C30="HÁBIL",AVERAGE(D30:I30),C30) -> 1277.76
A31: 23 | B31: =VLOOKUP(A31,'RESUMEN-M (1)'!B$12:D$93,3,FALSE) -> JMELO INGENIERÍA DE PROYECTOS S.A.S. | C31: ='RESUMEN-M (1)'!E34 -> HÁBIL | D31: 319.88 | E31: 331.69 | J31: =IF(C31="HÁBIL",AVERAGE(D31:I31),C31) -> 325.785
A32: 24 | B32: =VLOOKUP(A32,'RESUMEN-M (1)'!B$12:D$93,3,FALSE) -> SEIING SAS BIC | C32: ='RESUMEN-M (1)'!E35 -> HÁBIL | D32: 368.75 | J32: =IF(C32="HÁBIL",AVERAGE(D32:I32),C32) -> 368.75
A33: 25 | B33: =VLOOKUP(A33,'RESUMEN-M (1)'!B$12:D$93,3,FALSE) -> JET INGENIERIA SAS | C33: ='RESUMEN-M (1)'!E36 -> HÁBIL | D33: 130.66 | E33: 257.6 | F33: 645.39 | J33: =IF(C33="HÁBIL",AVERAGE(D33:I33),C33) -> 344.55
A34: 26 | B34: =VLOOKUP(A34,'RESUMEN-M (1)'!B$12:D$93,3,FALSE) -> EQUILATERO SAS | C34: ='RESUMEN-M (1)'!E37 -> HÁBIL | D34: 817.14 | J34: =IF(C34="HÁBIL",AVERAGE(D34:I34),C34) -> 817.14
A35: 27 | B35: =VLOOKUP(A35,'RESUMEN-M (1)'!B$12:D$93,3,FALSE) -> CONSORCIO CB-TALATAA | C35: ='RESUMEN-M (1)'!E38 -> HÁBIL | D35: 5.85 | E35: 48.73 | F35: 75.82 | G35: 2236.76 | H35: 14.68 | J35: =IF(C35="HÁBIL",AVERAGE(D35:I35),C35) -> 476.368
A36: 28 | B36: =VLOOKUP(A36,'RESUMEN-M (1)'!B$12:D$93,3,FALSE) -> D&B INGENIEROS CIVILES S. A.S. | C36: ='RESUMEN-M (1)'!E39 -> HÁBIL | D36: 254.44 | E36: 233.98 | J36: =IF(C36="HÁBIL",AVERAGE(D36:I36),C36) -> 244.21
A37: 29 | B37: =VLOOKUP(A37,'RESUMEN-M (1)'!B$12:D$93,3,FALSE) -> CONSORCIO OJB | C37: ='RESUMEN-M (1)'!E40 -> HÁBIL | D37: 1475.52 | E37: 50.44 | F37: 171.6925 | J37: =IF(C37="HÁBIL",AVERAGE(D37:F37),F37) -> 565.88417
A38: 30 | B38: =VLOOKUP(A38,'RESUMEN-M (1)'!B$12:D$93,3,FALSE) -> PROYECTISTAS DE COLOMB IA & CIA SAS | C38: ='RESUMEN-M (1)'!E41 -> HÁBIL | D38: 459.09 | J38: =IF(C38="HÁBIL",AVERAGE(D38:I38),C38) -> 459.09
A39: 31 | B39: =VLOOKUP(A39,'RESUMEN-M (1)'!B$12:D$93,3,FALSE) -> CONSORCIO AESA-BALER | C39: ='RESUMEN-M (1)'!E42 -> HÁBIL | D39: 1647.47 | E39: 859 | F39: 43.52 | J39: =IF(C39="HÁBIL",AVERAGE(D39:I39),C39) -> 849.99667
A40: 32 | B40: =VLOOKUP(A40,'RESUMEN-M (1)'!B$12:D$93,3,FALSE) -> CONSORCIO INTERVIAL GM | C40: ='RESUMEN-M (1)'!E43 -> HÁBIL | D40: 1249.75 | J40: =IF(C40="HÁBIL",AVERAGE(D40:I40),C40) -> 1249.75
...

Sheet METODO DE PONDERACION
B1: ='RESUMEN-M (1)'!B1 -> INSTITUTO NACIONAL DE VÍAS
B2: ='RESUMEN-M (1)'!B2 -> DIRECCIÓN GENERAL
B3: ='RESUMEN-M (1)'!B3 -> DIRECCIÓN TERRITORIAL MAGDALENA
B4: ='RESUMEN-M (1)'!#REF! -> #REF!
B5: ='RESUMEN-M (1)'!B4 -> CONCURSO DE MÉRITOS ABIERTO No CMA-DT-MAG-001-2024
B6: ='RESUMEN-M (1)'!B5 -> OBJETO: “INTERVENTORIA TÉCNICA, ADMINISTRATIVA, FINANCIERA Y AMBIENTAL, PARA EL MEJORAMIENTO Y MANTENIMIENTO DE LAS VÍAS: RICAURTE – HATOVIEJO CÓDIGO 78218 EN EL MUNICIPIO DE GUAMAL; Y SAN SEBASTIÁN - LOS GALVIS CÓDIGO 78141, EN EL MUNICIPIO DE SAN SEBASTIÁN DE BUENAVISTA, DEPARTAMENTO DEL MAGDALENA”.
B7: ='RESUMEN-M (1)'!B6 -> 0
B8: CUADRO No. 3
B9: DETERMINACIÓN DEL PUNTAJE POR VALOR DE LA PROPUESTA
B10: LOTE A EJECUTAR | D10: No. de Módulos del Proceso | E10: Determinación del Método para la Ponderación de la Propuesta Económica | H10: 45489
D11: 1 | E11: TRM DEL DÍA DE LA INSTALACIÓN DE LA AUDIENCIA DE ASIGNACIÓN DE PUNTAJE | G11: Valor = | H11: 3948.41
B12: 1 | D12: Último Método Utilizado | G12: CENTESIMAS = | H12: =100*(H11-INT(H11)) -> 41
D13: NO APLICA | E13: MÉTODO DE PONDERACIÓN = | G13: =IF(OR(B12=1,D13=""),IF(AND(H12>=0,H12<=33),"MEDIANA CON VALOR ABSOLUTO",IF(AND(H12>=34,H12<=66),"MEDIA GEOMÉTRICA",IF(AND(H12>=67,H12<=99),"MEDIA ARITMÉTICA ALTA","MENOR VALOR"))),IF(D13="MEDIANA CON VALOR ABSOLUTO","MEDIA GEOMÉTRICA",IF(D13="MEDIA GEOMÉTRICA","MEDIA ARITMÉTICA BAJA",IF(D13="MEDIA ARITMÉTICA BAJA","MENOR VALOR","MEDIANA CON VALOR ABSOLUTO")))) -> MEDIA GEOMÉTRICA
B15: Parámetros para la ponderación de la propuesta económica
G16: Número de propuestas válidas | H16: =E37 -> 58
G17: Mínimo | H17: =+MIN(E41:E101) -> 80.9735
G18: Máximo | H18: =+MAX(E41:E101) -> 3285.95
G19: Media Aritmética = X | H19: =+AVERAGE(E41:E101) -> 665.4647
G20: Mediana= Me | H20: =+MEDIAN(E41:E101) -> 490.36
G21: Presupuesto Oficial | H21: =210000000/1300000 -> 161.53846
G22: Puntaje por Experiencia | H22: 67.5
B24: 1. Mediana con Valor Absoluto
B25: ¿Número de Propuestas Válidas es Par o Impar? | H25: Impar
B26: Valor de la Mediana | H26: =+H20 -> 490.36
B27: 2. Media Geométrica
B28: Valor de la Propuesta más cercana al valor de la Media Geometrica: | H28: =IF(H16=0,0,VLOOKUP("MINIMO",P41:Q101,2,FALSE)) -> 541.3
B29: Media geométrica aproximada a números enteros = Mg | H29: =IF(H16=0,0,GEOMEAN(E41:E101)) -> 540.69735
B30: 3. Media Aritmética Alta
B31: Media artimética Alta (XA) | H31: =+(H18+H20)/2 -> 1888.155
B33: Estadistico usado para ponderar : | G33: =+G13 -> MEDIA GEOMÉTRICA | H33: =H29 -> 540.69735
B35: CONSECUTIVO | C35: PROP. No. | D35: PROPONENTE | E35: PROMEDIO CONTRATOS VALIDOS | F35: NÚMERO DE CONTRATOS ACREDITADOS VÁLIDOS | G35: PUNTAJE DE LA PROPUESTA | Z35: =UPPER(M35) | AA35: =UPPER(N35) | AB35: =UPPER(O35) | AC35: =UPPER(P35)
E36: SMMLV
D37: PROPUESTAS VALIDAS | E37: =COUNT(E41:E101) -> 58
E38: =IF(ISODD(E37),"IMPAR","PAR") -> PAR | G38: CONDICION
D39: PRESUPUESTO OFICIAL
K40: EN CASO DE PROPUESTA 0 ENTONCES COLOCA 1 | M40: DESCARTA EL VALOR MAXIMO PARA LA MEDIA ARITMETICA ALTA | O40: DESCARTA EL VALOR MINIMO PARA LA MEDIA ARITMETICA BAJA
B41: 1 | C41: =VLOOKUP(B41,'RESUMEN-M (1)'!B12:K93,2,FALSE) -> 1 | D41: =VLOOKUP(C41,'RESUMEN-M (1)'!C$12:K$93,2,FALSE) -> CONSORCIO CAP-SAS | E41: =IF('PROM-CTOS EXP'!C9="HÁBIL",'PROM-CTOS EXP'!J9,'PROM-CTOS EXP'!J9) -> 359.11 | F41: =+COUNT('PROM-CTOS EXP'!D9:I9) -> 2 | G41: =IF(IF(E41="NO HÁBIL","",IF(E41="RECHAZADO","",IF($G$13="MEDIANA CON VALOR ABSOLUTO",$H$22*(1-ABS(($H$20-E41)/$H$20)),IF(AND($G$13="MEDIA GEOMÉTRICA",E41=$H$28),$H$22,IF($G$13="MEDIA GEOMÉTRICA",$H$22*(1-(ABS($H$28-E41)/$H$28)),IF($G$13="MEDIA ARITMETICA ALTA",$H$22*($H$19/E41),IF(E41<=$H$20,$H$22*(1-(($H$20-E41)/$H$20)),$H$22*(1-(ABS($H$20-E41)/$H$20)))))))))<0,0,IF(E41="NO HÁBIL","",IF(E41="RECHAZADO","",IF($G$13="MEDIANA CON VALOR ABSOLUTO",$H$22*(1-ABS(($H$20-E41)/$H$20)),IF(AND($G$13="MEDIA GEOMÉTRICA",E41=$H$28),$H$22,IF($G$13="MEDIA GEOMÉTRICA",$H$22*(1-(ABS($H$28-E41)/$H$28)),IF($G$13="MEDIA ARITMETICA ALTA",$H$22*($H$19/E41),IF(E41<=$H$20,$H$22*(1-(($H$20-E41)/$H$20)),$H$22*(1-(ABS($H$20-E41)/$H$20)))))))))) -> 44.780944 | I41: =69*(1-(E107-E41)/E107) -> 12.689265 | K41: =IF(E41=0,1,E41) -> 359.11 | M41: =IF(E41=MAX(E$41:E$101),"DESCARTADO",E41) -> 359.11 | N41: =IF(E41="NO HÁBIL","",IF(E41="RECHAZADO","",ABS(E41-$H$29))) -> 181.58735 | O41: =IF(E41="NO HÁBIL","",IF(E41=MIN(E$41:E$101),"DESCARTADO",E41)) -> 359.11 | P41: =IF(N41=MIN($N$41:$N$101),"MINIMO","") | Q41: =IF(P41="MINIMO",E41,"")
B42: 2 | C42: =VLOOKUP(B42,'RESUMEN-M (1)'!B13:K94,2,FALSE) -> 2 | D42: =VLOOKUP(C42,'RESUMEN-M (1)'!C$12:K$93,2,FALSE) -> BRAIN INGENIERIA VIAL SAS | E42: =IF('PROM-CTOS EXP'!C10="HÁBIL",'PROM-CTOS EXP'!J10,'PROM-CTOS EXP'!J10) -> 517.57 | F42: =+COUNT('PROM-CTOS EXP'!D10:I10) -> 1 | G42: =IF(IF(E42="NO HÁBIL","",IF(E42="RECHAZADO","",IF($G$13="MEDIANA CON VALOR ABSOLUTO",$H$22*(1-ABS(($H$20-E42)/$H$20)),IF(AND($G$13="MEDIA GEOMÉTRICA",E42=$H$28),$H$22,IF($G$13="MEDIA GEOMÉTRICA",$H$22*(1-(ABS($H$28-E42)/$H$28)),IF($G$13="MEDIA ARITMETICA ALTA",$H$22*($H$19/E42),IF(E42<=$H$20,$H$22*(1-(($H$20-E42)/$H$20)),$H$22*(1-(ABS($H$20-E42)/$H$20)))))))))<0,0,IF(E42="NO HÁBIL","",IF(E42="RECHAZADO","",IF($G$13="MEDIANA CON VALOR ABSOLUTO",$H$22*(1-ABS(($H$20-E42)/$H$20)),IF(AND($G$13="MEDIA GEOMÉTRICA",E42=$H$28),$H$22,IF($G$13="MEDIA GEOMÉTRICA",$H$22*(1-(ABS($H$28-E42)/$H$28)),IF($G$13="MEDIA ARITMETICA ALTA",$H$22*($H$19/E42),IF(E42<=$H$20,$H$22*(1-(($H$20-E42)/$H$20)),$H$22*(1-(ABS($H$20-E42)/$H$20)))))))))) -> 64.540874 | K42: =IF(E42=0,1,E42) -> 517.57 | M42: =IF(E42=MAX(E$41:E$101),"DESCARTADO",E42) -> 517.57 | N42: =IF(E42="NO HÁBIL","",IF(E42="RECHAZADO","",ABS(E42-$H$29))) -> 23.127346 | O42: =IF(E42="NO HÁBIL","",IF(E42=MIN(E$41:E$101),"DESCARTADO",E42)) -> 517.57 | P42: =IF(N42=MIN($N$41:$N$101),"MINIMO","") | Q42: =IF(P42="MINIMO",E42,"")
B43: 3 | C43: =VLOOKUP(B43,'RESUMEN-M (1)'!B14:K95,2,FALSE) -> 3 | D43: =VLOOKUP(C43,'RESUMEN-M (1)'!C$12:K$93,2,FALSE) -> CONSORCIO INTER CONSTR UCCION VIAL | E43: =IF('PROM-CTOS EXP'!C11="HÁBIL",'PROM-CTOS EXP'!J11,'PROM-CTOS EXP'!J11) -> RECHAZADO | F43: =+COUNT('PROM-CTOS EXP'!D11:I11) -> 1 | G43: =IF(IF(E43="NO HÁBIL","",IF(E43="RECHAZADO","",IF($G$13="MEDIANA CON VALOR ABSOLUTO",$H$22*(1-ABS(($H$20-E43)/$H$20)),IF(AND($G$13="MEDIA GEOMÉTRICA",E43=$H$28),$H$22,IF($G$13="MEDIA GEOMÉTRICA",$H$22*(1-(ABS($H$28-E43)/$H$28)),IF($G$13="MEDIA ARITMETICA ALTA",$H$22*($H$19/E43),IF(E43<=$H$20,$H$22*(1-(($H$20-E43)/$H$20)),$H$22*(1-(ABS($H$20-E43)/$H$20)))))))))<0,0,IF(E43="NO HÁBIL","",IF(E43="RECHAZADO","",IF($G$13="MEDIANA CON VALOR ABSOLUTO",$H$22*(1-ABS(($H$20-E43)/$H$20)),IF(AND($G$13="MEDIA GEOMÉTRICA",E43=$H$28),$H$22,IF($G$13="MEDIA GEOMÉTRICA",$H$22*(1-(ABS($H$28-E43)/$H$28)),IF($G$13="MEDIA ARITMETICA ALTA",$H$22*($H$19/E43),IF(E43<=$H$20,$H$22*(1-(($H$20-E43)/$H$20)),$H$22*(1-(ABS($H$20-E43)/$H$20)))))))))) | K43: =IF(E43=0,1,E43) -> RECHAZADO | M43: =IF(E43=MAX(E$41:E$101),"DESCARTADO",E43) -> RECHAZADO | N43: =IF(E43="NO HÁBIL","",IF(E43="RECHAZADO","",ABS(E43-$H$29))) | O43: =IF(E43="NO HÁBIL","",IF(E43=MIN(E$41:E$101),"DESCARTADO",E43)) -> RECHAZADO | P43: =IF(N43=MIN($N$41:$N$101),"MINIMO","") | Q43: =IF(P43="MINIMO",E43,"")
B44: 4 | C44: =VLOOKUP(B44,'RESUMEN-M (1)'!B15:K96,2,FALSE) -> 4 | D44: =VLOOKUP(C44,'RESUMEN-M (1)'!C$12:K$93,2,FALSE) -> CONSORCIO INFRAVIAL | E44: =IF('PROM-CTOS EXP'!C12="HÁBIL",'PROM-CTOS EXP'!J12,'PROM-CTOS EXP'!J12) -> 360.67 | F44: =+COUNT('PROM-CTOS EXP'!D12:I12) -> 1 | G44: =IF(IF(E44="NO HÁBIL","",IF(E44="RECHAZADO","",IF($G$13="MEDIANA CON VALOR ABSOLUTO",$H$22*(1-ABS(($H$20-E44)/$H$20)),IF(AND($G$13="MEDIA GEOMÉTRICA",E44=$H$28),$H$22,IF($G$13="MEDIA GEOMÉTRICA",$H$22*(1-(ABS($H$28-E44)/$H$28)),IF($G$13="MEDIA ARITMETICA ALTA",$H$22*($H$19/E44),IF(E44<=$H$20,$H$22*(1-(($H$20-E44)/$H$20)),$H$22*(1-(ABS($H$20-E44)/$H$20)))))))))<0,0,IF(E44="NO HÁBIL","",IF(E44="RECHAZADO","",IF($G$13="MEDIANA CON VALOR ABSOLUTO",$H$22*(1-ABS(($H$20-E44)/$H$20)),IF(AND($G$13="MEDIA GEOMÉTRICA",E44=$H$28),$H$22,IF($G$13="MEDIA GEOMÉTRICA",$H$22*(1-(ABS($H$28-E44)/$H$28)),IF($G$13="MEDIA ARITMETICA ALTA",$H$22*($H$19/E44),IF(E44<=$H$20,$H$22*(1-(($H$20-E44)/$H$20)),$H$22*(1-(ABS($H$20-E44)/$H$20)))))))))) -> 44.975476 | K44: =IF(E44=0,1,E44) -> 360.67 | M44: =IF(E44=MAX(E$41:E$101),"DESCARTADO",E44) -> 360.67 | N44: =IF(E44="NO HÁBIL","",IF(E44="RECHAZADO","",ABS(E44-$H$29))) -> 180.02735 | O44: =IF(E44="NO HÁBIL","",IF(E44=MIN(E$41:E$101),"DESCARTADO",E44)) -> 360.67 | P44: =IF(N44=MIN($N$41:$N$101),"MINIMO","") | Q44: =IF(P44="MINIMO",E44,"")
...

Sheet ELEGIBILIDAD
B1: ='RESUMEN-M (1)'!B1 -> INSTITUTO NACIONAL DE VÍAS | R1: =B1 -> INSTITUTO NACIONAL DE VÍAS
B2: ='RESUMEN-M (1)'!B2 -> DIRECCIÓN GENERAL | R2: =B2 -> DIRECCIÓN GENERAL
B3: ='RESUMEN-M (1)'!B3 -> DIRECCIÓN TERRITORIAL MAGDALENA | R3: =B3 -> DIRECCIÓN TERRITORIAL MAGDALENA
B4: ='RESUMEN-M (1)'!#REF! -> #REF! | R4: =B4 -> #REF!
B5: ='RESUMEN-M (1)'!B4 -> CONCURSO DE MÉRITOS ABIERTO No CMA-DT-MAG-001-2024 | R5: =B5 -> CONCURSO DE MÉRITOS ABIERTO No CMA-DT-MAG-001-2024
B6: ='RESUMEN-M (1)'!B5 -> OBJETO: “INTERVENTORIA TÉCNICA, ADMINISTRATIVA, FINANCIERA Y AMBIENTAL, PARA EL MEJORAMIENTO Y MANTENIMIENTO DE LAS VÍAS: RICAURTE – HATOVIEJO CÓDIGO 78218 EN EL MUNICIPIO DE GUAMAL; Y SAN SEBASTIÁN - LOS GALVIS CÓDIGO 78141, EN EL MUNICIPIO DE SAN SEBASTIÁN DE BUENAVISTA, DEPARTAMENTO DEL MAGDALENA”. | R6: =B6 -> OBJETO: “INTERVENTORIA TÉCNICA, ADMINISTRATIVA, FINANCIERA Y AMBIENTAL, PARA EL MEJORAMIENTO Y MANTENIMIENTO DE LAS VÍAS: RICAURTE – HATOVIEJO CÓDIGO 78218 EN EL MUNICIPIO DE GUAMAL; Y SAN SEBASTIÁN - LOS GALVIS CÓDIGO 78141, EN EL MUNICIPIO DE SAN SEBASTIÁN DE BUENAVISTA, DEPARTAMENTO DEL MAGDALENA”.
B7: ='RESUMEN-M (1)'!B6 -> 0 | R7: =B7 -> 0
B8: CUADRO No. 4 | R8: CUADRO No. 5
B9: RESÚMEN DE LA PONDERACIÓN OTORGADA
R10: ORDEN DE ELEGIBILIDAD
Q11: JERARQUIA
B12: CONSECUTIVO | C12: PROPUESTA NUMERO | D12: PROPONENTE | E12: EXPERIENCIA PROPUESTA | F12: PUNTAJES OTORGADOS A LOS SIGUIENTES CRITERIOS: | M12: PUNTAJE DEFINITIVO | N12: CIFRA DE AJUSTE
E13: SMMLV | F13: Experiencia | G13: Equipo de trabajo | H13: Factor de sostenibilidad | I13: Apoyo a la industria nacional | J13: Vinculación de personas con discapacidad | K13: Emprendimientos y empresas mujeres | L13: Mipyme
D14: PROPUESTAS VÁLIDAS | E14: =COUNT(E16:E76) -> 58 | F14: 67.5 | G14: 10 | H14: 1 | I14: 20 | J14: 1 | K14: 0.25 | L14: 0.25 | M14: =F14+G14+H14+I14+J14+K14+L14 -> 100 | R14: No. | S14: PROPONENTE | T14: PUNTAJE
B16: 1 | C16: ='RESUMEN-M (1)'!C12 -> 1 | D16: ='RESUMEN-M (1)'!D12 -> CONSORCIO CAP-SAS | E16: =VLOOKUP(D16,'METODO DE PONDERACION'!D$41:G$101,2,FALSE) -> 359.11 | F16: =IF(VLOOKUP(D16,'METODO DE PONDERACION'!D$41:G$101,4,FALSE)<0,0,VLOOKUP(D16,'METODO DE PONDERACION'!D$41:G$101,4,FALSE)) -> 44.780944 | G16: =VLOOKUP($D16,'RESUMEN-M (1)'!$D$12:$K$94,3,FALSE) -> 10 | H16: =VLOOKUP($D16,'RESUMEN-M (1)'!$D$12:$K$94,4,FALSE) -> 1 | I16: =VLOOKUP($D16,'RESUMEN-M (1)'!$D$12:$K$94,5,FALSE) -> 20 | J16: =VLOOKUP($D16,'RESUMEN-M (1)'!$D$12:$K$94,6,FALSE) -> 1 | K16: =VLOOKUP($D16,'RESUMEN-M (1)'!$D$12:$K$94,7,FALSE) -> 0.25 | L16: =VLOOKUP($D16,'RESUMEN-M (1)'!$D$12:$K$94,8,FALSE) -> 0.25 | M16: =IF(E16="NO HÁBIL",G16+H16+I16+J16+K16+L16,IF(E16="RECHAZADO",N16,F16+G16+H16+I16+N16+J16+K16+L16)) -> 77.280944 | Q16: =_xlfn.RANK.EQ(M16,$M$16:$M$76,0) -> 32 | R16: 1 | S16: =IF(R16="","",OFFSET($D$15,MATCH(B16,$Q$16:$Q$76,0),0)) -> AVGR INGENIERIA S.A.S. | T16: =IF(S16="","",VLOOKUP(S16,$D$16:$M$76,10,FALSE)) -> 100
B17: 2 | C17: ='RESUMEN-M (1)'!C13 -> 2 | D17: ='RESUMEN-M (1)'!D13 -> BRAIN INGENIERIA VIAL SAS | E17: =VLOOKUP(D17,'METODO DE PONDERACION'!D$41:G$101,2,FALSE) -> 517.57 | F17: =IF(VLOOKUP(D17,'METODO DE PONDERACION'!D$41:G$101,4,FALSE)<0,0,VLOOKUP(D17,'METODO DE PONDERACION'!D$41:G$101,4,FALSE)) -> 64.540874 | G17: =VLOOKUP($D17,'RESUMEN-M (1)'!$D$12:$G$94,3,FALSE) -> 10 | H17: =VLOOKUP($D17,'RESUMEN-M (1)'!$D$12:$G$94,4,FALSE) -> 1 | I17: =VLOOKUP($D17,'RESUMEN-M (1)'!$D$12:$K$94,5,FALSE) -> 20 | J17: =VLOOKUP($D17,'RESUMEN-M (1)'!$D$12:$K$94,6,FALSE) -> 1 | K17: =VLOOKUP($D17,'RESUMEN-M (1)'!$D$12:$K$94,7,FALSE) -> 0.25 | L17: =VLOOKUP($D17,'RESUMEN-M (1)'!$D$12:$K$94,8,FALSE) -> 0.25 | M17: =IF(E17="NO HÁBIL",G17+H17+I17+J17+K17+L17,IF(E17="RECHAZADO",N17,F17+G17+H17+I17+N17+J17+K17+L17)) -> 97.040874 | Q17: =_xlfn.RANK.EQ(M17,$M$16:$M$76,0) -> 8 | R17: 2 | S17: =IF(R17="","",OFFSET($D$15,MATCH(B17,$Q$16:$Q$76,0),0)) -> CONSULTORES SOLANO NA VAS LTDA | T17: =IF(S17="","",VLOOKUP(S17,$D$16:$M$76,10,FALSE)) -> 99.00024
B18: 3 | C18: ='RESUMEN-M (1)'!C14 -> 3 | D18: ='RESUMEN-M (1)'!D14 -> CONSORCIO INTER CONSTR UCCION VIAL | E18: =VLOOKUP(D18,'METODO DE PONDERACION'!D$41:G$101,2,FALSE) -> RECHAZADO | F18: =IF(VLOOKUP(D18,'METODO DE PONDERACION'!D$41:G$101,4,FALSE)<0,0,VLOOKUP(D18,'METODO DE PONDERACION'!D$41:G$101,4,FALSE)) | G18: =VLOOKUP($D18,'RESUMEN-M (1)'!$D$12:$G$94,3,FALSE) -> 10 | H18: =VLOOKUP($D18,'RESUMEN-M (1)'!$D$12:$G$94,4,FALSE) -> 1 | I18: =VLOOKUP($D18,'RESUMEN-M (1)'!$D$12:$K$94,5,FALSE) -> 20 | J18: =VLOOKUP($D18,'RESUMEN-M (1)'!$D$12:$K$94,6,FALSE) -> 1 | K18: =VLOOKUP($D18,'RESUMEN-M (1)'!$D$12:$K$94,7,FALSE) -> 0.25 | L18: =VLOOKUP($D18,'RESUMEN-M (1)'!$D$12:$K$94,8,FALSE) -> 0.25 | M18: =IF(E18="NO HÁBIL",G18+H18+I18+J18+K18+L18,IF(E18="RECHAZADO",N18,F18+G18+H18+I18+N18+J18+K18+L18)) -> 0 | Q18: =_xlfn.RANK.EQ(M18,$M$16:$M$76,0) -> 59 | R18: 3 | S18: =IF(R18="","",OFFSET($D$15,MATCH(B18,$Q$16:$Q$76,0),0)) -> CONSORCIO HGR - INCON | T18: =IF(S18="","",VLOOKUP(S18,$D$16:$M$76,10,FALSE)) -> 98.962498
B19: 4 | C19: ='RESUMEN-M (1)'!C15 -> 4 | D19: ='RESUMEN-M (1)'!D15 -> CONSORCIO INFRAVIAL | E19: =VLOOKUP(D19,'METODO DE PONDERACION'!D$41:G$101,2,FALSE) -> 360.67 | F19: =IF(VLOOKUP(D19,'METODO DE PONDERACION'!D$41:G$101,4,FALSE)<0,0,VLOOKUP(D19,'METODO DE PONDERACION'!D$41:G$101,4,FALSE)) -> 44.975476 | G19: =VLOOKUP($D19,'RESUMEN-M (1)'!$D$12:$G$94,3,FALSE) -> 10 | H19: =VLOOKUP($D19,'RESUMEN-M (1)'!$D$12:$G$94,4,FALSE) -> 1 | I19: =VLOOKUP($D19,'RESUMEN-M (1)'!$D$12:$K$94,5,FALSE) -> 20 | J19: =VLOOKUP($D19,'RESUMEN-M (1)'!$D$12:$K$94,6,FALSE) -> 1 | K19: =VLOOKUP($D19,'RESUMEN-M (1)'!$D$12:$K$94,7,FALSE) -> 0.25 | L19: =VLOOKUP($D19,'RESUMEN-M (1)'!$D$12:$K$94,8,FALSE) -> 0.25 | M19: =IF(E19="NO HÁBIL",G19+H19+I19+J19+K19+L19,IF(E19="RECHAZADO",N19,F19+G19+H19+I19+N19+J19+K19+L19)) -> 77.475476 | Q19: =_xlfn.RANK.EQ(M19,$M$16:$M$76,0) -> 31 | R19: 4 | S19: =IF(R19="","",OFFSET($D$15,MATCH(B19,$Q$16:$Q$76,0),0)) -> SAICON SAS | T19: =IF(S19="","",VLOOKUP(S19,$D$16:$M$76,10,FALSE)) -> 98.889571
B20: 5 | C20: ='RESUMEN-M (1)'!C16 -> 5 | D20: ='RESUMEN-M (1)'!D16 -> C&A PROFESIONALES DE IN GENIERÍA S.A.S | E20: =VLOOKUP(D20,'METODO DE PONDERACION'!D$41:G$101,2,FALSE) -> 477.74 | F20: =IF(VLOOKUP(D20,'METODO DE PONDERACION'!D$41:G$101,4,FALSE)<0,0,VLOOKUP(D20,'METODO DE PONDERACION'!D$41:G$101,4,FALSE)) -> 59.574081 | G20: =VLOOKUP($D20,'RESUMEN-M (1)'!$D$12:$G$94,3,FALSE) -> 10 | H20: =VLOOKUP($D20,'RESUMEN-M (1)'!$D$12:$G$94,4,FALSE) -> 1 | I20: =VLOOKUP($D20,'RESUMEN-M (1)'!$D$12:$K$94,5,FALSE) -> 20 | J20: =VLOOKUP($D20,'RESUMEN-M (1)'!$D$12:$K$94,6,FALSE) -> 1 | K20: =VLOOKUP($D20,'RESUMEN-M (1)'!$D$12:$K$94,7,FALSE) -> 0.25 | L20: =VLOOKUP($D20,'RESUMEN-M (1)'!$D$12:$K$94,8,FALSE) -> 0.25 | M20: =IF(E20="NO HÁBIL",G20+H20+I20+J20+K20+L20,IF(E20="RECHAZADO",N20,F20+G20+H20+I20+N20+J20+K20+L20)) -> 92.074081 | Q20: =_xlfn.RANK.EQ(M20,$M$16:$M$76,0) -> 13 | R20: 5 | S20: =IF(R20="","",OFFSET($D$15,MATCH(B20,$Q$16:$Q$76,0),0)) -> CONSORCIO CABAC-AZIMUT | T20: =IF(S20="","",VLOOKUP(S20,$D$16:$M$76,10,FALSE)) -> 98.492379
B21: 6 | C21: ='RESUMEN-M (1)'!C17 -> 6 | D21: ='RESUMEN-M (1)'!D17 -> CONSORCIO VIAS NRT | E21: =VLOOKUP(D21,'METODO DE PONDERACION'!D$41:G$101,2,FALSE) -> 502.98 | F21: =IF(VLOOKUP(D21,'METODO DE PONDERACION'!D$41:G$101,4,FALSE)<0,0,VLOOKUP(D21,'METODO DE PONDERACION'!D$41:G$101,4,FALSE)) -> 62.721504 | G21: =VLOOKUP($D21,'RESUMEN-M (1)'!$D$12:$G$94,3,FALSE) -> 10 | H21: =VLOOKUP($D21,'RESUMEN-M (1)'!$D$12:$G$94,4,FALSE) -> 1 | I21: =VLOOKUP($D21,'RESUMEN-M (1)'!$D$12:$K$94,5,FALSE) -> 20 | J21: =VLOOKUP($D21,'RESUMEN-M (1)'!$D$12:$K$94,6,FALSE) -> 1 | K21: =VLOOKUP($D21,'RESUMEN-M (1)'!$D$12:$K$94,7,FALSE) -> 0.25 | L21: =VLOOKUP($D21,'RESUMEN-M (1)'!$D$12:$K$94,8,FALSE) -> 0.25 | M21: =IF(E21="NO HÁBIL",G21+H21+I21+J21+K21+L21,IF(E21="RECHAZADO",N21,F21+G21+H21+I21+N21+J21+K21+L21)) -> 95.221504 | Q21: =_xlfn.RANK.EQ(M21,$M$16:$M$76,0) -> 11 | R21: 6 | S21: =IF(R21="","",OFFSET($D$15,MATCH(B21,$Q$16:$Q$76,0),0)) -> CONSORCIO INTERVENTORE S AC | T21: =IF(S21="","",VLOOKUP(S21,$D$16:$M$76,10,FALSE)) -> 98.278519
B22: 7 | C22: ='RESUMEN-M (1)'!C18 -> 7 | D22: ='RESUMEN-M (1)'!D18 -> INTERSA S.A. | E22: =VLOOKUP(D22,'METODO DE PONDERACION'!D$41:G$101,2,FALSE) -> 407.01333 | F22: =IF(VLOOKUP(D22,'METODO DE PONDERACION'!D$41:G$101,4,FALSE)<0,0,VLOOKUP(D22,'METODO DE PONDERACION'!D$41:G$101,4,FALSE)) -> 50.75448 | G22: =VLOOKUP($D22,'RESUMEN-M (1)'!$D$12:$G$94,3,FALSE) -> 10 | H22: =VLOOKUP($D22,'RESUMEN-M (1)'!$D$12:$G$94,4,FALSE) -> 1 | I22: =VLOOKUP($D22,'RESUMEN-M (1)'!$D$12:$K$94,5,FALSE) -> 20 | J22: =VLOOKUP($D22,'RESUMEN-M (1)'!$D$12:$K$94,6,FALSE) -> 1 | K22: =VLOOKUP($D22,'RESUMEN-M (1)'!$D$12:$K$94,7,FALSE) -> 0.25 | L22: =VLOOKUP($D22,'RESUMEN-M (1)'!$D$12:$K$94,8,FALSE) -> 0.25 | M22: =IF(E22="NO HÁBIL",G22+H22+I22+J22+K22+L22,IF(E22="RECHAZADO",N22,F22+G22+H22+I22+N22+J22+K22+L22)) -> 83.25448 | Q22: =_xlfn.RANK.EQ(M22,$M$16:$M$76,0) -> 26 | R22: 7 | S22: =IF(R22="","",OFFSET($D$15,MATCH(B22,$Q$16:$Q$76,0),0)) -> INTERVAL2 | T22: =IF(S22="","",VLOOKUP(S22,$D$16:$M$76,10,FALSE)) -> 97.807362
B23: 8 | C23: ='RESUMEN-M (1)'!C19 -> 8 | D23: ='RESUMEN-M (1)'!D19 -> PROESING | E23: =VLOOKUP(D23,'METODO DE PONDERACION'!D$41:G$101,2,FALSE) -> 203.37 | F23: =IF(VLOOKUP(D23,'METODO DE PONDERACION'!D$41:G$101,4,FALSE)<0,0,VLOOKUP(D23,'METODO DE PONDERACION'!D$41:G$101,4,FALSE)) -> 25.360198 | G23: =VLOOKUP($D23,'RESUMEN-M (1)'!$D$12:$G$94,3,FALSE) -> 10 | H23: =VLOOKUP($D23,'RESUMEN-M (1)'!$D$12:$G$94,4,FALSE) -> 1 | I23: =VLOOKUP($D23,'RESUMEN-M (1)'!$D$12:$K$94,5,FALSE) -> 0 | J23: =VLOOKUP($D23,'RESUMEN-M (1)'!$D$12:$K$94,6,FALSE) -> 0 | K23: =VLOOKUP($D23,'RESUMEN-M (1)'!$D$12:$K$94,7,FALSE) -> 0 | L23: =VLOOKUP($D23,'RESUMEN-M (1)'!$D$12:$K$94,8,FALSE) -> 0.25 | M23: =IF(E23="NO HÁBIL",G23+H23+I23+J23+K23+L23,IF(E23="RECHAZADO",N23,F23+G23+H23+I23+N23+J23+K23+L23)) -> 36.610198 | Q23: =_xlfn.RANK.EQ(M23,$M$16:$M$76,0) -> 48 | R23: 8 | S23: =IF(R23="","",OFFSET($D$15,MATCH(B23,$Q$16:$Q$76,0),0)) -> BRAIN INGENIERIA VIAL SAS | T23: =IF(S23="","",VLOOKUP(S23,$D$16:$M$76,10,FALSE)) -> 97.040874
B24: 9 | C24: ='RESUMEN-M (1)'!C20 -> 9 | D24: ='RESUMEN-M (1)'!D20 -> INTERVAL2 | E24: =VLOOKUP(D24,'METODO DE PONDERACION'!D$41:G$101,2,FALSE) -> 523.71667 | F24: =IF(VLOOKUP(D24,'METODO DE PONDERACION'!D$41:G$101,4,FALSE)<0,0,VLOOKUP(D24,'METODO DE PONDERACION'!D$41:G$101,4,FALSE)) -> 65.307362 | G24: =VLOOKUP($D24,'RESUMEN-M (1)'!$D$12:$G$94,3,FALSE) -> 10 | H24: =VLOOKUP($D24,'RESUMEN-M (1)'!$D$12:$G$94,4,FALSE) -> 1 | I24: =VLOOKUP($D24,'RESUMEN-M (1)'!$D$12:$K$94,5,FALSE) -> 20 | J24: =VLOOKUP($D24,'RESUMEN-M (1)'!$D$12:$K$94,6,FALSE) -> 1 | K24: =VLOOKUP($D24,'RESUMEN-M (1)'!$D$12:$K$94,7,FALSE) -> 0.25 | L24: =VLOOKUP($D24,'RESUMEN-M (1)'!$D$12:$K$94,8,FALSE) -> 0.25 | M24: =IF(E24="NO HÁBIL",G24+H24+I24+J24+K24+L24,IF(E24="RECHAZADO",N24,F24+G24+H24+I24+N24+J24+K24+L24)) -> 97.807362 | Q24: =_xlfn.RANK.EQ(M24,$M$16:$M$76,0) -> 7 | R24: 9 | S24: =IF(R24="","",OFFSET($D$15,MATCH(B24,$Q$16:$Q$76,0),0)) -> CONSORCIO OJB | T24: =IF(S24="","",VLOOKUP(S24,$D$16:$M$76,10,FALSE)) -> 96.934359
B25: 10 | C25: ='RESUMEN-M (1)'!C21 -> 10 | D25: ='RESUMEN-M (1)'!D21 -> CONINTER JMJ SAS | E25: =VLOOKUP(D25,'METODO DE PONDERACION'!D$41:G$101,2,FALSE) -> 645.1 | F25: =IF(VLOOKUP(D25,'METODO DE PONDERACION'!D$41:G$101,4,FALSE)<0,0,VLOOKUP(D25,'METODO DE PONDERACION'!D$41:G$101,4,FALSE)) -> 54.556161 | G25: =VLOOKUP($D25,'RESUMEN-M (1)'!$D$12:$G$94,3,FALSE) -> 10 | H25: =VLOOKUP($D25,'RESUMEN-M (1)'!$D$12:$G$94,4,FALSE) -> 1 | I25: =VLOOKUP($D25,'RESUMEN-M (1)'!$D$12:$K$94,5,FALSE) -> 20 | J25: =VLOOKUP($D25,'RESUMEN-M (1)'!$D$12:$K$94,6,FALSE) -> 1 | K25: =VLOOKUP($D25,'RESUMEN-M (1)'!$D$12:$K$94,7,FALSE) -> 0.25 | L25: =VLOOKUP($D25,'RESUMEN-M (1)'!$D$12:$K$94,8,FALSE) -> 0.25 | M25: =IF(E25="NO HÁBIL",G25+H25+I25+J25+K25+L25,IF(E25="RECHAZADO",N25,F25+G25+H25+I25+N25+J25+K25+L25)) -> 87.056161 | Q25: =_xlfn.RANK.EQ(M25,$M$16:$M$76,0) -> 19 | R25: 10 | S25: =IF(R25="","",OFFSET($D$15,MATCH(B25,$Q$16:$Q$76,0),0)) -> CONSORCIO RED VIAL HUILA | T25: =IF(S25="","",VLOOKUP(S25,$D$16:$M$76,10,FALSE)) -> 96.763625
B26: 11 | C26: ='RESUMEN-M (1)'!C22 -> 11 | D26: ='RESUMEN-M (1)'!D22 -> CONSORCIO METRO CINCO | E26: =VLOOKUP(D26,'METODO DE PONDERACION'!D$41:G$101,2,FALSE) -> 3285.95 | F26: =IF(VLOOKUP(D26,'METODO DE PONDERACION'!D$41:G$101,4,FALSE)<0,0,VLOOKUP(D26,'METODO DE PONDERACION'!D$41:G$101,4,FALSE)) -> 0 | G26: =VLOOKUP($D26,'RESUMEN-M (1)'!$D$12:$G$94,3,FALSE) -> 10 | H26: =VLOOKUP($D26,'RESUMEN-M (1)'!$D$12:$G$94,4,FALSE) -> 1 | I26: =VLOOKUP($D26,'RESUMEN-M (1)'!$D$12:$K$94,5,FALSE) -> 20 | J26: =VLOOKUP($D26,'RESUMEN-M (1)'!$D$12:$K$94,6,FALSE) -> 1 | K26: =VLOOKUP($D26,'RESUMEN-M (1)'!$D$12:$K$94,7,FALSE) -> 0.25 | L26: =VLOOKUP($D26,'RESUMEN-M (1)'!$D$12:$K$94,8,FALSE) -> 0.25 | M26: =IF(E26="NO HÁBIL",G26+H26+I26+J26+K26+L26,IF(E26="RECHAZADO",N26,F26+G26+H26+I26+N26+J26+K26+L26)) -> 32.5 | Q26: =_xlfn.RANK.EQ(M26,$M$16:$M$76,0) -> 50 | R26: 11 | S26: =IF(R26="","",OFFSET($D$15,MATCH(B26,$Q$16:$Q$76,0),0)) -> CONSORCIO VIAS NRT | T26: =IF(S26="","",VLOOKUP(S26,$D$16:$M$76,10,FALSE)) -> 95.221504
B27: 12 | C27: ='RESUMEN-M (1)'!C23 -> 12 | D27: ='RESUMEN-M (1)'!D23 -> Consorcio INTERING | E27: =VLOOKUP(D27,'METODO DE PONDERACION'!D$41:G$101,2,FALSE) -> 2198.74 | F27: =IF(VLOOKUP(D27,'METODO DE PONDERACION'!D$41:G$101,4,FALSE)<0,0,VLOOKUP(D27,'METODO DE PONDERACION'!D$41:G$101,4,FALSE)) -> 0 | G27: =VLOOKUP($D27,'RESUMEN-M (1)'!$D$12:$G$94,3,FALSE) -> 10 | H27: =VLOOKUP($D27,'RESUMEN-M (1)'!$D$12:$G$94,4,FALSE) -> 1 | I27: =VLOOKUP($D27,'RESUMEN-M (1)'!$D$12:$K$94,5,FALSE) -> 20 | J27: =VLOOKUP($D27,'RESUMEN-M (1)'!$D$12:$K$94,6,FALSE) -> 0 | K27: =VLOOKUP($D27,'RESUMEN-M (1)'!$D$12:$K$94,7,FALSE) -> 0.25 | L27: =VLOOKUP($D27,'RESUMEN-M (1)'!$D$12:$K$94,8,FALSE) -> 0.25 | M27: =IF(E27="NO HÁBIL",G27+H27+I27+J27+K27+L27,IF(E27="RECHAZADO",N27,F27+G27+H27+I27+N27+J27+K27+L27)) -> 31.5 | Q27: =_xlfn.RANK.EQ(M27,$M$16:$M$76,0) -> 55 | R27: 12 | S27: =IF(R27="","",OFFSET($D$15,MATCH(B27,$Q$16:$Q$76,0),0)) -> MAVECA INGENIERIA S.A.S | T27: =IF(S27="","",VLOOKUP(S27,$D$16:$M$76,10,FALSE)) -> 93.8109
B28: 13 | C28: ='RESUMEN-M (1)'!C24 -> 13 | D28: ='RESUMEN-M (1)'!D24 -> CONSORCIO INFRAESTRUCT URA CAUCA | E28: =VLOOKUP(D28,'METODO DE PONDERACION'!D$41:G$101,2,FALSE) -> RECHAZADO | F28: =IF(VLOOKUP(D28,'METODO DE PONDERACION'!D$41:G$101,4,FALSE)<0,0,VLOOKUP(D28,'METODO DE PONDERACION'!D$41:G$101,4,FALSE)) | G28: =VLOOKUP($D28,'RESUMEN-M (1)'!$D$12:$G$94,3,FALSE) -> 10 | H28: =VLOOKUP($D28,'RESUMEN-M (1)'!$D$12:$G$94,4,FALSE) -> 1 | I28: =VLOOKUP($D28,'RESUMEN-M (1)'!$D$12:$K$94,5,FALSE) -> 0 | J28: =VLOOKUP($D28,'RESUMEN-M (1)'!$D$12:$K$94,6,FALSE) -> 1 | K28: =VLOOKUP($D28,'RESUMEN-M (1)'!$D$12:$K$94,7,FALSE) -> 0 | L28: =VLOOKUP($D28,'RESUMEN-M (1)'!$D$12:$K$94,8,FALSE) -> 0.25 | M28: =IF(E28="NO HÁBIL",G28+H28+I28+J28+K28+L28,IF(E28="RECHAZADO",N28,F28+G28+H28+I28+N28+J28+K28+L28)) -> 0 | Q28: =_xlfn.RANK.EQ(M28,$M$16:$M$76,0) -> 59 | R28: 13 | S28: =IF(R28="","",OFFSET($D$15,MATCH(B28,$Q$16:$Q$76,0),0)) -> C&A PROFESIONALES DE IN GENIERÍA S.A.S | T28: =IF(S28="","",VLOOKUP(S28,$D$16:$M$76,10,FALSE)) -> 92.074081
... B41: 26 | C41: ='RESUMEN-M (1)'!C37 -> 26 | D41: ='RESUMEN-M (1)'!D37 -> EQUILATERO SAS | E41: =VLOOKUP(D41,'METODO DE PONDERACION'!D$41:G$101,2,FALSE) -> 817.14 | F41: =IF(VLOOKUP(D41,'METODO DE PONDERACION'!D$41:G$101,4,FALSE)<0,0,VLOOKUP(D41,'METODO DE PONDERACION'!D$41:G$101,4,FALSE)) -> 33.102808 | G41: =VLOOKUP($D41,'RESUMEN-M (1)'!$D$12:$G$94,3,FALSE) -> 10 | H41: =VLOOKUP($D41,'RESUMEN-M (1)'!$D$12:$G$94,4,FALSE) -> 1 | I41: =VLOOKUP($D41,'RESUMEN-M (1)'!$D$12:$K$94,5,FALSE) -> 20 | J41: =VLOOKUP($D41,'RESUMEN-M (1)'!$D$12:$K$94,6,FALSE) -> 0 | K41: =VLOOKUP($D41,'RESUMEN-M (1)'!$D$12:$K$94,7,FALSE) -> 0.25 | L41: =VLOOKUP($D41,'RESUMEN-M (1)'!$D$12:$K$94,8,FALSE) -> 0.25 | M41: =IF(E41="NO HÁBIL",G41+H41+I41+J41+K41+L41,IF(E41="RECHAZADO",N41,F41+G41+H41+I41+N41+J41+K41+L41)) -> 64.602808 | Q41: =_xlfn.RANK.EQ(M41,$M$16:$M$76,0) -> 40 | R41: 26 | S41: =IF(R41="","",OFFSET($D$15,MATCH(B41,$Q$16:$Q$76,0),0)) -> INTERSA S.A. | T41: =IF(S41="","",VLOOKUP(S41,$D$16:$M$76,10,FALSE)) -> 83.25448
