Workbook
Name DEPENDENCIAS: Listas!$B$2:$B$16
Name METEVA: [1]LISTAS!$T$2:$T$5
Name RESULTADO: Listas!$C$2:$C$4

Sheet RESUMEN-M (1)
B1: INSTITUTO NACIONAL DE VÍAS
B2: DIRECCIÓN GENERAL
B3: DIRECCIÓN TERRITORIAL MAGDALENA
B4: CONCURSO DE MÉRITOS ABIERTO No CMA-DT-MAG-001-2024
B5: OBJETO: “INTERVENTORIA TÉCNICA, ADMINISTRATIVA, FINANCIERA Y AMBIENTAL, PARA EL MEJORAMIENTO Y MANTENIMIENTO DE LAS VÍAS: RICAURTE – HATOVIEJO CÓDIGO 78218 EN EL MUNICIPIO DE GUAMAL; Y SAN SEBASTIÁN - LOS GALVIS CÓDIGO 78141, EN EL MUNICIPIO DE SAN SEBASTIÁN DE BUENAVISTA, DEPARTAMENTO DEL MAGDALENA”.
B7: CUADRO No. 1
B8: RESULTADO FINAL DEL PROCESO DE EVALUACIÓN
B9: CONSECUTIVO | C9: PROPUESTA NÚMERO | D9: PROPONENTE | E9: CALIFICACIÓN OBTENIDA | F9: PUNTAJES OTORGADOS A LOS SIGUIENTES CRITERIOS:
F10: Equipo de trabajo | G10: Factor de sostenibilidad | H10: Apoyo a la industria nacional | I10: Vinculación de personas con discapacidad | J10: Emprendimientos y empresas mujeres | K10: Mipyme
B12: 1 | C12: 1 | D12: CONSORCIO CAP-SAS | E12: HÁBIL | F12: 10 | G12: 1 | H12: 20 | I12: 1 | J12: 0.25 | K12: 0.25
B13: 2 | C13: 2 | D13: BRAIN INGENIERIA VIAL SAS | E13: HÁBIL | F13: 10 | G13: 1 | H13: 20 | I13: 1 | J13: 0.25 | K13: 0.25
B14: 3 | C14: 3 | D14: CONSORCIO INTER CONSTR UCCION VIAL | E14: RECHAZADO | F14: 10 | G14: 1 | H14: 20 | I14: 1 | J14: 0.25 | K14: 0.25
B15: 4 | C15: 4 | D15: CONSORCIO INFRAVIAL | E15: HÁBIL | F15: 10 | G15: 1 | H15: 20 | I15: 1 | J15: 0.25 | K15: 0.25
B16: 5 | C16: 5 | D16: C&A PROFESIONALES DE IN GENIERÍA S.A.S | E16: HÁBIL | F16: 10 | G16: 1 | H16: 20 | I16: 1 | J16: 0.25 | K16: 0.25
B17: 6 | C17: 6 | D17: CONSORCIO VIAS NRT | E17: HÁBIL | F17: 10 | G17: 1 | H17: 20 | I17: 1 | J17: 0.25 | K17: 0.25
B18: 7 | C18: 7 | D18: INTERSA S.A. | E18: HÁBIL | F18: 10 | G18: 1 | H18: 20 | I18: 1 | J18: 0.25 | K18: 0.25
B19: 8 | C19: 8 | D19: PROESING | E19: HÁBIL | F19: 10 | G19: 1 | H19: 0 | I19: 0 | J19: 0 | K19: 0.25
B20: 9 | C20: 9 | D20: INTERVAL2 | E20: HÁBIL | F20: 10 | G20: 1 | H20: 20 | I20: 1 | J20: 0.25 | K20: 0.25
B21: 10 | C21: 10 | D21: CONINTER JMJ SAS | E21: HÁBIL | F21: 10 | G21: 1 | H21: 20 | I21: 1 | J21: 0.25 | K21: 0.25
B22: 11 | C22: 11 | D22: CONSORCIO METRO CINCO | E22: HÁBIL | F22: 10 | G22: 1 | H22: 20 | I22: 1 | J22: 0.25 | K22: 0.25
B23: 12 | C23: 12 | D23: Consorcio INTERING | E23: HÁBIL | F23: 10 | G23: 1 | H23: 20 | I23: 0 | J23: 0.25 | K23: 0.25
... B72: 61 | C72: 61 | D72: INTEGRAL MAGDALENA 78 | E72: HÁBIL | F72: 10 | G72: 1 | H72: 20 | I72: 1 | J72: 0.25 | K72: 0.25
B73: 84 | C73: 84 | F73: 20 | G73: 10 | K73: 1
B74: 85 | C74: 85 | F74: 20 | G74: 10 | K74: 1
B75: 86 | C75: 86 | F75: 20 | G75: 10 | K75: 0
B76: 87 | C76: 87 | F76: 20 | G76: 10 | K76: 1
B77: 88 | C77: 88 | F77: 20 | G77: 10 | K77: 1
B78: 89 | C78: 89 | F78: 20 | G78: 10 | K78: 1
B79: 90 | C79: 90 | F79: 20 | G79: 10 | K79: 1
B80: 91 | C80: 91 | F80: 20 | G80: 10 | K80: 0
B81: 92 | C81: 92 | F81: 20 | G81: 10 | K81: 1
B96: TOTALES | D96: HÁBIL | E96: =COUNTIF($E$12:$E$94,D96) -> 58
D97: NO HÁBIL | E97: =COUNTIF($E$12:$E$94,D97) -> 0
D98: RECHAZADO | E98: =COUNTIF($E$12:$E$94,D98) -> 3
D99: TOTAL | E99: =SUM(E96:E98) -> 61

Sheet Lista desplegable 1
A1: HÁBIL
A2: NO HÁBIL
A3: RECHAZADO

Sheet MEDIA GEOMETRICA
B1: ='RESUMEN-M (1)'!B1 -> INSTITUTO NACIONAL DE VÍAS
B2: ='RESUMEN-M (1)'!B2 -> DIRECCIÓN GENERAL
B3: ='RESUMEN-M (1)'!B3 -> DIRECCIÓN TERRITORIAL MAGDALENA
B4: ='RESUMEN-M (1)'!#REF! -> #REF!
B5: ='RESUMEN-M (1)'!B4 -> CONCURSO DE MÉRITOS ABIERTO No CMA-DT-MAG-001-2024
B6: ='RESUMEN-M (1)'!B5 -> OBJETO: “INTERVENTORIA TÉCNICA, ADMINISTRATIVA, FINANCIERA Y AMBIENTAL, PARA EL MEJORAMIENTO Y MANTENIMIENTO DE LAS VÍAS: RICAURTE – HATOVIEJO CÓDIGO 78218 EN EL MUNICIPIO DE GUAMAL; Y SAN SEBASTIÁN - LOS GALVIS CÓDIGO 78141, EN EL MUNICIPIO DE SAN SEBASTIÁN DE BUENAVISTA, DEPARTAMENTO DEL MAGDALENA”.
B7: ='RESUMEN-M (1)'!B6 -> 0
B8: CUADRO No. 3
B9: DETERMINACIÓN DEL PUNTAJE POR VALOR DE LA PROPUESTA
B10: MEDIA GEOMETRICA
B11: CONSECUTIVO | C11: PROP. No. | D11: PROPONENTE | E11: PROPUESTA ECONÓMICA | F11: PORCENTAJE DE OFRECIMIENTO MENOR AL PRECIO OFICIAL | G11: PUNTAJE ASIGNADO | AD11: =UPPER(P11) | AE11: =UPPER(Q11) | AF11: =UPPER(R11) | AG11: =UPPER(S11)
E12: ($)
D13: PROPUESTAS VALIDAS | E13: =COUNT(E17:E24) -> 0
G14: CONDICION
D15: PRESUPUESTO OFICIAL | E15: =#REF! -> #REF! | G15: admisible
G16: =DPRODUCT(G17:G26,"ofertas",G17:G26) -> #VALUE!
B17: 1 | C17: ='RESUMEN-M (1)'!C12 -> 1 | D17: ='RESUMEN-M (1)'!D12 -> CONSORCIO CAP-SAS | E17: =IF(ISTEXT(#REF!),"DESCARTADO",#REF! ) -> #REF! | F17: =IF(E17="DESCARTADO",,($E$15-E17)/$E$15) -> #REF! | G17: =IF(E17="DESCARTADO","",IF(E17<$E$34,$E$37*(1-(($E$34-E17)/$E$34)),$E$37*(1-2*(ABS($E$34-E17)/$E$34)))) -> #REF!
B18: 2 | C18: ='RESUMEN-M (1)'!C13 -> 2 | D18: ='RESUMEN-M (1)'!D13 -> BRAIN INGENIERIA VIAL SAS | E18: =IF(ISTEXT(#REF!),"DESCARTADO",#REF! ) -> #REF! | G18: =IF(E18="DESCARTADO","",IF(E18<$E$34,$E$37*(1-(($E$34-E18)/$E$34)),$E$37*(1-2*(ABS($E$34-E18)/$E$34)))) -> #REF!
B19: 3 | C19: ='RESUMEN-M (1)'!C14 -> 3 | D19: ='RESUMEN-M (1)'!D14 -> CONSORCIO INTER CONSTR UCCION VIAL | E19: =IF(ISTEXT(#REF!),"DESCARTADO",#REF! ) -> #REF! | G19: =IF(E19="DESCARTADO","",IF(E19<$E$34,$E$37*(1-(($E$34-E19)/$E$34)),$E$37*(1-2*(ABS($E$34-E19)/$E$34)))) -> #REF!
B20: 4 | C20: ='RESUMEN-M (1)'!#REF! -> #REF! | D20: ='RESUMEN-M (1)'!#REF! -> #REF! | E20: =IF(ISTEXT(#REF!),"DESCARTADO",#REF! ) -> #REF! | G20: =IF(E20="DESCARTADO","",IF(E20<$E$34,$E$37*(1-(($E$34-E20)/$E$34)),$E$37*(1-2*(ABS($E$34-E20)/$E$34)))) -> #REF!
B21: 5 | C21: ='RESUMEN-M (1)'!#REF! -> #REF! | D21: ='RESUMEN-M (1)'!#REF! -> #REF! | E21: =IF(ISTEXT(#REF!),"DESCARTADO",#REF! ) -> #REF! | G21: =IF(E21="DESCARTADO","",IF(E21<$E$34,$E$37*(1-(($E$34-E21)/$E$34)),$E$37*(1-2*(ABS($E$34-E21)/$E$34)))) -> #REF!
B22: 6 | C22: ='RESUMEN-M (1)'!#REF! -> #REF! | D22: ='RESUMEN-M (1)'!#REF! -> #REF! | E22: =IF(ISTEXT(#REF!),"DESCARTADO",#REF! ) -> #REF! | G22: =IF(E22="DESCARTADO","",IF(E22<$E$34,$E$37*(1-(($E$34-E22)/$E$34)),$E$37*(1-2*(ABS($E$34-E22)/$E$34)))) -> #REF!
B23: 7 | C23: ='RESUMEN-M (1)'!#REF! -> #REF! | D23: ='RESUMEN-M (1)'!#REF! -> #REF! | E23: =IF(ISTEXT(#REF!),"DESCARTADO",#REF! ) -> #REF! | G23: =IF(E23="DESCARTADO","",IF(E23<$E$34,$E$37*(1-(($E$34-E23)/$E$34)),$E$37*(1-2*(ABS($E$34-E23)/$E$34)))) -> #REF!
B24: 8 | C24: ='RESUMEN-M (1)'!#REF! -> #REF! | D24: ='RESUMEN-M (1)'!#REF! -> #REF! | E24: =IF(ISTEXT(#REF!),"DESCARTADO",#REF! ) -> #REF! | G24: =IF(E24="DESCARTADO","",IF(E24<$E$34,$E$37*(1-(($E$34-E24)/$E$34)),$E$37*(1-2*(ABS($E$34-E24)/$E$34)))) -> #REF!
AD28: 1 | AE28: 1 | AF28: =LOOKUP(AD28,AE28) -> 1
AD29: =AD28+1 -> 2 | AE29: 1 | AF29: =LOOKUP(AD29,AE29) -> 1
AD30: =AD29+1 -> 3 | AE30: 1 | AF30: =LOOKUP(AD30,AE30) -> 1
B31: PROPUESTAS VALIDAS=n | E31: =COUNT($E$17:$E$26) -> 0 | AD31: =AD30+1 -> 4 | AE31: 2 | AF31: =LOOKUP(AD31,AE31) -> 2
B32: NUMERO DE VECES A REPETIR EN PRESUPUESTO OFICIAL= nv | E32: =LOOKUP(E31,AD27:AD92,AE27:AE99) -> #N/A | AD32: =AD31+1 -> 5 | AE32: 2 | AF32: =LOOKUP(AD32,AE32) -> 2
B33: nv+n | E33: =E31+E32 -> #N/A | AD33: =AD32+1 -> 6 | AE33: 2 | AF33: =LOOKUP(AD33,AE33) -> 2
B34: MEDIA GEOMETRICA = Gpo | E34: =(POWER(POWER(E15,E32),1/E33))*((POWER(PRODUCT(E17:E26),1/E33))) -> #REF! | AD34: =AD33+1 -> 7 | AE34: 3 | AF34: =LOOKUP(AD34,AE34) -> 3
B35: MAXIMO | E35: =MAX(E17:E26) -> #REF! | AD35: =AD34+1 -> 8 | AE35: 3 | AF35: =LOOKUP(AD35,AE35) -> 3
B36: MINIMO | E36: =MIN(E17:E26) -> #REF! | AD36: =AD35+1 -> 9 | AE36: 3 | AF36: =LOOKUP(AD36,AE36) -> 3
B37: VALOR MAXIMO DE PUNTAJE PARA EL PROCESO | E37: 800 | F37: SEGÚN PROCESO | AD37: =AD36+1 -> 10 | AE37: 4 | AF37: =LOOKUP(AD37,AE37) -> 4
AD38: =AD37+1 -> 11 | AE38: 4 | AF38: =LOOKUP(AD38,AE38) -> 4
AD39: =AD38+1 -> 12 | AE39: 4 | AF39: =LOOKUP(AD39,AE39) -> 4
AD40: =AD39+1 -> 13 | AE40: 5 | AF40: =LOOKUP(AD40,AE40) -> 5
AD41: =AD40+1 -> 14 | AE41: 5 | AF41: =LOOKUP(AD41,AE41) -> 5
AD42: =AD41+1 -> 15 | AE42: 5 | AF42: =LOOKUP(AD42,AE42) -> 5
AD43: =AD42+1 -> 16 | AE43: 6 | AF43: =LOOKUP(AD43,AE43) -> 6
AD44: =AD43+1 -> 17 | AE44: 6 | AF44: =LOOKUP(AD44,AE44) -> 6
AD45: =AD44+1 -> 18 | AE45: 6 | AF45: =LOOKUP(AD45,AE45) -> 6
AD46: =AD45+1 -> 19 | AE46: 7 | AF46: =LOOKUP(AD46,AE46) -> 7
AD47: =AD46+1 -> 20 | AE47: 7 | AF47: =LOOKUP(AD47,AE47) -> 7
AD48: =AD47+1 -> 21 | AE48: 7 | AF48: =LOOKUP(AD48,AE48) -> 7
AD49: =AD48+1 -> 22 | AE49: 8 | AF49: =LOOKUP(AD49,AE49) -> 8
... AD83: =AD82+1 -> 56 | AE83: 20 | AF83: =LOOKUP(AD83,AE83) -> 20
AD84: =AD83+1 -> 57
AD85: =AD84+1 -> 58
AD86: =AD85+1 -> 59
AD87: =AD86+1 -> 60
AD88: =AD87+1 -> 61
AD89: =AD88+1 -> 62
AD90: =AD89+1 -> 63
AD91: =AD90+1 -> 64
AD92: =AD91+1 -> 65
AD93: =AD92+1 -> 66
AD94: =AD93+1 -> 67
AD95: =AD94+1 -> 68
... AD138: =AD137+1 -> 111

Sheet ELEGIBILIDAD M GEOMETRICA
B1: ='RESUMEN-M (1)'!B1 -> INSTITUTO NACIONAL DE VÍAS | P1: =B1 -> INSTITUTO NACIONAL DE VÍAS
B2: ='RESUMEN-M (1)'!B2 -> DIRECCIÓN GENERAL | P2: =B2 -> DIRECCIÓN GENERAL
B3: ='RESUMEN-M (1)'!B3 -> DIRECCIÓN TERRITORIAL MAGDALENA | P3: =B3 -> DIRECCIÓN TERRITORIAL MAGDALENA
B4: ='RESUMEN-M (1)'!#REF! -> #REF! | P4: =B4 -> #REF!
B5: ='RESUMEN-M (1)'!B4 -> CONCURSO DE MÉRITOS ABIERTO No CMA-DT-MAG-001-2024 | P5: =B5 -> CONCURSO DE MÉRITOS ABIERTO No CMA-DT-MAG-001-2024
B6: ='RESUMEN-M (1)'!B5 -> OBJETO: “INTERVENTORIA TÉCNICA, ADMINISTRATIVA, FINANCIERA Y AMBIENTAL, PARA EL MEJORAMIENTO Y MANTENIMIENTO DE LAS VÍAS: RICAURTE – HATOVIEJO CÓDIGO 78218 EN EL MUNICIPIO DE GUAMAL; Y SAN SEBASTIÁN - LOS GALVIS CÓDIGO 78141, EN EL MUNICIPIO DE SAN SEBASTIÁN DE BUENAVISTA, DEPARTAMENTO DEL MAGDALENA”. | P6: =B6 -> OBJETO: “INTERVENTORIA TÉCNICA, ADMINISTRATIVA, FINANCIERA Y AMBIENTAL, PARA EL MEJORAMIENTO Y MANTENIMIENTO DE LAS VÍAS: RICAURTE – HATOVIEJO CÓDIGO 78218 EN EL MUNICIPIO DE GUAMAL; Y SAN SEBASTIÁN - LOS GALVIS CÓDIGO 78141, EN EL MUNICIPIO DE SAN SEBASTIÁN DE BUENAVISTA, DEPARTAMENTO DEL MAGDALENA”.
B7: ='RESUMEN-M (1)'!B6 -> 0 | P7: =B7 -> 0
B8: CUADRO No. 4 | P8: CUADRO No. 5
B9: RESÚMEN DE LA PONDERACIÓN OTORGADA
P10: ORDEN DE ELEGIBILIDAD
O11: JERARQUIA
B12: CONSECUTIVO | C12: PROPUESTA NUMERO | D12: PROPONENTE | E12: PROPUESTA ECONÓMICA | F12: DIFERENCIA RESPECTO A LA MEDIA $ | G12: CONDICIÓN FINAL | H12: PUNTAJES OTORGADOS A LOS SIGUIENTES CRITERIOS: | L12: PUNTAJE DEFINITIVO | M12: CIFRA DE AJUSTE
E13: ($) | H13: Precio | I13: Industria Nacional | J13: Reincorporados | K13: Condiciones Técnicas Adicionales.Y/0 FACTOR DE CALIDAD | P13: =VLOOKUP(Q16,D16:E25,2,FALSE) -> #N/A
D14: PROPUESTAS VÁLIDAS | E14: =COUNT(E16:E25) -> 0 | H14: ='MEDIA GEOMETRICA'!E37 -> 800 | I14: 100 | K14: 100 | L14: =H14+I14+J14+K14 -> 1000 | P14: No. | Q14: PROPONENTE | R14: PUNTAJE
B16: 1 | C16: ='RESUMEN-M (1)'!C12 -> 1 | D16: ='RESUMEN-M (1)'!D12 -> CONSORCIO CAP-SAS | E16: ='MEDIA GEOMETRICA'!E17 -> #REF! | F16: =ABS('MEDIA GEOMETRICA'!$E$34-'MEDIA GEOMETRICA'!E17) -> #REF! | G16: =IF(E16="DESCARTADO","DESCARTADO","ADMISIBLE") -> #REF! | H16: =VLOOKUP($D16,'MEDIA GEOMETRICA'!$D$17:$G$26,4,FALSE) -> #REF! | I16: =VLOOKUP($D16,'RESUMEN-M (1)'!$D$12:$G$16,3,FALSE) -> 10 | K16: =VLOOKUP($D16,'RESUMEN-M (1)'!$D$12:$G$16,5,FALSE) -> #REF! | L16: =IF(E16="DESCARTADO",-M16,H16+I16+J16+K16+M16) -> #REF! | O16: =RANK(L16,$L$16:$L$23,0) -> #REF! | P16: 1 | Q16: =IF(P16="","",OFFSET($D$15,MATCH(B16,$O$16:$O$23,0),0)) -> #N/A | R16: =IF(Q16="","",VLOOKUP(Q16,$D$16:$L$25,9,FALSE)) -> #N/A
B17: 2 | C17: ='RESUMEN-M (1)'!C13 -> 2 | D17: ='RESUMEN-M (1)'!D13 -> BRAIN INGENIERIA VIAL SAS | E17: ='MEDIA GEOMETRICA'!E18 -> #REF! | F17: =ABS('MEDIA GEOMETRICA'!$E$34-'MEDIA GEOMETRICA'!E18) -> #REF! | G17: =IF(E17="DESCARTADO","DESCARTADO","ADMISIBLE") -> #REF! | H17: =VLOOKUP($D17,'MEDIA GEOMETRICA'!$D$17:$G$26,4,FALSE) -> #REF! | I17: =VLOOKUP($D17,'RESUMEN-M (1)'!$D$12:$G$16,3,FALSE) -> 10 | K17: =VLOOKUP($D17,'RESUMEN-M (1)'!$D$12:$G$16,5,FALSE) -> #REF! | L17: =IF(E17="DESCARTADO",-M17,H17+I17+J17+K17+M17) -> #REF! | O17: =RANK(L17,$L$16:$L$23,0) -> #REF! | P17: 2 | Q17: =IF(P17="","",OFFSET($D$15,MATCH(B17,$O$16:$O$23,0),0)) -> #N/A | R17: =IF(Q17="","",VLOOKUP(Q17,$D$16:$L$25,9,FALSE)) -> #N/A
B18: 3 | C18: ='RESUMEN-M (1)'!C14 -> 3 | D18: ='RESUMEN-M (1)'!D14 -> CONSORCIO INTER CONSTR UCCION VIAL | E18: ='MEDIA GEOMETRICA'!E19 -> #REF! | F18: =ABS('MEDIA GEOMETRICA'!$E$34-'MEDIA GEOMETRICA'!E19) -> #REF! | G18: =IF(E18="DESCARTADO","DESCARTADO","ADMISIBLE") -> #REF! | H18: =VLOOKUP($D18,'MEDIA GEOMETRICA'!$D$17:$G$26,4,FALSE) -> #REF! | I18: =VLOOKUP($D18,'RESUMEN-M (1)'!$D$12:$G$16,3,FALSE) -> 10 | K18: =VLOOKUP($D18,'RESUMEN-M (1)'!$D$12:$G$16,5,FALSE) -> #REF! | L18: =IF(E18="DESCARTADO",-M18,H18+I18+J18+K18+M18) -> #REF! | O18: =RANK(L18,$L$16:$L$23,0) -> #REF! | P18: 3 | Q18: =IF(P18="","",OFFSET($D$15,MATCH(B18,$O$16:$O$23,0),0)) -> #N/A | R18: =IF(Q18="","",VLOOKUP(Q18,$D$16:$L$25,9,FALSE)) -> #N/A
B19: 4 | C19: ='RESUMEN-M (1)'!#REF! -> #REF! | D19: ='RESUMEN-M (1)'!#REF! -> #REF! | E19: ='MEDIA GEOMETRICA'!E20 -> #REF! | F19: =ABS('MEDIA GEOMETRICA'!$E$34-'MEDIA GEOMETRICA'!E20) -> #REF! | G19: =IF(E19="DESCARTADO","DESCARTADO","ADMISIBLE") -> #REF! | H19: =VLOOKUP($D19,'MEDIA GEOMETRICA'!$D$17:$G$26,4,FALSE) -> #REF! | I19: =VLOOKUP($D19,'RESUMEN-M (1)'!$D$12:$G$16,3,FALSE) -> #REF! | K19: =VLOOKUP($D19,'RESUMEN-M (1)'!$D$12:$G$16,5,FALSE) -> #REF! | L19: =IF(E19="DESCARTADO",-M19,H19+I19+J19+K19+M19) -> #REF! | O19: =RANK(L19,$L$16:$L$23,0) -> #REF! | P19: 4 | Q19: =IF(P19="","",OFFSET($D$15,MATCH(B19,$O$16:$O$23,0),0)) -> #N/A | R19: =IF(Q19="","",VLOOKUP(Q19,$D$16:$L$25,9,FALSE)) -> #N/A
B20: 5 | C20: ='RESUMEN-M (1)'!#REF! -> #REF! | D20: ='RESUMEN-M (1)'!#REF! -> #REF! | E20: ='MEDIA GEOMETRICA'!E21 -> #REF! | F20: =ABS('MEDIA GEOMETRICA'!$E$34-'MEDIA GEOMETRICA'!E21) -> #REF! | G20: =IF(E20="DESCARTADO","DESCARTADO","ADMISIBLE") -> #REF! | H20: =VLOOKUP($D20,'MEDIA GEOMETRICA'!$D$17:$G$26,4,FALSE) -> #REF! | I20: =VLOOKUP($D20,'RESUMEN-M (1)'!$D$12:$G$16,3,FALSE) -> #REF! | K20: =VLOOKUP($D20,'RESUMEN-M (1)'!$D$12:$G$16,5,FALSE) -> #REF! | L20: =IF(E20="DESCARTADO",-M20,H20+I20+J20+K20+M20) -> #REF! | O20: =RANK(L20,$L$16:$L$23,0) -> #REF! | P20: 5 | Q20: =IF(P20="","",OFFSET($D$15,MATCH(B20,$O$16:$O$23,0),0)) -> #N/A | R20: =IF(Q20="","",VLOOKUP(Q20,$D$16:$L$25,9,FALSE)) -> #N/A
B21: 6 | C21: ='RESUMEN-M (1)'!#REF! -> #REF! | D21: ='RESUMEN-M (1)'!#REF! -> #REF! | E21: ='MEDIA GEOMETRICA'!E22 -> #REF! | F21: =ABS('MEDIA GEOMETRICA'!$E$34-'MEDIA GEOMETRICA'!E22) -> #REF! | G21: =IF(E21="DESCARTADO","DESCARTADO","ADMISIBLE") -> #REF! | H21: =VLOOKUP($D21,'MEDIA GEOMETRICA'!$D$17:$G$26,4,FALSE) -> #REF! | I21: =VLOOKUP($D21,'RESUMEN-M (1)'!$D$12:$G$16,3,FALSE) -> #REF! | K21: =VLOOKUP($D21,'RESUMEN-M (1)'!$D$12:$G$16,5,FALSE) -> #REF! | L21: =IF(E21="DESCARTADO",-M21,H21+I21+J21+K21+M21) -> #REF! | O21: =RANK(L21,$L$16:$L$23,0) -> #REF! | P21: 6 | Q21: =IF(P21="","",OFFSET($D$15,MATCH(B21,$O$16:$O$23,0),0)) -> #N/A | R21: =IF(Q21="","",VLOOKUP(Q21,$D$16:$L$25,9,FALSE)) -> #N/A
B22: 7 | C22: ='RESUMEN-M (1)'!#REF! -> #REF! | D22: ='RESUMEN-M (1)'!#REF! -> #REF! | E22: ='MEDIA GEOMETRICA'!E23 -> #REF! | F22: =ABS('MEDIA GEOMETRICA'!$E$34-'MEDIA GEOMETRICA'!E23) -> #REF! | G22: =IF(E22="DESCARTADO","DESCARTADO","ADMISIBLE") -> #REF! | H22: =VLOOKUP($D22,'MEDIA GEOMETRICA'!$D$17:$G$26,4,FALSE) -> #REF! | I22: =VLOOKUP($D22,'RESUMEN-M (1)'!$D$12:$G$16,3,FALSE) -> #REF! | K22: =VLOOKUP($D22,'RESUMEN-M (1)'!$D$12:$G$16,5,FALSE) -> #REF! | L22: =IF(E22="DESCARTADO",-M22,H22+I22+J22+K22+M22) -> #REF! | O22: =RANK(L22,$L$16:$L$23,0) -> #REF! | P22: 7 | Q22: =IF(P22="","",OFFSET($D$15,MATCH(B22,$O$16:$O$23,0),0)) -> #N/A | R22: =IF(Q22="","",VLOOKUP(Q22,$D$16:$L$25,9,FALSE)) -> #N/A
B23: 8 | C23: ='RESUMEN-M (1)'!#REF! -> #REF! | D23: ='RESUMEN-M (1)'!#REF! -> #REF! | E23: ='MEDIA GEOMETRICA'!E24 -> #REF! | F23: =ABS('MEDIA GEOMETRICA'!$E$34-'MEDIA GEOMETRICA'!E24) -> #REF! | G23: =IF(E23="DESCARTADO","DESCARTADO","ADMISIBLE") -> #REF! | H23: =VLOOKUP($D23,'MEDIA GEOMETRICA'!$D$17:$G$26,4,FALSE) -> #REF! | I23: =VLOOKUP($D23,'RESUMEN-M (1)'!$D$12:$G$16,3,FALSE) -> #REF! | K23: =VLOOKUP($D23,'RESUMEN-M (1)'!$D$12:$G$16,5,FALSE) -> #REF! | L23: =IF(E23="DESCARTADO",-M23,H23+I23+J23+K23+M23) -> #REF! | O23: =RANK(L23,$L$16:$L$23,0) -> #REF! | P23: 8 | Q23: =IF(P23="","",OFFSET($D$15,MATCH(B23,$O$16:$O$23,0),0)) -> #N/A | R23: =IF(Q23="","",VLOOKUP(Q23,$D$16:$L$25,9,FALSE)) -> #N/A
P28: =IF(P13="DESCARTADO","MODULO DESIERTO","") -> #N/A

Sheet MEDIA ARITMETICA
B1: ='RESUMEN-M (1)'!B1 -> INSTITUTO NACIONAL DE VÍAS
B2: ='RESUMEN-M (1)'!B2 -> DIRECCIÓN GENERAL
B3: ='RESUMEN-M (1)'!B3 -> DIRECCIÓN TERRITORIAL MAGDALENA
B4: ='RESUMEN-M (1)'!#REF! -> #REF!
B5: ='RESUMEN-M (1)'!B4 -> CONCURSO DE MÉRITOS ABIERTO No CMA-DT-MAG-001-2024
B6: ='RESUMEN-M (1)'!B5 -> OBJETO: “INTERVENTORIA TÉCNICA, ADMINISTRATIVA, FINANCIERA Y AMBIENTAL, PARA EL MEJORAMIENTO Y MANTENIMIENTO DE LAS VÍAS: RICAURTE – HATOVIEJO CÓDIGO 78218 EN EL MUNICIPIO DE GUAMAL; Y SAN SEBASTIÁN - LOS GALVIS CÓDIGO 78141, EN EL MUNICIPIO DE SAN SEBASTIÁN DE BUENAVISTA, DEPARTAMENTO DEL MAGDALENA”.
B7: ='RESUMEN-M (1)'!B6 -> 0
B8: CUADRO No. 3
B9: DETERMINACIÓN DEL PUNTAJE POR VALOR DE LA PROPUESTA
B10: MEDIA ARITMETICA
B11: CONSECUTIVO | C11: PROP. No. | D11: PROPONENTE | E11: PROPUESTA ECONÓMICA | F11: DIFERENCIA ENTRE LA MEDIA Y LA PROPUESTA | G11: PORCENTAJE DE OFRECIMIENTO MENOR AL PRECIO OFICIAL | H11: PUNTAJE POR PRECIO OFRECIDO | I11: CON RESPECTO A PRESUPUESTO OFICIAL | J11: CON RESPECTO A PRECIO DE REFERENCIA ( 1 ) | K11: CON RESPECTO A PRECIO DE REFERENCIA ( 2 ) | AE11: =UPPER(Q11) | AF11: =UPPER(R11) | AG11: =UPPER(S11) | AH11: =UPPER(T11)
E12: ($)
D13: PROPUESTAS VALIDAS | E13: =COUNT(E17:E27) -> 0
F14: Porcentaje mejora | H14: CONDICION
D15: PRESUPUESTO OFICIAL | E15: =#REF! -> #REF! | F15: <0 | H15: admisible
B17: 1 | C17: ='RESUMEN-M (1)'!C12 -> 1 | D17: ='RESUMEN-M (1)'!D12 -> CONSORCIO CAP-SAS | E17: =IF(ISTEXT(#REF!),"DESCARTADO",#REF! ) -> #REF! | F17: =IF(E17="DESCARTADO","DESCARTADO",ABS((E31-E17))) -> #REF! | G17: =IF(F17="DESCARTADO","DESCARTADO",($E$15-E17)/$E$15) -> #REF! | H17: =IF(E17="DESCARTADO","",IF(E17<$E$31,$E$32*(1-(($E$31-E17)/$E$31)),$E$32*(1-2*(ABS($E$31-E17)/$E$31)))) -> #REF! | I17: =IF(#REF!<>"",#REF!/$E$15,"") -> #REF! | J17: =IF(#REF!<>"",#REF!/$E$33,"") -> #REF! | K17: =IF(#REF!<>"",#REF!/#REF!,"") -> #REF!
B18: 2 | C18: ='RESUMEN-M (1)'!C13 -> 2 | D18: ='RESUMEN-M (1)'!D13 -> BRAIN INGENIERIA VIAL SAS | E18: =IF(ISTEXT(#REF!),"DESCARTADO",#REF! ) -> #REF! | H18: =IF(E18="DESCARTADO","",IF(E18<$E$31,$E$32*(1-(($E$31-E18)/$E$31)),$E$32*(1-2*(ABS($E$31-E18)/$E$31)))) -> #REF!
B19: 3 | C19: ='RESUMEN-M (1)'!C14 -> 3 | D19: ='RESUMEN-M (1)'!D14 -> CONSORCIO INTER CONSTR UCCION VIAL | E19: =IF(ISTEXT(#REF!),"DESCARTADO",#REF! ) -> #REF! | H19: =IF(E19="DESCARTADO","",IF(E19<$E$31,$E$32*(1-(($E$31-E19)/$E$31)),$E$32*(1-2*(ABS($E$31-E19)/$E$31)))) -> #REF!
B20: 4 | C20: ='RESUMEN-M (1)'!#REF! -> #REF! | D20: ='RESUMEN-M (1)'!#REF! -> #REF! | E20: =IF(ISTEXT(#REF!),"DESCARTADO",#REF! ) -> #REF! | H20: =IF(E20="DESCARTADO","",IF(E20<$E$31,$E$32*(1-(($E$31-E20)/$E$31)),$E$32*(1-2*(ABS($E$31-E20)/$E$31)))) -> #REF!
B21: 5 | C21: ='RESUMEN-M (1)'!#REF! -> #REF! | D21: ='RESUMEN-M (1)'!#REF! -> #REF! | E21: =IF(ISTEXT(#REF!),"DESCARTADO",#REF! ) -> #REF! | H21: =IF(E21="DESCARTADO","",IF(E21<$E$31,$E$32*(1-(($E$31-E21)/$E$31)),$E$32*(1-2*(ABS($E$31-E21)/$E$31)))) -> #REF!
B22: 6 | C22: ='RESUMEN-M (1)'!#REF! -> #REF! | D22: ='RESUMEN-M (1)'!#REF! -> #REF! | E22: =IF(ISTEXT(#REF!),"DESCARTADO",#REF! ) -> #REF! | H22: =IF(E22="DESCARTADO","",IF(E22<$E$31,$E$32*(1-(($E$31-E22)/$E$31)),$E$32*(1-2*(ABS($E$31-E22)/$E$31)))) -> #REF!
B23: 7 | C23: ='RESUMEN-M (1)'!#REF! -> #REF! | D23: ='RESUMEN-M (1)'!#REF! -> #REF! | E23: =IF(ISTEXT(#REF!),"DESCARTADO",#REF! ) -> #REF! | H23: =IF(E23="DESCARTADO","",IF(E23<$E$31,$E$32*(1-(($E$31-E23)/$E$31)),$E$32*(1-2*(ABS($E$31-E23)/$E$31)))) -> #REF!
B24: 8 | C24: ='RESUMEN-M (1)'!#REF! -> #REF! | D24: ='RESUMEN-M (1)'!#REF! -> #REF! | E24: =IF(ISTEXT(#REF!),"DESCARTADO",#REF! ) -> #REF! | H24: =IF(E24="DESCARTADO","",IF(E24<$E$31,$E$32*(1-(($E$31-E24)/$E$31)),$E$32*(1-2*(ABS($E$31-E24)/$E$31)))) -> #REF!
F28: PORCENTAJE DE MEJORA | H28: ESTADO PROPUESTA DE ACUERDO AL RANGO
F29: <0 | H29: admisible
B31: Media Aritmética =X1 | E31: =IF(E13=0,0,AVERAGE(E17:E27)) -> 0 | F31: CANTIDAD
B32: VALOR DE LA PROPUESTA PARA ESTE PROCESO | E32: 800
B33: VALOR MAXIMO | E33: =MAX(E17:E27) -> #REF! | F33: =COUNTIF(E17:E27,"DESCARTADO")+COUNTIF(E17:E27,"ES MENOR Q' LI. INFER.")+COUNTIF(E17:E27,"ES MAYOR Q' LIM. SUPER.") -> 0
B34: VALOR MINIMO | E34: =MIN(E16:E27) -> #REF!

Sheet ELEGIBILIDAD MEDIA ARITMETICA)
B1: ='RESUMEN-M (1)'!B1 -> INSTITUTO NACIONAL DE VÍAS | Q1: =B1 -> INSTITUTO NACIONAL DE VÍAS
B2: ='RESUMEN-M (1)'!B2 -> DIRECCIÓN GENERAL | Q2: =B2 -> DIRECCIÓN GENERAL
B3: ='RESUMEN-M (1)'!B3 -> DIRECCIÓN TERRITORIAL MAGDALENA | Q3: =B3 -> DIRECCIÓN TERRITORIAL MAGDALENA
B4: ='RESUMEN-M (1)'!#REF! -> #REF! | Q4: =B4 -> #REF!
B5: ='RESUMEN-M (1)'!B4 -> CONCURSO DE MÉRITOS ABIERTO No CMA-DT-MAG-001-2024 | Q5: =B5 -> CONCURSO DE MÉRITOS ABIERTO No CMA-DT-MAG-001-2024
B6: ='RESUMEN-M (1)'!B5 -> OBJETO: “INTERVENTORIA TÉCNICA, ADMINISTRATIVA, FINANCIERA Y AMBIENTAL, PARA EL MEJORAMIENTO Y MANTENIMIENTO DE LAS VÍAS: RICAURTE – HATOVIEJO CÓDIGO 78218 EN EL MUNICIPIO DE GUAMAL; Y SAN SEBASTIÁN - LOS GALVIS CÓDIGO 78141, EN EL MUNICIPIO DE SAN SEBASTIÁN DE BUENAVISTA, DEPARTAMENTO DEL MAGDALENA”. | Q6: =B6 -> OBJETO: “INTERVENTORIA TÉCNICA, ADMINISTRATIVA, FINANCIERA Y AMBIENTAL, PARA EL MEJORAMIENTO Y MANTENIMIENTO DE LAS VÍAS: RICAURTE – HATOVIEJO CÓDIGO 78218 EN EL MUNICIPIO DE GUAMAL; Y SAN SEBASTIÁN - LOS GALVIS CÓDIGO 78141, EN EL MUNICIPIO DE SAN SEBASTIÁN DE BUENAVISTA, DEPARTAMENTO DEL MAGDALENA”.
B7: ='RESUMEN-M (1)'!B6 -> 0 | Q7: =B7 -> 0
B8: CUADRO No. 4 | Q8: CUADRO No. 5
B9: RESÚMEN DE LA PONDERACIÓN OTORGADA
Q10: ORDEN DE ELEGIBILIDAD
P11: JERARQUIA
B12: CONSECUTIVO | C12: PROPUESTA NUMERO | D12: PROPONENTE | E12: PROPUESTA ECONÓMICA | F12: PORCENTAJE DE MEJORA | G12: CONDICIÓN FINAL | H12: PUNTAJES OTORGADOS A LOS SIGUIENTES CRITERIOS: | L12: PUNTAJE DEFINITIVO | M12: CIFRA DE AJUSTE
E13: ($) | F13: (%) | H13: Precio | I13: Industria Nacional | J13: Reincorporados | K13: Condiciones Técnicas Adicionales. | Q13: =VLOOKUP(R16,D16:E28,2,FALSE) -> #N/A
D14: PROPUESTAS VÁLIDAS | E14: =COUNT(E16:E28) -> 0 | H14: ='MEDIA ARITMETICA'!E32 -> 800 | I14: 100 | K14: 100 | L14: =H14+I14+J14+K14 -> 1000 | Q14: No. | R14: PROPONENTE | S14: PUNTAJE
B16: 1 | C16: ='RESUMEN-M (1)'!C12 -> 1 | D16: ='RESUMEN-M (1)'!D12 -> CONSORCIO CAP-SAS | E16: ='MEDIA ARITMETICA'!E17 -> #REF! | F16: ='MEDIA ARITMETICA'!F17 -> #REF! | H16: =VLOOKUP($D16,'MEDIA ARITMETICA'!$D$13:$I$27,5,FALSE) -> #REF! | I16: =VLOOKUP($D16,'RESUMEN-M (1)'!$D$12:$G$94,3,FALSE) -> 10 | K16: =VLOOKUP($D16,'RESUMEN-M (1)'!$D$12:$G$94,5,FALSE) -> #REF! | L16: =IF(E16="DESCARTADO",-M16,H16+I16+J16+K16+M16) -> #REF! | P16: =RANK(L16,$L$16:$L$23,0) -> #REF! | Q16: 1 | R16: =IF(Q16="","",OFFSET($D$15,MATCH(B16,$P$16:$P$28,0),0)) -> #N/A | S16: =IF(R16="","",VLOOKUP(R16,$D$16:$L$28,9,FALSE)) -> #N/A
B17: 2 | C17: ='RESUMEN-M (1)'!C13 -> 2 | D17: ='RESUMEN-M (1)'!D13 -> BRAIN INGENIERIA VIAL SAS | E17: ='MEDIA ARITMETICA'!E18 -> #REF! | H17: =VLOOKUP($D17,'MEDIA ARITMETICA'!$D$13:$I$27,5,FALSE) -> #REF! | I17: =VLOOKUP($D17,'RESUMEN-M (1)'!$D$12:$G$94,3,FALSE) -> 10 | K17: =VLOOKUP($D17,'RESUMEN-M (1)'!$D$12:$G$94,5,FALSE) -> #REF! | L17: =IF(E17="DESCARTADO",-M17,H17+I17+J17+K17+M17) -> #REF! | P17: =RANK(L17,$L$16:$L$23,0) -> #REF! | Q17: 2 | R17: =IF(Q17="","",OFFSET($D$15,MATCH(B17,$P$16:$P$28,0),0)) -> #N/A | S17: =IF(R17="","",VLOOKUP(R17,$D$16:$L$28,9,FALSE)) -> #N/A
B18: 3 | C18: ='RESUMEN-M (1)'!C14 -> 3 | D18: ='RESUMEN-M (1)'!D14 -> CONSORCIO INTER CONSTR UCCION VIAL | E18: ='MEDIA ARITMETICA'!E19 -> #REF! | H18: =VLOOKUP($D18,'MEDIA ARITMETICA'!$D$13:$I$27,5,FALSE) -> #REF! | I18: =VLOOKUP($D18,'RESUMEN-M (1)'!$D$12:$G$94,3,FALSE) -> 10 | K18: =VLOOKUP($D18,'RESUMEN-M (1)'!$D$12:$G$94,5,FALSE) -> #REF! | L18: =IF(E18="DESCARTADO",-M18,H18+I18+J18+K18+M18) -> #REF! | P18: =RANK(L18,$L$16:$L$23,0) -> #REF! | Q18: 3 | R18: =IF(Q18="","",OFFSET($D$15,MATCH(B18,$P$16:$P$28,0),0)) -> #N/A | S18: =IF(R18="","",VLOOKUP(R18,$D$16:$L$28,9,FALSE)) -> #N/A
B19: 4 | C19: ='RESUMEN-M (1)'!#REF! -> #REF! | D19: ='RESUMEN-M (1)'!#REF! -> #REF! | E19: ='MEDIA ARITMETICA'!E20 -> #REF! | H19: =VLOOKUP($D19,'MEDIA ARITMETICA'!$D$13:$I$27,5,FALSE) -> #REF! | I19: =VLOOKUP($D19,'RESUMEN-M (1)'!$D$12:$G$94,3,FALSE) -> #REF! | K19: =VLOOKUP($D19,'RESUMEN-M (1)'!$D$12:$G$94,5,FALSE) -> #REF! | L19: =IF(E19="DESCARTADO",-M19,H19+I19+J19+K19+M19) -> #REF! | P19: =RANK(L19,$L$16:$L$23,0) -> #REF! | Q19: 4 | R19: =IF(Q19="","",OFFSET($D$15,MATCH(B19,$P$16:$P$28,0),0)) -> #N/A | S19: =IF(R19="","",VLOOKUP(R19,$D$16:$L$28,9,FALSE)) -> #N/A
B20: 5 | C20: ='RESUMEN-M (1)'!#REF! -> #REF! | D20: ='RESUMEN-M (1)'!#REF! -> #REF! | E20: ='MEDIA ARITMETICA'!E21 -> #REF! | H20: =VLOOKUP($D20,'MEDIA ARITMETICA'!$D$13:$I$27,5,FALSE) -> #REF! | I20: =VLOOKUP($D20,'RESUMEN-M (1)'!$D$12:$G$94,3,FALSE) -> #REF! | K20: =VLOOKUP($D20,'RESUMEN-M (1)'!$D$12:$G$94,5,FALSE) -> #REF! | L20: =IF(E20="DESCARTADO",-M20,H20+I20+J20+K20+M20) -> #REF! | P20: =RANK(L20,$L$16:$L$23,0) -> #REF! | Q20: 5 | R20: =IF(Q20="","",OFFSET($D$15,MATCH(B20,$P$16:$P$28,0),0)) -> #N/A | S20: =IF(R20="","",VLOOKUP(R20,$D$16:$L$28,9,FALSE)) -> #N/A
B21: 6 | C21: ='RESUMEN-M (1)'!#REF! -> #REF! | D21: ='RESUMEN-M (1)'!#REF! -> #REF! | E21: ='MEDIA ARITMETICA'!E22 -> #REF! | H21: =VLOOKUP($D21,'MEDIA ARITMETICA'!$D$13:$I$27,5,FALSE) -> #REF! | I21: =VLOOKUP($D21,'RESUMEN-M (1)'!$D$12:$G$94,3,FALSE) -> #REF! | K21: =VLOOKUP($D21,'RESUMEN-M (1)'!$D$12:$G$94,5,FALSE) -> #REF! | L21: =IF(E21="DESCARTADO",-M21,H21+I21+J21+K21+M21) -> #REF! | P21: =RANK(L21,$L$16:$L$23,0) -> #REF! | Q21: 6 | R21: =IF(Q21="","",OFFSET($D$15,MATCH(B21,$P$16:$P$28,0),0)) -> #N/A | S21: =IF(R21="","",VLOOKUP(R21,$D$16:$L$28,9,FALSE)) -> #N/A
B22: 7 | C22: ='RESUMEN-M (1)'!#REF! -> #REF! | D22: ='RESUMEN-M (1)'!#REF! -> #REF! | E22: ='MEDIA ARITMETICA'!E23 -> #REF! | H22: =VLOOKUP($D22,'MEDIA ARITMETICA'!$D$13:$I$27,5,FALSE) -> #REF! | I22: =VLOOKUP($D22,'RESUMEN-M (1)'!$D$12:$G$94,3,FALSE) -> #REF! | K22: =VLOOKUP($D22,'RESUMEN-M (1)'!$D$12:$G$94,5,FALSE) -> #REF! | L22: =IF(E22="DESCARTADO",-M22,H22+I22+J22+K22+M22) -> #REF! | P22: =RANK(L22,$L$16:$L$23,0) -> #REF! | Q22: 7 | R22: =IF(Q22="","",OFFSET($D$15,MATCH(B22,$P$16:$P$28,0),0)) -> #N/A | S22: =IF(R22="","",VLOOKUP(R22,$D$16:$L$28,9,FALSE)) -> #N/A
B23: 8 | C23: ='RESUMEN-M (1)'!#REF! -> #REF! | D23: ='RESUMEN-M (1)'!#REF! -> #REF! | E23: ='MEDIA ARITMETICA'!E24 -> #REF! | H23: =VLOOKUP($D23,'MEDIA ARITMETICA'!$D$13:$I$27,5,FALSE) -> #REF! | I23: =VLOOKUP($D23,'RESUMEN-M (1)'!$D$12:$G$94,3,FALSE) -> #REF! | K23: =VLOOKUP($D23,'RESUMEN-M (1)'!$D$12:$G$94,5,FALSE) -> #REF! | L23: =IF(E23="DESCARTADO",-M23,H23+I23+J23+K23+M23) -> #REF! | P23: =RANK(L23,$L$16:$L$23,0) -> #REF! | Q23: 8 | R23: =IF(Q23="","",OFFSET($D$15,MATCH(B23,$P$16:$P$28,0),0)) -> #N/A | S23: =IF(R23="","",VLOOKUP(R23,$D$16:$L$28,9,FALSE)) -> #N/A
P24: =RANK(L24,$L$16:$L$22,0) -> #REF! | Q24: 9 | R24: =IF(Q24="","",OFFSET($D$15,MATCH(B24,$P$16:$P$28,0),0)) -> #N/A | S24: =IF(R24="","",VLOOKUP(R24,$D$16:$L$28,9,FALSE)) -> #N/A
P25: =RANK(L25,$L$16:$L$22,0) -> #REF! | S25: =IF(R25="","",VLOOKUP(R25,$D$16:$L$28,9,FALSE))
P26: =RANK(L26,$L$16:$L$22,0) -> #REF! | S26: =IF(R26="","",VLOOKUP(R26,$D$16:$L$28,9,FALSE))
P27: =RANK(L27,$L$16:$L$22,0) -> #REF!
P28: =RANK(L28,$L$16:$L$22,0) -> #REF!
P29: =RANK(L29,$L$16:$L$22,0) -> #REF!
P30: =RANK(L30,$L$16:$L$22,0) -> #REF!
P31: =RANK(L31,$L$16:$L$22,0) -> #REF! | Q31: SI(N19="","",DESREF($C$15,COINCIDIR(B19,$M$16:$M$19,0),0))

Sheet PROM-CTOS EXP
A1: ='RESUMEN-M (1)'!B1 -> INSTITUTO NACIONAL DE VÍAS
A2: ='RESUMEN-M (1)'!B2 -> DIRECCIÓN GENERAL
A3: ='RESUMEN-M (1)'!B3 -> DIRECCIÓN TERRITORIAL MAGDALENA
A4: ='RESUMEN-M (1)'!B4 -> CONCURSO DE MÉRITOS ABIERTO No CMA-DT-MAG-001-2024
A5: ='RESUMEN-M (1)'!B5 -> OBJETO: “INTERVENTORIA TÉCNICA, ADMINISTRATIVA, FINANCIERA Y AMBIENTAL, PARA EL MEJORAMIENTO Y MANTENIMIENTO DE LAS VÍAS: RICAURTE – HATOVIEJO CÓDIGO 78218 EN EL MUNICIPIO DE GUAMAL; Y SAN SEBASTIÁN - LOS GALVIS CÓDIGO 78141, EN EL MUNICIPIO DE SAN SEBASTIÁN DE BUENAVISTA, DEPARTAMENTO DEL MAGDALENA”.
A6: PROP. No. | B6: PROPONENTE | D6: CONTRATOS VALIDOS | J6: PROMEDIO CONTRATOS VALIDOS
C7: CALIFICACION OBTENIDA | D7: (SMMLV) | J7: (SMMLV)
D8: 1 | E8: 2 | F8: 3 | G8: 4 | H8: 5 | I8: 6
A9: 1 | B9: =VLOOKUP(A9,'RESUMEN-M (1)'!B$12:D$93,3,FALSE) -> CONSORCIO CAP-SAS | C9: ='RESUMEN-M (1)'!E12 -> HÁBIL | D9: 687.56 | E9: 30.66 | J9: =IF(C9="HÁBIL",AVERAGE(D9:I9),C9) -> 359.11
A10: 2 | B10: =VLOOKUP(A10,'RESUMEN-M (1)'!B$12:D$93,3,FALSE) -> BRAIN INGENIERIA VIAL SAS | C10: ='RESUMEN-M (1)'!E13 -> HÁBIL | D10: 517.57 | J10: =IF(C10="HÁBIL",AVERAGE(D10:I10),C10) -> 517.57
A11: 3 | B11: =VLOOKUP(A11,'RESUMEN-M (1)'!B$12:D$93,3,FALSE) -> CONSORCIO INTER CONSTR UCCION VIAL | C11: ='RESUMEN-M (1)'!E14 -> RECHAZADO | D11: 774.68 | J11: =IF(C11="HÁBIL",AVERAGE(D11:I11),C11) -> RECHAZADO
A12: 4 | B12: =VLOOKUP(A12,'RESUMEN-M (1)'!B$12:D$93,3,FALSE) -> CONSORCIO INFRAVIAL | C12: ='RESUMEN-M (1)'!E15 -> HÁBIL | D12: 360.67 | J12: =IF(C12="HÁBIL",AVERAGE(D12:I12),C12) -> 360.67
A13: 5 | B13: =VLOOKUP(A13,'RESUMEN-M (1)'!B$12:D$93,3,FALSE) -> C&A PROFESIONALES DE IN GENIERÍA S.A.S | C13: ='RESUMEN-M (1)'!E16 -> HÁBIL | D13: 477.74 | J13: =IF(C13="HÁBIL",AVERAGE(D13:I13),C13) -> 477.74
A14: 6 | B14: =VLOOKUP(A14,'RESUMEN-M (1)'!B$12:D$93,3,FALSE) -> CONSORCIO VIAS NRT | C14: ='RESUMEN-M (1)'!E17 -> HÁBIL | D14: 502.98 | J14: =IF(C14="HÁBIL",AVERAGE(D14:I14),C14) -> 502.98
A15: 7 | B15: =VLOOKUP(A15,'RESUMEN-M (1)'!B$12:D$93,3,FALSE) -> INTERSA S.A. | C15: ='RESUMEN-M (1)'!E18 -> HÁBIL | D15: 444.85 | E15: 185.76 | F15: 590.43 | J15: =IF(C15="HÁBIL",AVERAGE(D15:I15),C15) -> 407.01333
A16: 8 | B16: =VLOOKUP(A16,'RESUMEN-M (1)'!B$12:D$93,3,FALSE) -> PROESING | C16: ='RESUMEN-M (1)'!E19 -> HÁBIL | D16: 203.37 | J16: =IF(C16="HÁBIL",AVERAGE(D16:I16),C16) -> 203.37
A17: 9 | B17: =VLOOKUP(A17,'RESUMEN-M (1)'!B$12:D$93,3,FALSE) -> INTERVAL2 | C17: ='RESUMEN-M (1)'!E20 -> HÁBIL | D17: 536.51 | E17: 445.14 | F17: 589.5 | J17: =IF(C17="HÁBIL",AVERAGE(D17:I17),C17) -> 523.71667
A18: 10 | B18: =VLOOKUP(A18,'RESUMEN-M (1)'!B$12:D$93,3,FALSE) -> CONINTER JMJ SAS | C18: ='RESUMEN-M (1)'!E21 -> HÁBIL | D18: 645.1 | J18: =IF(C18="HÁBIL",AVERAGE(D18:I18),C18) -> 645.1
A19: 11 | B19: =VLOOKUP(A19,'RESUMEN-M (1)'!B$12:D$93,3,FALSE) -> CONSORCIO METRO CINCO | C19: ='RESUMEN-M (1)'!E22 -> HÁBIL | D19: 7351.85 | E19: 2177.35 | F19: 328.65 | J19: =IF(C19="HÁBIL",AVERAGE(D19:I19),C19) -> 3285.95
A20: 12 | B20: =VLOOKUP(A20,'RESUMEN-M (1)'!B$12:D$93,3,FALSE) -> Consorcio INTERING | C20: ='RESUMEN-M (1)'!E23 -> HÁBIL | D20: 2198.74 | J20: =IF(C20="HÁBIL",AVERAGE(D20:I20),C20) -> 2198.74
A21: 13 | B21: =VLOOKUP(A21,'RESUMEN-M (1)'!B$12:D$93,3,FALSE) -> CONSORCIO INFRAESTRUCT URA CAUCA | C21: ='RESUMEN-M (1)'!E24 -> RECHAZADO | D21: 496.11 | J21: =IF(C21="HÁBIL",AVERAGE(D21:I21),C21) -> RECHAZADO
A22: 14 | B22: =VLOOKUP(A22,'RESUMEN-M (1)'!B$12:D$93,3,FALSE) -> CONSORCIO HUPK VIAS MAG DALENA | C22: ='RESUMEN-M (1)'!E25 -> HÁBIL | D22: 479.08 | E22: 95.97 | J22: =IF(C22="HÁBIL",AVERAGE(D22:I22),C22) -> 287.525
A23: 15 | B23: =VLOOKUP(A23,'RESUMEN-M (1)'!B$12:D$93,3,FALSE) -> CONSORCIO INTER VIAL G& G | C23: ='RESUMEN-M (1)'!E26 -> HÁBIL | D23: 301.505 | E23: 841.33 | F23: 155.57 | J23: =IF(C23="HÁBIL",AVERAGE(D23:I23),C23) -> 432.80167
A24: 16 | B24: =VLOOKUP(A24,'RESUMEN-M (1)'!B$12:D$93,3,FALSE) -> IC INGENIO CIVIL | C24: ='RESUMEN-M (1)'!E27 -> HÁBIL | D24: 321.035 | E24: 237.96 | J24: =IF(C24="HÁBIL",AVERAGE(D24:I24),C24) -> 279.4975
A25: 17 | B25: =VLOOKUP(A25,'RESUMEN-M (1)'!B$12:D$93,3,FALSE) -> MORAM CONSULTORIA SAS | C25: ='RESUMEN-M (1)'!E28 -> HÁBIL | D25: 352.955 | J25: =IF(C25="HÁBIL",AVERAGE(D25:I25),C25) -> 352.955
A26: 18 | B26: =VLOOKUP(A26,'RESUMEN-M (1)'!B$12:D$93,3,FALSE) -> VELNEC S.A. | C26: ='RESUMEN-M (1)'!E29 -> HÁBIL | D26: 1119.75 | J26: =IF(C26="HÁBIL",AVERAGE(D26:I26),C26) -> 1119.75
A27: 19 | B27: =VLOOKUP(A27,'RESUMEN-M (1)'!B$12:D$93,3,FALSE) -> CONSULTORES SOLANO NA VAS LTDA | C27: ='RESUMEN-M (1)'!E30 -> HÁBIL | D27: 853.665 | E27: 490.86 | F27: 255.323 | J27: =IF(C27="HÁBIL",AVERAGE(D27:I27),C27) -> 533.28267
A28: 20 | B28: =VLOOKUP(A28,'RESUMEN-M (1)'!B$12:D$93,3,FALSE) -> MAVECA INGENIERIA S.A.S | C28: ='RESUMEN-M (1)'!E31 -> HÁBIL | D28: 58.41 | E28: 452.21 | F28: 511.01 | G28: 26.32 | H28: 1906.71 | J28: =IF(C28="HÁBIL",AVERAGE(D28:I28),C28) -> 590.932
A29: 21 | B29: =VLOOKUP(A29,'RESUMEN-M (1)'!B$12:D$93,3,FALSE) -> CONSORCIO SF 2023 | C29: ='RESUMEN-M (1)'!E32 -> HÁBIL | D29: 446.07 | J29: =IF(C29="HÁBIL",AVERAGE(D29:I29),C29) -> 446.07
A30: 22 | B30: =VLOOKUP(A30,'RESUMEN-M (1)'!B$12:D$93,3,FALSE) -> ALMA INTERVENTORÍA & CONSULTORÍA S.A.S. | C30: ='RESUMEN-M (1)'!E33 -> HÁBIL | D30: 1277.76 | J30: =IF(C30="HÁBIL",AVERAGE(D30:I30),C30) -> 1277.76
A31: 23 | B31: =VLOOKUP(A31,'RESUMEN-M (1)'!B$12:D$93,3,FALSE) -> JMELO INGENIERÍA DE PROYECTOS S.A.S. | C31: ='RESUMEN-M (1)'!E34 -> HÁBIL | D31: 319.88 | E31: 331.69 | J31: =IF(C31="HÁBIL",AVERAGE(D31:I31),C31) -> 325.785
A32: 24 | B32: =VLOOKUP(A32,'RESUMEN-M (1)'!B$12:D$93,3,FALSE) -> SEIING SAS BIC | C32: ='RESUMEN-M (1)'!E35 -> HÁBIL | D32: 368.75 | J32: =IF(C32="HÁBIL",AVERAGE(D32:I32),C32) -> 368.75
A33: 25 | B33: =VLOOKUP(A33,'RESUMEN-M (1)'!B$12:D$93,3,FALSE) -> JET INGENIERIA SAS | C33: ='RESUMEN-M (1)'!E36 -> HÁBIL | D33: 130.66 | E33: 257.6 | F33: 645.39 | J33: =IF(C33="HÁBIL",AVERAGE(D33:I33),C33) -> 344.55
A34: 26 | B34: =VLOOKUP(A34,'RESUMEN-M (1)'!B$12:D$93,3,FALSE) -> EQUILATERO SAS | C34: ='RESUMEN-M (1)'!E37 -> HÁBIL | D34: 817.14 | J34: =IF(C34="HÁBIL",AVERAGE(D34:I34),C34) -> 817.14
A35: 27 | B35: =VLOOKUP(A35,'RESUMEN-M (1)'!B$12:D$93,3,FALSE) -> CONSORCIO CB-TALATAA | C35: ='RESUMEN-M (1)'!E38 -> HÁBIL | D35: 5.85 | E35: 48.73 | F35: 75.82 | G35: 2236.76 | H35: 14.68 | J35: =IF(C35="HÁBIL",AVERAGE(D35:I35),C35) -> 476.368
A36: 28 | B36: =VLOOKUP(A36,'RESUMEN-M (1)'!B$12:D$93,3,FALSE) -> D&B INGENIEROS CIVILES S. A.S. | C36: ='RESUMEN-M (1)'!E39 -> HÁBIL | D36: 254.44 | E36: 233.98 | J36: =IF(C36="HÁBIL",AVERAGE(D36:I36),C36) -> 244.21
A37: 29 | B37: =VLOOKUP(A37,'RESUMEN-M (1)'!B$12:D$93,3,FALSE) -> CONSORCIO OJB | C37: ='RESUMEN-M (1)'!E40 -> HÁBIL | D37: 1475.52 | E37: 50.44 | F37: 171.6925 | J37: =IF(C37="HÁBIL",AVERAGE(D37:F37),F37) -> 565.88417
A38: 30 | B38: =VLOOKUP(A38,'RESUMEN-M (1)'!B$12:D$93,3,FALSE) -> PROYECTISTAS DE COLOMB IA & CIA SAS | C38: ='RESUMEN-M (1)'!E41 -> HÁBIL | D38: 459.09 | J38: =IF(C38="HÁBIL",AVERAGE(D38:I38),C38) -> 459.09
A39: 31 | B39: =VLOOKUP(A39,'RESUMEN-M (1)'!B$12:D$93,3,FALSE) -> CONSORCIO AESA-BALER | C39: ='RESUMEN-M (1)'!E42 -> HÁBIL | D39: 1647.47 | E39: 859 | F39: 43.52 | J39: =IF(C39="HÁBIL",AVERAGE(D39:I39),C39) -> 849.99667
A40: 32 | B40: =VLOOKUP(A40,'RESUMEN-M (1)'!B$12:D$93,3,FALSE) -> CONSORCIO INTERVIAL GM | C40: ='RESUMEN-M (1)'!E43 -> HÁBIL | D40: 1249.75 | J40: =IF(C40="HÁBIL",AVERAGE(D40:I40),C40) -> 1249.75
A41: 33 | B41: =VLOOKUP(A41,'RESUMEN-M (1)'!B$12:D$93,3,FALSE) -> G&C | C41: ='RESUMEN-M (1)'!E44 -> HÁBIL | D41: 720.59 | J41: =IF(C41="HÁBIL",AVERAGE(D41:I41),C41) -> 720.59
A42: 34 | B42: =VLOOKUP(A42,'RESUMEN-M (1)'!B$12:D$93,3,FALSE) -> CONSORCIO GC | C42: ='RESUMEN-M (1)'!E45 -> HÁBIL | D42: 238.08 | J42: =IF(C42="HÁBIL",AVERAGE(D42:I42),C42) -> 238.08
A43: 35 | B43: =VLOOKUP(A43,'RESUMEN-M (1)'!B$12:D$93,3,FALSE) -> CONSORCIO CABAC-AZIMUT | C43: ='RESUMEN-M (1)'!E46 -> HÁBIL | D43: 529.21 | J43: =IF(C43="HÁBIL",AVERAGE(D43:I43),C43) -> 529.21
A44: 36 | B44: =VLOOKUP(A44,'RESUMEN-M (1)'!B$12:D$93,3,FALSE) -> ARQUICIVILES CONSTRUCTO RA SAS | C44: ='RESUMEN-M (1)'!E47 -> HÁBIL | D44: 380.38 | J44: =IF(C44="HÁBIL",AVERAGE(D44:I44),C44) -> 380.38
A45: 37 | B45: =VLOOKUP(A45,'RESUMEN-M (1)'!B$12:D$93,3,FALSE) -> VERTICE INTERVENTORIA D E PROYECTOS SAS | C45: ='RESUMEN-M (1)'!E48 -> HÁBIL | D45: 403.36 | J45: =IF(C45="HÁBIL",AVERAGE(D45:I45),C45) -> 403.36
A46: 38 | B46: =VLOOKUP(A46,'RESUMEN-M (1)'!B$12:D$93,3,FALSE) -> CONSORCIO INTERVENTORE S AC | C46: ='RESUMEN-M (1)'!E49 -> HÁBIL | D46: 302.63 | E46: 752.36 | J46: =IF(C46="HÁBIL",AVERAGE(D46:I46),C46) -> 527.495
A47: 39 | B47: =VLOOKUP(A47,'RESUMEN-M (1)'!B$12:D$93,3,FALSE) -> CONSORCIO RED VIAL HUILA | C47: ='RESUMEN-M (1)'!E50 -> HÁBIL | D47: 609.59 | E47: 183.09 | F47: 909.08 | J47: =IF(C47="HÁBIL",AVERAGE(D47:I47),C47) -> 567.25333
A48: 40 | B48: =VLOOKUP(A48,'RESUMEN-M (1)'!B$12:D$93,3,FALSE) -> CONSORCIO SAMUEL 2024 | C48: ='RESUMEN-M (1)'!E51 -> HÁBIL | D48: 1076.78 | J48: =IF(C48="HÁBIL",AVERAGE(D48:I48),C48) -> 1076.78
A49: 41 | B49: =VLOOKUP(A49,'RESUMEN-M (1)'!B$12:D$93,3,FALSE) -> CONSORCIO NOGAC | C49: ='RESUMEN-M (1)'!E52 -> HÁBIL | D49: 426.14 | J49: =IF(C49="HÁBIL",AVERAGE(D49:I49),C49) -> 426.14
A50: 42 | B50: =VLOOKUP(A50,'RESUMEN-M (1)'!B$12:D$93,3,FALSE) -> HR ING SAS | C50: ='RESUMEN-M (1)'!E53 -> HÁBIL | D50: 412.72 | J50: =IF(C50="HÁBIL",AVERAGE(D50:I50),C50) -> 412.72
A51: 43 | B51: =VLOOKUP(A51,'RESUMEN-M (1)'!B$12:D$93,3,FALSE) -> UCPI MAGDALENA | C51: ='RESUMEN-M (1)'!E54 -> HÁBIL | D51: 2242.4 | E51: 1666.254 | F51: 562.941 | J51: =IF(C51="HÁBIL",AVERAGE(D51:I51),C51) -> 1490.5317
A52: 44 | B52: =VLOOKUP(A52,'RESUMEN-M (1)'!B$12:D$93,3,FALSE) -> VIGAVI ZOMAC S.A.S | C52: ='RESUMEN-M (1)'!E55 -> HÁBIL | D52: 418.56 | J52: =IF(C52="HÁBIL",AVERAGE(D52:I52),C52) -> 418.56
A53: 45 | B53: =VLOOKUP(A53,'RESUMEN-M (1)'!B$12:D$93,3,FALSE) -> CONSTRUCTORA VISAA S.A. S. | C53: ='RESUMEN-M (1)'!E56 -> HÁBIL | D53: 83.11 | E53: 16.91 | F53: 34.419 | G53: 189.455 | J53: =IF(C53="HÁBIL",AVERAGE(D53:I53),C53) -> 80.9735
A54: 46 | B54: =VLOOKUP(A54,'RESUMEN-M (1)'!B$12:D$93,3,FALSE) -> CONSORCIO INTERVIAS A.S. A. | C54: ='RESUMEN-M (1)'!E57 -> HÁBIL | D54: 842.072 | E54: 654.024 | J54: =IF(C54="HÁBIL",AVERAGE(D54:I54),C54) -> 748.048
A55: 47 | B55: =VLOOKUP(A55,'RESUMEN-M (1)'!B$12:D$93,3,FALSE) -> LEMOINE RIVERA INGENIEROS ASOCIADOS SAS | C55: ='RESUMEN-M (1)'!E58 -> HÁBIL | D55: 438.1707 | J55: =IF(C55="HÁBIL",AVERAGE(D55:I55),C55) -> 438.1707
A56: 48 | B56: =VLOOKUP(A56,'RESUMEN-M (1)'!B$12:D$93,3,FALSE) -> AVGR INGENIERIA S.A.S. | C56: ='RESUMEN-M (1)'!E59 -> HÁBIL | D56: 773.28 | E56: 309.32 | J56: =IF(C56="HÁBIL",AVERAGE(D56:I56),C56) -> 541.3
A57: 49 | B57: =VLOOKUP(A57,'RESUMEN-M (1)'!B$12:D$93,3,FALSE) -> ICE S.A.S. | C57: ='RESUMEN-M (1)'!E60 -> HÁBIL | D57: 1317.93 | E57: 937.41 | F57: 1668.38 | G57: 182.64 | J57: =IF(C57="HÁBIL",AVERAGE(D57:I57),C57) -> 1026.59
A58: 50 | B58: =VLOOKUP(A58,'RESUMEN-M (1)'!B$12:D$93,3,FALSE) -> CONSORCIO INTER JC MAG | C58: ='RESUMEN-M (1)'!E61 -> RECHAZADO | D58: 776.8815 | E58: 410.635 | J58: =IF(C58="HÁBIL",AVERAGE(D58:I58),C58) -> RECHAZADO
A59: 51 | B59: =VLOOKUP(A59,'RESUMEN-M (1)'!B$12:D$93,3,FALSE) -> CONSORCIO VIAL 2023 | C59: ='RESUMEN-M (1)'!E62 -> HÁBIL | D59: 1702.17 | J59: =IF(C59="HÁBIL",AVERAGE(D59:I59),C59) -> 1702.17
A60: 52 | B60: =VLOOKUP(A60,'RESUMEN-M (1)'!B$12:D$93,3,FALSE) -> SAICON SAS | C60: ='RESUMEN-M (1)'!E63 -> HÁBIL | D60: 534.4 | J60: =IF(C60="HÁBIL",AVERAGE(D60:I60),C60) -> 534.4
A61: 53 | B61: =VLOOKUP(A61,'RESUMEN-M (1)'!B$12:D$93,3,FALSE) -> SOTA LTDA | C61: ='RESUMEN-M (1)'!E64 -> HÁBIL | D61: 856.21 | J61: =IF(C61="HÁBIL",AVERAGE(D61:I61),C61) -> 856.21
A62: 54 | B62: =VLOOKUP(A62,'RESUMEN-M (1)'!B$12:D$93,3,FALSE) -> JAMES ALBERTO KAMMERER JIMENEZ | C62: ='RESUMEN-M (1)'!E65 -> HÁBIL | D62: 1229.9 | J62: =IF(C62="HÁBIL",AVERAGE(D62:I62),C62) -> 1229.9
A63: 55 | B63: =VLOOKUP(A63,'RESUMEN-M (1)'!B$12:D$93,3,FALSE) -> DBB INGENIERÍA SAS | C63: ='RESUMEN-M (1)'!E66 -> HÁBIL | D63: 631.25 | E63: 237.35 | J63: =IF(C63="HÁBIL",AVERAGE(D63:I63),C63) -> 434.3
A64: 56 | B64: =VLOOKUP(A64,'RESUMEN-M (1)'!B$12:D$93,3,FALSE) -> LITORAL CONSULTING SAS | C64: ='RESUMEN-M (1)'!E67 -> HÁBIL | D64: 837.68 | E64: 109.49 | F64: 593.9 | G64: 161.66 | J64: =IF(C64="HÁBIL",AVERAGE(D64:I64),C64) -> 425.6825
A65: 57 | B65: =VLOOKUP(A65,'RESUMEN-M (1)'!B$12:D$93,3,FALSE) -> CONSORCIO HGR - INCON | C65: ='RESUMEN-M (1)'!E68 -> HÁBIL | D65: 532.98 | J65: =IF(C65="HÁBIL",AVERAGE(D65:I65),C65) -> 532.98
A66: 58 | B66: =VLOOKUP(A66,'RESUMEN-M (1)'!B$12:D$93,3,FALSE) -> INGEOCILCON S.A.S. | C66: ='RESUMEN-M (1)'!E69 -> HÁBIL | D66: 553.39 | E66: 1948.29 | J66: =IF(C66="HÁBIL",AVERAGE(D66:I66),C66) -> 1250.84
A67: 59 | B67: =VLOOKUP(A67,'RESUMEN-M (1)'!B$12:D$93,3,FALSE) -> CONSORCIO VÍAS PROTEV | C67: ='RESUMEN-M (1)'!E70 -> HÁBIL | D67: 847.77 | E67: 88.63 | J67: =IF(C67="HÁBIL",AVERAGE(D67:I67),C67) -> 468.2
A68: 60 | B68: =VLOOKUP(A68,'RESUMEN-M (1)'!B$12:D$93,3,FALSE) -> GER&PRO S.A.S | C68: ='RESUMEN-M (1)'!E71 -> HÁBIL | D68: 400.94 | J68: =IF(C68="HÁBIL",AVERAGE(D68:I68),C68) -> 400.94
A69: 61 | B69: =VLOOKUP(A69,'RESUMEN-M (1)'!B$12:D$93,3,FALSE) -> INTEGRAL MAGDALENA 78 | C69: ='RESUMEN-M (1)'!E72 -> HÁBIL | D69: 231.09 | J69: =IF(C69="HÁBIL",AVERAGE(D69:I69),C69) -> 231.09
A70: 84 | B70: =VLOOKUP(A70,'RESUMEN-M (1)'!B$12:D$93,3,FALSE) -> 0 | C70: ='RESUMEN-M (1)'!E73 -> 0 | J70: =IF(C70="HÁBIL",AVERAGE(D70:I70),C70) -> 0
A71: 85 | B71: =VLOOKUP(A71,'RESUMEN-M (1)'!B$12:D$93,3,FALSE) -> 0 | C71: ='RESUMEN-M (1)'!E74 -> 0 | J71: =IF(C71="HÁBIL",AVERAGE(D71:I71),C71) -> 0
A72: 86 | B72: =VLOOKUP(A72,'RESUMEN-M (1)'!B$12:D$93,3,FALSE) -> 0 | C72: ='RESUMEN-M (1)'!E75 -> 0 | J72: =IF(C72="HÁBIL",AVERAGE(D72:I72),C72) -> 0
A73: 87 | B73: =VLOOKUP(A73,'RESUMEN-M (1)'!B$12:D$93,3,FALSE) -> 0 | C73: ='RESUMEN-M (1)'!E76 -> 0 | J73: =IF(C73="HÁBIL",AVERAGE(D73:I73),C73) -> 0
A74: 88 | B74: =VLOOKUP(A74,'RESUMEN-M (1)'!B$12:D$93,3,FALSE) -> 0 | C74: ='RESUMEN-M (1)'!E77 -> 0 | J74: =IF(C74="HÁBIL",AVERAGE(D74:I74),C74) -> 0
A75: 89 | B75: =VLOOKUP(A75,'RESUMEN-M (1)'!B$12:D$93,3,FALSE) -> 0 | C75: ='RESUMEN-M (1)'!E78 -> 0 | J75: =IF(C75="HÁBIL",AVERAGE(D75:I75),C75) -> 0
A76: 90 | B76: =VLOOKUP(A76,'RESUMEN-M (1)'!B$12:D$93,3,FALSE) -> 0 | C76: ='RESUMEN-M (1)'!E79 -> 0 | J76: =IF(C76="HÁBIL",AVERAGE(D76:I76),C76) -> 0
A77: 91 | B77: =VLOOKUP(A77,'RESUMEN-M (1)'!B$12:D$93,3,FALSE) -> 0 | C77: ='RESUMEN-M (1)'!E80 -> 0 | J77: =IF(C77="HÁBIL",AVERAGE(D77:I77),C77) -> 0
A78: 92 | B78: =VLOOKUP(A78,'RESUMEN-M (1)'!B$12:D$93,3,FALSE) -> 0 | C78: ='RESUMEN-M (1)'!E81 -> 0 | J78: =IF(C78="HÁBIL",AVERAGE(D78:I78),C78) -> 0
A79: 93 | B79: =VLOOKUP(A79,'RESUMEN-M (1)'!B$12:D$93,3,FALSE) -> #N/A | C79: ='RESUMEN-M (1)'!E82 -> 0 | J79: =IF(C79="HÁBIL",AVERAGE(D79:I79),C79) -> 0
A80: 94 | B80: =VLOOKUP(A80,'RESUMEN-M (1)'!B$12:D$93,3,FALSE) -> #N/A | C80: ='RESUMEN-M (1)'!E83 -> 0 | J80: =IF(C80="HÁBIL",AVERAGE(D80:I80),C80) -> 0
A81: 95 | B81: =VLOOKUP(A81,'RESUMEN-M (1)'!B$12:D$93,3,FALSE) -> #N/A | C81: ='RESUMEN-M (1)'!E84 -> 0 | J81: =IF(C81="HÁBIL",AVERAGE(D81:I81),C81) -> 0
... A90: 104 | B90: =VLOOKUP(A90,'RESUMEN-M (1)'!B$12:D$93,3,FALSE) -> #N/A | C90: ='RESUMEN-M (1)'!E93 -> 0 | J90: =IF(C90="HÁBIL",AVERAGE(D90:I90),C90) -> 0

Sheet METODO DE PONDERACION
B1: ='RESUMEN-M (1)'!B1 -> INSTITUTO NACIONAL DE VÍAS
B2: ='RESUMEN-M (1)'!B2 -> DIRECCIÓN GENERAL
B3: ='RESUMEN-M (1)'!B3 -> DIRECCIÓN TERRITORIAL MAGDALENA
B4: ='RESUMEN-M (1)'!#REF! -> #REF!
B5: ='RESUMEN-M (1)'!B4 -> CONCURSO DE MÉRITOS ABIERTO No CMA-DT-MAG-001-2024
B6: ='RESUMEN-M (1)'!B5 -> OBJETO: “INTERVENTORIA TÉCNICA, ADMINISTRATIVA, FINANCIERA Y AMBIENTAL, PARA EL MEJORAMIENTO Y MANTENIMIENTO DE LAS VÍAS: RICAURTE – HATOVIEJO CÓDIGO 78218 EN EL MUNICIPIO DE GUAMAL; Y SAN SEBASTIÁN - LOS GALVIS CÓDIGO 78141, EN EL MUNICIPIO DE SAN SEBASTIÁN DE BUENAVISTA, DEPARTAMENTO DEL MAGDALENA”.
B7: ='RESUMEN-M (1)'!B6 -> 0
B8: CUADRO No. 3
B9: DETERMINACIÓN DEL PUNTAJE POR VALOR DE LA PROPUESTA
B10: LOTE A EJECUTAR | D10: No. de Módulos del Proceso | E10: Determinación del Método para la Ponderación de la Propuesta Económica | H10: 45489
D11: 1 | E11: TRM DEL DÍA DE LA INSTALACIÓN DE LA AUDIENCIA DE ASIGNACIÓN DE PUNTAJE | G11: Valor = | H11: 3948.41
B12: 1 | D12: Último Método Utilizado | G12: CENTESIMAS = | H12: =100*(H11-INT(H11)) -> 41
D13: NO APLICA | E13: MÉTODO DE PONDERACIÓN = | G13: =IF(OR(B12=1,D13=""),IF(AND(H12>=0,H12<=33),"MEDIANA CON VALOR ABSOLUTO",IF(AND(H12>=34,H12<=66),"MEDIA GEOMÉTRICA",IF(AND(H12>=67,H12<=99),"MEDIA ARITMÉTICA ALTA","MENOR VALOR"))),IF(D13="MEDIANA CON VALOR ABSOLUTO","MEDIA GEOMÉTRICA",IF(D13="MEDIA GEOMÉTRICA","MEDIA ARITMÉTICA BAJA",IF(D13="MEDIA ARITMÉTICA BAJA","MENOR VALOR","MEDIANA CON VALOR ABSOLUTO")))) -> MEDIA GEOMÉTRICA
B15: Parámetros para la ponderación de la propuesta económica
G16: Número de propuestas válidas | H16: =E37 -> 58
G17: Mínimo | H17: =+MIN(E41:E101) -> 80.9735
G18: Máximo | H18: =+MAX(E41:E101) -> 3285.95
G19: Media Aritmética = X | H19: =+AVERAGE(E41:E101) -> 665.4647
G20: Mediana= Me | H20: =+MEDIAN(E41:E101) -> 490.36
G21: Presupuesto Oficial | H21: =210000000/1300000 -> 161.53846
G22: Puntaje por Experiencia | H22: 67.5
B24: 1. Mediana con Valor Absoluto
B25: ¿Número de Propuestas Válidas es Par o Impar? | H25: Impar
B26: Valor de la Mediana | H26: =+H20 -> 490.36
B27: 2. Media Geométrica
B28: Valor de la Propuesta más cercana al valor de la Media Geometrica: | H28: =IF(H16=0,0,VLOOKUP("MINIMO",P41:Q101,2,FALSE)) -> 541.3
B29: Media geométrica aproximada a números enteros = Mg | H29: =IF(H16=0,0,GEOMEAN(E41:E101)) -> 540.69735
B30: 3. Media Aritmética Alta
B31: Media artimética Alta (XA) | H31: =+(H18+H20)/2 -> 1888.155
B33: Estadistico usado para ponderar : | G33: =+G13 -> MEDIA GEOMÉTRICA | H33: =H29 -> 540.69735
B35: CONSECUTIVO | C35: PROP. No. | D35: PROPONENTE | E35: PROMEDIO CONTRATOS VALIDOS | F35: NÚMERO DE CONTRATOS ACREDITADOS VÁLIDOS | G35: PUNTAJE DE LA PROPUESTA | Z35: =UPPER(M35) | AA35: =UPPER(N35) | AB35: =UPPER(O35) | AC35: =UPPER(P35)
E36: SMMLV
D37: PROPUESTAS VALIDAS | E37: =COUNT(E41:E101) -> 58
E38: =IF(ISODD(E37),"IMPAR","PAR") -> PAR | G38: CONDICION
D39: PRESUPUESTO OFICIAL
K40: EN CASO DE PROPUESTA 0 ENTONCES COLOCA 1 | M40: DESCARTA EL VALOR MAXIMO PARA LA MEDIA ARITMETICA ALTA | O40: DESCARTA EL VALOR MINIMO PARA LA MEDIA ARITMETICA BAJA
B41: 1 | C41: =VLOOKUP(B41,'RESUMEN-M (1)'!B12:K93,2,FALSE) -> 1 | D41: =VLOOKUP(C41,'RESUMEN-M (1)'!C$12:K$93,2,FALSE) -> CONSORCIO CAP-SAS | E41: =IF('PROM-CTOS EXP'!C9="HÁBIL",'PROM-CTOS EXP'!J9,'PROM-CTOS EXP'!J9) -> 359.11 | F41: =+COUNT('PROM-CTOS EXP'!D9:I9) -> 2 | G41: =IF(IF(E41="NO HÁBIL","",IF(E41="RECHAZADO","",IF($G$13="MEDIANA CON VALOR ABSOLUTO",$H$22*(1-ABS(($H$20-E41)/$H$20)),IF(AND($G$13="MEDIA GEOMÉTRICA",E41=$H$28),$H$22,IF($G$13="MEDIA GEOMÉTRICA",$H$22*(1-(ABS($H$28-E41)/$H$28)),IF($G$13="MEDIA ARITMETICA ALTA",$H$22*($H$19/E41),IF(E41<=$H$20,$H$22*(1-(($H$20-E41)/$H$20)),$H$22*(1-(ABS($H$20-E41)/$H$20)))))))))<0,0,IF(E41="NO HÁBIL","",IF(E41="RECHAZADO","",IF($G$13="MEDIANA CON VALOR ABSOLUTO",$H$22*(1-ABS(($H$20-E41)/$H$20)),IF(AND($G$13="MEDIA GEOMÉTRICA",E41=$H$28),$H$22,IF($G$13="MEDIA GEOMÉTRICA",$H$22*(1-(ABS($H$28-E41)/$H$28)),IF($G$13="MEDIA ARITMETICA ALTA",$H$22*($H$19/E41),IF(E41<=$H$20,$H$22*(1-(($H$20-E41)/$H$20)),$H$22*(1-(ABS($H$20-E41)/$H$20)))))))))) -> 44.780944 | I41: =69*(1-(E107-E41)/E107) -> 12.689265 | K41: =IF(E41=0,1,E41) -> 359.11 | M41: =IF(E41=MAX(E$41:E$101),"DESCARTADO",E41) -> 359.11 | N41: =IF(E41="NO HÁBIL","",IF(E41="RECHAZADO","",ABS(E41-$H$29))) -> 181.58735 | O41: =IF(E41="NO HÁBIL","",IF(E41=MIN(E$41:E$101),"DESCARTADO",E41)) -> 359.11 | P41: =IF(N41=MIN($N$41:$N$101),"MINIMO","") | Q41: =IF(P41="MINIMO",E41,"")
B42: 2 | C42: =VLOOKUP(B42,'RESUMEN-M (1)'!B13:K94,2,FALSE) -> 2 | D42: =VLOOKUP(C42,'RESUMEN-M (1)'!C$12:K$93,2,FALSE) -> BRAIN INGENIERIA VIAL SAS | E42: =IF('PROM-CTOS EXP'!C10="HÁBIL",'PROM-CTOS EXP'!J10,'PROM-CTOS EXP'!J10) -> 517.57 | F42: =+COUNT('PROM-CTOS EXP'!D10:I10) -> 1 | G42: =IF(IF(E42="NO HÁBIL","",IF(E42="RECHAZADO","",IF($G$13="MEDIANA CON VALOR ABSOLUTO",$H$22*(1-ABS(($H$20-E42)/$H$20)),IF(AND($G$13="MEDIA GEOMÉTRICA",E42=$H$28),$H$22,IF($G$13="MEDIA GEOMÉTRICA",$H$22*(1-(ABS($H$28-E42)/$H$28)),IF($G$13="MEDIA ARITMETICA ALTA",$H$22*($H$19/E42),IF(E42<=$H$20,$H$22*(1-(($H$20-E42)/$H$20)),$H$22*(1-(ABS($H$20-E42)/$H$20)))))))))<0,0,IF(E42="NO HÁBIL","",IF(E42="RECHAZADO","",IF($G$13="MEDIANA CON VALOR ABSOLUTO",$H$22*(1-ABS(($H$20-E42)/$H$20)),IF(AND($G$13="MEDIA GEOMÉTRICA",E42=$H$28),$H$22,IF($G$13="MEDIA GEOMÉTRICA",$H$22*(1-(ABS($H$28-E42)/$H$28)),IF($G$13="MEDIA ARITMETICA ALTA",$H$22*($H$19/E42),IF(E42<=$H$20,$H$22*(1-(($H$20-E42)/$H$20)),$H$22*(1-(ABS($H$20-E42)/$H$20)))))))))) -> 64.540874 | K42: =IF(E42=0,1,E42) -> 517.57 | M42: =IF(E42=MAX(E$41:E$101),"DESCARTADO",E42) -> 517.57 | N42: =IF(E42="NO HÁBIL","",IF(E42="RECHAZADO","",ABS(E42-$H$29))) -> 23.127346 | O42: =IF(E42="NO HÁBIL","",IF(E42=MIN(E$41:E$101),"DESCARTADO",E42)) -> 517.57 | P42: =IF(N42=MIN($N$41:$N$101),"MINIMO","") | Q42: =IF(P42="MINIMO",E42,"")
B43: 3 | C43: =VLOOKUP(B43,'RESUMEN-M (1)'!B14:K95,2,FALSE) -> 3 | D43: =VLOOKUP(C43,'RESUMEN-M (1)'!C$12:K$93,2,FALSE) -> CONSORCIO INTER CONSTR UCCION VIAL | E43: =IF('PROM-CTOS EXP'!C11="HÁBIL",'PROM-CTOS EXP'!J11,'PROM-CTOS EXP'!J11) -> RECHAZADO | F43: =+COUNT('PROM-CTOS EXP'!D11:I11) -> 1 | G43: =IF(IF(E43="NO HÁBIL","",IF(E43="RECHAZADO","",IF($G$13="MEDIANA CON VALOR ABSOLUTO",$H$22*(1-ABS(($H$20-E43)/$H$20)),IF(AND($G$13="MEDIA GEOMÉTRICA",E43=$H$28),$H$22,IF($G$13="MEDIA GEOMÉTRICA",$H$22*(1-(ABS($H$28-E43)/$H$28)),IF($G$13="MEDIA ARITMETICA ALTA",$H$22*($H$19/E43),IF(E43<=$H$20,$H$22*(1-(($H$20-E43)/$H$20)),$H$22*(1-(ABS($H$20-E43)/$H$20)))))))))<0,0,IF(E43="NO HÁBIL","",IF(E43="RECHAZADO","",IF($G$13="MEDIANA CON VALOR ABSOLUTO",$H$22*(1-ABS(($H$20-E43)/$H$20)),IF(AND($G$13="MEDIA GEOMÉTRICA",E43=$H$28),$H$22,IF($G$13="MEDIA GEOMÉTRICA",$H$22*(1-(ABS($H$28-E43)/$H$28)),IF($G$13="MEDIA ARITMETICA ALTA",$H$22*($H$19/E43),IF(E43<=$H$20,$H$22*(1-(($H$20-E43)/$H$20)),$H$22*(1-(ABS($H$20-E43)/$H$20)))))))))) | K43: =IF(E43=0,1,E43) -> RECHAZADO | M43: =IF(E43=MAX(E$41:E$101),"DESCARTADO",E43) -> RECHAZADO | N43: =IF(E43="NO HÁBIL","",IF(E43="RECHAZADO","",ABS(E43-$H$29))) | O43: =IF(E43="NO HÁBIL","",IF(E43=MIN(E$41:E$101),"DESCARTADO",E43)) -> RECHAZADO | P43: =IF(N43=MIN($N$41:$N$101),"MINIMO","") | Q43: =IF(P43="MINIMO",E43,"")
B44: 4 | C44: =VLOOKUP(B44,'RESUMEN-M (1)'!B15:K96,2,FALSE) -> 4 | D44: =VLOOKUP(C44,'RESUMEN-M (1)'!C$12:K$93,2,FALSE) -> CONSORCIO INFRAVIAL | E44: =IF('PROM-CTOS EXP'!C12="HÁBIL",'PROM-CTOS EXP'!J12,'PROM-CTOS EXP'!J12) -> 360.67 | F44: =+COUNT('PROM-CTOS EXP'!D12:I12) -> 1 | G44: =IF(IF(E44="NO HÁBIL","",IF(E44="RECHAZADO","",IF($G$13="MEDIANA CON VALOR ABSOLUTO",$H$22*(1-ABS(($H$20-E44)/$H$20)),IF(AND($G$13="MEDIA GEOMÉTRICA",E44=$H$28),$H$22,IF($G$13="MEDIA GEOMÉTRICA",$H$22*(1-(ABS($H$28-E44)/$H$28)),IF($G$13="MEDIA ARITMETICA ALTA",$H$22*($H$19/E44),IF(E44<=$H$20,$H$22*(1-(($H$20-E44)/$H$20)),$H$22*(1-(ABS($H$20-E44)/$H$20)))))))))<0,0,IF(E44="NO HÁBIL","",IF(E44="RECHAZADO","",IF($G$13="MEDIANA CON VALOR ABSOLUTO",$H$22*(1-ABS(($H$20-E44)/$H$20)),IF(AND($G$13="MEDIA GEOMÉTRICA",E44=$H$28),$H$22,IF($G$13="MEDIA GEOMÉTRICA",$H$22*(1-(ABS($H$28-E44)/$H$28)),IF($G$13="MEDIA ARITMETICA ALTA",$H$22*($H$19/E44),IF(E44<=$H$20,$H$22*(1-(($H$20-E44)/$H$20)),$H$22*(1-(ABS($H$20-E44)/$H$20)))))))))) -> 44.975476 | K44: =IF(E44=0,1,E44) -> 360.67 | M44: =IF(E44=MAX(E$41:E$101),"DESCARTADO",E44) -> 360.67 | N44: =IF(E44="NO HÁBIL","",IF(E44="RECHAZADO","",ABS(E44-$H$29))) -> 180.02735 | O44: =IF(E44="NO HÁBIL","",IF(E44=MIN(E$41:E$101),"DESCARTADO",E44)) -> 360.67 | P44: =IF(N44=MIN($N$41:$N$101),"MINIMO","") | Q44: =IF(P44="MINIMO",E44,"")
B45: 5 | C45: =VLOOKUP(B45,'RESUMEN-M (1)'!B16:K97,2,FALSE) -> 5 | D45: =VLOOKUP(C45,'RESUMEN-M (1)'!C$12:K$93,2,FALSE) -> C&A PROFESIONALES DE IN GENIERÍA S.A.S | E45: =IF('PROM-CTOS EXP'!C13="HÁBIL",'PROM-CTOS EXP'!J13,'PROM-CTOS EXP'!J13) -> 477.74 | F45: =+COUNT('PROM-CTOS EXP'!D13:I13) -> 1 | G45: =IF(IF(E45="NO HÁBIL","",IF(E45="RECHAZADO","",IF($G$13="MEDIANA CON VALOR ABSOLUTO",$H$22*(1-ABS(($H$20-E45)/$H$20)),IF(AND($G$13="MEDIA GEOMÉTRICA",E45=$H$28),$H$22,IF($G$13="MEDIA GEOMÉTRICA",$H$22*(1-(ABS($H$28-E45)/$H$28)),IF($G$13="MEDIA ARITMETICA ALTA",$H$22*($H$19/E45),IF(E45<=$H$20,$H$22*(1-(($H$20-E45)/$H$20)),$H$22*(1-(ABS($H$20-E45)/$H$20)))))))))<0,0,IF(E45="NO HÁBIL","",IF(E45="RECHAZADO","",IF($G$13="MEDIANA CON VALOR ABSOLUTO",$H$22*(1-ABS(($H$20-E45)/$H$20)),IF(AND($G$13="MEDIA GEOMÉTRICA",E45=$H$28),$H$22,IF($G$13="MEDIA GEOMÉTRICA",$H$22*(1-(ABS($H$28-E45)/$H$28)),IF($G$13="MEDIA ARITMETICA ALTA",$H$22*($H$19/E45),IF(E45<=$H$20,$H$22*(1-(($H$20-E45)/$H$20)),$H$22*(1-(ABS($H$20-E45)/$H$20)))))))))) -> 59.574081 | K45: =IF(E45=0,1,E45) -> 477.74 | M45: =IF(E45=MAX(E$41:E$101),"DESCARTADO",E45) -> 477.74 | N45: =IF(E45="NO HÁBIL","",IF(E45="RECHAZADO","",ABS(E45-$H$29))) -> 62.957346 | O45: =IF(E45="NO HÁBIL","",IF(E45=MIN(E$41:E$101),"DESCARTADO",E45)) -> 477.74 | P45: =IF(N45=MIN($N$41:$N$101),"MINIMO","") | Q45: =IF(P45="MINIMO",E45,"")
B46: 6 | C46: =VLOOKUP(B46,'RESUMEN-M (1)'!B17:K98,2,FALSE) -> 6 | D46: =VLOOKUP(C46,'RESUMEN-M (1)'!C$12:K$93,2,FALSE) -> CONSORCIO VIAS NRT | E46: =IF('PROM-CTOS EXP'!C14="HÁBIL",'PROM-CTOS EXP'!J14,'PROM-CTOS EXP'!J14) -> 502.98 | F46: =+COUNT('PROM-CTOS EXP'!D14:I14) -> 1 | G46: =IF(IF(E46="NO HÁBIL","",IF(E46="RECHAZADO","",IF($G$13="MEDIANA CON VALOR ABSOLUTO",$H$22*(1-ABS(($H$20-E46)/$H$20)),IF(AND($G$13="MEDIA GEOMÉTRICA",E46=$H$28),$H$22,IF($G$13="MEDIA GEOMÉTRICA",$H$22*(1-(ABS($H$28-E46)/$H$28)),IF($G$13="MEDIA ARITMETICA ALTA",$H$22*($H$19/E46),IF(E46<=$H$20,$H$22*(1-(($H$20-E46)/$H$20)),$H$22*(1-(ABS($H$20-E46)/$H$20)))))))))<0,0,IF(E46="NO HÁBIL","",IF(E46="RECHAZADO","",IF($G$13="MEDIANA CON VALOR ABSOLUTO",$H$22*(1-ABS(($H$20-E46)/$H$20)),IF(AND($G$13="MEDIA GEOMÉTRICA",E46=$H$28),$H$22,IF($G$13="MEDIA GEOMÉTRICA",$H$22*(1-(ABS($H$28-E46)/$H$28)),IF($G$13="MEDIA ARITMETICA ALTA",$H$22*($H$19/E46),IF(E46<=$H$20,$H$22*(1-(($H$20-E46)/$H$20)),$H$22*(1-(ABS($H$20-E46)/$H$20)))))))))) -> 62.721504 | K46: =IF(E46=0,1,E46) -> 502.98 | M46: =IF(E46=MAX(E$41:E$101),"DESCARTADO",E46) -> 502.98 | N46: =IF(E46="NO HÁBIL","",IF(E46="RECHAZADO","",ABS(E46-$H$29))) -> 37.717346 | O46: =IF(E46="NO HÁBIL","",IF(E46=MIN(E$41:E$101),"DESCARTADO",E46)) -> 502.98 | P46: =IF(N46=MIN($N$41:$N$101),"MINIMO","") | Q46: =IF(P46="MINIMO",E46,"")
B47: 7 | C47: =VLOOKUP(B47,'RESUMEN-M (1)'!B18:K99,2,FALSE) -> 7 | D47: =VLOOKUP(C47,'RESUMEN-M (1)'!C$12:K$93,2,FALSE) -> INTERSA S.A. | E47: =IF('PROM-CTOS EXP'!C15="HÁBIL",'PROM-CTOS EXP'!J15,'PROM-CTOS EXP'!J15) -> 407.01333 | F47: =+COUNT('PROM-CTOS EXP'!D15:I15) -> 3 | G47: =IF(IF(E47="NO HÁBIL","",IF(E47="RECHAZADO","",IF($G$13="MEDIANA CON VALOR ABSOLUTO",$H$22*(1-ABS(($H$20-E47)/$H$20)),IF(AND($G$13="MEDIA GEOMÉTRICA",E47=$H$28),$H$22,IF($G$13="MEDIA GEOMÉTRICA",$H$22*(1-(ABS($H$28-E47)/$H$28)),IF($G$13="MEDIA ARITMETICA ALTA",$H$22*($H$19/E47),IF(E47<=$H$20,$H$22*(1-(($H$20-E47)/$H$20)),$H$22*(1-(ABS($H$20-E47)/$H$20)))))))))<0,0,IF(E47="NO HÁBIL","",IF(E47="RECHAZADO","",IF($G$13="MEDIANA CON VALOR ABSOLUTO",$H$22*(1-ABS(($H$20-E47)/$H$20)),IF(AND($G$13="MEDIA GEOMÉTRICA",E47=$H$28),$H$22,IF($G$13="MEDIA GEOMÉTRICA",$H$22*(1-(ABS($H$28-E47)/$H$28)),IF($G$13="MEDIA ARITMETICA ALTA",$H$22*($H$19/E47),IF(E47<=$H$20,$H$22*(1-(($H$20-E47)/$H$20)),$H$22*(1-(ABS($H$20-E47)/$H$20)))))))))) -> 50.75448 | K47: =IF(E47=0,1,E47) -> 407.01333 | M47: =IF(E47=MAX(E$41:E$101),"DESCARTADO",E47) -> 407.01333 | N47: =IF(E47="NO HÁBIL","",IF(E47="RECHAZADO","",ABS(E47-$H$29))) -> 133.68401 | O47: =IF(E47="NO HÁBIL","",IF(E47=MIN(E$41:E$101),"DESCARTADO",E47)) -> 407.01333 | P47: =IF(N47=MIN($N$41:$N$101),"MINIMO","") | Q47: =IF(P47="MINIMO",E47,"")
B48: 8 | C48: =VLOOKUP(B48,'RESUMEN-M (1)'!B19:K100,2,FALSE) -> 8 | D48: =VLOOKUP(C48,'RESUMEN-M (1)'!C$12:K$93,2,FALSE) -> PROESING | E48: =IF('PROM-CTOS EXP'!C16="HÁBIL",'PROM-CTOS EXP'!J16,'PROM-CTOS EXP'!J16) -> 203.37 | F48: =+COUNT('PROM-CTOS EXP'!D16:I16) -> 1 | G48: =IF(IF(E48="NO HÁBIL","",IF(E48="RECHAZADO","",IF($G$13="MEDIANA CON VALOR ABSOLUTO",$H$22*(1-ABS(($H$20-E48)/$H$20)),IF(AND($G$13="MEDIA GEOMÉTRICA",E48=$H$28),$H$22,IF($G$13="MEDIA GEOMÉTRICA",$H$22*(1-(ABS($H$28-E48)/$H$28)),IF($G$13="MEDIA ARITMETICA ALTA",$H$22*($H$19/E48),IF(E48<=$H$20,$H$22*(1-(($H$20-E48)/$H$20)),$H$22*(1-(ABS($H$20-E48)/$H$20)))))))))<0,0,IF(E48="NO HÁBIL","",IF(E48="RECHAZADO","",IF($G$13="MEDIANA CON VALOR ABSOLUTO",$H$22*(1-ABS(($H$20-E48)/$H$20)),IF(AND($G$13="MEDIA GEOMÉTRICA",E48=$H$28),$H$22,IF($G$13="MEDIA GEOMÉTRICA",$H$22*(1-(ABS($H$28-E48)/$H$28)),IF($G$13="MEDIA ARITMETICA ALTA",$H$22*($H$19/E48),IF(E48<=$H$20,$H$22*(1-(($H$20-E48)/$H$20)),$H$22*(1-(ABS($H$20-E48)/$H$20)))))))))) -> 25.360198 | K48: =IF(E48=0,1,E48) -> 203.37 | M48: =IF(E48=MAX(E$41:E$101),"DESCARTADO",E48) -> 203.37 | N48: =IF(E48="NO HÁBIL","",IF(E48="RECHAZADO","",ABS(E48-$H$29))) -> 337.32735 | O48: =IF(E48="NO HÁBIL","",IF(E48=MIN(E$41:E$101),"DESCARTADO",E48)) -> 203.37 | P48: =IF(N48=MIN($N$41:$N$101),"MINIMO","") | Q48: =IF(P48="MINIMO",E48,"")
B49: 9 | C49: =VLOOKUP(B49,'RESUMEN-M (1)'!B20:K101,2,FALSE) -> 9 | D49: =VLOOKUP(C49,'RESUMEN-M (1)'!C$12:K$93,2,FALSE) -> INTERVAL2 | E49: =IF('PROM-CTOS EXP'!C17="HÁBIL",'PROM-CTOS EXP'!J17,'PROM-CTOS EXP'!J17) -> 523.71667 | F49: =+COUNT('PROM-CTOS EXP'!D17:I17) -> 3 | G49: =IF(IF(E49="NO HÁBIL","",IF(E49="RECHAZADO","",IF($G$13="MEDIANA CON VALOR ABSOLUTO",$H$22*(1-ABS(($H$20-E49)/$H$20)),IF(AND($G$13="MEDIA GEOMÉTRICA",E49=$H$28),$H$22,IF($G$13="MEDIA GEOMÉTRICA",$H$22*(1-(ABS($H$28-E49)/$H$28)),IF($G$13="MEDIA ARITMETICA ALTA",$H$22*($H$19/E49),IF(E49<=$H$20,$H$22*(1-(($H$20-E49)/$H$20)),$H$22*(1-(ABS($H$20-E49)/$H$20)))))))))<0,0,IF(E49="NO HÁBIL","",IF(E49="RECHAZADO","",IF($G$13="MEDIANA CON VALOR ABSOLUTO",$H$22*(1-ABS(($H$20-E49)/$H$20)),IF(AND($G$13="MEDIA GEOMÉTRICA",E49=$H$28),$H$22,IF($G$13="MEDIA GEOMÉTRICA",$H$22*(1-(ABS($H$28-E49)/$H$28)),IF($G$13="MEDIA ARITMETICA ALTA",$H$22*($H$19/E49),IF(E49<=$H$20,$H$22*(1-(($H$20-E49)/$H$20)),$H$22*(1-(ABS($H$20-E49)/$H$20)))))))))) -> 65.307362 | K49: =IF(E49=0,1,E49) -> 523.71667 | M49: =IF(E49=MAX(E$41:E$101),"DESCARTADO",E49) -> 523.71667 | N49: =IF(E49="NO HÁBIL","",IF(E49="RECHAZADO","",ABS(E49-$H$29))) -> 16.980679 | O49: =IF(E49="NO HÁBIL","",IF(E49=MIN(E$41:E$101),"DESCARTADO",E49)) -> 523.71667 | P49: =IF(N49=MIN($N$41:$N$101),"MINIMO","") | Q49: =IF(P49="MINIMO",E49,"")
B50: 10 | C50: =VLOOKUP(B50,'RESUMEN-M (1)'!B21:K102,2,FALSE) -> 10 | D50: =VLOOKUP(C50,'RESUMEN-M (1)'!C$12:K$93,2,FALSE) -> CONINTER JMJ SAS | E50: =IF('PROM-CTOS EXP'!C18="HÁBIL",'PROM-CTOS EXP'!J18,'PROM-CTOS EXP'!J18) -> 645.1 | F50: =+COUNT('PROM-CTOS EXP'!D18:I18) -> 1 | G50: =IF(IF(E50="NO HÁBIL","",IF(E50="RECHAZADO","",IF($G$13="MEDIANA CON VALOR ABSOLUTO",$H$22*(1-ABS(($H$20-E50)/$H$20)),IF(AND($G$13="MEDIA GEOMÉTRICA",E50=$H$28),$H$22,IF($G$13="MEDIA GEOMÉTRICA",$H$22*(1-(ABS($H$28-E50)/$H$28)),IF($G$13="MEDIA ARITMETICA ALTA",$H$22*($H$19/E50),IF(E50<=$H$20,$H$22*(1-(($H$20-E50)/$H$20)),$H$22*(1-(ABS($H$20-E50)/$H$20)))))))))<0,0,IF(E50="NO HÁBIL","",IF(E50="RECHAZADO","",IF($G$13="MEDIANA CON VALOR ABSOLUTO",$H$22*(1-ABS(($H$20-E50)/$H$20)),IF(AND($G$13="MEDIA GEOMÉTRICA",E50=$H$28),$H$22,IF($G$13="MEDIA GEOMÉTRICA",$H$22*(1-(ABS($H$28-E50)/$H$28)),IF($G$13="MEDIA ARITMETICA ALTA",$H$22*($H$19/E50),IF(E50<=$H$20,$H$22*(1-(($H$20-E50)/$H$20)),$H$22*(1-(ABS($H$20-E50)/$H$20)))))))))) -> 54.556161 | K50: =IF(E50=0,1,E50) -> 645.1 | M50: =IF(E50=MAX(E$41:E$101),"DESCARTADO",E50) -> 645.1 | N50: =IF(E50="NO HÁBIL","",IF(E50="RECHAZADO","",ABS(E50-$H$29))) -> 104.40265 | O50: =IF(E50="NO HÁBIL","",IF(E50=MIN(E$41:E$101),"DESCARTADO",E50)) -> 645.1 | P50: =IF(N50=MIN($N$41:$N$101),"MINIMO","") | Q50: =IF(P50="MINIMO",E50,"")
B51: 11 | C51: =VLOOKUP(B51,'RESUMEN-M (1)'!B22:K103,2,FALSE) -> 11 | D51: =VLOOKUP(C51,'RESUMEN-M (1)'!C$12:K$93,2,FALSE) -> CONSORCIO METRO CINCO | E51: =IF('PROM-CTOS EXP'!C19="HÁBIL",'PROM-CTOS EXP'!J19,'PROM-CTOS EXP'!J19) -> 3285.95 | F51: =+COUNT('PROM-CTOS EXP'!D19:I19) -> 3 | G51: =IF(IF(E51="NO HÁBIL","",IF(E51="RECHAZADO","",IF($G$13="MEDIANA CON VALOR ABSOLUTO",$H$22*(1-ABS(($H$20-E51)/$H$20)),IF(AND($G$13="MEDIA GEOMÉTRICA",E51=$H$28),$H$22,IF($G$13="MEDIA GEOMÉTRICA",$H$22*(1-(ABS($H$28-E51)/$H$28)),IF($G$13="MEDIA ARITMETICA ALTA",$H$22*($H$19/E51),IF(E51<=$H$20,$H$22*(1-(($H$20-E51)/$H$20)),$H$22*(1-(ABS($H$20-E51)/$H$20)))))))))<0,0,IF(E51="NO HÁBIL","",IF(E51="RECHAZADO","",IF($G$13="MEDIANA CON VALOR ABSOLUTO",$H$22*(1-ABS(($H$20-E51)/$H$20)),IF(AND($G$13="MEDIA GEOMÉTRICA",E51=$H$28),$H$22,IF($G$13="MEDIA GEOMÉTRICA",$H$22*(1-(ABS($H$28-E51)/$H$28)),IF($G$13="MEDIA ARITMETICA ALTA",$H$22*($H$19/E51),IF(E51<=$H$20,$H$22*(1-(($H$20-E51)/$H$20)),$H$22*(1-(ABS($H$20-E51)/$H$20)))))))))) -> 0 | K51: =IF(E51=0,1,E51) -> 3285.95 | M51: =IF(E51=MAX(E$41:E$101),"DESCARTADO",E51) -> DESCARTADO | N51: =IF(E51="NO HÁBIL","",IF(E51="RECHAZADO","",ABS(E51-$H$29))) -> 2745.2527 | O51: =IF(E51="NO HÁBIL","",IF(E51=MIN(E$41:E$101),"DESCARTADO",E51)) -> 3285.95 | P51: =IF(N51=MIN($N$41:$N$101),"MINIMO","") | Q51: =IF(P51="MINIMO",E51,"")
B52: 12 | C52: =VLOOKUP(B52,'RESUMEN-M (1)'!B23:K103,2,FALSE) -> 12 | D52: =VLOOKUP(C52,'RESUMEN-M (1)'!C$12:K$93,2,FALSE) -> Consorcio INTERING | E52: =IF('PROM-CTOS EXP'!C20="HÁBIL",'PROM-CTOS EXP'!J20,'PROM-CTOS EXP'!J20) -> 2198.74 | F52: =+COUNT('PROM-CTOS EXP'!D20:I20) -> 1 | G52: =IF(IF(E52="NO HÁBIL","",IF(E52="RECHAZADO","",IF($G$13="MEDIANA CON VALOR ABSOLUTO",$H$22*(1-ABS(($H$20-E52)/$H$20)),IF(AND($G$13="MEDIA GEOMÉTRICA",E52=$H$28),$H$22,IF($G$13="MEDIA GEOMÉTRICA",$H$22*(1-(ABS($H$28-E52)/$H$28)),IF($G$13="MEDIA ARITMETICA ALTA",$H$22*($H$19/E52),IF(E52<=$H$20,$H$22*(1-(($H$20-E52)/$H$20)),$H$22*(1-(ABS($H$20-E52)/$H$20)))))))))<0,0,IF(E52="NO HÁBIL","",IF(E52="RECHAZADO","",IF($G$13="MEDIANA CON VALOR ABSOLUTO",$H$22*(1-ABS(($H$20-E52)/$H$20)),IF(AND($G$13="MEDIA GEOMÉTRICA",E52=$H$28),$H$22,IF($G$13="MEDIA GEOMÉTRICA",$H$22*(1-(ABS($H$28-E52)/$H$28)),IF($G$13="MEDIA ARITMETICA ALTA",$H$22*($H$19/E52),IF(E52<=$H$20,$H$22*(1-(($H$20-E52)/$H$20)),$H$22*(1-(ABS($H$20-E52)/$H$20)))))))))) -> 0 | K52: =IF(E52=0,1,E52) -> 2198.74 | M52: =IF(E52=MAX(E$41:E$101),"DESCARTADO",E52) -> 2198.74 | N52: =IF(E52="NO HÁBIL","",IF(E52="RECHAZADO","",ABS(E52-$H$29))) -> 1658.0427 | O52: =IF(E52="NO HÁBIL","",IF(E52=MIN(E$41:E$101),"DESCARTADO",E52)) -> 2198.74 | P52: =IF(N52=MIN($N$41:$N$101),"MINIMO","") | Q52: =IF(P52="MINIMO",E52,"")
B53: 13 | C53: =VLOOKUP(B53,'RESUMEN-M (1)'!B24:K103,2,FALSE) -> 13 | D53: =VLOOKUP(C53,'RESUMEN-M (1)'!C$12:K$93,2,FALSE) -> CONSORCIO INFRAESTRUCT URA CAUCA | E53: =IF('PROM-CTOS EXP'!C21="HÁBIL",'PROM-CTOS EXP'!J21,'PROM-CTOS EXP'!J21) -> RECHAZADO | F53: =+COUNT('PROM-CTOS EXP'!D21:I21) -> 1 | G53: =IF(IF(E53="NO HÁBIL","",IF(E53="RECHAZADO","",IF($G$13="MEDIANA CON VALOR ABSOLUTO",$H$22*(1-ABS(($H$20-E53)/$H$20)),IF(AND($G$13="MEDIA GEOMÉTRICA",E53=$H$28),$H$22,IF($G$13="MEDIA GEOMÉTRICA",$H$22*(1-(ABS($H$28-E53)/$H$28)),IF($G$13="MEDIA ARITMETICA ALTA",$H$22*($H$19/E53),IF(E53<=$H$20,$H$22*(1-(($H$20-E53)/$H$20)),$H$22*(1-(ABS($H$20-E53)/$H$20)))))))))<0,0,IF(E53="NO HÁBIL","",IF(E53="RECHAZADO","",IF($G$13="MEDIANA CON VALOR ABSOLUTO",$H$22*(1-ABS(($H$20-E53)/$H$20)),IF(AND($G$13="MEDIA GEOMÉTRICA",E53=$H$28),$H$22,IF($G$13="MEDIA GEOMÉTRICA",$H$22*(1-(ABS($H$28-E53)/$H$28)),IF($G$13="MEDIA ARITMETICA ALTA",$H$22*($H$19/E53),IF(E53<=$H$20,$H$22*(1-(($H$20-E53)/$H$20)),$H$22*(1-(ABS($H$20-E53)/$H$20)))))))))) | K53: =IF(E53=0,1,E53) -> RECHAZADO | M53: =IF(E53=MAX(E$41:E$101),"DESCARTADO",E53) -> RECHAZADO | N53: =IF(E53="NO HÁBIL","",IF(E53="RECHAZADO","",ABS(E53-$H$29))) | O53: =IF(E53="NO HÁBIL","",IF(E53=MIN(E$41:E$101),"DESCARTADO",E53)) -> RECHAZADO | P53: =IF(N53=MIN($N$41:$N$101),"MINIMO","") | Q53: =IF(P53="MINIMO",E53,"")
B54: 14 | C54: =VLOOKUP(B54,'RESUMEN-M (1)'!B25:K103,2,FALSE) -> 14 | D54: =VLOOKUP(C54,'RESUMEN-M (1)'!C$12:K$93,2,FALSE) -> CONSORCIO HUPK VIAS MAG DALENA | E54: =IF('PROM-CTOS EXP'!C22="HÁBIL",'PROM-CTOS EXP'!J22,'PROM-CTOS EXP'!J22) -> 287.525 | F54: =+COUNT('PROM-CTOS EXP'!D22:I22) -> 2 | G54: =IF(IF(E54="NO HÁBIL","",IF(E54="RECHAZADO","",IF($G$13="MEDIANA CON VALOR ABSOLUTO",$H$22*(1-ABS(($H$20-E54)/$H$20)),IF(AND($G$13="MEDIA GEOMÉTRICA",E54=$H$28),$H$22,IF($G$13="MEDIA GEOMÉTRICA",$H$22*(1-(ABS($H$28-E54)/$H$28)),IF($G$13="MEDIA ARITMETICA ALTA",$H$22*($H$19/E54),IF(E54<=$H$20,$H$22*(1-(($H$20-E54)/$H$20)),$H$22*(1-(ABS($H$20-E54)/$H$20)))))))))<0,0,IF(E54="NO HÁBIL","",IF(E54="RECHAZADO","",IF($G$13="MEDIANA CON VALOR ABSOLUTO",$H$22*(1-ABS(($H$20-E54)/$H$20)),IF(AND($G$13="MEDIA GEOMÉTRICA",E54=$H$28),$H$22,IF($G$13="MEDIA GEOMÉTRICA",$H$22*(1-(ABS($H$28-E54)/$H$28)),IF($G$13="MEDIA ARITMETICA ALTA",$H$22*($H$19/E54),IF(E54<=$H$20,$H$22*(1-(($H$20-E54)/$H$20)),$H$22*(1-(ABS($H$20-E54)/$H$20)))))))))) -> 35.854309 | K54: =IF(E54=0,1,E54) -> 287.525 | M54: =IF(E54=MAX(E$41:E$101),"DESCARTADO",E54) -> 287.525 | N54: =IF(E54="NO HÁBIL","",IF(E54="RECHAZADO","",ABS(E54-$H$29))) -> 253.17235 | O54: =IF(E54="NO HÁBIL","",IF(E54=MIN(E$41:E$101),"DESCARTADO",E54)) -> 287.525 | P54: =IF(N54=MIN($N$41:$N$101),"MINIMO","") | Q54: =IF(P54="MINIMO",E54,"")
B55: 15 | C55: =VLOOKUP(B55,'RESUMEN-M (1)'!B26:K103,2,FALSE) -> 15 | D55: =VLOOKUP(C55,'RESUMEN-M (1)'!C$12:K$93,2,FALSE) -> CONSORCIO INTER VIAL G& G | E55: =IF('PROM-CTOS EXP'!C23="HÁBIL",'PROM-CTOS EXP'!J23,'PROM-CTOS EXP'!J23) -> 432.80167 | F55: =+COUNT('PROM-CTOS EXP'!D23:F23) -> 3 | G55: =IF(IF(E55="NO HÁBIL","",IF(E55="RECHAZADO","",IF($G$13="MEDIANA CON VALOR ABSOLUTO",$H$22*(1-ABS(($H$20-E55)/$H$20)),IF(AND($G$13="MEDIA GEOMÉTRICA",E55=$H$28),$H$22,IF($G$13="MEDIA GEOMÉTRICA",$H$22*(1-(ABS($H$28-E55)/$H$28)),IF($G$13="MEDIA ARITMETICA ALTA",$H$22*($H$19/E55),IF(E55<=$H$20,$H$22*(1-(($H$20-E55)/$H$20)),$H$22*(1-(ABS($H$20-E55)/$H$20)))))))))<0,0,IF(E55="NO HÁBIL","",IF(E55="RECHAZADO","",IF($G$13="MEDIANA CON VALOR ABSOLUTO",$H$22*(1-ABS(($H$20-E55)/$H$20)),IF(AND($G$13="MEDIA GEOMÉTRICA",E55=$H$28),$H$22,IF($G$13="MEDIA GEOMÉTRICA",$H$22*(1-(ABS($H$28-E55)/$H$28)),IF($G$13="MEDIA ARITMETICA ALTA",$H$22*($H$19/E55),IF(E55<=$H$20,$H$22*(1-(($H$20-E55)/$H$20)),$H$22*(1-(ABS($H$20-E55)/$H$20)))))))))) -> 53.97028 | K55: =IF(E55=0,1,E55) -> 432.80167 | M55: =IF(E55=MAX(E$41:E$101),"DESCARTADO",E55) -> 432.80167 | N55: =IF(E55="NO HÁBIL","",IF(E55="RECHAZADO","",ABS(E55-$H$29))) -> 107.89568 | O55: =IF(E55="NO HÁBIL","",IF(E55=MIN(E$41:E$101),"DESCARTADO",E55)) -> 432.80167 | P55: =IF(N55=MIN($N$41:$N$101),"MINIMO","") | Q55: =IF(P55="MINIMO",E55,"")
B56: 16 | C56: =VLOOKUP(B56,'RESUMEN-M (1)'!B27:K103,2,FALSE) -> 16 | D56: =VLOOKUP(C56,'RESUMEN-M (1)'!C$12:K$93,2,FALSE) -> IC INGENIO CIVIL | E56: =IF('PROM-CTOS EXP'!C24="HÁBIL",'PROM-CTOS EXP'!J24,'PROM-CTOS EXP'!J24) -> 279.4975 | F56: =+COUNT('PROM-CTOS EXP'!D24:E24) -> 2 | G56: =IF(IF(E56="NO HÁBIL","",IF(E56="RECHAZADO","",IF($G$13="MEDIANA CON VALOR ABSOLUTO",$H$22*(1-ABS(($H$20-E56)/$H$20)),IF(AND($G$13="MEDIA GEOMÉTRICA",E56=$H$28),$H$22,IF($G$13="MEDIA GEOMÉTRICA",$H$22*(1-(ABS($H$28-E56)/$H$28)),IF($G$13="MEDIA ARITMETICA ALTA",$H$22*($H$19/E56),IF(E56<=$H$20,$H$22*(1-(($H$20-E56)/$H$20)),$H$22*(1-(ABS($H$20-E56)/$H$20)))))))))<0,0,IF(E56="NO HÁBIL","",IF(E56="RECHAZADO","",IF($G$13="MEDIANA CON VALOR ABSOLUTO",$H$22*(1-ABS(($H$20-E56)/$H$20)),IF(AND($G$13="MEDIA GEOMÉTRICA",E56=$H$28),$H$22,IF($G$13="MEDIA GEOMÉTRICA",$H$22*(1-(ABS($H$28-E56)/$H$28)),IF($G$13="MEDIA ARITMETICA ALTA",$H$22*($H$19/E56),IF(E56<=$H$20,$H$22*(1-(($H$20-E56)/$H$20)),$H$22*(1-(ABS($H$20-E56)/$H$20)))))))))) -> 34.853281 | K56: =IF(E56=0,1,E56) -> 279.4975 | M56: =IF(E56=MAX(E$41:E$101),"DESCARTADO",E56) -> 279.4975 | N56: =IF(E56="NO HÁBIL","",IF(E56="RECHAZADO","",ABS(E56-$H$29))) -> 261.19985 | O56: =IF(E56="NO HÁBIL","",IF(E56=MIN(E$41:E$101),"DESCARTADO",E56)) -> 279.4975 | P56: =IF(N56=MIN($N$41:$N$101),"MINIMO","") | Q56: =IF(P56="MINIMO",E56,"")
B57: 17 | C57: =VLOOKUP(B57,'RESUMEN-M (1)'!B28:K103,2,FALSE) -> 17 | D57: =VLOOKUP(C57,'RESUMEN-M (1)'!C$12:K$93,2,FALSE) -> MORAM CONSULTORIA SAS | E57: =IF('PROM-CTOS EXP'!C25="HÁBIL",'PROM-CTOS EXP'!J25,'PROM-CTOS EXP'!J25) -> 352.955 | F57: =+COUNT('PROM-CTOS EXP'!D25:D25) -> 1 | G57: =IF(IF(E57="NO HÁBIL","",IF(E57="RECHAZADO","",IF($G$13="MEDIANA CON VALOR ABSOLUTO",$H$22*(1-ABS(($H$20-E57)/$H$20)),IF(AND($G$13="MEDIA GEOMÉTRICA",E57=$H$28),$H$22,IF($G$13="MEDIA GEOMÉTRICA",$H$22*(1-(ABS($H$28-E57)/$H$28)),IF($G$13="MEDIA ARITMETICA ALTA",$H$22*($H$19/E57),IF(E57<=$H$20,$H$22*(1-(($H$20-E57)/$H$20)),$H$22*(1-(ABS($H$20-E57)/$H$20)))))))))<0,0,IF(E57="NO HÁBIL","",IF(E57="RECHAZADO","",IF($G$13="MEDIANA CON VALOR ABSOLUTO",$H$22*(1-ABS(($H$20-E57)/$H$20)),IF(AND($G$13="MEDIA GEOMÉTRICA",E57=$H$28),$H$22,IF($G$13="MEDIA GEOMÉTRICA",$H$22*(1-(ABS($H$28-E57)/$H$28)),IF($G$13="MEDIA ARITMETICA ALTA",$H$22*($H$19/E57),IF(E57<=$H$20,$H$22*(1-(($H$20-E57)/$H$20)),$H$22*(1-(ABS($H$20-E57)/$H$20)))))))))) -> 44.013417 | K57: =IF(E57=0,1,E57) -> 352.955 | M57: =IF(E57=MAX(E$41:E$101),"DESCARTADO",E57) -> 352.955 | N57: =IF(E57="NO HÁBIL","",IF(E57="RECHAZADO","",ABS(E57-$H$29))) -> 187.74235 | O57: =IF(E57="NO HÁBIL","",IF(E57=MIN(E$41:E$101),"DESCARTADO",E57)) -> 352.955 | P57: =IF(N57=MIN($N$41:$N$101),"MINIMO","") | Q57: =IF(P57="MINIMO",E57,"")
B58: 18 | C58: =VLOOKUP(B58,'RESUMEN-M (1)'!B29:K103,2,FALSE) -> 18 | D58: =VLOOKUP(C58,'RESUMEN-M (1)'!C$12:K$93,2,FALSE) -> VELNEC S.A. | E58: =IF('PROM-CTOS EXP'!C26="HÁBIL",'PROM-CTOS EXP'!J26,'PROM-CTOS EXP'!J26) -> 1119.75 | F58: =+COUNT('PROM-CTOS EXP'!D26:D26) -> 1 | G58: =IF(IF(E58="NO HÁBIL","",IF(E58="RECHAZADO","",IF($G$13="MEDIANA CON VALOR ABSOLUTO",$H$22*(1-ABS(($H$20-E58)/$H$20)),IF(AND($G$13="MEDIA GEOMÉTRICA",E58=$H$28),$H$22,IF($G$13="MEDIA GEOMÉTRICA",$H$22*(1-(ABS($H$28-E58)/$H$28)),IF($G$13="MEDIA ARITMETICA ALTA",$H$22*($H$19/E58),IF(E58<=$H$20,$H$22*(1-(($H$20-E58)/$H$20)),$H$22*(1-(ABS($H$20-E58)/$H$20)))))))))<0,0,IF(E58="NO HÁBIL","",IF(E58="RECHAZADO","",IF($G$13="MEDIANA CON VALOR ABSOLUTO",$H$22*(1-ABS(($H$20-E58)/$H$20)),IF(AND($G$13="MEDIA GEOMÉTRICA",E58=$H$28),$H$22,IF($G$13="MEDIA GEOMÉTRICA",$H$22*(1-(ABS($H$28-E58)/$H$28)),IF($G$13="MEDIA ARITMETICA ALTA",$H$22*($H$19/E58),IF(E58<=$H$20,$H$22*(1-(($H$20-E58)/$H$20)),$H$22*(1-(ABS($H$20-E58)/$H$20)))))))))) -> 0 | K58: =IF(E58=0,1,E58) -> 1119.75 | M58: =IF(E58=MAX(E$41:E$101),"DESCARTADO",E58) -> 1119.75 | N58: =IF(E58="NO HÁBIL","",IF(E58="RECHAZADO","",ABS(E58-$H$29))) -> 579.05265 | O58: =IF(E58="NO HÁBIL","",IF(E58=MIN(E$41:E$101),"DESCARTADO",E58)) -> 1119.75 | P58: =IF(N58=MIN($N$41:$N$101),"MINIMO","") | Q58: =IF(P58="MINIMO",E58,"")
B59: 19 | C59: =VLOOKUP(B59,'RESUMEN-M (1)'!B30:K103,2,FALSE) -> 19 | D59: =VLOOKUP(C59,'RESUMEN-M (1)'!C$12:K$93,2,FALSE) -> CONSULTORES SOLANO NA VAS LTDA | E59: =IF('PROM-CTOS EXP'!C27="HÁBIL",'PROM-CTOS EXP'!J27,'PROM-CTOS EXP'!J27) -> 533.28267 | F59: =+COUNT('PROM-CTOS EXP'!D27:F27) -> 3 | G59: =IF(IF(E59="NO HÁBIL","",IF(E59="RECHAZADO","",IF($G$13="MEDIANA CON VALOR ABSOLUTO",$H$22*(1-ABS(($H$20-E59)/$H$20)),IF(AND($G$13="MEDIA GEOMÉTRICA",E59=$H$28),$H$22,IF($G$13="MEDIA GEOMÉTRICA",$H$22*(1-(ABS($H$28-E59)/$H$28)),IF($G$13="MEDIA ARITMETICA ALTA",$H$22*($H$19/E59),IF(E59<=$H$20,$H$22*(1-(($H$20-E59)/$H$20)),$H$22*(1-(ABS($H$20-E59)/$H$20)))))))))<0,0,IF(E59="NO HÁBIL","",IF(E59="RECHAZADO","",IF($G$13="MEDIANA CON VALOR ABSOLUTO",$H$22*(1-ABS(($H$20-E59)/$H$20)),IF(AND($G$13="MEDIA GEOMÉTRICA",E59=$H$28),$H$22,IF($G$13="MEDIA GEOMÉTRICA",$H$22*(1-(ABS($H$28-E59)/$H$28)),IF($G$13="MEDIA ARITMETICA ALTA",$H$22*($H$19/E59),IF(E59<=$H$20,$H$22*(1-(($H$20-E59)/$H$20)),$H$22*(1-(ABS($H$20-E59)/$H$20)))))))))) -> 66.50024 | K59: =IF(E59=0,1,E59) -> 533.28267 | M59: =IF(E59=MAX(E$41:E$101),"DESCARTADO",E59) -> 533.28267 | N59: =IF(E59="NO HÁBIL","",IF(E59="RECHAZADO","",ABS(E59-$H$29))) -> 7.4146794 | O59: =IF(E59="NO HÁBIL","",IF(E59=MIN(E$41:E$101),"DESCARTADO",E59)) -> 533.28267 | P59: =IF(N59=MIN($N$41:$N$101),"MINIMO","") | Q59: =IF(P59="MINIMO",E59,"")
B60: 20 | C60: =VLOOKUP(B60,'RESUMEN-M (1)'!B31:K103,2,FALSE) -> 20 | D60: =VLOOKUP(C60,'RESUMEN-M (1)'!C$12:K$93,2,FALSE) -> MAVECA INGENIERIA S.A.S | E60: =IF('PROM-CTOS EXP'!C28="HÁBIL",'PROM-CTOS EXP'!J28,'PROM-CTOS EXP'!J28) -> 590.932 | F60: =+COUNT('PROM-CTOS EXP'!D28:H28) -> 5 | G60: =IF(IF(E60="NO HÁBIL","",IF(E60="RECHAZADO","",IF($G$13="MEDIANA CON VALOR ABSOLUTO",$H$22*(1-ABS(($H$20-E60)/$H$20)),IF(AND($G$13="MEDIA GEOMÉTRICA",E60=$H$28),$H$22,IF($G$13="MEDIA GEOMÉTRICA",$H$22*(1-(ABS($H$28-E60)/$H$28)),IF($G$13="MEDIA ARITMETICA ALTA",$H$22*($H$19/E60),IF(E60<=$H$20,$H$22*(1-(($H$20-E60)/$H$20)),$H$22*(1-(ABS($H$20-E60)/$H$20)))))))))<0,0,IF(E60="NO HÁBIL","",IF(E60="RECHAZADO","",IF($G$13="MEDIANA CON VALOR ABSOLUTO",$H$22*(1-ABS(($H$20-E60)/$H$20)),IF(AND($G$13="MEDIA GEOMÉTRICA",E60=$H$28),$H$22,IF($G$13="MEDIA GEOMÉTRICA",$H$22*(1-(ABS($H$28-E60)/$H$28)),IF($G$13="MEDIA ARITMETICA ALTA",$H$22*($H$19/E60),IF(E60<=$H$20,$H$22*(1-(($H$20-E60)/$H$20)),$H$22*(1-(ABS($H$20-E60)/$H$20)))))))))) -> 61.3109 | K60: =IF(E60=0,1,E60) -> 590.932 | M60: =IF(E60=MAX(E$41:E$101),"DESCARTADO",E60) -> 590.932 | N60: =IF(E60="NO HÁBIL","",IF(E60="RECHAZADO","",ABS(E60-$H$29))) -> 50.234654 | O60: =IF(E60="NO HÁBIL","",IF(E60=MIN(E$41:E$101),"DESCARTADO",E60)) -> 590.932 | P60: =IF(N60=MIN($N$41:$N$101),"MINIMO","") | Q60: =IF(P60="MINIMO",E60,"")
B61: 21 | C61: =VLOOKUP(B61,'RESUMEN-M (1)'!B32:K103,2,FALSE) -> 21 | D61: =VLOOKUP(C61,'RESUMEN-M (1)'!C$12:K$93,2,FALSE) -> CONSORCIO SF 2023 | E61: =IF('PROM-CTOS EXP'!C29="HÁBIL",'PROM-CTOS EXP'!J29,'PROM-CTOS EXP'!J29) -> 446.07 | F61: =+COUNT('PROM-CTOS EXP'!D29:H29) -> 1 | G61: =IF(IF(E61="NO HÁBIL","",IF(E61="RECHAZADO","",IF($G$13="MEDIANA CON VALOR ABSOLUTO",$H$22*(1-ABS(($H$20-E61)/$H$20)),IF(AND($G$13="MEDIA GEOMÉTRICA",E61=$H$28),$H$22,IF($G$13="MEDIA GEOMÉTRICA",$H$22*(1-(ABS($H$28-E61)/$H$28)),IF($G$13="MEDIA ARITMETICA ALTA",$H$22*($H$19/E61),IF(E61<=$H$20,$H$22*(1-(($H$20-E61)/$H$20)),$H$22*(1-(ABS($H$20-E61)/$H$20)))))))))<0,0,IF(E61="NO HÁBIL","",IF(E61="RECHAZADO","",IF($G$13="MEDIANA CON VALOR ABSOLUTO",$H$22*(1-ABS(($H$20-E61)/$H$20)),IF(AND($G$13="MEDIA GEOMÉTRICA",E61=$H$28),$H$22,IF($G$13="MEDIA GEOMÉTRICA",$H$22*(1-(ABS($H$28-E61)/$H$28)),IF($G$13="MEDIA ARITMETICA ALTA",$H$22*($H$19/E61),IF(E61<=$H$20,$H$22*(1-(($H$20-E61)/$H$20)),$H$22*(1-(ABS($H$20-E61)/$H$20)))))))))) -> 55.624838 | K61: =IF(E61=0,1,E61) -> 446.07 | M61: =IF(E61=MAX(E$41:E$101),"DESCARTADO",E61) -> 446.07 | N61: =IF(E61="NO HÁBIL","",IF(E61="RECHAZADO","",ABS(E61-$H$29))) -> 94.627346 | O61: =IF(E61="NO HÁBIL","",IF(E61=MIN(E$41:E$101),"DESCARTADO",E61)) -> 446.07 | P61: =IF(N61=MIN($N$41:$N$101),"MINIMO","") | Q61: =IF(P61="MINIMO",E61,"")
B62: 22 | C62: =VLOOKUP(B62,'RESUMEN-M (1)'!B33:K103,2,FALSE) -> 22 | D62: =VLOOKUP(C62,'RESUMEN-M (1)'!C$12:K$93,2,FALSE) -> ALMA INTERVENTORÍA & CONSULTORÍA S.A.S. | E62: =IF('PROM-CTOS EXP'!C30="HÁBIL",'PROM-CTOS EXP'!J30,'PROM-CTOS EXP'!J30) -> 1277.76 | F62: =+COUNT('PROM-CTOS EXP'!D30:I30) -> 1 | G62: =IF(IF(E62="NO HÁBIL","",IF(E62="RECHAZADO","",IF($G$13="MEDIANA CON VALOR ABSOLUTO",$H$22*(1-ABS(($H$20-E62)/$H$20)),IF(AND($G$13="MEDIA GEOMÉTRICA",E62=$H$28),$H$22,IF($G$13="MEDIA GEOMÉTRICA",$H$22*(1-(ABS($H$28-E62)/$H$28)),IF($G$13="MEDIA ARITMETICA ALTA",$H$22*($H$19/E62),IF(E62<=$H$20,$H$22*(1-(($H$20-E62)/$H$20)),$H$22*(1-(ABS($H$20-E62)/$H$20)))))))))<0,0,IF(E62="NO HÁBIL","",IF(E62="RECHAZADO","",IF($G$13="MEDIANA CON VALOR ABSOLUTO",$H$22*(1-ABS(($H$20-E62)/$H$20)),IF(AND($G$13="MEDIA GEOMÉTRICA",E62=$H$28),$H$22,IF($G$13="MEDIA GEOMÉTRICA",$H$22*(1-(ABS($H$28-E62)/$H$28)),IF($G$13="MEDIA ARITMETICA ALTA",$H$22*($H$19/E62),IF(E62<=$H$20,$H$22*(1-(($H$20-E62)/$H$20)),$H$22*(1-(ABS($H$20-E62)/$H$20)))))))))) -> 0 | K62: =IF(E62=0,1,E62) -> 1277.76 | M62: =IF(E62=MAX(E$41:E$101),"DESCARTADO",E62) -> 1277.76 | N62: =IF(E62="NO HÁBIL","",IF(E62="RECHAZADO","",ABS(E62-$H$29))) -> 737.06265 | O62: =IF(E62="NO HÁBIL","",IF(E62=MIN(E$41:E$101),"DESCARTADO",E62)) -> 1277.76 | P62: =IF(N62=MIN($N$41:$N$101),"MINIMO","") | Q62: =IF(P62="MINIMO",E62,"")
B63: 23 | C63: =VLOOKUP(B63,'RESUMEN-M (1)'!B34:K103,2,FALSE) -> 23 | D63: =VLOOKUP(C63,'RESUMEN-M (1)'!C$12:K$93,2,FALSE) -> JMELO INGENIERÍA DE PROYECTOS S.A.S. | E63: =IF('PROM-CTOS EXP'!C31="HÁBIL",'PROM-CTOS EXP'!J31,'PROM-CTOS EXP'!J31) -> 325.785 | F63: =+COUNT('PROM-CTOS EXP'!D31:I31) -> 2 | G63: =IF(IF(E63="NO HÁBIL","",IF(E63="RECHAZADO","",IF($G$13="MEDIANA CON VALOR ABSOLUTO",$H$22*(1-ABS(($H$20-E63)/$H$20)),IF(AND($G$13="MEDIA GEOMÉTRICA",E63=$H$28),$H$22,IF($G$13="MEDIA GEOMÉTRICA",$H$22*(1-(ABS($H$28-E63)/$H$28)),IF($G$13="MEDIA ARITMETICA ALTA",$H$22*($H$19/E63),IF(E63<=$H$20,$H$22*(1-(($H$20-E63)/$H$20)),$H$22*(1-(ABS($H$20-E63)/$H$20)))))))))<0,0,IF(E63="NO HÁBIL","",IF(E63="RECHAZADO","",IF($G$13="MEDIANA CON VALOR ABSOLUTO",$H$22*(1-ABS(($H$20-E63)/$H$20)),IF(AND($G$13="MEDIA GEOMÉTRICA",E63=$H$28),$H$22,IF($G$13="MEDIA GEOMÉTRICA",$H$22*(1-(ABS($H$28-E63)/$H$28)),IF($G$13="MEDIA ARITMETICA ALTA",$H$22*($H$19/E63),IF(E63<=$H$20,$H$22*(1-(($H$20-E63)/$H$20)),$H$22*(1-(ABS($H$20-E63)/$H$20)))))))))) -> 40.625323 | K63: =IF(E63=0,1,E63) -> 325.785 | M63: =IF(E63=MAX(E$41:E$101),"DESCARTADO",E63) -> 325.785 | N63: =IF(E63="NO HÁBIL","",IF(E63="RECHAZADO","",ABS(E63-$H$29))) -> 214.91235 | O63: =IF(E63="NO HÁBIL","",IF(E63=MIN(E$41:E$101),"DESCARTADO",E63)) -> 325.785 | P63: =IF(N63=MIN($N$41:$N$101),"MINIMO","") | Q63: =IF(P63="MINIMO",E63,"")
B64: 24 | C64: =VLOOKUP(B64,'RESUMEN-M (1)'!B35:K103,2,FALSE) -> 24 | D64: =VLOOKUP(C64,'RESUMEN-M (1)'!C$12:K$93,2,FALSE) -> SEIING SAS BIC | E64: =IF('PROM-CTOS EXP'!C32="HÁBIL",'PROM-CTOS EXP'!J32,'PROM-CTOS EXP'!J32) -> 368.75 | F64: =+COUNT('PROM-CTOS EXP'!D32:I32) -> 1 | G64: =IF(IF(E64="NO HÁBIL","",IF(E64="RECHAZADO","",IF($G$13="MEDIANA CON VALOR ABSOLUTO",$H$22*(1-ABS(($H$20-E64)/$H$20)),IF(AND($G$13="MEDIA GEOMÉTRICA",E64=$H$28),$H$22,IF($G$13="MEDIA GEOMÉTRICA",$H$22*(1-(ABS($H$28-E64)/$H$28)),IF($G$13="MEDIA ARITMETICA ALTA",$H$22*($H$19/E64),IF(E64<=$H$20,$H$22*(1-(($H$20-E64)/$H$20)),$H$22*(1-(ABS($H$20-E64)/$H$20)))))))))<0,0,IF(E64="NO HÁBIL","",IF(E64="RECHAZADO","",IF($G$13="MEDIANA CON VALOR ABSOLUTO",$H$22*(1-ABS(($H$20-E64)/$H$20)),IF(AND($G$13="MEDIA GEOMÉTRICA",E64=$H$28),$H$22,IF($G$13="MEDIA GEOMÉTRICA",$H$22*(1-(ABS($H$28-E64)/$H$28)),IF($G$13="MEDIA ARITMETICA ALTA",$H$22*($H$19/E64),IF(E64<=$H$20,$H$22*(1-(($H$20-E64)/$H$20)),$H$22*(1-(ABS($H$20-E64)/$H$20)))))))))) -> 45.98305 | K64: =IF(E64=0,1,E64) -> 368.75 | M64: =IF(E64=MAX(E$41:E$101),"DESCARTADO",E64) -> 368.75 | N64: =IF(E64="NO HÁBIL","",IF(E64="RECHAZADO","",ABS(E64-$H$29))) -> 171.94735 | O64: =IF(E64="NO HÁBIL","",IF(E64=MIN(E$41:E$101),"DESCARTADO",E64)) -> 368.75 | P64: =IF(N64=MIN($N$41:$N$101),"MINIMO","") | Q64: =IF(P64="MINIMO",E64,"")
B65: 25 | C65: =VLOOKUP(B65,'RESUMEN-M (1)'!B36:K103,2,FALSE) -> 25 | D65: =VLOOKUP(C65,'RESUMEN-M (1)'!C$12:K$93,2,FALSE) -> JET INGENIERIA SAS | E65: =IF('PROM-CTOS EXP'!C33="HÁBIL",'PROM-CTOS EXP'!J33,'PROM-CTOS EXP'!J33) -> 344.55 | F65: =+COUNT('PROM-CTOS EXP'!D33:I33) -> 3 | G65: =IF(IF(E65="NO HÁBIL","",IF(E65="RECHAZADO","",IF($G$13="MEDIANA CON VALOR ABSOLUTO",$H$22*(1-ABS(($H$20-E65)/$H$20)),IF(AND($G$13="MEDIA GEOMÉTRICA",E65=$H$28),$H$22,IF($G$13="MEDIA GEOMÉTRICA",$H$22*(1-(ABS($H$28-E65)/$H$28)),IF($G$13="MEDIA ARITMETICA ALTA",$H$22*($H$19/E65),IF(E65<=$H$20,$H$22*(1-(($H$20-E65)/$H$20)),$H$22*(1-(ABS($H$20-E65)/$H$20)))))))))<0,0,IF(E65="NO HÁBIL","",IF(E65="RECHAZADO","",IF($G$13="MEDIANA CON VALOR ABSOLUTO",$H$22*(1-ABS(($H$20-E65)/$H$20)),IF(AND($G$13="MEDIA GEOMÉTRICA",E65=$H$28),$H$22,IF($G$13="MEDIA GEOMÉTRICA",$H$22*(1-(ABS($H$28-E65)/$H$28)),IF($G$13="MEDIA ARITMETICA ALTA",$H$22*($H$19/E65),IF(E65<=$H$20,$H$22*(1-(($H$20-E65)/$H$20)),$H$22*(1-(ABS($H$20-E65)/$H$20)))))))))) -> 42.965315 | K65: =IF(E65=0,1,E65) -> 344.55 | M65: =IF(E65=MAX(E$41:E$101),"DESCARTADO",E65) -> 344.55 | N65: =IF(E65="NO HÁBIL","",IF(E65="RECHAZADO","",ABS(E65-$H$29))) -> 196.14735 | O65: =IF(E65="NO HÁBIL","",IF(E65=MIN(E$41:E$101),"DESCARTADO",E65)) -> 344.55 | P65: =IF(N65=MIN($N$41:$N$101),"MINIMO","") | Q65: =IF(P65="MINIMO",E65,"")
B66: 26 | C66: =VLOOKUP(B66,'RESUMEN-M (1)'!B37:K103,2,FALSE) -> 26 | D66: =VLOOKUP(C66,'RESUMEN-M (1)'!C$12:K$93,2,FALSE) -> EQUILATERO SAS | E66: =IF('PROM-CTOS EXP'!C34="HÁBIL",'PROM-CTOS EXP'!J34,'PROM-CTOS EXP'!J34) -> 817.14 | F66: =+COUNT('PROM-CTOS EXP'!D34:I34) -> 1 | G66: =IF(IF(E66="NO HÁBIL","",IF(E66="RECHAZADO","",IF($G$13="MEDIANA CON VALOR ABSOLUTO",$H$22*(1-ABS(($H$20-E66)/$H$20)),IF(AND($G$13="MEDIA GEOMÉTRICA",E66=$H$28),$H$22,IF($G$13="MEDIA GEOMÉTRICA",$H$22*(1-(ABS($H$28-E66)/$H$28)),IF($G$13="MEDIA ARITMETICA ALTA",$H$22*($H$19/E66),IF(E66<=$H$20,$H$22*(1-(($H$20-E66)/$H$20)),$H$22*(1-(ABS($H$20-E66)/$H$20)))))))))<0,0,IF(E66="NO HÁBIL","",IF(E66="RECHAZADO","",IF($G$13="MEDIANA CON VALOR ABSOLUTO",$H$22*(1-ABS(($H$20-E66)/$H$20)),IF(AND($G$13="MEDIA GEOMÉTRICA",E66=$H$28),$H$22,IF($G$13="MEDIA GEOMÉTRICA",$H$22*(1-(ABS($H$28-E66)/$H$28)),IF($G$13="MEDIA ARITMETICA ALTA",$H$22*($H$19/E66),IF(E66<=$H$20,$H$22*(1-(($H$20-E66)/$H$20)),$H$22*(1-(ABS($H$20-E66)/$H$20)))))))))) -> 33.102808 | K66: =IF(E66=0,1,E66) -> 817.14 | M66: =IF(E66=MAX(E$41:E$101),"DESCARTADO",E66) -> 817.14 | N66: =IF(E66="NO HÁBIL","",IF(E66="RECHAZADO","",ABS(E66-$H$29))) -> 276.44265 | O66: =IF(E66="NO HÁBIL","",IF(E66=MIN(E$41:E$101),"DESCARTADO",E66)) -> 817.14 | P66: =IF(N66=MIN($N$41:$N$101),"MINIMO","") | Q66: =IF(P66="MINIMO",E66,"")
B67: 27 | C67: =VLOOKUP(B67,'RESUMEN-M (1)'!B38:K103,2,FALSE) -> 27 | D67: =VLOOKUP(C67,'RESUMEN-M (1)'!C$12:K$93,2,FALSE) -> CONSORCIO CB-TALATAA | E67: =IF('PROM-CTOS EXP'!C35="HÁBIL",'PROM-CTOS EXP'!J35,'PROM-CTOS EXP'!J35) -> 476.368 | F67: =+COUNT('PROM-CTOS EXP'!D35:I35) -> 5 | G67: =IF(IF(E67="NO HÁBIL","",IF(E67="RECHAZADO","",IF($G$13="MEDIANA CON VALOR ABSOLUTO",$H$22*(1-ABS(($H$20-E67)/$H$20)),IF(AND($G$13="MEDIA GEOMÉTRICA",E67=$H$28),$H$22,IF($G$13="MEDIA GEOMÉTRICA",$H$22*(1-(ABS($H$28-E67)/$H$28)),IF($G$13="MEDIA ARITMETICA ALTA",$H$22*($H$19/E67),IF(E67<=$H$20,$H$22*(1-(($H$20-E67)/$H$20)),$H$22*(1-(ABS($H$20-E67)/$H$20)))))))))<0,0,IF(E67="NO HÁBIL","",IF(E67="RECHAZADO","",IF($G$13="MEDIANA CON VALOR ABSOLUTO",$H$22*(1-ABS(($H$20-E67)/$H$20)),IF(AND($G$13="MEDIA GEOMÉTRICA",E67=$H$28),$H$22,IF($G$13="MEDIA GEOMÉTRICA",$H$22*(1-(ABS($H$28-E67)/$H$28)),IF($G$13="MEDIA ARITMETICA ALTA",$H$22*($H$19/E67),IF(E67<=$H$20,$H$22*(1-(($H$20-E67)/$H$20)),$H$22*(1-(ABS($H$20-E67)/$H$20)))))))))) -> 59.402993 | K67: =IF(E67=0,1,E67) -> 476.368 | M67: =IF(E67=MAX(E$41:E$101),"DESCARTADO",E67) -> 476.368 | N67: =IF(E67="NO HÁBIL","",IF(E67="RECHAZADO","",ABS(E67-$H$29))) -> 64.329346 | O67: =IF(E67="NO HÁBIL","",IF(E67=MIN(E$41:E$101),"DESCARTADO",E67)) -> 476.368 | P67: =IF(N67=MIN($N$41:$N$101),"MINIMO","") | Q67: =IF(P67="MINIMO",E67,"")
B68: 28 | C68: =VLOOKUP(B68,'RESUMEN-M (1)'!B39:K103,2,FALSE) -> 28 | D68: =VLOOKUP(C68,'RESUMEN-M (1)'!C$12:K$93,2,FALSE) -> D&B INGENIEROS CIVILES S. A.S. | E68: =IF('PROM-CTOS EXP'!C36="HÁBIL",'PROM-CTOS EXP'!J36,'PROM-CTOS EXP'!J36) -> 244.21 | F68: =+COUNT('PROM-CTOS EXP'!D36:I36) -> 2 | G68: =IF(IF(E68="NO HÁBIL","",IF(E68="RECHAZADO","",IF($G$13="MEDIANA CON VALOR ABSOLUTO",$H$22*(1-ABS(($H$20-E68)/$H$20)),IF(AND($G$13="MEDIA GEOMÉTRICA",E68=$H$28),$H$22,IF($G$13="MEDIA GEOMÉTRICA",$H$22*(1-(ABS($H$28-E68)/$H$28)),IF($G$13="MEDIA ARITMETICA ALTA",$H$22*($H$19/E68),IF(E68<=$H$20,$H$22*(1-(($H$20-E68)/$H$20)),$H$22*(1-(ABS($H$20-E68)/$H$20)))))))))<0,0,IF(E68="NO HÁBIL","",IF(E68="RECHAZADO","",IF($G$13="MEDIANA CON VALOR ABSOLUTO",$H$22*(1-ABS(($H$20-E68)/$H$20)),IF(AND($G$13="MEDIA GEOMÉTRICA",E68=$H$28),$H$22,IF($G$13="MEDIA GEOMÉTRICA",$H$22*(1-(ABS($H$28-E68)/$H$28)),IF($G$13="MEDIA ARITMETICA ALTA",$H$22*($H$19/E68),IF(E68<=$H$20,$H$22*(1-(($H$20-E68)/$H$20)),$H$22*(1-(ABS($H$20-E68)/$H$20)))))))))) -> 30.452937 | K68: =IF(E68=0,1,E68) -> 244.21 | M68: =IF(E68=MAX(E$41:E$101),"DESCARTADO",E68) -> 244.21 | N68: =IF(E68="NO HÁBIL","",IF(E68="RECHAZADO","",ABS(E68-$H$29))) -> 296.48735 | O68: =IF(E68="NO HÁBIL","",IF(E68=MIN(E$41:E$101),"DESCARTADO",E68)) -> 244.21 | P68: =IF(N68=MIN($N$41:$N$101),"MINIMO","") | Q68: =IF(P68="MINIMO",E68,"")
B69: 29 | C69: =VLOOKUP(B69,'RESUMEN-M (1)'!B40:K105,2,FALSE) -> 29 | D69: =VLOOKUP(C69,'RESUMEN-M (1)'!C$12:K$93,2,FALSE) -> CONSORCIO OJB | E69: =IF('PROM-CTOS EXP'!C37="HÁBIL",'PROM-CTOS EXP'!J37,'PROM-CTOS EXP'!J37) -> 565.88417 | F69: =+COUNT('PROM-CTOS EXP'!D37:I37) -> 3 | G69: =IF(IF(E69="NO HÁBIL","",IF(E69="RECHAZADO","",IF($G$13="MEDIANA CON VALOR ABSOLUTO",$H$22*(1-ABS(($H$20-E69)/$H$20)),IF(AND($G$13="MEDIA GEOMÉTRICA",E69=$H$28),$H$22,IF($G$13="MEDIA GEOMÉTRICA",$H$22*(1-(ABS($H$28-E69)/$H$28)),IF($G$13="MEDIA ARITMETICA ALTA",$H$22*($H$19/E69),IF(E69<=$H$20,$H$22*(1-(($H$20-E69)/$H$20)),$H$22*(1-(ABS($H$20-E69)/$H$20)))))))))<0,0,IF(E69="NO HÁBIL","",IF(E69="RECHAZADO","",IF($G$13="MEDIANA CON VALOR ABSOLUTO",$H$22*(1-ABS(($H$20-E69)/$H$20)),IF(AND($G$13="MEDIA GEOMÉTRICA",E69=$H$28),$H$22,IF($G$13="MEDIA GEOMÉTRICA",$H$22*(1-(ABS($H$28-E69)/$H$28)),IF($G$13="MEDIA ARITMETICA ALTA",$H$22*($H$19/E69),IF(E69<=$H$20,$H$22*(1-(($H$20-E69)/$H$20)),$H$22*(1-(ABS($H$20-E69)/$H$20)))))))))) -> 64.434359 | K69: =IF(E69=0,1,E69) -> 565.88417 | M69: =IF(E69=MAX(E$41:E$101),"DESCARTADO",E69) -> 565.88417 | N69: =IF(E69="NO HÁBIL","",IF(E69="RECHAZADO","",ABS(E69-$H$29))) -> 25.186821 | O69: =IF(E69="NO HÁBIL","",IF(E69=MIN(E$41:E$101),"DESCARTADO",E69)) -> 565.88417 | P69: =IF(N69=MIN($N$41:$N$101),"MINIMO","") | Q69: =IF(P69="MINIMO",E69,"")
B70: 30 | C70: =VLOOKUP(B70,'RESUMEN-M (1)'!B41:K106,2,FALSE) -> 30 | D70: =VLOOKUP(C70,'RESUMEN-M (1)'!C$12:K$93,2,FALSE) -> PROYECTISTAS DE COLOMB IA & CIA SAS | E70: =IF('PROM-CTOS EXP'!C38="HÁBIL",'PROM-CTOS EXP'!J38,'PROM-CTOS EXP'!J38) -> 459.09 | F70: =+COUNT('PROM-CTOS EXP'!D38:I38) -> 1 | G70: =IF(IF(E70="NO HÁBIL","",IF(E70="RECHAZADO","",IF($G$13="MEDIANA CON VALOR ABSOLUTO",$H$22*(1-ABS(($H$20-E70)/$H$20)),IF(AND($G$13="MEDIA GEOMÉTRICA",E70=$H$28),$H$22,IF($G$13="MEDIA GEOMÉTRICA",$H$22*(1-(ABS($H$28-E70)/$H$28)),IF($G$13="MEDIA ARITMETICA ALTA",$H$22*($H$19/E70),IF(E70<=$H$20,$H$22*(1-(($H$20-E70)/$H$20)),$H$22*(1-(ABS($H$20-E70)/$H$20)))))))))<0,0,IF(E70="NO HÁBIL","",IF(E70="RECHAZADO","",IF($G$13="MEDIANA CON VALOR ABSOLUTO",$H$22*(1-ABS(($H$20-E70)/$H$20)),IF(AND($G$13="MEDIA GEOMÉTRICA",E70=$H$28),$H$22,IF($G$13="MEDIA GEOMÉTRICA",$H$22*(1-(ABS($H$28-E70)/$H$28)),IF($G$13="MEDIA ARITMETICA ALTA",$H$22*($H$19/E70),IF(E70<=$H$20,$H$22*(1-(($H$20-E70)/$H$20)),$H$22*(1-(ABS($H$20-E70)/$H$20)))))))))) -> 57.24843 | K70: =IF(E70=0,1,E70) -> 459.09 | M70: =IF(E70=MAX(E$41:E$101),"DESCARTADO",E70) -> 459.09 | N70: =IF(E70="NO HÁBIL","",IF(E70="RECHAZADO","",ABS(E70-$H$29))) -> 81.607346 | O70: =IF(E70="NO HÁBIL","",IF(E70=MIN(E$41:E$101),"DESCARTADO",E70)) -> 459.09 | P70: =IF(N70=MIN($N$41:$N$101),"MINIMO","") | Q70: =IF(P70="MINIMO",E70,"")
B71: 31 | C71: =VLOOKUP(B71,'RESUMEN-M (1)'!B42:K107,2,FALSE) -> 31 | D71: =VLOOKUP(C71,'RESUMEN-M (1)'!C$12:K$93,2,FALSE) -> CONSORCIO AESA-BALER | E71: =IF('PROM-CTOS EXP'!C39="HÁBIL",'PROM-CTOS EXP'!J39,'PROM-CTOS EXP'!J39) -> 849.99667 | F71: =+COUNT('PROM-CTOS EXP'!D39:I39) -> 3 | G71: =IF(IF(E71="NO HÁBIL","",IF(E71="RECHAZADO","",IF($G$13="MEDIANA CON VALOR ABSOLUTO",$H$22*(1-ABS(($H$20-E71)/$H$20)),IF(AND($G$13="MEDIA GEOMÉTRICA",E71=$H$28),$H$22,IF($G$13="MEDIA GEOMÉTRICA",$H$22*(1-(ABS($H$28-E71)/$H$28)),IF($G$13="MEDIA ARITMETICA ALTA",$H$22*($H$19/E71),IF(E71<=$H$20,$H$22*(1-(($H$20-E71)/$H$20)),$H$22*(1-(ABS($H$20-E71)/$H$20)))))))))<0,0,IF(E71="NO HÁBIL","",IF(E71="RECHAZADO","",IF($G$13="MEDIANA CON VALOR ABSOLUTO",$H$22*(1-ABS(($H$20-E71)/$H$20)),IF(AND($G$13="MEDIA GEOMÉTRICA",E71=$H$28),$H$22,IF($G$13="MEDIA GEOMÉTRICA",$H$22*(1-(ABS($H$28-E71)/$H$28)),IF($G$13="MEDIA ARITMETICA ALTA",$H$22*($H$19/E71),IF(E71<=$H$20,$H$22*(1-(($H$20-E71)/$H$20)),$H$22*(1-(ABS($H$20-E71)/$H$20)))))))))) -> 29.005588 | K71: =IF(E71=0,1,E71) -> 849.99667 | M71: =IF(E71=MAX(E$41:E$101),"DESCARTADO",E71) -> 849.99667 | N71: =IF(E71="NO HÁBIL","",IF(E71="RECHAZADO","",ABS(E71-$H$29))) -> 309.29932 | O71: =IF(E71="NO HÁBIL","",IF(E71=MIN(E$41:E$101),"DESCARTADO",E71)) -> 849.99667 | P71: =IF(N71=MIN($N$41:$N$101),"MINIMO","") | Q71: =IF(P71="MINIMO",E71,"")
B72: 32 | C72: =VLOOKUP(B72,'RESUMEN-M (1)'!B43:K108,2,FALSE) -> 32 | D72: =VLOOKUP(C72,'RESUMEN-M (1)'!C$12:K$93,2,FALSE) -> CONSORCIO INTERVIAL GM | E72: =IF('PROM-CTOS EXP'!C40="HÁBIL",'PROM-CTOS EXP'!J40,'PROM-CTOS EXP'!J40) -> 1249.75 | F72: =+COUNT('PROM-CTOS EXP'!D40:I40) -> 1 | G72: =IF(IF(E72="NO HÁBIL","",IF(E72="RECHAZADO","",IF($G$13="MEDIANA CON VALOR ABSOLUTO",$H$22*(1-ABS(($H$20-E72)/$H$20)),IF(AND($G$13="MEDIA GEOMÉTRICA",E72=$H$28),$H$22,IF($G$13="MEDIA GEOMÉTRICA",$H$22*(1-(ABS($H$28-E72)/$H$28)),IF($G$13="MEDIA ARITMETICA ALTA",$H$22*($H$19/E72),IF(E72<=$H$20,$H$22*(1-(($H$20-E72)/$H$20)),$H$22*(1-(ABS($H$20-E72)/$H$20)))))))))<0,0,IF(E72="NO HÁBIL","",IF(E72="RECHAZADO","",IF($G$13="MEDIANA CON VALOR ABSOLUTO",$H$22*(1-ABS(($H$20-E72)/$H$20)),IF(AND($G$13="MEDIA GEOMÉTRICA",E72=$H$28),$H$22,IF($G$13="MEDIA GEOMÉTRICA",$H$22*(1-(ABS($H$28-E72)/$H$28)),IF($G$13="MEDIA ARITMETICA ALTA",$H$22*($H$19/E72),IF(E72<=$H$20,$H$22*(1-(($H$20-E72)/$H$20)),$H$22*(1-(ABS($H$20-E72)/$H$20)))))))))) -> 0 | K72: =IF(E72=0,1,E72) -> 1249.75 | M72: =IF(E72=MAX(E$41:E$101),"DESCARTADO",E72) -> 1249.75 | N72: =IF(E72="NO HÁBIL","",IF(E72="RECHAZADO","",ABS(E72-$H$29))) -> 709.05265 | O72: =IF(E72="NO HÁBIL","",IF(E72=MIN(E$41:E$101),"DESCARTADO",E72)) -> 1249.75 | P72: =IF(N72=MIN($N$41:$N$101),"MINIMO","") | Q72: =IF(P72="MINIMO",E72,"")
B73: 33 | C73: =VLOOKUP(B73,'RESUMEN-M (1)'!B44:K109,2,FALSE) -> 33 | D73: =VLOOKUP(C73,'RESUMEN-M (1)'!C$12:K$93,2,FALSE) -> G&C | E73: =IF('PROM-CTOS EXP'!C41="HÁBIL",'PROM-CTOS EXP'!J41,'PROM-CTOS EXP'!J41) -> 720.59 | F73: =+COUNT('PROM-CTOS EXP'!D41:I41) -> 1 | G73: =IF(IF(E73="NO HÁBIL","",IF(E73="RECHAZADO","",IF($G$13="MEDIANA CON VALOR ABSOLUTO",$H$22*(1-ABS(($H$20-E73)/$H$20)),IF(AND($G$13="MEDIA GEOMÉTRICA",E73=$H$28),$H$22,IF($G$13="MEDIA GEOMÉTRICA",$H$22*(1-(ABS($H$28-E73)/$H$28)),IF($G$13="MEDIA ARITMETICA ALTA",$H$22*($H$19/E73),IF(E73<=$H$20,$H$22*(1-(($H$20-E73)/$H$20)),$H$22*(1-(ABS($H$20-E73)/$H$20)))))))))<0,0,IF(E73="NO HÁBIL","",IF(E73="RECHAZADO","",IF($G$13="MEDIANA CON VALOR ABSOLUTO",$H$22*(1-ABS(($H$20-E73)/$H$20)),IF(AND($G$13="MEDIA GEOMÉTRICA",E73=$H$28),$H$22,IF($G$13="MEDIA GEOMÉTRICA",$H$22*(1-(ABS($H$28-E73)/$H$28)),IF($G$13="MEDIA ARITMETICA ALTA",$H$22*($H$19/E73),IF(E73<=$H$20,$H$22*(1-(($H$20-E73)/$H$20)),$H$22*(1-(ABS($H$20-E73)/$H$20)))))))))) -> 45.142573 | K73: =IF(E73=0,1,E73) -> 720.59 | M73: =IF(E73=MAX(E$41:E$101),"DESCARTADO",E73) -> 720.59 | N73: =IF(E73="NO HÁBIL","",IF(E73="RECHAZADO","",ABS(E73-$H$29))) -> 179.89265 | O73: =IF(E73="NO HÁBIL","",IF(E73=MIN(E$41:E$101),"DESCARTADO",E73)) -> 720.59 | P73: =IF(N73=MIN($N$41:$N$101),"MINIMO","") | Q73: =IF(P73="MINIMO",E73,"")
B74: 34 | C74: =VLOOKUP(B74,'RESUMEN-M (1)'!B45:K110,2,FALSE) -> 34 | D74: =VLOOKUP(C74,'RESUMEN-M (1)'!C$12:K$93,2,FALSE) -> CONSORCIO GC | E74: =IF('PROM-CTOS EXP'!C42="HÁBIL",'PROM-CTOS EXP'!J42,'PROM-CTOS EXP'!J42) -> 238.08 | F74: =+COUNT('PROM-CTOS EXP'!D42:I42) -> 1 | G74: =IF(IF(E74="NO HÁBIL","",IF(E74="RECHAZADO","",IF($G$13="MEDIANA CON VALOR ABSOLUTO",$H$22*(1-ABS(($H$20-E74)/$H$20)),IF(AND($G$13="MEDIA GEOMÉTRICA",E74=$H$28),$H$22,IF($G$13="MEDIA GEOMÉTRICA",$H$22*(1-(ABS($H$28-E74)/$H$28)),IF($G$13="MEDIA ARITMETICA ALTA",$H$22*($H$19/E74),IF(E74<=$H$20,$H$22*(1-(($H$20-E74)/$H$20)),$H$22*(1-(ABS($H$20-E74)/$H$20)))))))))<0,0,IF(E74="NO HÁBIL","",IF(E74="RECHAZADO","",IF($G$13="MEDIANA CON VALOR ABSOLUTO",$H$22*(1-ABS(($H$20-E74)/$H$20)),IF(AND($G$13="MEDIA GEOMÉTRICA",E74=$H$28),$H$22,IF($G$13="MEDIA GEOMÉTRICA",$H$22*(1-(ABS($H$28-E74)/$H$28)),IF($G$13="MEDIA ARITMETICA ALTA",$H$22*($H$19/E74),IF(E74<=$H$20,$H$22*(1-(($H$20-E74)/$H$20)),$H$22*(1-(ABS($H$20-E74)/$H$20)))))))))) -> 29.688528 | K74: =IF(E74=0,1,E74) -> 238.08 | M74: =IF(E74=MAX(E$41:E$101),"DESCARTADO",E74) -> 238.08 | N74: =IF(E74="NO HÁBIL","",IF(E74="RECHAZADO","",ABS(E74-$H$29))) -> 302.61735 | O74: =IF(E74="NO HÁBIL","",IF(E74=MIN(E$41:E$101),"DESCARTADO",E74)) -> 238.08 | P74: =IF(N74=MIN($N$41:$N$101),"MINIMO","") | Q74: =IF(P74="MINIMO",E74,"")
B75: 35 | C75: =VLOOKUP(B75,'RESUMEN-M (1)'!B46:K111,2,FALSE) -> 35 | D75: =VLOOKUP(C75,'RESUMEN-M (1)'!C$12:K$93,2,FALSE) -> CONSORCIO CABAC-AZIMUT | E75: =IF('PROM-CTOS EXP'!C43="HÁBIL",'PROM-CTOS EXP'!J43,'PROM-CTOS EXP'!J43) -> 529.21 | F75: =+COUNT('PROM-CTOS EXP'!D43:I43) -> 1 | G75: =IF(IF(E75="NO HÁBIL","",IF(E75="RECHAZADO","",IF($G$13="MEDIANA CON VALOR ABSOLUTO",$H$22*(1-ABS(($H$20-E75)/$H$20)),IF(AND($G$13="MEDIA GEOMÉTRICA",E75=$H$28),$H$22,IF($G$13="MEDIA GEOMÉTRICA",$H$22*(1-(ABS($H$28-E75)/$H$28)),IF($G$13="MEDIA ARITMETICA ALTA",$H$22*($H$19/E75),IF(E75<=$H$20,$H$22*(1-(($H$20-E75)/$H$20)),$H$22*(1-(ABS($H$20-E75)/$H$20)))))))))<0,0,IF(E75="NO HÁBIL","",IF(E75="RECHAZADO","",IF($G$13="MEDIANA CON VALOR ABSOLUTO",$H$22*(1-ABS(($H$20-E75)/$H$20)),IF(AND($G$13="MEDIA GEOMÉTRICA",E75=$H$28),$H$22,IF($G$13="MEDIA GEOMÉTRICA",$H$22*(1-(ABS($H$28-E75)/$H$28)),IF($G$13="MEDIA ARITMETICA ALTA",$H$22*($H$19/E75),IF(E75<=$H$20,$H$22*(1-(($H$20-E75)/$H$20)),$H$22*(1-(ABS($H$20-E75)/$H$20)))))))))) -> 65.992379 | K75: =IF(E75=0,1,E75) -> 529.21 | M75: =IF(E75=MAX(E$41:E$101),"DESCARTADO",E75) -> 529.21 | N75: =IF(E75="NO HÁBIL","",IF(E75="RECHAZADO","",ABS(E75-$H$29))) -> 11.487346 | O75: =IF(E75="NO HÁBIL","",IF(E75=MIN(E$41:E$101),"DESCARTADO",E75)) -> 529.21 | P75: =IF(N75=MIN($N$41:$N$101),"MINIMO","") | Q75: =IF(P75="MINIMO",E75,"")
B76: 36 | C76: =VLOOKUP(B76,'RESUMEN-M (1)'!B47:K112,2,FALSE) -> 36 | D76: =VLOOKUP(C76,'RESUMEN-M (1)'!C$12:K$93,2,FALSE) -> ARQUICIVILES CONSTRUCTO RA SAS | E76: =IF('PROM-CTOS EXP'!C44="HÁBIL",'PROM-CTOS EXP'!J44,'PROM-CTOS EXP'!J44) -> 380.38 | F76: =+COUNT('PROM-CTOS EXP'!D44:I44) -> 1 | G76: =IF(IF(E76="NO HÁBIL","",IF(E76="RECHAZADO","",IF($G$13="MEDIANA CON VALOR ABSOLUTO",$H$22*(1-ABS(($H$20-E76)/$H$20)),IF(AND($G$13="MEDIA GEOMÉTRICA",E76=$H$28),$H$22,IF($G$13="MEDIA GEOMÉTRICA",$H$22*(1-(ABS($H$28-E76)/$H$28)),IF($G$13="MEDIA ARITMETICA ALTA",$H$22*($H$19/E76),IF(E76<=$H$20,$H$22*(1-(($H$20-E76)/$H$20)),$H$22*(1-(ABS($H$20-E76)/$H$20)))))))))<0,0,IF(E76="NO HÁBIL","",IF(E76="RECHAZADO","",IF($G$13="MEDIANA CON VALOR ABSOLUTO",$H$22*(1-ABS(($H$20-E76)/$H$20)),IF(AND($G$13="MEDIA GEOMÉTRICA",E76=$H$28),$H$22,IF($G$13="MEDIA GEOMÉTRICA",$H$22*(1-(ABS($H$28-E76)/$H$28)),IF($G$13="MEDIA ARITMETICA ALTA",$H$22*($H$19/E76),IF(E76<=$H$20,$H$22*(1-(($H$20-E76)/$H$20)),$H$22*(1-(ABS($H$20-E76)/$H$20)))))))))) -> 47.433309 | K76: =IF(E76=0,1,E76) -> 380.38 | M76: =IF(E76=MAX(E$41:E$101),"DESCARTADO",E76) -> 380.38 | N76: =IF(E76="NO HÁBIL","",IF(E76="RECHAZADO","",ABS(E76-$H$29))) -> 160.31735 | O76: =IF(E76="NO HÁBIL","",IF(E76=MIN(E$41:E$101),"DESCARTADO",E76)) -> 380.38 | P76: =IF(N76=MIN($N$41:$N$101),"MINIMO","") | Q76: =IF(P76="MINIMO",E76,"")
B77: 37 | C77: =VLOOKUP(B77,'RESUMEN-M (1)'!B48:K113,2,FALSE) -> 37 | D77: =VLOOKUP(C77,'RESUMEN-M (1)'!C$12:K$93,2,FALSE) -> VERTICE INTERVENTORIA D E PROYECTOS SAS | E77: =IF('PROM-CTOS EXP'!C45="HÁBIL",'PROM-CTOS EXP'!J45,'PROM-CTOS EXP'!J45) -> 403.36 | F77: =+COUNT('PROM-CTOS EXP'!D45:I45) -> 1 | G77: =IF(IF(E77="NO HÁBIL","",IF(E77="RECHAZADO","",IF($G$13="MEDIANA CON VALOR ABSOLUTO",$H$22*(1-ABS(($H$20-E77)/$H$20)),IF(AND($G$13="MEDIA GEOMÉTRICA",E77=$H$28),$H$22,IF($G$13="MEDIA GEOMÉTRICA",$H$22*(1-(ABS($H$28-E77)/$H$28)),IF($G$13="MEDIA ARITMETICA ALTA",$H$22*($H$19/E77),IF(E77<=$H$20,$H$22*(1-(($H$20-E77)/$H$20)),$H$22*(1-(ABS($H$20-E77)/$H$20)))))))))<0,0,IF(E77="NO HÁBIL","",IF(E77="RECHAZADO","",IF($G$13="MEDIANA CON VALOR ABSOLUTO",$H$22*(1-ABS(($H$20-E77)/$H$20)),IF(AND($G$13="MEDIA GEOMÉTRICA",E77=$H$28),$H$22,IF($G$13="MEDIA GEOMÉTRICA",$H$22*(1-(ABS($H$28-E77)/$H$28)),IF($G$13="MEDIA ARITMETICA ALTA",$H$22*($H$19/E77),IF(E77<=$H$20,$H$22*(1-(($H$20-E77)/$H$20)),$H$22*(1-(ABS($H$20-E77)/$H$20)))))))))) -> 50.29891 | K77: =IF(E77=0,1,E77) -> 403.36 | M77: =IF(E77=MAX(E$41:E$101),"DESCARTADO",E77) -> 403.36 | N77: =IF(E77="NO HÁBIL","",IF(E77="RECHAZADO","",ABS(E77-$H$29))) -> 137.33735 | O77: =IF(E77="NO HÁBIL","",IF(E77=MIN(E$41:E$101),"DESCARTADO",E77)) -> 403.36 | P77: =IF(N77=MIN($N$41:$N$101),"MINIMO","") | Q77: =IF(P77="MINIMO",E77,"")
B78: 38 | C78: =VLOOKUP(B78,'RESUMEN-M (1)'!B49:K114,2,FALSE) -> 38 | D78: =VLOOKUP(C78,'RESUMEN-M (1)'!C$12:K$93,2,FALSE) -> CONSORCIO INTERVENTORE S AC | E78: =IF('PROM-CTOS EXP'!C46="HÁBIL",'PROM-CTOS EXP'!J46,'PROM-CTOS EXP'!J46) -> 527.495 | F78: =+COUNT('PROM-CTOS EXP'!D46:I46) -> 2 | G78: =IF(IF(E78="NO HÁBIL","",IF(E78="RECHAZADO","",IF($G$13="MEDIANA CON VALOR ABSOLUTO",$H$22*(1-ABS(($H$20-E78)/$H$20)),IF(AND($G$13="MEDIA GEOMÉTRICA",E78=$H$28),$H$22,IF($G$13="MEDIA GEOMÉTRICA",$H$22*(1-(ABS($H$28-E78)/$H$28)),IF($G$13="MEDIA ARITMETICA ALTA",$H$22*($H$19/E78),IF(E78<=$H$20,$H$22*(1-(($H$20-E78)/$H$20)),$H$22*(1-(ABS($H$20-E78)/$H$20)))))))))<0,0,IF(E78="NO HÁBIL","",IF(E78="RECHAZADO","",IF($G$13="MEDIANA CON VALOR ABSOLUTO",$H$22*(1-ABS(($H$20-E78)/$H$20)),IF(AND($G$13="MEDIA GEOMÉTRICA",E78=$H$28),$H$22,IF($G$13="MEDIA GEOMÉTRICA",$H$22*(1-(ABS($H$28-E78)/$H$28)),IF($G$13="MEDIA ARITMETICA ALTA",$H$22*($H$19/E78),IF(E78<=$H$20,$H$22*(1-(($H$20-E78)/$H$20)),$H$22*(1-(ABS($H$20-E78)/$H$20)))))))))) -> 65.778519 | K78: =IF(E78=0,1,E78) -> 527.495 | M78: =IF(E78=MAX(E$41:E$101),"DESCARTADO",E78) -> 527.495 | N78: =IF(E78="NO HÁBIL","",IF(E78="RECHAZADO","",ABS(E78-$H$29))) -> 13.202346 | O78: =IF(E78="NO HÁBIL","",IF(E78=MIN(E$41:E$101),"DESCARTADO",E78)) -> 527.495 | P78: =IF(N78=MIN($N$41:$N$101),"MINIMO","") | Q78: =IF(P78="MINIMO",E78,"")
B79: 39 | C79: =VLOOKUP(B79,'RESUMEN-M (1)'!B50:K115,2,FALSE) -> 39 | D79: =VLOOKUP(C79,'RESUMEN-M (1)'!C$12:K$93,2,FALSE) -> CONSORCIO RED VIAL HUILA | E79: =IF('PROM-CTOS EXP'!C47="HÁBIL",'PROM-CTOS EXP'!J47,'PROM-CTOS EXP'!J47) -> 567.25333 | F79: =+COUNT('PROM-CTOS EXP'!D47:I47) -> 3 | G79: =IF(IF(E79="NO HÁBIL","",IF(E79="RECHAZADO","",IF($G$13="MEDIANA CON VALOR ABSOLUTO",$H$22*(1-ABS(($H$20-E79)/$H$20)),IF(AND($G$13="MEDIA GEOMÉTRICA",E79=$H$28),$H$22,IF($G$13="MEDIA GEOMÉTRICA",$H$22*(1-(ABS($H$28-E79)/$H$28)),IF($G$13="MEDIA ARITMETICA ALTA",$H$22*($H$19/E79),IF(E79<=$H$20,$H$22*(1-(($H$20-E79)/$H$20)),$H$22*(1-(ABS($H$20-E79)/$H$20)))))))))<0,0,IF(E79="NO HÁBIL","",IF(E79="RECHAZADO","",IF($G$13="MEDIANA CON VALOR ABSOLUTO",$H$22*(1-ABS(($H$20-E79)/$H$20)),IF(AND($G$13="MEDIA GEOMÉTRICA",E79=$H$28),$H$22,IF($G$13="MEDIA GEOMÉTRICA",$H$22*(1-(ABS($H$28-E79)/$H$28)),IF($G$13="MEDIA ARITMETICA ALTA",$H$22*($H$19/E79),IF(E79<=$H$20,$H$22*(1-(($H$20-E79)/$H$20)),$H$22*(1-(ABS($H$20-E79)/$H$20)))))))))) -> 64.263625 | K79: =IF(E79=0,1,E79) -> 567.25333 | M79: =IF(E79=MAX(E$41:E$101),"DESCARTADO",E79) -> 567.25333 | N79: =IF(E79="NO HÁBIL","",IF(E79="RECHAZADO","",ABS(E79-$H$29))) -> 26.555987 | O79: =IF(E79="NO HÁBIL","",IF(E79=MIN(E$41:E$101),"DESCARTADO",E79)) -> 567.25333 | P79: =IF(N79=MIN($N$41:$N$101),"MINIMO","") | Q79: =IF(P79="MINIMO",E79,"")
B80: 40 | C80: =VLOOKUP(B80,'RESUMEN-M (1)'!B51:K116,2,FALSE) -> 40 | D80: =VLOOKUP(C80,'RESUMEN-M (1)'!C$12:K$93,2,FALSE) -> CONSORCIO SAMUEL 2024 | E80: =IF('PROM-CTOS EXP'!C48="HÁBIL",'PROM-CTOS EXP'!J48,'PROM-CTOS EXP'!J48) -> 1076.78 | F80: =+COUNT('PROM-CTOS EXP'!D48:I48) -> 1 | G80: =IF(IF(E80="NO HÁBIL","",IF(E80="RECHAZADO","",IF($G$13="MEDIANA CON VALOR ABSOLUTO",$H$22*(1-ABS(($H$20-E80)/$H$20)),IF(AND($G$13="MEDIA GEOMÉTRICA",E80=$H$28),$H$22,IF($G$13="MEDIA GEOMÉTRICA",$H$22*(1-(ABS($H$28-E80)/$H$28)),IF($G$13="MEDIA ARITMETICA ALTA",$H$22*($H$19/E80),IF(E80<=$H$20,$H$22*(1-(($H$20-E80)/$H$20)),$H$22*(1-(ABS($H$20-E80)/$H$20)))))))))<0,0,IF(E80="NO HÁBIL","",IF(E80="RECHAZADO","",IF($G$13="MEDIANA CON VALOR ABSOLUTO",$H$22*(1-ABS(($H$20-E80)/$H$20)),IF(AND($G$13="MEDIA GEOMÉTRICA",E80=$H$28),$H$22,IF($G$13="MEDIA GEOMÉTRICA",$H$22*(1-(ABS($H$28-E80)/$H$28)),IF($G$13="MEDIA ARITMETICA ALTA",$H$22*($H$19/E80),IF(E80<=$H$20,$H$22*(1-(($H$20-E80)/$H$20)),$H$22*(1-(ABS($H$20-E80)/$H$20)))))))))) -> 0.72575282 | K80: =IF(E80=0,1,E80) -> 1076.78 | M80: =IF(E80=MAX(E$41:E$101),"DESCARTADO",E80) -> 1076.78 | N80: =IF(E80="NO HÁBIL","",IF(E80="RECHAZADO","",ABS(E80-$H$29))) -> 536.08265 | O80: =IF(E80="NO HÁBIL","",IF(E80=MIN(E$41:E$101),"DESCARTADO",E80)) -> 1076.78 | P80: =IF(N80=MIN($N$41:$N$101),"MINIMO","") | Q80: =IF(P80="MINIMO",E80,"")
... B85: 45 | C85: =VLOOKUP(B85,'RESUMEN-M (1)'!B56:K121,2,FALSE) -> 45 | D85: =VLOOKUP(C85,'RESUMEN-M (1)'!C$12:K$93,2,FALSE) -> CONSTRUCTORA VISAA S.A. S. | E85: =IF('PROM-CTOS EXP'!C53="HÁBIL",'PROM-CTOS EXP'!J53,'PROM-CTOS EXP'!J53) -> 80.9735 | F85: =+COUNT('PROM-CTOS EXP'!D53:I53) -> 4 | G85: =IF(IF(E85="NO HÁBIL","",IF(E85="RECHAZADO","",IF($G$13="MEDIANA CON VALOR ABSOLUTO",$H$22*(1-ABS(($H$20-E85)/$H$20)),IF(AND($G$13="MEDIA GEOMÉTRICA",E85=$H$28),$H$22,IF($G$13="MEDIA GEOMÉTRICA",$H$22*(1-(ABS($H$28-E85)/$H$28)),IF($G$13="MEDIA ARITMETICA ALTA",$H$22*($H$19/E85),IF(E85<=$H$20,$H$22*(1-(($H$20-E85)/$H$20)),$H$22*(1-(ABS($H$20-E85)/$H$20)))))))))<0,0,IF(E85="NO HÁBIL","",IF(E85="RECHAZADO","",IF($G$13="MEDIANA CON VALOR ABSOLUTO",$H$22*(1-ABS(($H$20-E85)/$H$20)),IF(AND($G$13="MEDIA GEOMÉTRICA",E85=$H$28),$H$22,IF($G$13="MEDIA GEOMÉTRICA",$H$22*(1-(ABS($H$28-E85)/$H$28)),IF($G$13="MEDIA ARITMETICA ALTA",$H$22*($H$19/E85),IF(E85<=$H$20,$H$22*(1-(($H$20-E85)/$H$20)),$H$22*(1-(ABS($H$20-E85)/$H$20)))))))))) -> 10.097379 | K85: =IF(E85=0,1,E85) -> 80.9735 | M85: =IF(E85=MAX(E$41:E$101),"DESCARTADO",E85) -> 80.9735 | N85: =IF(E85="NO HÁBIL","",IF(E85="RECHAZADO","",ABS(E85-$H$29))) -> 459.72385 | O85: =IF(E85="NO HÁBIL","",IF(E85=MIN(E$41:E$101),"DESCARTADO",E85)) -> DESCARTADO | P85: =IF(N85=MIN($N$41:$N$101),"MINIMO","") | Q85: =IF(P85="MINIMO",E85,"")
B86: 46 | C86: =VLOOKUP(B86,'RESUMEN-M (1)'!B57:K121,2,FALSE) -> 46 | D86: =VLOOKUP(C86,'RESUMEN-M (1)'!C$12:K$93,2,FALSE) -> CONSORCIO INTERVIAS A.S. A. | E86: =IF('PROM-CTOS EXP'!C54="HÁBIL",'PROM-CTOS EXP'!J54,'PROM-CTOS EXP'!J54) -> 748.048 | F86: =+COUNT('PROM-CTOS EXP'!D54:I54) -> 2 | G86: =IF(IF(E86="NO HÁBIL","",IF(E86="RECHAZADO","",IF($G$13="MEDIANA CON VALOR ABSOLUTO",$H$22*(1-ABS(($H$20-E86)/$H$20)),IF(AND($G$13="MEDIA GEOMÉTRICA",E86=$H$28),$H$22,IF($G$13="MEDIA GEOMÉTRICA",$H$22*(1-(ABS($H$28-E86)/$H$28)),IF($G$13="MEDIA ARITMETICA ALTA",$H$22*($H$19/E86),IF(E86<=$H$20,$H$22*(1-(($H$20-E86)/$H$20)),$H$22*(1-(ABS($H$20-E86)/$H$20)))))))))<0,0,IF(E86="NO HÁBIL","",IF(E86="RECHAZADO","",IF($G$13="MEDIANA CON VALOR ABSOLUTO",$H$22*(1-ABS(($H$20-E86)/$H$20)),IF(AND($G$13="MEDIA GEOMÉTRICA",E86=$H$28),$H$22,IF($G$13="MEDIA GEOMÉTRICA",$H$22*(1-(ABS($H$28-E86)/$H$28)),IF($G$13="MEDIA ARITMETICA ALTA",$H$22*($H$19/E86),IF(E86<=$H$20,$H$22*(1-(($H$20-E86)/$H$20)),$H$22*(1-(ABS($H$20-E86)/$H$20)))))))))) -> 41.718566 | K86: =IF(E86=0,1,E86) -> 748.048 | M86: =IF(E86=MAX(E$41:E$101),"DESCARTADO",E86) -> 748.048 | N86: =IF(E86="NO HÁBIL","",IF(E86="RECHAZADO","",ABS(E86-$H$29))) -> 207.35065 | O86: =IF(E86="NO HÁBIL","",IF(E86=MIN(E$41:E$101),"DESCARTADO",E86)) -> 748.048 | P86: =IF(N86=MIN($N$41:$N$101),"MINIMO","") | Q86: =IF(P86="MINIMO",E86,"")
B87: 47 | C87: =VLOOKUP(B87,'RESUMEN-M (1)'!B58:K122,2,FALSE) -> 47 | D87: =VLOOKUP(C87,'RESUMEN-M (1)'!C$12:K$93,2,FALSE) -> LEMOINE RIVERA INGENIEROS ASOCIADOS SAS | E87: =IF('PROM-CTOS EXP'!C55="HÁBIL",'PROM-CTOS EXP'!J55,'PROM-CTOS EXP'!J55) -> 438.1707 | F87: =+COUNT('PROM-CTOS EXP'!D55:I55) -> 1 | G87: =IF(IF(E87="NO HÁBIL","",IF(E87="RECHAZADO","",IF($G$13="MEDIANA CON VALOR ABSOLUTO",$H$22*(1-ABS(($H$20-E87)/$H$20)),IF(AND($G$13="MEDIA GEOMÉTRICA",E87=$H$28),$H$22,IF($G$13="MEDIA GEOMÉTRICA",$H$22*(1-(ABS($H$28-E87)/$H$28)),IF($G$13="MEDIA ARITMETICA ALTA",$H$22*($H$19/E87),IF(E87<=$H$20,$H$22*(1-(($H$20-E87)/$H$20)),$H$22*(1-(ABS($H$20-E87)/$H$20)))))))))<0,0,IF(E87="NO HÁBIL","",IF(E87="RECHAZADO","",IF($G$13="MEDIANA CON VALOR ABSOLUTO",$H$22*(1-ABS(($H$20-E87)/$H$20)),IF(AND($G$13="MEDIA GEOMÉTRICA",E87=$H$28),$H$22,IF($G$13="MEDIA GEOMÉTRICA",$H$22*(1-(ABS($H$28-E87)/$H$28)),IF($G$13="MEDIA ARITMETICA ALTA",$H$22*($H$19/E87),IF(E87<=$H$20,$H$22*(1-(($H$20-E87)/$H$20)),$H$22*(1-(ABS($H$20-E87)/$H$20)))))))))) -> 54.639797 | K87: =IF(E87=0,1,E87) -> 438.1707 | M87: =IF(E87=MAX(E$41:E$101),"DESCARTADO",E87) -> 438.1707 | N87: =IF(E87="NO HÁBIL","",IF(E87="RECHAZADO","",ABS(E87-$H$29))) -> 102.52665 | O87: =IF(E87="NO HÁBIL","",IF(E87=MIN(E$41:E$101),"DESCARTADO",E87)) -> 438.1707 | P87: =IF(N87=MIN($N$41:$N$101),"MINIMO","") | Q87: =IF(P87="MINIMO",E87,"")
B88: 48 | C88: =VLOOKUP(B88,'RESUMEN-M (1)'!B59:K123,2,FALSE) -> 48 | D88: =VLOOKUP(C88,'RESUMEN-M (1)'!C$12:K$93,2,FALSE) -> AVGR INGENIERIA S.A.S. | E88: =IF('PROM-CTOS EXP'!C56="HÁBIL",'PROM-CTOS EXP'!J56,'PROM-CTOS EXP'!J56) -> 541.3 | F88: =+COUNT('PROM-CTOS EXP'!D56:I56) -> 2 | G88: =IF(IF(E88="NO HÁBIL","",IF(E88="RECHAZADO","",IF($G$13="MEDIANA CON VALOR ABSOLUTO",$H$22*(1-ABS(($H$20-E88)/$H$20)),IF(AND($G$13="MEDIA GEOMÉTRICA",E88=$H$28),$H$22,IF($G$13="MEDIA GEOMÉTRICA",$H$22*(1-(ABS($H$28-E88)/$H$28)),IF($G$13="MEDIA ARITMETICA ALTA",$H$22*($H$19/E88),IF(E88<=$H$20,$H$22*(1-(($H$20-E88)/$H$20)),$H$22*(1-(ABS($H$20-E88)/$H$20)))))))))<0,0,IF(E88="NO HÁBIL","",IF(E88="RECHAZADO","",IF($G$13="MEDIANA CON VALOR ABSOLUTO",$H$22*(1-ABS(($H$20-E88)/$H$20)),IF(AND($G$13="MEDIA GEOMÉTRICA",E88=$H$28),$H$22,IF($G$13="MEDIA GEOMÉTRICA",$H$22*(1-(ABS($H$28-E88)/$H$28)),IF($G$13="MEDIA ARITMETICA ALTA",$H$22*($H$19/E88),IF(E88<=$H$20,$H$22*(1-(($H$20-E88)/$H$20)),$H$22*(1-(ABS($H$20-E88)/$H$20)))))))))) -> 67.5 | K88: =IF(E88=0,1,E88) -> 541.3 | M88: =IF(E88=MAX(E$41:E$101),"DESCARTADO",E88) -> 541.3 | N88: =IF(E88="NO HÁBIL","",IF(E88="RECHAZADO","",ABS(E88-$H$29))) -> 0.60265392 | O88: =IF(E88="NO HÁBIL","",IF(E88=MIN(E$41:E$101),"DESCARTADO",E88)) -> 541.3 | P88: =IF(N88=MIN($N$41:$N$101),"MINIMO","") -> MINIMO | Q88: =IF(P88="MINIMO",E88,"") -> 541.3
B89: 49 | C89: =VLOOKUP(B89,'RESUMEN-M (1)'!B60:K124,2,FALSE) -> 49 | D89: =VLOOKUP(C89,'RESUMEN-M (1)'!C$12:K$93,2,FALSE) -> ICE S.A.S. | E89: =IF('PROM-CTOS EXP'!C57="HÁBIL",'PROM-CTOS EXP'!J57,'PROM-CTOS EXP'!J57) -> 1026.59 | F89: =+COUNT('PROM-CTOS EXP'!D57:I57) -> 4 | G89: =IF(IF(E89="NO HÁBIL","",IF(E89="RECHAZADO","",IF($G$13="MEDIANA CON VALOR ABSOLUTO",$H$22*(1-ABS(($H$20-E89)/$H$20)),IF(AND($G$13="MEDIA GEOMÉTRICA",E89=$H$28),$H$22,IF($G$13="MEDIA GEOMÉTRICA",$H$22*(1-(ABS($H$28-E89)/$H$28)),IF($G$13="MEDIA ARITMETICA ALTA",$H$22*($H$19/E89),IF(E89<=$H$20,$H$22*(1-(($H$20-E89)/$H$20)),$H$22*(1-(ABS($H$20-E89)/$H$20)))))))))<0,0,IF(E89="NO HÁBIL","",IF(E89="RECHAZADO","",IF($G$13="MEDIANA CON VALOR ABSOLUTO",$H$22*(1-ABS(($H$20-E89)/$H$20)),IF(AND($G$13="MEDIA GEOMÉTRICA",E89=$H$28),$H$22,IF($G$13="MEDIA GEOMÉTRICA",$H$22*(1-(ABS($H$28-E89)/$H$28)),IF($G$13="MEDIA ARITMETICA ALTA",$H$22*($H$19/E89),IF(E89<=$H$20,$H$22*(1-(($H$20-E89)/$H$20)),$H$22*(1-(ABS($H$20-E89)/$H$20)))))))))) -> 6.9844356 | K89: =IF(E89=0,1,E89) -> 1026.59 | M89: =IF(E89=MAX(E$41:E$101),"DESCARTADO",E89) -> 1026.59 | N89: =IF(E89="NO HÁBIL","",IF(E89="RECHAZADO","",ABS(E89-$H$29))) -> 485.89265 | O89: =IF(E89="NO HÁBIL","",IF(E89=MIN(E$41:E$101),"DESCARTADO",E89)) -> 1026.59 | P89: =IF(N89=MIN($N$41:$N$101),"MINIMO","") | Q89: =IF(P89="MINIMO",E89,"")
B90: 50 | C90: =VLOOKUP(B90,'RESUMEN-M (1)'!B61:K125,2,FALSE) -> 50 | D90: =VLOOKUP(C90,'RESUMEN-M (1)'!C$12:K$93,2,FALSE) -> CONSORCIO INTER JC MAG | E90: =IF('PROM-CTOS EXP'!C58="HÁBIL",'PROM-CTOS EXP'!J58,'PROM-CTOS EXP'!J58) -> RECHAZADO | F90: =+COUNT('PROM-CTOS EXP'!D58:I58) -> 2 | G90: =IF(IF(E90="NO HÁBIL","",IF(E90="RECHAZADO","",IF($G$13="MEDIANA CON VALOR ABSOLUTO",$H$22*(1-ABS(($H$20-E90)/$H$20)),IF(AND($G$13="MEDIA GEOMÉTRICA",E90=$H$28),$H$22,IF($G$13="MEDIA GEOMÉTRICA",$H$22*(1-(ABS($H$28-E90)/$H$28)),IF($G$13="MEDIA ARITMETICA ALTA",$H$22*($H$19/E90),IF(E90<=$H$20,$H$22*(1-(($H$20-E90)/$H$20)),$H$22*(1-(ABS($H$20-E90)/$H$20)))))))))<0,0,IF(E90="NO HÁBIL","",IF(E90="RECHAZADO","",IF($G$13="MEDIANA CON VALOR ABSOLUTO",$H$22*(1-ABS(($H$20-E90)/$H$20)),IF(AND($G$13="MEDIA GEOMÉTRICA",E90=$H$28),$H$22,IF($G$13="MEDIA GEOMÉTRICA",$H$22*(1-(ABS($H$28-E90)/$H$28)),IF($G$13="MEDIA ARITMETICA ALTA",$H$22*($H$19/E90),IF(E90<=$H$20,$H$22*(1-(($H$20-E90)/$H$20)),$H$22*(1-(ABS($H$20-E90)/$H$20)))))))))) | K90: =IF(E90=0,1,E90) -> RECHAZADO | M90: =IF(E90=MAX(E$41:E$101),"DESCARTADO",E90) -> RECHAZADO | N90: =IF(E90="NO HÁBIL","",IF(E90="RECHAZADO","",ABS(E90-$H$29))) | O90: =IF(E90="NO HÁBIL","",IF(E90=MIN(E$41:E$101),"DESCARTADO",E90)) -> RECHAZADO | P90: =IF(N90=MIN($N$41:$N$101),"MINIMO","") | Q90: =IF(P90="MINIMO",E90,"")
B91: 51 | C91: =VLOOKUP(B91,'RESUMEN-M (1)'!B62:K126,2,FALSE) -> 51 | D91: =VLOOKUP(C91,'RESUMEN-M (1)'!C$12:K$93,2,FALSE) -> CONSORCIO VIAL 2023 | E91: =IF('PROM-CTOS EXP'!C59="HÁBIL",'PROM-CTOS EXP'!J59,'PROM-CTOS EXP'!J59) -> 1702.17 | F91: =+COUNT('PROM-CTOS EXP'!D59:I59) -> 1 | G91: =IF(IF(E91="NO HÁBIL","",IF(E91="RECHAZADO","",IF($G$13="MEDIANA CON VALOR ABSOLUTO",$H$22*(1-ABS(($H$20-E91)/$H$20)),IF(AND($G$13="MEDIA GEOMÉTRICA",E91=$H$28),$H$22,IF($G$13="MEDIA GEOMÉTRICA",$H$22*(1-(ABS($H$28-E91)/$H$28)),IF($G$13="MEDIA ARITMETICA ALTA",$H$22*($H$19/E91),IF(E91<=$H$20,$H$22*(1-(($H$20-E91)/$H$20)),$H$22*(1-(ABS($H$20-E91)/$H$20)))))))))<0,0,IF(E91="NO HÁBIL","",IF(E91="RECHAZADO","",IF($G$13="MEDIANA CON VALOR ABSOLUTO",$H$22*(1-ABS(($H$20-E91)/$H$20)),IF(AND($G$13="MEDIA GEOMÉTRICA",E91=$H$28),$H$22,IF($G$13="MEDIA GEOMÉTRICA",$H$22*(1-(ABS($H$28-E91)/$H$28)),IF($G$13="MEDIA ARITMETICA ALTA",$H$22*($H$19/E91),IF(E91<=$H$20,$H$22*(1-(($H$20-E91)/$H$20)),$H$22*(1-(ABS($H$20-E91)/$H$20)))))))))) -> 0 | K91: =IF(E91=0,1,E91) -> 1702.17 | M91: =IF(E91=MAX(E$41:E$101),"DESCARTADO",E91) -> 1702.17 | N91: =IF(E91="NO HÁBIL","",IF(E91="RECHAZADO","",ABS(E91-$H$29))) -> 1161.4727 | O91: =IF(E91="NO HÁBIL","",IF(E91=MIN(E$41:E$101),"DESCARTADO",E91)) -> 1702.17 | P91: =IF(N91=MIN($N$41:$N$101),"MINIMO","") | Q91: =IF(P91="MINIMO",E91,"")
B92: 52 | C92: =VLOOKUP(B92,'RESUMEN-M (1)'!B63:K127,2,FALSE) -> 52 | D92: =VLOOKUP(C92,'RESUMEN-M (1)'!C$12:K$93,2,FALSE) -> SAICON SAS | E92: =IF('PROM-CTOS EXP'!C60="HÁBIL",'PROM-CTOS EXP'!J60,'PROM-CTOS EXP'!J60) -> 534.4 | F92: =+COUNT('PROM-CTOS EXP'!D60:I60) -> 1 | G92: =IF(IF(E92="NO HÁBIL","",IF(E92="RECHAZADO","",IF($G$13="MEDIANA CON VALOR ABSOLUTO",$H$22*(1-ABS(($H$20-E92)/$H$20)),IF(AND($G$13="MEDIA GEOMÉTRICA",E92=$H$28),$H$22,IF($G$13="MEDIA GEOMÉTRICA",$H$22*(1-(ABS($H$28-E92)/$H$28)),IF($G$13="MEDIA ARITMETICA ALTA",$H$22*($H$19/E92),IF(E92<=$H$20,$H$22*(1-(($H$20-E92)/$H$20)),$H$22*(1-(ABS($H$20-E92)/$H$20)))))))))<0,0,IF(E92="NO HÁBIL","",IF(E92="RECHAZADO","",IF($G$13="MEDIANA CON VALOR ABSOLUTO",$H$22*(1-ABS(($H$20-E92)/$H$20)),IF(AND($G$13="MEDIA GEOMÉTRICA",E92=$H$28),$H$22,IF($G$13="MEDIA GEOMÉTRICA",$H$22*(1-(ABS($H$28-E92)/$H$28)),IF($G$13="MEDIA ARITMETICA ALTA",$H$22*($H$19/E92),IF(E92<=$H$20,$H$22*(1-(($H$20-E92)/$H$20)),$H$22*(1-(ABS($H$20-E92)/$H$20)))))))))) -> 66.639571 | K92: =IF(E92=0,1,E92) -> 534.4 | M92: =IF(E92=MAX(E$41:E$101),"DESCARTADO",E92) -> 534.4 | N92: =IF(E92="NO HÁBIL","",IF(E92="RECHAZADO","",ABS(E92-$H$29))) -> 6.2973461 | O92: =IF(E92="NO HÁBIL","",IF(E92=MIN(E$41:E$101),"DESCARTADO",E92)) -> 534.4 | P92: =IF(N92=MIN($N$41:$N$101),"MINIMO","") | Q92: =IF(P92="MINIMO",E92,"")
B93: 53 | C93: =VLOOKUP(B93,'RESUMEN-M (1)'!B64:K128,2,FALSE) -> 53 | D93: =VLOOKUP(C93,'RESUMEN-M (1)'!C$12:K$93,2,FALSE) -> SOTA LTDA | E93: =IF('PROM-CTOS EXP'!C61="HÁBIL",'PROM-CTOS EXP'!J61,'PROM-CTOS EXP'!J61) -> 856.21 | F93: =+COUNT('PROM-CTOS EXP'!D61:I61) -> 1 | G93: =IF(IF(E93="NO HÁBIL","",IF(E93="RECHAZADO","",IF($G$13="MEDIANA CON VALOR ABSOLUTO",$H$22*(1-ABS(($H$20-E93)/$H$20)),IF(AND($G$13="MEDIA GEOMÉTRICA",E93=$H$28),$H$22,IF($G$13="MEDIA GEOMÉTRICA",$H$22*(1-(ABS($H$28-E93)/$H$28)),IF($G$13="MEDIA ARITMETICA ALTA",$H$22*($H$19/E93),IF(E93<=$H$20,$H$22*(1-(($H$20-E93)/$H$20)),$H$22*(1-(ABS($H$20-E93)/$H$20)))))))))<0,0,IF(E93="NO HÁBIL","",IF(E93="RECHAZADO","",IF($G$13="MEDIANA CON VALOR ABSOLUTO",$H$22*(1-ABS(($H$20-E93)/$H$20)),IF(AND($G$13="MEDIA GEOMÉTRICA",E93=$H$28),$H$22,IF($G$13="MEDIA GEOMÉTRICA",$H$22*(1-(ABS($H$28-E93)/$H$28)),IF($G$13="MEDIA ARITMETICA ALTA",$H$22*($H$19/E93),IF(E93<=$H$20,$H$22*(1-(($H$20-E93)/$H$20)),$H$22*(1-(ABS($H$20-E93)/$H$20)))))))))) -> 28.230787 | K93: =IF(E93=0,1,E93) -> 856.21 | M93: =IF(E93=MAX(E$41:E$101),"DESCARTADO",E93) -> 856.21 | N93: =IF(E93="NO HÁBIL","",IF(E93="RECHAZADO","",ABS(E93-$H$29))) -> 315.51265 | O93: =IF(E93="NO HÁBIL","",IF(E93=MIN(E$41:E$101),"DESCARTADO",E93)) -> 856.21 | P93: =IF(N93=MIN($N$41:$N$101),"MINIMO","") | Q93: =IF(P93="MINIMO",E93,"")
B94: 54 | C94: =VLOOKUP(B94,'RESUMEN-M (1)'!B65:K129,2,FALSE) -> 54 | D94: =VLOOKUP(C94,'RESUMEN-M (1)'!C$12:K$93,2,FALSE) -> JAMES ALBERTO KAMMERER JIMENEZ | E94: =IF('PROM-CTOS EXP'!C62="HÁBIL",'PROM-CTOS EXP'!J62,'PROM-CTOS EXP'!J62) -> 1229.9 | F94: =+COUNT('PROM-CTOS EXP'!D62:I62) -> 1 | G94: =IF(IF(E94="NO HÁBIL","",IF(E94="RECHAZADO","",IF($G$13="MEDIANA CON VALOR ABSOLUTO",$H$22*(1-ABS(($H$20-E94)/$H$20)),IF(AND($G$13="MEDIA GEOMÉTRICA",E94=$H$28),$H$22,IF($G$13="MEDIA GEOMÉTRICA",$H$22*(1-(ABS($H$28-E94)/$H$28)),IF($G$13="MEDIA ARITMETICA ALTA",$H$22*($H$19/E94),IF(E94<=$H$20,$H$22*(1-(($H$20-E94)/$H$20)),$H$22*(1-(ABS($H$20-E94)/$H$20)))))))))<0,0,IF(E94="NO HÁBIL","",IF(E94="RECHAZADO","",IF($G$13="MEDIANA CON VALOR ABSOLUTO",$H$22*(1-ABS(($H$20-E94)/$H$20)),IF(AND($G$13="MEDIA GEOMÉTRICA",E94=$H$28),$H$22,IF($G$13="MEDIA GEOMÉTRICA",$H$22*(1-(ABS($H$28-E94)/$H$28)),IF($G$13="MEDIA ARITMETICA ALTA",$H$22*($H$19/E94),IF(E94<=$H$20,$H$22*(1-(($H$20-E94)/$H$20)),$H$22*(1-(ABS($H$20-E94)/$H$20)))))))))) -> 0 | K94: =IF(E94=0,1,E94) -> 1229.9 | M94: =IF(E94=MAX(E$41:E$101),"DESCARTADO",E94) -> 1229.9 | N94: =IF(E94="NO HÁBIL","",IF(E94="RECHAZADO","",ABS(E94-$H$29))) -> 689.20265 | O94: =IF(E94="NO HÁBIL","",IF(E94=MIN(E$41:E$101),"DESCARTADO",E94)) -> 1229.9 | P94: =IF(N94=MIN($N$41:$N$101),"MINIMO","") | Q94: =IF(P94="MINIMO",E94,"")
B95: 55 | C95: =VLOOKUP(B95,'RESUMEN-M (1)'!B66:K130,2,FALSE) -> 55 | D95: =VLOOKUP(C95,'RESUMEN-M (1)'!C$12:K$93,2,FALSE) -> DBB INGENIERÍA SAS | E95: =IF('PROM-CTOS EXP'!C63="HÁBIL",'PROM-CTOS EXP'!J63,'PROM-CTOS EXP'!J63) -> 434.3 | F95: =+COUNT('PROM-CTOS EXP'!D63:I63) -> 2 | G95: =IF(IF(E95="NO HÁBIL","",IF(E95="RECHAZADO","",IF($G$13="MEDIANA CON VALOR ABSOLUTO",$H$22*(1-ABS(($H$20-E95)/$H$20)),IF(AND($G$13="MEDIA GEOMÉTRICA",E95=$H$28),$H$22,IF($G$13="MEDIA GEOMÉTRICA",$H$22*(1-(ABS($H$28-E95)/$H$28)),IF($G$13="MEDIA ARITMETICA ALTA",$H$22*($H$19/E95),IF(E95<=$H$20,$H$22*(1-(($H$20-E95)/$H$20)),$H$22*(1-(ABS($H$20-E95)/$H$20)))))))))<0,0,IF(E95="NO HÁBIL","",IF(E95="RECHAZADO","",IF($G$13="MEDIANA CON VALOR ABSOLUTO",$H$22*(1-ABS(($H$20-E95)/$H$20)),IF(AND($G$13="MEDIA GEOMÉTRICA",E95=$H$28),$H$22,IF($G$13="MEDIA GEOMÉTRICA",$H$22*(1-(ABS($H$28-E95)/$H$28)),IF($G$13="MEDIA ARITMETICA ALTA",$H$22*($H$19/E95),IF(E95<=$H$20,$H$22*(1-(($H$20-E95)/$H$20)),$H$22*(1-(ABS($H$20-E95)/$H$20)))))))))) -> 54.157122 | K95: =IF(E95=0,1,E95) -> 434.3 | M95: =IF(E95=MAX(E$41:E$101),"DESCARTADO",E95) -> 434.3 | N95: =IF(E95="NO HÁBIL","",IF(E95="RECHAZADO","",ABS(E95-$H$29))) -> 106.39735 | O95: =IF(E95="NO HÁBIL","",IF(E95=MIN(E$41:E$101),"DESCARTADO",E95)) -> 434.3 | P95: =IF(N95=MIN($N$41:$N$101),"MINIMO","") | Q95: =IF(P95="MINIMO",E95,"")
B96: 56 | C96: =VLOOKUP(B96,'RESUMEN-M (1)'!B67:K131,2,FALSE) -> 56 | D96: =VLOOKUP(C96,'RESUMEN-M (1)'!C$12:K$93,2,FALSE) -> LITORAL CONSULTING SAS | E96: =IF('PROM-CTOS EXP'!C64="HÁBIL",'PROM-CTOS EXP'!J64,'PROM-CTOS EXP'!J64) -> 425.6825 | F96: =+COUNT('PROM-CTOS EXP'!D64:I64) -> 4 | G96: =IF(IF(E96="NO HÁBIL","",IF(E96="RECHAZADO","",IF($G$13="MEDIANA CON VALOR ABSOLUTO",$H$22*(1-ABS(($H$20-E96)/$H$20)),IF(AND($G$13="MEDIA GEOMÉTRICA",E96=$H$28),$H$22,IF($G$13="MEDIA GEOMÉTRICA",$H$22*(1-(ABS($H$28-E96)/$H$28)),IF($G$13="MEDIA ARITMETICA ALTA",$H$22*($H$19/E96),IF(E96<=$H$20,$H$22*(1-(($H$20-E96)/$H$20)),$H$22*(1-(ABS($H$20-E96)/$H$20)))))))))<0,0,IF(E96="NO HÁBIL","",IF(E96="RECHAZADO","",IF($G$13="MEDIANA CON VALOR ABSOLUTO",$H$22*(1-ABS(($H$20-E96)/$H$20)),IF(AND($G$13="MEDIA GEOMÉTRICA",E96=$H$28),$H$22,IF($G$13="MEDIA GEOMÉTRICA",$H$22*(1-(ABS($H$28-E96)/$H$28)),IF($G$13="MEDIA ARITMETICA ALTA",$H$22*($H$19/E96),IF(E96<=$H$20,$H$22*(1-(($H$20-E96)/$H$20)),$H$22*(1-(ABS($H$20-E96)/$H$20)))))))))) -> 53.082521 | K96: =IF(E96=0,1,E96) -> 425.6825 | M96: =IF(E96=MAX(E$41:E$101),"DESCARTADO",E96) -> 425.6825 | N96: =IF(E96="NO HÁBIL","",IF(E96="RECHAZADO","",ABS(E96-$H$29))) -> 115.01485 | O96: =IF(E96="NO HÁBIL","",IF(E96=MIN(E$41:E$101),"DESCARTADO",E96)) -> 425.6825 | P96: =IF(N96=MIN($N$41:$N$101),"MINIMO","") | Q96: =IF(P96="MINIMO",E96,"")
B97: 57 | C97: =VLOOKUP(B97,'RESUMEN-M (1)'!B68:K132,2,FALSE) -> 57 | D97: =VLOOKUP(C97,'RESUMEN-M (1)'!C$12:K$93,2,FALSE) -> CONSORCIO HGR - INCON | E97: =IF('PROM-CTOS EXP'!C65="HÁBIL",'PROM-CTOS EXP'!J65,'PROM-CTOS EXP'!J65) -> 532.98 | F97: =+COUNT('PROM-CTOS EXP'!D65:I65) -> 1 | G97: =IF(IF(E97="NO HÁBIL","",IF(E97="RECHAZADO","",IF($G$13="MEDIANA CON VALOR ABSOLUTO",$H$22*(1-ABS(($H$20-E97)/$H$20)),IF(AND($G$13="MEDIA GEOMÉTRICA",E97=$H$28),$H$22,IF($G$13="MEDIA GEOMÉTRICA",$H$22*(1-(ABS($H$28-E97)/$H$28)),IF($G$13="MEDIA ARITMETICA ALTA",$H$22*($H$19/E97),IF(E97<=$H$20,$H$22*(1-(($H$20-E97)/$H$20)),$H$22*(1-(ABS($H$20-E97)/$H$20)))))))))<0,0,IF(E97="NO HÁBIL","",IF(E97="RECHAZADO","",IF($G$13="MEDIANA CON VALOR ABSOLUTO",$H$22*(1-ABS(($H$20-E97)/$H$20)),IF(AND($G$13="MEDIA GEOMÉTRICA",E97=$H$28),$H$22,IF($G$13="MEDIA GEOMÉTRICA",$H$22*(1-(ABS($H$28-E97)/$H$28)),IF($G$13="MEDIA ARITMETICA ALTA",$H$22*($H$19/E97),IF(E97<=$H$20,$H$22*(1-(($H$20-E97)/$H$20)),$H$22*(1-(ABS($H$20-E97)/$H$20)))))))))) -> 66.462498 | K97: =IF(E97=0,1,E97) -> 532.98 | M97: =IF(E97=MAX(E$41:E$101),"DESCARTADO",E97) -> 532.98 | N97: =IF(E97="NO HÁBIL","",IF(E97="RECHAZADO","",ABS(E97-$H$29))) -> 7.7173461 | O97: =IF(E97="NO HÁBIL","",IF(E97=MIN(E$41:E$101),"DESCARTADO",E97)) -> 532.98 | P97: =IF(N97=MIN($N$41:$N$101),"MINIMO","") | Q97: =IF(P97="MINIMO",E97,"")
... B101: 61 | C101: =VLOOKUP(B101,'RESUMEN-M (1)'!B72:K136,2,FALSE) -> 61 | D101: =VLOOKUP(C101,'RESUMEN-M (1)'!C$12:K$93,2,FALSE) -> INTEGRAL MAGDALENA 78 | E101: =IF('PROM-CTOS EXP'!C69="HÁBIL",'PROM-CTOS EXP'!J69,'PROM-CTOS EXP'!J69) -> 231.09 | F101: =+COUNT('PROM-CTOS EXP'!D69:I69) -> 1 | G101: =IF(IF(E101="NO HÁBIL","",IF(E101="RECHAZADO","",IF($G$13="MEDIANA CON VALOR ABSOLUTO",$H$22*(1-ABS(($H$20-E101)/$H$20)),IF(AND($G$13="MEDIA GEOMÉTRICA",E101=$H$28),$H$22,IF($G$13="MEDIA GEOMÉTRICA",$H$22*(1-(ABS($H$28-E101)/$H$28)),IF($G$13="MEDIA ARITMETICA ALTA",$H$22*($H$19/E101),IF(E101<=$H$20,$H$22*(1-(($H$20-E101)/$H$20)),$H$22*(1-(ABS($H$20-E101)/$H$20)))))))))<0,0,IF(E101="NO HÁBIL","",IF(E101="RECHAZADO","",IF($G$13="MEDIANA CON VALOR ABSOLUTO",$H$22*(1-ABS(($H$20-E101)/$H$20)),IF(AND($G$13="MEDIA GEOMÉTRICA",E101=$H$28),$H$22,IF($G$13="MEDIA GEOMÉTRICA",$H$22*(1-(ABS($H$28-E101)/$H$28)),IF($G$13="MEDIA ARITMETICA ALTA",$H$22*($H$19/E101),IF(E101<=$H$20,$H$22*(1-(($H$20-E101)/$H$20)),$H$22*(1-(ABS($H$20-E101)/$H$20)))))))))) -> 28.816876 | K101: =IF(E101=0,1,E101) -> 231.09 | M101: =IF(E101=MAX(E$41:E$101),"DESCARTADO",E101) -> 231.09 | N101: =IF(E101="NO HÁBIL","",IF(E101="RECHAZADO","",ABS(E101-$H$29))) -> 309.60735 | O101: =IF(E101="NO HÁBIL","",IF(E101=MIN(E$41:E$101),"DESCARTADO",E101)) -> 231.09 | P101: =IF(N101=MIN($N$41:$N$101),"MINIMO","") | Q101: =IF(P101="MINIMO",E101,"")
B103: MEDIANA | E103: =MEDIAN(E41:E101) -> 490.36
B104: PUNTAJE MAXIMO | E104: 67.5
B105: VALOR IMENDIATAMENTE POR DEBAJO DE LA MEDIA ARITMETICA (XB) | E105: {=MAX(IF(E41:E101<H19,E41:E101))} -> 645.1
B106: MEDIA GEOMETRICA (MG) | E106: =GEOMEAN(K41:K101) -> 540.69735
B107: MEDIA ARITMETICA ALTA (Xa) | E107: =(MAX(E41:E101)+(AVERAGEIF(M41:M101,"<>DESCARTADO")))/2 -> 1952.7206

Sheet ELEGIBILIDAD
B1: ='RESUMEN-M (1)'!B1 -> INSTITUTO NACIONAL DE VÍAS | R1: =B1 -> INSTITUTO NACIONAL DE VÍAS
B2: ='RESUMEN-M (1)'!B2 -> DIRECCIÓN GENERAL | R2: =B2 -> DIRECCIÓN GENERAL
B3: ='RESUMEN-M (1)'!B3 -> DIRECCIÓN TERRITORIAL MAGDALENA | R3: =B3 -> DIRECCIÓN TERRITORIAL MAGDALENA
B4: ='RESUMEN-M (1)'!#REF! -> #REF! | R4: =B4 -> #REF!
B5: ='RESUMEN-M (1)'!B4 -> CONCURSO DE MÉRITOS ABIERTO No CMA-DT-MAG-001-2024 | R5: =B5 -> CONCURSO DE MÉRITOS ABIERTO No CMA-DT-MAG-001-2024
B6: ='RESUMEN-M (1)'!B5 -> OBJETO: “INTERVENTORIA TÉCNICA, ADMINISTRATIVA, FINANCIERA Y AMBIENTAL, PARA EL MEJORAMIENTO Y MANTENIMIENTO DE LAS VÍAS: RICAURTE – HATOVIEJO CÓDIGO 78218 EN EL MUNICIPIO DE GUAMAL; Y SAN SEBASTIÁN - LOS GALVIS CÓDIGO 78141, EN EL MUNICIPIO DE SAN SEBASTIÁN DE BUENAVISTA, DEPARTAMENTO DEL MAGDALENA”. | R6: =B6 -> OBJETO: “INTERVENTORIA TÉCNICA, ADMINISTRATIVA, FINANCIERA Y AMBIENTAL, PARA EL MEJORAMIENTO Y MANTENIMIENTO DE LAS VÍAS: RICAURTE – HATOVIEJO CÓDIGO 78218 EN EL MUNICIPIO DE GUAMAL; Y SAN SEBASTIÁN - LOS GALVIS CÓDIGO 78141, EN EL MUNICIPIO DE SAN SEBASTIÁN DE BUENAVISTA, DEPARTAMENTO DEL MAGDALENA”.
B7: ='RESUMEN-M (1)'!B6 -> 0 | R7: =B7 -> 0
B8: CUADRO No. 4 | R8: CUADRO No. 5
B9: RESÚMEN DE LA PONDERACIÓN OTORGADA
R10: ORDEN DE ELEGIBILIDAD
Q11: JERARQUIA
B12: CONSECUTIVO | C12: PROPUESTA NUMERO | D12: PROPONENTE | E12: EXPERIENCIA PROPUESTA | F12: PUNTAJES OTORGADOS A LOS SIGUIENTES CRITERIOS: | M12: PUNTAJE DEFINITIVO | N12: CIFRA DE AJUSTE
E13: SMMLV | F13: Experiencia | G13: Equipo de trabajo | H13: Factor de sostenibilidad | I13: Apoyo a la industria nacional | J13: Vinculación de personas con discapacidad | K13: Emprendimientos y empresas mujeres | L13: Mipyme
D14: PROPUESTAS VÁLIDAS | E14: =COUNT(E16:E76) -> 58 | F14: 67.5 | G14: 10 | H14: 1 | I14: 20 | J14: 1 | K14: 0.25 | L14: 0.25 | M14: =F14+G14+H14+I14+J14+K14+L14 -> 100 | R14: No. | S14: PROPONENTE | T14: PUNTAJE
B16: 1 | C16: ='RESUMEN-M (1)'!C12 -> 1 | D16: ='RESUMEN-M (1)'!D12 -> CONSORCIO CAP-SAS | E16: =VLOOKUP(D16,'METODO DE PONDERACION'!D$41:G$101,2,FALSE) -> 359.11 | F16: =IF(VLOOKUP(D16,'METODO DE PONDERACION'!D$41:G$101,4,FALSE)<0,0,VLOOKUP(D16,'METODO DE PONDERACION'!D$41:G$101,4,FALSE)) -> 44.780944 | G16: =VLOOKUP($D16,'RESUMEN-M (1)'!$D$12:$K$94,3,FALSE) -> 10 | H16: =VLOOKUP($D16,'RESUMEN-M (1)'!$D$12:$K$94,4,FALSE) -> 1 | I16: =VLOOKUP($D16,'RESUMEN-M (1)'!$D$12:$K$94,5,FALSE) -> 20 | J16: =VLOOKUP($D16,'RESUMEN-M (1)'!$D$12:$K$94,6,FALSE) -> 1 | K16: =VLOOKUP($D16,'RESUMEN-M (1)'!$D$12:$K$94,7,FALSE) -> 0.25 | L16: =VLOOKUP($D16,'RESUMEN-M (1)'!$D$12:$K$94,8,FALSE) -> 0.25 | M16: =IF(E16="NO HÁBIL",G16+H16+I16+J16+K16+L16,IF(E16="RECHAZADO",N16,F16+G16+H16+I16+N16+J16+K16+L16)) -> 77.280944 | Q16: =_xlfn.RANK.EQ(M16,$M$16:$M$76,0) -> 32 | R16: 1 | S16: =IF(R16="","",OFFSET($D$15,MATCH(B16,$Q$16:$Q$76,0),0)) -> AVGR INGENIERIA S.A.S. | T16: =IF(S16="","",VLOOKUP(S16,$D$16:$M$76,10,FALSE)) -> 100
B17: 2 | C17: ='RESUMEN-M (1)'!C13 -> 2 | D17: ='RESUMEN-M (1)'!D13 -> BRAIN INGENIERIA VIAL SAS | E17: =VLOOKUP(D17,'METODO DE PONDERACION'!D$41:G$101,2,FALSE) -> 517.57 | F17: =IF(VLOOKUP(D17,'METODO DE PONDERACION'!D$41:G$101,4,FALSE)<0,0,VLOOKUP(D17,'METODO DE PONDERACION'!D$41:G$101,4,FALSE)) -> 64.540874 | G17: =VLOOKUP($D17,'RESUMEN-M (1)'!$D$12:$G$94,3,FALSE) -> 10 | H17: =VLOOKUP($D17,'RESUMEN-M (1)'!$D$12:$G$94,4,FALSE) -> 1 | I17: =VLOOKUP($D17,'RESUMEN-M (1)'!$D$12:$K$94,5,FALSE) -> 20 | J17: =VLOOKUP($D17,'RESUMEN-M (1)'!$D$12:$K$94,6,FALSE) -> 1 | K17: =VLOOKUP($D17,'RESUMEN-M (1)'!$D$12:$K$94,7,FALSE) -> 0.25 | L17: =VLOOKUP($D17,'RESUMEN-M (1)'!$D$12:$K$94,8,FALSE) -> 0.25 | M17: =IF(E17="NO HÁBIL",G17+H17+I17+J17+K17+L17,IF(E17="RECHAZADO",N17,F17+G17+H17+I17+N17+J17+K17+L17)) -> 97.040874 | Q17: =_xlfn.RANK.EQ(M17,$M$16:$M$76,0) -> 8 | R17: 2 | S17: =IF(R17="","",OFFSET($D$15,MATCH(B17,$Q$16:$Q$76,0),0)) -> CONSULTORES SOLANO NA VAS LTDA | T17: =IF(S17="","",VLOOKUP(S17,$D$16:$M$76,10,FALSE)) -> 99.00024
B18: 3 | C18: ='RESUMEN-M (1)'!C14 -> 3 | D18: ='RESUMEN-M (1)'!D14 -> CONSORCIO INTER CONSTR UCCION VIAL | E18: =VLOOKUP(D18,'METODO DE PONDERACION'!D$41:G$101,2,FALSE) -> RECHAZADO | F18: =IF(VLOOKUP(D18,'METODO DE PONDERACION'!D$41:G$101,4,FALSE)<0,0,VLOOKUP(D18,'METODO DE PONDERACION'!D$41:G$101,4,FALSE)) | G18: =VLOOKUP($D18,'RESUMEN-M (1)'!$D$12:$G$94,3,FALSE) -> 10 | H18: =VLOOKUP($D18,'RESUMEN-M (1)'!$D$12:$G$94,4,FALSE) -> 1 | I18: =VLOOKUP($D18,'RESUMEN-M (1)'!$D$12:$K$94,5,FALSE) -> 20 | J18: =VLOOKUP($D18,'RESUMEN-M (1)'!$D$12:$K$94,6,FALSE) -> 1 | K18: =VLOOKUP($D18,'RESUMEN-M (1)'!$D$12:$K$94,7,FALSE) -> 0.25 | L18: =VLOOKUP($D18,'RESUMEN-M (1)'!$D$12:$K$94,8,FALSE) -> 0.25 | M18: =IF(E18="NO HÁBIL",G18+H18+I18+J18+K18+L18,IF(E18="RECHAZADO",N18,F18+G18+H18+I18+N18+J18+K18+L18)) -> 0 | Q18: =_xlfn.RANK.EQ(M18,$M$16:$M$76,0) -> 59 | R18: 3 | S18: =IF(R18="","",OFFSET($D$15,MATCH(B18,$Q$16:$Q$76,0),0)) -> CONSORCIO HGR - INCON | T18: =IF(S18="","",VLOOKUP(S18,$D$16:$M$76,10,FALSE)) -> 98.962498
B19: 4 | C19: ='RESUMEN-M (1)'!C15 -> 4 | D19: ='RESUMEN-M (1)'!D15 -> CONSORCIO INFRAVIAL | E19: =VLOOKUP(D19,'METODO DE PONDERACION'!D$41:G$101,2,FALSE) -> 360.67 | F19: =IF(VLOOKUP(D19,'METODO DE PONDERACION'!D$41:G$101,4,FALSE)<0,0,VLOOKUP(D19,'METODO DE PONDERACION'!D$41:G$101,4,FALSE)) -> 44.975476 | G19: =VLOOKUP($D19,'RESUMEN-M (1)'!$D$12:$G$94,3,FALSE) -> 10 | H19: =VLOOKUP($D19,'RESUMEN-M (1)'!$D$12:$G$94,4,FALSE) -> 1 | I19: =VLOOKUP($D19,'RESUMEN-M (1)'!$D$12:$K$94,5,FALSE) -> 20 | J19: =VLOOKUP($D19,'RESUMEN-M (1)'!$D$12:$K$94,6,FALSE) -> 1 | K19: =VLOOKUP($D19,'RESUMEN-M (1)'!$D$12:$K$94,7,FALSE) -> 0.25 | L19: =VLOOKUP($D19,'RESUMEN-M (1)'!$D$12:$K$94,8,FALSE) -> 0.25 | M19: =IF(E19="NO HÁBIL",G19+H19+I19+J19+K19+L19,IF(E19="RECHAZADO",N19,F19+G19+H19+I19+N19+J19+K19+L19)) -> 77.475476 | Q19: =_xlfn.RANK.EQ(M19,$M$16:$M$76,0) -> 31 | R19: 4 | S19: =IF(R19="","",OFFSET($D$15,MATCH(B19,$Q$16:$Q$76,0),0)) -> SAICON SAS | T19: =IF(S19="","",VLOOKUP(S19,$D$16:$M$76,10,FALSE)) -> 98.889571
B20: 5 | C20: ='RESUMEN-M (1)'!C16 -> 5 | D20: ='RESUMEN-M (1)'!D16 -> C&A PROFESIONALES DE IN GENIERÍA S.A.S | E20: =VLOOKUP(D20,'METODO DE PONDERACION'!D$41:G$101,2,FALSE) -> 477.74 | F20: =IF(VLOOKUP(D20,'METODO DE PONDERACION'!D$41:G$101,4,FALSE)<0,0,VLOOKUP(D20,'METODO DE PONDERACION'!D$41:G$101,4,FALSE)) -> 59.574081 | G20: =VLOOKUP($D20,'RESUMEN-M (1)'!$D$12:$G$94,3,FALSE) -> 10 | H20: =VLOOKUP($D20,'RESUMEN-M (1)'!$D$12:$G$94,4,FALSE) -> 1 | I20: =VLOOKUP($D20,'RESUMEN-M (1)'!$D$12:$K$94,5,FALSE) -> 20 | J20: =VLOOKUP($D20,'RESUMEN-M (1)'!$D$12:$K$94,6,FALSE) -> 1 | K20: =VLOOKUP($D20,'RESUMEN-M (1)'!$D$12:$K$94,7,FALSE) -> 0.25 | L20: =VLOOKUP($D20,'RESUMEN-M (1)'!$D$12:$K$94,8,FALSE) -> 0.25 | M20: =IF(E20="NO HÁBIL",G20+H20+I20+J20+K20+L20,IF(E20="RECHAZADO",N20,F20+G20+H20+I20+N20+J20+K20+L20)) -> 92.074081 | Q20: =_xlfn.RANK.EQ(M20,$M$16:$M$76,0) -> 13 | R20: 5 | S20: =IF(R20="","",OFFSET($D$15,MATCH(B20,$Q$16:$Q$76,0),0)) -> CONSORCIO CABAC-AZIMUT | T20: =IF(S20="","",VLOOKUP(S20,$D$16:$M$76,10,FALSE)) -> 98.492379
B21: 6 | C21: ='RESUMEN-M (1)'!C17 -> 6 | D21: ='RESUMEN-M (1)'!D17 -> CONSORCIO VIAS NRT | E21: =VLOOKUP(D21,'METODO DE PONDERACION'!D$41:G$101,2,FALSE) -> 502.98 | F21: =IF(VLOOKUP(D21,'METODO DE PONDERACION'!D$41:G$101,4,FALSE)<0,0,VLOOKUP(D21,'METODO DE PONDERACION'!D$41:G$101,4,FALSE)) -> 62.721504 | G21: =VLOOKUP($D21,'RESUMEN-M (1)'!$D$12:$G$94,3,FALSE) -> 10 | H21: =VLOOKUP($D21,'RESUMEN-M (1)'!$D$12:$G$94,4,FALSE) -> 1 | I21: =VLOOKUP($D21,'RESUMEN-M (1)'!$D$12:$K$94,5,FALSE) -> 20 | J21: =VLOOKUP($D21,'RESUMEN-M (1)'!$D$12:$K$94,6,FALSE) -> 1 | K21: =VLOOKUP($D21,'RESUMEN-M (1)'!$D$12:$K$94,7,FALSE) -> 0.25 | L21: =VLOOKUP($D21,'RESUMEN-M (1)'!$D$12:$K$94,8,FALSE) -> 0.25 | M21: =IF(E21="NO HÁBIL",G21+H21+I21+J21+K21+L21,IF(E21="RECHAZADO",N21,F21+G21+H21+I21+N21+J21+K21+L21)) -> 95.221504 | Q21: =_xlfn.RANK.EQ(M21,$M$16:$M$76,0) -> 11 | R21: 6 | S21: =IF(R21="","",OFFSET($D$15,MATCH(B21,$Q$16:$Q$76,0),0)) -> CONSORCIO INTERVENTORE S AC | T21: =IF(S21="","",VLOOKUP(S21,$D$16:$M$76,10,FALSE)) -> 98.278519
B22: 7 | C22: ='RESUMEN-M (1)'!C18 -> 7 | D22: ='RESUMEN-M (1)'!D18 -> INTERSA S.A. | E22: =VLOOKUP(D22,'METODO DE PONDERACION'!D$41:G$101,2,FALSE) -> 407.01333 | F22: =IF(VLOOKUP(D22,'METODO DE PONDERACION'!D$41:G$101,4,FALSE)<0,0,VLOOKUP(D22,'METODO DE PONDERACION'!D$41:G$101,4,FALSE)) -> 50.75448 | G22: =VLOOKUP($D22,'RESUMEN-M (1)'!$D$12:$G$94,3,FALSE) -> 10 | H22: =VLOOKUP($D22,'RESUMEN-M (1)'!$D$12:$G$94,4,FALSE) -> 1 | I22: =VLOOKUP($D22,'RESUMEN-M (1)'!$D$12:$K$94,5,FALSE) -> 20 | J22: =VLOOKUP($D22,'RESUMEN-M (1)'!$D$12:$K$94,6,FALSE) -> 1 | K22: =VLOOKUP($D22,'RESUMEN-M (1)'!$D$12:$K$94,7,FALSE) -> 0.25 | L22: =VLOOKUP($D22,'RESUMEN-M (1)'!$D$12:$K$94,8,FALSE) -> 0.25 | M22: =IF(E22="NO HÁBIL",G22+H22+I22+J22+K22+L22,IF(E22="RECHAZADO",N22,F22+G22+H22+I22+N22+J22+K22+L22)) -> 83.25448 | Q22: =_xlfn.RANK.EQ(M22,$M$16:$M$76,0) -> 26 | R22: 7 | S22: =IF(R22="","",OFFSET($D$15,MATCH(B22,$Q$16:$Q$76,0),0)) -> INTERVAL2 | T22: =IF(S22="","",VLOOKUP(S22,$D$16:$M$76,10,FALSE)) -> 97.807362
B23: 8 | C23: ='RESUMEN-M (1)'!C19 -> 8 | D23: ='RESUMEN-M (1)'!D19 -> PROESING | E23: =VLOOKUP(D23,'METODO DE PONDERACION'!D$41:G$101,2,FALSE) -> 203.37 | F23: =IF(VLOOKUP(D23,'METODO DE PONDERACION'!D$41:G$101,4,FALSE)<0,0,VLOOKUP(D23,'METODO DE PONDERACION'!D$41:G$101,4,FALSE)) -> 25.360198 | G23: =VLOOKUP($D23,'RESUMEN-M (1)'!$D$12:$G$94,3,FALSE) -> 10 | H23: =VLOOKUP($D23,'RESUMEN-M (1)'!$D$12:$G$94,4,FALSE) -> 1 | I23: =VLOOKUP($D23,'RESUMEN-M (1)'!$D$12:$K$94,5,FALSE) -> 0 | J23: =VLOOKUP($D23,'RESUMEN-M (1)'!$D$12:$K$94,6,FALSE) -> 0 | K23: =VLOOKUP($D23,'RESUMEN-M (1)'!$D$12:$K$94,7,FALSE) -> 0 | L23: =VLOOKUP($D23,'RESUMEN-M (1)'!$D$12:$K$94,8,FALSE) -> 0.25 | M23: =IF(E23="NO HÁBIL",G23+H23+I23+J23+K23+L23,IF(E23="RECHAZADO",N23,F23+G23+H23+I23+N23+J23+K23+L23)) -> 36.610198 | Q23: =_xlfn.RANK.EQ(M23,$M$16:$M$76,0) -> 48 | R23: 8 | S23: =IF(R23="","",OFFSET($D$15,MATCH(B23,$Q$16:$Q$76,0),0)) -> BRAIN INGENIERIA VIAL SAS | T23: =IF(S23="","",VLOOKUP(S23,$D$16:$M$76,10,FALSE)) -> 97.040874
B24: 9 | C24: ='RESUMEN-M (1)'!C20 -> 9 | D24: ='RESUMEN-M (1)'!D20 -> INTERVAL2 | E24: =VLOOKUP(D24,'METODO DE PONDERACION'!D$41:G$101,2,FALSE) -> 523.71667 | F24: =IF(VLOOKUP(D24,'METODO DE PONDERACION'!D$41:G$101,4,FALSE)<0,0,VLOOKUP(D24,'METODO DE PONDERACION'!D$41:G$101,4,FALSE)) -> 65.307362 | G24: =VLOOKUP($D24,'RESUMEN-M (1)'!$D$12:$G$94,3,FALSE) -> 10 | H24: =VLOOKUP($D24,'RESUMEN-M (1)'!$D$12:$G$94,4,FALSE) -> 1 | I24: =VLOOKUP($D24,'RESUMEN-M (1)'!$D$12:$K$94,5,FALSE) -> 20 | J24: =VLOOKUP($D24,'RESUMEN-M (1)'!$D$12:$K$94,6,FALSE) -> 1 | K24: =VLOOKUP($D24,'RESUMEN-M (1)'!$D$12:$K$94,7,FALSE) -> 0.25 | L24: =VLOOKUP($D24,'RESUMEN-M (1)'!$D$12:$K$94,8,FALSE) -> 0.25 | M24: =IF(E24="NO HÁBIL",G24+H24+I24+J24+K24+L24,IF(E24="RECHAZADO",N24,F24+G24+H24+I24+N24+J24+K24+L24)) -> 97.807362 | Q24: =_xlfn.RANK.EQ(M24,$M$16:$M$76,0) -> 7 | R24: 9 | S24: =IF(R24="","",OFFSET($D$15,MATCH(B24,$Q$16:$Q$76,0),0)) -> CONSORCIO OJB | T24: =IF(S24="","",VLOOKUP(S24,$D$16:$M$76,10,FALSE)) -> 96.934359
B25: 10 | C25: ='RESUMEN-M (1)'!C21 -> 10 | D25: ='RESUMEN-M (1)'!D21 -> CONINTER JMJ SAS | E25: =VLOOKUP(D25,'METODO DE PONDERACION'!D$41:G$101,2,FALSE) -> 645.1 | F25: =IF(VLOOKUP(D25,'METODO DE PONDERACION'!D$41:G$101,4,FALSE)<0,0,VLOOKUP(D25,'METODO DE PONDERACION'!D$41:G$101,4,FALSE)) -> 54.556161 | G25: =VLOOKUP($D25,'RESUMEN-M (1)'!$D$12:$G$94,3,FALSE) -> 10 | H25: =VLOOKUP($D25,'RESUMEN-M (1)'!$D$12:$G$94,4,FALSE) -> 1 | I25: =VLOOKUP($D25,'RESUMEN-M (1)'!$D$12:$K$94,5,FALSE) -> 20 | J25: =VLOOKUP($D25,'RESUMEN-M (1)'!$D$12:$K$94,6,FALSE) -> 1 | K25: =VLOOKUP($D25,'RESUMEN-M (1)'!$D$12:$K$94,7,FALSE) -> 0.25 | L25: =VLOOKUP($D25,'RESUMEN-M (1)'!$D$12:$K$94,8,FALSE) -> 0.25 | M25: =IF(E25="NO HÁBIL",G25+H25+I25+J25+K25+L25,IF(E25="RECHAZADO",N25,F25+G25+H25+I25+N25+J25+K25+L25)) -> 87.056161 | Q25: =_xlfn.RANK.EQ(M25,$M$16:$M$76,0) -> 19 | R25: 10 | S25: =IF(R25="","",OFFSET($D$15,MATCH(B25,$Q$16:$Q$76,0),0)) -> CONSORCIO RED VIAL HUILA | T25: =IF(S25="","",VLOOKUP(S25,$D$16:$M$76,10,FALSE)) -> 96.763625
B26: 11 | C26: ='RESUMEN-M (1)'!C22 -> 11 | D26: ='RESUMEN-M (1)'!D22 -> CONSORCIO METRO CINCO | E26: =VLOOKUP(D26,'METODO DE PONDERACION'!D$41:G$101,2,FALSE) -> 3285.95 | F26: =IF(VLOOKUP(D26,'METODO DE PONDERACION'!D$41:G$101,4,FALSE)<0,0,VLOOKUP(D26,'METODO DE PONDERACION'!D$41:G$101,4,FALSE)) -> 0 | G26: =VLOOKUP($D26,'RESUMEN-M (1)'!$D$12:$G$94,3,FALSE) -> 10 | H26: =VLOOKUP($D26,'RESUMEN-M (1)'!$D$12:$G$94,4,FALSE) -> 1 | I26: =VLOOKUP($D26,'RESUMEN-M (1)'!$D$12:$K$94,5,FALSE) -> 20 | J26: =VLOOKUP($D26,'RESUMEN-M (1)'!$D$12:$K$94,6,FALSE) -> 1 | K26: =VLOOKUP($D26,'RESUMEN-M (1)'!$D$12:$K$94,7,FALSE) -> 0.25 | L26: =VLOOKUP($D26,'RESUMEN-M (1)'!$D$12:$K$94,8,FALSE) -> 0.25 | M26: =IF(E26="NO HÁBIL",G26+H26+I26+J26+K26+L26,IF(E26="RECHAZADO",N26,F26+G26+H26+I26+N26+J26+K26+L26)) -> 32.5 | Q26: =_xlfn.RANK.EQ(M26,$M$16:$M$76,0) -> 50 | R26: 11 | S26: =IF(R26="","",OFFSET($D$15,MATCH(B26,$Q$16:$Q$76,0),0)) -> CONSORCIO VIAS NRT | T26: =IF(S26="","",VLOOKUP(S26,$D$16:$M$76,10,FALSE)) -> 95.221504
B27: 12 | C27: ='RESUMEN-M (1)'!C23 -> 12 | D27: ='RESUMEN-M (1)'!D23 -> Consorcio INTERING | E27: =VLOOKUP(D27,'METODO DE PONDERACION'!D$41:G$101,2,FALSE) -> 2198.74 | F27: =IF(VLOOKUP(D27,'METODO DE PONDERACION'!D$41:G$101,4,FALSE)<0,0,VLOOKUP(D27,'METODO DE PONDERACION'!D$41:G$101,4,FALSE)) -> 0 | G27: =VLOOKUP($D27,'RESUMEN-M (1)'!$D$12:$G$94,3,FALSE) -> 10 | H27: =VLOOKUP($D27,'RESUMEN-M (1)'!$D$12:$G$94,4,FALSE) -> 1 | I27: =VLOOKUP($D27,'RESUMEN-M (1)'!$D$12:$K$94,5,FALSE) -> 20 | J27: =VLOOKUP($D27,'RESUMEN-M (1)'!$D$12:$K$94,6,FALSE) -> 0 | K27: =VLOOKUP($D27,'RESUMEN-M (1)'!$D$12:$K$94,7,FALSE) -> 0.25 | L27: =VLOOKUP($D27,'RESUMEN-M (1)'!$D$12:$K$94,8,FALSE) -> 0.25 | M27: =IF(E27="NO HÁBIL",G27+H27+I27+J27+K27+L27,IF(E27="RECHAZADO",N27,F27+G27+H27+I27+N27+J27+K27+L27)) -> 31.5 | Q27: =_xlfn.RANK.EQ(M27,$M$16:$M$76,0) -> 55 | R27: 12 | S27: =IF(R27="","",OFFSET($D$15,MATCH(B27,$Q$16:$Q$76,0),0)) -> MAVECA INGENIERIA S.A.S | T27: =IF(S27="","",VLOOKUP(S27,$D$16:$M$76,10,FALSE)) -> 93.8109
B28: 13 | C28: ='RESUMEN-M (1)'!C24 -> 13 | D28: ='RESUMEN-M (1)'!D24 -> CONSORCIO INFRAESTRUCT URA CAUCA | E28: =VLOOKUP(D28,'METODO DE PONDERACION'!D$41:G$101,2,FALSE) -> RECHAZADO | F28: =IF(VLOOKUP(D28,'METODO DE PONDERACION'!D$41:G$101,4,FALSE)<0,0,VLOOKUP(D28,'METODO DE PONDERACION'!D$41:G$101,4,FALSE)) | G28: =VLOOKUP($D28,'RESUMEN-M (1)'!$D$12:$G$94,3,FALSE) -> 10 | H28: =VLOOKUP($D28,'RESUMEN-M (1)'!$D$12:$G$94,4,FALSE) -> 1 | I28: =VLOOKUP($D28,'RESUMEN-M (1)'!$D$12:$K$94,5,FALSE) -> 0 | J28: =VLOOKUP($D28,'RESUMEN-M (1)'!$D$12:$K$94,6,FALSE) -> 1 | K28: =VLOOKUP($D28,'RESUMEN-M (1)'!$D$12:$K$94,7,FALSE) -> 0 | L28: =VLOOKUP($D28,'RESUMEN-M (1)'!$D$12:$K$94,8,FALSE) -> 0.25 | M28: =IF(E28="NO HÁBIL",G28+H28+I28+J28+K28+L28,IF(E28="RECHAZADO",N28,F28+G28+H28+I28+N28+J28+K28+L28)) -> 0 | Q28: =_xlfn.RANK.EQ(M28,$M$16:$M$76,0) -> 59 | R28: 13 | S28: =IF(R28="","",OFFSET($D$15,MATCH(B28,$Q$16:$Q$76,0),0)) -> C&A PROFESIONALES DE IN GENIERÍA S.A.S | T28: =IF(S28="","",VLOOKUP(S28,$D$16:$M$76,10,FALSE)) -> 92.074081
... B41: 26 | C41: ='RESUMEN-M (1)'!C37 -> 26 | D41: ='RESUMEN-M (1)'!D37 -> EQUILATERO SAS | E41: =VLOOKUP(D41,'METODO DE PONDERACION'!D$41:G$101,2,FALSE) -> 817.14 | F41: =IF(VLOOKUP(D41,'METODO DE PONDERACION'!D$41:G$101,4,FALSE)<0,0,VLOOKUP(D41,'METODO DE PONDERACION'!D$41:G$101,4,FALSE)) -> 33.102808 | G41: =VLOOKUP($D41,'RESUMEN-M (1)'!$D$12:$G$94,3,FALSE) -> 10 | H41: =VLOOKUP($D41,'RESUMEN-M (1)'!$D$12:$G$94,4,FALSE) -> 1 | I41: =VLOOKUP($D41,'RESUMEN-M (1)'!$D$12:$K$94,5,FALSE) -> 20 | J41: =VLOOKUP($D41,'RESUMEN-M (1)'!$D$12:$K$94,6,FALSE) -> 0 | K41: =VLOOKUP($D41,'RESUMEN-M (1)'!$D$12:$K$94,7,FALSE) -> 0.25 | L41: =VLOOKUP($D41,'RESUMEN-M (1)'!$D$12:$K$94,8,FALSE) -> 0.25 | M41: =IF(E41="NO HÁBIL",G41+H41+I41+J41+K41+L41,IF(E41="RECHAZADO",N41,F41+G41+H41+I41+N41+J41+K41+L41)) -> 64.602808 | Q41: =_xlfn.RANK.EQ(M41,$M$16:$M$76,0) -> 40 | R41: 26 | S41: =IF(R41="","",OFFSET($D$15,MATCH(B41,$Q$16:$Q$76,0),0)) -> INTERSA S.A. | T41: =IF(S41="","",VLOOKUP(S41,$D$16:$M$76,10,FALSE)) -> 83.25448
B42: 27 | C42: ='RESUMEN-M (1)'!C38 -> 27 | D42: ='RESUMEN-M (1)'!D38 -> CONSORCIO CB-TALATAA | E42: =VLOOKUP(D42,'METODO DE PONDERACION'!D$41:G$101,2,FALSE) -> 476.368 | F42: =IF(VLOOKUP(D42,'METODO DE PONDERACION'!D$41:G$101,4,FALSE)<0,0,VLOOKUP(D42,'METODO DE PONDERACION'!D$41:G$101,4,FALSE)) -> 59.402993 | G42: 10 | H42: =VLOOKUP($D42,'RESUMEN-M (1)'!$D$12:$G$94,4,FALSE) -> 1 | I42: =VLOOKUP($D42,'RESUMEN-M (1)'!$D$12:$K$94,5,FALSE) -> 20 | J42: =VLOOKUP($D42,'RESUMEN-M (1)'!$D$12:$K$94,6,FALSE) -> 1 | K42: =VLOOKUP($D42,'RESUMEN-M (1)'!$D$12:$K$94,7,FALSE) -> 0.25 | L42: =VLOOKUP($D42,'RESUMEN-M (1)'!$D$12:$K$94,8,FALSE) -> 0.25 | M42: =IF(E42="NO HÁBIL",G42+H42+I42+J42+K42+L42,IF(E42="RECHAZADO",N42,F42+G42+H42+I42+N42+J42+K42+L42)) -> 91.902993 | Q42: =_xlfn.RANK.EQ(M42,$M$16:$M$76,0) -> 14 | R42: 27 | S42: =IF(R42="","",OFFSET($D$15,MATCH(B42,$Q$16:$Q$76,0),0)) -> VERTICE INTERVENTORIA D E PROYECTOS SAS | T42: =IF(S42="","",VLOOKUP(S42,$D$16:$M$76,10,FALSE)) -> 82.79891
B43: 28 | C43: ='RESUMEN-M (1)'!C39 -> 28 | D43: ='RESUMEN-M (1)'!D39 -> D&B INGENIEROS CIVILES S. A.S. | E43: =VLOOKUP(D43,'METODO DE PONDERACION'!D$41:G$101,2,FALSE) -> 244.21 | F43: =IF(VLOOKUP(D43,'METODO DE PONDERACION'!D$41:G$101,4,FALSE)<0,0,VLOOKUP(D43,'METODO DE PONDERACION'!D$41:G$101,4,FALSE)) -> 30.452937 | G43: =VLOOKUP($D43,'RESUMEN-M (1)'!$D$12:$G$94,3,FALSE) -> 10 | H43: =VLOOKUP($D43,'RESUMEN-M (1)'!$D$12:$G$94,4,FALSE) -> 1 | I43: =VLOOKUP($D43,'RESUMEN-M (1)'!$D$12:$K$94,5,FALSE) -> 20 | J43: =VLOOKUP($D43,'RESUMEN-M (1)'!$D$12:$K$94,6,FALSE) -> 1 | K43: =VLOOKUP($D43,'RESUMEN-M (1)'!$D$12:$K$94,7,FALSE) -> 0.25 | L43: =VLOOKUP($D43,'RESUMEN-M (1)'!$D$12:$K$94,8,FALSE) -> 0.25 | M43: =IF(E43="NO HÁBIL",G43+H43+I43+J43+K43+L43,IF(E43="RECHAZADO",N43,F43+G43+H43+I43+N43+J43+K43+L43)) -> 62.952937 | Q43: =_xlfn.RANK.EQ(M43,$M$16:$M$76,0) -> 41 | R43: 28 | S43: =IF(R43="","",OFFSET($D$15,MATCH(B43,$Q$16:$Q$76,0),0)) -> GER&PRO S.A.S | T43: =IF(S43="","",VLOOKUP(S43,$D$16:$M$76,10,FALSE)) -> 81.247137
B44: 29 | C44: ='RESUMEN-M (1)'!C40 -> 29 | D44: ='RESUMEN-M (1)'!D40 -> CONSORCIO OJB | E44: =VLOOKUP(D44,'METODO DE PONDERACION'!D$41:G$101,2,FALSE) -> 565.88417 | F44: =IF(VLOOKUP(D44,'METODO DE PONDERACION'!D$41:G$101,4,FALSE)<0,0,VLOOKUP(D44,'METODO DE PONDERACION'!D$41:G$101,4,FALSE)) -> 64.434359 | G44: =VLOOKUP($D44,'RESUMEN-M (1)'!$D$12:$G$94,3,FALSE) -> 10 | H44: =VLOOKUP($D44,'RESUMEN-M (1)'!$D$12:$G$94,4,FALSE) -> 1 | I44: =VLOOKUP($D44,'RESUMEN-M (1)'!$D$12:$K$94,5,FALSE) -> 20 | J44: =VLOOKUP($D44,'RESUMEN-M (1)'!$D$12:$K$94,6,FALSE) -> 1 | K44: =VLOOKUP($D44,'RESUMEN-M (1)'!$D$12:$K$94,7,FALSE) -> 0.25 | L44: =VLOOKUP($D44,'RESUMEN-M (1)'!$D$12:$K$94,8,FALSE) -> 0.25 | M44: =IF(E44="NO HÁBIL",G44+H44+I44+J44+K44+L44,IF(E44="RECHAZADO",N44,F44+G44+H44+I44+N44+J44+K44+L44)) -> 96.934359 | Q44: =_xlfn.RANK.EQ(M44,$M$16:$M$76,0) -> 9 | R44: 29 | S44: =IF(R44="","",OFFSET($D$15,MATCH(B44,$Q$16:$Q$76,0),0)) -> ARQUICIVILES CONSTRUCTO RA SAS | T44: =IF(S44="","",VLOOKUP(S44,$D$16:$M$76,10,FALSE)) -> 78.933309
B45: 30 | C45: ='RESUMEN-M (1)'!C41 -> 30 | D45: ='RESUMEN-M (1)'!D41 -> PROYECTISTAS DE COLOMB IA & CIA SAS | E45: =VLOOKUP(D45,'METODO DE PONDERACION'!D$41:G$101,2,FALSE) -> 459.09 | F45: =IF(VLOOKUP(D45,'METODO DE PONDERACION'!D$41:G$101,4,FALSE)<0,0,VLOOKUP(D45,'METODO DE PONDERACION'!D$41:G$101,4,FALSE)) -> 57.24843 | G45: =VLOOKUP($D45,'RESUMEN-M (1)'!$D$12:$G$94,3,FALSE) -> 10 | H45: =VLOOKUP($D45,'RESUMEN-M (1)'!$D$12:$G$94,4,FALSE) -> 1 | I45: =VLOOKUP($D45,'RESUMEN-M (1)'!$D$12:$K$94,5,FALSE) -> 20 | J45: =VLOOKUP($D45,'RESUMEN-M (1)'!$D$12:$K$94,6,FALSE) -> 1 | K45: =VLOOKUP($D45,'RESUMEN-M (1)'!$D$12:$K$94,7,FALSE) -> 0 | L45: =VLOOKUP($D45,'RESUMEN-M (1)'!$D$12:$K$94,8,FALSE) -> 0.25 | M45: =IF(E45="NO HÁBIL",G45+H45+I45+J45+K45+L45,IF(E45="RECHAZADO",N45,F45+G45+H45+I45+N45+J45+K45+L45)) -> 89.49843 | Q45: =_xlfn.RANK.EQ(M45,$M$16:$M$76,0) -> 16 | R45: 30 | S45: =IF(R45="","",OFFSET($D$15,MATCH(B45,$Q$16:$Q$76,0),0)) -> SEIING SAS BIC | T45: =IF(S45="","",VLOOKUP(S45,$D$16:$M$76,10,FALSE)) -> 78.48305
B46: 31 | C46: ='RESUMEN-M (1)'!C42 -> 31 | D46: ='RESUMEN-M (1)'!D42 -> CONSORCIO AESA-BALER | E46: =VLOOKUP(D46,'METODO DE PONDERACION'!D$41:G$101,2,FALSE) -> 849.99667 | F46: =IF(VLOOKUP(D46,'METODO DE PONDERACION'!D$41:G$101,4,FALSE)<0,0,VLOOKUP(D46,'METODO DE PONDERACION'!D$41:G$101,4,FALSE)) -> 29.005588 | G46: =VLOOKUP($D46,'RESUMEN-M (1)'!$D$12:$G$94,3,FALSE) -> 10 | H46: =VLOOKUP($D46,'RESUMEN-M (1)'!$D$12:$G$94,4,FALSE) -> 1 | I46: =VLOOKUP($D46,'RESUMEN-M (1)'!$D$12:$K$94,5,FALSE) -> 0 | J46: =VLOOKUP($D46,'RESUMEN-M (1)'!$D$12:$K$94,6,FALSE) -> 1 | K46: =VLOOKUP($D46,'RESUMEN-M (1)'!$D$12:$K$94,7,FALSE) -> 0.25 | L46: =VLOOKUP($D46,'RESUMEN-M (1)'!$D$12:$K$94,8,FALSE) -> 0.25 | M46: =IF(E46="NO HÁBIL",G46+H46+I46+J46+K46+L46,IF(E46="RECHAZADO",N46,F46+G46+H46+I46+N46+J46+K46+L46)) -> 41.505588 | Q46: =_xlfn.RANK.EQ(M46,$M$16:$M$76,0) -> 46 | R46: 31 | S46: =IF(R46="","",OFFSET($D$15,MATCH(B46,$Q$16:$Q$76,0),0)) -> CONSORCIO INFRAVIAL | T46: =IF(S46="","",VLOOKUP(S46,$D$16:$M$76,10,FALSE)) -> 77.475476
B47: 32 | C47: ='RESUMEN-M (1)'!C43 -> 32 | D47: ='RESUMEN-M (1)'!D43 -> CONSORCIO INTERVIAL GM | E47: =VLOOKUP(D47,'METODO DE PONDERACION'!D$41:G$101,2,FALSE) -> 1249.75 | F47: =IF(VLOOKUP(D47,'METODO DE PONDERACION'!D$41:G$101,4,FALSE)<0,0,VLOOKUP(D47,'METODO DE PONDERACION'!D$41:G$101,4,FALSE)) -> 0 | G47: =VLOOKUP($D47,'RESUMEN-M (1)'!$D$12:$G$94,3,FALSE) -> 10 | H47: =VLOOKUP($D47,'RESUMEN-M (1)'!$D$12:$G$94,4,FALSE) -> 1 | I47: =VLOOKUP($D47,'RESUMEN-M (1)'!$D$12:$K$94,5,FALSE) -> 20 | J47: =VLOOKUP($D47,'RESUMEN-M (1)'!$D$12:$K$94,6,FALSE) -> 1 | K47: =VLOOKUP($D47,'RESUMEN-M (1)'!$D$12:$K$94,7,FALSE) -> 0.25 | L47: =VLOOKUP($D47,'RESUMEN-M (1)'!$D$12:$K$94,8,FALSE) -> 0 | M47: =IF(E47="NO HÁBIL",G47+H47+I47+J47+K47+L47,IF(E47="RECHAZADO",N47,F47+G47+H47+I47+N47+J47+K47+L47)) -> 32.25 | Q47: =_xlfn.RANK.EQ(M47,$M$16:$M$76,0) -> 53 | R47: 32 | S47: =IF(R47="","",OFFSET($D$15,MATCH(B47,$Q$16:$Q$76,0),0)) -> CONSORCIO CAP-SAS | T47: =IF(S47="","",VLOOKUP(S47,$D$16:$M$76,10,FALSE)) -> 77.280944
B48: 33 | C48: ='RESUMEN-M (1)'!C44 -> 33 | D48: ='RESUMEN-M (1)'!D44 -> G&C | E48: =VLOOKUP(D48,'METODO DE PONDERACION'!D$41:G$101,2,FALSE) -> 720.59 | F48: =IF(VLOOKUP(D48,'METODO DE PONDERACION'!D$41:G$101,4,FALSE)<0,0,VLOOKUP(D48,'METODO DE PONDERACION'!D$41:G$101,4,FALSE)) -> 45.142573 | G48: =VLOOKUP($D48,'RESUMEN-M (1)'!$D$12:$G$94,3,FALSE) -> 10 | H48: =VLOOKUP($D48,'RESUMEN-M (1)'!$D$12:$G$94,4,FALSE) -> 1 | I48: =VLOOKUP($D48,'RESUMEN-M (1)'!$D$12:$K$94,5,FALSE) -> 20 | J48: =VLOOKUP($D48,'RESUMEN-M (1)'!$D$12:$K$94,6,FALSE) -> 0 | K48: =VLOOKUP($D48,'RESUMEN-M (1)'!$D$12:$K$94,7,FALSE) -> 0.25 | L48: =VLOOKUP($D48,'RESUMEN-M (1)'!$D$12:$K$94,8,FALSE) -> 0.25 | M48: =IF(E48="NO HÁBIL",G48+H48+I48+J48+K48+L48,IF(E48="RECHAZADO",N48,F48+G48+H48+I48+N48+J48+K48+L48)) -> 76.642573 | Q48: =_xlfn.RANK.EQ(M48,$M$16:$M$76,0) -> 33 | R48: 33 | S48: =IF(R48="","",OFFSET($D$15,MATCH(B48,$Q$16:$Q$76,0),0)) -> G&C | T48: =IF(S48="","",VLOOKUP(S48,$D$16:$M$76,10,FALSE)) -> 76.642573
B49: 34 | C49: ='RESUMEN-M (1)'!C45 -> 34 | D49: ='RESUMEN-M (1)'!D45 -> CONSORCIO GC | E49: =VLOOKUP(D49,'METODO DE PONDERACION'!D$41:G$101,2,FALSE) -> 238.08 | F49: =IF(VLOOKUP(D49,'METODO DE PONDERACION'!D$41:G$101,4,FALSE)<0,0,VLOOKUP(D49,'METODO DE PONDERACION'!D$41:G$101,4,FALSE)) -> 29.688528 | G49: =VLOOKUP($D49,'RESUMEN-M (1)'!$D$12:$G$94,3,FALSE) -> 10 | H49: =VLOOKUP($D49,'RESUMEN-M (1)'!$D$12:$G$94,4,FALSE) -> 1 | I49: =VLOOKUP($D49,'RESUMEN-M (1)'!$D$12:$K$94,5,FALSE) -> 20 | J49: =VLOOKUP($D49,'RESUMEN-M (1)'!$D$12:$K$94,6,FALSE) -> 1 | K49: =VLOOKUP($D49,'RESUMEN-M (1)'!$D$12:$K$94,7,FALSE) -> 0.25 | L49: =VLOOKUP($D49,'RESUMEN-M (1)'!$D$12:$K$94,8,FALSE) -> 0.25 | M49: =IF(E49="NO HÁBIL",G49+H49+I49+J49+K49+L49,IF(E49="RECHAZADO",N49,F49+G49+H49+I49+N49+J49+K49+L49)) -> 62.188528 | Q49: =_xlfn.RANK.EQ(M49,$M$16:$M$76,0) -> 42 | R49: 34 | S49: =IF(R49="","",OFFSET($D$15,MATCH(B49,$Q$16:$Q$76,0),0)) -> MORAM CONSULTORIA SAS | T49: =IF(S49="","",VLOOKUP(S49,$D$16:$M$76,10,FALSE)) -> 75.513417
B50: 35 | C50: ='RESUMEN-M (1)'!C46 -> 35 | D50: ='RESUMEN-M (1)'!D46 -> CONSORCIO CABAC-AZIMUT | E50: =VLOOKUP(D50,'METODO DE PONDERACION'!D$41:G$101,2,FALSE) -> 529.21 | F50: =IF(VLOOKUP(D50,'METODO DE PONDERACION'!D$41:G$101,4,FALSE)<0,0,VLOOKUP(D50,'METODO DE PONDERACION'!D$41:G$101,4,FALSE)) -> 65.992379 | G50: =VLOOKUP($D50,'RESUMEN-M (1)'!$D$12:$G$94,3,FALSE) -> 10 | H50: =VLOOKUP($D50,'RESUMEN-M (1)'!$D$12:$G$94,4,FALSE) -> 1 | I50: =VLOOKUP($D50,'RESUMEN-M (1)'!$D$12:$K$94,5,FALSE) -> 20 | J50: =VLOOKUP($D50,'RESUMEN-M (1)'!$D$12:$K$94,6,FALSE) -> 1 | K50: =VLOOKUP($D50,'RESUMEN-M (1)'!$D$12:$K$94,7,FALSE) -> 0.25 | L50: =VLOOKUP($D50,'RESUMEN-M (1)'!$D$12:$K$94,8,FALSE) -> 0.25 | M50: =IF(E50="NO HÁBIL",G50+H50+I50+J50+K50+L50,IF(E50="RECHAZADO",N50,F50+G50+H50+I50+N50+J50+K50+L50)) -> 98.492379 | Q50: =_xlfn.RANK.EQ(M50,$M$16:$M$76,0) -> 5 | R50: 35 | S50: =IF(R50="","",OFFSET($D$15,MATCH(B50,$Q$16:$Q$76,0),0)) -> JET INGENIERIA SAS | T50: =IF(S50="","",VLOOKUP(S50,$D$16:$M$76,10,FALSE)) -> 75.465315
B51: 36 | C51: ='RESUMEN-M (1)'!C47 -> 36 | D51: ='RESUMEN-M (1)'!D47 -> ARQUICIVILES CONSTRUCTO RA SAS | E51: =VLOOKUP(D51,'METODO DE PONDERACION'!D$41:G$101,2,FALSE) -> 380.38 | F51: =IF(VLOOKUP(D51,'METODO DE PONDERACION'!D$41:G$101,4,FALSE)<0,0,VLOOKUP(D51,'METODO DE PONDERACION'!D$41:G$101,4,FALSE)) -> 47.433309 | G51: =VLOOKUP($D51,'RESUMEN-M (1)'!$D$12:$G$94,3,FALSE) -> 10 | H51: =VLOOKUP($D51,'RESUMEN-M (1)'!$D$12:$G$94,4,FALSE) -> 1 | I51: =VLOOKUP($D51,'RESUMEN-M (1)'!$D$12:$K$94,5,FALSE) -> 20 | J51: =VLOOKUP($D51,'RESUMEN-M (1)'!$D$12:$K$94,6,FALSE) -> 0 | K51: =VLOOKUP($D51,'RESUMEN-M (1)'!$D$12:$K$94,7,FALSE) -> 0.25 | L51: =VLOOKUP($D51,'RESUMEN-M (1)'!$D$12:$K$94,8,FALSE) -> 0.25 | M51: =IF(E51="NO HÁBIL",G51+H51+I51+J51+K51+L51,IF(E51="RECHAZADO",N51,F51+G51+H51+I51+N51+J51+K51+L51)) -> 78.933309 | Q51: =_xlfn.RANK.EQ(M51,$M$16:$M$76,0) -> 29 | R51: 36 | S51: =IF(R51="","",OFFSET($D$15,MATCH(B51,$Q$16:$Q$76,0),0)) -> CONSORCIO INTERVIAS A.S. A. | T51: =IF(S51="","",VLOOKUP(S51,$D$16:$M$76,10,FALSE)) -> 74.218566
B52: 37 | C52: ='RESUMEN-M (1)'!C48 -> 37 | D52: ='RESUMEN-M (1)'!D48 -> VERTICE INTERVENTORIA D E PROYECTOS SAS | E52: =VLOOKUP(D52,'METODO DE PONDERACION'!D$41:G$101,2,FALSE) -> 403.36 | F52: =IF(VLOOKUP(D52,'METODO DE PONDERACION'!D$41:G$101,4,FALSE)<0,0,VLOOKUP(D52,'METODO DE PONDERACION'!D$41:G$101,4,FALSE)) -> 50.29891 | G52: =VLOOKUP($D52,'RESUMEN-M (1)'!$D$12:$G$94,3,FALSE) -> 10 | H52: =VLOOKUP($D52,'RESUMEN-M (1)'!$D$12:$G$94,4,FALSE) -> 1 | I52: =VLOOKUP($D52,'RESUMEN-M (1)'!$D$12:$K$94,5,FALSE) -> 20 | J52: =VLOOKUP($D52,'RESUMEN-M (1)'!$D$12:$K$94,6,FALSE) -> 1 | K52: =VLOOKUP($D52,'RESUMEN-M (1)'!$D$12:$K$94,7,FALSE) -> 0.25 | L52: =VLOOKUP($D52,'RESUMEN-M (1)'!$D$12:$K$94,8,FALSE) -> 0.25 | M52: =IF(E52="NO HÁBIL",G52+H52+I52+J52+K52+L52,IF(E52="RECHAZADO",N52,F52+G52+H52+I52+N52+J52+K52+L52)) -> 82.79891 | Q52: =_xlfn.RANK.EQ(M52,$M$16:$M$76,0) -> 27 | R52: 37 | S52: =IF(R52="","",OFFSET($D$15,MATCH(B52,$Q$16:$Q$76,0),0)) -> JMELO INGENIERÍA DE PROYECTOS S.A.S. | T52: =IF(S52="","",VLOOKUP(S52,$D$16:$M$76,10,FALSE)) -> 72.125323
B53: 38 | C53: ='RESUMEN-M (1)'!C49 -> 38 | D53: ='RESUMEN-M (1)'!D49 -> CONSORCIO INTERVENTORE S AC | E53: =VLOOKUP(D53,'METODO DE PONDERACION'!D$41:G$101,2,FALSE) -> 527.495 | F53: =IF(VLOOKUP(D53,'METODO DE PONDERACION'!D$41:G$101,4,FALSE)<0,0,VLOOKUP(D53,'METODO DE PONDERACION'!D$41:G$101,4,FALSE)) -> 65.778519 | G53: =VLOOKUP($D53,'RESUMEN-M (1)'!$D$12:$G$94,3,FALSE) -> 10 | H53: =VLOOKUP($D53,'RESUMEN-M (1)'!$D$12:$G$94,4,FALSE) -> 1 | I53: =VLOOKUP($D53,'RESUMEN-M (1)'!$D$12:$K$94,5,FALSE) -> 20 | J53: =VLOOKUP($D53,'RESUMEN-M (1)'!$D$12:$K$94,6,FALSE) -> 1 | K53: =VLOOKUP($D53,'RESUMEN-M (1)'!$D$12:$K$94,7,FALSE) -> 0.25 | L53: =VLOOKUP($D53,'RESUMEN-M (1)'!$D$12:$K$94,8,FALSE) -> 0.25 | M53: =IF(E53="NO HÁBIL",G53+H53+I53+J53+K53+L53,IF(E53="RECHAZADO",N53,F53+G53+H53+I53+N53+J53+K53+L53)) -> 98.278519 | Q53: =_xlfn.RANK.EQ(M53,$M$16:$M$76,0) -> 6 | R53: 38 | S53: =IF(R53="","",OFFSET($D$15,MATCH(B53,$Q$16:$Q$76,0),0)) -> CONSORCIO HUPK VIAS MAG DALENA | T53: =IF(S53="","",VLOOKUP(S53,$D$16:$M$76,10,FALSE)) -> 68.354309
B54: 39 | C54: ='RESUMEN-M (1)'!C50 -> 39 | D54: ='RESUMEN-M (1)'!D50 -> CONSORCIO RED VIAL HUILA | E54: =VLOOKUP(D54,'METODO DE PONDERACION'!D$41:G$101,2,FALSE) -> 567.25333 | F54: =IF(VLOOKUP(D54,'METODO DE PONDERACION'!D$41:G$101,4,FALSE)<0,0,VLOOKUP(D54,'METODO DE PONDERACION'!D$41:G$101,4,FALSE)) -> 64.263625 | G54: =VLOOKUP($D54,'RESUMEN-M (1)'!$D$12:$G$94,3,FALSE) -> 10 | H54: =VLOOKUP($D54,'RESUMEN-M (1)'!$D$12:$G$94,4,FALSE) -> 1 | I54: =VLOOKUP($D54,'RESUMEN-M (1)'!$D$12:$K$94,5,FALSE) -> 20 | J54: =VLOOKUP($D54,'RESUMEN-M (1)'!$D$12:$K$94,6,FALSE) -> 1 | K54: =VLOOKUP($D54,'RESUMEN-M (1)'!$D$12:$K$94,7,FALSE) -> 0.25 | L54: =VLOOKUP($D54,'RESUMEN-M (1)'!$D$12:$K$94,8,FALSE) -> 0.25 | M54: =IF(E54="NO HÁBIL",G54+H54+I54+J54+K54+L54,IF(E54="RECHAZADO",N54,F54+G54+H54+I54+N54+J54+K54+L54)) -> 96.763625 | Q54: =_xlfn.RANK.EQ(M54,$M$16:$M$76,0) -> 10 | R54: 39 | S54: =IF(R54="","",OFFSET($D$15,MATCH(B54,$Q$16:$Q$76,0),0)) -> IC INGENIO CIVIL | T54: =IF(S54="","",VLOOKUP(S54,$D$16:$M$76,10,FALSE)) -> 67.353281
... B76: 61 | C76: ='RESUMEN-M (1)'!C72 -> 61 | D76: ='RESUMEN-M (1)'!D72 -> INTEGRAL MAGDALENA 78 | E76: =VLOOKUP(D76,'METODO DE PONDERACION'!D$41:G$101,2,FALSE) -> 231.09 | F76: =IF(VLOOKUP(D76,'METODO DE PONDERACION'!D$41:G$101,4,FALSE)<0,0,VLOOKUP(D76,'METODO DE PONDERACION'!D$41:G$101,4,FALSE)) -> 28.816876 | G76: =VLOOKUP($D76,'RESUMEN-M (1)'!$D$12:$G$94,3,FALSE) -> 10 | H76: =VLOOKUP($D76,'RESUMEN-M (1)'!$D$12:$G$94,4,FALSE) -> 1 | I76: =VLOOKUP($D76,'RESUMEN-M (1)'!$D$12:$K$94,5,FALSE) -> 20 | J76: =VLOOKUP($D76,'RESUMEN-M (1)'!$D$12:$K$94,6,FALSE) -> 1 | K76: =VLOOKUP($D76,'RESUMEN-M (1)'!$D$12:$K$94,7,FALSE) -> 0.25 | L76: =VLOOKUP($D76,'RESUMEN-M (1)'!$D$12:$K$94,8,FALSE) -> 0.25 | M76: =IF(E76="NO HÁBIL",G76+H76+I76+J76+K76+L76,IF(E76="RECHAZADO",N76,F76+G76+H76+I76+N76+J76+K76+L76)) -> 61.316876 | Q76: =_xlfn.RANK.EQ(M76,$M$16:$M$76,0) -> 43 | R76: 61 | S76: =IF(R76="","",OFFSET($D$15,MATCH(B76,$Q$16:$Q$76,0),0)) -> #N/A | T76: =IF(S76="","",VLOOKUP(S76,$D$16:$M$76,10,FALSE)) -> #N/A

Sheet MEDIA ARITMETICA ALTA
B1: ='RESUMEN-M (1)'!B1 -> INSTITUTO NACIONAL DE VÍAS
B2: ='RESUMEN-M (1)'!B2 -> DIRECCIÓN GENERAL
B3: ='RESUMEN-M (1)'!B3 -> DIRECCIÓN TERRITORIAL MAGDALENA
B4: ='RESUMEN-M (1)'!#REF! -> #REF!
B5: ='RESUMEN-M (1)'!B4 -> CONCURSO DE MÉRITOS ABIERTO No CMA-DT-MAG-001-2024
B6: ='RESUMEN-M (1)'!B5 -> OBJETO: “INTERVENTORIA TÉCNICA, ADMINISTRATIVA, FINANCIERA Y AMBIENTAL, PARA EL MEJORAMIENTO Y MANTENIMIENTO DE LAS VÍAS: RICAURTE – HATOVIEJO CÓDIGO 78218 EN EL MUNICIPIO DE GUAMAL; Y SAN SEBASTIÁN - LOS GALVIS CÓDIGO 78141, EN EL MUNICIPIO DE SAN SEBASTIÁN DE BUENAVISTA, DEPARTAMENTO DEL MAGDALENA”.
B7: ='RESUMEN-M (1)'!B6 -> 0
B8: CUADRO No. 3
B9: DETERMINACIÓN DEL PUNTAJE POR VALOR DE LA PROPUESTA
B10: MEDIA ARITMETICA ALTA
B11: CONSECUTIVO | C11: PROP. No. | D11: PROPONENTE | E11: PROPUESTA ECONÓMICA | F11: PORCENTAJE DE MEJORA | H11: PORCENTAJE DE OFRECIMIENTO MENOR AL PRECIO OFICIAL | I11: PUNTAJE | J11: CON RESPECTO A PRESUPUESTO OFICIAL | K11: CON RESPECTO A PRECIO DE REFERENCIA ( 1 ) | L11: CON RESPECTO A PRECIO DE REFERENCIA ( 2 ) | N11: DESCARTADOS VALORES MENORES AL 90 PO | AF11: =UPPER(R11) | AG11: =UPPER(S11) | AH11: =UPPER(T11) | AI11: =UPPER(U11)
E12: ($) | F12: (%)
D13: PROPUESTAS VALIDAS | E13: =COUNT(E17:E23) -> 0
F14: Porcentaje mejora | I14: CONDICION
D15: PRESUPUESTO OFICIAL | E15: =#REF! -> #REF! | F15: <0 | I15: admisible
D16: 90% preupuesto oficial | E16: =E15*0.9 -> #REF!
B17: 1 | C17: ='RESUMEN-M (1)'!C12 -> 1 | D17: ='RESUMEN-M (1)'!D12 -> CONSORCIO CAP-SAS | E17: =IF(ISTEXT(#REF!),"DESCARTADO",#REF! ) -> #REF! | F17: =ABS($E$27-E17) -> #REF! | G17: =IF(F17>0,F17) -> #REF! | H17: =($E$15-E17)/$E$15 -> #REF! | I17: =IF(E17="DESCARTADO","",IF(E17<$E$33,$E$28*(1-(($E$33-E17)/$E$33)),$E$28*(1-2*(ABS($E$33-E17)/$E$33)))) -> #REF! | J17: =IF(#REF!<>"",#REF!/$E$15,"") -> #REF! | K17: =IF(#REF!<>"",#REF!/$E$29,"") -> #REF! | L17: =IF(#REF!<>"",#REF!/#REF!,"") -> #REF! | N17: =IF(E17>=$E$16,E17,"DESCARTADO") -> #REF!
B18: 2 | C18: ='RESUMEN-M (1)'!C13 -> 2 | D18: ='RESUMEN-M (1)'!D13 -> BRAIN INGENIERIA VIAL SAS | F18: =ABS($E$27-E18) -> #REF! | G18: =IF(F18>0,F18) -> #REF! | H18: =($E$15-E18)/$E$15 -> #REF! | N18: =IF(E18>=$E$16,E18,"DESCARTADO") -> #REF!
B19: 3 | C19: ='RESUMEN-M (1)'!C14 -> 3 | D19: ='RESUMEN-M (1)'!D14 -> CONSORCIO INTER CONSTR UCCION VIAL | E19: =IF(ISTEXT(#REF!),"DESCARTADO",#REF!) -> #REF! | F19: =ABS($E$27-E19) -> #REF! | G19: =IF(F19>0,F19) -> #REF! | H19: =($E$15-E19)/$E$15 -> #REF! | I19: =IF(E19="DESCARTADO","",IF(E19<$E$33,$E$28*(1-(($E$33-E19)/$E$33)),$E$28*(1-2*(ABS($E$33-E19)/$E$33)))) -> #REF! | N19: =IF(E19>=$E$16,E19,"DESCARTADO") -> #REF!
F24: PORCENTAJE DE MEJORA | I24: =IF(E24="DESCARTADO","",IF(E24<$E$33,$E$28*(1-(($E$33-E24)/$E$33)),$E$28*(1-2*(ABS($E$33-E24)/$E$33)))) -> #REF!
F25: <0 | I25: =IF(E25="DESCARTADO","",IF(E25<$E$33,$E$28*(1-(($E$33-E25)/$E$33)),$E$28*(1-2*(ABS($E$33-E25)/$E$33)))) -> #REF!
B27: MEDIA ARITMETICA ALTA | E27: =AVERAGE(E17:E23) -> #REF!
B28: VALOR DE LA PROPUESTA PARA ESTE PROCESO | E28: 800
B29: VALOR MAXIMO | E29: =MAX(E17:E23) -> #REF!
B30: VALOR MINIMO | E30: =MIN(E16:E23) -> #REF!
B32: VALOR PROPUESTA MAYOR | E32: =MAX(E17:E23) -> #REF!
B33: MEDIA ARITMETICA ALTA | E33: =(E32+E27)/2 -> #REF!

Sheet Listas
A1: ID | B1: DEPENDENCIAS | C1: RESULTADO
A2: 1 | B2: DIRECCIÓN GENERAL - OFICINA DE PREVENCIÓN Y ATENCIÓN DE EMERGENCIAS | C2: ADMISIBLE
A3: 2 | B3: SECRETARÍA GENERAL ADMINISTRATIVA - SUBDIRECCIÓN ADMINISTRATIVA | C3: NO ADMISIBLE
A4: 3 | B4: SECRETARÍA GENERAL ADMINISTRATIVA - SUBDIRECCIÓN FINANCIERA | C4: RECHAZO
A5: 4 | B5: SECRETARÍA GENERAL TÉCNICA - DIRECCIONES TERRITORIALES
A6: 5 | B6: SECRETARÍA GENERAL TÉCNICA - GERENCIA DE GRANDES PROYECTOS
A7: 6 | B7: SECRETARÍA GENERAL TÉCNICA - GRUPO PLAN 2500
A8: 7 | B8: SECRETARÍA GENERAL TÉCNICA - SUBDIRECCIÓN DE APOYO TÉCNICO
A9: 8 | B9: SECRETARÍA GENERAL TÉCNICA - SUBDIRECCIÓN DE MEDIO AMBIENTE Y GESTIÓN SOCIAL
A10: 9 | B10: SECRETARÍA GENERAL TÉCNICA - SUBDIRECCIÓN MARÍTIMA Y FLUVIAL
A11: 10 | B11: SECRETARÍA GENERAL TÉCNICA - SUBDIRECCIÓN RED NACIONAL DE CARRETERAS
A12: 11 | B12: SECRETARÍA GENERAL TÉCNICA - SUBDIRECCIÓN RED TERCIARIA Y FÉRREA
A13: 12
A14: 13
A15: 14
A16: 15
