Workbook
Name CapFinanciera1: #REF!
Name CapFinanciera1: #REF!
Name CapFinanciera2: #REF!
Name CapFinanciera2: #REF!
Name CapFinanciera3: #REF!
Name CapFinanciera3: #REF!
Name CapFinanciera4: #REF!
Name CapFinanciera4: #REF!
Name CapTecnica1: #REF!
Name CapTecnica1: #REF!
Name CapTecnica2: #REF!
Name CapTecnica2: #REF!
Name Cll_4N__15_AE_40_San_Eduardo_II_Etapa._Tel_750372._Cúcuta_Colombia.: #REF!
Name CODMAT: #REF!
Name Cuadrillas: #REF!
Name DARIPAVA_SOFTWARE_INC: #REF!
Name Descrip_cuadrillas: #REF!
Name Descrip_equipos: #REF!
Name Descrip_transporte: #REF!
Name Descripción: #REF!
Name Equipos: #REF!
Name Experiencia1: #REF!
Name Experiencia1: #REF!
Name Experiencia2: #REF!
Name Experiencia2: #REF!
Name Experiencia3: #REF!
Name Experiencia3: #REF!
Name Generación_de_análisis_de_precios_Unitarios.: #REF!
Name List_cuadrillas: #REF!
Name LISTA1: #REF!
Name Materiales: #REF!
Name prueba: #REF!
Name prueba: #REF!
Name Salarios: #REF!
Name Transporte: #REF!
Name WWWWWW: #REF!

Sheet Presupuesto Oficial
A1: FORMULARIO 1
A2: PRESUPUESTO OFICIAL
A4: [Las Entidades Estatales deben usar el presente formulario para determinar el Presupuesto Oficial del Proceso de Contratación y solo pueden modificar o ajustar aquello que en este se permite expresamente] [El presente formulario aplica para los procesos de contratación que tengan como forma de pago precios unitarios. Tratándose de otras modalidades de precio, la Entidad debe ajustarlo cuando corresponde a: precio global, llave en mano, administración delegada, reembolso de gastos o cualquier otra forma de precio.]
A6: Adicionalmente, cuando el proceso de contratación es estructurado por precios unitarios, la Entidad debe aplicar las notas 1, 2 y 3 del presente formulario y las casillas de "Descripción", "Porcentaje" de la Administración, Imprevisto, Utilidad y total A.I.U. resaltadas en color amarillo. Tratándose de otras modalidades de precio, la Entidad puede o no configurar los mismos aspectos.
A7: ADECUACION DE LAS CONDICIONES FISICAS DEL PARQUE LA VIRGENCITA DEL BARRIO PALERMO VIEJO DEL CORREGIMIENTO DE PALERMO SITIONUEVO - MAGDALENA
A8: Nº | B8: ÍTEM DE PAGO | C8: ESPECIFICACIONES | E8: DESCRIPCIÓN | F8: UND. | G8: CANTIDAD | H8: VALOR UNITARIO | I8: VALOR TOTAL
B10: 1 | E10: PRELIMINARES
B11: 1.1 | E11: Trazado y replanteo | F11: M2 | G11: 342.11743 | H11: ='A.P.U. '!I49 -> 2100 | I11: =G11*H11 -> 718446.61
B12: 1.2 | E12: Suministro e Instalación de Valla Informativa de 3.00mts x 2,00mts | F12: Glb | G12: 1 | H12: ='A.P.U. '!I114 -> 757571.43 | I12: =G12*H12 -> 757571.43
B13: 1.3 | E13: Cerramiento Provisional Perimetral De Protección En Poli sombra, Con Altura De 2.00 Metros | F13: M2 | G13: 165.98 | H13: ='A.P.U. '!I179 -> 25891.667 | I13: =G13*H13 -> 4297498.8
B14: Subtotal | I14: =SUM(I11:I13) -> 5773516.9
A16: 3 | B16: 2 | E16: JARDINERA
B17: 2.1 | E17: Demolición de muros E: 0.12 m incluye retiro de escombro. | F17: M2 | G17: 10 | H17: ='A.P.U. '!I248 -> 38140 | I17: =G17*H17 -> 381400
B18: 2.2 | E18: Jardinera en bloque samo mortero de pega 1:4 | F18: M2 | G18: 29.97 | H18: ='A.P.U. '!I315 -> 49041.4 | I18: =G18*H18 -> 1469770.8
B19: 2.3 | E19: Pañete impermeabilizado para muro 1:3 | F19: M2 | G19: =G18*2 -> 59.94 | H19: ='A.P.U. '!L837 -> 34900 | I19: =G19*H19 -> 2091906
B20: 2.4 | E20: Pintura en vinilo tipo 1 para muros 2 capas | F20: M2 | G20: =G18 -> 29.97 | H20: ='A.P.U. '!N909 -> 9600 | I20: =G20*H20 -> 287712
B21: Subtotal | I21: =SUM(I17:I20) -> 4230788.8
B22: 3 | E22: SENDERO
B23: 3.1 | E23: Demolición de Bordillos E: 0.15 m incluye escombro. | F23: Ml | G23: =3.57+30.14+20+30.14 -> 83.85 | H23: =H17 -> 38140 | I23: =G23*H23 -> 3198039
B24: 3.2 | E24: Excavación manual en material común, incluye retiro de escombro. | F24: M3 | G24: =G27*0.15 -> 45.36 | H24: =H31 -> 82149 | I24: =G24*H24 -> 3726278.6
B25: 3.3 | E25: Construcción de bordillo en concreto de 3.000 PSI Alto= 0,35, espesor 0.15 cm | F25: Ml | G25: =G23 -> 83.85 | H25: ='A.P.U. '!I451 -> 232739.5 | I25: =G25*H25 -> 19515207
B26: 3.4 | E26: Suministro de material seleccionado. Incluye compactación con pisón e=0,08 | F26: M3 | G26: =G27*0.08 -> 24.192 | H26: ='A.P.U. '!I520 -> 195000 | I26: =G26*H26 -> 4717440
B27: 3.5 | E27: Suministro e Instalación de malla electro soldada de 15 cm X 15 cm E: 4mm | F27: M2 | G27: 302.4 | H27: ='A.P.U. '!I571 -> 12050 | I27: =G27*H27 -> 3643920
B28: 3.6 | E28: Construcción en placa de concreto estampillado concolor mineral de 3.000 PSI espesor 0.08 cm | F28: M3 | G28: =G27*0.08 -> 24.192 | H28: ='A.P.U. '!I637 -> 1550000 | I28: =G28*H28 -> 37497600
B29: Subtotal | I29: =SUM(I23:I28) -> 72298485
B30: 4 | E30: OTROS
B31: 4.1 | E31: Relleno de jardineras con arena negra para jardineras | F31: M3 | G31: =20*0.45 -> 9 | H31: ='A.P.U. '!I703 -> 82149 | I31: =G31*H31 -> 739341
A32: SUBTOTAL OBRAS | B32: 4.2 | E32: Siembra de plantas ornamentales | F32: Und | G32: 200 | H32: ='A.P.U. '!I769 -> 72469 | I32: =G32*H32 -> 14493800
B33: 4.3 | E33: Suministro E Instalación De Sistema De Riego - Hidrantes (Ver Diseño).Suministro E Instalación De Sistema De Riego - Hidrantes (Ver Diseño). | F33: Und | G33: 1 | H33: ='A.P.U. '!I1393 -> 1600000 | I33: =G33*H33 -> 1600000
B34: 4.4 | E34: SuSuministro E Instalacion De Poste Galvanizado En Caliente De 4.00 Metros De Altura Libre, Acabado Final En Pintura De Esmalte Para Exteriores y 4 luminarias de 50 watt | F34: Und | G34: 2 | H34: ='A.P.U. '!I1324 -> 2700000 | I34: =G34*H34 -> 5400000
B35: 4.5 | E35: Suministro e instalación de banca prefabricada empotradas en jardineras con espaldar. Acabado en concreto 3000psi pulido prefabricada 120cm Largo x 50cm Anchox Alto 45cm | F35: Und | G35: 12 | H35: ='A.P.U. '!I1045 -> 2650000 | I35: =G35*H35 -> 31800000
B36: 4.6 | E36: Suministro e instalación de juego de mesa con banca prefabricada tipo dado Acabado en concreto 3000psi pulido prefabricada 45cm Largo x 45cm Ancho x 45cm alto- | F36: Und | G36: 2 | H36: ='A.P.U. '!I1184 -> 3166000 | I36: =G36*H36 -> 6332000
B37: 4.7 | E37: Caneca en Acero Inoxidable 75Lts Barcelona M121 | F37: Und | G37: 4 | H37: ='A.P.U. '!I1112 -> 1228700 | I37: =G37*H37 -> 4914800
B38: 4.8 | E38: Construcción de Atril para nicho de la virgen | F38: Und | G38: 1 | H38: ='A.P.U. '!I1256 -> 1671000 | I38: =G38*H38 -> 1671000
B39: Subtotal | I39: =SUM(I31:I38) -> 66950941
B40: TOTAL COSTOS DIRECTOS (1) | I40: =I14+I21+I29+I39 -> 1.4925373e+08
E41: PMA | H41: 0.04 | I41: =+H41*I40 -> 5970149.3
E42: ADMINISTRACION % | H42: 0.22 | I42: =+H42*I40 -> 32835821
E43: IMPREVISTO % | H43: 0.04 | I43: =+H43*I40 -> 5970149.3
E44: UTILIDAD % | H44: 0.04 | I44: =+H44*I40 -> 5970149.3
...

Sheet CRONOGRAMA Y FLUJO
D1: CRONOGRAMA DE ACTIVIDADES Y MANEJO DE FLUJOSADECUACION DE LAS CONDICIONES FISICAS DEL PARQUE LA VIEGENCITA DEL BARRIO PALER MO VIEJO DEL CORREGIMIENTO DE PALERMO SITIONUEVO - MAGDALENA
A3: ITEM | B3: DESCRIPCION | C3: UNIDAD | D3: CANTIDAD | E3: Vr/ Unitario | F3: VR PARCIAL | G3: % | H3: MES 1 | L3: MES 2
H4: SEMANA 1 | I4: SEMANA 2 | J4: SEMANA 3 | K4: SEMANA 4 | L4: SEMANA 1 | M4: SEMANA 2 | N4: SEMANA 3 | O4: SEMANA 4
A5: 1 | B5: ='Presupuesto Oficial'!E10 -> PRELIMINARES | F5: =SUM(F6:F8) -> 5773516.9
A6: 1.2 | B6: ='Presupuesto Oficial'!E11 -> Trazado y replanteo | C6: ='Presupuesto Oficial'!F11 -> M2 | D6: ='Presupuesto Oficial'!G11 -> 342.11743 | E6: ='Presupuesto Oficial'!H11 -> 2100 | F6: =+E6*D6 -> 718446.61 | G6: =F6/F30 -> 0.0048135923 | H6: =G6/1 -> 0.0048135923
A7: 1.3 | B7: ='Presupuesto Oficial'!E12 -> Suministro e Instalación de Valla Informativa de 3.00mts x 2,00mts | C7: ='Presupuesto Oficial'!F12 -> Glb | D7: ='Presupuesto Oficial'!G12 -> 1 | E7: ='Presupuesto Oficial'!H12 -> 757571.43 | F7: =+E7*D7 -> 757571.43 | G7: =F7/F30 -> 0.0050757286 | H7: =G7/1 -> 0.0050757286
A8: 1.4 | B8: ='Presupuesto Oficial'!E13 -> Cerramiento Provisional Perimetral De Protección En Poli sombra, Con Altura De 2.00 Metros | C8: ='Presupuesto Oficial'!F13 -> M2 | D8: ='Presupuesto Oficial'!G13 -> 165.98 | E8: ='Presupuesto Oficial'!H13 -> 25891.667 | F8: =+E8*D8 -> 4297498.8 | G8: =F8/F30 -> 0.028793242 | H8: =G8/1 -> 0.028793242
A9: 2 | B9: ='Presupuesto Oficial'!E16 -> JARDINERA | F9: =SUM(F10:F13) -> 4230788.8
A10: 2.1 | B10: ='Presupuesto Oficial'!E17 -> Demolición de muros E: 0.12 m incluye retiro de escombro. | C10: ='Presupuesto Oficial'!F17 -> M2 | D10: ='Presupuesto Oficial'!G17 -> 10 | E10: ='Presupuesto Oficial'!H17 -> 38140 | F10: =+E10*D10 -> 381400 | G10: =F10/F30 -> 0.00255538 | I10: =G10/1 -> 0.00255538
A11: 2.2 | B11: ='Presupuesto Oficial'!E18 -> Jardinera en bloque samo mortero de pega 1:4 | C11: ='Presupuesto Oficial'!F18 -> M2 | D11: ='Presupuesto Oficial'!G18 -> 29.97 | E11: ='Presupuesto Oficial'!H18 -> 49041.4 | F11: =+E11*D11 -> 1469770.8 | G11: =F11/F30 -> 0.0098474641 | L11: =G11/1 -> 0.0098474641
A12: 2.3 | B12: ='Presupuesto Oficial'!E19 -> Pañete impermeabilizado para muro 1:3 | C12: ='Presupuesto Oficial'!F19 -> M2 | D12: ='Presupuesto Oficial'!G19 -> 59.94 | E12: ='Presupuesto Oficial'!H19 -> 34900 | F12: =+E12*D12 -> 2091906 | G12: =F12/F30 -> 0.01401577 | M12: =G12/1 -> 0.01401577
A13: 2.4 | B13: ='Presupuesto Oficial'!E20 -> Pintura en vinilo tipo 1 para muros 2 capas | C13: ='Presupuesto Oficial'!F20 -> M2 | D13: ='Presupuesto Oficial'!G20 -> 29.97 | E13: ='Presupuesto Oficial'!H20 -> 9600 | F13: =+E13*D13 -> 287712 | G13: =F13/F30 -> 0.0019276704 | N13: =G13/1 -> 0.0019276704
A14: 3 | B14: ='Presupuesto Oficial'!E22 -> SENDERO | F14: =SUM(F15:F20) -> 72298485
A15: 3.1 | B15: ='Presupuesto Oficial'!E23 -> Demolición de Bordillos E: 0.15 m incluye escombro. | C15: ='Presupuesto Oficial'!F23 -> Ml | D15: ='Presupuesto Oficial'!G23 -> 83.85 | E15: ='Presupuesto Oficial'!H23 -> 38140 | F15: =+E15*D15 -> 3198039 | G15: =F15/F30 -> 0.021426861 | I15: =G15/1 -> 0.021426861
A16: 3.2 | B16: ='Presupuesto Oficial'!E24 -> Excavación manual en material común, incluye retiro de escombro. | C16: ='Presupuesto Oficial'!F24 -> M3 | D16: ='Presupuesto Oficial'!G24 -> 45.36 | E16: ='Presupuesto Oficial'!H24 -> 82149 | F16: =+E16*D16 -> 3726278.6 | G16: =F16/F30 -> 0.024966067 | J16: =G16/1 -> 0.024966067
A17: 3.3 | B17: ='Presupuesto Oficial'!E25 -> Construcción de bordillo en concreto de 3.000 PSI Alto= 0,35, espesor 0.15 cm | C17: ='Presupuesto Oficial'!F25 -> Ml | D17: ='Presupuesto Oficial'!G25 -> 83.85 | E17: ='Presupuesto Oficial'!H25 -> 232739.5 | F17: =+E17*D17 -> 19515207 | G17: =F17/F30 -> 0.13075189 | K17: =G17/2 -> 0.065375944 | L17: =G17/2 -> 0.065375944
A18: 3.4 | B18: ='Presupuesto Oficial'!E26 -> Suministro de material seleccionado. Incluye compactación con pisón e=0,08 | C18: ='Presupuesto Oficial'!F26 -> M3 | D18: ='Presupuesto Oficial'!G26 -> 24.192 | E18: ='Presupuesto Oficial'!H26 -> 195000 | F18: =+E18*D18 -> 4717440 | G18: =F18/F30 -> 0.031606848 | L18: =G18/1 -> 0.031606848
A19: 3.5 | B19: ='Presupuesto Oficial'!E27 -> Suministro e Instalación de malla electro soldada de 15 cm X 15 cm E: 4mm | C19: ='Presupuesto Oficial'!F27 -> M2 | D19: ='Presupuesto Oficial'!G27 -> 302.4 | E19: ='Presupuesto Oficial'!H27 -> 12050 | F19: =+E19*D19 -> 3643920 | G19: =F19/F30 -> 0.024414264 | L19: =G19/1 -> 0.024414264
A20: 3.6 | B20: ='Presupuesto Oficial'!E28 -> Construcción en placa de concreto estampillado concolor mineral de 3.000 PSI espesor 0.08 cm | C20: ='Presupuesto Oficial'!F28 -> M3 | D20: ='Presupuesto Oficial'!G28 -> 24.192 | E20: ='Presupuesto Oficial'!H28 -> 1550000 | F20: =+E20*D20 -> 37497600 | G20: =F20/F30 -> 0.25123392 | M20: =G20/1 -> 0.25123392
A21: 4 | B21: ='Presupuesto Oficial'!E30 -> OTROS | F21: =SUM(F22:F29) -> 66950941
A22: 4.1 | B22: ='Presupuesto Oficial'!E31 -> Relleno de jardineras con arena negra para jardineras | C22: ='Presupuesto Oficial'!F31 -> M3 | D22: ='Presupuesto Oficial'!G31 -> 9 | E22: ='Presupuesto Oficial'!H31 -> 82149 | F22: =+E22*D22 -> 739341 | G22: =F22/F30 -> 0.0049535847 | N22: =G22/1 -> 0.0049535847
A23: 4.2 | B23: ='Presupuesto Oficial'!E32 -> Siembra de plantas ornamentales | C23: ='Presupuesto Oficial'!F32 -> Und | D23: ='Presupuesto Oficial'!G32 -> 200 | E23: ='Presupuesto Oficial'!H32 -> 72469 | F23: =+E23*D23 -> 14493800 | G23: =F23/F30 -> 0.09710846 | O23: =G23/1 -> 0.09710846
A24: 4.3 | B24: ='Presupuesto Oficial'!E33 -> Suministro E Instalación De Sistema De Riego - Hidrantes (Ver Diseño).Suministro E Instalación De Sistema De Riego - Hidrantes (Ver Diseño). | C24: ='Presupuesto Oficial'!F33 -> Und | D24: ='Presupuesto Oficial'!G33 -> 1 | E24: ='Presupuesto Oficial'!H33 -> 1600000 | F24: =+E24*D24 -> 1600000 | G24: =F24/F30 -> 0.01072 | K24: =G24/1 -> 0.01072
A25: 4.4 | B25: ='Presupuesto Oficial'!E34 -> SuSuministro E Instalacion De Poste Galvanizado En Caliente De 4.00 Metros De Altura Libre, Acabado Final En Pintura De Esmalte Para Exteriores y 4 luminarias de 50 watt | C25: ='Presupuesto Oficial'!F34 -> Und | D25: ='Presupuesto Oficial'!G34 -> 2 | E25: ='Presupuesto Oficial'!H34 -> 2700000 | F25: =+E25*D25 -> 5400000 | G25: =F25/F30 -> 0.03618 | N25: =G25/1 -> 0.03618
A26: 4.5 | B26: ='Presupuesto Oficial'!E35 -> Suministro e instalación de banca prefabricada empotradas en jardineras con espaldar. Acabado en concreto 3000psi pulido prefabricada 120cm Largo x 50cm Anchox Alto 45cm | C26: ='Presupuesto Oficial'!F35 -> Und | D26: ='Presupuesto Oficial'!G35 -> 12 | E26: ='Presupuesto Oficial'!H35 -> 2650000 | F26: =+E26*D26 -> 31800000 | G26: =F26/F30 -> 0.21306 | N26: =G26/1 -> 0.21306
A27: 4.6 | B27: ='Presupuesto Oficial'!E36 -> Suministro e instalación de juego de mesa con banca prefabricada tipo dado Acabado en concreto 3000psi pulido prefabricada 45cm Largo x 45cm Ancho x 45cm alto- | C27: ='Presupuesto Oficial'!F36 -> Und | D27: ='Presupuesto Oficial'!G36 -> 2 | E27: ='Presupuesto Oficial'!H36 -> 3166000 | F27: =+E27*D27 -> 6332000 | G27: =F27/F30 -> 0.0424244 | N27: =G27/1 -> 0.0424244
A28: 4.7 | B28: ='Presupuesto Oficial'!E37 -> Caneca en Acero Inoxidable 75Lts Barcelona M121 | C28: ='Presupuesto Oficial'!F37 -> Und | D28: ='Presupuesto Oficial'!G37 -> 4 | E28: ='Presupuesto Oficial'!H37 -> 1228700 | F28: =+E28*D28 -> 4914800 | G28: =F28/F30 -> 0.03292916 | N28: =G28/1 -> 0.03292916
A29: 4.8 | B29: ='Presupuesto Oficial'!E38 -> Construcción de Atril para nicho de la virgen | C29: ='Presupuesto Oficial'!F38 -> Und | D29: ='Presupuesto Oficial'!G38 -> 1 | E29: ='Presupuesto Oficial'!H38 -> 1671000 | F29: =+E29*D29 -> 1671000 | G29: =F29/F30 -> 0.0111957 | N29: =G29/2 -> 0.00559785 | O29: =G29/2 -> 0.00559785
B30: TOTAL COSTOS DIRECTOS | F30: =(F5+F9+F14+F21) -> 1.4925373e+08 | G30: =SUM(G6:G29) -> 1
B33: PORCENTAJE SEMANAL | H33: =SUM(H6:H29) -> 0.038682563 | I33: =SUM(I6:I29) -> 0.023982241 | J33: =SUM(J6:J29) -> 0.024966067 | K33: =SUM(K6:K29) -> 0.076095944 | L33: =SUM(L6:L29) -> 0.13124452 | M33: =SUM(M6:M29) -> 0.26524969 | N33: =SUM(N6:N29) -> 0.33707267 | O33: =SUM(O6:O29) -> 0.10270631
B34: VALOR SEMANAL | H34: =H33*F30 -> 5773516.9 | I34: =I33*F30 -> 3579439 | J34: =J33*F30 -> 3726278.6 | K34: =K33*F30 -> 11357604 | L34: =L33*F30 -> 19588734 | M34: =M33*F30 -> 39589506 | N34: =N33*F30 -> 50309353 | O34: =O33*F30 -> 15329300
B35: PROCENTAJE ACUMULADO | H35: =H33 -> 0.038682563 | I35: =H35+I33 -> 0.062664804 | J35: =I35+J33 -> 0.087630871 | K35: =J35+K33 -> 0.16372681 | L35: =K35+L33 -> 0.29497133 | M35: =L35+M33 -> 0.56022102 | N35: =M35+N33 -> 0.89729369 | O35: =N35+O33 -> 1
B36: VALOR ACUMULADO | H36: =H34 -> 5773516.9 | I36: =H36+I34 -> 9352955.9 | J36: =I36+J34 -> 13079235 | K36: =J36+K34 -> 24436838 | L36: =K36+L34 -> 44025572 | M36: =L36+M34 -> 83615078 | N36: =M36+N34 -> 1.3392443e+08 | O36: =N36+O34 -> 1.4925373e+08
E41: Secretaria de Recracion y Deporte

Sheet A.P.U. 
A2: FORMULARIO 1
A3: PRESUPUESTO OFICIAL
A5: [La entidad podrá utilizar este formato para la presentación de los análisis de precios unitarios del contratista en la oportunidad prevista en el numeral 8.2. del Documento Base]
B7: ALCALDIA DE SITIONUEVO
F8: VERSIÓN
B9: [NÚMERO DEL PROCESO]
B10: ANALISIS DE PRECIOS UNITARIOS | F10: PÁGINA | G10: 1 | H10: DE | I10: 1
F13: FECHA | G13: DD | H13: MM | I13: AA
G14: 22 | H14: 4 | I14: 24
A15: ÍTEMS DE LA PROPUESTA ECONÓMICA | C15: ÍTEMS NO PREVISTOS
A19: DATOS ESPECÍFICOS
A20: ÍTEM | B20: DESCRIPCIÓN | G20: UNIDAD | I20: CANTIDAD
A21: ='Presupuesto Oficial'!B11 -> 1.1 | B21: ='Presupuesto Oficial'!E11 -> Trazado y replanteo | G21: M2 | I21: 1
A22: I. EQUIPO
A23: DESCRIPCIÓN | D23: TIPO | F23: TARIFA/HORA | G23: RENDIMIENTO | I23: Vr. UNITARIO
I24: =F24*G24 -> 0
A26: SUBTOTAL $ | I26: =I24 -> 0
A27: II. MATERIALES
A29: DESCRIPCIÓN | E29: UNIDAD | F29: CANTIDAD | G29: PRECIO UNIT. | I29: Vr. UNITARIO
I31: 0
A33: SUBTOTAL $ | I33: 0
A34: III. TRANSPORTES
A36: MATERIAL | D36: VOL. o PESO | E36: DISTANCIA | F36: M3 o Ton/Km | G36: TARIFA | I36: Vr. UNITARIO
I37: =G37*F37 -> 0
A39: SUBTOTAL $ | I39: =I37 -> 0
A40: IV. MANO DE OBRA
A42: TRABAJADOR | D42: JORNAL | E42: PRESTACIONES | F42: JORNAL TOTAL | G42: RENDIMIENTO | I42: Vr. UNITARIO
A43: CUADRILLA A-A | D43: DIA | F43: 40000 | G43: 0.0525 | I43: =F43*G43 -> 2100
A47: SUBTOTAL $ | I47: =SUM(I43:I45) -> 2100
A49: TOTAL COSTO DIRECTO $ | I49: =I26+I39+I47 -> 2100
A50: V. COSTOS INDIRECTOS
A52: Descripción | F52: Porcentaje | G52: Valor Total
A53: ADMINISTRACION | F53: 0.24 | G53: =I49*F53 -> 504
A54: IMPREVISTOS | F54: 0.02 | G54: =I49*F54 -> 42
A55: UTILIDAD | F55: 0.04 | G55: =I49*F55 -> 84
A56: SUBTOTAL $ | I56: =G53+G54+G55 -> 630
A58: Precio Unitario Total Aproximado al peso $ | I58: =I49+I56 -> 2730
C60: Firma
C61: Nombre:
C62: Representante Legal del Contratista o su Apoderado
...

Sheet Propuesta Económica
A1: FORMULARIO 1
A2: PRESUPUESTO OFICIAL
A4: [Los proponentes deben usar el presente formulario para determinar su propuesta económica conforme al Formulario 1 - Presupuesto Oficial publicado por la Entidad] [El presente formato aplica para los procesos de contratación que tengan como forma de pago precios unitarios, la Entidad debe ajustarlo cuando la modalidad de pago corresponde a: precio global, llave en mano, administración delegada, reembolso de gastos o cualquier otra forma de pago.]
A6: Cuando el proceso de contratación es estructurado por precios unitarios, la Entidad debe aplicar las notas 1, 2 y 3 del presente formato y las casillas de "Descripción", "Porcentaje" de la Administración, Imprevisto, Utilidad y total A.I.U. resaltadas en color amarillo.
A8: Nº | B8: ÍTEM DE PAGO | C8: ESPECIFICACIONES | E8: DESCRIPCIÓN | F8: UND. | G8: CANTIDAD | H8: VALOR UNITARIO | I8: VALOR TOTAL
C9: GENERAL | D9: PARTICULAR
A12: Subtotal
A18: Subtotal
A24: Subtotal
A29: Subtotal
A32: Subtotal
A33: SUBTOTAL OBRAS
E36: SUBTOTAL OBRAS (INCLUYE IVA)
E39: VALOR TOTAL
A42: NOTA 1: Se debe tener en cuenta que el PRECIO UNITARIO incluye el valor de A.I.U. | F42: DESCRIPCIÓN | I42: PORCENTAJE
A43: NOTA 2: Cuando la fracción decimal del peso sea igual o superior a 5 se aproximara por exceso al número entero siguiente del peso y cuando la fracción decimal del peso sea inferior a 5 se aproximará por defecto al número entero del peso. | F43: ADMINISTRACIÓN | H43: A= | I43: [Ofrecimiento del Proponente]
A44: NOTA 3: El A.I.U y su discriminación deben estar en porcentaje (%). | F44: IMPREVISTO | H44: I= | I44: [Ofrecimiento del Proponente]
A45: NOTA 4: [Excepcionalmente la Entidad podrá incluir esta nota con el fin de aclarar aspectos relacionados con ítems o descripciones de pago que tengan características particulares (por ejemplo, cuando se realicen a través de monto agotable o global), siempre que no contravengan lo establecido en los Documentos Tipo] | F45: UTILIDAD | H45: U= | I45: [Ofrecimiento del Proponente]
A46: NOTA 5: [Excepcionalmente la Entidad podrá incluir esta nota con el fin de aclarar aspectos relacionados con ítems o descripciones de pago que tengan características particulares (por ejemplo, cuando se realicen a través de monto agotable o global), siempre que no contravengan lo establecido en los Documentos Tipo] | F46: TOTAL A.I.U | H46: A.I.U.= | I46: [Ofrecimiento del Proponente]
A47: NOTA 6: [Excepcionalmente la Entidad podrá incluir esta nota con el fin de aclarar aspectos relacionados con ítems o descripciones de pago que tengan características particulares (por ejemplo, cuando se realicen a través de monto agotable o global), siempre que no contravengan lo establecido en los Documentos Tipo]
D51: Firma del Proponente o de su Representante Legal
