Workbook
Name a1_Y1: [2]CONFIGURACIÓN!$D$17
Name a1_Y2: [2]CONFIGURACIÓN!$E$17
Name a10_Y10: [2]CONFIGURACIÓN!$M$26
Name a10_Y11: [2]CONFIGURACIÓN!$N$26
Name a2_Y2: [2]CONFIGURACIÓN!$E$18
Name a2_Y3: [2]CONFIGURACIÓN!$F$18
Name a3_Y3: [2]CONFIGURACIÓN!$F$19
Name a3_Y4: [2]CONFIGURACIÓN!$G$19
Name a4_Y4: [2]CONFIGURACIÓN!$G$20
Name a4_Y5: [2]CONFIGURACIÓN!$H$20
Name a5_Y5: [2]CONFIGURACIÓN!$H$21
Name a5_Y6: [2]CONFIGURACIÓN!$I$21
Name a6_Y6: [2]CONFIGURACIÓN!$I$22
Name a6_Y7: [2]CONFIGURACIÓN!$J$22
Name a7_Y7: [2]CONFIGURACIÓN!$J$23
Name a7_Y8: [2]CONFIGURACIÓN!$K$23
Name a8_Y8: [2]CONFIGURACIÓN!$K$24
Name a8_Y9: [2]CONFIGURACIÓN!$L$24
Name a9_Y10: [2]CONFIGURACIÓN!$M$25
Name a9_Y9: [2]CONFIGURACIÓN!$L$25
Name ALMUERZO: '[3]Resumen Preparaciones'!$C$52:$C$113
Name almuerzocena: '[3]Resumen Preparaciones'!$C$52:$C$141
Name año1: [2]CONFIGURACIÓN!$F$9
Name APLICA: #REF!
Name APLICA: #REF!
Name APLICA: #REF!
Name APLICA: #REF!
Name APLICA: #REF!
Name APLICA.: #REF!
Name APLICA.: #REF!
Name APLICA.: #REF!
Name APLICA.: #REF!
Name APLICA.: #REF!
Name bbb: [4]lista!$A$11:$A$13
Name bbb: [5]lista!$A$11:$A$13
Name CALENDARIO: [2]CALENDARIO!$B$6:$H$161
Name Calidad: [6]PERSONAL!$P$58
Name Campamento: [6]PERSONAL!$P$122
Name Comercio: [7]OCULTAR!$F$14:$G$17
Name Decision: [4]lista!$A$6:$A$7
Name Decision: [5]lista!$A$6:$A$7
Name dependencia: '[8]Datos Inciales'!$B$5:$B$30
Name desayuno: '[3]Resumen Preparaciones'!$C$5:$C$50
Name DESAYUNOS: '[3]Resumen Preparaciones'!$C$5:$C$33
Name Ensayos: [6]PERSONAL!$P$100
Name Estrategia: [9]Tablas!$F$2:$F$34
Name EUR: '[2]DATOS ENTRADA'!$E$2
Name fecha_fin_servicio: [2]CONFIGURACIÓN!$C$10
Name fecha_inicio_servicio: [2]CONFIGURACIÓN!$C$9
Name Fuente: [9]Tablas!$D$2:$D$10
Name FUENTES: '[8]Datos Inciales'!$B$40:$B$49
Name GRUPO: #REF!
Name horas_jornada: [2]CONFIGURACIÓN!$C$12
Name horas_ubicacion1: [2]CONFIGURACIÓN!$C$47
Name horas_ubicacion2: [2]CONFIGURACIÓN!$C$48
Name horas_ubicacion3: [2]CONFIGURACIÓN!$C$49
Name horas_ubicacion4: [2]CONFIGURACIÓN!$C$50
Name horas_ubicacion5: [2]CONFIGURACIÓN!$C$51
Name horas_ubicacion6: [2]CONFIGURACIÓN!$C$52
Name horas_ubicacion7: [2]CONFIGURACIÓN!$C$53

Sheet OFERTA ECONÓMICA
D2: República de Colombia
D3: Instituto Colombiano de Antropología e Historia Proceso de Mínima Cuantía No. MC-ICANH-022-2024
D4: Formato oferta económica
B7: Objeto | D7: Prestar el servicio de mantenimiento, plantación y suministro de jardinería para las sedes del ICANH, inmuebles ubicados en la calle 12 # 2 – 41 y calle 12 b # 2 – 37 de la Bogotá D.C
B8: Nombre o Razón Social | H8: NIT
B9: Persona de contacto | H9: Teléfono celular
B10: Correo electrónico | H10: Teléfono fijo
B12: Instrucciones para el diligenciamiento de la oferta:
B14: • Por favor diligenciar solo las celdas en AZUL. • Los precios unitarios deberán ser expresado en PESOS COLOMBIANOS y en números enteros. • El formato contiene los insumos de costos estimados por el Instituto por lo tanto no se permite modificar, agregar o quitar ningún ítem o sub-ítem. • Para la estructuración de la propuesta por favor tener en cuenta el documento anexo "Ficha técnica" • Los precios deberán aproximarse por exceso o por defecto al entero más cercano así: (i) si es igual o superior a 50 centavos, se aproxima al entero siguiente; (ii) si es inferior a 50 centavos se baja al entero anterior. • Los precios unitarios deben contemplar todos los rubros requeridos para la adecuada prestación del servicio y el cumplimiento de las obligaciones contractuales. • Los precios unitarios ofertados no pueden superar los precios techo establecidos. • Ningún ítem de la propuesta económica debe ser diligenciado con cero (0), so pena de ser rechazada.
B16: Notas: (1) Tener en cuenta en el momento de ofertar, que el plazo de ejecución es estimado y podrá ser inferior. (2) Los valores unitarios deben incluir todos los costos y gastos directos e indirectos en que incurre el contratista durante la ejecución del contrato de acuerdo con las especificaciones de la ficha técnica, las obligaciones tributarias de acuerdo con las normas aplicables para el tipo de servicio y contrato correspondiente.
B18: Plazo de ejecución estimado (Nota 1) | D18: 3 meses
G21: PRECIO TECHO | I21: PRECIO OFERTADO
B22: INMUEBLE | C22: ITEM | D22: Detalle servicios (Nota 2) | E22: Unidad de Medida | F22: Cantidad | G22: PRECIO UNITARIO IVA INCLUIDO | H22: PRECIO TOTAL IVA INCLUIDO | I22: PRECIO UNITARIO IVA INCLUIDO | J22: PRECIO TOTAL IVA INCLUIDO
B23: 1. Inmueble ubicado en la calle 12 # 2-41 - CASA MISIONAL | C23: 1.1 | D23: Servicio de mantenimiento para el jardín vertical y jardineras 1 y 2, incluye: el servicio mensual de podas del césped y árboles, corte de hiedras, entre otro material vegetativo existente y renovado, abonamiento del terreno, riego y fertilización, reparación de raíces, replantar jardín, soportes con los respectivos insumos como: abonos, herramienta menor, fertilizantes, mangueras, surtidores, etc. Por un periodo de tres (3) meses, un servicio por mes. | E23: MES | F23: 3 | G23: 935027 | H23: =F23*G23 -> 2805081 | J23: =ROUND(I23*F23,0) -> 0
C24: 1.2 | D24: Mantenimiento y puesta y funcionamiento de la bomba dosificadora para jardín vertical, existente. Incluye suministro de batería. | E24: UN | F24: 1 | G24: 503100 | H24: =F24*G24 -> 503100 | J24: =ROUND(I24*F24,0) -> 0
C25: 1.3 | D25: Mantenimiento y puesta en funcionamiento del sistema de riesgo existente en maguera de ½ pulgada | E25: ML | F25: 90 | G25: 20335 | H25: =F25*G25 -> 1830150 | J25: =ROUND(I25*F25,0) -> 0
C26: 1.4 | D26: Plantar hiedras y siete cueros rastrero en coordinación con el diseño existente. | E26: UN | F26: 50 | G26: 15998 | H26: =F26*G26 -> 799900 | J26: =ROUND(I26*F26,0) -> 0
B27: 2. Inmueble ubicado en la calle 12 B # 2-37 - EDIFICIO NUEVA SEDE | C27: 2.1 | D27: Suministro y plantación de una especie jerarquica de mayor altura tipo: Agabe, Palma zica, cheflera, Helecho palma, palma carey, Aves del paraíso, palma carey roja, Bamboo, Cauchos, Drasena, Alocacia morada y/o similar. Las jardineras metálicas serán ubicadas en las terrazas de acuerdo con la indicación del supervisor. | E27: UN | F27: 50 | G27: 43266 | H27: =F27*G27 -> 2163300 | J27: =ROUND(I27*F27,0) -> 0
C28: 2.2 | D28: Suministro y plantación de tres especies en la base, alrededor de la planta jerárquica, tipo: Repolla, abrecaminos, afelandras, trasdescantias y/o similar. | E28: UN | F28: 150 | G28: 23137 | H28: =F28*G28 -> 3470550 | J28: =ROUND(I28*F28,0) -> 0
C29: 2.3 | D29: Servicio de mantenimiento post-siembra de las 50 jardineras, incluye el servicio mensual de podas del césped y árboles, corte de hiedras, entre otro material vegetativo existente y renovado, abonamiento del terreno, riego y fertilización, reparación de raíces, resiembras de jardín, soportes con los respectivos insumos como: abonos, herramienta menor, fertilizantes, mangueras, surtidores, etc. Por un periodo de tres (3) meses, un servicio cada 15 días. (6 servicios). | E29: Quincenal | F29: 6 | G29: 1191783 | H29: =F29*G29 -> 7150698 | J29: =ROUND(I29*F29,0) -> 0
C30: 2.4 | D30: Suministro e instalación de grava decorativa en cada una de las macetas, color a elegir por parte del supervisor en el momento de la instalación. | E30: UN | F30: 50 | G30: 35367 | H30: =F30*G30 -> 1768350 | J30: =ROUND(I30*F30,0) -> 0
B31: PRECIO TOTAL IVA INCLUIDO | H31: =SUM(H23:H30) -> 20491129 | J31: =SUM(J23:J30) -> 0
B43: FIRMA DEL REPRESENTANTE LEGAL
B44: C.C.

Sheet Ofertas Recibidas
C1: República de Colombia
C2: Instituto Colombiano de Antropología e Historia Proceso de Selección Abreviada de Menor Cuantía No. SAMC-ICANH-005-2024
C3: OFERTAS RECIBIDAS
A5: Objeto | C5: Prestar los servicios para desarrollar el Plan Institucional de Capacitación y Bienestar del Instituto Colombiano de Antropología e Historia ICANH para la vigencia 2024
A7: Oferta | B7: EMPRESA | F7: VALOR OFERTADO | H7: OBSERVACIÓN | I7: NOTA
A8: Oferta 1 | B8: CONTINENTAL EXPERIENCES SAS | F8: ='1. CONTINENTAL EXPERIENCES SAS'!O36 -> 173467920 | H8: Oferta RECHAZADA | I8: Se modificó el valor unitario del ítem de imprevistos, cuando este es un valor fijado por la Entidad. El valor es de $12.094.804 y se modificó a $12.074.804. Por lo tanto, la oferta está inmersa en la causal de rechazo No. 17. "Cuando el proponente modifique el Formato de Oferta Económica".
A9: Oferta 2 | B9: INDUHOTEL SAS | F9: ='2. INDUHOTEL SAS'!O36 -> 159642382 | H9: Valores unitarios con decimales | I9: Se realiza corrección aritmética, previamente el valor de la oferta sin correción aritmética era de $159.642.335
A10: Oferta 3 | B10: ESTRATEGIA Y LOGISTICA DE EVENTOS SAS | F10: ='3. ESTRATEGIA Y LOGISTICA DE EV'!O36 -> 150652173 | H10: Valores unitarios con decimales | I10: Se realiza corrección aritmética, previamente el valor de la oferta sin correción aritmética era de $150.652.134
A11: Oferta 4 | B11: B2 NETWORKS SAS | F11: ='4. B2 NETWORKS SAS'!O36 -> 159345554 | I11: NO SE ENCUENTRA HABILITADO JURÍDICAMENTE
B15: EVALUADOR TÉCNICO - ECONÓMICO
B17: NOMBRE DEL PROFESIONAL | F17: YULIET CAMILA GUTIÉRREZ RIVEROS
B18: CARGO | F18: CONTRATISTA ICANH

Sheet Posiciones
B1: República de Colombia
B2: Instituto Colombiano de Antropología e Historia Proceso de Selección Abreviada de Menor Cuantía No. SAMC-ICANH-005-2024
B3: Posiciones
A5: Objeto | B5: Prestar los servicios para desarrollar el Plan Institucional de Capacitación y Bienestar del Instituto Colombiano de Antropología e Historia ICANH para la vigencia 2024
A7: Posición | B7: Oferta | C7: EMPRESA | D7: VALOR OFERTADO | E7: PUNTAJES
A8: Posición 1 | B8: Oferta 3 | C8: ESTRATEGIA Y LOGISTICA DE EVENTOS SAS | D8: ='3. ESTRATEGIA Y LOGISTICA DE EV'!O36 -> 150652173 | E8: =Puntajes!F14 -> 38.841074
A9: Posición 2 | B9: Oferta 2 | C9: INDUHOTEL SAS | D9: ='2. INDUHOTEL SAS'!O36 -> 159642382 | E9: =Puntajes!F13 -> 37.682148
A12: EVALUADOR TÉCNICO - ECONÓMICO
A14: NOMBRE DEL PROFESIONAL | C14: YULIET CAMILA GUTIÉRREZ RIVEROS
A15: CARGO | C15: CONTRATISTA ICANH

Sheet Precios Artif Bajos
B1: República de Colombia
B2: Instituto Colombiano de Antropología e Historia Proceso de Selección Abreviada de Menor Cuantía No. SAMC-ICANH-005-2024
B3: Solicitud Aclaración Precios Artificialmente Bajos
A5: El Instituto Colombiano de Antropología e Historia ICANH, en virtud de lo establecido en el DOCUMENTO PLIEGO DE CONDICIONES No. SAMC-ICANH-005-2024 de la Invitación Pública No. SAMC-ICANH-005-2024, cuyo objeto es “Prestar los servicios para desarrollar el Plan Institucional de Capacitación y Bienestar del Instituto Colombiano de Antropología e Historia ICANH para la vigencia 2024”, se revisan los precios ofertados por los proponentes con base en el siguiente análisis:
A7: Dentro de la GUÍA PARA EL MANEJO DE OFERTAS ARTIFICIALMENTE BAJAS EN PROCESOS DE CONTRATACIÓN diseñada por la Colombia Compra Eficiente se establece:
A8: “Cuando el total de ofertas analizadas es menor a cinco (5), el Banco Mundial recomienda identificar como posibles ofertas artificialmente bajas aquellas ofertas cuyo valor es menor o igual que el 20% del costo total estimado por la Entidad Estatal"
A10: 1) Tomar el conjunto de ofertas a evaluar.
A12: Posición | B12: Oferta | C12: EMPRESA | D12: VALOR OFERTADO
A13: Posición 2 | B13: Oferta 2 | C13: INDUHOTEL SAS | D13: ='2. INDUHOTEL SAS'!O36 -> 159642382
A14: Posición 1 | B14: Oferta 3 | C14: ESTRATEGIA Y LOGISTICA DE EVENTOS SAS | D14: ='3. ESTRATEGIA Y LOGISTICA DE EV'!O36 -> 150652173
A16: 2) Calcular la variación frente al presupuesto oficial
A18: Posición | B18: Oferta | C18: EMPRESA | D18: VALOR OFERTADO | E18: PRESUPUESTO | F18: VARIACIÓN
A19: Posición 2 | B19: Oferta 2 | C19: INDUHOTEL SAS | D19: =D13 -> 159642382 | E19: 173811420 | F19: =D19/E19-1 -> -0.081519603
A20: Posición 3 | B20: Oferta 3 | C20: ESTRATEGIA Y LOGISTICA DE EVENTOS SAS | D20: =D14 -> 150652173 | F20: =D20/E19-1 -> -0.13324353
A22: En este sentido, NO se requiere a los oferentes mencionados anteriormente para que sustenten técnica, financiera y económicamente los precios ofertados, de acuerdo con el criterio establecido por la Agencia Nacional de Contratación Pública, por lo tanto, ninguna oferta se encuentra inmersa en la Causal de rechazo No. 3 que establece: “Cuando de conformidad con la información con la cual cuenta la Entidad, se estime que el valor de una oferta resulta artificialmente bajo y el proponente no logre sustentar o demostrar que el valor de su propuesta responde a circunstancias objetivas de su oferta”.
A24: EVALUADOR TÉCNICO - ECONÓMICO
A26: NOMBRE DEL PROFESIONAL | C26: YULIET CAMILA GUTIÉRREZ RIVEROS
A27: CARGO | C27: CONTRATISTA ICANH

Sheet Puntajes
B1: República de Colombia
B2: Instituto Colombiano de Antropología e Historia Proceso de Selección Abreviada de Menor Cuantía No. SAMC-ICANH-005-2024
B3: Puntuación
A5: El ICANH a partir del valor de las ofertas, asignará máximo CUARENTA (40) PUNTOS, de acuerdo con el método escogido en forma aleatoria para la ponderación de la Oferta Económica. Para determinar el método de ponderación, la Entidad tomará los centavos de la Tasa de Cambio Representativa del Mercado (TRM) (certificada por la Superintendencia Financiera de Colombia en su sitio web: https://www.superfinanciera.gov.co/publicacion/60819 ) que rija el día hábil anterior a la fecha establecida para la publicación del informe preliminar de evaluación, definida en el cronograma vigente al momento del cierre del proceso de selección, aun cuando esta fecha se modifique posteriormente en desarrollo del Proceso de Contratación. El método de ponderación se determinará de acuerdo con los rangos del siguiente cuadro:
A7: Una vez revisada la TRM del día hábil anterior a la fecha establecida para la publicación del informe preliminar de evaluación, se encuentra lo siguiente:
A9: El método de ponderación es la Media Aritmética.
B11: OFERTAS HABILITADAS ECONÓMICAMENTE (SUMATORIA VALORES UNITARIOS) | H11: CALCULO MEDIA ARITMÉTICA
B12: No. | C12: Oferente | D12: Valor sumatoria de precios | E12: Menores o iguales/mayores | F12: Puntaje | H12: Media aritmética
B13: 1 | C13: INDUHOTEL SAS | D13: 159642382 | E13: =IF(D13>$H$13,"Mayor a XA","Menor o igual") -> Mayor a XA | F13: =($H$16*(1-2*(ABS($H$13-D13)/$H$13))) -> 37.682148 | H13: =AVERAGE(D13:D14) -> 1.5514728e+08
B14: 2 | C14: ESTRATEGIA Y LOGISTICA DE EVENTOS SAS | D14: 150652173 | E14: =IF(D14>$H$13,"Mayor a XA","Menor o igual") -> Menor o igual | F14: =$H$16*(1-(($H$13-D14)/$H$13)) -> 38.841074
H15: PUNTAJE MÁXIMO
H16: 40
B18: EVALUADOR TÉCNICO - ECONÓMICO
B20: NOMBRE DEL PROFESIONAL | D20: YULIET CAMILA GUTIÉRREZ RIVEROS
B21: CARGO | D21: CONTRATISTA ICANH

Sheet 1. CONTINENTAL EXPERIENCES SAS
D2: República de Colombia
D3: Instituto Colombiano de Antropología e Historia
D4: SAMC-ICANH- -2024
D5: Formato oferta económica
B7: Objeto | D7: Prestar los servicios para desarrollar el Plan Institucional de Capacitación y Bienestar del Instituto Colombiano de Antropología e Historia – ICANH para la vigencia 2024
B8: Nombre o Razón Social | F8: NIT
B9: Persona de contacto | F9: Teléfono celular
B10: Correo electrónico | F10: Teléfono fijo
B12: Instrucciones para el diligenciamiento de la cotización
B14: • Por favor diligenciar solo las celdas en AZUL. • Los precios unitarios deberán ser expresado en PESOS COLOMBIANOS y en números entreros, los cuales deben incluir el IVA. • El formato contiene los insumos de costos estimados por el Instituto por lo tanto no se permite modificar, agregar o quitar ningún ítem o sub-ítem. • Para la estructuración de la propuesta por favor revisar detenidamente el documento anexo "Ficha técnica" y "Anexo único" • Los precios deberán aproximarse por exceso o por defecto al entero más cercano así: (i) si es igual o superior a 50 centavos, se aproxima al entero siguiente; (ii) si es inferior a 50 centavos se baja al entero anterior. • Los precios unitarios deben contemplar todos los rubros requeridos para la adecuada prestación del servicio y el cumplimiento de las obligaciones contractuales como lo son la trazabilidad del servicio, equipo mínimo, entre otros aspectos técnicos. • Los precios unitarios ofertados no pueden superar los precios techo establecidos. • Ningún ítem de la propuesta económica debe ser diligenciado con cero (0), so pena de ser rechazada.
B16: Notas: (1) Los valores unitarios deben incluir todos los costos y gastos directos e indirectos en que incurre el contratista durante la ejecución del contrato de acuerdo con las especificaciones de la ficha técnica, las obligaciones tributarias de acuerdo con las normas aplicables para el tipo de servicio y contrato correspondiente. (2) Es importante tener en cuenta todos los criterios técnicos establecidos en el documento "Anexo único - Acciones y actividades de capacitación y bienestar", así como lo establecido en la ficha técnica adjunta al proceso, lo anterior, con el fin de que se contemplen todos estos requerimientos técnicos en el valor unitario a cotizar para cada temática general en los componentes de "Bienestar" y "Capacitación". (3) Para todas las actividades o eventos se deberá tener en cuenta el cargo de los espacios, escenarios, plazoletas, salones y demás para la realización de las actividades de bienestar y capacitación. (4) Se recuerda que la ejecución requiere de un equipo mínimo de trabajo, el cual se encuentra establecido en la ficha técnica del proceso, por lo que se debe contemplar este requerimiento dentro del valor unitario. (5) Tener en cuenta que de cada temática general se despliega una serie de actividades que contemplan distinta cantidad de beneficiarios de la actividad, así como la unidad de medida y la cantidad requerida frente a esta medida, sin embargo, el valor unitario se debe establecer conforme a la actividad general y no frente al desagregado de esta. (6) Por favor ofertar los dos componentes "Bienestar" y "Capacitación" (7) Es importante resaltar que para la actividad navideña, se requiere del suministro de una cantidad estimada de regalos, los cuales debe cumplir con los requerimientos técnicos establecidos en la ficha técnica. (8) En el presente formato de oferta económica se encuentran notas en negrita y con subrayado para algunos ítems, los aspectos señalados en las notas son algunos de los requerimientos técnicos que se tienen para el ítem, por lo que es importante contemplarlos dentro del valor unitario a ofertar, conforme con lo establecido en la ficha técnica y en el anexo único.
B18: 1. BIENESTAR Nota 6 | N18: CORRECCIÓN ARITMÉTICA
B19: No. | C19: TEMA | D19: DESCRIPCIÓN GENERAL Notas 1, 2, 3, 4, 5 | F19: CANTIDAD ESTIMADA BENEFICIARIOS | G19: UNIDAD DE MEDIDA | H19: CANTIDAD REQUERIDA | I19: MODALIDAD | J19: PRECIO TECHO | K19: Precio unitario incluido IVA Notas 1, 2, 3, 4, 5 | L19: CONTROL | M19: Valor total IVA incluido | N19: PRECIO UNITARIO INCLUIDO IVA | O19: VALOR TOTAL INVA INCLUIDO | P19: CUMPLE / NO CUMPLE
B20: 1 | C20: Semana Creativa y Cultural. | D20: Actividad de bienestar tipo conmemoración que desarrolle entre otros, principalmente temas relacionados con una semana de vacaciones creativas y culturales para grupos entre 25 a 30 niños, actividades de la semana de receso | E20: jornada 1: - actividad de reconocimiento patrimonial y recorrido patrimonial por el centro histórico y recreación (taller de máscaras) en el centro histórico (niños) (incluye 2 refrigerios y materiales) | F20: 30 | G20: Jornada | H20: 1 | I20: Presencial | J20: 5679545 | K20: 5649545 | L20: =IF(K20>J20,"El precio ofertado sobrepasa el precio techo","") | M20: =H20*K20 -> 5649545 | N20: =ROUND(K20,0) -> 5649545 | O20: =H20*N20 -> 5649545 | P20: =IF(N20<J20,"CUMPLE","NO CUMPLE") -> CUMPLE
B21: 2 | C21: Día de la Familia | D21: Actividad de bienestar tipo conmemoración que desarrolle entre otros, principalmente temas relacionados con el día de la familia se celebrará a partir de la entrega de pases o pasadías en 2 tipos de actividades. | E21: Opción 1. Brazaletes para la entrada a un parque de diversiones (entre semana de miércoles a viernes). | F21: 41 | G21: Brazaletes | H21: 41 | I21: N/A | J21: 80375 | K21: 80175 | L21: =IF(K21>J21,"El precio ofertado sobrepasa el precio techo","") | M21: =H21*K21 -> 3287175 | N21: =ROUND(K21,0) -> 80175 | O21: =H21*N21 -> 3287175 | P21: =IF(N21<J21,"CUMPLE","NO CUMPLE") -> CUMPLE
B22: 5 | C22: Bonos de Estímulo por Labor Destacada | D22: Actividad de bienestar tipo fortalecimiento de la labor destacada que desarrolle entre otros, el cruce con los cumpleaños del funcionario: Con ocasión de estimular el trabajo y entrega de eficientes productos laborales, así como en respuesta y aprobación por su aporte al mejoramiento del clima laboral se entregará a cada trabajador un bono de 4 tipologías de servicio recreativo que estimulen su ánimo laboral. A libre elección del servidor sobre las opciones presentadas. | E22: Se hará entrega a cada trabajador una entrada para SPA, con ocasión de la conmemoración del cumpleaños del servidor. | F22: 41 | G22: Entrada | H22: 41 | I22: N/A | J22: 231179 | K22: 231079 | L22: =IF(K22>J22,"El precio ofertado sobrepasa el precio techo","") | M22: =H22*K22 -> 9474239 | N22: =ROUND(K22,0) -> 231079 | O22: =H22*N22 -> 9474239 | P22: =IF(N22<J22,"CUMPLE","NO CUMPLE") -> CUMPLE
E23: Se hará entrega a cada servidor de planta una entrada para dos personas a cine 2D con combo de crispetas y gaseosa pequeña, con ocasión de la conmemoración del cumpleaños del servidor. | F23: 40 | G23: Entrada | H23: 40 | I23: N/A | J23: 66710 | K23: 66510 | L23: =IF(K23>J23,"El precio ofertado sobrepasa el precio techo","") | M23: =H23*K23 -> 2660400 | N23: =ROUND(K23,0) -> 66510 | O23: =H23*N23 -> 2660400 | P23: =IF(N23<J23,"CUMPLE","NO CUMPLE") -> CUMPLE
B24: 24 | C24: Cierre de gestión | D24: Actividad de cierre de gestión para 130 personas, conforme a lo establecido en el anexo único de la ficha técnica. Incluye logística, transporte, alimentación, escenarios de uso exclusivo para el ICANH y recreación dirigida. | F24: 130 | G24: Actividad de cierre de gestión | H24: 1 | I24: Presencial | J24: 40054519 | K24: 40000519 | L24: =IF(K24>J24,"El precio ofertado sobrepasa el precio techo","") | M24: =H24*K24 -> 40000519 | N24: =ROUND(K24,0) -> 40000519 | O24: =H24*N24 -> 40000519 | P24: =IF(N24<J24,"CUMPLE","NO CUMPLE") -> CUMPLE
D25: Actividad de cierre de gestión para 37 personas, conforme a lo establecido en el anexo único de la ficha técnica. Incluye logística, transporte, alimentación, escenarios de uso exclusivo para el ICANH y recreación dirigida. | F25: 37 | G25: Actividad de cierre de gestión | H25: 1 | I25: Presencial | J25: 19821493 | K25: 19801493 | L25: =IF(K25>J25,"El precio ofertado sobrepasa el precio techo","") | M25: =H25*K25 -> 19801493 | N25: =ROUND(K25,0) -> 19801493 | O25: =H25*N25 -> 19801493 | P25: =IF(N25<J25,"CUMPLE","NO CUMPLE") -> CUMPLE
B26: 25 | C26: Apoyo a celebraciones navideñas autónomas de los funcionarios ICANH | D26: Se dará apoyo a las actividades navideñas de los funcionarios con un obsequio para los niños que permita el fortalecimiento del encuentro emocional y familiar así como el respaldo institucional de la vida familiar de los trabajadorres | F26: 130 | G26: Obsequios | H26: 130 | I26: N/A | J26: 101842 | K26: 101542 | L26: =IF(K26>J26,"El precio ofertado sobrepasa el precio techo","") | M26: =H26*K26 -> 13200460 | N26: =ROUND(K26,0) -> 101542 | O26: =H26*N26 -> 13200460 | P26: =IF(N26<J26,"CUMPLE","NO CUMPLE") -> CUMPLE
B27: SUBTOTAL 1. BIENESTAR | M27: =SUM(M20:M26) -> 94073831 | O27: =SUM(O20:O26) -> 94073831
B28: 2. CAPACITACIÓN Nota 6 | N28: CORRECCIÓN ARITMÉTICA
B29: No. | C29: TEMA | D29: DESCRIPCIÓN GENERAL Notas 1, 2, 3, 4, 6 | F29: CANTIDAD ESTIMADA BENEFICIARIOS | G29: UNIDAD DE MEDIDA | H29: CANTIDAD REQUERIDA | I29: MODALIDAD | J29: PRECIO TECHO | K29: Precio unitario incluido IVA Notas 1, 2, 3, 4, 5 | L29: CONTROL | M29: Valor total IVA incluido | N29: PRECIO UNITARIO INCLUIDO IVA | O29: VALOR TOTAL INVA INCLUIDO
B30: 56 | C30: Sesiones Intensivas: Curso de Alturas | D30: Esta actividad formativa tiene un número total de 63 horas: -Zona sur de Colombia: Zona 1: San Agustín, Idolos y Piedras (21 horas) Para 7 servidores Zona 2: Tierradentro (21 horas) Para 7 servidores -Zona norte de Colombia: Zona 3: Teyuna (21 horas) Para 7 servidores Esta actividad formativa tiene un número total de 63 horas distribuidas en 3 grupos de 21 horas, cada uno con 3 sesiones de 7 horas por sesión, con periodicidad de 2 sesiones por mes ,en cada taller y la población beneficiaria programada será de 21 servidores aproximadamente. (Incluye elementos para la formación bajo modalidad presencial, como material didáctico físico y audiovisual, alimentación, hidratación y capacitador de acuerdo con lo dispuesto en el anexo único) | F30: 21 | G30: Actividad formativa de 63 horas | H30: 1 | I30: Presencial | J30: 43244811 | K30: 43144811 | L30: =IF(K30>J30,"El precio ofertado sobrepasa el precio techo","") | M30: =H30*K30 -> 43144811 | N30: =ROUND(K30,0) -> 43144811 | O30: =H30*N30 -> 43144811 | P30: =IF(N30<J30,"CUMPLE","NO CUMPLE") -> CUMPLE
B31: 57 | C31: Sesiones Intensivas: Curso en Operación y Mantenimiento de Sistemas de Tratamiento de Aguas Residuales (en Limpieza Pozos Sépticos) | D31: Esta actividad formativa tiene un número total de 63 horas: -Zona sur de Colombia: Zona 1: San Agustín, Idolos y Piedras (21 horas) Para 7 servidores Zona 2: Tierradentro (21 horas) Para 7 servidores -Zona norte de Colombia: Zona 3: Teyuna (21 horas) Para 7 servidores La 63 horas están distribuidas en 3 grupos de 21 horas, cada uno con 3 sesiones de 7 horas cada una, con periodicidad de 2 sesiones por mes en cada taller y la población beneficiaria programada será de 21 servidores aproximadamente. (Incluye elementos para la formación bajo modalidad virtual, como material audiovisual, y capacitador de acuerdo con lo dispuesto en el anexo único) | F31: 21 | G31: Actividad formativa de 63 horas | H31: 1 | I31: Virtual | J31: 15781835 | K31: 15731835 | L31: =IF(K31>J31,"El precio ofertado sobrepasa el precio techo","") | M31: =H31*K31 -> 15731835 | N31: =ROUND(K31,0) -> 15731835 | O31: =H31*N31 -> 15731835 | P31: =IF(N31<J31,"CUMPLE","NO CUMPLE") -> CUMPLE
B32: 58 | C32: Medición del Riesgo Psicosocial | D32: Se solicita desarrollar esta medición teniendo en cuenta como mínimo los siguientes criterios: 1. Identificación de los factores de riesgo psicosocial: Identificar las condiciones que las personas experimentan al relacionarse con el medio, el trabajo y la sociedad que les rodea. 2. Tiempo de exposición: Considerar el tiempo durante el cual los empleados están expuestos a los factores de riesgo psicosocial. 3. Frecuencia de presentación: Evaluar con qué frecuencia se presentan los factores de riesgo psicosocial. 4. Intensidad de la situación: Medir la intensidad de las situaciones que pueden convertirse en factores de riesgo psicosocial. 5. Potencial dañino: Evaluar el potencial dañino de los factores de riesgo psicosocial. 6. Significación para el individuo: Considerar cómo los factores de riesgo psicosocial afectan a cada individuo1. 7. Simultaneidad de dos o más factores de riesgo: Evaluar la presencia simultánea de dos o más factores de riesgo psicosocial. 8. Participación de los trabajadores: Involucrar a los trabajadores en el proceso de evaluación de los riesgos psicosociales. 9. Análisis de los datos e identificación de los riesgos: Realizar un análisis de los datos recogidos y identificar los riesgos psicosociales. 10. Sensibilización frente a la actividad a realizar a todos los trabajadores: Informar a todos los trabajadores sobre la actividad a realizar y obtener su consentimiento informado. La medición se realizará en la sede de Bogotá y los Parques Arqueológicos San Agustín, Tierradentro, Ídolos, Santa María Antigua del Darién y Teyuna. | F32: 111 | G32: Medición para un aproximado de 111 servidores | H32: 1 | I32: Presencial | J32: 1990878 | K32: 1980878 | L32: =IF(K32>J32,"El precio ofertado sobrepasa el precio techo","") | M32: =H32*K32 -> 1980878 | N32: =ROUND(K32,0) -> 1980878 | O32: =H32*N32 -> 1980878 | P32: =IF(N32<J32,"CUMPLE","NO CUMPLE") -> CUMPLE
B33: 59 | C33: Medición del Clima Laboral | D33: Se solicita desarrollar esta medición teniendo en cuenta como mínimo los siguientes criterios: 1. Orientación organizacional: Claridad de los servidores públicos sobre la misión, los objetivos, las estrategias, los valores y las políticas de una entidad. 2. Administración del talento humano: Nivel de percepción de los servidores públicos sobre los procesos organizacionales orientados a una adecuada ubicación de éstos en sus respectivos cargos y a su capacitación, bienestar y satisfacción. 3. Estilo de dirección: Conocimientos y habilidades gerenciales aplicadas en el desempeño de las funciones del área. 4. Comunicación e integración: Es el intercambio retroalimentador de ideas, pensamientos y sentimientos entre dos o más personas. 5. Trabajo en grupo: Es el realizado por un número determinado de personas que trabajan de manera interdependiente y aportando habilidades complementarias para el logro de un propósito común. 6. Capacidad profesional: Se refiere al conjunto de conocimientos, habilidades, motivaciones y comportamientos personales de los funcionarios. 7. Medio ambiente físico: Condiciones físicas que rodean el trabajo (iluminación, ventilación, estímulos visuales y auditivos, aseo, orden, seguridad, mantenimiento locativo) y que, en conjunto, inciden positiva o negativamente en el desempeño laboral de los servidores públicos. 8. Frecuencia de la medición: Según el Departamento Administrativo de la Función Pública, el clima laboral se debe medir en cada entidad por lo menos cada dos años. 9. Definición, ejecución y evaluación de estrategias de intervención: Una vez medida la situación del clima laboral, se deben definir, ejecutar y evaluar estrategias de intervención. | F33: 200 | G33: Medición para un aproximado de 200 servidores | H33: 1 | I33: Virtual | J33: 6461961 | K33: 6461761 | L33: =IF(K33>J33,"El precio ofertado sobrepasa el precio techo","") | M33: =H33*K33 -> 6461761 | N33: =ROUND(K33,0) -> 6461761 | O33: =H33*N33 -> 6461761 | P33: =IF(N33<J33,"CUMPLE","NO CUMPLE") -> CUMPLE
B34: SUBTOTAL 2. CAPACITACIÓN | M34: =SUM(M30:M33) -> 67319285 | O34: =SUM(O30:O33) -> 67319285
B35: 60 | C35: Imprevistos | D35: Almuerzos y cenas, refrigerios, servicio de transporte de personas y alquiler de salones | F35: N/A | G35: Unidad | H35: 1 | I35: N/A | J35: 12094804 | K35: 12074804 | L35: =IF(K35>J35,"El precio ofertado sobrepasa el precio techo","") | M35: =H35*K35 -> 12074804 | N35: =ROUND(K35,0) -> 12074804 | O35: =H35*N35 -> 12074804 | P35: =IF(N35=J35,"CUMPLE","NO CUMPLE") -> NO CUMPLE
B36: PRECIO TOTAL IVA INCLUIDO | M36: =M27+M34+M35 -> 173467920 | O36: =O27+O34+O35 -> 173467920
B38: DESCRIPCIÓN | D38: VALOR PRESUPUESTO | E38: DESCRIPCIÓN | G38: VALOR TOTAL OFERTA
B39: SUBTOTAL 1. BIENESTAR | D39: 94237131 | E39: SUBTOTAL 1. BIENESTAR | G39: =M27 -> 94073831
B40: SUBTOTAL 2. CAPACITACIÓN | D40: 67479485 | E40: SUBTOTAL 2. CAPACITACIÓN | G40: =M34 -> 67319285
B41: REQUERIMIENTOS ADICIONALES | D41: 12094804 | E41: IMPREVISTOS | G41: =M35 -> 12074804
B42: TOTAL OFERTA | D42: 173811420 | E42: TOTAL OFERTA | G42: =SUM(G39:G41) -> 173467920

Sheet 2. INDUHOTEL SAS
D2: República de Colombia
D3: Instituto Colombiano de Antropología e Historia
D4: SAMC-ICANH-005-2024
D5: Formato oferta económica
B7: Objeto | D7: Prestar los servicios para desarrollar el Plan Institucional de Capacitación y Bienestar del Instituto Colombiano de Antropología e Historia – ICANH para la vigencia 2024
B8: Nombre o Razón Social | D8: INDUHOTEL S.A.S | F8: NIT | L8: 900.300.970-1
B9: Persona de contacto | D9: CARLOS ANDRES SIERRA PAEZ | F9: Teléfono celular | L9: 316 8334406
B10: Correo electrónico | D10: docinduhotelsas@gmail.com | F10: Teléfono fijo | L10: (601) 884 9510
B12: Instrucciones para el diligenciamiento de la cotización
B14: • Por favor diligenciar solo las celdas en AZUL. • Los precios unitarios deberán ser expresado en PESOS COLOMBIANOS y en números entreros, los cuales deben incluir el IVA. • El formato contiene los insumos de costos estimados por el Instituto por lo tanto no se permite modificar, agregar o quitar ningún ítem o sub-ítem. • Para la estructuración de la propuesta por favor revisar detenidamente el documento anexo "Ficha técnica" y "Anexo único" • Los precios deberán aproximarse por exceso o por defecto al entero más cercano así: (i) si es igual o superior a 50 centavos, se aproxima al entero siguiente; (ii) si es inferior a 50 centavos se baja al entero anterior. • Los precios unitarios deben contemplar todos los rubros requeridos para la adecuada prestación del servicio y el cumplimiento de las obligaciones contractuales como lo son la trazabilidad del servicio, equipo mínimo, entre otros aspectos técnicos. • Los precios unitarios ofertados no pueden superar los precios techo establecidos. • Ningún ítem de la propuesta económica debe ser diligenciado con cero (0), so pena de ser rechazada.
B16: Notas: (1) Los valores unitarios deben incluir todos los costos y gastos directos e indirectos en que incurre el contratista durante la ejecución del contrato de acuerdo con las especificaciones de la ficha técnica, las obligaciones tributarias de acuerdo con las normas aplicables para el tipo de servicio y contrato correspondiente. (2) Es importante tener en cuenta todos los criterios técnicos establecidos en el documento "Anexo único - Acciones y actividades de capacitación y bienestar", así como lo establecido en la ficha técnica adjunta al proceso, lo anterior, con el fin de que se contemplen todos estos requerimientos técnicos en el valor unitario a cotizar para cada temática general en los componentes de "Bienestar" y "Capacitación". (3) Para todas las actividades o eventos se deberá tener en cuenta el cargo de los espacios, escenarios, plazoletas, salones y demás para la realización de las actividades de bienestar y capacitación. (4) Se recuerda que la ejecución requiere de un equipo mínimo de trabajo, el cual se encuentra establecido en la ficha técnica del proceso, por lo que se debe contemplar este requerimiento dentro del valor unitario. (5) Tener en cuenta que de cada temática general se despliega una serie de actividades que contemplan distinta cantidad de beneficiarios de la actividad, así como la unidad de medida y la cantidad requerida frente a esta medida, sin embargo, el valor unitario se debe establecer conforme a la actividad general y no frente al desagregado de esta. (6) Por favor ofertar los dos componentes "Bienestar" y "Capacitación" (7) Es importante resaltar que para la actividad navideña, se requiere del suministro de una cantidad estimada de regalos, los cuales debe cumplir con los requerimientos técnicos establecidos en la ficha técnica. (8) En el presente formato de oferta económica se encuentran notas en negrita y con subrayado para algunos ítems, los aspectos señalados en las notas son algunos de los requerimientos técnicos que se tienen para el ítem, por lo que es importante contemplarlos dentro del valor unitario a ofertar, conforme con lo establecido en la ficha técnica y en el anexo único.
B18: 1. BIENESTAR Nota 6 | N18: CORRECCIÓN ARITMÉTICA
B19: No. | C19: TEMA | D19: DESCRIPCIÓN GENERAL Notas 1, 2, 3, 4, 5 | F19: CANTIDAD ESTIMADA BENEFICIARIOS | G19: UNIDAD DE MEDIDA | H19: CANTIDAD REQUERIDA | I19: MODALIDAD | J19: PRECIO TECHO | K19: Precio unitario incluido IVA Notas 1, 2, 3, 4, 5 | L19: CONTROL | M19: Valor total IVA incluido | N19: PRECIO UNITARIO INCLUIDO IVA | O19: VALOR TOTAL INVA INCLUIDO | P19: CUMPLE / NO CUMPLE
B20: 1 | C20: Semana Creativa y Cultural. | D20: Actividad de bienestar tipo conmemoración que desarrolle entre otros, principalmente temas relacionados con una semana de vacaciones creativas y culturales para grupos entre 25 a 30 niños, actividades de la semana de receso | E20: jornada 1: - actividad de reconocimiento patrimonial y recorrido patrimonial por el centro histórico y recreación (taller de máscaras) en el centro histórico (niños) (incluye 2 refrigerios y materiales) | F20: 30 | G20: Jornada | H20: 1 | I20: Presencial | J20: 5679545 | K20: =5679545*0.9 -> 5111590.5 | L20: =IF(K20>J20,"El precio ofertado sobrepasa el precio techo","") | M20: =H20*K20 -> 5111590.5 | N20: =ROUND(K20,0) -> 5111591 | O20: =H20*N20 -> 5111591 | P20: =IF(N20<=J20,"CUMPLE","NO CUMPLE") -> CUMPLE
B21: 2 | C21: Día de la Familia | D21: Actividad de bienestar tipo conmemoración que desarrolle entre otros, principalmente temas relacionados con el día de la familia se celebrará a partir de la entrega de pases o pasadías en 2 tipos de actividades. | E21: Opción 1. Brazaletes para la entrada a un parque de diversiones (entre semana de miércoles a viernes). | F21: 41 | G21: Brazaletes | H21: 41 | I21: N/A | J21: 80375 | K21: =80375*0.9 -> 72337.5 | L21: =IF(K21>J21,"El precio ofertado sobrepasa el precio techo","") | M21: =H21*K21 -> 2965837.5 | N21: =ROUND(K21,0) -> 72338 | O21: =H21*N21 -> 2965858 | P21: =IF(N21<=J21,"CUMPLE","NO CUMPLE") -> CUMPLE
B22: 5 | C22: Bonos de Estímulo por Labor Destacada | D22: Actividad de bienestar tipo fortalecimiento de la labor destacada que desarrolle entre otros, el cruce con los cumpleaños del funcionario: Con ocasión de estimular el trabajo y entrega de eficientes productos laborales, así como en respuesta y aprobación por su aporte al mejoramiento del clima laboral se entregará a cada trabajador un bono de 4 tipologías de servicio recreativo que estimulen su ánimo laboral. A libre elección del servidor sobre las opciones presentadas. | E22: Se hará entrega a cada trabajador una entrada para SPA, con ocasión de la conmemoración del cumpleaños del servidor. | F22: 41 | G22: Entrada | H22: 41 | I22: N/A | J22: 231179 | K22: 231179 | L22: =IF(K22>J22,"El precio ofertado sobrepasa el precio techo","") | M22: =H22*K22 -> 9478339 | N22: =ROUND(K22,0) -> 231179 | O22: =H22*N22 -> 9478339 | P22: =IF(N22<=J22,"CUMPLE","NO CUMPLE") -> CUMPLE
E23: Se hará entrega a cada servidor de planta una entrada para dos personas a cine 2D con combo de crispetas y gaseosa pequeña, con ocasión de la conmemoración del cumpleaños del servidor. | F23: 40 | G23: Entrada | H23: 40 | I23: N/A | J23: 66710 | K23: 66710 | L23: =IF(K23>J23,"El precio ofertado sobrepasa el precio techo","") | M23: =H23*K23 -> 2668400 | N23: =ROUND(K23,0) -> 66710 | O23: =H23*N23 -> 2668400 | P23: =IF(N23<=J23,"CUMPLE","NO CUMPLE") -> CUMPLE
B24: 24 | C24: Cierre de gestión | D24: Actividad de cierre de gestión para 130 personas, conforme a lo establecido en el anexo único de la ficha técnica. Incluye logística, transporte, alimentación, escenarios de uso exclusivo para el ICANH y recreación dirigida. | F24: 130 | G24: Actividad de cierre de gestión | H24: 1 | I24: Presencial | J24: 40054519 | K24: =40054519*0.9 -> 36049067 | L24: =IF(K24>J24,"El precio ofertado sobrepasa el precio techo","") | M24: =H24*K24 -> 36049067 | N24: =ROUND(K24,0) -> 36049067 | O24: =H24*N24 -> 36049067 | P24: =IF(N24<=J24,"CUMPLE","NO CUMPLE") -> CUMPLE
D25: Actividad de cierre de gestión para 37 personas, conforme a lo establecido en el anexo único de la ficha técnica. Incluye logística, transporte, alimentación, escenarios de uso exclusivo para el ICANH y recreación dirigida. | F25: 37 | G25: Actividad de cierre de gestión | H25: 1 | I25: Presencial | J25: 19821493 | K25: =19821493*0.9 -> 17839344 | L25: =IF(K25>J25,"El precio ofertado sobrepasa el precio techo","") | M25: =H25*K25 -> 17839344 | N25: =ROUND(K25,0) -> 17839344 | O25: =H25*N25 -> 17839344 | P25: =IF(N25<=J25,"CUMPLE","NO CUMPLE") -> CUMPLE
B26: 25 | C26: Apoyo a celebraciones navideñas autónomas de los funcionarios ICANH | D26: Se dará apoyo a las actividades navideñas de los funcionarios con un obsequio para los niños que permita el fortalecimiento del encuentro emocional y familiar así como el respaldo institucional de la vida familiar de los trabajadorres | F26: 130 | G26: Obsequios | H26: 130 | I26: N/A | J26: 101842 | K26: =101842*0.9 -> 91657.8 | L26: =IF(K26>J26,"El precio ofertado sobrepasa el precio techo","") | M26: =H26*K26 -> 11915514 | N26: =ROUND(K26,0) -> 91658 | O26: =H26*N26 -> 11915540 | P26: =IF(N26<=J26,"CUMPLE","NO CUMPLE") -> CUMPLE
B27: SUBTOTAL 1. BIENESTAR | M27: =SUM(M20:M26) -> 86028092 | O27: =SUM(O20:O26) -> 86028139
B28: 2. CAPACITACIÓN Nota 6 | N28: CORRECCIÓN ARITMÉTICA
B29: No. | C29: TEMA | D29: DESCRIPCIÓN GENERAL Notas 1, 2, 3, 4, 6 | F29: CANTIDAD ESTIMADA BENEFICIARIOS | G29: UNIDAD DE MEDIDA | H29: CANTIDAD REQUERIDA | I29: MODALIDAD | J29: PRECIO TECHO | K29: Precio unitario incluido IVA Notas 1, 2, 3, 4, 5 | L29: CONTROL | M29: Valor total IVA incluido | N29: PRECIO UNITARIO INCLUIDO IVA | O29: VALOR TOTAL INVA INCLUIDO
B30: 56 | C30: Sesiones Intensivas: Curso de Alturas | D30: Esta actividad formativa tiene un número total de 63 horas: -Zona sur de Colombia: Zona 1: San Agustín, Idolos y Piedras (21 horas) Para 7 servidores Zona 2: Tierradentro (21 horas) Para 7 servidores -Zona norte de Colombia: Zona 3: Teyuna (21 horas) Para 7 servidores Esta actividad formativa tiene un número total de 63 horas distribuidas en 3 grupos de 21 horas, cada uno con 3 sesiones de 7 horas por sesión, con periodicidad de 2 sesiones por mes ,en cada taller y la población beneficiaria programada será de 21 servidores aproximadamente. (Incluye elementos para la formación bajo modalidad presencial, como material didáctico físico y audiovisual, alimentación, hidratación y capacitador de acuerdo con lo dispuesto en el anexo único) | F30: 21 | G30: Actividad formativa de 63 horas | H30: 1 | I30: Presencial | J30: 43244811 | K30: =43244811*0.91 -> 39352778 | L30: =IF(K30>J30,"El precio ofertado sobrepasa el precio techo","") | M30: =H30*K30 -> 39352778 | N30: =ROUND(K30,0) -> 39352778 | O30: =H30*N30 -> 39352778 | P30: =IF(N30<=J30,"CUMPLE","NO CUMPLE") -> CUMPLE
B31: 57 | C31: Sesiones Intensivas: Curso en Operación y Mantenimiento de Sistemas de Tratamiento de Aguas Residuales (en Limpieza Pozos Sépticos) | D31: Esta actividad formativa tiene un número total de 63 horas: -Zona sur de Colombia: Zona 1: San Agustín, Idolos y Piedras (21 horas) Para 7 servidores Zona 2: Tierradentro (21 horas) Para 7 servidores -Zona norte de Colombia: Zona 3: Teyuna (21 horas) Para 7 servidores La 63 horas están distribuidas en 3 grupos de 21 horas, cada uno con 3 sesiones de 7 horas cada una, con periodicidad de 2 sesiones por mes en cada taller y la población beneficiaria programada será de 21 servidores aproximadamente. (Incluye elementos para la formación bajo modalidad virtual, como material audiovisual, y capacitador de acuerdo con lo dispuesto en el anexo único) | F31: 21 | G31: Actividad formativa de 63 horas | H31: 1 | I31: Virtual | J31: 15781835 | K31: =15781835*0.92 -> 14519288 | L31: =IF(K31>J31,"El precio ofertado sobrepasa el precio techo","") | M31: =H31*K31 -> 14519288 | N31: =ROUND(K31,0) -> 14519288 | O31: =H31*N31 -> 14519288 | P31: =IF(N31<=J31,"CUMPLE","NO CUMPLE") -> CUMPLE
B32: 58 | C32: Medición del Riesgo Psicosocial | D32: Se solicita desarrollar esta medición teniendo en cuenta como mínimo los siguientes criterios: 1. Identificación de los factores de riesgo psicosocial: Identificar las condiciones que las personas experimentan al relacionarse con el medio, el trabajo y la sociedad que les rodea. 2. Tiempo de exposición: Considerar el tiempo durante el cual los empleados están expuestos a los factores de riesgo psicosocial. 3. Frecuencia de presentación: Evaluar con qué frecuencia se presentan los factores de riesgo psicosocial. 4. Intensidad de la situación: Medir la intensidad de las situaciones que pueden convertirse en factores de riesgo psicosocial. 5. Potencial dañino: Evaluar el potencial dañino de los factores de riesgo psicosocial. 6. Significación para el individuo: Considerar cómo los factores de riesgo psicosocial afectan a cada individuo1. 7. Simultaneidad de dos o más factores de riesgo: Evaluar la presencia simultánea de dos o más factores de riesgo psicosocial. 8. Participación de los trabajadores: Involucrar a los trabajadores en el proceso de evaluación de los riesgos psicosociales. 9. Análisis de los datos e identificación de los riesgos: Realizar un análisis de los datos recogidos y identificar los riesgos psicosociales. 10. Sensibilización frente a la actividad a realizar a todos los trabajadores: Informar a todos los trabajadores sobre la actividad a realizar y obtener su consentimiento informado. La medición se realizará en la sede de Bogotá y los Parques Arqueológicos San Agustín, Tierradentro, Ídolos, Santa María Antigua del Darién y Teyuna. | F32: 111 | G32: Medición para un aproximado de 111 servidores | H32: 1 | I32: Presencial | J32: 1990878 | K32: =1990878*0.92 -> 1831607.8 | L32: =IF(K32>J32,"El precio ofertado sobrepasa el precio techo","") | M32: =H32*K32 -> 1831607.8 | N32: =ROUND(K32,0) -> 1831608 | O32: =H32*N32 -> 1831608 | P32: =IF(N32<=J32,"CUMPLE","NO CUMPLE") -> CUMPLE
B33: 59 | C33: Medición del Clima Laboral | D33: Se solicita desarrollar esta medición teniendo en cuenta como mínimo los siguientes criterios: 1. Orientación organizacional: Claridad de los servidores públicos sobre la misión, los objetivos, las estrategias, los valores y las políticas de una entidad. 2. Administración del talento humano: Nivel de percepción de los servidores públicos sobre los procesos organizacionales orientados a una adecuada ubicación de éstos en sus respectivos cargos y a su capacitación, bienestar y satisfacción. 3. Estilo de dirección: Conocimientos y habilidades gerenciales aplicadas en el desempeño de las funciones del área. 4. Comunicación e integración: Es el intercambio retroalimentador de ideas, pensamientos y sentimientos entre dos o más personas. 5. Trabajo en grupo: Es el realizado por un número determinado de personas que trabajan de manera interdependiente y aportando habilidades complementarias para el logro de un propósito común. 6. Capacidad profesional: Se refiere al conjunto de conocimientos, habilidades, motivaciones y comportamientos personales de los funcionarios. 7. Medio ambiente físico: Condiciones físicas que rodean el trabajo (iluminación, ventilación, estímulos visuales y auditivos, aseo, orden, seguridad, mantenimiento locativo) y que, en conjunto, inciden positiva o negativamente en el desempeño laboral de los servidores públicos. 8. Frecuencia de la medición: Según el Departamento Administrativo de la Función Pública, el clima laboral se debe medir en cada entidad por lo menos cada dos años. 9. Definición, ejecución y evaluación de estrategias de intervención: Una vez medida la situación del clima laboral, se deben definir, ejecutar y evaluar estrategias de intervención. | F33: 200 | G33: Medición para un aproximado de 200 servidores | H33: 1 | I33: Virtual | J33: 6461961 | K33: =6461961*0.9 -> 5815764.9 | L33: =IF(K33>J33,"El precio ofertado sobrepasa el precio techo","") | M33: =H33*K33 -> 5815764.9 | N33: =ROUND(K33,0) -> 5815765 | O33: =H33*N33 -> 5815765 | P33: =IF(N33<=J33,"CUMPLE","NO CUMPLE") -> CUMPLE
B34: SUBTOTAL 2. CAPACITACIÓN | M34: =SUM(M30:M33) -> 61519439 | O34: =SUM(O30:O33) -> 61519439
B35: 60 | C35: Imprevistos | D35: Almuerzos y cenas, refrigerios, servicio de transporte de personas y alquiler de salones | F35: N/A | G35: Unidad | H35: 1 | I35: N/A | J35: 12094804 | K35: 12094804 | L35: =IF(K35>J35,"El precio ofertado sobrepasa el precio techo","") | M35: =H35*K35 -> 12094804 | N35: =ROUND(K35,0) -> 12094804 | O35: =H35*N35 -> 12094804 | P35: =IF(N35<=J35,"CUMPLE","NO CUMPLE") -> CUMPLE
B36: PRECIO TOTAL IVA INCLUIDO | M36: =M27+M34+M35 -> 1.5964233e+08 | O36: =O27+O34+O35 -> 159642382
B38: DESCRIPCIÓN | D38: VALOR PRESUPUESTO | E38: DESCRIPCIÓN | G38: VALOR TOTAL OFERTA
B39: SUBTOTAL 1. BIENESTAR | D39: 94237131 | E39: SUBTOTAL 1. BIENESTAR | G39: =M27 -> 86028092
B40: SUBTOTAL 2. CAPACITACIÓN | D40: 67479485 | E40: SUBTOTAL 2. CAPACITACIÓN | G40: =M34 -> 61519439
B41: REQUERIMIENTOS ADICIONALES | D41: 12094804 | E41: IMPREVISTOS | G41: =M35 -> 12094804
B42: TOTAL OFERTA | D42: 173811420 | E42: TOTAL OFERTA | G42: =SUM(G39:G41) -> 1.5964233e+08

Sheet 3. ESTRATEGIA Y LOGISTICA DE EV
D2: República de Colombia
D3: Instituto Colombiano de Antropología e Historia
D4: SAMC-ICANH-005-2024
D5: Formato oferta económica
B7: Objeto | D7: Prestar los servicios para desarrollar el Plan Institucional de Capacitación y Bienestar del Instituto Colombiano de Antropología e Historia – ICANH para la vigencia 2024
B8: Nombre o Razón Social | D8: ESTRATEGIA Y LOGISTICA DE EVENTOS | F8: NIT
B9: Persona de contacto | D9: JORGE EDISON GOMEZ GOMEZ | F9: Teléfono celular
B10: Correo electrónico | D10: licitaciones@estrategiaylogistica.com | F10: Teléfono fijo
B12: Instrucciones para el diligenciamiento de la cotización
B14: • Por favor diligenciar solo las celdas en AZUL. • Los precios unitarios deberán ser expresado en PESOS COLOMBIANOS y en números entreros, los cuales deben incluir el IVA. • El formato contiene los insumos de costos estimados por el Instituto por lo tanto no se permite modificar, agregar o quitar ningún ítem o sub-ítem. • Para la estructuración de la propuesta por favor revisar detenidamente el documento anexo "Ficha técnica" y "Anexo único" • Los precios deberán aproximarse por exceso o por defecto al entero más cercano así: (i) si es igual o superior a 50 centavos, se aproxima al entero siguiente; (ii) si es inferior a 50 centavos se baja al entero anterior. • Los precios unitarios deben contemplar todos los rubros requeridos para la adecuada prestación del servicio y el cumplimiento de las obligaciones contractuales como lo son la trazabilidad del servicio, equipo mínimo, entre otros aspectos técnicos. • Los precios unitarios ofertados no pueden superar los precios techo establecidos. • Ningún ítem de la propuesta económica debe ser diligenciado con cero (0), so pena de ser rechazada.
B16: Notas: (1) Los valores unitarios deben incluir todos los costos y gastos directos e indirectos en que incurre el contratista durante la ejecución del contrato de acuerdo con las especificaciones de la ficha técnica, las obligaciones tributarias de acuerdo con las normas aplicables para el tipo de servicio y contrato correspondiente. (2) Es importante tener en cuenta todos los criterios técnicos establecidos en el documento "Anexo único - Acciones y actividades de capacitación y bienestar", así como lo establecido en la ficha técnica adjunta al proceso, lo anterior, con el fin de que se contemplen todos estos requerimientos técnicos en el valor unitario a cotizar para cada temática general en los componentes de "Bienestar" y "Capacitación". (3) Para todas las actividades o eventos se deberá tener en cuenta el cargo de los espacios, escenarios, plazoletas, salones y demás para la realización de las actividades de bienestar y capacitación. (4) Se recuerda que la ejecución requiere de un equipo mínimo de trabajo, el cual se encuentra establecido en la ficha técnica del proceso, por lo que se debe contemplar este requerimiento dentro del valor unitario. (5) Tener en cuenta que de cada temática general se despliega una serie de actividades que contemplan distinta cantidad de beneficiarios de la actividad, así como la unidad de medida y la cantidad requerida frente a esta medida, sin embargo, el valor unitario se debe establecer conforme a la actividad general y no frente al desagregado de esta. (6) Por favor ofertar los dos componentes "Bienestar" y "Capacitación" (7) Es importante resaltar que para la actividad navideña, se requiere del suministro de una cantidad estimada de regalos, los cuales debe cumplir con los requerimientos técnicos establecidos en la ficha técnica. (8) En el presente formato de oferta económica se encuentran notas en negrita y con subrayado para algunos ítems, los aspectos señalados en las notas son algunos de los requerimientos técnicos que se tienen para el ítem, por lo que es importante contemplarlos dentro del valor unitario a ofertar, conforme con lo establecido en la ficha técnica y en el anexo único.
B18: 1. BIENESTAR Nota 6 | N18: CORRECCIÓN ARITMÉTICA
B19: No. | C19: TEMA | D19: DESCRIPCIÓN GENERAL Notas 1, 2, 3, 4, 5 | F19: CANTIDAD ESTIMADA BENEFICIARIOS | G19: UNIDAD DE MEDIDA | H19: CANTIDAD REQUERIDA | I19: MODALIDAD | J19: PRECIO TECHO | K19: Precio unitario incluido IVA Notas 1, 2, 3, 4, 5 | L19: CONTROL | M19: Valor total IVA incluido | N19: PRECIO UNITARIO INCLUIDO IVA | O19: VALOR TOTAL INVA INCLUIDO | P19: CUMPLE / NO CUMPLE
B20: 1 | C20: Semana Creativa y Cultural. | D20: Actividad de bienestar tipo conmemoración que desarrolle entre otros, principalmente temas relacionados con una semana de vacaciones creativas y culturales para grupos entre 25 a 30 niños, actividades de la semana de receso | E20: jornada 1: - actividad de reconocimiento patrimonial y recorrido patrimonial por el centro histórico y recreación (taller de máscaras) en el centro histórico (niños) (incluye 2 refrigerios y materiales) | F20: 30 | G20: Jornada | H20: 1 | I20: Presencial | J20: 5679545 | K20: 5111590.5 | L20: =IF(K20>J20,"El precio ofertado sobrepasa el precio techo","") | M20: =H20*K20 -> 5111590.5 | N20: =ROUND(K20,0) -> 5111591 | O20: =H20*N20 -> 5111591 | P20: =IF(N20<=J20,"CUMPLE","NO CUMPLE") -> CUMPLE
B21: 2 | C21: Día de la Familia | D21: Actividad de bienestar tipo conmemoración que desarrolle entre otros, principalmente temas relacionados con el día de la familia se celebrará a partir de la entrega de pases o pasadías en 2 tipos de actividades. | E21: Opción 1. Brazaletes para la entrada a un parque de diversiones (entre semana de miércoles a viernes). | F21: 41 | G21: Brazaletes | H21: 41 | I21: N/A | J21: 80375 | K21: 72337.5 | L21: =IF(K21>J21,"El precio ofertado sobrepasa el precio techo","") | M21: =H21*K21 -> 2965837.5 | N21: =ROUND(K21,0) -> 72338 | O21: =H21*N21 -> 2965858 | P21: =IF(N21<=J21,"CUMPLE","NO CUMPLE") -> CUMPLE
B22: 5 | C22: Bonos de Estímulo por Labor Destacada | D22: Actividad de bienestar tipo fortalecimiento de la labor destacada que desarrolle entre otros, el cruce con los cumpleaños del funcionario: Con ocasión de estimular el trabajo y entrega de eficientes productos laborales, así como en respuesta y aprobación por su aporte al mejoramiento del clima laboral se entregará a cada trabajador un bono de 4 tipologías de servicio recreativo que estimulen su ánimo laboral. A libre elección del servidor sobre las opciones presentadas. | E22: Se hará entrega a cada trabajador una entrada para SPA, con ocasión de la conmemoración del cumpleaños del servidor. | F22: 41 | G22: Entrada | H22: 41 | I22: N/A | J22: 231179 | K22: 184943.2 | L22: =IF(K22>J22,"El precio ofertado sobrepasa el precio techo","") | M22: =H22*K22 -> 7582671.2 | N22: =ROUND(K22,0) -> 184943 | O22: =H22*N22 -> 7582663 | P22: =IF(N22<=J22,"CUMPLE","NO CUMPLE") -> CUMPLE
E23: Se hará entrega a cada servidor de planta una entrada para dos personas a cine 2D con combo de crispetas y gaseosa pequeña, con ocasión de la conmemoración del cumpleaños del servidor. | F23: 40 | G23: Entrada | H23: 40 | I23: N/A | J23: 66710 | K23: 66710 | L23: =IF(K23>J23,"El precio ofertado sobrepasa el precio techo","") | M23: =H23*K23 -> 2668400 | N23: =ROUND(K23,0) -> 66710 | O23: =H23*N23 -> 2668400 | P23: =IF(N23<=J23,"CUMPLE","NO CUMPLE") -> CUMPLE
B24: 24 | C24: Cierre de gestión | D24: Actividad de cierre de gestión para 130 personas, conforme a lo establecido en el anexo único de la ficha técnica. Incluye logística, transporte, alimentación, escenarios de uso exclusivo para el ICANH y recreación dirigida. | F24: 130 | G24: Actividad de cierre de gestión | H24: 1 | I24: Presencial | J24: 40054519 | K24: 36049067 | L24: =IF(K24>J24,"El precio ofertado sobrepasa el precio techo","") | M24: =H24*K24 -> 36049067 | N24: =ROUND(K24,0) -> 36049067 | O24: =H24*N24 -> 36049067 | P24: =IF(N24<=J24,"CUMPLE","NO CUMPLE") -> CUMPLE
D25: Actividad de cierre de gestión para 37 personas, conforme a lo establecido en el anexo único de la ficha técnica. Incluye logística, transporte, alimentación, escenarios de uso exclusivo para el ICANH y recreación dirigida. | F25: 37 | G25: Actividad de cierre de gestión | H25: 1 | I25: Presencial | J25: 19821493 | K25: 15857194 | L25: =IF(K25>J25,"El precio ofertado sobrepasa el precio techo","") | M25: =H25*K25 -> 15857194 | N25: =ROUND(K25,0) -> 15857194 | O25: =H25*N25 -> 15857194 | P25: =IF(N25<=J25,"CUMPLE","NO CUMPLE") -> CUMPLE
B26: 25 | C26: Apoyo a celebraciones navideñas autónomas de los funcionarios ICANH | D26: Se dará apoyo a las actividades navideñas de los funcionarios con un obsequio para los niños que permita el fortalecimiento del encuentro emocional y familiar así como el respaldo institucional de la vida familiar de los trabajadorres | F26: 130 | G26: Obsequios | H26: 130 | I26: N/A | J26: 101842 | K26: 91657.8 | L26: =IF(K26>J26,"El precio ofertado sobrepasa el precio techo","") | M26: =H26*K26 -> 11915514 | N26: =ROUND(K26,0) -> 91658 | O26: =H26*N26 -> 11915540 | P26: =IF(N26<=J26,"CUMPLE","NO CUMPLE") -> CUMPLE
B27: SUBTOTAL 1. BIENESTAR | M27: =SUM(M20:M26) -> 82150275 | O27: =SUM(O20:O26) -> 82150313
B28: 2. CAPACITACIÓN Nota 6 | N28: CORRECCIÓN ARITMÉTICA
B29: No. | C29: TEMA | D29: DESCRIPCIÓN GENERAL Notas 1, 2, 3, 4, 6 | F29: CANTIDAD ESTIMADA BENEFICIARIOS | G29: UNIDAD DE MEDIDA | H29: CANTIDAD REQUERIDA | I29: MODALIDAD | J29: PRECIO TECHO | K29: Precio unitario incluido IVA Notas 1, 2, 3, 4, 5 | L29: CONTROL | M29: Valor total IVA incluido | N29: PRECIO UNITARIO INCLUIDO IVA | O29: VALOR TOTAL INVA INCLUIDO
B30: 56 | C30: Sesiones Intensivas: Curso de Alturas | D30: Esta actividad formativa tiene un número total de 63 horas: -Zona sur de Colombia: Zona 1: San Agustín, Idolos y Piedras (21 horas) Para 7 servidores Zona 2: Tierradentro (21 horas) Para 7 servidores -Zona norte de Colombia: Zona 3: Teyuna (21 horas) Para 7 servidores Esta actividad formativa tiene un número total de 63 horas distribuidas en 3 grupos de 21 horas, cada uno con 3 sesiones de 7 horas por sesión, con periodicidad de 2 sesiones por mes ,en cada taller y la población beneficiaria programada será de 21 servidores aproximadamente. (Incluye elementos para la formación bajo modalidad presencial, como material didáctico físico y audiovisual, alimentación, hidratación y capacitador de acuerdo con lo dispuesto en el anexo único) | F30: 21 | G30: Actividad formativa de 63 horas | H30: 1 | I30: Presencial | J30: 43244811 | K30: 34595849 | L30: =IF(K30>J30,"El precio ofertado sobrepasa el precio techo","") | M30: =H30*K30 -> 34595849 | N30: =ROUND(K30,0) -> 34595849 | O30: =H30*N30 -> 34595849 | P30: =IF(N30<=J30,"CUMPLE","NO CUMPLE") -> CUMPLE
