Workbook
Name AnticipoM1: POA!$E$3
Name AnticipoM2: POA!#REF!
Name AnticipoM3: POA!#REF!
Name AnticipoM4: POA!#REF!
Name AnticipoM5: POA!#REF!
Name lnkReplyLink_0_7: RESUMEN!$B$11
Name prueba: #REF!
Name SALACTUAL: SMMLV!$B$3
Name SALANTERIOR: SMMLV!$B$2

Sheet POA
B2: Modulo | C2: PO | D2: PLAZO | E2: ANTICIPO | F2: SMMLV | G2: Capital de Trabajo Demandado
B3: 1 | C3: 3031202957 | D3: 5 | E3: =+POA[[#This Row],[PO]]*0.2 -> 6.0624059e+08 | F3: =C3/1300000 -> 2331.6946 | G3: =IF(OR(C3="",D3=""),"",IF(POA[[#This Row],[PLAZO]]>=12,(POA[[#This Row],[PO]]/POA[[#This Row],[PLAZO]])*3,IF(POA[[#This Row],[SMMLV]]<=5000,10%*POA[[#This Row],[PO]],IF(AND(POA[[#This Row],[SMMLV]]>=5001,POA[[#This Row],[SMMLV]]<=10000),POA[[#This Row],[PO]]*20%,POA[[#This Row],[PO]]*30%)))) -> 3.031203e+08
B4: 2 | C4: 1797292893 | D4: 5 | E4: =+POA[[#This Row],[PO]]*0.2 -> 3.5945858e+08 | F4: =C4/1300000 -> 1382.533 | G4: =IF(OR(C4="",D4=""),"",IF(POA[[#This Row],[PLAZO]]>=12,(POA[[#This Row],[PO]]/POA[[#This Row],[PLAZO]])*3,IF(POA[[#This Row],[SMMLV]]<=5000,10%*POA[[#This Row],[PO]],IF(AND(POA[[#This Row],[SMMLV]]>=5001,POA[[#This Row],[SMMLV]]<=10000),POA[[#This Row],[PO]]*20%,POA[[#This Row],[PO]]*30%)))) -> 1.7972929e+08
B5: 3 | C5: 1522205504 | D5: 5 | E5: =+POA[[#This Row],[PO]]*0.2 -> 3.044411e+08 | F5: =C5/1300000 -> 1170.9273 | G5: =IF(OR(C5="",D5=""),"",IF(POA[[#This Row],[PLAZO]]>=12,(POA[[#This Row],[PO]]/POA[[#This Row],[PLAZO]])*3,IF(POA[[#This Row],[SMMLV]]<=5000,10%*POA[[#This Row],[PO]],IF(AND(POA[[#This Row],[SMMLV]]>=5001,POA[[#This Row],[SMMLV]]<=10000),POA[[#This Row],[PO]]*20%,POA[[#This Row],[PO]]*30%)))) -> 1.5222055e+08
B6: 4 | C6: 1378467964 | D6: 5 | E6: =+POA[[#This Row],[PO]]*0.2 -> 2.7569359e+08 | F6: =C6/1300000 -> 1060.36 | G6: =IF(OR(C6="",D6=""),"",IF(POA[[#This Row],[PLAZO]]>=12,(POA[[#This Row],[PO]]/POA[[#This Row],[PLAZO]])*3,IF(POA[[#This Row],[SMMLV]]<=5000,10%*POA[[#This Row],[PO]],IF(AND(POA[[#This Row],[SMMLV]]>=5001,POA[[#This Row],[SMMLV]]<=10000),POA[[#This Row],[PO]]*20%,POA[[#This Row],[PO]]*30%)))) -> 1.378468e+08
B7: 5 | C7: 1348402734 | D7: 5 | E7: =+POA[[#This Row],[PO]]*0.2 -> 2.6968055e+08 | F7: =C7/1300000 -> 1037.2329 | G7: =IF(OR(C7="",D7=""),"",IF(POA[[#This Row],[PLAZO]]>=12,(POA[[#This Row],[PO]]/POA[[#This Row],[PLAZO]])*3,IF(POA[[#This Row],[SMMLV]]<=5000,10%*POA[[#This Row],[PO]],IF(AND(POA[[#This Row],[SMMLV]]>=5001,POA[[#This Row],[SMMLV]]<=10000),POA[[#This Row],[PO]]*20%,POA[[#This Row],[PO]]*30%)))) -> 1.3484027e+08
B8: 6 | C8: 1264100957 | D8: 5 | E8: =+POA[[#This Row],[PO]]*0.2 -> 2.5282019e+08 | F8: =C8/1300000 -> 972.38535 | G8: =IF(OR(C8="",D8=""),"",IF(POA[[#This Row],[PLAZO]]>=12,(POA[[#This Row],[PO]]/POA[[#This Row],[PLAZO]])*3,IF(POA[[#This Row],[SMMLV]]<=5000,10%*POA[[#This Row],[PO]],IF(AND(POA[[#This Row],[SMMLV]]>=5001,POA[[#This Row],[SMMLV]]<=10000),POA[[#This Row],[PO]]*20%,POA[[#This Row],[PO]]*30%)))) -> 1.264101e+08
B9: 7 | C9: 1167015102 | D9: 5 | E9: =+POA[[#This Row],[PO]]*0.2 -> 2.3340302e+08 | F9: =C9/1300000 -> 897.70392 | G9: =IF(OR(C9="",D9=""),"",IF(POA[[#This Row],[PLAZO]]>=12,(POA[[#This Row],[PO]]/POA[[#This Row],[PLAZO]])*3,IF(POA[[#This Row],[SMMLV]]<=5000,10%*POA[[#This Row],[PO]],IF(AND(POA[[#This Row],[SMMLV]]>=5001,POA[[#This Row],[SMMLV]]<=10000),POA[[#This Row],[PO]]*20%,POA[[#This Row],[PO]]*30%)))) -> 1.1670151e+08
B10: 8 | C10: 1146992897 | D10: 5 | E10: =+POA[[#This Row],[PO]]*0.2 -> 2.2939858e+08 | F10: =C10/1300000 -> 882.30223 | G10: =IF(OR(C10="",D10=""),"",IF(POA[[#This Row],[PLAZO]]>=12,(POA[[#This Row],[PO]]/POA[[#This Row],[PLAZO]])*3,IF(POA[[#This Row],[SMMLV]]<=5000,10%*POA[[#This Row],[PO]],IF(AND(POA[[#This Row],[SMMLV]]>=5001,POA[[#This Row],[SMMLV]]<=10000),POA[[#This Row],[PO]]*20%,POA[[#This Row],[PO]]*30%)))) -> 1.1469929e+08
B11: 9 | C11: 1077361989 | D11: 5 | E11: =+POA[[#This Row],[PO]]*0.2 -> 2.154724e+08 | F11: =C11/1300000 -> 828.73999 | G11: =IF(OR(C11="",D11=""),"",IF(POA[[#This Row],[PLAZO]]>=12,(POA[[#This Row],[PO]]/POA[[#This Row],[PLAZO]])*3,IF(POA[[#This Row],[SMMLV]]<=5000,10%*POA[[#This Row],[PO]],IF(AND(POA[[#This Row],[SMMLV]]>=5001,POA[[#This Row],[SMMLV]]<=10000),POA[[#This Row],[PO]]*20%,POA[[#This Row],[PO]]*30%)))) -> 1.077362e+08

Sheet Capacidad Financiera
AI1: 80-180-200
B3: 1 | D3: =IF(SUM(D4:D12)=0,"",SUM(D4:D12)) | E3: =IF(ISERROR(SUM(E4:E12)),"",SUM(E4:E12)) -> 0 | F3: =IF(ISERROR(SUM(F4:F12)),"",SUM(F4:F12)) -> 1 | G3: =IF(ISERROR(SUM(G4:G12)),"",SUM(G4:G12)) -> 0 | H3: =IF(ISERROR(SUM(H4:H12)),"",SUM(H4:H12)) -> 0 | I3: =IF(ISERROR(SUM(I4:I12)),"",SUM(I4:I12)) -> 6.0624059e+08 | J3: =IF(ISERROR(SUM(J4:J12)),"",SUM(J4:J12)) -> 1 | K3: =IF(ISERROR(SUM(K4:K12)),"",SUM(K4:K12)) -> 0 | L3: =IF(ISERROR(SUM(L4:L12)),"",SUM(L4:L12)) -> 0 | M3: 1 | N3: 6 | P3: =+SUM(P4:P12) -> 0 | Q3: =IF(ISERROR(VLOOKUP(M3,POA!$B$3:$G$4,2,0)),"",VLOOKUP(M3,POA!$B$3:$G$4,2,0)) -> 3031202957 | R3: =SUM($I3)+IF(ISERROR(VLOOKUP(M3,POA!$B$3:$G$4,4,0)),"",VLOOKUP(M3,POA!$B$3:$G$4,4,0)) -> 1.2124812e+09 | S3: =IF(OR(R3=0,M3="",Q3=""),"",IF(R3>=VLOOKUP(M3,POA!$B$3:$G$4,7,FALSE),"CUMPLE","NO CUMPLE")) -> #REF! | T3: =IF(COUNTIFS(T4:T12,"SI",D4:D12,">=10%")>0,"SI","NO") -> NO | U3: =IF(ISERROR(SUM(E3/G3)),0,SUM(E3/G3)) -> 0 | V3: =IF(OR(U3=0,M3="",Q3=""),"",IF(AND(T3="SI",U3>=$V$22),"CUMPLE",IF(U3>=$V$23,"CUMPLE","NO CUMPLE"))) | W3: =IF(ISERROR(SUM(H3/F3)),0,SUM(H3/F3)) -> 0 | X3: =IF(OR(W3=0,M3="",Q3=""),"",IF(AND(T3="SI",W3<=$X$22),"CUMPLE",IF(W3>=$X$23,"CUMPLE","NO CUMPLE"))) | Y3: =IF(ISERROR(SUM(K3/L3)),0,SUM(K3/L3)) -> 0 | Z3: =IF(OR(Y3=0,M3="",Q3=""),"",IF(AND(T3="SI",Y3>=$Z$22),"CUMPLE",IF(Y3>=$Z$23,"CUMPLE","NO CUMPLE"))) | AA3: =IF(OR(S3="",V3="",X3="",Z3=""),"",IF(S3="NO CUMPLE","NO CUMPLE",IF(V3="NO CUMPLE","NO CUMPLE",IF(X3="NO CUMPLE","NO CUMPLE",IF(Z3="NO CUMPLE","NO CUMPLE",IF(Z3="NO CUMPLE","NO CUMPLE","CUMPLE")))))) -> #REF! | AB3: 2021 | AC3: =IF(ISERROR(F3/VLOOKUP(AB3,$AC$21:$AD$23,2)),"",F3/VLOOKUP(AB3,$AC$21:$AD$23,2)) -> 1.100684e-06 | AD3: =IF(OR(B3="",C3=""),"",IF(AND(AC3>0,AC3<=30000),"MIPYME","NO CUMPLE")) | AE3: =IF(ISERROR(SUM(K3/J3)),0,SUM(K3/J3)) -> 0 | AF3: =IF(OR(L3="",P3=""),"",IF(AND(T3="SI",AE3>=$AF$22),"CUMPLE",IF(AE3>=$AF$23,"CUMPLE","NO CUMPLE"))) -> NO CUMPLE | AG3: =IF(ISERROR(SUM(K3/F3)),0,SUM(K3/F3)) -> 0 | AH3: =IF(OR(L3="",P3=""),"",IF(AND(T3="SI",AG3>=$AH$22),"CUMPLE",IF(AG3>=$AH$23,"CUMPLE","NO CUMPLE"))) -> NO CUMPLE | AI3: =IF(OR(AF3="",AH3=""),"",IF(AF3="NO CUMPLE","NO CUMPLE",IF(AH3="NO CUMPLE","NO CUMPLE",IF(AH3="NO CUMPLE","NO CUMPLE","CUMPLE")))) -> NO CUMPLE
B4: =IF(C4="","",B3+0.1) | E4: =IF(ISERROR(VLOOKUP(C4,#REF!,2,0)),0,VLOOKUP(C4,#REF!,2,0)) -> 0 | F4: =IF(ISERROR(VLOOKUP(C4,#REF!,3,0)),0,VLOOKUP(C4,#REF!,3,0)) -> 0 | G4: =IF(ISERROR(VLOOKUP(C4,#REF!,4,0)),0,VLOOKUP(C4,#REF!,4,0)) -> 0 | H4: =IF(ISERROR(VLOOKUP(C4,#REF!,5,0)),0,VLOOKUP(C4,#REF!,5,0)) -> 0 | I4: =IF(ISERROR(E4-G4),"",E4-G4)+AnticipoM1 -> 6.0624059e+08 | J4: =IF(ISERROR(F4-H4),"",F4-H4) -> 0 | K4: =IF(ISERROR(VLOOKUP(C4,#REF!,6,0)),0,VLOOKUP(C4,#REF!,6,0)) -> 0 | L4: =IF(ISERROR(VLOOKUP(C4,#REF!,7,0)),0,VLOOKUP(C4,#REF!,7,0)) -> 0 | Q4: =IF(ISERROR(VLOOKUP(M4,POA!$B$3:$G$4,2,0)),"",VLOOKUP(M4,POA!$B$3:$G$4,2,0)) | R4: =IF(M4="","",SUM($I4)+IF(ISERROR(VLOOKUP(M4,POA!$B$3:$G$7,4,0)),"",VLOOKUP(M4,POA!$B$3:$G$7,4,0))) | S4: =IF(OR(R4=0,M4="",Q4=""),"",IF(R4>=VLOOKUP(M4,POA!$B$3:$G$4,8,FALSE),"CUMPLE","NO CUMPLE")) | V4: =IF(OR(U3=0,M4="",Q4=""),"",IF(AND(T4="SI",U3>=$V$22),"CUMPLE",IF(U3>=$V$23,"CUMPLE","NO CUMPLE"))) | X4: =IF(OR(W3=0,M4="",Q4=""),"",IF(AND(T4="SI",W3<=$X$22),"CUMPLE",IF(W3>=$X$23,"CUMPLE","NO CUMPLE"))) | Z4: =IF(OR(Y3=0,M4="",Q4=""),"",IF(AND(T4="SI",Y3>=$Z$22),"CUMPLE",IF(Y3>=$Z$23,"CUMPLE","NO CUMPLE"))) | AB4: 2021 | AC4: =IF(ISERROR(F4/VLOOKUP(AB4,$AC$21:$AD$23,2)),"",F4/VLOOKUP(AB4,$AC$21:$AD$23,2)) -> 0 | AD4: =IF(OR(B4="",C4=""),"",IF(AND(AC4>0,AC4<=30000),"MIPYME","NO CUMPLE")) | AF4: =IF(OR(L4="",P4=""),"",IF(AND(T4="SI",AE3>=$AF$22),"CUMPLE",IF(AE3>=$AF$23,"CUMPLE","NO CUMPLE"))) | AH4: =IF(OR(L4="",P4=""),"",IF(AND(T4="SI",AG3>=$AH$22),"CUMPLE",IF(AG3>=$AH$23,"CUMPLE","NO CUMPLE"))) | AI4: =IF(OR(AF4="",AH4=""),"",IF(AF4="NO CUMPLE","NO CUMPLE",IF(AH4="NO CUMPLE","NO CUMPLE",IF(AH4="NO CUMPLE","NO CUMPLE","CUMPLE"))))
B5: =IF(C5="","",B4+0.1) | E5: =IF(ISERROR(VLOOKUP(C5,#REF!,2,0)),0,VLOOKUP(C5,#REF!,2,0)) -> 0 | F5: 1 | G5: =IF(ISERROR(VLOOKUP(C5,#REF!,4,0)),0,VLOOKUP(C5,#REF!,4,0)) -> 0 | H5: =IF(ISERROR(VLOOKUP(C5,#REF!,5,0)),0,VLOOKUP(C5,#REF!,5,0)) -> 0 | I5: =IF(ISERROR(E5-G5),"",E5-G5) -> 0 | J5: =IF(ISERROR(F5-H5),"",F5-H5) -> 1 | K5: =IF(ISERROR(VLOOKUP(C5,#REF!,6,0)),0,VLOOKUP(C5,#REF!,6,0)) -> 0 | L5: =IF(ISERROR(VLOOKUP(C5,#REF!,7,0)),0,VLOOKUP(C5,#REF!,7,0)) -> 0 | Q5: =IF(ISERROR(VLOOKUP(M5,POA!$B$3:$G$4,2,0)),"",VLOOKUP(M5,POA!$B$3:$G$4,2,0)) | R5: =IF(M5="","",SUM($I5)+IF(ISERROR(VLOOKUP(M5,POA!$B$3:$G$7,4,0)),"",VLOOKUP(M5,POA!$B$3:$G$7,4,0))) | S5: =IF(OR(R5=0,M5="",Q5=""),"",IF(R5>=VLOOKUP(M5,POA!$B$3:$G$4,8,FALSE),"CUMPLE","NO CUMPLE")) | V5: =IF(OR(U3=0,M5="",Q5=""),"",IF(AND(T5="SI",U3>=$V$22),"CUMPLE",IF(U3>=$V$23,"CUMPLE","NO CUMPLE"))) | X5: =IF(OR(W3=0,M5="",Q5=""),"",IF(AND(T5="SI",W3<=$X$22),"CUMPLE",IF(W3>=$X$23,"CUMPLE","NO CUMPLE"))) | Z5: =IF(OR(Y3=0,M5="",Q5=""),"",IF(AND(T5="SI",Y3>=$Z$22),"CUMPLE",IF(Y3>=$Z$23,"CUMPLE","NO CUMPLE"))) | AB5: 2021 | AC5: =IF(ISERROR(F5/VLOOKUP(AB5,$AC$21:$AD$23,2)),"",F5/VLOOKUP(AB5,$AC$21:$AD$23,2)) -> 1.100684e-06 | AD5: =IF(OR(B5="",C5=""),"",IF(AND(AC5>0,AC5<=30000),"MIPYME","NO CUMPLE")) | AF5: =IF(OR(L5="",P5=""),"",IF(AND(T5="SI",AE3>=$AF$22),"CUMPLE",IF(AE3>=$AF$23,"CUMPLE","NO CUMPLE"))) | AH5: =IF(OR(L5="",P5=""),"",IF(AND(T5="SI",AG3>=$AH$22),"CUMPLE",IF(AG3>=$AH$23,"CUMPLE","NO CUMPLE"))) | AI5: =IF(OR(AF5="",AH5=""),"",IF(AF5="NO CUMPLE","NO CUMPLE",IF(AH5="NO CUMPLE","NO CUMPLE",IF(AH5="NO CUMPLE","NO CUMPLE","CUMPLE"))))
B6: =IF(C6="","",B5+0.1) | E6: =IF(ISERROR(VLOOKUP(C6,#REF!,2,0)),0,VLOOKUP(C6,#REF!,2,0)) -> 0 | F6: =IF(ISERROR(VLOOKUP(C6,#REF!,3,0)),0,VLOOKUP(C6,#REF!,3,0)) -> 0 | G6: =IF(ISERROR(VLOOKUP(C6,#REF!,4,0)),0,VLOOKUP(C6,#REF!,4,0)) -> 0 | H6: =IF(ISERROR(VLOOKUP(C6,#REF!,5,0)),0,VLOOKUP(C6,#REF!,5,0)) -> 0 | I6: =IF(ISERROR(E6-G6),"",E6-G6) -> 0 | J6: =IF(ISERROR(F6-H6),"",F6-H6) -> 0 | K6: =IF(ISERROR(VLOOKUP(C6,#REF!,6,0)),0,VLOOKUP(C6,#REF!,6,0)) -> 0 | L6: =IF(ISERROR(VLOOKUP(C6,#REF!,7,0)),0,VLOOKUP(C6,#REF!,7,0)) -> 0 | Q6: =IF(ISERROR(VLOOKUP(M6,POA!$B$3:$G$4,2,0)),"",VLOOKUP(M6,POA!$B$3:$G$4,2,0)) | R6: =IF(M6="","",SUM($I6)+IF(ISERROR(VLOOKUP(M6,POA!$B$3:$G$7,4,0)),"",VLOOKUP(M6,POA!$B$3:$G$7,4,0))) | S6: =IF(OR(R6=0,M6="",Q6=""),"",IF(R6>=VLOOKUP(M6,POA!$B$3:$G$4,8,FALSE),"CUMPLE","NO CUMPLE")) | V6: =IF(OR(U6=0,M6="",Q6=""),"",IF(AND(T6="SI",U6>=$V$22),"CUMPLE",IF(U6>=$V$23,"CUMPLE","NO CUMPLE"))) | X6: =IF(OR(W3=0,M6="",Q6=""),"",IF(AND(T6="SI",W3<=$X$22),"CUMPLE",IF(W3>=$X$23,"CUMPLE","NO CUMPLE"))) | Z6: =IF(OR(Y3=0,M6="",Q6=""),"",IF(AND(T6="SI",Y3>=$Z$22),"CUMPLE",IF(Y3>=$Z$23,"CUMPLE","NO CUMPLE"))) | AB6: 2021 | AC6: =IF(ISERROR(F6/VLOOKUP(AB6,$AC$21:$AD$23,2)),"",F6/VLOOKUP(AB6,$AC$21:$AD$23,2)) -> 0 | AD6: =IF(OR(B6="",C6=""),"",IF(AND(AC6>0,AC6<=30000),"MIPYME","NO CUMPLE")) | AF6: =IF(OR(L6="",P6=""),"",IF(AND(T6="SI",AE3>=$AF$22),"CUMPLE",IF(AE3>=$AF$23,"CUMPLE","NO CUMPLE"))) | AH6: =IF(OR(L6="",P6=""),"",IF(AND(T6="SI",AG3>=$AH$22),"CUMPLE",IF(AG3>=$AH$23,"CUMPLE","NO CUMPLE")))
B7: =IF(C7="","",B6+0.1) | E7: =IF(ISERROR(VLOOKUP(C7,#REF!,2,0)),0,VLOOKUP(C7,#REF!,2,0)) -> 0 | F7: =IF(ISERROR(VLOOKUP(C7,#REF!,3,0)),0,VLOOKUP(C7,#REF!,3,0)) -> 0 | G7: =IF(ISERROR(VLOOKUP(C7,#REF!,4,0)),0,VLOOKUP(C7,#REF!,4,0)) -> 0 | H7: =IF(ISERROR(VLOOKUP(C7,#REF!,5,0)),0,VLOOKUP(C7,#REF!,5,0)) -> 0 | I7: =IF(ISERROR(E7-G7),"",E7-G7) -> 0 | J7: =IF(ISERROR(F7-H7),"",F7-H7) -> 0 | K7: =IF(ISERROR(VLOOKUP(C7,#REF!,6,0)),0,VLOOKUP(C7,#REF!,6,0)) -> 0 | L7: =IF(ISERROR(VLOOKUP(C7,#REF!,7,0)),0,VLOOKUP(C7,#REF!,7,0)) -> 0 | Q7: =IF(ISERROR(VLOOKUP(M7,POA!$B$3:$G$4,2,0)),"",VLOOKUP(M7,POA!$B$3:$G$4,2,0)) | R7: =IF(M7="","",SUM($I7)+IF(ISERROR(VLOOKUP(M7,POA!$B$3:$G$7,4,0)),"",VLOOKUP(M7,POA!$B$3:$G$7,4,0))) | S7: =IF(OR(R7=0,M7="",Q7=""),"",IF(R7>=VLOOKUP(M7,POA!$B$3:$G$4,8,FALSE),"CUMPLE","NO CUMPLE")) | V7: =IF(OR(U4=0,M7="",Q7=""),"",IF(AND(T7="SI",U4>=$V$22),"CUMPLE",IF(U4>=$V$23,"CUMPLE","NO CUMPLE"))) | X7: =IF(OR(W3=0,M7="",Q7=""),"",IF(AND(T7="SI",W3<=$X$22),"CUMPLE",IF(W3>=$X$23,"CUMPLE","NO CUMPLE"))) | Z7: =IF(OR(Y3=0,M7="",Q7=""),"",IF(AND(T7="SI",Y3>=$Z$22),"CUMPLE",IF(Y3>=$Z$23,"CUMPLE","NO CUMPLE"))) | AB7: 2021 | AC7: =IF(ISERROR(F7/VLOOKUP(AB7,$AC$21:$AD$23,2)),"",F7/VLOOKUP(AB7,$AC$21:$AD$23,2)) -> 0 | AD7: =IF(OR(B7="",C7=""),"",IF(AND(AC7>0,AC7<=30000),"MIPYME","NO CUMPLE")) | AF7: =IF(OR(L7="",P7=""),"",IF(AND(T7="SI",AE3>=$AF$22),"CUMPLE",IF(AE3>=$AF$23,"CUMPLE","NO CUMPLE"))) | AH7: =IF(OR(L7="",P7=""),"",IF(AND(T7="SI",AG3>=$AH$22),"CUMPLE",IF(AG3>=$AH$23,"CUMPLE","NO CUMPLE")))
B8: =IF(C8="","",B7+0.1) | E8: =IF(ISERROR(VLOOKUP(C8,#REF!,2,0)),0,VLOOKUP(C8,#REF!,2,0)) -> 0 | F8: =IF(ISERROR(VLOOKUP(C8,#REF!,3,0)),0,VLOOKUP(C8,#REF!,3,0)) -> 0 | G8: =IF(ISERROR(VLOOKUP(C8,#REF!,4,0)),0,VLOOKUP(C8,#REF!,4,0)) -> 0 | H8: =IF(ISERROR(VLOOKUP(C8,#REF!,5,0)),0,VLOOKUP(C8,#REF!,5,0)) -> 0 | I8: =IF(ISERROR(E8-G8),"",E8-G8) -> 0 | J8: =IF(ISERROR(F8-H8),"",F8-H8) -> 0 | K8: =IF(ISERROR(VLOOKUP(C8,#REF!,6,0)),0,VLOOKUP(C8,#REF!,6,0)) -> 0 | L8: =IF(ISERROR(VLOOKUP(C8,#REF!,7,0)),0,VLOOKUP(C8,#REF!,7,0)) -> 0 | Q8: =IF(ISERROR(VLOOKUP(M8,POA!$B$3:$G$4,2,0)),"",VLOOKUP(M8,POA!$B$3:$G$4,2,0)) | R8: =IF(M8="","",SUM($I8)+IF(ISERROR(VLOOKUP(M8,POA!$B$3:$G$7,4,0)),"",VLOOKUP(M8,POA!$B$3:$G$7,4,0))) | S8: =IF(OR(R8=0,M8="",Q8=""),"",IF(R8>=VLOOKUP(M8,POA!$B$3:$G$4,8,FALSE),"CUMPLE","NO CUMPLE")) | V8: =IF(OR(U3=0,M8="",Q8=""),"",IF(AND(T8="SI",U3>=$V$22),"CUMPLE",IF(U3>=$V$23,"CUMPLE","NO CUMPLE"))) | X8: =IF(OR(W3=0,M8="",Q8=""),"",IF(AND(T8="SI",W3<=$X$22),"CUMPLE",IF(W3>=$X$23,"CUMPLE","NO CUMPLE"))) | Z8: =IF(OR(Y3=0,M8="",Q8=""),"",IF(AND(T8="SI",Y3>=$Z$22),"CUMPLE",IF(Y3>=$Z$23,"CUMPLE","NO CUMPLE"))) | AB8: 2021 | AC8: =IF(ISERROR(F8/VLOOKUP(AB8,$AC$21:$AD$23,2)),"",F8/VLOOKUP(AB8,$AC$21:$AD$23,2)) -> 0 | AD8: =IF(OR(B8="",C8=""),"",IF(AND(AC8>0,AC8<=30000),"MIPYME","NO CUMPLE")) | AF8: =IF(OR(L8="",P8=""),"",IF(AND(T8="SI",AE3>=$AF$22),"CUMPLE",IF(AE3>=$AF$23,"CUMPLE","NO CUMPLE"))) | AH8: =IF(OR(L8="",P8=""),"",IF(AND(T8="SI",AG3>=$AH$22),"CUMPLE",IF(AG3>=$AH$23,"CUMPLE","NO CUMPLE")))
B9: =IF(C9="","",B8+0.1) | E9: =IF(ISERROR(VLOOKUP(C9,#REF!,2,0)),0,VLOOKUP(C9,#REF!,2,0)) -> 0 | F9: =IF(ISERROR(VLOOKUP(C9,#REF!,3,0)),0,VLOOKUP(C9,#REF!,3,0)) -> 0 | G9: =IF(ISERROR(VLOOKUP(C9,#REF!,4,0)),0,VLOOKUP(C9,#REF!,4,0)) -> 0 | H9: =IF(ISERROR(VLOOKUP(C9,#REF!,5,0)),0,VLOOKUP(C9,#REF!,5,0)) -> 0 | I9: =IF(ISERROR(E9-G9),"",E9-G9) -> 0 | J9: =IF(ISERROR(F9-H9),"",F9-H9) -> 0 | K9: =IF(ISERROR(VLOOKUP(C9,#REF!,6,0)),0,VLOOKUP(C9,#REF!,6,0)) -> 0 | L9: =IF(ISERROR(VLOOKUP(C9,#REF!,7,0)),0,VLOOKUP(C9,#REF!,7,0)) -> 0 | Q9: =IF(ISERROR(VLOOKUP(M9,POA!$B$3:$G$4,2,0)),"",VLOOKUP(M9,POA!$B$3:$G$4,2,0)) | R9: =IF(M9="","",SUM($I9)+IF(ISERROR(VLOOKUP(M9,POA!$B$3:$G$7,4,0)),"",VLOOKUP(M9,POA!$B$3:$G$7,4,0))) | S9: =IF(OR(R9=0,M9="",Q9=""),"",IF(R9>=VLOOKUP(M9,POA!$B$3:$G$4,8,FALSE),"CUMPLE","NO CUMPLE")) | V9: =IF(OR(U3=0,M9="",Q9=""),"",IF(AND(T9="SI",U3>=$V$22),"CUMPLE",IF(U3>=$V$23,"CUMPLE","NO CUMPLE"))) | X9: =IF(OR(W3=0,M9="",Q9=""),"",IF(AND(T9="SI",W3<=$X$22),"CUMPLE",IF(W3>=$X$23,"CUMPLE","NO CUMPLE"))) | Z9: =IF(OR(Y3=0,M9="",Q9=""),"",IF(AND(T9="SI",Y3>=$Z$22),"CUMPLE",IF(Y3>=$Z$23,"CUMPLE","NO CUMPLE"))) | AB9: 2021 | AC9: =IF(ISERROR(F9/VLOOKUP(AB9,$AC$21:$AD$23,2)),"",F9/VLOOKUP(AB9,$AC$21:$AD$23,2)) -> 0 | AD9: =IF(OR(B9="",C9=""),"",IF(AND(AC9>0,AC9<=30000),"MIPYME","NO CUMPLE")) | AF9: =IF(OR(L9="",P9=""),"",IF(AND(T9="SI",AE3>=$AF$22),"CUMPLE",IF(AE3>=$AF$23,"CUMPLE","NO CUMPLE"))) | AH9: =IF(OR(L9="",P9=""),"",IF(AND(T9="SI",AG3>=$AH$22),"CUMPLE",IF(AG3>=$AH$23,"CUMPLE","NO CUMPLE")))
B10: =IF(C10="","",B9+0.1) | E10: =IF(ISERROR(VLOOKUP(C10,#REF!,2,0)),0,VLOOKUP(C10,#REF!,2,0)) -> 0 | F10: =IF(ISERROR(VLOOKUP(C10,#REF!,3,0)),0,VLOOKUP(C10,#REF!,3,0)) -> 0 | G10: =IF(ISERROR(VLOOKUP(C10,#REF!,4,0)),0,VLOOKUP(C10,#REF!,4,0)) -> 0 | H10: =IF(ISERROR(VLOOKUP(C10,#REF!,5,0)),0,VLOOKUP(C10,#REF!,5,0)) -> 0 | I10: =IF(ISERROR(E10-G10),"",E10-G10) -> 0 | J10: =IF(ISERROR(F10-H10),"",F10-H10) -> 0 | K10: =IF(ISERROR(VLOOKUP(C10,#REF!,6,0)),0,VLOOKUP(C10,#REF!,6,0)) -> 0 | L10: =IF(ISERROR(VLOOKUP(C10,#REF!,7,0)),0,VLOOKUP(C10,#REF!,7,0)) -> 0 | Q10: =IF(ISERROR(VLOOKUP(M10,POA!$B$3:$G$4,2,0)),"",VLOOKUP(M10,POA!$B$3:$G$4,2,0)) | R10: =IF(M10="","",SUM($I10)+IF(ISERROR(VLOOKUP(M10,POA!$B$3:$G$7,4,0)),"",VLOOKUP(M10,POA!$B$3:$G$7,4,0))) | S10: =IF(OR(R10=0,M10="",Q10=""),"",IF(R10>=VLOOKUP(M10,POA!$B$3:$G$4,8,FALSE),"CUMPLE","NO CUMPLE")) | V10: =IF(OR(U3=0,M10="",Q10=""),"",IF(AND(T10="SI",U3>=$V$22),"CUMPLE",IF(U3>=$V$23,"CUMPLE","NO CUMPLE"))) | X10: =IF(OR(W3=0,M10="",Q10=""),"",IF(AND(T10="SI",W3<=$X$22),"CUMPLE",IF(W3>=$X$23,"CUMPLE","NO CUMPLE"))) | Z10: =IF(OR(Y4=0,M10="",Q10=""),"",IF(AND(T10="SI",Y4>=$Z$22),"CUMPLE",IF(Y4>=$Z$23,"CUMPLE","NO CUMPLE"))) | AB10: 2021 | AC10: =IF(ISERROR(F10/VLOOKUP(AB10,$AC$21:$AD$23,2)),"",F10/VLOOKUP(AB10,$AC$21:$AD$23,2)) -> 0 | AD10: =IF(OR(B10="",C10=""),"",IF(AND(AC10>0,AC10<=30000),"MIPYME","NO CUMPLE")) | AF10: =IF(OR(L10="",P10=""),"",IF(AND(T10="SI",AE3>=$AF$22),"CUMPLE",IF(AE3>=$AF$23,"CUMPLE","NO CUMPLE"))) | AH10: =IF(OR(L10="",P10=""),"",IF(AND(T10="SI",AG3>=$AH$22),"CUMPLE",IF(AG3>=$AH$23,"CUMPLE","NO CUMPLE")))
B11: =IF(C11="","",B10+0.1) | E11: =IF(ISERROR(VLOOKUP(C11,#REF!,2,0)),0,VLOOKUP(C11,#REF!,2,0)) -> 0 | F11: =IF(ISERROR(VLOOKUP(C11,#REF!,3,0)),0,VLOOKUP(C11,#REF!,3,0)) -> 0 | G11: =IF(ISERROR(VLOOKUP(C11,#REF!,4,0)),0,VLOOKUP(C11,#REF!,4,0)) -> 0 | H11: =IF(ISERROR(VLOOKUP(C11,#REF!,5,0)),0,VLOOKUP(C11,#REF!,5,0)) -> 0 | I11: =IF(ISERROR(E11-G11),"",E11-G11) -> 0 | J11: =IF(ISERROR(F11-H11),"",F11-H11) -> 0 | K11: =IF(ISERROR(VLOOKUP(C11,#REF!,6,0)),0,VLOOKUP(C11,#REF!,6,0)) -> 0 | L11: =IF(ISERROR(VLOOKUP(C11,#REF!,7,0)),0,VLOOKUP(C11,#REF!,7,0)) -> 0 | Q11: =IF(ISERROR(VLOOKUP(M11,POA!$B$3:$G$4,2,0)),"",VLOOKUP(M11,POA!$B$3:$G$4,2,0)) | R11: =IF(M11="","",SUM($I11)+IF(ISERROR(VLOOKUP(M11,POA!$B$3:$G$7,4,0)),"",VLOOKUP(M11,POA!$B$3:$G$7,4,0))) | S11: =IF(OR(R11=0,M11="",Q11=""),"",IF(R11>=VLOOKUP(M11,POA!$B$3:$G$4,8,FALSE),"CUMPLE","NO CUMPLE")) | V11: =IF(OR(U3=0,M11="",Q11=""),"",IF(AND(T11="SI",U3>=$V$22),"CUMPLE",IF(U3>=$V$23,"CUMPLE","NO CUMPLE"))) | X11: =IF(OR(W3=0,M11="",Q11=""),"",IF(AND(T11="SI",W3<=$X$22),"CUMPLE",IF(W3>=$X$23,"CUMPLE","NO CUMPLE"))) | Z11: =IF(OR(Y3=0,M11="",Q11=""),"",IF(AND(T11="SI",Y3>=$Z$22),"CUMPLE",IF(Y3>=$Z$23,"CUMPLE","NO CUMPLE"))) | AB11: 2021 | AC11: =IF(ISERROR(F11/VLOOKUP(AB11,$AC$21:$AD$23,2)),"",F11/VLOOKUP(AB11,$AC$21:$AD$23,2)) -> 0 | AD11: =IF(OR(B11="",C11=""),"",IF(AND(AC11>0,AC11<=30000),"MIPYME","NO CUMPLE")) | AF11: =IF(OR(L11="",P11=""),"",IF(AND(T11="SI",AE3>=$AF$22),"CUMPLE",IF(AE3>=$AF$23,"CUMPLE","NO CUMPLE"))) | AH11: =IF(OR(L11="",P11=""),"",IF(AND(T11="SI",AG3>=$AH$22),"CUMPLE",IF(AG3>=$AH$23,"CUMPLE","NO CUMPLE")))
B12: =IF(C12="","",B11+0.1) | E12: =IF(ISERROR(VLOOKUP(C12,#REF!,2,0)),0,VLOOKUP(C12,#REF!,2,0)) -> 0 | F12: =IF(ISERROR(VLOOKUP(C12,#REF!,3,0)),0,VLOOKUP(C12,#REF!,3,0)) -> 0 | G12: =IF(ISERROR(VLOOKUP(C12,#REF!,4,0)),0,VLOOKUP(C12,#REF!,4,0)) -> 0 | H12: =IF(ISERROR(VLOOKUP(C12,#REF!,5,0)),0,VLOOKUP(C12,#REF!,5,0)) -> 0 | I12: =IF(ISERROR(E12-G12),"",E12-G12) -> 0 | J12: =IF(ISERROR(F12-H12),"",F12-H12) -> 0 | K12: =IF(ISERROR(VLOOKUP(C12,#REF!,6,0)),0,VLOOKUP(C12,#REF!,6,0)) -> 0 | L12: =IF(ISERROR(VLOOKUP(C12,#REF!,7,0)),0,VLOOKUP(C12,#REF!,7,0)) -> 0 | Q12: =IF(ISERROR(VLOOKUP(M12,POA!$B$3:$G$7,2,0)),"",VLOOKUP(M12,POA!$B$3:$G$7,2,0)) | R12: =IF(M12="","",SUM($I12)+IF(ISERROR(VLOOKUP(M12,POA!$B$3:$G$7,4,0)),"",VLOOKUP(M12,POA!$B$3:$G$7,4,0))) | S12: =IF(OR(R12=0,M12="",Q12=""),"",IF(R12>=VLOOKUP(M12,POA!$B$3:$G$7,8,FALSE),"CUMPLE","NO CUMPLE")) | V12: =IF(OR(U3=0,M12="",Q12=""),"",IF(AND(T12="SI",U3>=$V$22),"CUMPLE",IF(U3>=$V$23,"CUMPLE","NO CUMPLE"))) | X12: =IF(OR(W3=0,M12="",Q12=""),"",IF(AND(T12="SI",W3<=$X$22),"CUMPLE",IF(W12>=$X$23,"CUMPLE","NO CUMPLE"))) | Z12: =IF(OR(Y3=0,M12="",Q12=""),"",IF(AND(T12="SI",Y3>=$Z$22),"CUMPLE",IF(Y3>=$Z$23,"CUMPLE","NO CUMPLE"))) | AB12: 2021 | AC12: =IF(ISERROR(F12/VLOOKUP(AB12,$AC$21:$AD$23,2)),"",F12/VLOOKUP(AB12,$AC$21:$AD$23,2)) -> 0 | AD12: =IF(OR(B12="",C12=""),"",IF(AND(AC12>0,AC12<=30000),"MIPYME","NO CUMPLE")) | AF12: =IF(OR(L12="",P12=""),"",IF(AND(T12="SI",AE3>=$AF$22),"CUMPLE",IF(AE3>=$AF$23,"CUMPLE","NO CUMPLE"))) | AH12: =IF(OR(L12="",P12=""),"",IF(AND(T12="SI",AG3>=$AH$22),"CUMPLE",IF(AG3>=$AH$23,"CUMPLE","NO CUMPLE")))
B14: 1 | C14: 2 | D14: 3 | E14: 4 | F14: 5 | G14: 6 | H14: 7 | I14: 8 | J14: 9 | K14: 10 | L14: 11 | M14: 12 | N14: 13 | O14: 14 | P14: 15 | Q14: 16 | R14: 17 | S14: 18 | T14: 19 | U14: 19 | V14: 20 | W14: 21 | X14: 22 | Y14: 23 | Z14: 24 | AA14: 25 | AB14: 26 | AC14: 26 | AD14: 27 | AE14: 28 | AF14: 29 | AG14: 30 | AH14: 31 | AI14: 32
AI15: 225-235-250
B16: INSTITUTO NACIONAL DE VIAS | AI16: 220-220-130
B17: SUBDIRECCION DE PROCESO DE SELECCION CONTRACTUALES | AI17: 150-200-100
B18: CMA-DEO-SVR-CCPT-046-2024
B19: EVALUACION FINANCIERA (CONCURSO)
B20: NUMERO DE PROPUSTAS | C20: DATOS DEL INTERESADO | E20: CUMPLIMIENTO | R20: INDICE-CAPITAL DE TRABAJO DEMANDADO | T20: CORRESPONDE A UNA MIPYME O EMPRENDIMIENTOS Y EMPRESAS DE MUJERES | U20: INDICE-LIQUIDEZ | W20: INDICE-ENDEUDAMIENTO | Y20: RAZON DE COBERTURA DE INTERESES | AA20: EVALUACIÓN CAPACIDAD FINANCIERA | AB20: CALIDAD DE MIPYME | AE20: RENTABILIDAD DEL PATRIMONIO (ROE) | AG20: RENTABILIDAD DEL ACTIVO (ROA) | AI20: EVALUACIÓN CAPACIDAD ORGANIZACIÓN
B21: OFERTA | C21: PROPONENTE | D21: PORCENTAJE DE PARTICIPACION | E21: ACTIVO CORRIENTE | F21: ACTIVO TOTAL | G21: PASIVO CORRIENTE | H21: PASIVO TOTAL | I21: CAPITAL DE TRABAJO (Activo Corriente - Pasivo Corriente) | J21: PATRIMONIO (Activo Total - Pasivo Total) | K21: UTILIDAD OPERACIONAL | L21: GASTOS DE INTERESES | M21: MÓDULO | N21: PLAZO (N) | O21: MODULOS ADJUDICADOS | P21: VALOR CAPITAL DE TRABAJO DEMANDADO MODULOS ADJUDICADOS | Q21: VALOR PRESUPUESTO OFICIAL (PO) | R21: Fórmula: CT = AC - PC >= % x PO | U21: Fórmula: Liquidez=AC/PC>=X | W21: Fórmula: Endeudamiento = Pas.T/Act.Tot. <= X% | Y21: Fórmula: Razón Cobertura Intereses = UO/GI >=X | AA21: CUMPLE/NO CUMPLE | AB21: AÑO DE EVALUACION DE LOS ACTIVOS | AC21: 2019 | AD21: 828211 | AE21: Fórmula: ROE=UO/Pat.ROE>=X% | AG21: Fórmula: ROE=UO/Act.Tot.>=X | AI21: CUMPLE/NO CUMPLE
O22: MODULOS ADJUDICADOS | P22: VALOR CAPITAL DE TRABAJO DEMANDADO MODULOS ADJUDICADOS | R22: Req. Min. CTd: > = | S22: (PO/N)*3 | U22: MIPYME →Req. Min. Solvencia: > = | V22: 1.11 | W22: MIPYME →Req. Min. Endeudamiento: < = | X22: 0.75 | Y22: MIPYME →Req.Min.Cobertura Interes: > = | Z22: 0 | AC22: 2020 | AD22: 877803 | AE22: MIPYME Req. Min. ROE: > = | AF22: 0 | AG22: MIPYME Req. Min. ROA: > = | AH22: 0
U23: OTRO →Req. Min. Solvencia: > = | V23: 1.21 | W23: OTRO →Req. Min. Endeudamiento: < = | X23: 0.7 | Y23: OTRO →Req. Min. Cobertura Intereses: > = | Z23: 1 | AC23: 2021 | AD23: 908526 | AE23: OTRO Req. Min. ROE: > = | AF23: 0.04 | AG23: OTRO Req. Min. ROA: > = | AH23: 0.02
R24: INDICADOR | S24: RESULTADO | U24: INDICADOR | V24: RESULTADO | W24: INDICADOR | X24: RESULTADO | Y24: INDICADOR | Z24: RESULTADO | AC24: CALIDAD DE MIPYME EN SMMLV | AD24: 0 < ACTIVOS <= 30000 | AE24: INDICADOR | AF24: RESULTADO | AG24: INDICADOR | AH24: RESULTADO
A26: CLAUDIA MILENA TRUJILLO | B26: 1 | C26: INGEVAL SAS | D26: =IF(SUM(D27:D36)=0,"",SUM(D27:D36)) -> 1 | E26: =IF(ISERROR(SUM(E27:E36)),"",SUM(E27:E36)) -> 0 | F26: =IF(ISERROR(SUM(F27:F36)),"",SUM(F27:F36)) -> 0 | G26: =IF(ISERROR(SUM(G27:G36)),"",SUM(G27:G36)) -> 0 | H26: =IF(ISERROR(SUM(H27:H36)),"",SUM(H27:H36)) -> 0 | I26: =IF(ISERROR(SUM(I27:I36)),"",SUM(I27:I36)) -> 0 | J26: =IF(ISERROR(SUM(J27:J36)),"",SUM(J27:J36)) -> 0 | K26: =IF(ISERROR(SUM(K27:K36)),"",SUM(K27:K36)) -> 0 | L26: =IF(ISERROR(SUM(L27:L35)),"",SUM(L27:L35)) -> 0 | M26: 4 | N26: =IF(M26="","",VLOOKUP(M26,POA!$B$3:$G7,3,0)) -> 5 | P26: =+SUM(P27:P35) -> 0 | S26: =IF(OR($R$26=0,M26="",Q26=""),"",IF($R$26>=VLOOKUP(M26,POA!$B$3:$G$21,6,FALSE),"CUMPLE","NO CUMPLE")) | T26: =IF(M26="","",IF(COUNTIFS(T27:T36,"SI",D27:D36,">=10%")>0,"SI","NO")) -> SI | U26: =IF(ISERROR(SUM(E26/G26)),0,SUM(E26/G26)) -> 0 | V26: =IF(OR($U26=0,M26="",Q26=""),"",IF(AND(T26="SI",$U26>=$V$22),"CUMPLE",IF($U26>=$V$23,"CUMPLE","NO CUMPLE"))) | W26: =IF(M26="","",IF(ISERROR(SUM(H26/F26)),0,SUM(H26/F26))) -> 0 | X26: =IF(OR(W26=0,M26="",Q26=""),"",IF(AND(T26="SI",W26<=$X$22),"CUMPLE",IF(W26<=$X$23,"CUMPLE","NO CUMPLE"))) | Y26: =IF(ISERROR(SUM(K26/L26)),0,SUM(K26/L26)) -> 0 | Z26: =IF(OR(Y26=0,M26="",Q26=""),"",IF(AND(T26="SI",Y26>=$Z$22),"CUMPLE",IF(Y26>=$Z$23,"CUMPLE","NO CUMPLE"))) | AA26: =IF(OR(S26="",V26="",X26="",Z26=""),"",IF(S26="NO CUMPLE","NO CUMPLE",IF(V26="NO CUMPLE","NO CUMPLE",IF(X26="NO CUMPLE","NO CUMPLE",IF(Z26="NO CUMPLE","NO CUMPLE",IF(Z26="NO CUMPLE","NO CUMPLE","CUMPLE")))))) | AB26: 2021 | AC26: =IF(ISERROR(F26/VLOOKUP(AB26,$AC$21:$AD$23,2)),"",F26/VLOOKUP(AB26,$AC$21:$AD$23,2)) -> 0 | AD26: =IF(OR(B26="",C26=""),"",IF(AND(AC26>0,AC26<=30000),"MIPYME","NO CUMPLE")) -> NO CUMPLE | AE26: =IF(M26="","",IF(ISERROR(SUM(K26/J26)),0,SUM(K26/J26))) -> 0 | AF26: =IF(OR(M26="",L26="",P26=""),"",IF(AND(T26="SI",AE26>=$AF$22),"CUMPLE",IF(AE26>=$AF$23,"CUMPLE","NO CUMPLE"))) -> CUMPLE | AG26: =IF(M26="","",IF(ISERROR(SUM(K26/F26)),0,SUM(K26/F26))) -> 0 | AH26: =IF(OR(M26="",L26="",P26=""),"",IF(AND(T26="SI",AG26>=$AH$22),"CUMPLE",IF(AG26>=$AH$23,"CUMPLE","NO CUMPLE"))) -> CUMPLE | AI26: =IF(OR(AF26="",AH26=""),"",IF(AF26="NO CUMPLE","NO CUMPLE",IF(AH26="NO CUMPLE","NO CUMPLE",IF(AH26="NO CUMPLE","NO CUMPLE","CUMPLE")))) -> CUMPLE
A27: 45455 | B27: =IF(C27="","",B26+0.1) -> 1.1 | C27: INGEVAL SAS | D27: 1 | I27: =IF(ISERROR(E27-G27),"",E27-G27) -> 0 | J27: =IF(ISERROR(F27-H27),"",F27-H27) -> 0 | M27: 6 | N27: =IF(M27="","",VLOOKUP(M27,POA!$B$3:$G7,3,0)) -> #N/A | P27: =+SUM(P28:P36) -> 0 | S27: =IF(OR($R$26=0,M27="",Q27=""),"",IF($R$26>=VLOOKUP(M27,POA!$B$3:$G$21,6,FALSE),"CUMPLE","NO CUMPLE")) | T27: SI | V27: =IF(OR($U26=0,M27="",Q27=""),"",IF(AND(T27="SI",$U26>=$V$22),"CUMPLE",IF($U26>=$V$23,"CUMPLE","NO CUMPLE"))) | X27: =IF(OR(W26=0,M27="",Q27=""),"",IF(AND(T27="SI",W26<=$X$22),"CUMPLE",IF(W26<=$X$23,"CUMPLE","NO CUMPLE"))) | Z27: =IF(OR(Y26=0,M27="",Q27=""),"",IF(AND(T27="SI",Y26>=$Z$22),"CUMPLE",IF(Y26>=$Z$23,"CUMPLE","NO CUMPLE"))) | AA27: NO CUMPLE | AB27: 2021 | AC27: =IF(ISERROR(F27/VLOOKUP(AB27,$AC$21:$AD$23,2)),"",F27/VLOOKUP(AB27,$AC$21:$AD$23,2)) -> 0 | AD27: =IF(OR(B27="",C27=""),"",IF(AND(AC27>0,AC27<=30000),"MIPYME","NO CUMPLE")) -> NO CUMPLE | AI27: NO CUMPLE
B28: =IF(C28="","",B27+0.1) | I28: =IF(ISERROR(E28-G28),"",E28-G28) -> 0 | J28: =IF(ISERROR(F28-H28),"",F28-H28) -> 0 | M28: 7 | N28: =IF(M28="","",VLOOKUP(M28,POA!$B$3:$G7,3,0)) -> #N/A | P28: =+SUM(P29:P37) -> 0 | S28: =IF(OR($R$26=0,M28="",Q28=""),"",IF($R$26>=VLOOKUP(M28,POA!$B$3:$G$21,6,FALSE),"CUMPLE","NO CUMPLE")) | T28: SI | V28: =IF(OR($U26=0,M28="",Q28=""),"",IF(AND(T28="SI",$U26>=$V$22),"CUMPLE",IF($U26>=$V$23,"CUMPLE","NO CUMPLE"))) | X28: =IF(OR(W26=0,M28="",Q28=""),"",IF(AND(T28="SI",W26<=$X$22),"CUMPLE",IF(W26<=$X$23,"CUMPLE","NO CUMPLE"))) | Z28: =IF(OR(Y26=0,M28="",Q28=""),"",IF(AND(T28="SI",Y26>=$Z$22),"CUMPLE",IF(Y26>=$Z$23,"CUMPLE","NO CUMPLE"))) | AA28: =IF(OR(S28="",V28="",X28="",Z28=""),"",IF(S28="NO CUMPLE","NO CUMPLE",IF(V28="NO CUMPLE","NO CUMPLE",IF(X28="NO CUMPLE","NO CUMPLE",IF(Z28="NO CUMPLE","NO CUMPLE",IF(Z28="NO CUMPLE","NO CUMPLE","CUMPLE")))))) | AB28: 2021 | AC28: =IF(ISERROR(F28/VLOOKUP(AB28,$AC$21:$AD$23,2)),"",F28/VLOOKUP(AB28,$AC$21:$AD$23,2)) -> 0 | AD28: =IF(OR(B28="",C28=""),"",IF(AND(AC28>0,AC28<=30000),"MIPYME","NO CUMPLE"))
B29: =IF(C29="","",B28+0.1) | I29: =IF(ISERROR(E29-G29),"",E29-G29) -> 0 | J29: =IF(ISERROR(F29-H29),"",F29-H29) -> 0 | N29: =IF(M29="","",VLOOKUP(M29,POA!$B$3:$G7,3,0)) | P29: =+SUM(P30:P37) -> 0 | Q29: =IF(ISERROR(VLOOKUP(M29,POA!$B$3:$G11,2,0)),"",VLOOKUP(M29,POA!$B$3:$G11,2,0)) | S29: =IF(OR($R$26=0,M29="",Q29=""),"",IF($R$26>=VLOOKUP(M29,POA!$B$3:$G$21,6,FALSE),"CUMPLE","NO CUMPLE")) | V29: =IF(OR($U26=0,M29="",Q29=""),"",IF(AND(T29="SI",$U26>=$V$22),"CUMPLE",IF($U26>=$V$23,"CUMPLE","NO CUMPLE"))) | X29: =IF(OR(W26=0,M29="",Q29=""),"",IF(AND(T29="SI",W26<=$X$22),"CUMPLE",IF(W26<=$X$23,"CUMPLE","NO CUMPLE"))) | Z29: =IF(OR(Y26=0,M29="",Q29=""),"",IF(AND(T29="SI",Y26>=$Z$22),"CUMPLE",IF(Y26>=$Z$23,"CUMPLE","NO CUMPLE"))) | AA29: =IF(OR(S29="",V29="",X29="",Z29=""),"",IF(S29="NO CUMPLE","NO CUMPLE",IF(V29="NO CUMPLE","NO CUMPLE",IF(X29="NO CUMPLE","NO CUMPLE",IF(Z29="NO CUMPLE","NO CUMPLE",IF(Z29="NO CUMPLE","NO CUMPLE","CUMPLE")))))) | AB29: 2021 | AC29: =IF(ISERROR(F29/VLOOKUP(AB29,$AC$21:$AD$23,2)),"",F29/VLOOKUP(AB29,$AC$21:$AD$23,2)) -> 0 | AD29: =IF(OR(B29="",C29=""),"",IF(AND(AC29>0,AC29<=30000),"MIPYME","NO CUMPLE")) | AF29: =IF(OR(M29="",L26="",P29=""),"",IF(AND(T26="SI",AE26>=$AF$22),"CUMPLE",IF(AE26>=$AF$23,"CUMPLE","NO CUMPLE"))) | AH29: =IF(OR(M29="",L26="",P26=""),"",IF(AND(T26="SI",AG26>=$AH$22),"CUMPLE",IF(AG26>=$AH$23,"CUMPLE","NO CUMPLE"))) | AI29: =IF(OR(AF29="",AH29=""),"",IF(AF29="NO CUMPLE","NO CUMPLE",IF(AH29="NO CUMPLE","NO CUMPLE",IF(AH29="NO CUMPLE","NO CUMPLE","CUMPLE"))))
B30: =IF(C30="","",B29+0.1) | I30: =IF(ISERROR(E30-G30),"",E30-G30) -> 0 | J30: =IF(ISERROR(F30-H30),"",F30-H30) -> 0 | N30: =IF(M30="","",VLOOKUP(M30,POA!$B$3:$G11,3,0)) | P30: =+SUM(P31:P37) -> 0 | Q30: =IF(ISERROR(VLOOKUP(M30,POA!$B$3:$G12,2,0)),"",VLOOKUP(M30,POA!$B$3:$G12,2,0)) | S30: =IF(OR($R$26=0,M30="",Q30=""),"",IF($R$26>=VLOOKUP(M30,POA!$B$3:$G$21,6,FALSE),"CUMPLE","NO CUMPLE")) | V30: =IF(OR($U26=0,M30="",Q30=""),"",IF(AND(T30="SI",$U26>=$V$22),"CUMPLE",IF($U26>=$V$23,"CUMPLE","NO CUMPLE"))) | X30: =IF(OR(W26=0,M30="",Q30=""),"",IF(AND(T30="SI",W26<=$X$22),"CUMPLE",IF(W26<=$X$23,"CUMPLE","NO CUMPLE"))) | Z30: =IF(OR(Y26=0,M30="",Q30=""),"",IF(AND(T30="SI",Y26>=$Z$22),"CUMPLE",IF(Y26>=$Z$23,"CUMPLE","NO CUMPLE"))) | AA30: =IF(OR(S30="",V30="",X30="",Z30=""),"",IF(S30="NO CUMPLE","NO CUMPLE",IF(V30="NO CUMPLE","NO CUMPLE",IF(X30="NO CUMPLE","NO CUMPLE",IF(Z30="NO CUMPLE","NO CUMPLE",IF(Z30="NO CUMPLE","NO CUMPLE","CUMPLE")))))) | AB30: 2021 | AC30: =IF(ISERROR(F30/VLOOKUP(AB30,$AC$21:$AD$23,2)),"",F30/VLOOKUP(AB30,$AC$21:$AD$23,2)) -> 0 | AD30: =IF(OR(B30="",C30=""),"",IF(AND(AC30>0,AC30<=30000),"MIPYME","NO CUMPLE")) | AF30: =IF(OR(M30="",L26="",P30=""),"",IF(AND(T26="SI",AE26>=$AF$22),"CUMPLE",IF(AE26>=$AF$23,"CUMPLE","NO CUMPLE"))) | AH30: =IF(OR(M29="",L26="",P26=""),"",IF(AND(T26="SI",AG26>=$AH$22),"CUMPLE",IF(AG26>=$AH$23,"CUMPLE","NO CUMPLE"))) | AI30: =IF(OR(AF30="",AH30=""),"",IF(AF30="NO CUMPLE","NO CUMPLE",IF(AH30="NO CUMPLE","NO CUMPLE",IF(AH30="NO CUMPLE","NO CUMPLE","CUMPLE"))))
B31: =IF(C31="","",B30+0.1) | I31: =IF(ISERROR(E31-G31),"",E31-G31) -> 0 | J31: =IF(ISERROR(F31-H31),"",F31-H31) -> 0 | N31: =IF(M31="","",VLOOKUP(M31,POA!$B$3:$G7,3,0)) | P31: =+SUM(P32:P37) -> 0 | Q31: =IF(ISERROR(VLOOKUP(M31,POA!$B$3:$G13,2,0)),"",VLOOKUP(M31,POA!$B$3:$G13,2,0)) | S31: =IF(OR($R$26=0,M31="",Q31=""),"",IF($R$26>=VLOOKUP(M31,POA!$B$3:$G$21,6,FALSE),"CUMPLE","NO CUMPLE")) | V31: =IF(OR($U26=0,M31="",Q31=""),"",IF(AND(T31="SI",$U26>=$V$22),"CUMPLE",IF($U26>=$V$23,"CUMPLE","NO CUMPLE"))) | X31: =IF(OR(W26=0,M31="",Q31=""),"",IF(AND(T31="SI",W26<=$X$22),"CUMPLE",IF(W26<=$X$23,"CUMPLE","NO CUMPLE"))) | Z31: =IF(OR(Y26=0,M31="",Q31=""),"",IF(AND(T31="SI",Y26>=$Z$22),"CUMPLE",IF(Y26>=$Z$23,"CUMPLE","NO CUMPLE"))) | AA31: =IF(OR(S31="",V31="",X31="",Z31=""),"",IF(S31="NO CUMPLE","NO CUMPLE",IF(V31="NO CUMPLE","NO CUMPLE",IF(X31="NO CUMPLE","NO CUMPLE",IF(Z31="NO CUMPLE","NO CUMPLE",IF(Z31="NO CUMPLE","NO CUMPLE","CUMPLE")))))) | AB31: 2021 | AC31: =IF(ISERROR(F31/VLOOKUP(AB31,$AC$21:$AD$23,2)),"",F31/VLOOKUP(AB31,$AC$21:$AD$23,2)) -> 0 | AD31: =IF(OR(B31="",C31=""),"",IF(AND(AC31>0,AC31<=30000),"MIPYME","NO CUMPLE")) | AF31: =IF(OR(M31="",L26="",P31=""),"",IF(AND(T26="SI",AE26>=$AF$22),"CUMPLE",IF(AE26>=$AF$23,"CUMPLE","NO CUMPLE"))) | AH31: =IF(OR(M31="",L26="",P26=""),"",IF(AND(T26="SI",AG26>=$AH$22),"CUMPLE",IF(AG26>=$AH$23,"CUMPLE","NO CUMPLE"))) | AI31: =IF(OR(AF31="",AH31=""),"",IF(AF31="NO CUMPLE","NO CUMPLE",IF(AH31="NO CUMPLE","NO CUMPLE",IF(AH31="NO CUMPLE","NO CUMPLE","CUMPLE"))))
B32: =IF(C32="","",B31+0.1) | I32: =IF(ISERROR(E32-G32),"",E32-G32) -> 0 | J32: =IF(ISERROR(F32-H32),"",F32-H32) -> 0 | N32: =IF(M32="","",VLOOKUP(M32,POA!$B$3:$G7,3,0)) | P32: =+SUM(P33:P37) -> 0 | Q32: =IF(ISERROR(VLOOKUP(M32,POA!$B$3:$G14,2,0)),"",VLOOKUP(M32,POA!$B$3:$G14,2,0)) | S32: =IF(OR($R$26=0,M32="",Q32=""),"",IF($R$26>=VLOOKUP(M32,POA!$B$3:$G$21,6,FALSE),"CUMPLE","NO CUMPLE")) | V32: =IF(OR($U26=0,M32="",Q32=""),"",IF(AND(T32="SI",$U26>=$V$22),"CUMPLE",IF($U26>=$V$23,"CUMPLE","NO CUMPLE"))) | X32: =IF(OR(W26=0,M32="",Q32=""),"",IF(AND(T32="SI",W26<=$X$22),"CUMPLE",IF(W26<=$X$23,"CUMPLE","NO CUMPLE"))) | Z32: =IF(OR(Y26=0,M32="",Q32=""),"",IF(AND(T32="SI",Y26>=$Z$22),"CUMPLE",IF(Y26>=$Z$23,"CUMPLE","NO CUMPLE"))) | AA32: =IF(OR(S32="",V32="",X32="",Z32=""),"",IF(S32="NO CUMPLE","NO CUMPLE",IF(V32="NO CUMPLE","NO CUMPLE",IF(X32="NO CUMPLE","NO CUMPLE",IF(Z32="NO CUMPLE","NO CUMPLE",IF(Z32="NO CUMPLE","NO CUMPLE","CUMPLE")))))) | AB32: 2021 | AC32: =IF(ISERROR(F32/VLOOKUP(AB32,$AC$21:$AD$23,2)),"",F32/VLOOKUP(AB32,$AC$21:$AD$23,2)) -> 0 | AD32: =IF(OR(B32="",C32=""),"",IF(AND(AC32>0,AC32<=30000),"MIPYME","NO CUMPLE")) | AF32: =IF(OR(M32="",L26="",P32=""),"",IF(AND(T30="SI",AE26>=$AF$22),"CUMPLE",IF(AE26>=$AF$23,"CUMPLE","NO CUMPLE"))) | AH32: =IF(OR(M32="",L26="",P26=""),"",IF(AND(T26="SI",AG26>=$AH$22),"CUMPLE",IF(AG26>=$AH$23,"CUMPLE","NO CUMPLE"))) | AI32: =IF(OR(AF32="",AH32=""),"",IF(AF32="NO CUMPLE","NO CUMPLE",IF(AH32="NO CUMPLE","NO CUMPLE",IF(AH32="NO CUMPLE","NO CUMPLE","CUMPLE"))))
B33: =IF(C33="","",B32+0.1) | I33: =IF(ISERROR(E33-G33),"",E33-G33) -> 0 | J33: =IF(ISERROR(F33-H33),"",F33-H33) -> 0 | N33: =IF(M33="","",VLOOKUP(M33,POA!$B$3:$G7,3,0)) | P33: =+SUM(P34:P37) -> 0 | Q33: =IF(ISERROR(VLOOKUP(M33,POA!$B$3:$G15,2,0)),"",VLOOKUP(M33,POA!$B$3:$G15,2,0)) | S33: =IF(OR($R$26=0,M33="",Q33=""),"",IF($R$26>=VLOOKUP(M33,POA!$B$3:$G$21,6,FALSE),"CUMPLE","NO CUMPLE")) | V33: =IF(OR($U26=0,M33="",Q33=""),"",IF(AND(T33="SI",$U26>=$V$22),"CUMPLE",IF($U26>=$V$23,"CUMPLE","NO CUMPLE"))) | X33: =IF(OR(W26=0,M33="",Q33=""),"",IF(AND(T33="SI",W26<=$X$22),"CUMPLE",IF(W26<=$X$23,"CUMPLE","NO CUMPLE"))) | Z33: =IF(OR(Y26=0,M33="",Q33=""),"",IF(AND(T33="SI",Y26>=$Z$22),"CUMPLE",IF(Y26>=$Z$23,"CUMPLE","NO CUMPLE"))) | AA33: =IF(OR(S33="",V33="",X33="",Z33=""),"",IF(S33="NO CUMPLE","NO CUMPLE",IF(V33="NO CUMPLE","NO CUMPLE",IF(X33="NO CUMPLE","NO CUMPLE",IF(Z33="NO CUMPLE","NO CUMPLE",IF(Z33="NO CUMPLE","NO CUMPLE","CUMPLE")))))) | AB33: 2021 | AC33: =IF(ISERROR(F33/VLOOKUP(AB33,$AC$21:$AD$23,2)),"",F33/VLOOKUP(AB33,$AC$21:$AD$23,2)) -> 0 | AD33: =IF(OR(B33="",C33=""),"",IF(AND(AC33>0,AC33<=30000),"MIPYME","NO CUMPLE")) | AF33: =IF(OR(M33="",L26="",P33=""),"",IF(AND(T26="SI",AE26>=$AF$22),"CUMPLE",IF(AE26>=$AF$23,"CUMPLE","NO CUMPLE"))) | AH33: =IF(OR(M33="",L26="",P26=""),"",IF(AND(T26="SI",AG26>=$AH$22),"CUMPLE",IF(AG26>=$AH$23,"CUMPLE","NO CUMPLE"))) | AI33: =IF(OR(AF33="",AH33=""),"",IF(AF33="NO CUMPLE","NO CUMPLE",IF(AH33="NO CUMPLE","NO CUMPLE",IF(AH33="NO CUMPLE","NO CUMPLE","CUMPLE"))))
B34: =IF(C34="","",B33+0.1) | I34: =IF(ISERROR(E34-G34),"",E34-G34) -> 0 | J34: =IF(ISERROR(F34-H34),"",F34-H34) -> 0 | N34: =IF(M34="","",VLOOKUP(M34,POA!$B$3:$G7,3,0)) | P34: =+SUM(P35:P37) -> 0 | Q34: =IF(ISERROR(VLOOKUP(M34,POA!$B$3:$G16,2,0)),"",VLOOKUP(M34,POA!$B$3:$G16,2,0)) | S34: =IF(OR($R$26=0,M34="",Q34=""),"",IF($R$26>=VLOOKUP(M34,POA!$B$3:$G$21,6,FALSE),"CUMPLE","NO CUMPLE")) | V34: =IF(OR($U26=0,M34="",Q34=""),"",IF(AND(T34="SI",$U26>=$V$22),"CUMPLE",IF($U26>=$V$23,"CUMPLE","NO CUMPLE"))) | X34: =IF(OR(W26=0,M34="",Q34=""),"",IF(AND(T34="SI",W26<=$X$22),"CUMPLE",IF(W26<=$X$23,"CUMPLE","NO CUMPLE"))) | Z34: =IF(OR(Y26=0,M34="",Q34=""),"",IF(AND(T34="SI",Y26>=$Z$22),"CUMPLE",IF(Y26>=$Z$23,"CUMPLE","NO CUMPLE"))) | AA34: =IF(OR(S34="",V34="",X34="",Z34=""),"",IF(S34="NO CUMPLE","NO CUMPLE",IF(V34="NO CUMPLE","NO CUMPLE",IF(X34="NO CUMPLE","NO CUMPLE",IF(Z34="NO CUMPLE","NO CUMPLE",IF(Z34="NO CUMPLE","NO CUMPLE","CUMPLE")))))) | AB34: 2021 | AC34: =IF(ISERROR(F34/VLOOKUP(AB34,$AC$21:$AD$23,2)),"",F34/VLOOKUP(AB34,$AC$21:$AD$23,2)) -> 0 | AD34: =IF(OR(B34="",C34=""),"",IF(AND(AC34>0,AC34<=30000),"MIPYME","NO CUMPLE")) | AF34: =IF(OR(M34="",L26="",P26=""),"",IF(AND(T26="SI",AE26>=$AF$22),"CUMPLE",IF(AE26>=$AF$23,"CUMPLE","NO CUMPLE"))) | AH34: =IF(OR(M34="",L26="",P26=""),"",IF(AND(T26="SI",AG26>=$AH$22),"CUMPLE",IF(AG26>=$AH$23,"CUMPLE","NO CUMPLE"))) | AI34: =IF(OR(AF34="",AH34=""),"",IF(AF34="NO CUMPLE","NO CUMPLE",IF(AH34="NO CUMPLE","NO CUMPLE",IF(AH34="NO CUMPLE","NO CUMPLE","CUMPLE"))))
B35: =IF(C35="","",B34+0.1) | I35: =IF(ISERROR(E35-G35),"",E35-G35) -> 0 | J35: =IF(ISERROR(F35-H35),"",F35-H35) -> 0 | N35: =IF(M35="","",VLOOKUP(M35,POA!$B$3:$G7,3,0)) | P35: =+SUM(P36:P37) -> 0 | Q35: =IF(ISERROR(VLOOKUP(M35,POA!$B$3:$G11,2,0)),"",VLOOKUP(M35,POA!$B$3:$G11,2,0)) | V35: =IF(OR($U26=0,M35="",Q35=""),"",IF(AND(T35="SI",$U26>=$V$22),"CUMPLE",IF($U26>=$V$23,"CUMPLE","NO CUMPLE"))) | X35: =IF(OR(W26=0,M35="",Q35=""),"",IF(AND(T35="SI",W26<=$X$22),"CUMPLE",IF(W26<=$X$23,"CUMPLE","NO CUMPLE"))) | Z35: =IF(OR(Y26=0,M35="",Q35=""),"",IF(AND(T35="SI",Y26>=$Z$22),"CUMPLE",IF(Y26>=$Z$23,"CUMPLE","NO CUMPLE"))) | AA35: =IF(OR(S35="",V35="",X35="",Z35=""),"",IF(S35="NO CUMPLE","NO CUMPLE",IF(V35="NO CUMPLE","NO CUMPLE",IF(X35="NO CUMPLE","NO CUMPLE",IF(Z35="NO CUMPLE","NO CUMPLE",IF(Z35="NO CUMPLE","NO CUMPLE","CUMPLE")))))) | AB35: 2021 | AC35: =IF(ISERROR(F35/VLOOKUP(AB35,$AC$21:$AD$23,2)),"",F35/VLOOKUP(AB35,$AC$21:$AD$23,2)) -> 0 | AD35: =IF(OR(B35="",C35=""),"",IF(AND(AC35>0,AC35<=30000),"MIPYME","NO CUMPLE")) | AF35: =IF(OR(M35="",L26="",P35=""),"",IF(AND(T26="SI",AE26>=$AF$22),"CUMPLE",IF(AE26>=$AF$23,"CUMPLE","NO CUMPLE"))) | AH35: =IF(OR(M35="",L26="",P26=""),"",IF(AND(T26="SI",AG26>=$AH$22),"CUMPLE",IF(AG26>=$AH$23,"CUMPLE","NO CUMPLE"))) | AI35: =IF(OR(AF35="",AH35=""),"",IF(AF35="NO CUMPLE","NO CUMPLE",IF(AH35="NO CUMPLE","NO CUMPLE",IF(AH35="NO CUMPLE","NO CUMPLE","CUMPLE"))))
B36: =IF(C36="","",B35+0.1) | I36: =IF(ISERROR(E36-G36),"",E36-G36) -> 0 | J36: =IF(ISERROR(F36-H36),"",F36-H36) -> 0 | N36: =IF(M36="","",VLOOKUP(M36,POA!$B$3:$G7,3,0)) | P36: =+SUM(P37:P37) -> 0 | Q36: =IF(ISERROR(VLOOKUP(M36,POA!$B$3:$G11,2,0)),"",VLOOKUP(M36,POA!$B$3:$G11,2,0)) | V36: =IF(OR($U27=0,M36="",Q36=""),"",IF(AND(T36="SI",$U27>=$V$22),"CUMPLE",IF($U27>=$V$23,"CUMPLE","NO CUMPLE"))) | X36: =IF(OR(W27=0,M36="",Q36=""),"",IF(AND(T36="SI",W27<=$X$22),"CUMPLE",IF(W27<=$X$23,"CUMPLE","NO CUMPLE"))) | Z36: =IF(OR(Y27=0,M36="",Q36=""),"",IF(AND(T36="SI",Y27>=$Z$22),"CUMPLE",IF(Y27>=$Z$23,"CUMPLE","NO CUMPLE"))) | AA36: =IF(OR(S36="",V36="",X36="",Z36=""),"",IF(S36="NO CUMPLE","NO CUMPLE",IF(V36="NO CUMPLE","NO CUMPLE",IF(X36="NO CUMPLE","NO CUMPLE",IF(Z36="NO CUMPLE","NO CUMPLE",IF(Z36="NO CUMPLE","NO CUMPLE","CUMPLE")))))) | AF36: =IF(OR(M36="",L26="",P36=""),"",IF(AND(T26="SI",AE26>=$AF$22),"CUMPLE",IF(AE26>=$AF$23,"CUMPLE","NO CUMPLE"))) | AH36: =IF(OR(M36="",L26="",P26=""),"",IF(AND(T26="SI",AG26>=$AH$22),"CUMPLE",IF(AG26>=$AH$23,"CUMPLE","NO CUMPLE"))) | AI36: =IF(OR(AF36="",AH36=""),"",IF(AF36="NO CUMPLE","NO CUMPLE",IF(AH36="NO CUMPLE","NO CUMPLE",IF(AH36="NO CUMPLE","NO CUMPLE","CUMPLE"))))
B37: B
A38: HENRY ALBERTO CASTRO REINA | B38: 2 | C38: CONSTRUCTODO INGENIEROS CONTRATISTAS LTDA | D38: =IF(SUM(D39:D48)=0,"",SUM(D39:D48)) -> 1 | E38: =IF(ISERROR(SUM(E39:E48)),"",SUM(E39:E48)) -> 659604459 | F38: =IF(ISERROR(SUM(F39:F48)),"",SUM(F39:F48)) -> 877856586 | G38: =IF(ISERROR(SUM(G39:G48)),"",SUM(G39:G48)) -> 24995572 | H38: =IF(ISERROR(SUM(H39:H48)),"",SUM(H39:H48)) -> 24995572 | I38: =IF(ISERROR(SUM(I39:I48)),"",SUM(I39:I48)) -> 634608887 | J38: =IF(ISERROR(SUM(J39:J48)),"",SUM(J39:J48)) -> 852861014 | K38: =IF(ISERROR(SUM(K39:K48)),"",SUM(K39:K48)) -> 22451619 | L38: =IF(ISERROR(SUM(L39:L47)),"",SUM(L39:L47)) -> 2458951 | M38: 1 | N38: =IF(M38="","",VLOOKUP(M38,POA!$B$3:$G11,3,0)) -> 5 | P38: =+SUM(P39:P47) -> 0 | Q38: =IF(ISERROR(VLOOKUP(M38,POA!$B$3:$G23,2,0)),"",VLOOKUP(M38,POA!$B$3:$G23,2,0)) -> 3031202957 | R38: =IF(M38="","",SUM($I$38)+IF(ISERROR(VLOOKUP(M38,POA!$B$3:$G11,4,0)),"",VLOOKUP(M38,POA!$B$3:$G11,4,0))) -> 1.2408495e+09 | S38: =IF(OR($R$26=0,M38="",Q38=""),"",IF($R$26>=VLOOKUP(M38,POA!$B$3:$G$21,6,FALSE),"CUMPLE","NO CUMPLE")) | T38: =IF(M38="","",IF(COUNTIFS(T39:T48,"SI",D39:D48,">=10%")>0,"SI","NO")) -> SI | U38: =IF(ISERROR(SUM(E38/G38)),0,SUM(E38/G38)) -> 26.388852 | V38: =IF(OR($U38=0,M38="",Q38=""),"",IF(AND(T38="SI",$U38>=$V$22),"CUMPLE",IF($U38>=$V$23,"CUMPLE","NO CUMPLE"))) -> CUMPLE | W38: =IF(M38="","",IF(ISERROR(SUM(H38/F38)),0,SUM(H38/F38))) -> 0.028473412 | X38: =IF(OR(W38=0,M38="",Q38=""),"",IF(AND(T38="SI",W38<=$X$22),"CUMPLE",IF(W38<=$X$23,"CUMPLE","NO CUMPLE"))) -> CUMPLE | Y38: =IF(ISERROR(SUM(K38/L38)),0,SUM(K38/L38)) -> 9.1305679 | Z38: =IF(OR(Y38=0,M38="",Q38=""),"",IF(AND(T38="SI",Y38>=$Z$22),"CUMPLE",IF(Y38>=$Z$23,"CUMPLE","NO CUMPLE"))) -> CUMPLE | AA38: =IF(OR(S38="",V38="",X38="",Z38=""),"",IF(S38="NO CUMPLE","NO CUMPLE",IF(V38="NO CUMPLE","NO CUMPLE",IF(X38="NO CUMPLE","NO CUMPLE",IF(Z38="NO CUMPLE","NO CUMPLE",IF(Z38="NO CUMPLE","NO CUMPLE","CUMPLE")))))) | AB38: 2021 | AC38: =IF(ISERROR(F38/VLOOKUP(AB38,$AC$21:$AD$23,2)),"",F38/VLOOKUP(AB38,$AC$21:$AD$23,2)) -> 966.24267 | AD38: =IF(OR(B38="",C38=""),"",IF(AND(AC38>0,AC38<=30000),"MIPYME","NO CUMPLE")) -> MIPYME | AE38: =IF(M38="","",IF(ISERROR(SUM(K38/J38)),0,SUM(K38/J38))) -> 0.026325062 | AF38: =IF(OR(M38="",L38="",P38=""),"",IF(AND(T38="SI",AE38>=$AF$22),"CUMPLE",IF(AE38>=$AF$23,"CUMPLE","NO CUMPLE"))) -> CUMPLE | AG38: =IF(M38="","",IF(ISERROR(SUM(K38/F38)),0,SUM(K38/F38))) -> 0.025575498 | AH38: =IF(OR(M38="",L38="",P38=""),"",IF(AND(T38="SI",AG38>=$AH$22),"CUMPLE",IF(AG38>=$AH$23,"CUMPLE","NO CUMPLE"))) -> CUMPLE | AI38: =IF(OR(AF38="",AH38=""),"",IF(AF38="NO CUMPLE","NO CUMPLE",IF(AH38="NO CUMPLE","NO CUMPLE",IF(AH38="NO CUMPLE","NO CUMPLE","CUMPLE")))) -> CUMPLE
A39: 45483 | B39: =IF(C39="","",B38+0.1) -> 2.1 | C39: CONSTRUCTODO INGENIEROS CONTRATISTAS LTDA | D39: 1 | E39: 659604459 | F39: 877856586 | G39: 24995572 | H39: 24995572 | I39: =IF(ISERROR(E39-G39),"",E39-G39) -> 634608887 | J39: =IF(ISERROR(F39-H39),"",F39-H39) -> 852861014 | K39: 22451619 | L39: 2458951 | M39: 2 | N39: =IF(M39="","",VLOOKUP(M39,POA!$B$3:$G11,3,0)) -> 5 | P39: =+SUM(P40:P48) -> 0 | Q39: =IF(ISERROR(VLOOKUP(M39,POA!$B$3:$G23,2,0)),"",VLOOKUP(M39,POA!$B$3:$G23,2,0)) -> 1797292893 | R39: =IF(M39="","",SUM($I$38)+IF(ISERROR(VLOOKUP(M39,POA!$B$3:$G12,4,0)),"",VLOOKUP(M39,POA!$B$3:$G12,4,0))) -> 9.9406747e+08 | S39: =IF(OR($R$26=0,M39="",Q39=""),"",IF($R$26>=VLOOKUP(M39,POA!$B$3:$G$21,6,FALSE),"CUMPLE","NO CUMPLE")) | T39: SI | V39: =IF(OR($U38=0,M39="",Q39=""),"",IF(AND(T39="SI",$U38>=$V$22),"CUMPLE",IF($U38>=$V$23,"CUMPLE","NO CUMPLE"))) -> CUMPLE | X39: =IF(OR(W38=0,M39="",Q39=""),"",IF(AND(T39="SI",W38<=$X$22),"CUMPLE",IF(W38<=$X$23,"CUMPLE","NO CUMPLE"))) -> CUMPLE | Z39: =IF(OR(Y38=0,M39="",Q39=""),"",IF(AND(T39="SI",Y38>=$Z$22),"CUMPLE",IF(Y38>=$Z$23,"CUMPLE","NO CUMPLE"))) -> CUMPLE | AA39: =IF(OR(S39="",V39="",X39="",Z39=""),"",IF(S39="NO CUMPLE","NO CUMPLE",IF(V39="NO CUMPLE","NO CUMPLE",IF(X39="NO CUMPLE","NO CUMPLE",IF(Z39="NO CUMPLE","NO CUMPLE",IF(Z39="NO CUMPLE","NO CUMPLE","CUMPLE")))))) | AB39: 2021 | AC39: =IF(ISERROR(F39/VLOOKUP(AB39,$AC$21:$AD$23,2)),"",F39/VLOOKUP(AB39,$AC$21:$AD$23,2)) -> 966.24267 | AD39: =IF(OR(B39="",C39=""),"",IF(AND(AC39>0,AC39<=30000),"MIPYME","NO CUMPLE")) -> MIPYME | AF39: =IF(OR(M39="",L38="",P39=""),"",IF(AND(T38="SI",AE38>=$AF$22),"CUMPLE",IF(AE38>=$AF$23,"CUMPLE","NO CUMPLE"))) -> CUMPLE | AH39: =IF(OR(M39="",L38="",P39=""),"",IF(AND(T38="SI",AG38>=$AH$22),"CUMPLE",IF(AG38>=$AH$23,"CUMPLE","NO CUMPLE"))) -> CUMPLE | AI39: =IF(OR(AF39="",AH39=""),"",IF(AF39="NO CUMPLE","NO CUMPLE",IF(AH39="NO CUMPLE","NO CUMPLE",IF(AH39="NO CUMPLE","NO CUMPLE","CUMPLE")))) -> CUMPLE
B40: =IF(C40="","",B39+0.1) | I40: =IF(ISERROR(E40-G40),"",E40-G40) -> 0 | J40: =IF(ISERROR(F40-H40),"",F40-H40) -> 0 | M40: 3 | N40: =IF(M40="","",VLOOKUP(M40,POA!$B$3:$G11,3,0)) -> 5 | P40: =+SUM(P41:P49) -> 0 | Q40: =IF(ISERROR(VLOOKUP(M40,POA!$B$3:$G23,2,0)),"",VLOOKUP(M40,POA!$B$3:$G23,2,0)) -> 1522205504 | R40: =IF(M40="","",SUM($I$38)+IF(ISERROR(VLOOKUP(M40,POA!$B$3:$G13,4,0)),"",VLOOKUP(M40,POA!$B$3:$G13,4,0))) -> 9.3904999e+08 | S40: =IF(OR($R$26=0,M40="",Q40=""),"",IF($R$26>=VLOOKUP(M40,POA!$B$3:$G$21,6,FALSE),"CUMPLE","NO CUMPLE")) | V40: =IF(OR($U38=0,M40="",Q40=""),"",IF(AND(T40="SI",$U38>=$V$22),"CUMPLE",IF($U38>=$V$23,"CUMPLE","NO CUMPLE"))) -> CUMPLE | X40: =IF(OR(W38=0,M40="",Q40=""),"",IF(AND(T40="SI",W38<=$X$22),"CUMPLE",IF(W38<=$X$23,"CUMPLE","NO CUMPLE"))) -> CUMPLE | Z40: =IF(OR(Y38=0,M40="",Q40=""),"",IF(AND(T40="SI",Y38>=$Z$22),"CUMPLE",IF(Y38>=$Z$23,"CUMPLE","NO CUMPLE"))) -> CUMPLE | AA40: =IF(OR(S40="",V40="",X40="",Z40=""),"",IF(S40="NO CUMPLE","NO CUMPLE",IF(V40="NO CUMPLE","NO CUMPLE",IF(X40="NO CUMPLE","NO CUMPLE",IF(Z40="NO CUMPLE","NO CUMPLE",IF(Z40="NO CUMPLE","NO CUMPLE","CUMPLE")))))) | AB40: 2021 | AC40: =IF(ISERROR(F40/VLOOKUP(AB40,$AC$21:$AD$23,2)),"",F40/VLOOKUP(AB40,$AC$21:$AD$23,2)) -> 0 | AD40: =IF(OR(B40="",C40=""),"",IF(AND(AC40>0,AC40<=30000),"MIPYME","NO CUMPLE")) | AF40: =IF(OR(M40="",L38="",P40=""),"",IF(AND(T38="SI",AE38>=$AF$22),"CUMPLE",IF(AE38>=$AF$23,"CUMPLE","NO CUMPLE"))) -> CUMPLE | AH40: =IF(OR(M40="",L38="",P38=""),"",IF(AND(T38="SI",AG38>=$AH$22),"CUMPLE",IF(AG38>=$AH$23,"CUMPLE","NO CUMPLE"))) -> CUMPLE | AI40: =IF(OR(AF40="",AH40=""),"",IF(AF40="NO CUMPLE","NO CUMPLE",IF(AH40="NO CUMPLE","NO CUMPLE",IF(AH40="NO CUMPLE","NO CUMPLE","CUMPLE")))) -> CUMPLE
B41: =IF(C41="","",B40+0.1) | I41: =IF(ISERROR(E41-G41),"",E41-G41) -> 0 | J41: =IF(ISERROR(F41-H41),"",F41-H41) -> 0 | M41: 4 | N41: =IF(M41="","",VLOOKUP(M41,POA!$B$3:$G11,3,0)) -> 5 | P41: =+SUM(P42:P49) -> 0 | Q41: =IF(ISERROR(VLOOKUP(M41,POA!$B$3:$G23,2,0)),"",VLOOKUP(M41,POA!$B$3:$G23,2,0)) -> 1378467964 | R41: =IF(M41="","",SUM($I$38)+IF(ISERROR(VLOOKUP(M41,POA!$B$3:$G14,4,0)),"",VLOOKUP(M41,POA!$B$3:$G14,4,0))) -> 9.1030248e+08 | S41: =IF(OR($R$26=0,M41="",Q41=""),"",IF($R$26>=VLOOKUP(M41,POA!$B$3:$G$21,6,FALSE),"CUMPLE","NO CUMPLE")) | V41: =IF(OR($U38=0,M41="",Q41=""),"",IF(AND(T41="SI",$U38>=$V$22),"CUMPLE",IF($U38>=$V$23,"CUMPLE","NO CUMPLE"))) -> CUMPLE | X41: =IF(OR(W38=0,M41="",Q41=""),"",IF(AND(T41="SI",W38<=$X$22),"CUMPLE",IF(W38<=$X$23,"CUMPLE","NO CUMPLE"))) -> CUMPLE | Z41: =IF(OR(Y38=0,M41="",Q41=""),"",IF(AND(T41="SI",Y38>=$Z$22),"CUMPLE",IF(Y38>=$Z$23,"CUMPLE","NO CUMPLE"))) -> CUMPLE | AA41: =IF(OR(S41="",V41="",X41="",Z41=""),"",IF(S41="NO CUMPLE","NO CUMPLE",IF(V41="NO CUMPLE","NO CUMPLE",IF(X41="NO CUMPLE","NO CUMPLE",IF(Z41="NO CUMPLE","NO CUMPLE",IF(Z41="NO CUMPLE","NO CUMPLE","CUMPLE")))))) | AB41: 2021 | AC41: =IF(ISERROR(F41/VLOOKUP(AB41,$AC$21:$AD$23,2)),"",F41/VLOOKUP(AB41,$AC$21:$AD$23,2)) -> 0 | AD41: =IF(OR(B41="",C41=""),"",IF(AND(AC41>0,AC41<=30000),"MIPYME","NO CUMPLE")) | AF41: =IF(OR(M41="",L38="",P41=""),"",IF(AND(T38="SI",AE38>=$AF$22),"CUMPLE",IF(AE38>=$AF$23,"CUMPLE","NO CUMPLE"))) -> CUMPLE | AH41: =IF(OR(M41="",L38="",P38=""),"",IF(AND(T38="SI",AG38>=$AH$22),"CUMPLE",IF(AG38>=$AH$23,"CUMPLE","NO CUMPLE"))) -> CUMPLE | AI41: =IF(OR(AF41="",AH41=""),"",IF(AF41="NO CUMPLE","NO CUMPLE",IF(AH41="NO CUMPLE","NO CUMPLE",IF(AH41="NO CUMPLE","NO CUMPLE","CUMPLE")))) -> CUMPLE
B42: =IF(C42="","",B41+0.1) | I42: =IF(ISERROR(E42-G42),"",E42-G42) -> 0 | J42: =IF(ISERROR(F42-H42),"",F42-H42) -> 0 | M42: 5 | N42: =IF(M42="","",VLOOKUP(M42,POA!$B$3:$G23,3,0)) -> 5 | P42: =+SUM(P43:P49) -> 0 | Q42: =IF(ISERROR(VLOOKUP(M42,POA!$B$3:$G12,2,0)),"",VLOOKUP(M42,POA!$B$3:$G12,2,0)) -> 1348402734 | R42: =IF(M42="","",SUM($I$38)+IF(ISERROR(VLOOKUP(M42,POA!$B$3:$G15,4,0)),"",VLOOKUP(M42,POA!$B$3:$G15,4,0))) -> 9.0428943e+08 | S42: =IF(OR($R$26=0,M42="",Q42=""),"",IF($R$26>=VLOOKUP(M42,POA!$B$3:$G$21,6,FALSE),"CUMPLE","NO CUMPLE")) | V42: =IF(OR($U38=0,M42="",Q42=""),"",IF(AND(T42="SI",$U38>=$V$22),"CUMPLE",IF($U38>=$V$23,"CUMPLE","NO CUMPLE"))) -> CUMPLE | X42: =IF(OR(W38=0,M42="",Q42=""),"",IF(AND(T42="SI",W38<=$X$22),"CUMPLE",IF(W38<=$X$23,"CUMPLE","NO CUMPLE"))) -> CUMPLE | Z42: =IF(OR(Y38=0,M42="",Q42=""),"",IF(AND(T42="SI",Y38>=$Z$22),"CUMPLE",IF(Y38>=$Z$23,"CUMPLE","NO CUMPLE"))) -> CUMPLE | AA42: =IF(OR(S42="",V42="",X42="",Z42=""),"",IF(S42="NO CUMPLE","NO CUMPLE",IF(V42="NO CUMPLE","NO CUMPLE",IF(X42="NO CUMPLE","NO CUMPLE",IF(Z42="NO CUMPLE","NO CUMPLE",IF(Z42="NO CUMPLE","NO CUMPLE","CUMPLE")))))) | AB42: 2021 | AC42: =IF(ISERROR(F42/VLOOKUP(AB42,$AC$21:$AD$23,2)),"",F42/VLOOKUP(AB42,$AC$21:$AD$23,2)) -> 0 | AD42: =IF(OR(B42="",C42=""),"",IF(AND(AC42>0,AC42<=30000),"MIPYME","NO CUMPLE")) | AF42: =IF(OR(M42="",L38="",P42=""),"",IF(AND(T38="SI",AE38>=$AF$22),"CUMPLE",IF(AE38>=$AF$23,"CUMPLE","NO CUMPLE"))) -> CUMPLE | AH42: =IF(OR(M41="",L38="",P38=""),"",IF(AND(T38="SI",AG38>=$AH$22),"CUMPLE",IF(AG38>=$AH$23,"CUMPLE","NO CUMPLE"))) -> CUMPLE | AI42: =IF(OR(AF42="",AH42=""),"",IF(AF42="NO CUMPLE","NO CUMPLE",IF(AH42="NO CUMPLE","NO CUMPLE",IF(AH42="NO CUMPLE","NO CUMPLE","CUMPLE")))) -> CUMPLE
B43: =IF(C43="","",B42+0.1) | I43: =IF(ISERROR(E43-G43),"",E43-G43) -> 0 | J43: =IF(ISERROR(F43-H43),"",F43-H43) -> 0 | M43: 6 | N43: =IF(M43="","",VLOOKUP(M43,POA!$B$3:$G11,3,0)) -> 5 | P43: =+SUM(P44:P49) -> 0 | Q43: =IF(ISERROR(VLOOKUP(M43,POA!$B$3:$G23,2,0)),"",VLOOKUP(M43,POA!$B$3:$G23,2,0)) -> 1264100957 | R43: =IF(M43="","",SUM($I$38)+IF(ISERROR(VLOOKUP(M43,POA!$B$3:$G16,4,0)),"",VLOOKUP(M43,POA!$B$3:$G16,4,0))) -> 8.8742908e+08 | S43: =IF(OR($R$26=0,M43="",Q43=""),"",IF($R$26>=VLOOKUP(M43,POA!$B$3:$G$21,6,FALSE),"CUMPLE","NO CUMPLE")) | V43: =IF(OR($U38=0,M43="",Q43=""),"",IF(AND(T43="SI",$U38>=$V$22),"CUMPLE",IF($U38>=$V$23,"CUMPLE","NO CUMPLE"))) -> CUMPLE | X43: =IF(OR(W38=0,M43="",Q43=""),"",IF(AND(T43="SI",W38<=$X$22),"CUMPLE",IF(W38<=$X$23,"CUMPLE","NO CUMPLE"))) -> CUMPLE | Z43: =IF(OR(Y38=0,M43="",Q43=""),"",IF(AND(T43="SI",Y38>=$Z$22),"CUMPLE",IF(Y38>=$Z$23,"CUMPLE","NO CUMPLE"))) -> CUMPLE | AA43: =IF(OR(S43="",V43="",X43="",Z43=""),"",IF(S43="NO CUMPLE","NO CUMPLE",IF(V43="NO CUMPLE","NO CUMPLE",IF(X43="NO CUMPLE","NO CUMPLE",IF(Z43="NO CUMPLE","NO CUMPLE",IF(Z43="NO CUMPLE","NO CUMPLE","CUMPLE")))))) | AB43: 2021 | AC43: =IF(ISERROR(F43/VLOOKUP(AB43,$AC$21:$AD$23,2)),"",F43/VLOOKUP(AB43,$AC$21:$AD$23,2)) -> 0 | AD43: =IF(OR(B43="",C43=""),"",IF(AND(AC43>0,AC43<=30000),"MIPYME","NO CUMPLE")) | AF43: =IF(OR(M43="",L38="",P43=""),"",IF(AND(T38="SI",AE38>=$AF$22),"CUMPLE",IF(AE38>=$AF$23,"CUMPLE","NO CUMPLE"))) -> CUMPLE | AH43: =IF(OR(M43="",L38="",P38=""),"",IF(AND(T38="SI",AG38>=$AH$22),"CUMPLE",IF(AG38>=$AH$23,"CUMPLE","NO CUMPLE"))) -> CUMPLE | AI43: =IF(OR(AF43="",AH43=""),"",IF(AF43="NO CUMPLE","NO CUMPLE",IF(AH43="NO CUMPLE","NO CUMPLE",IF(AH43="NO CUMPLE","NO CUMPLE","CUMPLE")))) -> CUMPLE
...

Sheet formato 8
N1: 1
B2: FORMATO 8
B4: PROPUESTA No. | C4: PROPONENTE | D4: CUMPLE / NO CUMPLE
B5: 1 | C5: INGEVAL SAS | D5: CUMPLE
B6: 2 | C6: CONSTRUCTORES INGENIEROS CONTRATISTAS LTDA | D6: CUMPLE
B7: 3 | C7: ALDEIC SAS BIC | D7: CUMPLE
B8: 4 | C8: GS VIAS Y ESTRUCTURAS | D8: CUMPLE
B9: 5 | C9: CONSORCIO INTERVIAL INCORDIS PC 2024 | D9: CUMPLE
B10: 6 | C10: CONSORCIO INTERVENTORES IL | D10: CUMPLE
B11: 7 | C11: UNIOBRAS DEL ORIENTE S.A.S | D11: CUMPLE
B12: 8 | C12: CONSORCIO SINU | D12: CUMPLE
B13: 9 | C13: CONSORCIO CAMINOS COMUNITARIOS SUR | D13: CUMPLE
B14: 10 | C14: INTERSA S.A. | D14: CUMPLE
B15: 11 | C15: CONSORCIO ZONA SUR OCCIDENTE 046 | D15: CUMPLE
B16: 12 | C16: CONSORCIO SAMUEL 2024 | D16: CUMPLE
... B120: 116 | C120: CONSORCIO SAN RAFAEL | D120: NO CUMPLE

Sheet formato 9
H1: 1
B2: FORMATO 9
B4: PROPUESTA No. | C4: PROPONENTE | D4: Experiencia adicional del personal clave evaluable | E4: Formación académica adicional del personal clave | F4: TOTAL PUNTAJE FORMATO 9
B5: 1 | C5: INGEVAL SAS | D5: 5 | E5: 5 | F5: 10
B6: 2 | C6: CONSTRUCTORES INGENIEROS CONTRATISTAS LTDA | D6: 5 | E6: 5 | F6: 10
B7: 3 | C7: ALDEIC SAS BIC | D7: 5 | E7: 5 | F7: 10
B8: 4 | C8: GS VIAS Y ESTRUCTURAS | D8: 5 | E8: 5 | F8: 10
B9: 5 | C9: CONSORCIO INTERVIAL INCORDIS PC 2024 | D9: 5 | E9: 5 | F9: 10
B10: 6 | C10: CONSORCIO INTERVENTORES IL | D10: 5 | E10: 5 | F10: 10
B11: 7 | C11: UNIOBRAS DEL ORIENTE S.A.S | D11: 5 | E11: 5 | F11: 10
B12: 8 | C12: CONSORCIO SINU | D12: 5 | E12: 5 | F12: 10
B13: 9 | C13: CONSORCIO CAMINOS COMUNITARIOS SUR | D13: 5 | E13: 5 | F13: 10
B14: 10 | C14: INTERSA S.A. | D14: 5 | E14: 5 | F14: 10
B15: 11 | C15: CONSORCIO ZONA SUR OCCIDENTE 046 | D15: 5 | E15: 5 | F15: 10
B16: 12 | C16: CONSORCIO SAMUEL 2024 | D16: 5 | E16: 5 | F16: 10
... B120: 116 | C120: CONSORCIO SAN RAFAEL | D120: 5 | E120: 5 | F120: 10

Sheet FORMATO 12
B2: FORMATO 12
B4: PROPUESTA No. | C4: PROPONENTE | D4: PUNTAJE
B5: 1 | C5: INGEVAL SAS | D5: 1
B6: 2 | C6: CONSTRUCTORES INGENIEROS CONTRATISTAS LTDA | D6: 1
B7: 3 | C7: ALDEIC SAS BIC | D7: 1
B8: 4 | C8: GS VIAS Y ESTRUCTURAS | D8: 1
B9: 5 | C9: CONSORCIO INTERVIAL INCORDIS PC 2024 | D9: 1
B10: 6 | C10: CONSORCIO INTERVENTORES IL | D10: 1
B11: 7 | C11: UNIOBRAS DEL ORIENTE S.A.S | D11: 1
B12: 8 | C12: CONSORCIO SINU | D12: 1
B13: 9 | C13: CONSORCIO CAMINOS COMUNITARIOS SUR | D13: 1
B14: 10 | C14: INTERSA S.A. | D14: 1
B15: 11 | C15: CONSORCIO ZONA SUR OCCIDENTE 046 | D15: 1
B16: 12 | C16: CONSORCIO SAMUEL 2024 | D16: 1
... B120: 116 | C120: CONSORCIO SAN RAFAEL | D120: 1

Sheet FORMATOS
B2: FORMATO No.8 | F2: FORMATO No.9 | J2: FORMATO No.12
B4: Propuesta No. | C4: PROPONENTE | D4: CUMPLE / NO CUMPLE | F4: Propuesta No. | G4: PROPONENTE | H4: PUNTAJE | J4: Propuesta No. | K4: PROPONENTE | L4: PUNTAJE
B5: 1 | C5: INGEVAL SAS | D5: CUMPLE | F5: 1 | G5: INGEVAL SAS | H5: 10 | J5: 1 | K5: INGEVAL SAS | L5: 1
B6: 2 | C6: CONSTRUCTORES INGENIEROS CONTRATISTAS LTDA | D6: CUMPLE | F6: 2 | G6: CONSTRUCTORES INGENIEROS CONTRATISTAS LTDA | H6: 10 | J6: 2 | K6: CONSTRUCTORES INGENIEROS CONTRATISTAS LTDA | L6: 1
B7: 3 | C7: ALDEIC SAS BIC | D7: CUMPLE | F7: 3 | G7: ALDEIC SAS BIC | H7: 10 | J7: 3 | K7: ALDEIC SAS BIC | L7: 1
B8: 4 | C8: GS VIAS Y ESTRUCTURAS | D8: CUMPLE | F8: 4 | G8: GS VIAS Y ESTRUCTURAS | H8: 10 | J8: 4 | K8: GS VIAS Y ESTRUCTURAS | L8: 1
B9: 5 | C9: CONSORCIO INTERVIAL INCORDIS PC 2024 | D9: CUMPLE | F9: 5 | G9: CONSORCIO INTERVIAL INCORDIS PC 2024 | H9: 10 | J9: 5 | K9: CONSORCIO INTERVIAL INCORDIS PC 2024 | L9: 1
B10: 6 | C10: CONSORCIO INTERVENTORES IL | D10: CUMPLE | F10: 6 | G10: CONSORCIO INTERVENTORES IL | H10: 10 | J10: 6 | K10: CONSORCIO INTERVENTORES IL | L10: 1
B11: 7 | C11: UNIOBRAS DEL ORIENTE S.A.S | D11: CUMPLE | F11: 7 | G11: UNIOBRAS DEL ORIENTE S.A.S | H11: 10 | J11: 7 | K11: UNIOBRAS DEL ORIENTE S.A.S | L11: 1
B12: 8 | C12: CONSORCIO SINU | D12: CUMPLE | F12: 8 | G12: CONSORCIO SINU | H12: 10 | J12: 8 | K12: CONSORCIO SINU | L12: 1
B13: 9 | C13: CONSORCIO CAMINOS COMUNITARIOS SUR | D13: CUMPLE | F13: 9 | G13: CONSORCIO CAMINOS COMUNITARIOS SUR | H13: 10 | J13: 9 | K13: CONSORCIO CAMINOS COMUNITARIOS SUR | L13: 1
B14: 10 | C14: INTERSA S.A. | D14: CUMPLE | F14: 10 | G14: INTERSA S.A. | H14: 10 | J14: 10 | K14: INTERSA S.A. | L14: 1
B15: 11 | C15: CONSORCIO ZONA SUR OCCIDENTE 046 | D15: CUMPLE | F15: 11 | G15: CONSORCIO ZONA SUR OCCIDENTE 046 | H15: 10 | J15: 11 | K15: CONSORCIO ZONA SUR OCCIDENTE 046 | L15: 1
B16: 12 | C16: CONSORCIO SAMUEL 2024 | D16: CUMPLE | F16: 12 | G16: CONSORCIO SAMUEL 2024 | H16: 10 | J16: 12 | K16: CONSORCIO SAMUEL 2024 | L16: 1
... B120: 116 | C120: CONSORCIO SAN RAFAEL | D120: NO CUMPLE | F120: 116 | G120: CONSORCIO SAN RAFAEL | H120: 10 | J120: 116 | K120: CONSORCIO SAN RAFAEL | L120: 1

Sheet RESUMEN
B2: RESULTADOS DE LA EVALUACION FINANCIERA
B4: No. | C4: NOMBRE | D4: l 1 | E4: l 2 | F4: l 3 | G4: l 4 | H4: l 5 | I4: l 6 | J4: l 7 | K4: l 8 | L4: l 9 | M4: FINANZAC | N4: ORGANIZACIÓN | O4: FORMATO No.8 | P4: FORMATO No.9 | Q4: FORMATO No.12 | R4: ECONOMICA | S4: Columna1 | T4: Columna2
B5: 1 | C5: INGEVAL SAS | G5: X | I5: X | J5: X | M5: NO CUMPLE | N5: CUMPLE | O5: CUMPLE | P5: 10 | Q5: 1 | R5: RUP FECHA ANTERIOR
B6: 2 | C6: CONSTRUCTORES INGENIEROS CONTRATISTAS LTDA | D6: X | E6: X | F6: X | G6: X | H6: X | I6: X | J6: X | K6: X | L6: X | M6: CUMPLE | N6: CUMPLE | O6: CUMPLE | P6: 10 | Q6: 1
B7: 3 | C7: ALDEIC SAS BIC | G7: X | I7: X | J7: X | K7: X | M7: CUMPLE | N7: CUMPLE | O7: CUMPLE | P7: 10 | Q7: 1
B8: 4 | C8: GS VIAS Y ESTRUCTURAS | D8: X | E8: X | F8: X | G8: X | H8: X | I8: X | J8: X | K8: X | L8: X | M8: CUMPLE | N8: CUMPLE | O8: CUMPLE | P8: 10 | Q8: 1
B9: 5 | C9: CONSORCIO INTERVIAL INCORDIS PC 2024 | F9: X | G9: X | H9: X | I9: X | J9: X | K9: X | L9: X | M9: CUMPLE | N9: CUMPLE | O9: CUMPLE | P9: 10 | Q9: 1
B10: 6 | C10: CONSORCIO INTERVENTORES IL | J10: X | K10: X | L10: X | M10: CUMPLE | N10: CUMPLE | O10: CUMPLE | P10: 10 | Q10: 1
B11: 7 | C11: UNIOBRAS DEL ORIENTE S.A.S | D11: X | E11: X | F11: X | G11: X | H11: X | I11: X | J11: X | K11: X | L11: X | M11: CUMPLE | N11: CUMPLE | O11: CUMPLE | P11: 10 | Q11: 1
B12: 8 | C12: CONSORCIO SINU | G12: X | I12: X | J12: X | M12: CUMPLE | N12: CUMPLE | O12: CUMPLE | P12: 10 | Q12: 1
B13: 9 | C13: CONSORCIO CAMINOS COMUNITARIOS SUR | D13: X | E13: X | F13: X | G13: X | H13: X | I13: X | J13: X | K13: X | L13: X | M13: CUMPLE | N13: CUMPLE | O13: CUMPLE | P13: 10 | Q13: 1
B14: 10 | C14: INTERSA S.A. | G14: X | I14: X | J14: X | M14: CUMPLE | N14: CUMPLE | O14: CUMPLE | P14: 10 | Q14: 1
B15: 11 | C15: CONSORCIO ZONA SUR OCCIDENTE 046 | E15: X | F15: X | G15: X | H15: X | I15: X | J15: X | K15: X | L15: X | M15: CUMPLE | N15: CUMPLE | O15: CUMPLE | P15: 10 | Q15: 1
B16: 12 | C16: CONSORCIO SAMUEL 2024 | I16: X | J16: X | K16: X | L16: X | M16: CUMPLE | N16: CUMPLE | O16: CUMPLE | P16: 10 | Q16: 1
B17: 13 | C17: CONSORCIO INTERVIAL OCCIDENTE | F17: X | G17: X | H17: X | I17: X | J17: X | K17: X | L17: X | M17: CUMPLE | N17: CUMPLE | O17: CUMPLE | P17: 10 | Q17: 1
B18: 14 | C18: INGESCOR LTDA | G18: X | I18: X | J18: X | K18: X | M18: CUMPLE | N18: CUMPLE | O18: CUMPLE | P18: 10 | Q18: 1
B19: 15 | C19: ARQUITECTURA E INGENIERIA DE CONSULTA ARINCO SAS | D19: X | E19: X | F19: X | G19: X | H19: X | I19: X | J19: X | K19: X | L19: X | M19: CUMPLE | N19: CUMPLE | O19: CUMPLE | P19: 10 | Q19: 1
B20: 16 | C20: CONSORCIO CAP-OPH-QP | G20: X | H20: X | I20: X | J20: X | K20: X | L20: X | M20: CUMPLE | N20: CUMPLE | O20: CUMPLE | P20: 10 | Q20: 1
B21: 17 | C21: CONSORCIO TOPOLOGÍA | D21: X | E21: X | F21: X | G21: X | H21: X | I21: X | J21: X | K21: X | L21: X | M21: CUMPLE | N21: CUMPLE | O21: CUMPLE | P21: 10 | Q21: 1
B22: 18 | C22: TORRES & ASOCIADOS | D22: X | E22: X | F22: X | G22: X | H22: X | I22: X | J22: X | K22: X | L22: X | M22: CUMPLE | N22: CUMPLE | O22: CUMPLE | P22: 10 | Q22: 1
B23: 19 | C23: CONSORCIO TRANSFORMAR VIAL COMUNITARIO SUR | G23: X | I23: X | J23: X | M23: CUMPLE | N23: CUMPLE | O23: CUMPLE | P23: 10 | Q23: 1
B24: 20 | C24: GERARDO DÍAZ MANJARRES | G24: X | I24: X | J24: X | M24: CUMPLE | N24: CUMPLE | O24: CUMPLE | P24: 10 | Q24: 1
B25: 21 | C25: CONSORCIO DIN SEDIC | D25: X | E25: X | F25: X | G25: X | H25: X | I25: X | J25: X | K25: X | M25: CUMPLE | N25: CUMPLE | O25: CUMPLE | P25: 10 | Q25: 1
B26: 22 | C26: CONSORCIO VIAS REGIONALES 024 | G26: X | H26: X | J26: X | K26: X | M26: CUMPLE | N26: CUMPLE | O26: CUMPLE | P26: 10 | Q26: 1
