Workbook
Name _Cod1: #REF!
Name _Cod1: #REF!
Name _Cod1: #REF!
Name _Cod1: #REF!
Name _Fill: #REF!
Name _Fill: #REF!
Name _Fill: #REF!
Name _Fill: #REF!
Name _MA2: #REF!
Name _MA2: #REF!
Name _MA2: #REF!
Name _MA2: #REF!
Name a: #REF!
Name a: #REF!
Name a: #REF!
Name a: #REF!
Name A_IMPRESIÓN_IM: #REF!
Name A_IMPRESIÓN_IM: #REF!
Name A_IMPRESIÓN_IM: #REF!
Name A_IMPRESIÓN_IM: #REF!
Name aa: #REF!
Name aa: #REF!
Name aa: #REF!
Name aa: #REF!
Name aaa: #REF!
Name aaa: #REF!
Name aaa: #REF!
Name aaa: #REF!
Name admon: #REF!
Name admon: #REF!
Name admon: #REF!
Name admon: #REF!
Name Base: #REF!
Name Base: #REF!
Name Base: #REF!
Name Base: #REF!
Name BEB: #REF!
Name BEB: #REF!
Name BEB: #REF!
Name BEB: #REF!
Name CAP: #REF!
Name CAP: #REF!
Name CAP: #REF!
Name CAP: #REF!
Name clcl: #REF!
Name clcl: #REF!
Name clcl: #REF!
Name clcl: #REF!
Name Cod: #REF!
Name Cod: #REF!
Name Cod: #REF!
Name Cod: #REF!
Name CODOS: #REF!
Name CODOS: #REF!
Name CODOS: #REF!
Name CODOS: #REF!
Name codos2: #REF!
Name codos2: #REF!
Name codos2: #REF!
Name codos2: #REF!

Sheet FORMATO 5
C3: LICITACIÓN PÚBLICA 70007610* DE 2024
C5: Objeto: CONSTRUCCIÓN, MEJORAMIENTO Y CONSERVACIÓN DE VÍAS PEATONALES Y OBRAS COMPLEMENTARIAS
C7: FORMATO 5
C8: CAPACIDAD RESIDUAL
C10: Para acreditar la Capacidad Residual, además de los documentos solicitados en el Numeral relacionado con el CÁLCULO DE LA CAPACIDAD RESIDUAL DEL PROPONENTE (CRP) del pliego de condiciones, el oferente deberá aportar debidamente diligenciados los siguientes formatos que se encuentran incluidos en el presente archivo de Excel.
C12: 1. | D12: Para Acreditar la Experiencia (E) requerida para la verificación de LA CAPACIDAD RESIDUAL DEL PROPONENTE (CRP), de acuerdo con la característica de cada oferente y/o cada uno de los integrantes del Oferente Plural, deberá aportar uno de los siguientes formatos:
E13: • Formato No. 5.1A - CERTIFICACIÓN DE CONTRATOS PARA ACREDITACIÓN DE EXPERIENCIA (Para proponente o integrante nacional o extranjero CON SUCURSAL en Colombia),
E14: • Formato No. 5.1B - CERTIFICACIÓN DE CONTRATOS PARA ACREDITACIÓN DE EXPERIENCIA (Para proponente EXTRANJERO o integrante EXTRANJERO Sin Domicilio o Sucursal en Colombia)
C15: 2. | D15: Para Acreditar la Capacidad Técnica (CT) debe aportar el Formato No. 5.2 - CAPACIDAD TÉCNICA
C16: 3. | D16: Para Acreditar el Saldo contratos en ejecución (SCE) debe aportar Formato No. 5.3 - CONTRATOS EN EJECUCIÓN
C18: Para el caso de proponentes plurales los anteriores formatos se deben entregar por cada uno de los integrantes. Antes de diligenciar los Formatos leer atentamente las notas y comentarios que se presentan en cada uno de estos. Los Formatos estan en las otras hojas del presente libro de excel.

Sheet Formato No. 5.1A
C3: ='FORMATO 5'!C3 -> LICITACIÓN PÚBLICA 70007610* DE 2024
C5: ='FORMATO 5'!C5 -> Objeto: CONSTRUCCIÓN, MEJORAMIENTO Y CONSERVACIÓN DE VÍAS PEATONALES Y OBRAS COMPLEMENTARIAS
C7: Formato No. 5.1A
C8: CERTIFICACIÓN DE CONTRATOS PARA ACREDITACIÓN DE EXPERIENCIA
C11: Nombre Proponente o Integrante del proponente plural: | E11: BF CONSTRUYE S.A.S
C13: Contrato No. | D13: Valor del Contrato Relacionado con la Actividad de la Construcción – Seg. 72 Clasif. UNSPSC del RUP (EN SMMLV) | E13: Participación Porcentual (%) del Proponente o Integrante del Oferente Plural en el contrato | F13: Valor del SMMLV Vigente 2024 ($ 1.300.000) | G13: Valor del Contrato (Valor Ponderado por la Participación)
D14: (A) | E14: (B) | F14: (C) | G14: (A*B*C)
C15: 1 | D15: 2895.72 | E15: 1 | F15: 1300000 | G15: =+D15*E15*F15 -> 3.764436e+09
C16: 2 | D16: 5844.1 | E16: 0.275 | F16: 1300000 | G16: =+D16*E16*F16 -> 2.0892658e+09
C17: 3 | D17: 463.28 | E17: 1 | F17: 1300000 | G17: =+D17*E17*F17 -> 602264000
C18: 4 | D18: 1552.26 | E18: 0.55 | F18: 1300000 | G18: =+D18*E18*F18 -> 1109865900
C19: 5 | D19: 875.25 | E19: 1 | F19: 1300000 | G19: =+D19*E19*F19 -> 1137825000
C20: 6 | D20: 324.27 | E20: 1 | F20: 1300000 | G20: =+D20*E20*F20 -> 421551000
C21: 7 | D21: 407.16 | E21: 1 | F21: 1300000 | G21: =+D21*E21*F21 -> 5.29308e+08
C22: 8 | D22: 2223.09 | E22: 1 | F22: 1300000 | G22: =+D22*E22*F22 -> 2890017000
C23: 9 | D23: 2185.02 | E23: 1 | F23: 1300000 | G23: =+D23*E23*F23 -> 2840526000
C24: 10 | D24: 545.2 | E24: 1 | F24: 1300000 | G24: =+D24*E24*F24 -> 708760000
C25: 11 | D25: 237.98 | E25: 1 | F25: 1300000 | G25: =+D25*E25*F25 -> 309374000
C26: 12 | D26: 963 | E26: 1 | F26: 1300000 | G26: =+D26*E26*F26 -> 1251900000
... C75: 61 | D75: 3879.24 | E75: 0.25 | F75: 1300000 | G75: =+D75*E75*F75 -> 1260753000
C76: TOTAL | G76: =SUM(G15:G75) -> 169147923425
C79: Nota. Los Representantes Legales de los integrantes del Oferente Plural deben suscribir cada uno el presente documento.
C81: En constancia de lo anterior firmo este documento a los 29 días del mes de julio de 2024.
C86: ____________________________________
C87: Firma Representante Legal del Oferente:
C88: Nombre: MARIA ISABEL VALENZUELA BENITEZ
C89: Cargo: Representante legal
C90: Documento de Identidad: CC. No. 32.735.944 de Barranquilla

Sheet Formato No. 5.2
C3: ='FORMATO 5'!C3 -> LICITACIÓN PÚBLICA 70007610* DE 2024
C5: ='FORMATO 5'!C5 -> Objeto: CONSTRUCCIÓN, MEJORAMIENTO Y CONSERVACIÓN DE VÍAS PEATONALES Y OBRAS COMPLEMENTARIAS
C7: Formato No. 5.2
C8: CAPACIDAD TÉCNICA - Cr
C10: Nombre Proponente o Integrante del proponente plural: | E10: BF CONSTRUYE S.A.S
C12: No. | D12: Nombre del socio y/o profesional de la arquitectura, ingeniería o geología, vinculados mediante relación laboral o contractual conforme a la cual desarrollen actividades relacionadas directamente a la construcción | E12: Marcar con una X | G12: Profesión | H12: No. Matricula profesional | I12: Numero y año del contrato laboral o de prestación de servicios profesionales | J12: Vigencia del Contrato
E13: Socio | F13: Empleado
C14: 1 | D14: MARIA ISABEL VALENZUELA BENITEZ | E14: X | G14: INGENIERO CIVIL | H14: 08202-70436 ATL | I14: 2024 | J14: INDEFINIDO
C15: 2 | D15: FRANCISCO JAVIER CUELLAR RUIZ | F15: X | G15: INGENIERO CIVIL | H15: 021037-0594629 | I15: 2024 | J15: 45657
C16: 3 | D16: JUAN CAMILO PEREZ PUENTES | F16: X | G16: INGENIERO CIVIL | H16: 031037-0560582 | I16: =+I15 -> 2024 | J16: =+J15 -> 45657
C17: 4 | D17: KEVIN DE JESUS CARPINTERO PERTUZ | F17: X | G17: INGENIERO CIVIL | H17: 021037-0600335 ATL | I17: =+I16 -> 2024 | J17: =+J16 -> 45657
C18: 5 | D18: GIAN FRANCO ALVAREZ PEREZ | F18: X | G18: INGENIERO CIVIL | H18: 08202-419561 | I18: =+I17 -> 2024 | J18: =+J17 -> 45657
C19: 6 | D19: STEVEN RAFAEL SOLANO BADILLO | F19: X | G19: INGENIERO INDUSTRIAL | H19: 021239-0571169 ATL | I19: =+I18 -> 2024 | J19: =+J18 -> 45657
C20: 7 | D20: ANTONIO LUIS CANTILLO CARCAMO | F20: X | G20: INGENIERO CIVIL | H20: 08202-354130 | I20: =+I19 -> 2024 | J20: =+J19 -> 45657
C21: 8 | D21: VALERIA ABUCHAIBE ROSALES | F21: X | G21: ARQUITECTA | H21: A15162016-1045702706 | I21: =+I20 -> 2024 | J21: =+J20 -> 45657
C22: 9 | D22: JOSE DE JESUS HERNANDEZ LOPEZ | F22: X | G22: INGENIERO CIVIL | H22: 021037-0517066ATL | I22: =+I21 -> 2024 | J22: =+J21 -> 45657
C23: 10 | D23: EMIRO FELIX VANEGAS GOMEZ | F23: X | G23: INGENIERO CIVIL | H23: 13202707-BLV | I23: =+I22 -> 2024 | J23: =+J22 -> 45657
C24: 11 | D24: JAVIER MAURICIO TORRES VERGARA | F24: X | G24: INGENIERO CIVIL | H24: 2520265708CND | I24: =+I23 -> 2024 | J24: =+J23 -> 45657
C27: Para el caso de proponentes plurales se debe entregar formulario por cada uno de los integrantes.
C29: En constancia de lo anterior firmo este documento a los 29 días del mes de julio de 2024.
C33: ____________________________________ | H33: ____________________________________
C34: Firma Representante Legal del Oferente: | H34: Firma del auditor o revisor fiscal
C35: Nombre: MARIA ISABEL VALENZUELA BENITEZ | H35: Nombre: JORGE ARMANDO RODRIGUEZ BUENO
C36: Cargo: Representante legal | H36: Cargo: Revisor fiscal
C37: Documento de Identidad: CC. No. 32.735.944 de Barranquilla | H37: Documento de Identidad: C.C: 1.129.510.102 de Barranquilla

Sheet Formato No. 5.3 
C3: ='FORMATO 5'!C3 -> LICITACIÓN PÚBLICA 70007610* DE 2024
C5: ='FORMATO 5'!C5 -> Objeto: CONSTRUCCIÓN, MEJORAMIENTO Y CONSERVACIÓN DE VÍAS PEATONALES Y OBRAS COMPLEMENTARIAS
C7: Formato No. 5.3
C8: CONTRATOS EN EJECUCIÓN
C10: Nombre Proponente o Integrante del proponente plural: | E10: BF CONSTRUYE S.A.S
C12: CONTRATO NO. (1) | D12: OBJETO DEL CONTRATO | E12: CONTRATANTE | F12: FORMA DE EJECUCIÓN (2) | G12: % DE PARTICIPACION | H12: VALOR COP (3) | I12: PLAZO (MESES) (4) | J12: FECHA INICIO CONTRATO (dd/mm/aaaa) | K12: SUSPENSIONES (5) 1 | M12: SUSPENSIONES (5) 2 | O12: SUSPENSIONES (5) 3 | Q12: PLAZO POR EJECUTAR(DÍAS)
K13: FECHA INICIO SUSPENSIÓN (dd/mm/aaaa) | L13: FECHA TERMINACIÓN SUSPENSIÓN (dd/mm/aaaa) | M13: FECHA INICIO SUSPENSIÓN (dd/mm/aaaa) | N13: FECHA TERMINACIÓN SUSPENSIÓN (dd/mm/aaaa) | O13: FECHA INICIO SUSPENSIÓN (dd/mm/aaaa) | P13: FECHA TERMINACIÓN SUSPENSIÓN (dd/mm/aaaa)
C14: FROIH 968-2016 | D14: Implementacion de Estrategias para la Reduccion y Control de Escorrentias Superficiales del Arroyo Felicidad desde la Calle 63B con Carrera 41 hasta la Calle 48 con Carrera 54 , incluido el afluente de la Calle 52 con Cra 38 en la ciudad de Barranquilla. | E14: Alcaldia Distrital de Barranquilla | F14: UT | G14: 0.25 | H14: 198298760042 | I14: 85.06 | J14: 42751 | K14: 43889 | L14: 44075 | M14: 44706 | N14: 44748 | Q14: 28.8
C15: FROIH 668/2016 | D15: RECONSTRUCCIÓN VIAL Y CANALIZACIÓN DEL ARROYO DE LA CARRERA 21 ENTRE CALLE 53D Y CALLE 30 INCLUIDOS SUS AFLUENTES EN EL DISTRITO DE BARRANQUILLA | E15: Alcaldia Distrital de Barranquilla | F15: UT | G15: 0.05 | H15: 1.6387101e+11 | I15: 58.6 | J15: 42695 | K15: 44748 | L15: 45498 | Q15: 0
C16: ADI-358-2017 | D16: Construccion de Calzadas de Servicio de la Avenida Circunvalar entre las Cras 38 y 12A en la ciudad de Barranquilla | E16: Alcaldia Distrital de Barranquilla | F16: C | G16: 0.25 | H16: =70268805468+9999534851 -> 80268340319 | I16: 76.735 | J16: 43215 | K16: 43915 | L16: 43955 | Q16: 51.05
C17: lp-002-2020 | D17: Construccion de la Tercera Fase (215 metros lineales) de Muro en Concreto Reforzado sobre Pilotes Hincados en la Cabecera Municipal de Rio Viejo, Departamento de Bolivar | E17: Municipio de Rio Viejo | F17: C | G17: 0.7 | H17: 5.976264e+09 | I17: 8 | J17: 44915 | K17: 44922 | L17: 45042 | M17: 45082 | N17: 45278 | O17: 45439 | P17: 45498 | Q17: 58
C18: SA-08-2020 | D18: CONSTRUCCION DE VIAS URBANAS EN EL DISTRO DE BARRANQUILLA PARA EL PROGRAMA DE BARRIOS A LA OBRA | E18: Edubar S.A. | F18: I | G18: 1 | H18: =7596189806+9510691495.31+1022801090 -> 1.8129682e+10 | I18: 18.1 | J18: 44442 | K18: 44981 | L18: 45498 | Q18: 0
C19: EDU-265-2022 | D19: CONSTRUCCIÓN DEL MERCADO DE LA SAZÓN Y ARTESANÍAS DEL ATLÁNTICO EN EL MUNICIPIO DE PUERTO COLOMBIA | E19: Edubar S.A. | F19: UT | G19: 0.65 | H19: =15974851976+5348040684 -> 21322892660 | I19: 23 | J19: 44781 | K19: 45030 | L19: 45075 | M19: 45455 | N19: 45498 | Q19: 51 | X19: =+X18-X15 -> 0
C20: lp-001-2022 | D20: CONSTRUCCIÓN DE LA VÍA, INTERSECCIÓN RUTA NACIONAL – LOMA ARENA – GALERAZAMBA – RUTA DEL ALGODÓN EN EL MUNICIPIO DE SANTA CATALINA DE ALEJANDRÍA DEPARTAMENTO DE BOLÍVA | E20: MUNICIPIO DE SANTA CATALINA | F20: C | G20: 0.95 | H20: 1385910918 | I20: 4 | J20: 45498 | Q20: 112
C21: EDU-345-20222 | D21: AMPLIACIÓN Y MEJORAMIENTO DE LA INFRAESTRUCTURA EDUCATIVA EN EL DISTRITO DE BARRANQUILLA. | E21: Edubar S.A. | F21: C | G21: 0.3 | H21: =25672996396.61+11800000000 -> 3.7472996e+10 | I21: 22.05 | J21: 44901 | Q21: 0
C22: LP-CARDIQUE-010-2022 | D22: CONTRATAR LAS OBRAS DE MANTENIMIENTO Y/O RELIMPIA SOBRE LAS AREAS AFECTADAS EN LA CIÉNAGA LA VIRGEN POR RELLENOS Y SEDIMENTACIÓN EN EL DISTRITO DE CARTAGENA DE INDIAS Y OBRAS DE CONSTRUCCIÓN DE CANAL EN CONCRETO DEL CANAL EL OLIVOS No. 2, EN EL MUNICIPIO DE SANTA ROSA, DEPARTAMENTO DE BOLIVAR. | E22: CARDIQUE | F22: C | G22: 0.15 | H22: 1.2810723e+10 | I22: 20 | J22: 44896 | K22: 45275 | L22: 45345 | Q22: 0
C23: CO1.PCCNTR.5488875 | D23: ESTUDIOS, DISEÑOS, DEMOLICIÓN Y CONSTRUCCIÓN DE OBRA NUEVA DE LAS SEDES UBATÉ, CHIQUINQUIRA Y GIRARDOT, PERTENECIENTES A LA CAR CUNDINAMARCA | E23: CORPORACION AUTONOMA REGIONAL DE CUNDINAMARCA | F23: UT | G23: 0.1 | H23: 23985997000 | I23: 12 | J23: 45336 | Q23: 190
C24: adjudicado | D24: EJECUTAR EL PROGRAMA DE MEJORAMIENTO DE VIVIENDA ENFOCADOS A MEJORAR LAS CONDICIONES DE DIGNIDAD Y CALIDAD DE LA VIVIENDA DE LA POBLACIÓN VULNERABLE EN DIFERENTES LOCALIDADES DEL DISTRITO DE BARRANQUILLA, ETAPA III. | E24: Edubar S.A. | F24: C | G24: 0.5 | H24: 21780568433 | I24: 9 | J24: 45427 | Q24: 191
C25: CO1.SLCNTR.12580009 | D25: MEJORAMIENTO Y CONSTRUCCIÓN DE PARQUES PÚBLICOS, CANCHAS DEPORTIVAS, MALECONES, ZONAS VERDES Y BOULEVARES EN DIFERENTES SECTORES DEL DISTRITO DE BARRANQUILLA (FASE VII) | E25: Alcaldia Distrital de Barranquilla | F25: C | G25: 0.1 | H25: 7.1973351e+09 | I25: 8 | J25: 45407 | Q25: 141
C26: Adjudicado, resolución 449-2024 | D26: DIAGNOSTICO Y EJECUCIÓN DE LAS OBRAS DE MEJORAMIENTO POR ASIGNACIÓN DE SUBSIDIOS A VIVIENDAS UBICADAS EN EL CASCO URBANO Y RURAL DEL DISTRITO DE CARTAGENA DE INDIAS EN ZONAS PRIORIZADAS POR EL FONDO DE VIVIENDA DE INTERÁS SOCIAL Y REFORMA URBANA DISTRITAL. LOTE 1, 2, 3 | E26: Fondo de vivienda de interes social y reforma urbana del Distrito cartagena de Indias-Corvivienda | F26: C | G26: 0.3 | H26: 6.4016545e+09 | I26: 6 | J26: 45498 | Q26: 172
C28: (1) Contratos de obras civiles en ejecución, incluyendo los suspendidos y aquellos que no tengan acta de inicio.
C29: (2) Indicar si el contrato se ejecuta en forma Individual (I), en Consorcio (C) o Unión Temporal (UT).
C30: (3) Valor total del contrato expresado en moneda legal colombiana.
C31: (4) Plazo total de contrato incluyendo las ampliaciones.
C32: (5) Si el contrato presenta mas de una suspensión deberán informarlas todas, Si a la fecha de cierre del presente proceso el contrato se encuentra suspendido no diligenciar la "Fecha de Terminación".
C36: Para el caso de proponentes plurales se debe entregar el formato por cada uno de los integrantes
C38: En constancia de lo anterior firmo este documento a los 29 días del mes de julio de 2024.
C42: ____________________________________ | H42: ____________________________________
C43: Firma Representante Legal del Oferente: | H43: Firma del auditor o revisor fiscal
C44: Nombre: MARIA ISABEL VALENZUELA BENITEZ | H44: Nombre: JORGE ARMANDO RODRIGUEZ BUENO
C45: Cargo: Representante legal | H45: Cargo: Revisor fiscal
C46: Documento de Identidad: CC. No. 32.735.944 de Barranquilla | H46: Documento de Identidad: C.C: 1.129.510.102 de Barranquilla
