Workbook
Name DEPENDENCIAS: [1]LISTAS!$B$2:$B$16
Name Estado: [1]LISTAS!$D$2:$D$3
Name EXPERACEPTABLE: [1]LISTAS!$G$2:$G$3
Name fcierre: #REF!
Name fcierre: #REF!
Name fcierre: #REF!
Name PEJECUCION: [1]LISTAS!$F$2:$F$3
Name POM: #REF!
Name POM: #REF!
Name POM: #REF!
Name PORPOM: [1]EXPERIENCIA!$T$14
Name POSMMLV: #REF!
Name POSMMLV: #REF!
Name POSMMLV: #REF!
Name Print_Area: RESUMEN!$A$1:$K$11
Name Print_Titles: RESUMEN!$1:$8
Name SINO: [1]LISTAS!$E$2:$E$5

Sheet RESUMEN INICIAL
A1: INVITACIÓN PUBLICA No. 019- 2024
A2: INFORME DE VERIFICACIÓN PRELIMINARDE REQUISITOS HABILITANTES DE LOS PROPONENTES Y EVALUACIÓN DE PROPUESTAS.
A4: En desarrollo del proceso de selección de contratista tramitado a través del procedimiento de Minima Cuantía No. 019-2024 que tiene por objeto elegir al contratista que desarrollará el objeto: PRESTACIÓN DEL SERVICIO DE CONTROL DE MURCIÉLAGOS CON RESPONSABILIDAD AMBIENTAL INCLUIDO EL CONTROL DE PLAGAS, EN LA OFICINA DE SUBDIRECCIÓN DE PLANEACIÓN AMBIENTAL DEL EDIFICIO ONOMÁ DE LA CORPORACIÓN AUTÓNOMA REGIONAL DE LOS VALLES DEL SINÚ Y SAN JORGE CVS”, se reunió el comité de verificación de requisitos habilitantes y evaluación para el estudio de las propuestas que se presentaron en este proceso de contratación, previa las siguientes anotaciones:
A6: El día 15 de agosto de 2024, se publicaron en el portal único de contratación SECOP II la invitación pública que contenía las reglas de participación, para presentar propuesta, junto con los estudios previos y la convocatoria pública de este proceso.
A7: Que el día 22 de agosto de 2024 a las 08:00 a.m., en la audiencia de cierre, se realizó el registro de entrega de propuestas.
A9: Que la metodologia y la forma de calificación de las propuestas presentadas es la de menor precio, por lo que se relacionan las propuestas recibidas por SECOP II, de menor a mayor valor de la oferta.
A11: El comité asesor y evaluador de los procesos contractuales de mínima cuantía adelantados por la Corporación, el cual se encuentra designado, mediante la Resolución No. 1.6467 del 29 de Agosto de 2012, integrado por: El Jefe de la Oficina Administrativa y Financiera, Profesional Especializado Unidad de Contratación y el Asesor de Dirección General, con el fin de evaluar las propuestas presentadas en la Invitación Pública No 019 de 2024 que tiene por objeto: “PRESTACIÓN DEL SERVICIO DE CONTROL DE MURCIÉLAGOS CON RESPONSABILIDAD AMBIENTAL INCLUIDO EL CONTROL DE PLAGAS, EN LA OFICINA DE SUBDIRECCIÓN DE PLANEACIÓN AMBIENTAL DEL EDIFICIO ONOMÁ DE LA CORPORACIÓN AUTÓNOMA REGIONAL DE LOS VALLES DEL SINÚ Y SAN JORGE CVS"
A13: Las propuestas se verificarán y evaluarán (Factor Menor Precio) teniendo en cuenta los criterios enunciados en el Pliego de Condiciones Definitivo así:
A15: PROPONENTE/INTEGRANTE | E15: PRECIO OFERTADO
E16: Plataforma Secop II | G16: Formato propuesta economica
A17: FUMIASA | E17: 3874940
A18: OLGA RYB | E18: 4022914
A20: REQUISITOS HABILITANTES | E20: HÁBIL / NO HÁBIL
A21: Capacidad jurídica. | E21: Hábil / No hábil
A22: Experiencia. | E22: Hábil / No hábil
A23: Equipo de trabajo | E23: Hábil / No hábil
A24: Capacidad Financiera. | E24: No aplica
A25: Capacidad de Organización. | E25: No aplica
A26: Capacidad Residual de Contratación. | E26: No aplica
A28: PROCESO LIMITADO A MIPYMES | E28: NO
A29: TERRITORIAL | E29: NO

Sheet INTEGRANTES
B1: CORPORACIÓN AUTONOMA REGIONAL DE LOS VALLES DEL SNÚ Y SAN JORGE
A2: ='RESUMEN INICIAL'!A1:G1 -> INVITACIÓN PUBLICA No. 019- 2024
A3: PRESTACIÓN DEL SERVICIO DE CONTROL DE MURCIÉLAGOS CON RESPONSABILIDAD AMBIENTAL INCLUIDO EL CONTROL DE PLAGAS, EN LA OFICINA DE SUBDIRECCIÓN DE PLANEACIÓN AMBIENTAL DEL EDIFICIO ONOMÁ DE LA CORPORACIÓN AUTÓNOMA REGIONAL DE LOS VALLES DEL SINÚ Y SAN JORGE CVS
A5: CUADRO No. 1
A6: 2. PROPONENTES Y CONFORMACIÓN DE ESTRUCTURAS PLURALES.
A8: PROPONENTE No. | B8: PROPONENTE/INTEGRANTE | C8: Porcentaje de Participación
A9: NUMERO | B9: (Razon social/nombre) | C9: %
A10: PROPONENTE: MENOR VALOR | B10: SOLUCIONES INTEGRALES FUMIASA EXPRESS SAS, con NIT No. 901331149-7, representado legalmente por el señor DORA CAROLINA NARANJO OSORIO identificado con cédula de ciudadanía No 42.137.088 | C10: 1

Sheet P1
A1: PROPONENTE: 1 | B1: =INTEGRANTES!B10 -> SOLUCIONES INTEGRALES FUMIASA EXPRESS SAS, con NIT No. 901331149-7, representado legalmente por el señor DORA CAROLINA NARANJO OSORIO identificado con cédula de ciudadanía No 42.137.088 | C1: CRITERIO
A2: EVALUACIÓN MYPIME Dto 1860 de 2021 | C2: APLICA
A3: ELABORACIÓN Y PRESENTACIÓN DE LA OFERTA
A4: CARTA DE PRESENTACIÓN DE LA OFERTA | B4: FORMATO 1 — CARTA DE PRESENTACIÓN DE LA OFERTA, suscrito por el señor Soluciones Integrales Fumiasa Express S.A.S Nit. No. 901331149-7, Representada legalmente por la señora Dora Carolina Naranjo Osorio identificada con cédula de ciudadanía No 42.137.088 de Pereira | C4: CUMPLE
A5: APODERADO | B5: N.A.
A6: CAPACIDAD JURÍDICA
A7: CÉDULA DE CIUDADANÍA | B7: NO Aporta cédula de ciudadanía | C7: NO CUMPLE
A8: CERTIFICADO DE EXISTENCIA Y REPRESENTACIÓN LEGAL | B8: Certificado de Existencia y representación legal CÓDIGO DE VERIFICACIÓN ZEkhgBVDJv | C8: CUMPLE
A9: CONFORMACIÓN DE CONSORCIO O UNIÓN TEMPORAL | B9: FORMATO 2 — DOCUMENTO DE CONFORMACIÓN DE CONSORCIO, | C9: NO APLICA
A10: CERTIFICACIÓN DE PAGOS DE SEGURIDAD SOCIAL Y APORTES LEGALES. | B10: NO Presenta FORMATO - PAGOS DE SEGURIDAD SOCIAL Y APORTES LEGALES ARTÍCULO 50 LEY 789 DE 2002, . Se anexan planillas | C10: NO CUMPLE
A11: GARANTÍA DE SERIEDAD DE LA OFERTA | B11: N.A. | C11: NO APLICA
A12: REGISTRO ÚNICO TRIBUTARIO | B12: Presenta RUT se observa responsable de Régimen Ordinario | C12: CUMPLE
A13: REGISTRO ÚNICO PROPONENTE | B13: N.A. | C13: NO APLICA
A14: ANTECEDENTES FISCALES | B14: Codigo de verificación 901331149240821101052 y 42137088240821101147 de fecha 22 de agosto de 2024 | C14: CUMPLE
A15: ANTECEDENTES DISCIPLINARIOS | B15: Certificado Ordinario No. 252854523 de fecha 21 de agosto de 2024. NO ES POSIBLE CONSULTAR ANTECEDENTES PERSONA JURIDICA | C15: NO CUMPLE
A16: ANTECEDENTES JUDICIALES | B16: Consulta en línea de Antecedentes Penales y Requerimientos Judiciales de fecha 21 de agosto de 2024 | C16: CUMPLE
A17: RNMC | B17: Registro interno de validación No.100558429 de fecha 21 de agosto de 2024. | C17: CUMPLE
A18: EXPERIENCIA
A19: EXPERIENCIA GENERAL | B19: CUADRO No. 2 - EVALUACIÓN DE EXPERIENCIA. | C19: CUMPLE
A20: EXPERIENCIA ESPECIFICA | B20: CUADRO No. 2 - EVALUACIÓN DE EXPERIENCIA. | C20: CUMPLE
A21: ACREDITACIÓN CONDICIONES TÉCNICAS
A22: DOCUMENTO | B22: Presenta Documentos que acredita las especificaciones técnicas requeridas del objeto a contratar, Numeral 3.1.12. - | C22: CUMPLE
A23: OTROS REQUISITOS
A24: Licencia Sanitaria | B24: Secretaria de Salud y Seguridad Social expedida el 16 de julio de 2024
A25: RESULTADO | C25: CUMPLE
A27: CAPACIDAD FINANCIERA
A28: LIQUIDEZ | B28: N.A. | C28: NO APLICA
A29: NIVEL DE ENDEUDAMIENTO | B29: N.A. | C29: NO APLICA
A30: RAZÓN DE COBERTURA DE INTERESES | B30: N.A. | C30: NO APLICA
A31: CAPITAL DE TRABAJO | B31: N.A. | C31: NO APLICA
A32: CAPACIDAD ORGANIZACIONAL
A33: RENTABILIDAD SOBRE PATRIMONIO | B33: N.A. | C33: NO APLICA
A34: RENTABILIDAD DEL ACTIVO | B34: N.A. | C34: NO APLICA
A35: CAPACIDAD RESIDUAL | B35: N.A. | C35: NO APLICA
A36: RESULTADO | C36: NO APLICA
A37: CRITERIOS DE EVALUACIÓN
A38: FACTOR DE CALIDAD | B38: N.A. | C38: NO APLICA
A39: APOYO A LA INDUSTRIA NACIONAL | B39: N.A. | C39: NO APLICA
A40: VINCULACIÓN DE PERSONAS CON DISCAPACIDAD | B40: N.A. | C40: NO APLICA
A41: EMPRENDIMIENTOS Y EMPRESAS DE MUJERES | B41: N.A. | C41: NO APLICA
...

Sheet EXPERIENCIA
A1: PROPONENTE: 1 | C1: =+INTEGRANTES!B10 -> SOLUCIONES INTEGRALES FUMIASA EXPRESS SAS, con NIT No. 901331149-7, representado legalmente por el señor DORA CAROLINA NARANJO OSORIO identificado con cédula de ciudadanía No 42.137.088
A2: EXPERIENCIA GENERAL | C2: VERIFICACIÓN | L2: CRITERIO
A3: Objeto Similar | C3: No. RUP | D3: ENTIDAD CONTRATANTE | E3: OBJETO | F3: CODIGOS | G3: % PART | H3: I. Aporta experiencia | I3: VALOR SMMLV | J3: VALOR POR % DE PARTICIPACIÓN | K3: OBSERVACION
A4: El proponente deberá aportar máximo (3) certificaciones de contratos cuyo objeto sea igual o similar a la presente invitación pública, celebrados y terminados con entidades públicas o privadas y que sumados sea igual o superior al presupuesto oficial expresado en salarios mínimos. | C4: N.A. | D4: 094 2023 mutual ser | E4: PRESTACIÓN DE SERVICIO DE FUMIGACIÓN PARA PREVENCIÓN Y CONTROL DE INSECTOS Y ROEDORES PARA LAS SEDES DE MUTUAL SER EPS UBICADAS EN CÓRDOBA | F4: N.A. | G4: 1 | H4: =INTEGRANTES!B10 -> SOLUCIONES INTEGRALES FUMIASA EXPRESS SAS, con NIT No. 901331149-7, representado legalmente por el señor DORA CAROLINA NARANJO OSORIO identificado con cédula de ciudadanía No 42.137.088 | I4: =(272328000/1160000) -> 234.76552 | J4: 100 | K4: Anexar certificación y/o liquidación | L4: NO CUMPLE
C5: N.A. | D5: MINISTERIO DE DEFENSA NACIONAL | E5: REALIZAR CONTROL DE PLAGAS, PARA PREVENIR, PROTEGER TODAS LAS AREAS DE LA UNIVERSIDAD | F5: N.A. | G5: 1 | H5: =INTEGRANTES!B10 -> SOLUCIONES INTEGRALES FUMIASA EXPRESS SAS, con NIT No. 901331149-7, representado legalmente por el señor DORA CAROLINA NARANJO OSORIO identificado con cédula de ciudadanía No 42.137.088 | I5: =(45639360/1000000) -> 45.63936 | J5: 100 | K5: Anexar certificación y/o liquidación y Certificado de existencia y representación legal. | L5: NO CUMPLE
A6: EXPERIENCIA ESPECIFICA | C6: =+C2 -> VERIFICACIÓN | L6: =+L2 -> CRITERIO
A7: No se exige | L7: CUMPLE | N7: =0.6*5111.05 -> 3066.63
N8: =0.5*118869599 -> 59434800
A9: VERIFICACIÓN EXPERIENCIA EN SMMLV | C9: Presupuesto Oficial $ 4495970
D10: 4495970 | E10: =(D10*80%) -> 3596776

Sheet VER ARITMETICA 
B1: CORPORACION AUTONOMA REGIONAL DE LOS VALLES DEL SINU Y DEL SAN JORGE - CVS
B2: CORRECCIÓN ARITMETICA
B3: OBJETO: SERVICIO DE CONTROL DE MURCIÉLAGOS CON RESPONSABILIDAD AMBIENTAL INCLUIDO EL CONTROL DE PLAGAS, EN LA OFICINA DE SUBDIRECCIÓN DE PLANEACIÓN AMBIENTAL DEL EDIFICIO ONOMÁ DE LA CORPORACION AUTONOMA REGIONAL DE LOS VALLES DEL SINU Y DEL SAN JORGE –CVS.
B4: 2024
A5: ITEM | B5: CPC DANE | F5: CODIGO UNSPSC | G5: DETALLE | H5: UNIDAD DE MEDIDA | I5: CANTIDAD | J5: VALORES SIN IVA | L5: IVA | N5: PROMEDIO TOTAL
B6: Código | C6: Clase o Subclase | D6: Sección | E6: Codigo Objeto de Gasto | J6: UNITARIO | K6: VALOR TOTAL | L6: UNITARIO | M6: TOTAL
B7: 2.1.2.02.02.008.05 SERVICIOS DE SOPORTE
A8: UNIDAD | B8: 85310 | C8: Servicios de desinfección y exterminación | D8: SERVICIOS DE SOPORTE | E8: 2.1.2.02.02.008.05 | F8: 72102103 | G8: CONTROL DE MURCIELAGOS CON RESPONSABILIDAD AMBIENTAL OFICINA DE SUBDIRECCIÓN DE PLANEACION DE LA CVS | H8: global | I8: 1 | J8: 3120000 | K8: =I8*J8 -> 3120000 | L8: 98800 | M8: =L8*I8 -> 98800 | N8: =J8 -> 3120000
B9: 85310 | C9: Servicios de desinfección y exterminación | D9: SERVICIOS DE SOPORTE | E9: 2.1.2.02.02.008.05 | F9: 72102103 | G9: CONTROL Y PREVENCIO DE PLAGAS CON RESPONSABILIDAD AMBIENTAL(insectos voladores, rastreros y roedores) | H9: global | I9: 1 | J9: 636000 | K9: =I9*J9 -> 636000 | L9: 20140 | M9: =L9*I9 -> 20140 | N9: =J9 -> 636000
B10: SUBTOTAL | N10: =SUM(N8:N9) -> 3756000 | V10: =656140/1.19 -> 551378.15
B11: IVA 19% (19% DEL VALOR DEL AIU) | N11: =M8+M9 -> 118940 | V11: =3218800/1.19 -> 2704873.9
B12: TOTAL | N12: =N10+N11 -> 3874940
K13: =+K9+K8 -> 3756000 | M13: =+M9+M8 -> 118940
K14: =+K13*19% -> 713640 | M14: =+M13*19% -> 22598.6
K15: =SUM(K13:K14) -> 4469640 | M15: =SUM(M13:M14) -> 141538.6
L16: =(K15+M15)/2 -> 2305589.3

Sheet RESUMEN
C1: CORPORACIÓN AUTONOMA REGIONAL DE LOS VALLES DEL SNÚ Y SAN JORGE
A2: =INTEGRANTES!$A$2 -> INVITACIÓN PUBLICA No. 019- 2024
A3: =INTEGRANTES!$A$3 -> PRESTACIÓN DEL SERVICIO DE CONTROL DE MURCIÉLAGOS CON RESPONSABILIDAD AMBIENTAL INCLUIDO EL CONTROL DE PLAGAS, EN LA OFICINA DE SUBDIRECCIÓN DE PLANEACIÓN AMBIENTAL DEL EDIFICIO ONOMÁ DE LA CORPORACIÓN AUTÓNOMA REGIONAL DE LOS VALLES DEL SINÚ Y SAN JORGE CVS
A4: CUADRO No. 4
A5: RESUMEN DE VERIFICACIÓN DE REQUISITOS HABILITANTES Y EVALUACIÓN DEL FACTOR CALIDAD DE LAS PROPUESTAS PRESENTADAS
A7: PROPONENTE No. | B7: PROPONENTE/INTEGRANTE | C7: CAPACIDAD JURIDICA | D7: CAPACIDAD TÉCNICA | E7: EXPERIENCIA REQUERIDA | F7: CAPACIDAD FINANCIERA | G7: CAPACIDAD ORGANIZACIONAL | H7: CAPACIDAD RESIDUAL | I7: OFERTA ECONOMICA Y CORRECCIÓN ARITMETICA | J7: PUNTAJE | K7: CALIFICACION FINAL
A8: NUMERO | B8: (Razon social/nombre) | C8: HABIL/NO HABIL | E8: HABIL/NO HABIL | F8: HABIL/NO HABIL | G8: HABIL/NO HABIL | H8: HABIL/NO HABIL | I8: HABIL/NO HABIL | K8: HABIL/NO HABIL
A10: PROPONENTE: 1 | B10: =INTEGRANTES!$B$10 -> SOLUCIONES INTEGRALES FUMIASA EXPRESS SAS, con NIT No. 901331149-7, representado legalmente por el señor DORA CAROLINA NARANJO OSORIO identificado con cédula de ciudadanía No 42.137.088 | C10: NO HABIL | D10: HABIL | E10: NO HABIL | F10: NO APLICA | G10: NO APLICA | H10: NO APLICA | I10: HABIL | J10: NO APLICA | K10: NO APLICA
A11: Terminada la evaluación, y teniendo en cuenta que el numeral 4 del artículo 2.2.1.2.1.5.2. del decreto 1082 de 2015 establece que “La entidad estatal debe revisar las ofertas económicas y verificar que la de menor precio precio cumple con las condiciones de la invitación. (…)”, el comité evaluador recomienda al secretario general CESAR RAFAEL OTERO FLOREZ, adjudicar el proceso de selección - invitación pública No. 019 2024, cuyo objeto es: “PRESTACIÓN DEL SERVICIO DE CONTROL DE MURCIÉLAGOS CON RESPONSABILIDAD AMBIENTAL INCLUIDO EL CONTROL DE PLAGAS, EN LA OFICINA DE SUBDIRECCIÓN DE PLANEACIÓN AMBIENTAL DEL EDIFICIO ONOMÁ DE LA CORPORACIÓN AUTÓNOMA REGIONAL DE LOS VALLES DEL SINÚ Y SAN JORGE CVS”, al proponente SOLUCIONES INTEGRALES FUMIASA EXPRESS SAS, con NIT No. 901331149-7, representado legalmente por el señor DORA CAROLINA NARANJO OSORIO identificado con cédula de ciudadanía No 42.137.088, siempre y cuando subsane los documentos requeridos en el presente informe Dado en el municipio de Montería a los 22 días del mes de agosto de 2024.
A15: MARÍA ANGÉLICA SÁENZ ESPINOSA | F15: ADRIANA NEGRETE CANTILLO
A16: Asesor de Dirección | F16: Jefe Oficina Administrativa y Financiera
A22: JESÚS ANTONIO PINTO ANGULO
A23: Profesional Especializado
