Workbook
Name _AFC1: #REF!
Name _AFC1: #REF!
Name _AFC1: [1]INV!$A$25:$D$28
Name _AFC1: #REF!
Name _AFC1: #REF!
Name _AFC3: #REF!
Name _AFC3: #REF!
Name _AFC3: [1]INV!$F$25:$I$28
Name _AFC3: #REF!
Name _AFC3: #REF!
Name _AFC5: #REF!
Name _AFC5: #REF!
Name _AFC5: [1]INV!$K$25:$N$28
Name _AFC5: #REF!
Name _AFC5: #REF!
Name _BGC1: #REF!
Name _BGC1: #REF!
Name _BGC1: [1]INV!$A$5:$D$8
Name _BGC1: #REF!
Name _BGC1: #REF!
Name _BGC3: #REF!
Name _BGC3: #REF!
Name _BGC3: [1]INV!$F$5:$I$8
Name _BGC3: #REF!
Name _BGC3: #REF!
Name _BGC5: #REF!
Name _BGC5: #REF!
Name _BGC5: [1]INV!$K$5:$N$8
Name _BGC5: #REF!
Name _BGC5: #REF!
Name _CAC1: #REF!
Name _CAC1: #REF!
Name _CAC1: [1]INV!$A$19:$D$22
Name _CAC1: #REF!
Name _CAC1: #REF!
Name _CAC3: #REF!
Name _CAC3: #REF!
Name _CAC3: [1]INV!$F$19:$I$22
Name _CAC3: #REF!
Name _CAC3: #REF!
Name _CAC5: #REF!
Name _CAC5: #REF!
Name _CAC5: [1]INV!$K$19:$N$22
Name _CAC5: #REF!
Name _CAC5: #REF!
Name _Cod1: #REF!
Name _Cod1: #REF!
Name _Cod1: #REF!
Name _Cod1: #REF!
Name _Cod1: #REF!
Name _Cod1: #REF!
Name _Cod1: #REF!
Name _Cod1: #REF!
Name _Cod1: #REF!
Name _Cod1: #REF!
Name _Cod1: #REF!
Name _Cod1: #REF!
Name _Cod1: #REF!
Name _Cod1: #REF!
Name _Cod1: #REF!

Sheet Instructivo
C1: SISTEMA DE GESTIÓN INTEGRAL - SGI
C2: INSTRUCTIVO - COMPONENTE FINANCIERO EP
C3: CÓDIGO: F-PGC-21 | G3: VERSIÓN: 04
A5: Color | B5: Hoja | D5: Color | E5: Celda
A6: Gris | B6: Informativa | D6: Azul | E6: Protegida
A7: Vinotinto | B7: Formatos
A8: Morado | B8: Variables
A10: Para un mejor diligenciamiento de los formatos y uso de las variables y hojas informativas que se encuentran en este libro, se recomienda, antes de empezar a diligenciar, leer el instructivo, que se encuentra consignado en la presente hoja, igualmente, cada hoja contiene un número significativo de comentarios, los cuales, pretenden ayudar al diligenciamiento, se recomienda leerlos y aplicarlos de manera atenta. En caso de requerir apoyo, favor comunicarse con el asesor(a) financiero(a) asignado para el proceso.
A12: HOJAS INFORMATIVAS
A13: Nombre | D13: Descripción
A14: Cuantías de contratación (por pluralidad de oferentes) | D14: En la hoja se encuentran los valores establecidos anualmente, para identificar dentro de la contratación por pluralidad de oferentes, de acuerdo al valor del presupuesto, si se clasifica dentro de una mínima cuantía, menor cuantía o licitación pública, en los casos que aplique.
A15: Documentos de apoyo | D15: En la hoja se encuentran listas enunciativas de documentos de apoyo, que pueden presentar interés, al igual, que guíar el accionar en el ámbito general de la contratación pública y específico de la asesoría financiera a la misma. Se deberá considerar que las listas no son exhaustivas, es decir, no contemplan todos los documentos de cada categoría, al igual, que depende de la actualización constante de la Subdirección Administrativa y Financiera.
A16: Impuestos y garantías | D16: En la hoja se encuentra una lista enunciativa de los impuestos y las garantías en los que puede incurrir el ejecutor, las cuales dependen de la especificidad del proceso. La lista es de carácter informativa en caso que se emitan consultas al respecto.
A17: Información anticipos y pagos anticipados | D17: En la hoja se encuentra una corta explicación sobre la consideración normativa de los anticipos y pagos anticipados, que tiene como objeto orientar respecto a este tema de frecuente consulta e inquietud; tema sobre el cual, se requiere tener claridad para la estipulación de la ejecución física y financiera de los procesos.
A18: Información procesos de obra pública y capacidad residual (K) | D18: En la hoja se encuentra una corta explicación sobre los procesos de obra, y el cálculo de la capacidad residual (K) en los casos que se requiera, que tiene como objeto suministrar información de interés general respecto a este tema de frecuente consulta e inquietud; tener en cuenta que este tema es de competencia tanto jurídica como técnica y financiera.
A19: Información IVA | D19: En la hoja se encuentra una corta explicación sobre las consideraciones respecto al IVA, que tiene como objeto orientar respecto a este tema de frecuente consulta e inquietud.
A20: Notas propuesta económica | D20: En la hoja se encuentra una lista enunciativa de notas, las cuales deberán ser elegidas de acuerdo a la especificidad del proceso contractual, con el fin de incluirlas en el formato de propuesta económica. Las notas tienen como objeto orientar a los oferentes en el diligenciamiento de dicho formato.
A21: Requisitos habilitantes capacidad financiera y organizacional | D21: En la hoja se encuentran los requisitos de capacidad financiera y organizacional vigentes
A23: FORMATOS (PARA DILIGENCIAR) | I23: DILIGENCIAR EN CASO DE:
A24: Nombre | D24: Descripción | I24: Contratos por contratación directa | J24: Contratos por pluralidad de oferentes | K24: Convenios
A25: DILIGENCIAR PARA EVALUACIÓN POR PARTE DEL COMITÉ DE CONTRATACIÓN (Asesor técnico)
A26: Se recomienda que el asesor técnico para la planeación financiera del proceso contractual, empiece con el diligenciamiento paralelo de la memoria de cálculo con su debido estudio de mercado, para seguir con la estipulación de los gastos de administración, si aplican. En un segundo momento, se recomienda diligenciar, el presupuesto de acuerdo a la modalidad del proceso, y el plan de ejecución física y de inversiones. El técnico podrá anexar al presente libro las hojas que considere necesarias con el fin de suportar la estimación de los valores. NOTA: Se recomienda iniciar escribiendo en el formato del Plan de ejecución los datos básicos de modalidad de contratación y objeto a contratar, ya que está información alimenta a las demás hojas.
A27: Plan de ejecución física y de inversiones | D27: Diligenciar la programación física y financiera del proceso, tanto en la étapa inicial, como en el caso de solicitud de Otrosí de adición de recursos o prórroga, o cuando el Otrosí de modificación implique cambios en el presupuesto. | I27: X | J27: X | K27: X
A28: Plan de ejecución física y de inversiones - Prestación de Servicios Personales | D28: Diligenciar exclusivamente para los contratos de Prestación de Servicios Personales que suscribe la Corporación con una persona natural. Este formato simplificado permite la programación física y financiera del proceso, tanto en la étapa inicial, como en el caso de solicitud de Otrosí de adición de recursos o prórroga, o cuando el Otrosí de modificación implique cambios en el presupuesto. | I28: X
A29: Presupuesto - Modalidad contrato | D29: Diligenciar en caso que el proceso se tipifique dentro de las modalidades de contratos. El presupuesto es un documento donde se plasman los recursos económicos requeridos para llevar a cabo de manera exitosa el proceso contractual. | I29: X | J29: X
A30: Presupuesto - Modalidad contrato - Prestación de Servicios Personales | D30: Diligenciar exclusivamente para los contratos de Prestación de Servicios Personales que suscribe la Corporación con una persona natural. En este formato simplificado se plasma el presupuesto, donde se relacionan los recursos económicos requeridos para llevar a cabo de manera exitosa el proceso contractual. | I30: X
A31: Presupuesto - Modalidad convenio | D31: Diligenciar en caso que el proceso se tipifique dentro de las modalidades de convenios. El presupuesto es un documento donde se plasman los recursos económicos requeridos para llevar a cabo de manera exitosa el proceso contractual. | K31: X
A32: Memoria de cálculo - Opción 1 | D32: Diligenciar de acuerdo a las características del proceso, alcance y/o actividad. La memoria de cálculo es un documento descriptivo donde se refleja de manera exhaustiva y detallada, todos y cada uno de los elementos que intervienen en el proceso, alcance y/o actividad que se está valorando. Esta memoria de cálculo es útil para la compra de productos terminados, bienes con características homogéneas, o bienes y servicios que se valoren a todo costo, entre otras opciones, por ejemplo: compra de equipos o insumos. Nota: Tener en cuenta que para valorar una variable o ítem se utiliza una sola memoria de cálculo y no las tres opciones, por ejemplo, si se quiere valorar la adquisición de 1 equipo de cómputo, dicha adquisición se deja consignada en solo una de las memorias de cálculo, no se tiene que utilizar las tres opciones para este mismo ítem. | I32: Se seleccionará el formato de memoria de cálculo que mejor se adapte a las características del proceso, alcance y/o actividad a valorar.
A33: Memoria de cálculo - Opción 2 | D33: Diligenciar de acuerdo a las características del proceso, alcance y/o actividad. La memoria de cálculo es un documento descriptivo donde se refleja de manera exhaustiva y detallada, todos y cada uno de los elementos que intervienen en el proceso, alcance y/o actividad que se está valorando. Esta memoria de cálculo es útil para los procesos de obra. Nota: Tener en cuenta que para valorar una variable o ítem se utiliza una sola memoria de cálculo y no las tres opciones, por ejemplo, si se quiere valorar la adquisición de 1 equipo de cómputo, dicha adquisición se deja consignada en solo una de las memorias de cálculo, no se tiene que utilizar las tres opciones para este mismo ítem.
A34: Memoria de cálculo - Opción 3 | D34: Diligenciar de acuerdo a las características del proceso, alcance y/o actividad. La memoria de cálculo es un documento descriptivo donde se refleja de manera exhaustiva y detallada, todos y cada uno de los elementos que intervienen en el proceso, alcance y/o actividad que se está valorando. Esta memoria de cálculo es útil para procesos que requieran detallar todos los elementos del costo, por ejemplo, realización de talleres, donde se debe considerar los materiales, los refrigerios, alquiler de equipos, entre otros. Nota: Tener en cuenta que para valorar una variable o ítem se utiliza una sola memoria de cálculo y no las tres opciones, por ejemplo, si se quiere valorar la adquisición de 1 equipo de cómputo, dicha adquisición se deja consignada en solo una de las memorias de cálculo, no se tiene que utilizar las tres opciones para este mismo ítem.
A35: Estudio de mercado | D35: Un estudio de mercado es el proceso mediante el cual, se recoge y análiza información que sirve para identificar las características, valores y condiciones del bien o servicio a adquirir, con el fin de obtenerlos acuerdo a las estipulaciones del mercado, bajo el principio de plena competencia. En la corporación el estudio de mercado se realiza mediante la identificación de valores por medio de cotizaciones debidamente radicadas, valores históricos de los bienes y servicios de interés, recolección de información de sitios de internet soportados con los debidos pantallazos, y demás información de diferentes fuentes con sus correspondientes medios de verificación. El estudio de mercado no se puede confundir con el estudio de sector, este último, requerido solo para algunos procesos contractuales. En el estudio de mercado, pueden hacer parte, debidamente soportados o en todo caso que permita realizar la trazabilidad, los valores establecidos en otros procesos contractuales para los mismos bienes y servicios, de la misma vigencia o de anteriores vigencias, en caso de utilizar valores de vigencias anteriores se deberá realizar la respectiva actualización con la inflación anual de la o las vigencias pasadas. | I35: X | J35: X | K35: X
A36: Determinación de gastos de administración | D36: Diligenciar para determinar el porcentaje de los gastos de administración o administración del proceso, de acuerdo a las características del mismo, considerando no tener duplicidad en ítems ya contemplados en el presupuesto general del proceso. | I36: X | J36: X | K36: X
A37: Identificación de bienes nacionales relevantes | D37: Diligenciar para identificar los bienes nacionales relevantes en los procesos que apliquen. | J37: X
A38: DILIGENCIAR COMO PARTE DE LOS DOCUMENTOS A SUBIR A LA PLATAFORMA SECOP (Asesor financiero)
A39: Propuesta económica - Opción 1 | D39: Diligenciar con el objeto de suministrarle a los oferentes la estructura y condiciones de la presentación de las respectivas propuestas económicas, se recomienda su uso para procesos que se hayan planeado en el formato memoria de cálculo - opción 1. | J39: X
A40: Propuesta económica - Opción 2 | D40: Diligenciar con el objeto de suministrarle a los oferentes la estructura y condiciones de la presentación de las respectivas propuestas económicas, se recomienda su uso para procesos que se hayan planeado en el formato memoria de cálculo - opción 2. | J40: X
A41: Propuesta económica - Opción 3 | D41: Diligenciar con el objeto de suministrarle a los oferentes la estructura y condiciones de la presentación de las respectivas propuestas económicas, se recomienda su uso para procesos que se hayan planeado en el formato memoria de cálculo - opción 3. | J41: X
A42: Estimación PAB comparación absoluta | D42: Diligenciar con el objeto realizar el acta del Precio Artificialmente Bajo (PAB). La cual, se elabora paralelamente con el formato de propuesta económica para el proceso. | J42: X
A43: DILIGENCIAR PARA EVALUACIÓN FINANCIERA DE OFERENTES (Asesor financiero)
A44: Verificación de requisitos habilitantes de los proponentes sobre capacidad financiera y organizacional | D44: Diligenciar con el fin de consignar la verificación de los requisitos habilitantes de los proponentes, sobre capacidad financiera y organizacional, en los casos que apliquen. | J44: X
...

Sheet Plan de Ejecución PSA 
C1: SISTEMA DE GESTIÓN INTEGRAL - SGI | L1: Instructivo
C2: COMPONENTE FINANCIERO EP - PLAN DE EJECUCIÓN FÍSICA Y DE INVERSIONES
C3: CÓDIGO: F-PGC-21 | H3: =+[9]Instructivo!G3 -> VERSIÓN: 04
A5: MODALIDAD DE CONTRATACIÓN: | C5: Convenio Interadministrativo | L5: =C5 -> Convenio Interadministrativo
A6: OBJETO A CONTRATAR: | C6: Aunar esfuerzos con el municipio de Heliconia para ejecución de las metas planteadas en el Plan de Acción 2024-2027 "Conectados por la vida" | L6: =C6 -> Aunar esfuerzos con el municipio de Heliconia para ejecución de las metas planteadas en el Plan de Acción 2024-2027 "Conectados por la vida"
A8: CONTRATISTA/CONVENIANTE: | C8: Heliconia
A9: NOMBRE DEL TÉCNICO (A):
A10: DURACIÓN Y/O PLAZO DEL CONTRATO (MESES): | C10: 3
A11: PERIODO DE PROGRAMACIÓN Y SEGUIMIENTO: | C11: 3
A13: PROGRAMACIÓN FÍSICA
B14: Descripción | C14: % de importancia | D14: % de importancia subactividades | E14: Unidad de medida | F14: Cantidad Programada | G14: Distribución física
G15: Período 1 | H15: Período 2 | I15: Período 3 | J15: Período 4 | K15: Período 5
A16: META/ PRODUCTO A OBTENER: | L16: =F16-SUM(G16:K16) -> 0
A17: Alcance 1 | B17: pago po PSA | C17: 1 | G17: =G18+G21+G25+G28+G31 -> 5 | H17: =SUM(H33,H39) -> 2 | I17: =SUM(I63,I69,I75) -> 5 | J17: =J18+J21+J25+J28+J31 -> 2 | L17: =F17-SUM(G17:K17) -> -14
A18: Actividad 1.1 | B18: Validar técnica y jurídicamente los aliados al esquema de pago por servicios ambientales, los cuales serán aprobados mediante los comités técnicos que se desarrollen para este fin. | C18: 0.16 | G18: =SUM(G19:G20) -> 2 | H18: =SUM(H19:H20) -> 0 | I18: =SUM(I19:I20) -> 0 | J18: =SUM(J19:J20) -> 0 | K18: =SUM(K19:K20) -> 0 | L18: =F18-SUM(G18:K18) -> -2
A19: Subactividad 1.1.1 | B19: Se presentará un (1) informe donde: Se compilen los resultados del proceso de la revisión jurídica (cuando se presenten alteraciones en el área de conservación, caso de muerte o venta del predio) y técnica, con las respectivas observaciones de cada caso; y las proyecciones de pagos respectivos durante el tiempo del convenio, sujetos al cumplimiento de los acuerdos de conservación. | C19: 0.08 | D19: 0.08 | E19: Informe | F19: 1 | G19: 1 | L19: =F19-SUM(G19:K19) -> 0
A20: Subactividad 1.1.2 | B20: Se presentará un acta de comité técnico, celebrado entre los conveniantes, en el cual se realizará una revisión, verificación y aprobación de las familias que continuarán en el proceso de acuerdo a los criterios de priorización; además se tomarán las decisiones pertinentes para finalizar el proceso de los aliados que hayan incumplido los acuerdos de conservación o cualquier parámetro establecido en el decreto 953. | C20: 0.08 | D20: 0.08 | E20: Informe | F20: 1 | G20: 1 | L20: =F20-SUM(G20:K20) -> 0
A21: Actividad 1.2 | B21: Actualización de acuerdos de voluntades. | C21: 0.17 | G21: =SUM(G22:G24) -> 3 | H21: =SUM(H22:H24) -> 0 | I21: =SUM(I22:I24) -> 0 | J21: =SUM(J22:J24) -> 0 | K21: =SUM(K22:K24) -> 0 | L21: =F21-SUM(G21:K21) -> -3
A22: Subactividad 1.2.1 | B22: Formalización de ciento cincuenta (150) actas de compromiso en las áreas estratégicas de estudio. | C22: 0.06 | D22: 0.06 | E22: Informe | F22: 1 | G22: 1 | L22: =F22-SUM(G22:K22) -> 0
A23: Subactividad 1.2.2 | B23: Un (1) informe con el análisis jurídico de la documentación de cada uno de los predios a los cuales se le formaliza el acta de compromiso, incluyendo certificados que acrediten la titularidad, posesión o tenencia. | C23: 0.06 | D23: 0.06 | E23: Informe | F23: 1 | G23: 1 | L23: =F23-SUM(G23:K23) -> 0
A24: Subactividad 1.2.3 | B24: Archivo digital y físico que contenga para cada beneficiario: o Certificado que acredite la titularidad, posesión o tenencia. o Certificado de cuenta bancaria no mayor a 60 días. o Acta de compromiso firmada por cada beneficiario. o Metodología a implementar para el pago en especie por beneficiario. | C24: 0.05 | D24: 0.05 | E24: Informe | F24: 1 | G24: 1 | L24: =F24-SUM(G24:K24) -> 0
A25: Actividad 1.3 | G25: =SUM(G26:G27) -> 0 | H25: =SUM(H26:H27) -> 0 | I25: =SUM(I26:I27) -> 2 | J25: =SUM(J26:J27) -> 0 | K25: =SUM(K26:K27) -> 0 | L25: =F25-SUM(G25:K25) -> -2
A26: Subactividad 1.3.1 | E26: Informe | F26: 1 | I26: 1 | L26: =F26-SUM(G26:K26) -> 0
A27: Subactividad 1.3.2 | E27: Informe | F27: 1 | I27: 1 | L27: =F27-SUM(G27:K27) -> 0
A28: Actividad 1.4 | G28: =SUM(G29:G30) -> 0 | H28: =SUM(H29:H30) -> 0 | I28: =SUM(I29:I30) -> 0 | J28: =SUM(J29:J30) -> 2 | K28: =SUM(K29:K30) -> 0 | L28: =F28-SUM(G28:K28) -> -2
A29: Subactividad 1.4.1 | E29: Informe | F29: 1 | J29: 1 | L29: =F29-SUM(G29:K29) -> 0
A30: Subactividad 1.4.2 | E30: Informe | F30: 1 | J30: 1 | L30: =F30-SUM(G30:K30) -> 0
A31: Actividad 1.5 | G31: =SUM(G32:G32) -> 0 | H31: =SUM(H32:H32) -> 0 | I31: =SUM(I32:I32) -> 0 | J31: =SUM(J32:J32) -> 0 | K31: =SUM(K32:K32) -> 1 | L31: =F31-SUM(G31:K31) -> -1
A32: Subactividad 1.5.1 | E32: Informe | F32: 1 | K32: 1 | L32: =F32-SUM(G32:K32) -> 0
A33: Actividad 1.3 | B33: Formalizar acuerdos de preservación individuales | C33: 0.16 | G33: =SUM(G34:G38) -> 0 | H33: =SUM(H34:H38) -> 1 | I33: =SUM(I34:I38) -> 0 | J33: =SUM(J34:J38) -> 0 | K33: =SUM(K34:K38) -> 0 | L33: =F33-SUM(G33:K33) -> -1
A34: Subactividad 1.3.1 | B34: Se entregarán los acuerdos debidamente firmados y legalizados. Se presenta un informe general, detallando el número de familias, el número de hectáreas conservadas y los presupuestos finales de pagos. | C34: 0.16 | D34: 0.16 | E34: Informe | F34: 1 | H34: 1 | L34: =F34-SUM(G34:K34) -> 0
A35: Subactividad 2.1.2 | D35: =C35*$C$33*#REF! -> #REF! | L35: =F35-SUM(G35:K35) -> 0
A36: Subactividad 2.1.3 | D36: =C36*$C$33*#REF! -> #REF! | L36: =F36-SUM(G36:K36) -> 0
A37: Subactividad 2.1.4 | D37: =C37*$C$33*#REF! -> #REF! | L37: =F37-SUM(G37:K37) -> 0
A38: Subactividad 2.1.5 | D38: =C38*$C$33*#REF! -> #REF! | L38: =F38-SUM(G38:K38) -> 0
A39: Actividad 1.4 | B39: Revisar cuentas bancarias y realizar pagos. | C39: 0.17 | G39: =SUM(G40:G44) -> 0 | H39: =SUM(H40:H44) -> 1 | I39: =SUM(I40:I44) -> 0 | J39: =SUM(J40:J44) -> 0 | K39: =SUM(K40:K44) -> 0 | L39: =F39-SUM(G39:K39) -> -1
A40: Subactividad 1.4.1 | B40: Se entregará un (1) informe del estado de los pagos y soportes financieros, novedades, retiros de aliados, pagos totales, seguros asignados y porcentaje de ejecución de planes de inversión en general cualquier movimiento en el balance total de pagos y aliados. | C40: 0.17 | D40: 0.17 | E40: Informe | F40: 1 | H40: 1 | L40: =F40-SUM(G40:K40) -> 0
A41: Subactividad 2.2.2 | D41: =C41*$C$39*#REF! -> #REF! | L41: =F41-SUM(G41:K41) -> 0
A42: Subactividad 2.2.3 | D42: =C42*$C$39*#REF! -> #REF! | L42: =F42-SUM(G42:K42) -> 0
A43: Subactividad 2.2.4 | D43: =C43*$C$39*#REF! -> #REF! | L43: =F43-SUM(G43:K43) -> 0
...

Sheet Plan Ejecución
C1: SISTEMA DE GESTIÓN INTEGRAL - SGI | AE1: Instructivo
C2: COMPONENTE FINANCIERO EP - PLAN DE EJECUCIÓN FÍSICA Y DE INVERSIONES
C3: CÓDIGO: F-PGC-21 | H3: =+Instructivo!G3 -> VERSIÓN: 04
A5: MODALIDAD DE CONTRATACIÓN: | C5: Convenio Interadministrativo | AE5: =C5 -> Convenio Interadministrativo
A6: OBJETO A CONTRATAR: | C6: Aunar esfuerzos con el municipio de Heliconia para ejecución de las metas planteadas en el Plan de Acción 2024-2027 "Conectados por la vida" | AE6: =C6 -> Aunar esfuerzos con el municipio de Heliconia para ejecución de las metas planteadas en el Plan de Acción 2024-2027 "Conectados por la vida"
A8: CONTRATISTA/CONVENIANTE:
A9: NOMBRE DEL TÉCNICO (A):
A10: DURACIÓN Y/O PLAZO DEL CONTRATO (MESES):
A11: PERIODO DE PROGRAMACIÓN Y SEGUIMIENTO:
A13: PROGRAMACIÓN FÍSICA
B14: Descripción | C14: % de importancia | D14: % de importancia subactividades | E14: Unidad de medida | F14: Cantidad Programada | G14: Distribución física
G15: Período 1 | H15: Período 2 | I15: Período 3 | J15: Período 4 | K15: Período 5 | L15: Período 6 | M15: Período 7 | N15: Período 8 | O15: Período 9 | P15: Período 10 | Q15: Período 11 | R15: Período 12 | S15: Período 13 | T15: Período 14 | U15: Período 15 | V15: Período 16 | W15: Período 17 | X15: Período 18 | Y15: Período 19 | Z15: Período 20 | AA15: Período 21 | AB15: Período 22 | AC15: Período 23 | AD15: Período 24
A16: META/ PRODUCTO A OBTENER: | D16: =SUM(D17:D211) -> 1 | AE16: =F16-SUM(G16:AD16) -> 0
A17: Alcance 1 | B17: Alcance 1. Ejecutar acciones enmarcadas en las áreas protegidas y otras estrategias de conservación de la jurisdicción del municipio. | C17: ='Presupuesto Convenio'!F173 -> 0.24350056 | E17: Documento | F17: 5 | G17: =G18+G26+G33+G39+G45+G51 -> 2 | H17: =H18+H26+H33+H39+H45+H51 -> 1 | I17: =I18+I26+I33+I39+I45+I51 -> 1 | J17: =J18+J26+J33+J39+J45+J51 -> 1 | K17: =K18+K26+K33+K39+K45+K51 -> 0 | L17: =L18+L26+L33+L39+L45+L51 -> 0 | M17: =M18+M26+M33+M39+M45+M51 -> 0 | N17: =N18+N26+N33+N39+N45+N51 -> 0 | ... R17: =R18+R26+R33+R39+R45+R51 -> 0 | S17: =S18+S26+S33+S39+S45 -> 0 | T17: =T18+T26+T33+T39+T45 -> 0 | U17: =U18+U26+U33+U39+U45 -> 0 | V17: =V18+V26+V33+V39+V45 -> 0 | W17: =W18+W26+W33+W39+W45 -> 0 | X17: =X18+X26+X33+X39+X45 -> 0 | Y17: =Y18+Y26+Y33+Y39+Y45 -> 0 | Z17: =Z18+Z26+Z33+Z39+Z45 -> 0 | ... AD17: =AD18+AD26+AD33+AD39+AD45 -> 0 | AE17: =F17-SUM(G17:AD17) -> 0
A18: Actividad 1.1 | B18: Actividad 1: Desarrollar las acciones necesarias para la conservación, manejo y administración de los Distritos Regionales de Manejo Integrado Bosque Seco del Occidente Antioqueño y Divisoria Valle de Aburrá - Rio Cauca en la jurisdicción del Municipio de Heliconia. | C18: 1 | E18: Informe | F18: 5 | G18: =SUM(G19:G23) -> 2 | H18: =SUM(H19:H23) -> 1 | I18: =SUM(I19:I23) -> 1 | J18: =SUM(J19:J23) -> 1 | K18: =SUM(K19:K23) -> 0 | L18: =SUM(L19:L23) -> 0 | M18: =SUM(M19:M23) -> 0 | N18: =SUM(N19:N23) -> 0 | ... AD18: =SUM(AD19:AD23) -> 0 | AE18: =F18-SUM(G18:AD18) -> 0
A19: Subactividad 1.1.1 | B19: Subactividad 1: Contratar un (1) guardián para la vida con el fin de habilitar el funcionamiento de un punto de atención ciudadana para la administración del Distrito Regional de Manejo Integrado Bajo Cauca Nech de los Distritos Regionales de Manejo Integrado Bosque Seco del Occidente Antioqueño y Divisoria Valle de Aburrá - Rio Cauca | C19: 0.4 | D19: =C19*$C$18*$C$17 -> 0.097400224 | E19: Informe | F19: 1 | G19: 1 | AE19: =F19-SUM(G19:AD19) -> 0
A20: Subactividad 1.1.2 | B20: Subactividad 2: Desarrollo de acciones para la administración y manejo del área protegida, estrategias de conservación In situ, predios públicos destinados a la conservación o cuencas abastecedora de acueductos. | C20: 0.6 | D20: =C20*$C$18*$C$17 -> 0.14610034 | E20: Informe | F20: 4 | G20: 1 | H20: 1 | I20: 1 | J20: 1 | AE20: =F20-SUM(G20:AD20) -> 0
A21: Subactividad 1.1.3 | D21: =C21*$C$18*$C$17 -> 0 | AE21: =F21-SUM(G21:AD21) -> 0
A22: Subactividad 1.1.4 | D22: =C22*$C$18*$C$17 -> 0 | AE22: =F22-SUM(G22:AD22) -> 0
A23: Subactividad 1.1.5 | D23: =C23*$C$18*$C$17 -> 0 | AE23: =F23-SUM(G23:AD23) -> 0
A24: Subactividad 1.1.6 | D24: =C24*$C$18*$C$17 -> 0
A25: Subactividad 1.1.7 | D25: =C25*$C$18*$C$17 -> 0
A26: Actividad 1.2 | G26: =SUM(G27:G31) -> 0 | H26: =SUM(H27:H31) -> 0 | I26: =SUM(I27:I31) -> 0 | J26: =SUM(J27:J31) -> 0 | K26: =SUM(K27:K31) -> 0 | L26: =SUM(L27:L31) -> 0 | M26: =SUM(M27:M31) -> 0 | N26: =SUM(N27:N31) -> 0 | ... AD26: =SUM(AD27:AD31) -> 0 | AE26: =F26-SUM(G26:AD26) -> 0
A27: Subactividad 1.2.1 | D27: =C27*$C$26*$C$17 -> 0 | AE27: =F27-SUM(G27:AD27) -> 0
A28: Subactividad 1.2.2 | D28: =C28*$C$26*$C$17 -> 0 | AE28: =F28-SUM(G28:AD28) -> 0
A29: Subactividad 1.2.3 | D29: =C29*$C$26*$C$17 -> 0 | AE29: =F29-SUM(G29:AD29) -> 0
A30: Subactividad 1.2.4 | D30: =C30*$C$26*$C$17 -> 0 | AE30: =F30-SUM(G30:AD30) -> 0
A31: Subactividad 1.2.5 | D31: =C31*$C$26*$C$17 -> 0 | AE31: =F31-SUM(G31:AD31) -> 0
A32: Subactividad 1.2.6 | D32: =C32*$C$26*$C$17 -> 0
A33: Actividad 1.3 | G33: =SUM(G34:G38) -> 0 | H33: =SUM(H34:H38) -> 0 | I33: =SUM(I34:I38) -> 0 | J33: =SUM(J34:J38) -> 0 | K33: =SUM(K34:K38) -> 0 | L33: =SUM(L34:L38) -> 0 | M33: =SUM(M34:M38) -> 0 | N33: =SUM(N34:N38) -> 0 | ... AD33: =SUM(AD34:AD38) -> 0 | AE33: =F33-SUM(G33:AD33) -> 0
A34: Subactividad 1.3.1 | D34: =C34*$C$33*$C$17 -> 0 | AE34: =F34-SUM(G34:AD34) -> 0
A35: Subactividad 1.3.2 | D35: =C35*$C$33*$C$17 -> 0 | AE35: =F35-SUM(G35:AD35) -> 0
A36: Subactividad 1.3.3 | D36: =C36*$C$33*$C$17 -> 0 | AE36: =F36-SUM(G36:AD36) -> 0
A37: Subactividad 1.3.4 | D37: =C37*$C$33*$C$17 -> 0 | AE37: =F37-SUM(G37:AD37) -> 0
A38: Subactividad 1.3.5 | D38: =C38*$C$33*$C$17 -> 0 | AE38: =F38-SUM(G38:AD38) -> 0
A39: Actividad 1.4 | G39: =SUM(G40:G44) -> 0 | H39: =SUM(H40:H44) -> 0 | I39: =SUM(I40:I44) -> 0 | J39: =SUM(J40:J44) -> 0 | K39: =SUM(K40:K44) -> 0 | L39: =SUM(L40:L44) -> 0 | M39: =SUM(M40:M44) -> 0 | N39: =SUM(N40:N44) -> 0 | ... AD39: =SUM(AD40:AD44) -> 0 | AE39: =F39-SUM(G39:AD39) -> 0
A40: Subactividad 1.4.1 | D40: =C40*$C$39*$C$17 -> 0 | AE40: =F40-SUM(G40:AD40) -> 0
A41: Subactividad 1.4.2 | D41: =C41*$C$39*$C$17 -> 0 | AE41: =F41-SUM(G41:AD41) -> 0
A42: Subactividad 1.4.3 | D42: =C42*$C$39*$C$17 -> 0 | AE42: =F42-SUM(G42:AD42) -> 0
A43: Subactividad 1.4.4 | D43: =C43*$C$39*$C$17 -> 0 | AE43: =F43-SUM(G43:AD43) -> 0
...

Sheet Presupuesto Convenio
E1: SISTEMA DE GESTIÓN INTEGRAL - SGI | T1: Instructivo
E2: PRESUPUESTO - MODALIDAD CONVENIO
E3: CÓDIGO: F-PGC-21 | L3: =Instructivo!G3 -> VERSIÓN: 04
A5: MODALIDAD DE CONTRATACIÓN: | C5: ='Plan Ejecución'!AE5 -> Convenio Interadministrativo
A6: OBJETO A CONTRATAR: | C6: ='Plan Ejecución'!AE6 -> Aunar esfuerzos con el municipio de Heliconia para ejecución de las metas planteadas en el Plan de Acción 2024-2027 "Conectados por la vida"
A8: COSTOS DE PERSONAL | I8: FUENTES DE COFINANCIACIÓN | N8: Recursos en dinero de CORANTIOQUIA por alcance, actividad o subactividad
A9: Ítem | B9: Cantidad personal | C9: (%) Dedicación | D9: Unidad de medida | E9: Cantidad | F9: Valor unitario base | G9: Valor total | H9: (%) PP | I9: CORANTIOQUIA | K9: Entidad 1:
I10: DINERO | J10: ESPECIE | K10: DINERO | L10: ESPECIE | N10: Alcance 1 | O10: Alcance 2 | P10: Alcance 3 | Q10: Alcance 4 | R10: Alcance 5 | S10: Alcance 6
A11: Mano de Obra Calificada
A12: Bachiller | B12: =+'Alcance 1_Guardianes '!B17 -> 1 | C12: =+'Alcance 1_Guardianes '!C17 -> 1 | D12: =+'Alcance 1_Guardianes '!D17 -> mes | E12: =+'Alcance 1_Guardianes '!E17 -> 4 | F12: =IFERROR(VLOOKUP(A12,Honorarios!$A$9:$C$15,2,FALSE),"") -> 2400000 | G12: =B12*C12*E12*F12 -> 9600000 | H12: =IFERROR(G12/$G$100,0) -> 0.23899607 | I12: =G12 -> 9600000 | M12: =IFERROR(G12-SUM(I12:L12),"") -> 0 | N12: =I12 -> 9600000 | T12: =I12-SUM(N12:S12) -> 0
A13: Profesional con experiencia | B13: 1 | C13: 0.025 | D13: mes | E13: 3 | F13: =IFERROR(VLOOKUP(A13,Honorarios!$A$9:$C$15,2,FALSE),"") -> 7347000 | G13: =B13*C13*E13*F13 -> 551025 | H13: =IFERROR(G13/$G$100,0) -> 0.013718001 | J13: =G13 -> 551025 | M13: =IFERROR(G13-SUM(I13:L13),"") -> 0 | T13: =I13-SUM(N13:S13) -> 0
A14: Tecnólogo con experiencia | B14: 1 | C14: 1 | D14: mes | E14: 3 | F14: =IFERROR(VLOOKUP(A14,Honorarios!$A$9:$C$15,2,FALSE),"") -> 4687000 | G14: =B14*C14*E14*F14 -> 14061000 | H14: =IFERROR(G14/$G$100,0) -> 0.35005455 | I14: =G14 -> 14061000 | M14: =IFERROR(G14-SUM(I14:L14),"") -> 0 | O14: =I14 -> 14061000 | T14: =I14-SUM(N14:S14) -> 0
A15: Técnico | B15: 1 | C15: 1 | D15: mes | E15: 4 | F15: =IFERROR(VLOOKUP(A15,Honorarios!$A$9:$C$15,2,FALSE),"") -> 3989000 | G15: =B15*C15*E15*F15 -> 15956000 | H15: =IFERROR(G15/$G$100,0) -> 0.39723138 | I15: =G15 -> 15956000 | M15: =IFERROR(G15-SUM(I15:L15),"") -> 0 | P15: =I15 -> 15956000 | T15: =I15-SUM(N15:S15) -> 0
F16: =IFERROR(VLOOKUP(A16,Honorarios!$A$9:$C$15,2,FALSE),"") | G16: =IFERROR(B16*C16*E16*F16*#REF!,0) -> 0 | H16: =IFERROR(G16/$G$100,0) -> 0 | I16: =G16 -> 0 | M16: =IFERROR(G16-SUM(I16:L16),"") -> 0 | T16: =I16-SUM(N16:S16) -> 0
F17: =IFERROR(VLOOKUP(A17,Honorarios!$A$9:$C$15,2,FALSE),"") | G17: =IFERROR(B17*C17*E17*F17*#REF!,0) -> 0 | H17: =IFERROR(G17/$G$100,0) -> 0 | I17: =G17 -> 0 | M17: =IFERROR(G17-SUM(I17:L17),"") -> 0 | T17: =I17-SUM(N17:S17) -> 0
F18: =IFERROR(VLOOKUP(A18,Honorarios!$A$9:$C$15,2,FALSE),"") | G18: =IFERROR(B18*C18*E18*F18*#REF!,0) -> 0 | H18: =IFERROR(G18/$G$100,0) -> 0 | I18: =G18 -> 0 | M18: =IFERROR(G18-SUM(I18:L18),"") -> 0 | T18: =I18-SUM(N18:S18) -> 0
F19: =IFERROR(VLOOKUP(A19,Honorarios!$A$9:$C$15,2,FALSE),"") | G19: =IFERROR(B19*C19*E19*F19*#REF!,0) -> 0 | H19: =IFERROR(G19/$G$100,0) -> 0 | I19: =G19 -> 0 | M19: =IFERROR(G19-SUM(I19:L19),"") -> 0 | T19: =I19-SUM(N19:S19) -> 0
F20: =IFERROR(VLOOKUP(A20,Honorarios!$A$9:$C$15,2,FALSE),"") | G20: =IFERROR(B20*C20*E20*F20*#REF!,0) -> 0 | H20: =IFERROR(G20/$G$100,0) -> 0 | I20: =G20 -> 0 | M20: =IFERROR(G20-SUM(I20:L20),"") -> 0 | T20: =I20-SUM(N20:S20) -> 0
F21: =IFERROR(VLOOKUP(A21,Honorarios!$A$9:$C$15,2,FALSE),"") | G21: =IFERROR(B21*C21*E21*F21*#REF!,0) -> 0 | H21: =IFERROR(G21/$G$100,0) -> 0 | I21: =G21 -> 0 | M21: =IFERROR(G21-SUM(I21:L21),"") -> 0 | T21: =I21-SUM(N21:S21) -> 0
F22: =IFERROR(VLOOKUP(A22,Honorarios!$A$9:$C$15,2,FALSE),"") | G22: =IFERROR(B22*C22*E22*F22*#REF!,0) -> 0 | H22: =IFERROR(G22/$G$100,0) -> 0 | I22: =G22 -> 0 | M22: =IFERROR(G22-SUM(I22:L22),"") -> 0 | T22: =I22-SUM(N22:S22) -> 0
F23: =IFERROR(VLOOKUP(A23,Honorarios!$A$9:$C$15,2,FALSE),"") | G23: =IFERROR(B23*C23*E23*F23*#REF!,0) -> 0 | H23: =IFERROR(G23/$G$100,0) -> 0 | M23: =IFERROR(G23-SUM(I23:L23),"") -> 0 | T23: =I23-SUM(N23:S23) -> 0
F24: =IFERROR(VLOOKUP(A24,Honorarios!$A$9:$C$15,2,FALSE),"") | G24: =IFERROR(B24*C24*E24*F24*#REF!,0) -> 0 | H24: =IFERROR(G24/$G$100,0) -> 0 | M24: =IFERROR(G24-SUM(I24:L24),"") -> 0 | T24: =I24-SUM(N24:S24) -> 0
F25: =IFERROR(VLOOKUP(A25,Honorarios!$A$9:$C$15,2,FALSE),"") | G25: =IFERROR(B25*C25*E25*F25*#REF!,0) -> 0 | H25: =IFERROR(G25/$G$100,0) -> 0 | M25: =IFERROR(G25-SUM(I25:L25),"") -> 0 | T25: =I25-SUM(N25:S25) -> 0
F26: =IFERROR(VLOOKUP(A26,Honorarios!$A$9:$C$15,2,FALSE),"") | G26: =IFERROR(B26*C26*E26*F26*#REF!,0) -> 0 | H26: =IFERROR(G26/$G$100,0) -> 0 | M26: =IFERROR(G26-SUM(I26:L26),"") -> 0 | T26: =I26-SUM(N26:S26) -> 0
F27: =IFERROR(VLOOKUP(A27,Honorarios!$A$9:$C$15,2,FALSE),"") | G27: =IFERROR(B27*C27*E27*F27*#REF!,0) -> 0 | H27: =IFERROR(G27/$G$100,0) -> 0 | M27: =IFERROR(G27-SUM(I27:L27),"") -> 0 | T27: =I27-SUM(N27:S27) -> 0
F28: =IFERROR(VLOOKUP(A28,Honorarios!$A$9:$C$15,2,FALSE),"") | G28: =IFERROR(B28*C28*E28*F28*#REF!,0) -> 0 | H28: =IFERROR(G28/$G$100,0) -> 0 | M28: =IFERROR(G28-SUM(I28:L28),"") -> 0 | T28: =I28-SUM(N28:S28) -> 0
F29: =IFERROR(VLOOKUP(A29,Honorarios!$A$9:$C$15,2,FALSE),"") | G29: =IFERROR(B29*C29*E29*F29*#REF!,0) -> 0 | H29: =IFERROR(G29/$G$100,0) -> 0 | M29: =IFERROR(G29-SUM(I29:L29),"") -> 0 | T29: =I29-SUM(N29:S29) -> 0
F30: =IFERROR(VLOOKUP(A30,Honorarios!$A$9:$C$15,2,FALSE),"") | G30: =IFERROR(B30*C30*E30*F30*#REF!,0) -> 0 | H30: =IFERROR(G30/$G$100,0) -> 0 | M30: =IFERROR(G30-SUM(I30:L30),"") -> 0 | T30: =I30-SUM(N30:S30) -> 0
F31: =IFERROR(VLOOKUP(A31,Honorarios!$A$9:$C$15,2,FALSE),"") | G31: =IFERROR(B31*C31*E31*F31*#REF!,0) -> 0 | H31: =IFERROR(G31/$G$100,0) -> 0 | M31: =IFERROR(G31-SUM(I31:L31),"") -> 0 | T31: =I31-SUM(N31:S31) -> 0
F32: =IFERROR(VLOOKUP(A32,Honorarios!$A$9:$C$15,2,FALSE),"") | G32: =IFERROR(B32*C32*E32*F32*#REF!,0) -> 0 | H32: =IFERROR(G32/$G$100,0) -> 0 | M32: =IFERROR(G32-SUM(I32:L32),"") -> 0 | T32: =I32-SUM(N32:S32) -> 0
F33: =IFERROR(VLOOKUP(A33,Honorarios!$A$9:$C$15,2,FALSE),"") | G33: =IFERROR(B33*C33*E33*F33*#REF!,0) -> 0 | H33: =IFERROR(G33/$G$100,0) -> 0 | M33: =IFERROR(G33-SUM(I33:L33),"") -> 0 | T33: =I33-SUM(N33:S33) -> 0
F34: =IFERROR(VLOOKUP(A34,Honorarios!$A$9:$C$15,2,FALSE),"") | G34: =IFERROR(B34*C34*E34*F34*#REF!,0) -> 0 | H34: =IFERROR(G34/$G$100,0) -> 0 | M34: =IFERROR(G34-SUM(I34:L34),"") -> 0 | T34: =I34-SUM(N34:S34) -> 0
... F60: =IFERROR(VLOOKUP(A60,Honorarios!$A$9:$C$15,2,FALSE),"") | G60: =IFERROR(B60*C60*E60*F60*#REF!,0) -> 0 | H60: =IFERROR(G60/$G$100,0) -> 0 | M60: =IFERROR(G60-SUM(I60:L60),"") -> 0 | T60: =I60-SUM(N60:S60) -> 0
A61: Subtotal Mano de Obra calificada | G61: =SUM(G12:G60) -> 40168025 | H61: =SUM(H12:H60) -> 1 | I61: =SUM(I12:I60) -> 39617000 | J61: =SUM(J12:J60) -> 551025 | K61: =SUM(K12:K60) -> 0 | L61: =SUM(L12:L60) -> 0 | M61: =G61-SUM(I61:L61) -> 0
A62: Mano de Obra No Calificada
G63: =IFERROR(B63*C63*E63*F63*#REF!,0) -> 0 | H63: =IFERROR(G63/$G$100,0) -> 0 | M63: =G63-SUM(I63:L63) -> 0 | T63: =I63-SUM(N63:S63) -> 0
G64: =IFERROR(B64*C64*E64*F64*#REF!,0) -> 0 | H64: =IFERROR(G64/$G$100,0) -> 0 | M64: =G64-SUM(I64:L64) -> 0 | T64: =I64-SUM(N64:S64) -> 0
G65: =IFERROR(B65*C65*E65*F65*#REF!,0) -> 0 | H65: =IFERROR(G65/$G$100,0) -> 0 | M65: =G65-SUM(I65:L65) -> 0 | T65: =I65-SUM(N65:S65) -> 0
G66: =IFERROR(B66*C66*E66*F66*#REF!,0) -> 0 | H66: =IFERROR(G66/$G$100,0) -> 0 | M66: =G66-SUM(I66:L66) -> 0 | T66: =I66-SUM(N66:S66) -> 0
G67: =IFERROR(B67*C67*E67*F67*#REF!,0) -> 0 | H67: =IFERROR(G67/$G$100,0) -> 0 | M67: =G67-SUM(I67:L67) -> 0 | T67: =I67-SUM(N67:S67) -> 0
...

Sheet Alcance 1_Guardianes 
D1: SISTEMA DE GESTIÓN INTEGRAL - SGI | L1: Instructivo
D2: MEMORIA DE CÁLCULO - OPCIÓN 3
D3: CÓDIGO: F-PGC-21 | G3: =Instructivo!G3 -> VERSIÓN: 04
A5: MODALIDAD DE CONTRATACIÓN: | F5: ='Plan Ejecución'!AE5 -> Convenio Interadministrativo
A6: OBJETO A CONTRATAR: | F6: ='Plan Ejecución'!AE6 -> Aunar esfuerzos con el municipio de Heliconia para ejecución de las metas planteadas en el Plan de Acción 2024-2027 "Conectados por la vida"
A8: PROCESO/ ALCANCE / ACTIVIDAD: | F8: =+'Plan Ejecución'!B17 -> Alcance 1. Ejecutar acciones enmarcadas en las áreas protegidas y otras estrategias de conservación de la jurisdicción del municipio.
A9: UNIDAD DE MEDIDA PARA EL PRECIO UNITARIO:
A10: ESPECIFICACIÓN TÉCNICA PARA EL PRECIO UNITARIO:
A12: DISCRIMINACIÓN DE COSTOS | H12: FUENTES DE COFINANCIACIÓN
H13: CORANTIOQUIA | J13: Entidad 1: Municipio
A14: ACTIVIDAD 1
A15: Ítem | B15: Cantidad personal | C15: (%) Dedicación | D15: Unidad de medida | E15: Cantidad | F15: Valor unitario base | G15: Valor total | H15: DINERO | I15: ESPECIE | J15: DINERO | K15: ESPECIE
A16: COSTOS DE PERSONAL
A17: Bachiller | B17: 1 | C17: 1 | D17: mes | E17: 4 | F17: =+Honorarios!B9 -> 2400000 | G17: =B17*C17*E17*F17 -> 9600000 | H17: =+G17 -> 9600000
A28: SUBTOTAL COSTOS DE PERSONAL | G28: =SUM(G17:G27) -> 9600000 | H28: =SUM(H17:H27) -> 9600000 | I28: =SUM(I17:I27) -> 0 | J28: =SUM(J17:J27) -> 0 | K28: =SUM(K17:K27) -> 0
A29: Ítem | D29: Unidad de medida | E29: Cantidad | F29: Valor unitario | G29: Valor total | H29: DINERO | I29: ESPECIE | J29: DINERO | K29: ESPECIE
A30: OTROS COSTOS (Diferentes a los costos de personal)
A31: Gastos de desplazamiento y manutención de guardian para la vida, 14 recorridos por mes | D31: Mes | E31: =+E17 -> 4 | F31: =42000*14*B17 -> 588000 | G31: =E31*F31 -> 2352000 | H31: =+G31 -> 2352000
A32: Kit Primeros Auxilios para Guardian para la vida | D32: Kit | E32: 1 | F32: 150000 | G32: =+F32*E32 -> 150000 | I32: =+G32 -> 150000
A33: Distintivos de imagen institucional corporativa básica - Camibuso 3 por Guardian para la vida | D33: Unidad | E33: 3 | F33: 49600 | G33: =+F33*E33 -> 148800 | I33: =+G33 -> 148800
A34: Distintivos de imagen institucional corporativa básica - Pava 2 porGuardian para la vida | D34: Unidad | E34: 2 | F34: 55880 | G34: =+F34*E34 -> 111760 | I34: =+G34 -> 111760
A35: Botas Macha Alta Negra | D35: Unidad | E35: 1 | F35: 40000 | G35: =+F35*E35 -> 40000 | I35: =+G35 -> 40000
A36: Apoyo locativo, conocimiento tecnico, transporte o alimentacion | D36: Global | E36: 1 | F36: 7540000 | G36: =+F36*E36 -> 7540000 | K36: =+G36 -> 7540000
G43: =E43*F43 -> 0
G44: =E44*F44 -> 0
A45: SUBTOTAL OTROS COSTOS | G45: =SUM(G31:G44) -> 10342560 | H45: =SUM(H31:H44) -> 2352000 | I45: =SUM(I31:I44) -> 450560 | J45: =SUM(J31:J44) -> 0 | K45: =SUM(K31:K44) -> 7540000
A46: SUBTOTAL ACTIVIDAD | G46: =G28+G45 -> 19942560 | H46: =H28+H45 -> 11952000 | I46: =I28+I45 -> 450560 | J46: =J28+J45 -> 0 | K46: =K28+K45 -> 7540000
A47: ¿ES UN CONTRATO O REQUIERE CONTRATO DERIVADO? | G47: Si
A48: =IF(G47="Si","Administración","Gastos de administración") -> Administración | F48: 0.14 | G48: =F48*H46 -> 1673280 | H48: =G48 -> 1673280 | L48: Gastos de administración
A49: =IF(G47="Si","Utilidad","") -> Utilidad | G49: 0
A50: =IF(G47="Si","IVA","") -> IVA | G50: =G46*F50 -> 0 | L50: Info IVA
A51: =IF(G47="Si","TOTAL (después de AU e IVA)", "TOTAL (después de administración)") -> TOTAL (después de AU e IVA) | G51: =SUM(G48:G50)+G46 -> 21615840 | H51: =SUM(H48:H50)+H46 -> 13625280 | I51: =SUM(I48:I50)+I46 -> 450560 | J51: =SUM(J48:J50)+J46 -> 0 | K51: =SUM(K48:K50)+K46 -> 7540000
A52: Unidades | C52: Unidad de medida | E52: Costo unitario (antes de administración, utilidad e IVA si aplican) | F52: =IFERROR(G46/B52,0) -> 0 | G52: Descripción:
A54: Unidades | B54: 10 | C54: Unidad de medida | D54: hectareas | E54: Costo unitario sin MO (antes de administración, utilidad e IVA si aplican) | F54: =IFERROR((G46-G28)/B54,0) -> 1034256 | G54: Descripción:
A56: ACTIVIDAD 2
A57: Ítem | B57: Cantidad personal | C57: (%) Dedicación | D57: Unidad de medida | E57: Cantidad | F57: Valor unitario base | G57: Valor total | H57: DINERO | I57: ESPECIE | J57: DINERO | K57: ESPECIE
A58: COSTOS DE PERSONAL
G59: =B59*C59*E59*F59 -> 0
G60: =B60*C60*E60*F60 -> 0
G61: =B61*C61*E61*F61 -> 0
...

Sheet Alcance_2_PSA
D1: SISTEMA DE GESTIÓN INTEGRAL - SGI | L1: Instructivo
D2: MEMORIA DE CÁLCULO - OPCIÓN 3
D3: CÓDIGO: F-PGC-21 | G3: =[7]Instructivo!G3 -> VERSIÓN: 04
A5: MODALIDAD DE CONTRATACIÓN: | F5: ='[7]Plan Ejecución'!AE5 -> Convenio Interadministrativo
A6: OBJETO A CONTRATAR: | F6: ='[7]Plan Ejecución'!AE6 -> “Aunar esfuerzos técnicos, administrativos y financieros para caracterizar el esquema de pago por servicios ambientales, para la conservación de ecosistemas estratégicos asociados al recurso hídrico bajo los parámetros establecidos en la ordenanza Departamental N° 049 de 2016, en familias campesinas en el territorio del Municipio XXXXX en la jurisdicción de CORANTIOQUIA.”
A8: PROCESO/ ALCANCE / ACTIVIDAD:
A9: UNIDAD DE MEDIDA PARA EL PRECIO UNITARIO:
A10: ESPECIFICACIÓN TÉCNICA PARA EL PRECIO UNITARIO:
A12: DISCRIMINACIÓN DE COSTOS | H12: FUENTES DE COFINANCIACIÓN
H13: CORANTIOQUIA | J13: Entidad 1:
A14: ACTIVIDAD 1
A15: Ítem | B15: Cantidad personal | C15: (%) Dedicación | D15: Unidad de medida | E15: Cantidad | F15: Valor unitario base | G15: Valor total | H15: DINERO | I15: ESPECIE | J15: DINERO | K15: ESPECIE
A16: COSTOS DE PERSONAL
A17: Profesional con experiencia | B17: 1 | C17: 0.3 | D17: Mes | E17: 3 | F17: 7347000 | G17: =F17*E17*C17 -> 6612300 | H17: 6612300
A18: Tecnólogo sin experiencia | B18: 1 | C18: 0.5 | D18: Mes | E18: 3 | F18: 4041000 | G18: =F18*E18*C18 -> 6061500 | H18: 6061500
G20: =B20*C20*E20*F20 -> 0
G21: =B21*C21*E21*F21 -> 0
G22: =B22*C22*E22*F22 -> 0
G23: =B23*C23*E23*F23 -> 0
G24: =B24*C24*E24*F24 -> 0
G25: =B25*C25*E25*F25 -> 0
G26: =B26*C26*E26*F26 -> 0
G27: =B27*C27*E27*F27 -> 0
A28: SUBTOTAL COSTOS DE PERSONAL | G28: =SUM(G17:G27) -> 12673800 | H28: =SUM(H17:H27) -> 12673800 | I28: =SUM(I17:I27) -> 0 | J28: =SUM(J17:J27) -> 0 | K28: =SUM(K17:K27) -> 0
A29: Ítem | D29: Unidad de medida | E29: Cantidad | F29: Valor unitario | G29: Valor total | H29: DINERO | I29: ESPECIE | J29: DINERO | K29: ESPECIE
A30: OTROS COSTOS (Diferentes a los costos de personal)
A31: Desplazamiento y manutencion tecnologo | D31: Visitas | E31: 10 | F31: 87000 | G31: =E31*F31 -> 870000 | H31: =G31 -> 870000
A32: Pago de PSA para los predios del municipio | D32: Predios | E32: 10 | F32: 700000 | G32: =E32*F32 -> 7000000 | H32: =G32 -> 7000000
G33: =E33*F33 -> 0
G34: =E34*F34 -> 0
G35: =E35*F35 -> 0
G36: =E36*F36 -> 0
G37: =E37*F37 -> 0
G38: =E38*F38 -> 0
G39: =E39*F39 -> 0
G40: =E40*F40 -> 0
G41: =E41*F41 -> 0
G42: =E42*F42 -> 0
G43: =E43*F43 -> 0
G44: =E44*F44 -> 0
...

Sheet Alcance 2. PSA
D1: SISTEMA DE GESTIÓN INTEGRAL - SGI | L1: Instructivo
D2: MEMORIA DE CÁLCULO - OPCIÓN 3
D3: CÓDIGO: F-PGC-21 | G3: =[7]Instructivo!G3 -> VERSIÓN: 04
A5: MODALIDAD DE CONTRATACIÓN: | F5: ='[7]Plan Ejecución'!AE5 -> Convenio Interadministrativo
F6: Aunar esfuerzos con el municipio de Jérico para ejecución de las metas planteadas en el Plan de Acción 2024-2027 "Conectados por la vida"
A8: OBJETO A CONTRATAR: | F8: Aunar esfuerzos con el municipio de Heliconia para ejecución de las metas planeadas en el Plan de Acción 2024 – 2027 “Conectados por la vida”
A10: PROCESO/ ALCANCE / ACTIVIDAD:
A11: UNIDAD DE MEDIDA PARA EL PRECIO UNITARIO:
A12: ESPECIFICACIÓN TÉCNICA PARA EL PRECIO UNITARIO:
A14: DISCRIMINACIÓN DE COSTOS | H14: FUENTES DE COFINANCIACIÓN
H15: CORANTIOQUIA | J15: Entidad 1:
A16: ACTIVIDAD 1
A17: Ítem | B17: Cantidad personal | C17: (%) Dedicación | D17: Unidad de medida | E17: Cantidad | F17: Valor unitario base | G17: Valor total | H17: DINERO | I17: ESPECIE | J17: DINERO | K17: ESPECIE
A18: COSTOS DE PERSONAL
A19: Profesional con experiencia | B19: 1 | C19: 0.025 | D19: Mes | E19: 3 | F19: 7347000 | G19: =F19*E19*C19*B19 -> 551025 | I19: =G19 -> 551025
C20: 0.0416 | D20: Mes | E20: 3 | F20: 4687000 | G20: =F20*E20*C20*B20 -> 0 | I20: =G20 -> 0
A21: Tecnólogo con experiencia | B21: 1 | C21: 1 | D21: Mes | E21: 3 | F21: 4687000 | G21: =F21*E21*C21*B21 -> 14061000 | H21: =G21 -> 14061000
G22: =B22*C22*E22*F22 -> 0
G23: =B23*C23*E23*F23 -> 0
G24: =B24*C24*E24*F24 -> 0
G25: =B25*C25*E25*F25 -> 0
G26: =B26*C26*E26*F26 -> 0
G27: =B27*C27*E27*F27 -> 0
G28: =B28*C28*E28*F28 -> 0
G29: =B29*C29*E29*F29 -> 0
A30: SUBTOTAL COSTOS DE PERSONAL | G30: =SUM(G19:G29) -> 14612025 | H30: =SUM(H19:H29) -> 14061000 | I30: =SUM(I19:I29) -> 551025 | J30: =SUM(J19:J29) -> 0 | K30: =SUM(K19:K29) -> 0
A31: Ítem | D31: Unidad de medida | E31: Cantidad | F31: Valor unitario | G31: Valor total | H31: DINERO | I31: ESPECIE | J31: DINERO | K31: ESPECIE
A32: OTROS COSTOS (Diferentes a los costos de personal)
A33: Desplazamiento y manutencion tecnologo | D33: Visitas | E33: 4 | F33: 87000 | G33: =E33*F33 -> 348000 | H33: =+G33 -> 348000
A34: Pago de PSA para los predios del municipio | D34: meses | E34: 3 | F34: 1726405.3 | G34: =E34*F34 -> 5179215.8 | H34: =+G34 -> 5179215.8
G35: =E35*F35 -> 0 | M35: 2101172
G36: =E36*F36 -> 0
G37: =E37*F37 -> 0
G38: =E38*F38 -> 0
G39: =E39*F39 -> 0
G40: =E40*F40 -> 0
G41: =E41*F41 -> 0
G42: =E42*F42 -> 0
G43: =E43*F43 -> 0
G44: =E44*F44 -> 0
...

Sheet Alcance3_ACUEDUCTOS
D1: SISTEMA DE GESTIÓN INTEGRAL - SGI | L1: Instructivo
D2: MEMORIA DE CÁLCULO - OPCIÓN 3
D3: CÓDIGO: F-PGC-21 | G3: =[13]Instructivo!G3 -> VERSIÓN: 04
A5: MODALIDAD DE CONTRATACIÓN: | F5: Convenio Interadminsitrativo
A6: OBJETO A CONTRATAR: | F6: Aunar esfuerzos con el municipio de Zaragoza para ejecución de las metas planteadas en el Plan de Acción 2024-2027 "Conectados por la vida"
A8: PROCESO/ ALCANCE / ACTIVIDAD: | F8: Implementar acciones para el fortalecimiento de la gobernanza del agua con el fin de promover la gestión corresponsable en la conectividades y corredores biológicos.
A9: UNIDAD DE MEDIDA PARA EL PRECIO UNITARIO: | F9: Encuentros y restauraciòn ecológica
A10: ESPECIFICACIÓN TÉCNICA PARA EL PRECIO UNITARIO: | F10: Fortalecer las capacidades de los actores de las Juntas Administradoras de Acueductos y Juntas de Acción Comunales para la participación en la gestión ambiental y la planificación adecuada del patrimonio hídrico”
A12: DISCRIMINACIÓN DE COSTOS | H12: FUENTES DE COFINANCIACIÓN
H13: CORANTIOQUIA | J13: Entidad 1:
A14: ACTIVIDAD 1
A15: Ítem | B15: Cantidad personal | C15: (%) Dedicación | D15: Unidad de medida | E15: Cantidad | F15: Valor unitario base | G15: Valor total | H15: DINERO | I15: ESPECIE | J15: DINERO | K15: ESPECIE
A16: COSTOS DE PERSONAL
A17: Tecnico | B17: 1 | C17: 1 | D17: mes | E17: 4 | F17: =+[14]Honorarios!B10 -> 3989000 | G17: =B17*C17*E17*F17 -> 15956000 | H17: =G17 -> 15956000
G20: =B20*C20*E20*F20 -> 0 | H20: =G20 -> 0
G21: =B21*C21*E21*F21 -> 0 | H21: =G21 -> 0
G22: =B22*C22*E22*F22 -> 0
G23: =B23*C23*E23*F23 -> 0
G24: =B24*C24*E24*F24 -> 0
G25: =B25*C25*E25*F25 -> 0
G26: =B26*C26*E26*F26 -> 0
G27: =B27*C27*E27*F27 -> 0
A28: 5 | G28: =SUM(G17:G27) -> 15956000 | H28: =SUM(H17:H27) -> 15956000 | I28: =SUM(I17:I27) -> 0 | J28: =SUM(J17:J27) -> 0 | K28: =SUM(K17:K27) -> 0
A29: Ítem | D29: Unidad de medida | E29: Cantidad | F29: Valor unitario | G29: Valor total | H29: DINERO | I29: ESPECIE | J29: DINERO | K29: ESPECIE
A30: OTROS COSTOS (Diferentes a los costos de personal)
A31: Desplazamiento, manutensiòn y pernota de profesionales en campo | D31: viajes | E31: 2 | F31: =255000 -> 255000 | G31: =E31*F31 -> 510000 | H31: =G31 -> 510000
A32: Acciones para implementación de acciones de restauración y preservación | D32: accion por vereda | E32: 1 | F32: 1077860 | G32: =E32*F32 -> 1077860 | H32: =G32 -> 1077860
G33: =E33*F33 -> 0
G34: =E34*F34 -> 0
G35: =E35*F35 -> 0
G36: =E36*F36 -> 0
G37: =E37*F37 -> 0
G38: =E38*F38 -> 0
G39: =E39*F39 -> 0
G40: =E40*F40 -> 0
G41: =E41*F41 -> 0
G42: =E42*F42 -> 0
A43: SUBTOTAL OTROS COSTOS | G43: =SUM(G31:G42) -> 1587860 | H43: =SUM(H31:H42) -> 1587860 | I43: =SUM(I31:I42) -> 0 | J43: =SUM(J31:J42) -> 0 | K43: =SUM(K31:K42) -> 0
A44: SUBTOTAL ACTIVIDAD | G44: =G28+G43 -> 17543860 | H44: =H28+H43 -> 17543860 | I44: =I28+I43 -> 0 | J44: =J28+J43 -> 0 | K44: =K28+K43 -> 0 | L44: =#REF!-#REF! -> #REF!
A45: ¿ES UN CONTRATO O REQUIERE CONTRATO DERIVADO? | G45: Si
...

Sheet Estudio de mercado 2024
B1: SISTEMA DE GESTIÓN INTEGRAL - SGI | L1: Instructivo
B2: ESTUDIO DE MERCADO
B3: CÓDIGO: F-PGC-21 | I3: VERSIÓN: 02
A5: MODALIDAD DE CONTRATACIÓN: convenios interadministrativos Gestion Ambiental 2024 | D5: ='[8]Plan Ejecución'!S5 -> 0
A6: OBJETO A CONTRATAR: ESTUDUIO DE MERCADO 2024 | D6: ='[8]Plan Ejecución'!S6 -> 0
D8: 1 | E8: 2 | F8: 3 | G8: 4 | H8: 5 | I8: 6 | J8: 7
A9: NÚMERO DE RADICADO: | D9: 110-COE2402-6981 | E9: https://articulo.mercadolibre.com.co/MCO-881708760-azadon-forjado-con-mango-1850-gramos-12-metros-_JM#position=2&search_layout=stack&type=item&tracking_id=d8c49a98-123e-44bb-af87-3f7b1715e513 | F9: https://www.homecenter.com.co/homecenter-co/product/25672/azadon-forjado-con-mango-1850-gramos-12-metros/25672/
A10: PROVEEDOR: | D10: Agrofácil S.A.S | E10: Mercado libre | F10: Homecenter
A11: Ítem | B11: Unidad de medida | C11: Cantidad | D11: Valor unitario antes de IVA | E11: Valor unitario antes de IVA | F11: Valor unitario antes de IVA | G11: Valor unitario antes de IVA | H11: Valor unitario antes de IVA | I11: Valor unitario antes de IVA | J11: Valor unitario antes de IVA | K11: PROMEDIO Valor unitario antes de IVA | M11: MEDIANA Valor unitario antes de IVA
A12: =A12:K362 -> 0 | K12: =IFERROR(AVERAGEIF(D12:J12,">0",D12:J12),"") | M12: =IFERROR(MEDIAN(D12:J12),"")
K13: =IFERROR(AVERAGEIF(D13:J13,">0",D13:J13),"") | M13: =IFERROR(MEDIAN(D13:J13),"")
K14: =IFERROR(AVERAGEIF(D14:J14,">0",D14:J14),"") | M14: =IFERROR(MEDIAN(D14:J14),"")
K15: =IFERROR(AVERAGEIF(D15:J15,">0",D15:J15),"") | M15: =IFERROR(MEDIAN(D15:J15),"")
K23: =IFERROR(AVERAGEIF(D23:J23,">0",D23:J23),"") | M23: =IFERROR(MEDIAN(D23:J23),"")
K24: =IFERROR(AVERAGEIF(D24:J24,">0",D24:J24),"") | M24: =IFERROR(MEDIAN(D24:J24),"")
K25: =IFERROR(AVERAGEIF(D25:J25,">0",D25:J25),"") | M25: =IFERROR(MEDIAN(D25:J25),"")
K26: =IFERROR(AVERAGEIF(D26:J26,">0",D26:J26),"") | M26: =IFERROR(MEDIAN(D26:J26),"")
K27: =IFERROR(AVERAGEIF(D27:J27,">0",D27:J27),"") | M27: =IFERROR(MEDIAN(D27:J27),"")
K28: =IFERROR(AVERAGEIF(D28:J28,">0",D28:J28),"") | M28: =IFERROR(MEDIAN(D28:J28),"")
K29: =IFERROR(AVERAGEIF(D29:J29,">0",D29:J29),"") | M29: =IFERROR(MEDIAN(D29:J29),"")
K30: =IFERROR(AVERAGEIF(D30:J30,">0",D30:J30),"") | M30: =IFERROR(MEDIAN(D30:J30),"")
K31: =IFERROR(AVERAGEIF(D31:J31,">0",D31:J31),"") | M31: =IFERROR(MEDIAN(D31:J31),"")
... K358: =IFERROR(AVERAGEIF(D358:J358,">0",D358:J358),"") | M358: =IFERROR(MEDIAN(D358:J358),"")
A359: Azadon (Forzado con mango) | B359: unidad | C359: 1 | D359: 90142.5 | E359: =139900 -> 139900 | F359: 83900 | K359: =IFERROR(AVERAGEIF(D359:J359,">0",D359:J359),"") -> 104647.5 | M359: =IFERROR(MEDIAN(D359:J359),"") -> 90142.5
K360: =IFERROR(AVERAGEIF(D360:J360,">0",D360:J360),"") | M360: =IFERROR(MEDIAN(D360:J360),"")
K361: =IFERROR(AVERAGEIF(D361:J361,">0",D361:J361),"") | M361: =IFERROR(MEDIAN(D361:J361),"")
D366: 1 | E366: 2 | F366: 3 | G366: 4 | H366: 5 | I366: 6 | J366: 7
A367: NÚMERO DE RADICADO: | D367: 110-COE2402-6940 | E367: 110-COE2402-6911
A368: PROVEEDOR: | D368: Tierra Negra S.A.S. | E368: El Míster
A369: Ítem | B369: Unidad de medida | C369: Cantidad | D369: Valor unitario antes de IVA | E369: Valor unitario antes de IVA | F369: Valor unitario antes de IVA | G369: Valor unitario antes de IVA | H369: Valor unitario antes de IVA | I369: Valor unitario antes de IVA | J369: Valor unitario antes de IVA | K369: PROMEDIO Valor unitario antes de IVA
A370: Plántulas (min 35 cm de altura) corresponde a grupo 2 de los precios establecidos por la corporación | B370: Unidad | C370: 1 | D370: 1550 | E370: 7500 | K370: =AVERAGE(D370:F370) -> 4525
D372: 1 | E372: 2 | F372: 3 | G372: 4 | H372: 5 | I372: 6 | J372: 7
A373: NÚMERO DE RADICADO: | D373: 110-COE2402-6915 | E373: 110-COE2402-6974 | F373: 110-COE2402-6938
A374: PROVEEDOR: | D374: Núcleos S.A. | E374: Madepinos | F374: Expomadera
A375: Ítem | B375: Unidad de medida | C375: Cantidad | D375: Valor unitario antes de IVA | E375: Valor unitario antes de IVA | F375: Valor unitario antes de IVA | G375: Valor unitario antes de IVA | H375: Valor unitario antes de IVA | I375: Valor unitario antes de IVA | J375: Valor unitario antes de IVA | K375: PROMEDIO Valor unitario antes de IVA
A376: Estacon cilíndrico de longitud 2,2 diametro 10 cm | B376: Unidad | C376: 1 | D376: 37126.8 | E376: 33200 | F376: =35040+(35040*0.19) -> 41697.6 | K376: =AVERAGE(D376:F376) -> 37341.467
A377: Media madera | B377: Unidad | C377: 1 | D377: 1000 | E377: 1500 | K377: 33200
D380: 1 | E380: 2 | F380: 3 | G380: 4 | H380: 5 | I380: 6 | J380: 7
A381: NÚMERO DE RADICADO: | D381: https://www.tierragro.com/products/compostcampo?variant=35599482749078 | E381: 110-COE2402-6935 | F381: 110-COE2402-6981
A382: PROVEEDOR: | D382: Tierragro | E382: Abonamos S.A.S. | F382: Agrofácil S.A.S
...

Sheet Estudio de mercado
B1: SISTEMA DE GESTIÓN INTEGRAL - SGI | L1: Instructivo
B2: ESTUDIO DE MERCADO
B3: CÓDIGO: F-PGC-21 | I3: =Instructivo!G3 -> VERSIÓN: 04
A5: MODALIDAD DE CONTRATACIÓN: | D5: ='Plan Ejecución'!AE5 -> Convenio Interadministrativo
A6: OBJETO A CONTRATAR: | D6: ='Plan Ejecución'!AE6 -> Aunar esfuerzos con el municipio de Heliconia para ejecución de las metas planteadas en el Plan de Acción 2024-2027 "Conectados por la vida"
D8: 1 | E8: 2 | F8: 3 | G8: 4 | H8: 5 | I8: 6 | J8: 7
A9: NÚMERO DE RADICADO:
A10: PROVEEDOR:
A11: Ítem | B11: Unidad de medida | C11: Cantidad | D11: Valor unitario antes de IVA | E11: Valor unitario antes de IVA | F11: Valor unitario antes de IVA | G11: Valor unitario antes de IVA | H11: Valor unitario antes de IVA | I11: Valor unitario antes de IVA | J11: Valor unitario antes de IVA | K11: PROMEDIO Valor unitario antes de IVA | M11: MEDIANA Valor unitario antes de IVA
K12: =IFERROR(AVERAGEIF(D12:J12,">0",D12:J12),"") | M12: =IFERROR(MEDIAN(D12:J12),"")
K13: =IFERROR(AVERAGEIF(D13:J13,">0",D13:J13),"") | M13: =IFERROR(MEDIAN(D13:J13),"")
K14: =IFERROR(AVERAGEIF(D14:J14,">0",D14:J14),"") | M14: =IFERROR(MEDIAN(D14:J14),"")
K15: =IFERROR(AVERAGEIF(D15:J15,">0",D15:J15),"") | M15: =IFERROR(MEDIAN(D15:J15),"")
K16: =IFERROR(AVERAGEIF(D16:J16,">0",D16:J16),"") | M16: =IFERROR(MEDIAN(D16:J16),"")
K17: =IFERROR(AVERAGEIF(D17:J17,">0",D17:J17),"") | M17: =IFERROR(MEDIAN(D17:J17),"")
K18: =IFERROR(AVERAGEIF(D18:J18,">0",D18:J18),"") | M18: =IFERROR(MEDIAN(D18:J18),"")
K19: =IFERROR(AVERAGEIF(D19:J19,">0",D19:J19),"") | M19: =IFERROR(MEDIAN(D19:J19),"")
K20: =IFERROR(AVERAGEIF(D20:J20,">0",D20:J20),"") | M20: =IFERROR(MEDIAN(D20:J20),"")
K21: =IFERROR(AVERAGEIF(D21:J21,">0",D21:J21),"") | M21: =IFERROR(MEDIAN(D21:J21),"")
K22: =IFERROR(AVERAGEIF(D22:J22,">0",D22:J22),"") | M22: =IFERROR(MEDIAN(D22:J22),"")
K23: =IFERROR(AVERAGEIF(D23:J23,">0",D23:J23),"") | M23: =IFERROR(MEDIAN(D23:J23),"")
... K354: =IFERROR(AVERAGEIF(D354:J354,">0",D354:J354),"") | M354: =IFERROR(MEDIAN(D354:J354),"")
A356: NOTA: A la hora de solicitar la cotización se deberá considerar que la misma esté expresada en los términos y unidades del presupuesto, igualmente, que en la medida de lo posible se encuentre en pesos colombianos, en caso de usar otra moneda explicitar la tasa de cambio utilizada, y la fecha y fuente de consulta de la misma.

Sheet Gastos de adm
B1: SISTEMA DE GESTIÓN INTEGRAL - SGI | G1: Instructivo
B2: DETERMINACIÓN DE GASTOS DE ADMINISTRACIÓN | G2: Impuestos y garantías
B3: CÓDIGO: F-PGC-21 | D3: =Instructivo!G3 -> VERSIÓN: 04
A5: MODALIDAD DE CONTRATACIÓN: | B5: ='Plan Ejecución'!AE5 -> Convenio Interadministrativo
A6: OBJETO A CONTRATAR: | B6: ='Plan Ejecución'!AE6 -> Aunar esfuerzos con el municipio de Heliconia para ejecución de las metas planteadas en el Plan de Acción 2024-2027 "Conectados por la vida"
A8: COSTOS DIRECTOS EN DINERO NO EJECUTOR | D8: MESES
A10: GASTOS DE ADMINISTRACIÓN
A11: Ítem | B11: Unidad de medida | C11: Cantidad | D11: Valor unitario | E11: Valor total | F11: (%) PP
E12: =C12*D12 -> 0 | F12: =IFERROR(E12/$B$8,0) -> 0
E13: =C13*D13 -> 0 | F13: =IFERROR(E13/$B$8,0) -> 0
E14: =C14*D14 -> 0 | F14: =IFERROR(E14/$B$8,0) -> 0
E15: =C15*D15 -> 0 | F15: =IFERROR(E15/$B$8,0) -> 0
E16: =C16*D16 -> 0 | F16: =IFERROR(E16/$B$8,0) -> 0
E17: =C17*D17 -> 0 | F17: =IFERROR(E17/$B$8,0) -> 0
E18: =C18*D18 -> 0 | F18: =IFERROR(E18/$B$8,0) -> 0
E19: =C19*D19 -> 0 | F19: =IFERROR(E19/$B$8,0) -> 0
E20: =C20*D20 -> 0 | F20: =IFERROR(E20/$B$8,0) -> 0
E21: =C21*D21 -> 0 | F21: =IFERROR(E21/$B$8,0) -> 0
E22: =C22*D22 -> 0 | F22: =IFERROR(E22/$B$8,0) -> 0
E23: =C23*D23 -> 0 | F23: =IFERROR(E23/$B$8,0) -> 0
... E59: =C59*D59 -> 0 | F59: =IFERROR(E59/$B$8,0) -> 0
A60: TOTAL GASTOS DE ADMINISTRACIÓN | E60: =SUM(E12:E59) -> 0 | F60: =SUM(F12:F59) -> 0
A62: En caso de convenios, si el conveniante ejecutor va a realizar un contrato derivado, considerar para el análisis:
A63: TOTAL APORTES EN DINERO NO EJECUTOR (antes de AU e IVA) | E63: =B8 -> 0
A64: Administración | D64: =F60 -> 0 | E64: =D64*E63 -> 0
A65: Utilidad | D65: 0 | E65: =E63*D65 -> 0
A66: IVA | D66: 0 | E66: =(E63+E64+E65)*D66 -> 0 | F66: Info IVA
A67: TOTAL (incluido AU e IVA) | E67: =SUM(E63:E66) -> 0
A69: TOTAL Porcentaje de gastos de administración a reconocer por análisis de contrato derivado (Sobre los costos directos en dinero del no ejecutor) | E69: =E64+E65+E66 -> 0 | F69: =IFERROR(E69/E63,0) -> 0

Sheet Gtos DyM
B1: SISTEMA DE GESTIÓN INTEGRAL - SGI | E1: Instructivo
B2: VALORES DE GASTOS DE DESPLAZAMIENTO Y MANUTENCIÓN
B3: CÓDIGO: F-PGC-21 | D3: =Instructivo!G3 -> VERSIÓN: 04
A5: AÑO VIGENTE: | B5: =Honorarios!B5 -> 2024
A6: MEMORANDO: | B6: 190-MEM2401-169
A8: Cuatro N.1 Gastos de desplazamiento y manutención por municipio
A9: Municipio | B9: Valor total desplazamiento | C9: Valor total desplazamiento y manutención más de 4 horas sin pernocta | D9: Valor total desplazamiento y manutención con (1) una pernocta*
A10: Amagá | B10: 47200 | C10: 102200 | D10: 157200
A11: Amalfí | B11: 154200 | C11: 209200 | D11: 264200
A12: Andes | B12: 77200 | C12: 132200 | D12: 187200
A13: Angelópolis | B13: 47200 | C13: 102200 | D13: 157200
A14: Angostura | B14: 167200 | C14: 222200 | D14: 277200
A15: Anorí | B15: 118200 | C15: 173200 | D15: 228200
A16: Anzá | B16: 77200 | C16: 132200 | D16: 187200
A17: Armenia mantequilla | B17: 64200 | C17: 119200 | D17: 174200
A18: Barbosa | B18: 69000 | C18: 124000 | D18: NA
A19: Bello | B19: 47000 | C19: 74000 | D19: NA
A20: Belmira | B20: 45200 | C20: 100200 | D20: 155200
A21: Betania | B21: 84200 | C21: 139200 | D21: 194200
A22: Betulia | B22: 82200 | C22: 137200 | D22: 192200
A23: Briceño | B23: 79200 | C23: 134200 | D23: 189200
A24: Buriticá | B24: 77200 | C24: 132200 | D24: 187200
A25: Cáceres | B25: 206200 | C25: 261200 | D25: 316200
A26: Caicedo | B26: 79200 | C26: 134200 | D26: 189200
A27: Caldas | B27: 69000 | C27: 124000 | D27: NA
A28: Campamento | B28: 167200 | C28: 222200 | D28: 277200
A29: Caracolí | B29: 154200 | C29: 209200 | D29: 264200
A30: Caramanta | B30: 125200 | C30: 180200 | D30: 235200
A31: Carolina del Príncipe | B31: 91200 | C31: 146200 | D31: 201200
A32: Caucasia | B32: 223200 | C32: 278200 | D32: 333200
A33: Cisneros | B33: 119200 | C33: 174200 | D33: 229200
A34: Ciudad Bolívar | B34: 84200 | C34: 139200 | D34: 194200
A35: Concordia | B35: 71200 | C35: 126200 | D35: 181200
A36: Copacabana | B36: 48000 | C36: 103000 | D36: NA
A37: Don Matías | B37: 36200 | C37: 91200 | D37: 146200
A38: Ebéjico | B38: 71200 | C38: 126200 | D38: 181200
A39: El Bagre | B39: 276200 | C39: 331200 | D39: 386200
A40: Entrerríos | B40: 45200 | C40: 100200 | D40: 155200
A41: Envigado | B41: 47000 | C41: 74000 | D41: NA
A42: Fredonia | B42: 87200 | C42: 142200 | D42: 197200
...

Sheet Honorarios
B1: SISTEMA DE GESTIÓN INTEGRAL - SGI | D1: Instructivo
B2: VALORES DE HONORARIOS (PRESTADORES DE SERVICIOS)
B3: CÓDIGO: F-PGC-21 | C3: =Instructivo!G3 -> VERSIÓN: 04
A5: AÑO VIGENTE: | B5: 2024
A6: MEMORANDO: | B6: 180-MEM2401-182
A8: Nivel Académico Requerido | B8: Valor mes Honorarios
A9: Bachiller | B9: 2400000
A10: Técnico | B10: 3989000
A11: Tecnólogo sin experiencia | B11: 4041000
A12: Tecnólogo con experiencia | B12: 4687000
A13: Profesional sin experiencia | B13: 4996000
A14: Profesional con experiencia | B14: 7347000
A15: Coordinador de proyecto | B15: 8814000
A17: Nota. El presente valor de los honorarios es el reconocido por la Corporación para la ejecución de sus contratos o convenios, cualquier cambio por parte del ejecutor en la modalidad de contratación de prestación de servicios a laboral será bajo cuenta y riesgo del este último y no podrá trasladar o solidarizar a la Corporación con la carga o gastos adicionales en los cuales incurra.

Sheet Jornal
C1: SISTEMA DE GESTIÓN INTEGRAL - SGI | K1: Instructivo
C2: VALORES DE JORNALES
C3: CÓDIGO: F-PGC-21 | G3: =Instructivo!G3 -> VERSIÓN: 04
A5: AÑO VIGENTE: | D5: 2024
A6: MEMORANDO: | D6: 190-MEM2401-171
A7: SMMLVC: | D7: 1300000
A8: AUX TRANSPORTE MENSUAL: | D8: 162000
A10: DETERMINACIÓN DEL VALOR DEL JORNAL POR BASE
A11: Salario base en SMMLV | C11: 1 | D11: 1.25 | E11: 1.5 | F11: 1.75 | G11: 2 | H11: 3 | I11: 4 | J11: 5
