Workbook
Name Ciudades: [1]Insumos!$B$2:$B$2
Name Concretos: [1]Insumos!#REF!
Name Concretos: [1]Insumos!#REF!
Name Concretos: [1]Insumos!#REF!
Name INSUMOS: #REF!
Name INSUMOS: #REF!
Name INSUMOS: #REF!

Sheet ESTACIONES COSTO DIRECTO
A2: “MANTENIMIENTO, ADECUACION Y MEJORAMIENTO EN LAS ESTACIONES DE BOMBEROS FUNDADORES, PALOGRANDE Y ENEA DE LA CIUDAD DE MANIZALES”.
A4: N° | B4: ITEMS | C4: DESCRIPCIÒN | D4: M2 | E4: CANTD | F4: V/UND | G4: V/ PARCIAL.
A5: 1 | B5: 019.005 | C5: SUMINISTRO, TRANSPORTE E INSTALACION PINTURA SOBRE REVOQUE VINILO 3 MANOS SOBRE MURO (INCLUYE 1 MANO EN PINTURA TIPO 2 Y DOS MANOS EN PINTURA TIPO 1, FILOS Y DILATACIONES).COLOR SEGÚN DISEÑO POR M2 | D5: M2 | E5: 800 | F5: 21374 | G5: =E5*F5 -> 17099200 | I5: 5.25 | J5: =3*35 -> 105
A6: 2 | B6: 19006 | C6: ESMALTE SINTETICO PINTULUX - TIPO PINTUCO REF. SEGÚN COLOR DISEÑO O SIMILAR, PARA PUERTAS | D6: M2 | E6: 25.5 | F6: 27000 | G6: =E6*F6 -> 688500 | I6: =+I5*3 -> 15.75
A7: 3 | C7: RECORRIDO DE CUBIERTA EN FIBROCEMENTO incluye ganchos y amarras | D7: M2 | E7: 850 | F7: 14481 | G7: =E7*F7 -> 12308850
A8: 4 | C8: SUMINISTRO, TRANSPORTE E INSTALACION TEJA ONDULADA FIBROCEMENTO PERFIL 5 | D8: M2 | E8: 850 | F8: 42787 | G8: =E8*F8 -> 36368950
A9: 5 | C9: JORNAL AYUDANTE (Reparacion humedad) | D9: DIA | E9: 15 | F9: 73584 | G9: =E9*F9 -> 1103760
A10: 6 | C10: SUMINISTRO, TRANSPORTE E INSTALACION COMBO Tipo AVANTI Color Blanco Ref. 30336100K Tipo Corona o Similar. (Incluye Sanitario Redondo Avanti con tapa y tanque, lavamanos de pedestal avanti accesorios de conexión e instalación.) más Conjunto Grifería Lavamanos Prysma 4" con sifón botella, desague sencillo y grapas. | D10: UND | E10: 4 | F10: 664171 | G10: =E10*F10 -> 2656684
A11: 7 | C11: Ventilacion sala de crisis ( SUMINISTRO, TRANSPORTE E INSTALACION REJILLA 30X30 CM VENTILACION EN CIELO RASO | D11: UND | E11: 3 | F11: 61038 | G11: =E11*F11 -> 183114
A12: 8 | C12: SUMINISTRO, TRANSPORTE E INSTALACION RECUBRIMIENTO BAJANTES AGUAS LLUVIAS EN MURO SUPERBOARD 8 mm. ( Perfileria cal. 26 cada 60 cm.) Incluye tres (3) manos de pintura | D12: M2 | E12: 2.7 | F12: 107617 | G12: =E12*F12 -> 290565.9 | J12: =+E12*2.5 -> 6.75 | K12: =+J12*2 -> 13.5
A13: 9 | C13: DEMOLICION PLACA DE ENTREPISO hasta E=0.30 m. . | D13: M2 | E13: 1.2 | F13: 44985 | G13: =E13*F13 -> 53982
A14: 10 | C14: DESMONTE APARATOS SANITARIOS | D14: UND | E14: 8 | F14: 51318 | G14: =E14*F14 -> 410544
A15: 11 | C15: DESMONTE PUERTAS (INCLUYE RETIRO) | D15: UND | E15: 12 | F15: 35230 | G15: =E15*F15 -> 422760
A16: 12 | C16: DESMONTE DE MUEBLE BAJO MESON | D16: ML | E16: =9.5*0.6 -> 5.7 | F16: 17751 | G16: =E16*F16 -> 101180.7
A17: 13 | C17: DESMONTE DE MUEBLE ENCIMA DE MESON. Incluye cargue y retiro de material desmontado | D17: ML | E17: =+E16 -> 5.7 | F17: 21834 | G17: =E17*F17 -> 124453.8
A18: 14 | C18: SUMINISTRO, TRANSPORTE E INSTALACION DE MUEBLE BAJO MESON ANCHO: 0.60 M. CON CON FACHADA: TABLEX ENCHAPADO TRIPLEX OKUME 19 MM. TIPO PIZANO O SIMILAR. INTERIOR: MADECOR 15 MM. TIPO PIZANO O SIMILAR. ACABADO: ACABADO: TINTILLA, SELLADOR (MÍNIMO 6 MANOS) Y LACA PARA EL TABLEX, EL MADECOR SEGÚN PINTA SELECCIONADA DE CARTA COLORES MADECOR. (INCLUYE HOJAS PARA PUERTAS CON 2 RANURAS HORIZONTALES Y CON MARQUETE CHAPACANTO OKUMÉ. INTERIOR CON UN (1) ENTREPAÑO, TAPA SOBRE EL POYO DEL MUEBLE, HERRAJES, MANIJAS, SUMINISTRO DE TODOS LOS ACCESORIOS NECESARIOS PARA GARANTIZAR UNA CORRECTA INSTALACIÓN). | D18: m2 | E18: =+E16 -> 5.7 | F18: 798259 | G18: =E18*F18 -> 4550076.3
A19: 15 | C19: SUMINISTRO, TRANSPORTE E INSTALACION DE MUEBLE PARED ANCHO: 0.60 M. CON FACHADA: MADECOR 19 MM. INTERIOR: MADECOR 15 MM. TIPO PIZANO O SIMILAR. ACABADO: SEGÚN PINTA SELECCIONADA DE CARTA COLORES MADECOR. (INCLUYE HOJAS PARA PUERTAS CON 2 RANURAS HORIZONTALES PINTADAS Y CON MARQUETE EN CANTO DECORATIVO. INTERIOR CON UN (1) ENTREPAÑO, TAPA DETRAS DEL MUEBLE, HERRAJES, MANIJAS, SUMINISTRO DE TODOS LOS ACCESORIOS NECESARIOS PARA GARANTIZAR UNA CORRECTA INSTALACIÓN). | D19: m2 | E19: =7.25*0.45 -> 3.2625 | F19: 475447 | G19: =E19*F19 -> 1551145.8
A20: 16 | C20: suministro e instalacion Estufa CHALLENGER Empotrable Gas Natural 60x52 cm 4 Puestos Vidrio Squad | D20: UND | E20: 1 | F20: 829900 | G20: =E20*F20 -> 829900
A21: 17 | C21: SUMINISTRO TABLERO RED REGULADA | D21: UND | E21: 1 | F21: 712672 | G21: =E21*F21 -> 712672
A22: 18 | C22: SUMINISTRO, TRANSPORTE E INSTALACIÓN A TODO COSTO DE MURO EN SUPERBOARD 8 MM PINTADO Y TERMINADO (DOS CARAS). INCLUYE PERFILERÍA Y TODO LO NECESARIO PARA SU CORRECTA INSTALACIÓN | D22: m2 | E22: 19.2 | F22: 147950 | G22: =E22*F22 -> 2840640 | J22: =0.8*8 -> 6.4 | K22: =+J22*3 -> 19.2
A23: 19 | C23: DESMONTE CIELO RASO (INCLUYE RETIRO) | D23: M2 | E23: 850 | F23: 11359 | G23: =E23*F23 -> 9655150
A24: 20 | B24: 006.045 | C24: SUMINISTRO, TRANSPORTE E INSTALACIÓN A TODO COSTO DE CIELO RASO EN SUPERBOARD TEXTURIZADO MODULADO 1,20 X 0,60 PINTADO Y TERMINADO. INCLUYE PERFILERÍA, ANCLAJES Y TODO LO NECESARIO PARA SU CORRECTA INSTALACIÓN | D24: M2 | E24: 850 | F24: 37207 | G24: =E24*F24 -> 31625950
A25: 21 | B25: 029.074 | C25: DEMOLICION MURO MAMPOSTERIA DE LADRILLO O BLOQUE | D25: M2 | E25: 5 | F25: 23827 | G25: =F25*E25 -> 119135
A26: 22 | B26: 006.040 | C26: SUMINISTRO TRANSPORTE E INSTALACION DE MURO EN LADRILLO FAROL PANDERETA E=12CMS. INCLUYE MORTERO DE PEGA. | D26: M2 | E26: 5 | F26: 53150 | G26: =E26*F26 -> 265750
A27: 23 | B27: 009.001 | C27: SUMINISTRO,TRANSPORTE E INSTALACION REVOQUE LISO MUROS 1:3 INTERIOR ( INCLUYE FILOS Y DILATACIONES ) | D27: M2 | E27: 15 | F27: 33352 | G27: =E27*F27 -> 500280
A28: 24 | B28: 032.337 | C28: SUMINISTRO, TRANSPORTE E INSTALACION CARTERA VENTANAS Y PUERTAS EN MORTERO 1:3 ANCHO 15-20 CMS. | D28: ML | E28: 6 | F28: 23474 | G28: =E28*F28 -> 140844
A29: 25 | C29: CIELO RASO
A30: 26 | B30: 011.009 | C30: SUMINISTRO, TRANSPORTE E INSTALACIÓN DE CIELO RASO EN LÁMINAS DE PVC A TODO COSTO. INCLUYE ESTRUCTURA METÁLICA, PERIMETRALES Y HASTA 2 CAJAS DE INSPECCION DE 0.60 X 0.60 CADA 30 M2. TEXTURA SEGÚN DISEÑO | D30: M2 | E30: 80 | F30: 62224 | G30: =E30*F30 -> 4977920
A31: 27 | C31: APARATOS SANITARIOS
A32: 28 | B32: 015.001 | C32: SUMINISTRO, TRANSPORTE E INSTALACION COMBO TIPO ACUACER COLOR BLANCO REF. 92639100K TIPO CORONA O SIMILAR. (INCLUYE SANITARIO ACUACER CON TAPA Y TANQUE, LAVAMANOS DE COLGAR ACUACER CON SIFÓN BOTELLA Y DESAGUE SENCILLO, GRIFERÍA PISCIS, GRAPAS, ACCESORIOS DE CONEXIÓN E INSTALACIÓN.). (ÍTEM INCOMPLETO) | D32: UND | E32: 4 | F32: 495518 | G32: =E32*F32 -> 1982072
A33: 29 | C33: PINTURA
A34: 30 | B34: 019.005 | C34: SUMINISTRO, TRANSPORTE E INSTALACION PINTURA SOBRE REVOQUE VINILO 3 MANOS SOBRE MURO (INCLUYE 1 MANO EN PINTURA TIPO 2 Y DOS MANOS EN PINTURA TIPO 1, FILOS Y DILATACIONES).COLOR SEGÚN DISEÑO POR M2 | D34: M2 | E34: 100 | F34: 21374 | G34: =E34*F34 -> 2137400
A35: 31 | B35: 006.026 | C35: SUMINISTRO, TRANSPORTE E INSTALACION LAVADO E IMPERMEABILIZADO DE LADRILLO CON HIDROFUGO | D35: M2 | E35: 140 | F35: 22888 | G35: =E35*F35 -> 3204320
A36: 32 | B36: 017.083 | C36: SUMINISTRO, TRANSPORTE E INSTALACION VENTANERIA APOYADA EN PERFILERIA DE ALUMINIO EMBEBIDA EN MURO Y CIELO RASO, CON VIDRIO TEMPLADO 8MM INCOLORO | D36: M2 | E36: 16 | F36: 481141 | G36: =E36*F36 -> 7698256
A37: 33 | C37: DESMONTE
A38: 34 | B38: 028.005 | C38: DESMONTE APARATOS SANITARIOS | D38: UND | E38: 8 | F38: 51318 | G38: =E38*F38 -> 410544
A39: 35 | B39: 028.008 | C39: DESMONTE CIELO RASO (INCLUYE RETIRO) | D39: M2 | E39: 80 | F39: 11359 | G39: =E39*F39 -> 908720
A40: 36 | B40: 028.018 | C40: DESMONTE DE VIDRIO | D40: M2 | E40: 16 | F40: 4547 | G40: =E40*F40 -> 72752
A41: 37 | C41: DESMONTE PUERTAS (INCLUYE RETIRO) | D41: UND | E41: 8 | F41: 35230 | G41: =E41*F41 -> 281840
A42: 38 | B42: 028.087 | C42: DESMONTE LAMPARAS | D42: UND | E42: 7 | F42: 5765 | G42: =E42*F42 -> 40355
...

Sheet FUNDADORES
B2: PRESUPUESTO APROXIMADO PARA PINTURA DE PAREDES PUERTAS DE ALCOBA Y ARMARIOS DE LA ESTACION DE BOMBEROS SEDE FUNDADORES.
B4: ITEMS | C4: DESCRIPCIÒN | D4: M2 | E4: CANTD | F4: V/UND | G4: V/ PARCIAL.
A5: 019.005 | B5: 1 | C5: SUMINISTRO, TRANSPORTE E INSTALACION PINTURA SOBRE REVOQUE VINILO 3 MANOS SOBRE MURO (INCLUYE 1 MANO EN PINTURA TIPO 2 Y DOS MANOS EN PINTURA TIPO 1, FILOS Y DILATACIONES).COLOR SEGÚN DISEÑO POR M2 | D5: M2 | E5: 800 | F5: 21374 | G5: =E5*F5 -> 17099200 | I5: 5.25 | J5: =3*35 -> 105
B6: =B5+1 -> 2 | C6: ESMALTE SINTETICO PINTULUX - TIPO PINTUCO REF. SEGÚN COLOR DISEÑO O SIMILAR, PARA PUERTAS | D6: M2 | E6: 25.5 | F6: 27000 | G6: =E6*F6 -> 688500 | I6: =+I5*3 -> 15.75
C7: RECORRIDO DE CUBIERTA EN FIBROCEMENTO incluye ganchos y amarras | D7: M2 | E7: 850 | F7: 14481 | G7: =E7*F7 -> 12308850
C8: SUMINISTRO, TRANSPORTE E INSTALACION TEJA ONDULADA FIBROCEMENTO PERFIL 5 | D8: M2 | E8: 850 | F8: 42787 | G8: =E8*F8 -> 36368950
C9: JORNAL AYUDANTE (Reparacion humedad) | D9: DIA | E9: 15 | F9: 73584 | G9: =E9*F9 -> 1103760
C10: SUMINISTRO, TRANSPORTE E INSTALACION COMBO Tipo AVANTI Color Blanco Ref. 30336100K Tipo Corona o Similar. (Incluye Sanitario Redondo Avanti con tapa y tanque, lavamanos de pedestal avanti accesorios de conexión e instalación.) más Conjunto Grifería Lavamanos Prysma 4" con sifón botella, desague sencillo y grapas. | D10: UND | E10: 4 | F10: 664171 | G10: =E10*F10 -> 2656684
C11: Ventilacion sala de crisis ( SUMINISTRO, TRANSPORTE E INSTALACION REJILLA 30X30 CM VENTILACION EN CIELO RASO | D11: UND | E11: 3 | F11: 61038 | G11: =E11*F11 -> 183114
C12: SUMINISTRO, TRANSPORTE E INSTALACION RECUBRIMIENTO BAJANTES AGUAS LLUVIAS EN MURO SUPERBOARD 8 mm. ( Perfileria cal. 26 cada 60 cm.) Incluye tres (3) manos de pintura | D12: M2 | E12: 2.7 | F12: 107617 | G12: =E12*F12 -> 290565.9 | J12: =+E12*2.5 -> 6.75 | K12: =+J12*2 -> 13.5
C13: DEMOLICION PLACA DE ENTREPISO hasta E=0.30 m. . | D13: M2 | E13: 1.2 | F13: 44985 | G13: =E13*F13 -> 53982
C14: DESMONTE APARATOS SANITARIOS | D14: UND | E14: 8 | F14: 51318 | G14: =E14*F14 -> 410544
C15: DESMONTE PUERTAS (INCLUYE RETIRO) | D15: UND | E15: 12 | F15: 35230 | G15: =E15*F15 -> 422760
C16: DESMONTE DE MUEBLE BAJO MESON | D16: ML | E16: =9.5*0.6 -> 5.7 | F16: 17751 | G16: =E16*F16 -> 101180.7
C17: DESMONTE DE MUEBLE ENCIMA DE MESON. Incluye cargue y retiro de material desmontado | D17: ML | E17: =+E16 -> 5.7 | F17: 21834 | G17: =E17*F17 -> 124453.8
C18: SUMINISTRO, TRANSPORTE E INSTALACION DE MUEBLE BAJO MESON ANCHO: 0.60 M. CON CON FACHADA: TABLEX ENCHAPADO TRIPLEX OKUME 19 MM. TIPO PIZANO O SIMILAR. INTERIOR: MADECOR 15 MM. TIPO PIZANO O SIMILAR. ACABADO: ACABADO: TINTILLA, SELLADOR (MÍNIMO 6 MANOS) Y LACA PARA EL TABLEX, EL MADECOR SEGÚN PINTA SELECCIONADA DE CARTA COLORES MADECOR. (INCLUYE HOJAS PARA PUERTAS CON 2 RANURAS HORIZONTALES Y CON MARQUETE CHAPACANTO OKUMÉ. INTERIOR CON UN (1) ENTREPAÑO, TAPA SOBRE EL POYO DEL MUEBLE, HERRAJES, MANIJAS, SUMINISTRO DE TODOS LOS ACCESORIOS NECESARIOS PARA GARANTIZAR UNA CORRECTA INSTALACIÓN). | D18: m2 | E18: =+E16 -> 5.7 | F18: 798259 | G18: =E18*F18 -> 4550076.3
C19: SUMINISTRO, TRANSPORTE E INSTALACION DE MUEBLE PARED ANCHO: 0.60 M. CON FACHADA: MADECOR 19 MM. INTERIOR: MADECOR 15 MM. TIPO PIZANO O SIMILAR. ACABADO: SEGÚN PINTA SELECCIONADA DE CARTA COLORES MADECOR. (INCLUYE HOJAS PARA PUERTAS CON 2 RANURAS HORIZONTALES PINTADAS Y CON MARQUETE EN CANTO DECORATIVO. INTERIOR CON UN (1) ENTREPAÑO, TAPA DETRAS DEL MUEBLE, HERRAJES, MANIJAS, SUMINISTRO DE TODOS LOS ACCESORIOS NECESARIOS PARA GARANTIZAR UNA CORRECTA INSTALACIÓN). | D19: m2 | E19: =7.25*0.45 -> 3.2625 | F19: 475447 | G19: =E19*F19 -> 1551145.8
C20: suministro e instalacion Estufa CHALLENGER Empotrable Gas Natural 60x52 cm 4 Puestos Vidrio Squad | D20: UND | E20: 1 | F20: 829900 | G20: =E20*F20 -> 829900
C21: SUMINISTRO TABLERO RED REGULADA | D21: UND | E21: 1 | F21: 712672 | G21: =E21*F21 -> 712672
C22: SUMINISTRO, TRANSPORTE E INSTALACIÓN A TODO COSTO DE MURO EN SUPERBOARD 8 MM PINTADO Y TERMINADO (DOS CARAS). INCLUYE PERFILERÍA Y TODO LO NECESARIO PARA SU CORRECTA INSTALACIÓN | D22: m2 | E22: 19.2 | F22: 147950 | G22: =E22*F22 -> 2840640 | J22: =0.8*8 -> 6.4 | K22: =+J22*3 -> 19.2
C23: DESMONTE CIELO RASO (INCLUYE RETIRO) | D23: M2 | E23: 850 | F23: 11359 | G23: =E23*F23 -> 9655150
C24: Astas Banderas | D24: UND | E24: 3
A25: 006.045 | B25: =B6+1 -> 3 | C25: SUMINISTRO, TRANSPORTE E INSTALACIÓN A TODO COSTO DE CIELO RASO EN SUPERBOARD TEXTURIZADO MODULADO 1,20 X 0,60 PINTADO Y TERMINADO. INCLUYE PERFILERÍA, ANCLAJES Y TODO LO NECESARIO PARA SU CORRECTA INSTALACIÓN | D25: M2 | E25: 850 | F25: 37207 | G25: =E25*F25 -> 31625950
C26: TOTAL COSTO DIRECTO | G26: =SUM(G5:G25) -> 1.2357808e+08

Sheet LA ENEA
A1: ESTACIÒN DE BOMBEROS LA ENEA PRESUPUESTO APROXIMADO
A2: ITEMS | B2: CODIGO | C2: DESCRIPCION | D2: UND | E2: CANTI | F2: V/UND | G2: V/PARCIAL
C3: MAMPOSTERIA
A4: 1 | B4: 029.074 | C4: DEMOLICION MURO MAMPOSTERIA DE LADRILLO O BLOQUE | D4: M2 | E4: 5 | F4: 23827 | G4: =F4*E4 -> 119135
A5: =A4+1 -> 2 | B5: 006.040 | C5: SUMINISTRO TRANSPORTE E INSTALACION DE MURO EN LADRILLO FAROL PANDERETA E=12CMS. INCLUYE MORTERO DE PEGA. | D5: M2 | E5: 5 | F5: 53150 | G5: =E5*F5 -> 265750
A6: =A5+1 -> 3 | B6: 009.001 | C6: SUMINISTRO,TRANSPORTE E INSTALACION REVOQUE LISO MUROS 1:3 INTERIOR ( INCLUYE FILOS Y DILATACIONES ) | D6: M2 | E6: 15 | F6: 33352 | G6: =E6*F6 -> 500280
A7: =A6+1 -> 4 | B7: 032.337 | C7: SUMINISTRO, TRANSPORTE E INSTALACION CARTERA VENTANAS Y PUERTAS EN MORTERO 1:3 ANCHO 15-20 CMS. | D7: ML | E7: 6 | F7: 23474 | G7: =E7*F7 -> 140844
A8: =A7+1 -> 5 | C8: CIELO RASO | G8: =E8*F8 -> 0
A9: =A8+1 -> 6 | B9: 011.009 | C9: SUMINISTRO, TRANSPORTE E INSTALACIÓN DE CIELO RASO EN LÁMINAS DE PVC A TODO COSTO. INCLUYE ESTRUCTURA METÁLICA, PERIMETRALES Y HASTA 2 CAJAS DE INSPECCION DE 0.60 X 0.60 CADA 30 M2. TEXTURA SEGÚN DISEÑO | D9: M2 | E9: 80 | F9: 62224 | G9: =E9*F9 -> 4977920
C10: APARATOS SANITARIOS
A11: =A9+1 -> 7 | B11: 015.001 | C11: SUMINISTRO, TRANSPORTE E INSTALACION COMBO TIPO ACUACER COLOR BLANCO REF. 92639100K TIPO CORONA O SIMILAR. (INCLUYE SANITARIO ACUACER CON TAPA Y TANQUE, LAVAMANOS DE COLGAR ACUACER CON SIFÓN BOTELLA Y DESAGUE SENCILLO, GRIFERÍA PISCIS, GRAPAS, ACCESORIOS DE CONEXIÓN E INSTALACIÓN.). (ÍTEM INCOMPLETO) | D11: UND | E11: 4 | F11: 495518 | G11: =E11*F11 -> 1982072
C12: PINTURA | G12: =E12*F12 -> 0
A13: 8 | B13: 019.005 | C13: SUMINISTRO, TRANSPORTE E INSTALACION PINTURA SOBRE REVOQUE VINILO 3 MANOS SOBRE MURO (INCLUYE 1 MANO EN PINTURA TIPO 2 Y DOS MANOS EN PINTURA TIPO 1, FILOS Y DILATACIONES).COLOR SEGÚN DISEÑO POR M2 | D13: M2 | E13: 100 | F13: 21374 | G13: =E13*F13 -> 2137400
A14: =A13+1 -> 9 | B14: 006.026 | C14: SUMINISTRO, TRANSPORTE E INSTALACION LAVADO E IMPERMEABILIZADO DE LADRILLO CON HIDROFUGO | D14: M2 | E14: 140 | F14: 22888 | G14: =E14*F14 -> 3204320
A15: 10 | B15: 017.083 | C15: SUMINISTRO, TRANSPORTE E INSTALACION VENTANERIA APOYADA EN PERFILERIA DE ALUMINIO EMBEBIDA EN MURO Y CIELO RASO, CON VIDRIO TEMPLADO 8MM INCOLORO | D15: M2 | E15: 16 | F15: 481141 | G15: =E15*F15 -> 7698256
C16: DESMONTE | G16: =E16*F16 -> 0
A17: 11 | B17: 028.005 | C17: DESMONTE APARATOS SANITARIOS | D17: UND | E17: 8 | F17: 51318 | G17: =E17*F17 -> 410544
A18: =A17+1 -> 12 | B18: 028.008 | C18: DESMONTE CIELO RASO (INCLUYE RETIRO) | D18: M2 | E18: 80 | F18: 11359 | G18: =E18*F18 -> 908720
A19: =A18+1 -> 13 | B19: 028.018 | C19: DESMONTE DE VIDRIO | D19: M2 | E19: 16 | F19: 4547 | G19: =E19*F19 -> 72752
C20: DESMONTE PUERTAS (INCLUYE RETIRO) | D20: UND | E20: 8 | F20: 35230 | G20: =E20*F20 -> 281840
A21: =A19+1 -> 14 | B21: 028.087 | C21: DESMONTE LAMPARAS | D21: UND | E21: 7 | F21: 5765 | G21: =E21*F21 -> 40355
A22: =A21+1 -> 15 | B22: 029.003 | C22: DEMOLICION ENCHAPE DE PISOS (INCLUYE RETIRO) | D22: M2 | E22: 20 | F22: 8589 | G22: =E22*F22 -> 171780
C23: PUERTAS | G23: =E23*F23 -> 0
A24: =A22+1 -> 16 | B24: 016.002 | C24: SUMINISTRO, TRANSPORTE E INSTALACION PUERTA ENTAMBORADA EN LAMINA TRIPLEX OKUME - TIPO PIZANO OKUMÉ O SIMILAR. ANCHO: 0,76 A 1,10 M. ALTO: 1,80 A 2,40 M. HOJA LISA CON MARQUETE CAPACANTO OKUMÉ. ACABADO: TINTILLA, SELLADOR (MÍNIMO 6 MANOS) Y LACA SEGÚN DISEÑO. (INCLUYE BISAGRAS). | D24: UND | E24: 6 | F24: 817711 | G24: =F24*E24 -> 4906266
C25: ENCHAPE
A26: =A24+1 -> 17 | B26: 012.081 | C26: SUMINISTRO, TRANSPORTE E INSTALACION CERÁMICA DE PISO TIPO NACIONAL. ALFA O SIMILAR. (INCLUYE MORTERO DE NIVELACIÓN Y DILATACIÓN EN PVC) | D26: M2 | E26: 25 | F26: 86837 | G26: =F26*E26 -> 2170925
C27: VENTANAS
A28: =A26+1 -> 18 | B28: 017.083 | C28: SUMINISTRO, TRANSPORTE E INSTALACION VENTANERIA APOYADA EN PERFILERIA DE ALUMINIO EMBEBIDA EN MURO Y CIELO RASO, CON VIDRIO TEMPLADO 8MM INCOLORO | D28: M2 | E28: 30 | F28: 481141 | G28: =F28*E28 -> 14434230
A29: =A28+1 -> 19 | B29: 08B.330 | C29: SUMINISTRO, TRANSPORTE E INSTALACION DE LUMINARIA DE EMPOTRAR TIPO PANEL LED CUADRADO 60 X 60, 48W BLANCO OPAL. INCLUYE DRIVER SC CLAVIJA Y TODOS LOS ACCESORIOS PARA SU CORRECTA INSTALACIÓN Y MONTAJE | D29: UND | E29: 7 | F29: 95000 | G29: =F29*E29 -> 665000
A30: =A29+1 -> 20 | B30: 030.002 | C30: AYUDANTE AA (ALBAÑILERIA) | D30: UND | E30: 10 | F30: 7584 | G30: =F30*E30 -> 75840
C31: SUMINISTRO, TRANSPORTE E INSTALACION DE MUEBLE PARED ANCHO: 0.60 M. CON FACHADA: MADECOR 19 MM. INTERIOR: MADECOR 15 MM. TIPO PIZANO O SIMILAR. ACABADO: SEGÚN PINTA SELECCIONADA DE CARTA COLORES MADECOR. (INCLUYE HOJAS PARA PUERTAS CON 2 RANURAS HORIZONTALES PINTADAS Y CON MARQUETE EN CANTO DECORATIVO. INTERIOR CON UN (1) ENTREPAÑO, TAPA DETRAS DEL MUEBLE, HERRAJES, MANIJAS, SUMINISTRO DE TODOS LOS ACCESORIOS NECESARIOS PARA GARANTIZAR UNA CORRECTA INSTALACIÓN). | D31: M2 | E31: =0.6*2 -> 1.2 | F31: 475447 | G31: =F31*E31 -> 570536.4
C32: Astas Banderas | D32: UND | E32: 3
C34: COSTO DIRECTO | G34: =SUM(G4:G32) -> 45734765

Sheet PALOGRANDE
B1: ESTACION DE BOMBEROS PALOGRANDE
C2: CUBIERTA DE TECHO
A3: ITEMS | B3: CODIGO | C3: DESCRI`CION | D3: UND | E3: CANT | F3: V/UND | G3: V/ PARCIAL
A4: 1 | B4: 028.002 | C4: DESMONTE DE CUBIERTA DE TECHO EN TEJA DE F.C. Y MADERA INCLUYE RETIRO | D4: M2 | E4: 270 | F4: 19240 | G4: =F4*E4 -> 5194800 | I4: =10.25*14.5 -> 148.625
A5: =A4+1 -> 2 | B5: 10026 | C5: RECORRIDO DE CUBIERTA | D5: M2 | E5: 250 | F5: 14481 | G5: =F5*E5 -> 3620250
A6: =A5+1 -> 3 | B6: 010.031 | C6: SUMINISTRO, TRANSPORTE E INSTALACION CABALLETE FIBROCEMENTO DE VENTILACION PARA TEJAS PERFIL 7 | D6: ML | E6: 45 | F6: 65681 | G6: =F6*E6 -> 2955645
A7: =A6+1 -> 4 | B7: 032.027 | C7: SUMINISTRO, TRANSPORTE E INSTALACION TEJA ONDULADA FIBROCEMENTO PERFIL 7 CON TUBO DE SALIDA UNIVERSAL | D7: M2 | E7: 270 | F7: 41102 | G7: =F7*E7 -> 11097540 | J7: =1.83*0.95 -> 1.7385 | K7: =+E7/J7 -> 155.3063 | L7: =+K7*34900 -> 5420189.8
A8: =A7+1 -> 5 | B8: 010.020 | C8: SUMINISTRO, TRANSPORTE E INSTALACION CANAL EN LAMINA GALVANIZADA CAL .20 D/ 0.60 M. (SUMINISTRO E INSTALACIÓN CON WASH PRIMER + ESMALTE + ANCLAJE A MURO + SILICONA) | D8: ML | E8: 250 | F8: 111650 | G8: =F8*E8 -> 27912500
A9: =A8+1 -> 6 | B9: 028.014 | C9: DESMONTE DE CANALES Y BAJANTES | D9: ML | E9: 220 | F9: 4605 | G9: =F9*E9 -> 1013100
A10: 7 | C10: ENCHAPE EN CERAMICADE BAÑOS Y COCINA | D10: M2 | E10: 115 | F10: 86343 | G10: =F10*E10 -> 9929445
A11: =A10+1 -> 8 | B11: 029.003 | C11: DEMOLICION ENCHAPE DE PISOS (INCLUYE RETIRO) | D11: M2 | E11: 118 | F11: 8589 | G11: =F11*E11 -> 1013502 | I11: X
A12: =A11+1 -> 9 | B12: 013.001 | C12: SUMINISTRO, TRANSPORTE E INSTALACION CERAMICA PARED POMPEI TIPO ALFA O SIMILAR. COLOR CORAL O SHELL SEGÚN DISEÑO (INCLUYE BOQUILLA COLOR Y WIN.). INCLUYE MORTERO DE PEGA Y/O NIVELACIÓN. | D12: M2 | E12: 90 | F12: 86837 | G12: =F12*E12 -> 7815330
A13: =A12+1 -> 10 | B13: 012.006 | C13: SUMINISTRO, TRANSPORTE E INSTALACION CERAMICA PISO POMPEI TIPO ALFA O SIMILAR. COLOR CORAL O SHELL SEGÚN DISEÑO. INCLUYE MORTERO DE PEGA Y/O NIVELACIÓN | D13: M2 | E13: 40 | F13: 86343 | G13: =F13*E13 -> 3453720
A14: =A13+1 -> 11 | B14: 012.028 | C14: SUMINISTRO, TRANSPORTE E INSTALACION GUARDAESCOBA CERAMICA TIPO POMPEI H = 10 CM. TIPO ALFA O SIMILAR. COLOR CORAL O SHELL SEGÚN DISEÑO (INCLUYE BOQUILLA.). INCLUYE MORTERO DE PEGA. | D14: ML | E14: 40 | F14: 53075 | G14: =F14*E14 -> 2123000
A15: =A14+1 -> 12 | C15: MUEBLES
A16: =A15+1 -> 13 | B16: ADICIONAL UGV | C16: SUMINISTRO, TRANSPORTE E INTALACION DE COCINA DE 1.8 M DE LONGITUD, ANCHO 0,60M, CO ESTUFA; INCLUYE: MUEBLE INFERIOR CON 2 PUERTAS Y 3 CAJONES , MUEBLE SUPERIOR CON LOCERO Y 2 PUERTAS, MESON CON LAVAPLATOS. FABRICADO EN MDF 15MM CANTOS TERMO SELLADOS PARA PROTEGER DE LA HUMEDAD | D16: UND | E16: 1 | F16: 4800000 | G16: =F16*E16 -> 4800000
C17: PUERTAS Y VENTANAS
A18: =A16+1 -> 14 | B18: 016.002 | C18: SUMINISTRO, TRANSPORTE E INSTALACION PUERTA ENTAMBORADA EN LAMINA TRIPLEX OKUME - TIPO PIZANO OKUMÉ O SIMILAR. ANCHO: 0,76 A 1,10 M. ALTO: 1,80 A 2,40 M. HOJA LISA CON MARQUETE CAPACANTO OKUMÉ. ACABADO: TINTILLA, SELLADOR (MÍNIMO 6 MANOS) Y LACA SEGÚN DISEÑO. (INCLUYE BISAGRAS). | D18: UND | E18: 8 | F18: 275000 | G18: =F18*E18 -> 2200000
A19: =A18+1 -> 15 | B19: 016.012 | C19: SUMINISTRO, TRANSPORTE E INSTALACION MARCO EN MADERA CHINGALE SENCILLO - KIT DE MARKO MADERA TIPO PIZANO O SIMILAR. (2 LARGUEROS DE 2,40 M Y UN CABEZAL DE 1,20 M.) ANCHO MURO: 8 CM. ANCHO PUERTA: 0,76 X 1,10 M. ACABADO: TINTILLA, SELLADOR (MÍNIMO 6 MANOS) Y LACA SEGÚN DISEÑO | D19: UND | E19: 8 | F19: 160000 | G19: =F19*E19 -> 1280000
A20: =A19+1 -> 16 | B20: 017.026 | C20: SUMINISTRO, TRANSPORTE E INSTALACION VENTANA FIJA EN ALUMINIO ANODIZADO VIDRIO 4 MM (INCLUYE MARCO EN PERFILERIA PB 3831 O SIMILAR Y VIDRIO CRISTAL DE 4 MM. ). INCLUYE EL SUMINISTRO DE TODOS LOS ACCESORIOS REQUERIDOS PARA EL CORRECTO MONTAJE, ASI COMO EL SUMINISTRO E INSTALACIÓN DE LA SILICONA QUE SEA REQUERIDA PARA GARANTIZAR UNA PERFECTA INSTALACIÓN. SEGUN DETALLE. | D20: M2 | E20: 1 | F20: 322209 | G20: =F20*E20 -> 322209
C21: SUMINISTRO, TRANSPORTE E INSTALACIÒN DE MARCO EN ALUMINIO Y VIDRIO TRANSLUCIDO 4MM PARA LUCETA EN CIELO RASO | D21: M2 | E21: 3 | F21: 60000 | G21: =F21*E21 -> 180000
C22: SUMINISTRO, TRANSPORTE E INSTALACIÒN DE LAMINA ACRILIGO PARA DDISIÒN DE BAÑOS | D22: M2 | E22: 34 | F22: 15000 | G22: =F22*E22 -> 510000
C23: APARATOS SANITARIOS
A24: =A20+1 -> 17 | B24: 013.040 | C24: SUMINISTRO, TRANSPORTE E INSTALACION LAVADERO Prefabricado 80 x 60 x 50 cm. en Granito (Incluye accesorios de instalación) | D24: UND | E24: 1 | F24: 449012 | G24: =F24*E24 -> 449012
B25: 003.013 | C25: SUMINISTRO, TRANSPORTE E INSTALACION PUNTO DESAGUE PVC 2" Aparatos sanitarios y desagues (INCLUYE CODO, YEE Y ACCESORIOS) | D25: PTO | E25: 1 | F25: 101184 | G25: =F25*E25 -> 101184
B26: 013.036 | C26: SUMINISTRO, TRANSPORTE E INSTALACION LAVAPLATOS DE EMPOTRAR EN ACERO INOXIDABLE - Tipo Socoda o Similar - Dimensiones 45 x 49 cm. | D26: UND | E26: 1 | F26: 271488 | G26: =F26*E26 -> 271488
B27: 015.001 | C27: SUMINISTRO, TRANSPORTE E INSTALACION COMBO TIPO ACUACER COLOR BLANCO REF. 92639100K TIPO CORONA O SIMILAR. (INCLUYE SANITARIO ACUACER CON TAPA Y TANQUE, LAVAMANOS DE COLGAR ACUACER CON SIFÓN BOTELLA Y DESAGUE SENCILLO, GRIFERÍA PISCIS, GRAPAS, ACCESORIOS DE CONEXIÓN E INSTALACIÓN.). (ÍTEM INCOMPLETO) | D27: UND | E27: 3 | F27: 409518 | G27: =F27*E27 -> 1228554
C28: PINTURA
B29: 019.005 | C29: SUMINISTRO, TRANSPORTE E INSTALACION PINTURA SOBRE REVOQUE VINILO 3 MANOS SOBRE MURO (INCLUYE 1 MANO EN PINTURA TIPO 2 Y DOS MANOS EN PINTURA TIPO 1, FILOS Y DILATACIONES).COLOR SEGÚN DISEÑO POR M2 | D29: M2 | E29: 200 | F29: 21374 | G29: =F29*E29 -> 4274800
C30: PINTURA ESMALTE PARA ESTRUCTURA EN ALUMINIO DE DIVISIONES DE BAÑO
B31: 003.029 | C31: SUMINISTRO, TRANSPORTE E INSTALACION TUBERIA PVC-S 4" (RED SANITARIA, INCLUYE ACCESORIOS) | D31: Ml | E31: 20 | F31: 33918 | G31: =F31*E31 -> 678360
B32: 032.048 | C32: REPARACIÓN DE PUNTO SANITARIO OBSTRUIDO INCLUYE SONDEO DE TUBERÍA, RETIRO REVISIÓN Y REINSTALACIÓN DE APARATO SANITARIO. | D32: UND | E32: 1 | F32: 85754 | G32: =F32*E32 -> 85754
B33: 005.074 | C33: SUMINISTRO, TRANSPORTE E INSTALACION PERFILES TUBULARES ACERO LAMINADOS EN FRIO ASTM A-500 GRADO C (INCLUYE SOLDADURA, ANTICORROSIVO Y ESMALTE) | D33: kg | E33: 230 | F33: 23066 | G33: =F33*E33 -> 5305180
B34: 017.084 | C34: SUMINISTRO, TRANSPORTE E INSTALACION VENTANERIA APOYADA EN PERFILERIA DE ALUMINIO ANODIZADO MATE COLOR BLANCO, VIDRIO TEMPLADO DE 8MM INCOLORO CON UNIONES A TOPE +REJILLA SUPERIOR | D34: M2 | E34: 15 | F34: 704949 | G34: =F34*E34 -> 10574235
C35: DESMONTE LAMPARAS | D35: UND | E35: 45 | F35: 5765 | G35: =F35*E35 -> 259425 | J35: 15
C36: AJUSTE E INSTALACION DE LAMPARAS DE SOBREPONER | D36: UND | E36: 45 | F36: 35913 | G36: =F36*E36 -> 1616085
C38: Costo directo | G38: =SUM(G4:G36) -> 110265118

Sheet AIU ESTACIONES
A1: ANALISIS DEL AIU
A3: Valor estimado de la Obra (Costo Directo). | D3: Valor | E3: =FUNDADORES!G26+PALOGRANDE!G38+'LA ENEA'!G34 -> 2.7957796e+08 | F3: =E3*1.2909 -> 3.6090719e+08
A4: Plazo estimado de ejecución. | D4: Meses | E4: 1
A5: Contratista Persona Natural (SI o NO) | E5: no
A7: CAPITULO | B7: TIPO DE GASTO | C7: UN | D7: CANTIDAD. | E7: DEDICACION | F7: VLOR UNITARIO (mes) | G7: FACTOR PRESTACIONAL O FACTOR AIU (PARA INDIRECTOS) | H7: VALOR TOTAL | I7: SUMA | J7: PORCENTAJE
A8: 1 | B8: GASTOS GENERALES. | J8: =+J9 -> 0.043153373
A9: 1.1 | B9: MANO DE OBRA Y GASTOS DE OFICINA | I9: =SUM(H10:H25) -> 12064732 | J9: =+I9/$E$3 -> 0.043153373
B10: Contratista (solo aplica para personas naturales) | C10: Un | D10: =+IF(E5="SI",1,0) -> 0 | E10: 0.25 | F10: 15400000 | G10: 0.6556 | H10: =+D10*E10*$E$4*F10*(1+G10) -> 0 | J10: =+H10/$E$3 -> 0
B11: Ingeniero Director | C11: Un | D11: 1 | E11: 0 | F11: 6500000 | G11: 0.5483 | H11: =+D11*E11*$E$4*F11*(1+G11) -> 0 | J11: =+H11/$E$3 -> 0
B12: Ingeniero Residente | C12: Un | D12: 1 | E12: 0.5 | F12: 4200000 | G12: 0.5483 | H12: =+D12*E12*$E$4*F12*(1+G12) -> 3251430 | J12: =+H12/$E$3 -> 0.011629779
B13: Maestro de Obra | C13: Un | D13: 1 | E13: 1 | F13: 2690000 | G13: 0.5483 | H13: =+D13*E13*$E$4*F13*(1+G13) -> 4164927 | J13: =+H13/$E$3 -> 0.014897194
B14: Residente de Salud Ocupacional | C14: Un | D14: 1 | E14: 0.5 | F14: 3250000 | G14: 0.5483 | H14: =+D14*E14*$E$4*F14*(1+G14) -> 2515987.5 | J14: =+H14/$E$3 -> 0.008999234
B15: Trabajador social | C15: Un | D15: 1 | E15: 0 | F15: 3250000 | G15: 0.5483 | H15: =+D15*E15*$E$4*F15*(1+G15) -> 0 | J15: =+H15/$E$3 -> 0
B16: Almacenista | C16: Un | D16: 1 | E16: 0 | F16: 1460000 | G16: 0.6995 | H16: =+D16*E16*$E$4*F16*(1+G16) -> 0 | J16: =+H16/$E$3 -> 0
B17: Celador con prestaciones | C17: Un | D17: 1 | E17: 0 | F17: 1460000 | G17: 0.6995 | H17: =+D17*E17*$E$4*F17*(1+G17) -> 0 | J17: =+H17/$E$3 -> 0
B18: Secretaria con prestaciones | C18: Un | D18: 1 | E18: 0 | F18: 2000000 | G18: 0.6995 | H18: =+D18*E18*$E$4*F18*(1+G18) -> 0 | J18: =+H18/$E$3 -> 0
B19: Contador | C19: Un | D19: 1 | E19: 0.15 | F19: 1500000 | G19: 0.6995 | H19: =+D19*E19*$E$4*F19*(1+G19) -> 382387.5 | J19: =+H19/$E$3 -> 0.0013677312
B20: Equipo de Oficina (Escritorio, pc, impresora, sillas, papeleria) | C20: Mes | D20: 1 | E20: 1 | F20: 350000 | H20: =+D20*E20*$E$4*F20*(1+G20) -> 350000 | J20: =+H20/$E$3 -> 0.0012518869
B21: Seguridad industrial personal | C21: Mes | D21: 1 | E21: 0.5 | F21: 1000000 | H21: =+D21*E21*$E$4*F21*(1+G21) -> 500000 | J21: =+H21/$E$3 -> 0.0017884099
B22: Plan de Salud ocupacional y seguridad industrial | C22: Mes | D22: 1 | E22: 1 | F22: 300000 | H22: =+D22*E22*$E$4*F22*(1+G22) -> 300000 | J22: =+H22/$E$3 -> 0.001073046
B23: Sistema de gestion ambiental | C23: Mes | D23: 1 | E23: 1 | F23: 300000 | H23: =+D23*E23*$E$4*F23*(1+G23) -> 300000 | J23: =+H23/$E$3 -> 0.001073046
B24: Sistema de gestion de calidad | C24: Mes | D24: 1 | E24: 0 | F24: 600000 | H24: =+D24*E24*$E$4*F24*(1+G24) -> 0 | J24: =+H24/$E$3 -> 0
B25: Costos financiero | C25: Mes | D25: 1 | E25: 1 | F25: 300000 | H25: =+D25*E25*$E$4*F25*(1+G25) -> 300000 | J25: =+H25/$E$3 -> 0.001073046
A26: 2 | B26: GASTOS INDIRECTOS. | J26: =+J27+J29+J40 -> 0.18769686
A27: 2.1 | B27: LEGALIZACION. | I27: =SUM(H28:H28) -> 0 | J27: =+I27/$E$3 -> 0
B28: AIU ITERACION | G28: 1.2909 | H28: =+F28*D28*G28 -> 0 | J28: =+H28/$E$3 -> 0
A29: 2.2 | B29: POLIZAS | I29: =SUM(H30:H39) -> 974449.42 | J29: =+I29/$E$3 -> 0.00348543
B30: Seriedad de la Propuesta. | C30: % | D30: 0 | F30: =+$E$3 -> 2.7957796e+08 | G30: =+$G$28 -> 1.2909 | H30: =+F30*D30*G30 -> 0 | J30: =+H30/$E$3 -> 0
B31: Anticipo | C31: % | D31: 0 | F31: =+$E$3 -> 2.7957796e+08 | G31: =+$G$28 -> 1.2909 | H31: =+F31*D31*G31 -> 0 | J31: =+H31/$E$3 -> 0
B32: Cumplimiento | C32: % | D32: 0.0007 | F32: =+$E$3 -> 2.7957796e+08 | G32: =+$G$28 -> 1.2909 | H32: =+F32*D32*G32 -> 252635.03 | J32: =+H32/$E$3 -> 0.00090363
B33: Estabilidad | C33: % | D33: 0.0007 | F33: =+$E$3 -> 2.7957796e+08 | G33: =+$G$28 -> 1.2909 | H33: =+F33*D33*G33 -> 252635.03 | J33: =+H33/$E$3 -> 0.00090363
B34: Calidad | C34: % | D34: 0 | F34: =+$E$3 -> 2.7957796e+08 | G34: =+$G$28 -> 1.2909 | H34: =+F34*D34*G34 -> 0 | J34: =+H34/$E$3 -> 0
B35: Prestaciones Sociales | C35: % | D35: 0.0007 | F35: =+$E$3 -> 2.7957796e+08 | G35: =+$G$28 -> 1.2909 | H35: =+F35*D35*G35 -> 252635.03 | J35: =+H35/$E$3 -> 0.00090363
B38: Responsabilidad Civil | C38: % | D38: 0.0006 | F38: =+$E$3 -> 2.7957796e+08 | G38: =+$G$28 -> 1.2909 | H38: =+F38*D38*G38 -> 216544.31 | J38: =+H38/$E$3 -> 0.00077454
B39: Todo riesgo | C39: % | D39: 0 | F39: =+$E$3 -> 2.7957796e+08 | G39: =+$G$28 -> 1.2909 | H39: =+F39*D39*G39 -> 0 | J39: =+H39/$E$3 -> 0
A40: 2.3 | B40: IMPUESTOS Y CONTRIBUCIONES | I40: =SUM(H41:H48) -> 51501456 | J40: =+I40/$E$3 -> 0.18421143
B41: Contribuación Especial | C41: % | D41: 0.05 | F41: =+$E$3 -> 2.7957796e+08 | G41: =+$G$28 -> 1.2909 | H41: =+F41*D41*G41 -> 18045360 | J41: =+H41/$E$3 -> 0.064545
B42: Estampillas para el bienestar del adulto mayor | C42: % | D42: 0.02 | F42: =+$E$3 -> 2.7957796e+08 | G42: =+$G$28 -> 1.2909 | H42: =+F42*D42*G42 -> 7218143.8 | J42: =+H42/$E$3 -> 0.025818
B43: Estampillas Pro - Universidades. | C43: % | D43: 0.02 | F43: =+$E$3 -> 2.7957796e+08 | G43: =+$G$28 -> 1.2909 | H43: =+F43*D43*G43 -> 7218143.8 | J43: =+H43/$E$3 -> 0.025818
B44: Estampilla pro cultura | C44: % | D44: 0.02 | F44: =+$E$3 -> 2.7957796e+08 | G44: =+$G$28 -> 1.2909 | H44: =+F44*D44*G44 -> 7218143.8 | J44: =+H44/$E$3 -> 0.025818
...

Sheet LOCKER 4 PUESTOS
C5: SUMINISTRO LOCKER 4 PUESTOS ESTACIONES DE BOMBEROS
D6: Suministro Locker 4 Puestos 180x63x30cm Gris (fundadores) | E6: UND | F6: 15 | G6: 839900 | H6: =F6*G6 -> 12598500
D7: Suministro Locker 4 Puestos 180x63x30cm Gris (palogrande) | E7: UND | F7: 15 | G7: 839900 | H7: =F7*G7 -> 12598500
D8: Suministro Locker 4 Puestos 180x63x30cm Gris (enea) | E8: UND | F8: 12 | G8: 839900 | H8: =F8*G8 -> 10078800
E9: COSTO DIRECTO | H9: =SUM(H6:H8) -> 35275800

Sheet ESTACIONES CON AIU
A2: “MANTENIMIENTO, ADECUACION Y MEJORAMIENTO EN LAS ESTACIONES DE BOMBEROS FUNDADORES, PALOGRANDE Y ENEA DE LA CIUDAD DE MANIZALES”.
A4: N° | B4: ITEMS | C4: DESCRIPCIÒN | D4: M2 | E4: CANTD | F4: V/UND | G4: V/ PARCIAL. | J4: V/UND
A5: 1 | B5: 019.005 | C5: SUMINISTRO, TRANSPORTE E INSTALACION PINTURA SOBRE REVOQUE VINILO 3 MANOS SOBRE MURO (INCLUYE 1 MANO EN PINTURA TIPO 2 Y DOS MANOS EN PINTURA TIPO 1, FILOS Y DILATACIONES).COLOR SEGÚN DISEÑO POR M2 | D5: M2 | E5: 800 | F5: 27591.697 | G5: =E5*F5 -> 22073357 | J5: 21374 | K5: =J5*1.2909 -> 27591.697
A6: 2 | B6: 19006 | C6: ESMALTE SINTETICO PINTULUX - TIPO PINTUCO REF. SEGÚN COLOR DISEÑO O SIMILAR, PARA PUERTAS | D6: M2 | E6: 25.5 | F6: 34854.3 | G6: =E6*F6 -> 888784.65 | J6: 27000 | K6: =J6*1.2909 -> 34854.3
A7: 3 | C7: RECORRIDO DE CUBIERTA EN FIBROCEMENTO incluye ganchos y amarras | D7: M2 | E7: 850 | F7: 18693.523 | G7: =E7*F7 -> 15889494 | J7: 14481 | K7: =J7*1.2909 -> 18693.523
A8: 4 | C8: SUMINISTRO, TRANSPORTE E INSTALACION TEJA ONDULADA FIBROCEMENTO PERFIL 5 | D8: M2 | E8: 850 | F8: 55233.738 | G8: =E8*F8 -> 46948678 | J8: 42787 | K8: =J8*1.2909 -> 55233.738
A9: 5 | C9: JORNAL AYUDANTE (Reparacion humedad) | D9: DIA | E9: 15 | F9: 94989.586 | G9: =E9*F9 -> 1424843.8 | J9: 73584 | K9: =J9*1.2909 -> 94989.586
A10: 6 | C10: SUMINISTRO, TRANSPORTE E INSTALACION COMBO Tipo AVANTI Color Blanco Ref. 30336100K Tipo Corona o Similar. (Incluye Sanitario Redondo Avanti con tapa y tanque, lavamanos de pedestal avanti accesorios de conexión e instalación.) más Conjunto Grifería Lavamanos Prysma 4" con sifón botella, desague sencillo y grapas. | D10: UND | E10: 4 | F10: 857378.34 | G10: =E10*F10 -> 3429513.4 | J10: 664171 | K10: =J10*1.2909 -> 857378.34
A11: 7 | C11: Ventilacion sala de crisis ( SUMINISTRO, TRANSPORTE E INSTALACION REJILLA 30X30 CM VENTILACION EN CIELO RASO | D11: UND | E11: 3 | F11: 78793.954 | G11: =E11*F11 -> 236381.86 | J11: 61038 | K11: =J11*1.2909 -> 78793.954
A12: 8 | C12: SUMINISTRO, TRANSPORTE E INSTALACION RECUBRIMIENTO BAJANTES AGUAS LLUVIAS EN MURO SUPERBOARD 8 mm. ( Perfileria cal. 26 cada 60 cm.) Incluye tres (3) manos de pintura | D12: M2 | E12: 2.7 | F12: 138922.79 | G12: =E12*F12 -> 375091.52 | J12: 107617 | K12: =J12*1.2909 -> 138922.79
A13: 9 | C13: DEMOLICION PLACA DE ENTREPISO hasta E=0.30 m. . | D13: M2 | E13: 1.2 | F13: 58071.137 | G13: =E13*F13 -> 69685.364 | J13: 44985 | K13: =J13*1.2909 -> 58071.137
A14: 10 | C14: DESMONTE APARATOS SANITARIOS | D14: UND | E14: 8 | F14: 66246.406 | G14: =E14*F14 -> 529971.25 | J14: 51318 | K14: =J14*1.2909 -> 66246.406
A15: 11 | C15: DESMONTE PUERTAS (INCLUYE RETIRO) | D15: UND | E15: 12 | F15: 45478.407 | G15: =E15*F15 -> 545740.88 | J15: 35230 | K15: =J15*1.2909 -> 45478.407
A16: 12 | C16: DESMONTE DE MUEBLE BAJO MESON | D16: ML | E16: =9.5*0.6 -> 5.7 | F16: 22914.766 | G16: =E16*F16 -> 130614.17 | J16: 17751 | K16: =J16*1.2909 -> 22914.766
A17: 13 | C17: DESMONTE DE MUEBLE ENCIMA DE MESON. Incluye cargue y retiro de material desmontado | D17: ML | E17: =+E16 -> 5.7 | F17: 28185.511 | G17: =E17*F17 -> 160657.41 | J17: 21834 | K17: =J17*1.2909 -> 28185.511
A18: 14 | C18: SUMINISTRO, TRANSPORTE E INSTALACION DE MUEBLE BAJO MESON ANCHO: 0.60 M. CON CON FACHADA: TABLEX ENCHAPADO TRIPLEX OKUME 19 MM. TIPO PIZANO O SIMILAR. INTERIOR: MADECOR 15 MM. TIPO PIZANO O SIMILAR. ACABADO: ACABADO: TINTILLA, SELLADOR (MÍNIMO 6 MANOS) Y LACA PARA EL TABLEX, EL MADECOR SEGÚN PINTA SELECCIONADA DE CARTA COLORES MADECOR. (INCLUYE HOJAS PARA PUERTAS CON 2 RANURAS HORIZONTALES Y CON MARQUETE CHAPACANTO OKUMÉ. INTERIOR CON UN (1) ENTREPAÑO, TAPA SOBRE EL POYO DEL MUEBLE, HERRAJES, MANIJAS, SUMINISTRO DE TODOS LOS ACCESORIOS NECESARIOS PARA GARANTIZAR UNA CORRECTA INSTALACIÓN). | D18: m2 | E18: =+E16 -> 5.7 | F18: 1030472.5 | G18: =E18*F18 -> 5873693.5 | J18: 798259 | K18: =J18*1.2909 -> 1030472.5
A19: 15 | C19: SUMINISTRO, TRANSPORTE E INSTALACION DE MUEBLE PARED ANCHO: 0.60 M. CON FACHADA: MADECOR 19 MM. INTERIOR: MADECOR 15 MM. TIPO PIZANO O SIMILAR. ACABADO: SEGÚN PINTA SELECCIONADA DE CARTA COLORES MADECOR. (INCLUYE HOJAS PARA PUERTAS CON 2 RANURAS HORIZONTALES PINTADAS Y CON MARQUETE EN CANTO DECORATIVO. INTERIOR CON UN (1) ENTREPAÑO, TAPA DETRAS DEL MUEBLE, HERRAJES, MANIJAS, SUMINISTRO DE TODOS LOS ACCESORIOS NECESARIOS PARA GARANTIZAR UNA CORRECTA INSTALACIÓN). | D19: m2 | E19: =7.25*0.45 -> 3.2625 | F19: 613754.53 | G19: =E19*F19 -> 2002374.2 | J19: 475447 | K19: =J19*1.2909 -> 613754.53
A20: 16 | C20: suministro e instalacion Estufa CHALLENGER Empotrable Gas Natural 60x52 cm 4 Puestos Vidrio Squad | D20: UND | E20: 1 | F20: 1071317.9 | G20: =E20*F20 -> 1071317.9 | J20: 829900 | K20: =J20*1.2909 -> 1071317.9
A21: 17 | C21: SUMINISTRO TABLERO RED REGULADA | D21: UND | E21: 1 | F21: 919988.28 | G21: =E21*F21 -> 919988.28 | J21: 712672 | K21: =J21*1.2909 -> 919988.28
A22: 18 | C22: SUMINISTRO, TRANSPORTE E INSTALACIÓN A TODO COSTO DE MURO EN SUPERBOARD 8 MM PINTADO Y TERMINADO (DOS CARAS). INCLUYE PERFILERÍA Y TODO LO NECESARIO PARA SU CORRECTA INSTALACIÓN | D22: m2 | E22: 19.2 | F22: 190988.65 | G22: =E22*F22 -> 3666982.2 | J22: 147950 | K22: =J22*1.2909 -> 190988.65
A23: 19 | C23: DESMONTE CIELO RASO (INCLUYE RETIRO) | D23: M2 | E23: 850 | F23: 14663.333 | G23: =E23*F23 -> 12463833 | J23: 11359 | K23: =J23*1.2909 -> 14663.333
A24: 20 | B24: 006.045 | C24: SUMINISTRO, TRANSPORTE E INSTALACIÓN A TODO COSTO DE CIELO RASO EN SUPERBOARD TEXTURIZADO MODULADO 1,20 X 0,60 PINTADO Y TERMINADO. INCLUYE PERFILERÍA, ANCLAJES Y TODO LO NECESARIO PARA SU CORRECTA INSTALACIÓN | D24: M2 | E24: 850 | F24: 48030.516 | G24: =E24*F24 -> 40825939 | J24: 37207 | K24: =J24*1.2909 -> 48030.516
A25: 21 | B25: 029.074 | C25: DEMOLICION MURO MAMPOSTERIA DE LADRILLO O BLOQUE | D25: M2 | E25: 5 | F25: 30758.274 | G25: =F25*E25 -> 153791.37 | J25: 23827 | K25: =J25*1.2909 -> 30758.274
A26: 22 | B26: 006.040 | C26: SUMINISTRO TRANSPORTE E INSTALACION DE MURO EN LADRILLO FAROL PANDERETA E=12CMS. INCLUYE MORTERO DE PEGA. | D26: M2 | E26: 5 | F26: 68611.335 | G26: =E26*F26 -> 343056.67 | J26: 53150 | K26: =J26*1.2909 -> 68611.335
A27: 23 | B27: 009.001 | C27: SUMINISTRO,TRANSPORTE E INSTALACION REVOQUE LISO MUROS 1:3 INTERIOR ( INCLUYE FILOS Y DILATACIONES ) | D27: M2 | E27: 15 | F27: 43054.097 | G27: =E27*F27 -> 645811.45 | J27: 33352 | K27: =J27*1.2909 -> 43054.097
A28: 24 | B28: 032.337 | C28: SUMINISTRO, TRANSPORTE E INSTALACION CARTERA VENTANAS Y PUERTAS EN MORTERO 1:3 ANCHO 15-20 CMS. | D28: ML | E28: 6 | F28: 30302.587 | G28: =E28*F28 -> 181815.52 | J28: 23474 | K28: =J28*1.2909 -> 30302.587
A29: 25 | C29: CIELO RASO | K29: =J29*1.2909 -> 0
A30: 26 | B30: 011.009 | C30: SUMINISTRO, TRANSPORTE E INSTALACIÓN DE CIELO RASO EN LÁMINAS DE PVC A TODO COSTO. INCLUYE ESTRUCTURA METÁLICA, PERIMETRALES Y HASTA 2 CAJAS DE INSPECCION DE 0.60 X 0.60 CADA 30 M2. TEXTURA SEGÚN DISEÑO | D30: M2 | E30: 80 | F30: 80324.962 | G30: =E30*F30 -> 6425996.9 | J30: 62224 | K30: =J30*1.2909 -> 80324.962
A31: 27 | C31: APARATOS SANITARIOS | K31: =J31*1.2909 -> 0
A32: 28 | B32: 015.001 | C32: SUMINISTRO, TRANSPORTE E INSTALACION COMBO TIPO ACUACER COLOR BLANCO REF. 92639100K TIPO CORONA O SIMILAR. (INCLUYE SANITARIO ACUACER CON TAPA Y TANQUE, LAVAMANOS DE COLGAR ACUACER CON SIFÓN BOTELLA Y DESAGUE SENCILLO, GRIFERÍA PISCIS, GRAPAS, ACCESORIOS DE CONEXIÓN E INSTALACIÓN.). (ÍTEM INCOMPLETO) | D32: UND | E32: 4 | F32: 639664.19 | G32: =E32*F32 -> 2558656.7 | J32: 495518 | K32: =J32*1.2909 -> 639664.19
A33: 29 | C33: PINTURA | K33: =J33*1.2909 -> 0
A34: 30 | B34: 019.005 | C34: SUMINISTRO, TRANSPORTE E INSTALACION PINTURA SOBRE REVOQUE VINILO 3 MANOS SOBRE MURO (INCLUYE 1 MANO EN PINTURA TIPO 2 Y DOS MANOS EN PINTURA TIPO 1, FILOS Y DILATACIONES).COLOR SEGÚN DISEÑO POR M2 | D34: M2 | E34: 100 | F34: 27591.697 | G34: =E34*F34 -> 2759169.7 | J34: 21374 | K34: =J34*1.2909 -> 27591.697
A35: 31 | B35: 006.026 | C35: SUMINISTRO, TRANSPORTE E INSTALACION LAVADO E IMPERMEABILIZADO DE LADRILLO CON HIDROFUGO | D35: M2 | E35: 140 | F35: 29546.119 | G35: =E35*F35 -> 4136456.7 | J35: 22888 | K35: =J35*1.2909 -> 29546.119
A36: 32 | B36: 017.083 | C36: SUMINISTRO, TRANSPORTE E INSTALACION VENTANERIA APOYADA EN PERFILERIA DE ALUMINIO EMBEBIDA EN MURO Y CIELO RASO, CON VIDRIO TEMPLADO 8MM INCOLORO | D36: M2 | E36: 16 | F36: 621104.92 | G36: =E36*F36 -> 9937678.7 | J36: 481141 | K36: =J36*1.2909 -> 621104.92
A37: 33 | C37: DESMONTE | K37: =J37*1.2909 -> 0
A38: 34 | B38: 028.005 | C38: DESMONTE APARATOS SANITARIOS | D38: UND | E38: 8 | F38: 66246.406 | G38: =E38*F38 -> 529971.25 | J38: 51318 | K38: =J38*1.2909 -> 66246.406
A39: 35 | B39: 028.008 | C39: DESMONTE CIELO RASO (INCLUYE RETIRO) | D39: M2 | E39: 80 | F39: 14663.333 | G39: =E39*F39 -> 1173066.6 | J39: 11359 | K39: =J39*1.2909 -> 14663.333
A40: 36 | B40: 028.018 | C40: DESMONTE DE VIDRIO | D40: M2 | E40: 16 | F40: 5869.7223 | G40: =E40*F40 -> 93915.557 | J40: 4547 | K40: =J40*1.2909 -> 5869.7223
A41: 37 | C41: DESMONTE PUERTAS (INCLUYE RETIRO) | D41: UND | E41: 8 | F41: 45478.407 | G41: =E41*F41 -> 363827.26 | J41: 35230 | K41: =J41*1.2909 -> 45478.407
A42: 38 | B42: 028.087 | C42: DESMONTE LAMPARAS | D42: UND | E42: 7 | F42: 7442.0385 | G42: =E42*F42 -> 52094.269 | J42: 5765 | K42: =J42*1.2909 -> 7442.0385
...
