Workbook

Sheet MEMORANDOS E IPC 2023 Y 2024
A1: Memorando | B1: Nombre | C1: Fecha de viabilidad | D1: Enero_23 | E1: Febrero_23 | F1: Marzo_23 | G1: Abril_23 | H1: Mayo_23 | I1: Junio_23 | J1: Julio_23 | K1: Agosto_23 | L1: Septiembre_23 | M1: Octubre_23 | N1: Noviembre_23 | O1: Diciembre_23 | P1: IPC_2023 | Q1: Enero_24 | R1: Febrero_24 | S1: Marzo_24 | T1: Abril_24 | U1: Mayo_24 | V1: IPC_2024 | W1: Suma Ipc_2023 | X1: Suma IPC_2024 | Y1: IPC PERIODO | Z1: IPC APLICADO
A2: I2023000881 | B2: Carnicos con soporte | C2: 44939 | D2: 1.78 | E2: 1.66 | F2: 1.05 | G2: 0.78 | H2: 0.43 | I2: 0.3 | J2: 0.5 | K2: 0.7 | L2: 0.54 | M2: 0.25 | N2: 0.47 | O2: 0.45 | P2: 9.28 | Q2: 0.92 | R2: 1.09 | S2: 0.7 | T2: 0.59 | V2: =Q2+R2+S2+T2 -> 3.3 | W2: =SUM(E2:O2) -> 7.13 | X2: =SUM(Q2:U2) -> 3.3 | Y2: =W2+X2 -> 10.43 | Z2: =IF(Y2>P2,P2,Y2) -> 9.28
A3: I2023000889 | B3: viveres y abarrotes | C3: 44939 | D3: 1.78 | E3: 1.66 | F3: 1.05 | G3: 0.78 | H3: 0.43 | I3: 0.3 | J3: 0.5 | K3: 0.7 | L3: 0.54 | M3: 0.25 | N3: 0.47 | O3: 0.45 | P3: 9.28 | Q3: 0.92 | R3: 1.09 | S3: 0.7 | T3: 0.59 | V3: =Q3+R3+S3+T3 -> 3.3 | W3: =SUM(E3:O3) -> 7.13 | X3: =SUM(Q3:U3) -> 3.3 | Y3: =W3+X3 -> 10.43 | Z3: =IF(Y3>P3,P3,Y3) -> 9.28
A4: I2023000944 | B4: Panaderia con soportes | C4: 44939 | D4: 1.78 | E4: 1.66 | F4: 1.05 | G4: 0.78 | H4: 0.43 | I4: 0.3 | J4: 0.5 | K4: 0.7 | L4: 0.54 | M4: 0.25 | N4: 0.47 | O4: 0.45 | P4: 9.28 | Q4: 0.92 | R4: 1.09 | S4: 0.7 | T4: 0.59 | V4: =Q4+R4+S4+T4 -> 3.3 | W4: =SUM(E4:O4) -> 7.13 | X4: =SUM(Q4:U4) -> 3.3 | Y4: =W4+X4 -> 10.43 | Z4: =IF(Y4>P4,P4,Y4) -> 9.28
A5: I2023000994 | B5: lacteeos 2023 | C5: 44940 | D5: 1.78 | E5: 1.66 | F5: 1.05 | G5: 0.78 | H5: 0.43 | I5: 0.3 | J5: 0.5 | K5: 0.7 | L5: 0.54 | M5: 0.25 | N5: 0.47 | O5: 0.45 | P5: 9.28 | Q5: 0.92 | R5: 1.09 | S5: 0.7 | T5: 0.59 | V5: =Q5+R5+S5+T5 -> 3.3 | W5: =SUM(E5:O5) -> 7.13 | X5: =SUM(Q5:U5) -> 3.3 | Y5: =W5+X5 -> 10.43 | Z5: =IF(Y5>P5,P5,Y5) -> 9.28
A6: I2023001005 | B6: huevos frutas y verduras | C6: 44940 | D6: 1.78 | E6: 1.66 | F6: 1.05 | G6: 0.78 | H6: 0.43 | I6: 0.3 | J6: 0.5 | K6: 0.7 | L6: 0.54 | M6: 0.25 | N6: 0.47 | O6: 0.45 | P6: 9.28 | Q6: 0.92 | R6: 1.09 | S6: 0.7 | T6: 0.59 | V6: =Q6+R6+S6+T6 -> 3.3 | W6: =SUM(E6:O6) -> 7.13 | X6: =SUM(Q6:U6) -> 3.3 | Y6: =W6+X6 -> 10.43 | Z6: =IF(Y6>P6,P6,Y6) -> 9.28
A7: I2023004856 | B7: Cuidado transitorio | C7: 44974 | D7: 1.78 | E7: 1.66 | F7: 1.05 | G7: 0.78 | H7: 0.43 | I7: 0.3 | J7: 0.5 | K7: 0.7 | L7: 0.54 | M7: 0.25 | N7: 0.47 | O7: 0.45 | P7: 9.28 | Q7: 0.92 | R7: 1.09 | S7: 0.7 | T7: 0.59 | V7: =Q7+R7+S7+T7 -> 3.3 | W7: =SUM(F7:O7) -> 5.47 | X7: =SUM(Q7:U7) -> 3.3 | Y7: =W7+X7 -> 8.77 | Z7: =IF(Y7>P7,P7,Y7) -> 8.77
A8: I2023008278 | B8: Externos Discapacidad | C8: 45002 | D8: 1.78 | E8: 1.66 | F8: 1.05 | G8: 0.78 | H8: 0.43 | I8: 0.3 | J8: 0.5 | K8: 0.7 | L8: 0.54 | M8: 0.25 | N8: 0.47 | O8: 0.45 | P8: 9.28 | Q8: 0.92 | R8: 1.09 | S8: 0.7 | T8: 0.59 | V8: =Q8+R8+S8+T8 -> 3.3 | W8: =SUM(H8:O8) -> 3.64 | X8: =SUM(Q8:U8) -> 3.3 | Y8: =W8+X8 -> 6.94 | Z8: =IF(Y8>P8,P8,Y8) -> 6.94
A9: I2023010652 | B9: Aseo personal | C9: 45030 | D9: 1.78 | E9: 1.66 | F9: 1.05 | G9: 0.78 | H9: 0.43 | I9: 0.3 | J9: 0.5 | K9: 0.7 | L9: 0.54 | M9: 0.25 | N9: 0.47 | O9: 0.45 | P9: 9.28 | Q9: 0.92 | R9: 1.09 | S9: 0.7 | T9: 0.59 | V9: =Q9+R9+S9+T9 -> 3.3 | W9: =SUM(G9:O9) -> 4.42 | X9: =SUM(Q9:U9) -> 3.3 | Y9: =W9+X9 -> 7.72 | Z9: =IF(Y9>P9,P9,Y9) -> 7.72
A10: I2023015628 | B10: Papeleria | C10: 45076 | D10: 1.78 | E10: 1.66 | F10: 1.05 | G10: 0.78 | H10: 0.43 | I10: 0.3 | J10: 0.5 | K10: 0.7 | L10: 0.54 | M10: 0.25 | N10: 0.47 | O10: 0.45 | P10: 9.28 | Q10: 0.92 | R10: 1.09 | S10: 0.7 | T10: 0.59 | V10: =Q10+R10+S10+T10 -> 3.3 | W10: =SUM(I10:O10) -> 3.21 | X10: =SUM(Q10:U10) -> 3.3 | Y10: =W10+X10 -> 6.51 | Z10: =IF(Y10>P10,P10,Y10) -> 6.51
A11: I2023018072 | B11: menaje mobiliario | C11: 45100 | D11: 1.78 | E11: 1.66 | F11: 1.05 | G11: 0.78 | H11: 0.43 | I11: 0.3 | J11: 0.5 | K11: 0.7 | L11: 0.54 | M11: 0.25 | N11: 0.47 | O11: 0.45 | P11: 9.28 | Q11: 0.92 | R11: 1.09 | S11: 0.7 | T11: 0.59 | V11: =Q11+R11+S11+T11 -> 3.3 | W11: =SUM(J11:O11) -> 2.91 | X11: =SUM(Q11:U11) -> 3.3 | Y11: =W11+X11 -> 6.21 | Z11: =IF(Y11>P11,P11,Y11) -> 6.21
A12: I2023019873 | B12: Comunidad de cuidado | C12: 45117 | D12: 1.78 | E12: 1.66 | F12: 1.05 | G12: 0.78 | H12: 0.43 | I12: 0.3 | J12: 0.5 | K12: 0.7 | L12: 0.54 | M12: 0.25 | N12: 0.47 | O12: 0.45 | P12: 9.28 | Q12: 0.92 | R12: 1.09 | S12: 0.7 | T12: 0.59 | V12: =Q12+R12+S12+T12 -> 3.3 | W12: =SUM(K12:O12) -> 2.41 | X12: =SUM(Q12:U12) -> 3.3 | Y12: =W12+X12 -> 5.71 | Z12: =IF(Y12>P12,P12,Y12) -> 5.71
A13: I2023024745 | B13: Elementos de Ciodado Proteccion y Emergencias | C13: 45161 | D13: 1.78 | E13: 1.66 | F13: 1.05 | G13: 0.78 | H13: 0.43 | I13: 0.3 | J13: 0.5 | K13: 0.7 | L13: 0.54 | M13: 0.25 | N13: 0.47 | O13: 0.45 | P13: 9.28 | Q13: 0.92 | R13: 1.09 | S13: 0.7 | T13: 0.59 | V13: =Q13+R13+S13+T13 -> 3.3 | W13: =SUM(L13:O13) -> 1.71 | X13: =SUM(Q13:U13) -> 3.3 | Y13: =W13+X13 -> 5.01 | Z13: =IF(Y13>P13,P13,Y13) -> 5.01
A14: I2023027361 | B14: Canecas | C14: 45182 | D14: 1.78 | E14: 1.66 | F14: 1.05 | G14: 0.78 | H14: 0.43 | I14: 0.3 | J14: 0.5 | K14: 0.7 | L14: 0.54 | M14: 0.25 | N14: 0.47 | O14: 0.45 | P14: 9.28 | Q14: 0.92 | R14: 1.09 | S14: 0.7 | T14: 0.59 | V14: =Q14+R14+S14+T14 -> 3.3 | W14: =SUM(M14:O14) -> 1.17 | X14: =SUM(Q14:U14) -> 3.3 | Y14: =W14+X14 -> 4.47 | Z14: =IF(Y14>P14,P14,Y14) -> 4.47
A15: I2023031011 | B15: Lote 6 Lenceria | C15: 45210 | D15: 1.78 | E15: 1.66 | F15: 1.05 | G15: 0.78 | H15: 0.43 | I15: 0.3 | J15: 0.5 | K15: 0.7 | L15: 0.54 | M15: 0.25 | N15: 0.47 | O15: 0.45 | P15: 9.28 | Q15: 0.92 | R15: 1.09 | S15: 0.7 | T15: 0.59 | V15: =Q15+R15+S15+T15 -> 3.3 | W15: =SUM(N15:O15) -> 0.92 | X15: =SUM(Q15:U15) -> 3.3 | Y15: =W15+X15 -> 4.22 | Z15: =IF(Y15>P15,P15,Y15) -> 4.22
A16: I2023031084 | B16: lote 2 menaje | C16: 45210 | D16: 1.78 | E16: 1.66 | F16: 1.05 | G16: 0.78 | H16: 0.43 | I16: 0.3 | J16: 0.5 | K16: 0.7 | L16: 0.54 | M16: 0.25 | N16: 0.47 | O16: 0.45 | P16: 9.28 | Q16: 0.92 | R16: 1.09 | S16: 0.7 | T16: 0.59 | V16: =Q16+R16+S16+T16 -> 3.3 | W16: =SUM(N16:O16) -> 0.92 | X16: =SUM(Q16:U16) -> 3.3 | Y16: =W16+X16 -> 4.22 | Z16: =IF(Y16>P16,P16,Y16) -> 4.22
A17: I2023031433 | B17: lote 5 Biomédicos | C17: 45212 | D17: 1.78 | E17: 1.66 | F17: 1.05 | G17: 0.78 | H17: 0.43 | I17: 0.3 | J17: 0.5 | K17: 0.7 | L17: 0.54 | M17: 0.25 | N17: 0.47 | O17: 0.45 | P17: 9.28 | Q17: 0.92 | R17: 1.09 | S17: 0.7 | T17: 0.59 | V17: =Q17+R17+S17+T17 -> 3.3 | W17: =SUM(N17:O17) -> 0.92 | X17: =SUM(Q17:U17) -> 3.3 | Y17: =W17+X17 -> 4.22 | Z17: =IF(Y17>P17,P17,Y17) -> 4.22
A18: I2023031801 | B18: Lote 1 Mobiliario | C18: 45212 | D18: 1.78 | E18: 1.66 | F18: 1.05 | G18: 0.78 | H18: 0.43 | I18: 0.3 | J18: 0.5 | K18: 0.7 | L18: 0.54 | M18: 0.25 | N18: 0.47 | O18: 0.45 | P18: 9.28 | Q18: 0.92 | R18: 1.09 | S18: 0.7 | T18: 0.59 | V18: =Q18+R18+S18+T18 -> 3.3 | W18: =SUM(N18:O18) -> 0.92 | X18: =SUM(Q18:U18) -> 3.3 | Y18: =W18+X18 -> 4.22 | Z18: =IF(Y18>P18,P18,Y18) -> 4.22
A19: I2023031991 | B19: Lote 3 Industriales | C19: 45219 | D19: 1.78 | E19: 1.66 | F19: 1.05 | G19: 0.78 | H19: 0.43 | I19: 0.3 | J19: 0.5 | K19: 0.7 | L19: 0.54 | M19: 0.25 | N19: 0.47 | O19: 0.45 | P19: 9.28 | Q19: 0.92 | R19: 1.09 | S19: 0.7 | T19: 0.59 | V19: =Q19+R19+S19+T19 -> 3.3 | W19: =SUM(N19:O19) -> 0.92 | X19: =SUM(Q19:U19) -> 3.3 | Y19: =W19+X19 -> 4.22 | Z19: =IF(Y19>P19,P19,Y19) -> 4.22
A20: I2023032069 | B20: Lote 4 Deportivos | C20: 45220 | D20: 1.78 | E20: 1.66 | F20: 1.05 | G20: 0.78 | H20: 0.43 | I20: 0.3 | J20: 0.5 | K20: 0.7 | L20: 0.54 | M20: 0.25 | N20: 0.47 | O20: 0.45 | P20: 9.28 | Q20: 0.92 | R20: 1.09 | S20: 0.7 | T20: 0.59 | V20: =Q20+R20+S20+T20 -> 3.3 | W20: =SUM(N20:O20) -> 0.92 | X20: =SUM(Q20:U20) -> 3.3 | Y20: =W20+X20 -> 4.22 | Z20: =IF(Y20>P20,P20,Y20) -> 4.22
A21: I2024004413 | B21: Cofinanciados 885 | C21: 45338
A22: I2024004588 | B22: Fórmulas lácteas 2024 | C22: 45341
A23: I2024004948 | B23: Servicios de vigilancia | C23: 45341
A24: i2024004988 | B24: Cofinaciados especificos y servicios publicos | C24: 45344
A25: I2024005209 | B25: carnicos Pollo | C25: 45346
A26: I2024011245 | B26: Viveres y Abarrotes 2024 | C26: 45408
A27: I2024011415 | B27: Productos lacteos | C27: 45411
A28: I2024011757 | B28: Cárnicos con soporte | C28: 45413
A29: I2024012926 | B29: Productos, Frutas, Huevos y Empaques | C29: 45426
A30: I2024013575 | B30: porductos panaderia | C30: 45414
A31: I2024014734 | B31: firma tercerizados | C31: 45441

Sheet INDEXACIÓN PRODUCTOS MES A MES
B1: 1 | C1: 2 | D1: 3 | E1: 4 | F1: 5 | G1: 6 | H1: 7 | I1: 8 | J1: 9 | K1: 10 | L1: 11 | M1: 12 | N1: 13 | O1: 14 | P1: 15 | Q1: 16 | R1: 17 | S1: 18 | T1: 19 | U1: 20 | V1: 21 | W1: 22
A2: ITEM | B2: ELEMENTO | C2: DESCRIPCION | D2: UNIDAD DE COSTEO | E2: RAD No. VIABILIZADO | F2: FECHA MEMORANDO DE VIABILIZACION | G2: VALOR UNITARIO MAS IVA SEGÚN MEMORANDO DE VIABILIZACION | H2: IPC MES A MES MARZO 2023 A ABRIL 2024 (Fuente DANE)
H3: Marzo_23 | I3: Abril_23 | J3: Mayo_23 | K3: Junio_23 | L3: Julio_23 | M3: Agosto_23 | N3: Septiembre_23 | O3: Octubre_23 | P3: Noviembre_23 | Q3: Diciembre_23 | R3: Enero_24 | S3: Febrero_24 | T3: Marzo_24 | U3: Abril_24 | V3: VALOR INDEXADO | W3: % INDEXADO
H4: 1.05 | I4: 0.78 | J4: 0.43 | K4: 0.3 | L4: 0.5 | M4: 0.7 | N4: 0.54 | O4: 0.25 | P4: 0.47 | Q4: 0.45 | R4: 0.92 | S4: 1.09 | T4: 0.7 | U4: 0.59
A5: DOTACION TALENTO HUMANO | B5: CHAQUETA INSTITUCIONAL | C5: Chaqueta con mangas removibles, material delgado, con los logos y del color establecido en el manual de imagen institucional de la Secretaría Distrital de Integración Social, tallas según se requieran | D5: UNIDAD | E5: I2024014734 | F5: =IFERROR((VLOOKUP(E5,'MEMORANDOS E IPC 2023 Y 2024'!$A$1:$C$20,3,0)),"0") -> 0 | G5: 218088 | H5: =IF(($F5="0"),$G5,(ROUNDDOWN((G5*(1+(H$4/100))),0))) -> 218088 | I5: =IF(($F5="0"),$G5,(ROUNDDOWN((H5*(1+(I$4/100))),0))) -> 218088 | J5: =IF(($F5="0"),$G5,(ROUNDDOWN((I5*(1+(J$4/100))),0))) -> 218088 | K5: =IF(($F5="0"),$G5,(ROUNDDOWN((J5*(1+(K$4/100))),0))) -> 218088 | L5: =IF(($F5="0"),$G5,(ROUNDDOWN((K5*(1+(L$4/100))),0))) -> 218088 | M5: =IF(($F5="0"),$G5,(ROUNDDOWN((L5*(1+(M$4/100))),0))) -> 218088 | N5: =IF(($F5="0"),$G5,(ROUNDDOWN((M5*(1+(N$4/100))),0))) -> 218088 | O5: =IF(($F5="0"),$G5,(ROUNDDOWN((N5*(1+(O$4/100))),0))) -> 218088 | ... U5: =IF(($F5="0"),$G5,(ROUNDDOWN((T5*(1+(U$4/100))),0))) -> 218088 | V5: =U5-G5 -> 0 | W5: =V5/G5 -> 0
A6: DOTACION TALENTO HUMANO | B6: TRAJE ANTIFLUIDO AZUL | C6: Traje anti fluido de dos (2) piezas, azul con los logos dispuestos como lo establece el manual de imagen institucional de la Secretaría Distrital de Integración Social . Tres (3) trajes para cada rol. | D6: UNIDAD | E6: I2024014734 | F6: =IFERROR((VLOOKUP(E6,'MEMORANDOS E IPC 2023 Y 2024'!$A$1:$C$20,3,0)),"0") -> 0 | G6: 83785 | H6: =IF(($F6="0"),$G6,(ROUNDDOWN((G6*(1+(H$4/100))),0))) -> 83785 | I6: =IF(($F6="0"),$G6,(ROUNDDOWN((H6*(1+(I$4/100))),0))) -> 83785 | J6: =IF(($F6="0"),$G6,(ROUNDDOWN((I6*(1+(J$4/100))),0))) -> 83785 | K6: =IF(($F6="0"),$G6,(ROUNDDOWN((J6*(1+(K$4/100))),0))) -> 83785 | L6: =IF(($F6="0"),$G6,(ROUNDDOWN((K6*(1+(L$4/100))),0))) -> 83785 | M6: =IF(($F6="0"),$G6,(ROUNDDOWN((L6*(1+(M$4/100))),0))) -> 83785 | N6: =IF(($F6="0"),$G6,(ROUNDDOWN((M6*(1+(N$4/100))),0))) -> 83785 | O6: =IF(($F6="0"),$G6,(ROUNDDOWN((N6*(1+(O$4/100))),0))) -> 83785 | ... U6: =IF(($F6="0"),$G6,(ROUNDDOWN((T6*(1+(U$4/100))),0))) -> 83785 | V6: =U6-G6 -> 0 | W6: =V6/G6 -> 0
A7: DOTACION TALENTO HUMANO | B7: TRAJE ANTIFLUIDO BLANCO | C7: Traje anti fluido de dos (2) piezas, blanco con los logos dispuestos como lo establece el manual de imagen institucional de la Secretaría Distrital de Integración Social . Tres (3) trajes para cada rol. | D7: UNIDAD | E7: I2024014734 | F7: =IFERROR((VLOOKUP(E7,'MEMORANDOS E IPC 2023 Y 2024'!$A$1:$C$20,3,0)),"0") -> 0 | G7: 83785 | H7: =IF(($F7="0"),$G7,(ROUNDDOWN((G7*(1+(H$4/100))),0))) -> 83785 | I7: =IF(($F7="0"),$G7,(ROUNDDOWN((H7*(1+(I$4/100))),0))) -> 83785 | J7: =IF(($F7="0"),$G7,(ROUNDDOWN((I7*(1+(J$4/100))),0))) -> 83785 | K7: =IF(($F7="0"),$G7,(ROUNDDOWN((J7*(1+(K$4/100))),0))) -> 83785 | L7: =IF(($F7="0"),$G7,(ROUNDDOWN((K7*(1+(L$4/100))),0))) -> 83785 | M7: =IF(($F7="0"),$G7,(ROUNDDOWN((L7*(1+(M$4/100))),0))) -> 83785 | N7: =IF(($F7="0"),$G7,(ROUNDDOWN((M7*(1+(N$4/100))),0))) -> 83785 | O7: =IF(($F7="0"),$G7,(ROUNDDOWN((N7*(1+(O$4/100))),0))) -> 83785 | ... U7: =IF(($F7="0"),$G7,(ROUNDDOWN((T7*(1+(U$4/100))),0))) -> 83785 | V7: =U7-G7 -> 0 | W7: =V7/G7 -> 0
A8: DOTACION TALENTO HUMANO | B8: TRAJE ANTIFLUIDO VERDE | C8: Traje anti fluido de dos (2) piezas, verde con los logos dispuestos como lo establece el manual de imagen institucional de la Secretaría Distrital de Integración Social . Tres (3) trajes para cada rol. | D8: UNIDAD | E8: I2024014734 | F8: =IFERROR((VLOOKUP(E8,'MEMORANDOS E IPC 2023 Y 2024'!$A$1:$C$20,3,0)),"0") -> 0 | G8: 83785 | H8: =IF(($F8="0"),$G8,(ROUNDDOWN((G8*(1+(H$4/100))),0))) -> 83785 | I8: =IF(($F8="0"),$G8,(ROUNDDOWN((H8*(1+(I$4/100))),0))) -> 83785 | J8: =IF(($F8="0"),$G8,(ROUNDDOWN((I8*(1+(J$4/100))),0))) -> 83785 | K8: =IF(($F8="0"),$G8,(ROUNDDOWN((J8*(1+(K$4/100))),0))) -> 83785 | L8: =IF(($F8="0"),$G8,(ROUNDDOWN((K8*(1+(L$4/100))),0))) -> 83785 | M8: =IF(($F8="0"),$G8,(ROUNDDOWN((L8*(1+(M$4/100))),0))) -> 83785 | N8: =IF(($F8="0"),$G8,(ROUNDDOWN((M8*(1+(N$4/100))),0))) -> 83785 | O8: =IF(($F8="0"),$G8,(ROUNDDOWN((N8*(1+(O$4/100))),0))) -> 83785 | ... U8: =IF(($F8="0"),$G8,(ROUNDDOWN((T8*(1+(U$4/100))),0))) -> 83785 | V8: =U8-G8 -> 0 | W8: =V8/G8 -> 0
A9: DOTACION TALENTO HUMANO | B9: UNIFORME SERVICIOS GENERALES | C9: Uniforme: Camisa y pantalón Material: Tela, de cualquier color | D9: Unidad | E9: I2024004856 | F9: =IFERROR((VLOOKUP(E9,'MEMORANDOS E IPC 2023 Y 2024'!$A$1:$C$20,3,0)),"0") -> 0 | G9: 73814 | H9: =IF(($F9="0"),$G9,(ROUNDDOWN((G9*(1+(H$4/100))),0))) -> 73814 | I9: =IF(($F9="0"),$G9,(ROUNDDOWN((H9*(1+(I$4/100))),0))) -> 73814 | J9: =IF(($F9="0"),$G9,(ROUNDDOWN((I9*(1+(J$4/100))),0))) -> 73814 | K9: =IF(($F9="0"),$G9,(ROUNDDOWN((J9*(1+(K$4/100))),0))) -> 73814 | L9: =IF(($F9="0"),$G9,(ROUNDDOWN((K9*(1+(L$4/100))),0))) -> 73814 | M9: =IF(($F9="0"),$G9,(ROUNDDOWN((L9*(1+(M$4/100))),0))) -> 73814 | N9: =IF(($F9="0"),$G9,(ROUNDDOWN((M9*(1+(N$4/100))),0))) -> 73814 | O9: =IF(($F9="0"),$G9,(ROUNDDOWN((N9*(1+(O$4/100))),0))) -> 73814 | ... U9: =IF(($F9="0"),$G9,(ROUNDDOWN((T9*(1+(U$4/100))),0))) -> 73814 | V9: =U9-G9 -> 0 | W9: =V9/G9 -> 0
A10: DOTACION TALENTO HUMANO | B10: OVEROL | C10: Overol. El material debe estar acorde con el clima en que se preste el servicio, tallas según se requieran. | D10: UNIDAD | E10: I2024014734 | F10: =IFERROR((VLOOKUP(E10,'MEMORANDOS E IPC 2023 Y 2024'!$A$1:$C$20,3,0)),"0") -> 0 | G10: 102814 | H10: =IF(($F10="0"),$G10,(ROUNDDOWN((G10*(1+(H$4/100))),0))) -> 102814 | I10: =IF(($F10="0"),$G10,(ROUNDDOWN((H10*(1+(I$4/100))),0))) -> 102814 | J10: =IF(($F10="0"),$G10,(ROUNDDOWN((I10*(1+(J$4/100))),0))) -> 102814 | K10: =IF(($F10="0"),$G10,(ROUNDDOWN((J10*(1+(K$4/100))),0))) -> 102814 | L10: =IF(($F10="0"),$G10,(ROUNDDOWN((K10*(1+(L$4/100))),0))) -> 102814 | M10: =IF(($F10="0"),$G10,(ROUNDDOWN((L10*(1+(M$4/100))),0))) -> 102814 | N10: =IF(($F10="0"),$G10,(ROUNDDOWN((M10*(1+(N$4/100))),0))) -> 102814 | O10: =IF(($F10="0"),$G10,(ROUNDDOWN((N10*(1+(O$4/100))),0))) -> 102814 | ... U10: =IF(($F10="0"),$G10,(ROUNDDOWN((T10*(1+(U$4/100))),0))) -> 102814 | V10: =U10-G10 -> 0 | W10: =V10/G10 -> 0
A11: DOTACION TALENTO HUMANO | B11: PETO PLASTICO | C11: Petos plásticos | D11: Unidad | E11: I2024004413 | F11: =IFERROR((VLOOKUP(E11,'MEMORANDOS E IPC 2023 Y 2024'!$A$1:$C$20,3,0)),"0") -> 0 | G11: 31104 | H11: =IF(($F11="0"),$G11,(ROUNDDOWN((G11*(1+(H$4/100))),0))) -> 31104 | I11: =IF(($F11="0"),$G11,(ROUNDDOWN((H11*(1+(I$4/100))),0))) -> 31104 | J11: =IF(($F11="0"),$G11,(ROUNDDOWN((I11*(1+(J$4/100))),0))) -> 31104 | K11: =IF(($F11="0"),$G11,(ROUNDDOWN((J11*(1+(K$4/100))),0))) -> 31104 | L11: =IF(($F11="0"),$G11,(ROUNDDOWN((K11*(1+(L$4/100))),0))) -> 31104 | M11: =IF(($F11="0"),$G11,(ROUNDDOWN((L11*(1+(M$4/100))),0))) -> 31104 | N11: =IF(($F11="0"),$G11,(ROUNDDOWN((M11*(1+(N$4/100))),0))) -> 31104 | O11: =IF(($F11="0"),$G11,(ROUNDDOWN((N11*(1+(O$4/100))),0))) -> 31104 | ... U11: =IF(($F11="0"),$G11,(ROUNDDOWN((T11*(1+(U$4/100))),0))) -> 31104 | V11: =U11-G11 -> 0 | W11: =V11/G11 -> 0
A12: DOTACION TALENTO HUMANO | B12: GORRO DE COCINA | C12: Gorro de cocina | D12: Paqute x 100 | E12: I2024004856 | F12: =IFERROR((VLOOKUP(E12,'MEMORANDOS E IPC 2023 Y 2024'!$A$1:$C$20,3,0)),"0") -> 0 | G12: 27310 | H12: =IF(($F12="0"),$G12,(ROUNDDOWN((G12*(1+(H$4/100))),0))) -> 27310 | I12: =IF(($F12="0"),$G12,(ROUNDDOWN((H12*(1+(I$4/100))),0))) -> 27310 | J12: =IF(($F12="0"),$G12,(ROUNDDOWN((I12*(1+(J$4/100))),0))) -> 27310 | K12: =IF(($F12="0"),$G12,(ROUNDDOWN((J12*(1+(K$4/100))),0))) -> 27310 | L12: =IF(($F12="0"),$G12,(ROUNDDOWN((K12*(1+(L$4/100))),0))) -> 27310 | M12: =IF(($F12="0"),$G12,(ROUNDDOWN((L12*(1+(M$4/100))),0))) -> 27310 | N12: =IF(($F12="0"),$G12,(ROUNDDOWN((M12*(1+(N$4/100))),0))) -> 27310 | O12: =IF(($F12="0"),$G12,(ROUNDDOWN((N12*(1+(O$4/100))),0))) -> 27310 | ... U12: =IF(($F12="0"),$G12,(ROUNDDOWN((T12*(1+(U$4/100))),0))) -> 27310 | V12: =U12-G12 -> 0 | W12: =V12/G12 -> 0
A13: DOTACION TALENTO HUMANO | B13: GUANTES MANIPULACION DE ALIMENTOS | C13: guantes manipulación de alimentos | D13: Caja x 100 unidades | E13: I2023008278 | F13: =IFERROR((VLOOKUP(E13,'MEMORANDOS E IPC 2023 Y 2024'!$A$1:$C$20,3,0)),"0") -> 45002 | G13: 71607 | H13: =G13 -> 71607 | I13: =IF(($F13="0"),$F13,(ROUNDDOWN((H13*(1+(I$4/100))),0))) -> 72165 | J13: =IF(($F13="0"),$F13,(ROUNDDOWN((I13*(1+(J$4/100))),0))) -> 72475 | K13: =IF(($F13="0"),$F13,(ROUNDDOWN((J13*(1+(K$4/100))),0))) -> 72692 | L13: =IF(($F13="0"),$F13,(ROUNDDOWN((K13*(1+(L$4/100))),0))) -> 73055 | M13: =IF(($F13="0"),$F13,(ROUNDDOWN((L13*(1+(M$4/100))),0))) -> 73566 | N13: =IF(($F13="0"),$F13,(ROUNDDOWN((M13*(1+(N$4/100))),0))) -> 73963 | O13: =IF(($F13="0"),$F13,(ROUNDDOWN((N13*(1+(O$4/100))),0))) -> 74147 | P13: =IF(($F13="0"),$F13,(ROUNDDOWN((O13*(1+(P$4/100))),0))) -> 74495 | ... U13: =IF(($F13="0"),$F13,(ROUNDDOWN((T13*(1+(U$4/100))),0))) -> 77328 | V13: =U13-G13 -> 5721 | W13: =V13/G13 -> 0.079894424
A14: DOTACION TALENTO HUMANO | B14: COFIA Y / MALLA | C14: cofia y/o malla | D14: Caja x 100 unidades | E14: I2023004856 | F14: =IFERROR((VLOOKUP(E14,'MEMORANDOS E IPC 2023 Y 2024'!$A$1:$C$20,3,0)),"0") -> 44974 | G14: 14418 | H14: =IF(($F14="0"),$F14,(ROUNDDOWN((G14*(1+(H$4/100))),0))) -> 14569 | I14: =IF(($F14="0"),$F14,(ROUNDDOWN((H14*(1+(I$4/100))),0))) -> 14682 | J14: =IF(($F14="0"),$F14,(ROUNDDOWN((I14*(1+(J$4/100))),0))) -> 14745 | K14: =IF(($F14="0"),$F14,(ROUNDDOWN((J14*(1+(K$4/100))),0))) -> 14789 | L14: =IF(($F14="0"),$F14,(ROUNDDOWN((K14*(1+(L$4/100))),0))) -> 14862 | M14: =IF(($F14="0"),$F14,(ROUNDDOWN((L14*(1+(M$4/100))),0))) -> 14966 | N14: =IF(($F14="0"),$F14,(ROUNDDOWN((M14*(1+(N$4/100))),0))) -> 15046 | O14: =IF(($F14="0"),$F14,(ROUNDDOWN((N14*(1+(O$4/100))),0))) -> 15083 | ... U14: =IF(($F14="0"),$F14,(ROUNDDOWN((T14*(1+(U$4/100))),0))) -> 15728 | V14: =U14-G14 -> 1310 | W14: =V14/G14 -> 0.090858649
A15: DOTACION TALENTO HUMANO | B15: CALZADO TALENTO HUMANO | C15: Zapato cerrado, sin cordones, de material resistente, antideslizante, impermeable y de tacón bajo. No se permitirán zapatos tipo crocs que presenten orificios. | D15: Par | E15: I2024004413 | F15: =IFERROR((VLOOKUP(E15,'MEMORANDOS E IPC 2023 Y 2024'!$A$1:$C$20,3,0)),"0") -> 0 | G15: 49216 | H15: =IF(($F15="0"),$G15,(ROUNDDOWN((G15*(1+(H$4/100))),0))) -> 49216 | I15: =IF(($F15="0"),$G15,(ROUNDDOWN((H15*(1+(I$4/100))),0))) -> 49216 | J15: =IF(($F15="0"),$G15,(ROUNDDOWN((I15*(1+(J$4/100))),0))) -> 49216 | K15: =IF(($F15="0"),$G15,(ROUNDDOWN((J15*(1+(K$4/100))),0))) -> 49216 | L15: =IF(($F15="0"),$G15,(ROUNDDOWN((K15*(1+(L$4/100))),0))) -> 49216 | M15: =IF(($F15="0"),$G15,(ROUNDDOWN((L15*(1+(M$4/100))),0))) -> 49216 | N15: =IF(($F15="0"),$G15,(ROUNDDOWN((M15*(1+(N$4/100))),0))) -> 49216 | O15: =IF(($F15="0"),$G15,(ROUNDDOWN((N15*(1+(O$4/100))),0))) -> 49216 | ... U15: =IF(($F15="0"),$G15,(ROUNDDOWN((T15*(1+(U$4/100))),0))) -> 49216 | V15: =U15-G15 -> 0 | W15: =V15/G15 -> 0
A16: DOTACION TALENTO HUMANO | B16: BOTAS DE CAUCHO | C16: Botas blancas de caucho | D16: Par | E16: I2023004856 | F16: =IFERROR((VLOOKUP(E16,'MEMORANDOS E IPC 2023 Y 2024'!$A$1:$C$20,3,0)),"0") -> 44974 | G16: 59564 | H16: =IF(($F16="0"),$F16,(ROUNDDOWN((G16*(1+(H$4/100))),0))) -> 60189 | I16: =IF(($F16="0"),$F16,(ROUNDDOWN((H16*(1+(I$4/100))),0))) -> 60658 | J16: =IF(($F16="0"),$F16,(ROUNDDOWN((I16*(1+(J$4/100))),0))) -> 60918 | K16: =IF(($F16="0"),$F16,(ROUNDDOWN((J16*(1+(K$4/100))),0))) -> 61100 | L16: =IF(($F16="0"),$F16,(ROUNDDOWN((K16*(1+(L$4/100))),0))) -> 61405 | M16: =IF(($F16="0"),$F16,(ROUNDDOWN((L16*(1+(M$4/100))),0))) -> 61834 | N16: =IF(($F16="0"),$F16,(ROUNDDOWN((M16*(1+(N$4/100))),0))) -> 62167 | O16: =IF(($F16="0"),$F16,(ROUNDDOWN((N16*(1+(O$4/100))),0))) -> 62322 | ... U16: =IF(($F16="0"),$F16,(ROUNDDOWN((T16*(1+(U$4/100))),0))) -> 64994 | V16: =U16-G16 -> 5430 | W16: =V16/G16 -> 0.091162447
A17: DOTACION TALENTO HUMANO | B17: GUANTES DE LATEX | C17: Guantes de látex de examen, cajas de | D17: Caja x 100 unidades | E17: I2023008278 | F17: =IFERROR((VLOOKUP(E17,'MEMORANDOS E IPC 2023 Y 2024'!$A$1:$C$20,3,0)),"0") -> 45002 | G17: 71607 | H17: =G17 -> 71607 | I17: =IF(($F17="0"),$F17,(ROUNDDOWN((H17*(1+(I$4/100))),0))) -> 72165 | J17: =IF(($F17="0"),$F17,(ROUNDDOWN((I17*(1+(J$4/100))),0))) -> 72475 | K17: =IF(($F17="0"),$F17,(ROUNDDOWN((J17*(1+(K$4/100))),0))) -> 72692 | L17: =IF(($F17="0"),$F17,(ROUNDDOWN((K17*(1+(L$4/100))),0))) -> 73055 | M17: =IF(($F17="0"),$F17,(ROUNDDOWN((L17*(1+(M$4/100))),0))) -> 73566 | N17: =IF(($F17="0"),$F17,(ROUNDDOWN((M17*(1+(N$4/100))),0))) -> 73963 | O17: =IF(($F17="0"),$F17,(ROUNDDOWN((N17*(1+(O$4/100))),0))) -> 74147 | P17: =IF(($F17="0"),$F17,(ROUNDDOWN((O17*(1+(P$4/100))),0))) -> 74495 | ... U17: =IF(($F17="0"),$F17,(ROUNDDOWN((T17*(1+(U$4/100))),0))) -> 77328 | V17: =U17-G17 -> 5721 | W17: =V17/G17 -> 0.079894424
A18: DOTACION TALENTO HUMANO | B18: TAPABOCAS | C18: Tapabocas elástico desechable con tiras elásticas (opcional N95), cajas de mínimo 100 unidades cada una | D18: Caja x 50 unidades | E18: I2023004856 | F18: =IFERROR((VLOOKUP(E18,'MEMORANDOS E IPC 2023 Y 2024'!$A$1:$C$20,3,0)),"0") -> 44974 | G18: 18247 | H18: =IF(($F18="0"),$F18,(ROUNDDOWN((G18*(1+(H$4/100))),0))) -> 18438 | I18: =IF(($F18="0"),$F18,(ROUNDDOWN((H18*(1+(I$4/100))),0))) -> 18581 | J18: =IF(($F18="0"),$F18,(ROUNDDOWN((I18*(1+(J$4/100))),0))) -> 18660 | K18: =IF(($F18="0"),$F18,(ROUNDDOWN((J18*(1+(K$4/100))),0))) -> 18715 | L18: =IF(($F18="0"),$F18,(ROUNDDOWN((K18*(1+(L$4/100))),0))) -> 18808 | M18: =IF(($F18="0"),$F18,(ROUNDDOWN((L18*(1+(M$4/100))),0))) -> 18939 | N18: =IF(($F18="0"),$F18,(ROUNDDOWN((M18*(1+(N$4/100))),0))) -> 19041 | O18: =IF(($F18="0"),$F18,(ROUNDDOWN((N18*(1+(O$4/100))),0))) -> 19088 | ... U18: =IF(($F18="0"),$F18,(ROUNDDOWN((T18*(1+(U$4/100))),0))) -> 19904 | V18: =U18-G18 -> 1657 | W18: =V18/G18 -> 0.090809448
A19: BIENES NO CONSUMIBLES | B19: ABRELATAS | C19: abrelatas en forma de tijera, sistema de dos discos pequeños, uno con borde en serrucho y otro con borde cortante. | D19: Unidad | E19: I2023018072 | F19: =IFERROR((VLOOKUP(E19,'MEMORANDOS E IPC 2023 Y 2024'!$A$1:$C$20,3,0)),"0") -> 45100 | G19: 14313 | H19: =G19 -> 14313 | I19: =H19 -> 14313 | J19: =I19 -> 14313 | K19: =J19 -> 14313 | L19: =IF(($F19="0"),$F19,(ROUNDDOWN((K19*(1+(L$4/100))),0))) -> 14384 | M19: =IF(($F19="0"),$F19,(ROUNDDOWN((L19*(1+(M$4/100))),0))) -> 14484 | N19: =IF(($F19="0"),$F19,(ROUNDDOWN((M19*(1+(N$4/100))),0))) -> 14562 | O19: =IF(($F19="0"),$F19,(ROUNDDOWN((N19*(1+(O$4/100))),0))) -> 14598 | P19: =IF(($F19="0"),$F19,(ROUNDDOWN((O19*(1+(P$4/100))),0))) -> 14666 | Q19: =IF(($F19="0"),$F19,(ROUNDDOWN((P19*(1+(Q$4/100))),0))) -> 14731 | R19: =IF(($F19="0"),$F19,(ROUNDDOWN((Q19*(1+(R$4/100))),0))) -> 14866 | S19: =IF(($F19="0"),$F19,(ROUNDDOWN((R19*(1+(S$4/100))),0))) -> 15028 | ... U19: =IF(($F19="0"),$F19,(ROUNDDOWN((T19*(1+(U$4/100))),0))) -> 15222 | V19: =U19-G19 -> 909 | W19: =V19/G19 -> 0.063508698
A20: BIENES NO CONSUMIBLES | B20: ALMOHADA PARA ADULTO | C20: tamaño: 50cm x 75cm altura 8cm | D20: Desgaste y uso mensual por unidad | E20: I2023004856 | F20: =IFERROR((VLOOKUP(E20,'MEMORANDOS E IPC 2023 Y 2024'!$A$1:$C$20,3,0)),"0") -> 44974 | G20: 45654 | H20: =IF(($F20="0"),$F20,(ROUNDDOWN((G20*(1+(H$4/100))),0))) -> 46133 | I20: =IF(($F20="0"),$F20,(ROUNDDOWN((H20*(1+(I$4/100))),0))) -> 46492 | J20: =IF(($F20="0"),$F20,(ROUNDDOWN((I20*(1+(J$4/100))),0))) -> 46691 | K20: =IF(($F20="0"),$F20,(ROUNDDOWN((J20*(1+(K$4/100))),0))) -> 46831 | L20: =IF(($F20="0"),$F20,(ROUNDDOWN((K20*(1+(L$4/100))),0))) -> 47065 | M20: =IF(($F20="0"),$F20,(ROUNDDOWN((L20*(1+(M$4/100))),0))) -> 47394 | N20: =IF(($F20="0"),$F20,(ROUNDDOWN((M20*(1+(N$4/100))),0))) -> 47649 | O20: =IF(($F20="0"),$F20,(ROUNDDOWN((N20*(1+(O$4/100))),0))) -> 47768 | ... U20: =IF(($F20="0"),$F20,(ROUNDDOWN((T20*(1+(U$4/100))),0))) -> 49816 | V20: =U20-G20 -> 4162 | W20: =V20/G20 -> 0.091163972
A21: BIENES NO CONSUMIBLES | B21: ANAQUEL O ESTANTERÍAS | C21: Para ubicación de alimentos no perecederos (víveres y abarrotes), en material higiénico sanitario en acero inoxidable de 5 entrepaños para almacenamiento en seco,de 50 cm x 50 cm como minimo | D21: Desgaste y uso mensual por unidad | E21: I2023004856 | F21: =IFERROR((VLOOKUP(E21,'MEMORANDOS E IPC 2023 Y 2024'!$A$1:$C$20,3,0)),"0") -> 44974 | G21: 312375 | H21: =IF(($F21="0"),$F21,(ROUNDDOWN((G21*(1+(H$4/100))),0))) -> 315654 | I21: =IF(($F21="0"),$F21,(ROUNDDOWN((H21*(1+(I$4/100))),0))) -> 318116 | J21: =IF(($F21="0"),$F21,(ROUNDDOWN((I21*(1+(J$4/100))),0))) -> 319483 | K21: =IF(($F21="0"),$F21,(ROUNDDOWN((J21*(1+(K$4/100))),0))) -> 320441 | L21: =IF(($F21="0"),$F21,(ROUNDDOWN((K21*(1+(L$4/100))),0))) -> 322043 | M21: =IF(($F21="0"),$F21,(ROUNDDOWN((L21*(1+(M$4/100))),0))) -> 324297 | N21: =IF(($F21="0"),$F21,(ROUNDDOWN((M21*(1+(N$4/100))),0))) -> 326048 | O21: =IF(($F21="0"),$F21,(ROUNDDOWN((N21*(1+(O$4/100))),0))) -> 326863 | ... U21: =IF(($F21="0"),$F21,(ROUNDDOWN((T21*(1+(U$4/100))),0))) -> 340892 | V21: =U21-G21 -> 28517 | W21: =V21/G21 -> 0.091290916
A22: BIENES NO CONSUMIBLES | B22: ARCHIVADOR VERTICAL 4 GAVETAS METÁLICO | C22: Materiales: Lámina Cold Rolled calibre 20 en pintura electrostática color gris claro, correderas independientes Full Extension, cerradura en la parte superior. Gavetas extraíbles (4 unidades), con sistema anti-vuelco de seguridad, apertura de solo un cajón al tiempo. Medidas: 136 cm alto x 47 cm ancho, 60 cm fondo. Medidas gaveta: 29 cm alto x 44 cm ancho x 55 cm fondo. Apoyos con niveladores. | D22: Unidad | E22: I2023018072 | F22: =IFERROR((VLOOKUP(E22,'MEMORANDOS E IPC 2023 Y 2024'!$A$1:$C$20,3,0)),"0") -> 45100 | G22: 718794 | H22: =G22 -> 718794 | I22: =H22 -> 718794 | J22: =I22 -> 718794 | K22: =J22 -> 718794 | L22: =IF(($F22="0"),$F22,(ROUNDDOWN((K22*(1+(L$4/100))),0))) -> 722387 | M22: =IF(($F22="0"),$F22,(ROUNDDOWN((L22*(1+(M$4/100))),0))) -> 727443 | N22: =IF(($F22="0"),$F22,(ROUNDDOWN((M22*(1+(N$4/100))),0))) -> 731371 | O22: =IF(($F22="0"),$F22,(ROUNDDOWN((N22*(1+(O$4/100))),0))) -> 733199 | P22: =IF(($F22="0"),$F22,(ROUNDDOWN((O22*(1+(P$4/100))),0))) -> 736645 | Q22: =IF(($F22="0"),$F22,(ROUNDDOWN((P22*(1+(Q$4/100))),0))) -> 739959 | R22: =IF(($F22="0"),$F22,(ROUNDDOWN((Q22*(1+(R$4/100))),0))) -> 746766 | S22: =IF(($F22="0"),$F22,(ROUNDDOWN((R22*(1+(S$4/100))),0))) -> 754905 | ... U22: =IF(($F22="0"),$F22,(ROUNDDOWN((T22*(1+(U$4/100))),0))) -> 764674 | V22: =U22-G22 -> 45880 | W22: =V22/G22 -> 0.063829136
A23: BIENES NO CONSUMIBLES | B23: BACINILLAS O PATOS | C23: personas entre 1.53 a 1.75 mts de estatura, muletas | D23: Desgaste y uso mensual por unidad | E23: I2023019873 | F23: =IFERROR((VLOOKUP(E23,'MEMORANDOS E IPC 2023 Y 2024'!$A$1:$C$20,3,0)),"0") -> 45117 | G23: 140987 | H23: =G23 -> 140987 | I23: =H23 -> 140987 | J23: =I23 -> 140987 | K23: =J23 -> 140987 | L23: =K23 -> 140987 | M23: =IF(($F23="0"),$F23,(ROUNDDOWN((L23*(1+(M$4/100))),0))) -> 141973 | N23: =IF(($F23="0"),$F23,(ROUNDDOWN((M23*(1+(N$4/100))),0))) -> 142739 | O23: =IF(($F23="0"),$F23,(ROUNDDOWN((N23*(1+(O$4/100))),0))) -> 143095 | P23: =IF(($F23="0"),$F23,(ROUNDDOWN((O23*(1+(P$4/100))),0))) -> 143767 | Q23: =IF(($F23="0"),$F23,(ROUNDDOWN((P23*(1+(Q$4/100))),0))) -> 144413 | R23: =IF(($F23="0"),$F23,(ROUNDDOWN((Q23*(1+(R$4/100))),0))) -> 145741 | S23: =IF(($F23="0"),$F23,(ROUNDDOWN((R23*(1+(S$4/100))),0))) -> 147329 | T23: =IF(($F23="0"),$F23,(ROUNDDOWN((S23*(1+(T$4/100))),0))) -> 148360 | U23: =IF(($F23="0"),$F23,(ROUNDDOWN((T23*(1+(U$4/100))),0))) -> 149235 | V23: =U23-G23 -> 8248 | W23: =V23/G23 -> 0.058501848
A24: BIENES NO CONSUMIBLES | B24: BALANZA | C24: Balanza para pesaje de residuos ordinarios | D24: Unidad | E24: I2024014734 | F24: =IFERROR((VLOOKUP(E24,'MEMORANDOS E IPC 2023 Y 2024'!$A$1:$C$20,3,0)),"0") -> 0 | G24: 109564 | H24: =IF(($F24="0"),$G24,(ROUNDDOWN((G24*(1+(H$4/100))),0))) -> 109564 | I24: =IF(($F24="0"),$G24,(ROUNDDOWN((H24*(1+(I$4/100))),0))) -> 109564 | J24: =IF(($F24="0"),$G24,(ROUNDDOWN((I24*(1+(J$4/100))),0))) -> 109564 | K24: =IF(($F24="0"),$G24,(ROUNDDOWN((J24*(1+(K$4/100))),0))) -> 109564 | L24: =IF(($F24="0"),$G24,(ROUNDDOWN((K24*(1+(L$4/100))),0))) -> 109564 | M24: =IF(($F24="0"),$G24,(ROUNDDOWN((L24*(1+(M$4/100))),0))) -> 109564 | N24: =IF(($F24="0"),$G24,(ROUNDDOWN((M24*(1+(N$4/100))),0))) -> 109564 | O24: =IF(($F24="0"),$G24,(ROUNDDOWN((N24*(1+(O$4/100))),0))) -> 109564 | ... U24: =IF(($F24="0"),$G24,(ROUNDDOWN((T24*(1+(U$4/100))),0))) -> 109564 | V24: =U24-G24 -> 0 | W24: =V24/G24 -> 0
A25: BIENES NO CONSUMIBLES | B25: BALANZA 1 | C25: Balanza para pesaje de residuos hospitalarios | D25: Unidad | E25: I2024014734 | F25: =IFERROR((VLOOKUP(E25,'MEMORANDOS E IPC 2023 Y 2024'!$A$1:$C$20,3,0)),"0") -> 0 | G25: 112447 | H25: =IF(($F25="0"),$G25,(ROUNDDOWN((G25*(1+(H$4/100))),0))) -> 112447 | I25: =IF(($F25="0"),$G25,(ROUNDDOWN((H25*(1+(I$4/100))),0))) -> 112447 | J25: =IF(($F25="0"),$G25,(ROUNDDOWN((I25*(1+(J$4/100))),0))) -> 112447 | K25: =IF(($F25="0"),$G25,(ROUNDDOWN((J25*(1+(K$4/100))),0))) -> 112447 | L25: =IF(($F25="0"),$G25,(ROUNDDOWN((K25*(1+(L$4/100))),0))) -> 112447 | M25: =IF(($F25="0"),$G25,(ROUNDDOWN((L25*(1+(M$4/100))),0))) -> 112447 | N25: =IF(($F25="0"),$G25,(ROUNDDOWN((M25*(1+(N$4/100))),0))) -> 112447 | O25: =IF(($F25="0"),$G25,(ROUNDDOWN((N25*(1+(O$4/100))),0))) -> 112447 | ... U25: =IF(($F25="0"),$G25,(ROUNDDOWN((T25*(1+(U$4/100))),0))) -> 112447 | V25: =U25-G25 -> 0 | W25: =V25/G25 -> 0
A26: BIENES NO CONSUMIBLES | B26: BALDE | C26: Balde con agarradera y tapa en material plastico con vertedero para controlar la salida del liquido. Capacidad de 13 Lts | D26: Unidad | E26: I2023018072 | F26: =IFERROR((VLOOKUP(E26,'MEMORANDOS E IPC 2023 Y 2024'!$A$1:$C$20,3,0)),"0") -> 45100 | G26: 23503 | H26: =G26 -> 23503 | I26: =H26 -> 23503 | J26: =I26 -> 23503 | K26: =J26 -> 23503 | L26: =IF(($F26="0"),$F26,(ROUNDDOWN((K26*(1+(L$4/100))),0))) -> 23620 | M26: =IF(($F26="0"),$F26,(ROUNDDOWN((L26*(1+(M$4/100))),0))) -> 23785 | N26: =IF(($F26="0"),$F26,(ROUNDDOWN((M26*(1+(N$4/100))),0))) -> 23913 | O26: =IF(($F26="0"),$F26,(ROUNDDOWN((N26*(1+(O$4/100))),0))) -> 23972 | P26: =IF(($F26="0"),$F26,(ROUNDDOWN((O26*(1+(P$4/100))),0))) -> 24084 | Q26: =IF(($F26="0"),$F26,(ROUNDDOWN((P26*(1+(Q$4/100))),0))) -> 24192 | R26: =IF(($F26="0"),$F26,(ROUNDDOWN((Q26*(1+(R$4/100))),0))) -> 24414 | S26: =IF(($F26="0"),$F26,(ROUNDDOWN((R26*(1+(S$4/100))),0))) -> 24680 | ... U26: =IF(($F26="0"),$F26,(ROUNDDOWN((T26*(1+(U$4/100))),0))) -> 24998 | V26: =U26-G26 -> 1495 | W26: =V26/G26 -> 0.063608901
A27: BIENES NO CONSUMIBLES | B27: BANDEJA | C27: Bandejas plasticas para servir (en material higiénico sanitario) de mínimo 47 cm x 35,5 cm. | D27: Desgaste y uso mensual por unidad | E27: I2023004856 | F27: =IFERROR((VLOOKUP(E27,'MEMORANDOS E IPC 2023 Y 2024'!$A$1:$C$20,3,0)),"0") -> 44974 | G27: 11208 | H27: =IF(($F27="0"),$F27,(ROUNDDOWN((G27*(1+(H$4/100))),0))) -> 11325 | I27: =IF(($F27="0"),$F27,(ROUNDDOWN((H27*(1+(I$4/100))),0))) -> 11413 | J27: =IF(($F27="0"),$F27,(ROUNDDOWN((I27*(1+(J$4/100))),0))) -> 11462 | K27: =IF(($F27="0"),$F27,(ROUNDDOWN((J27*(1+(K$4/100))),0))) -> 11496 | L27: =IF(($F27="0"),$F27,(ROUNDDOWN((K27*(1+(L$4/100))),0))) -> 11553 | M27: =IF(($F27="0"),$F27,(ROUNDDOWN((L27*(1+(M$4/100))),0))) -> 11633 | N27: =IF(($F27="0"),$F27,(ROUNDDOWN((M27*(1+(N$4/100))),0))) -> 11695 | O27: =IF(($F27="0"),$F27,(ROUNDDOWN((N27*(1+(O$4/100))),0))) -> 11724 | ... U27: =IF(($F27="0"),$F27,(ROUNDDOWN((T27*(1+(U$4/100))),0))) -> 12225 | V27: =U27-G27 -> 1017 | W27: =V27/G27 -> 0.090738758
A28: BIENES NO CONSUMIBLES | B28: BÁSCULA ELECTRÓNICA | C28: Balanza - Báscula para alimentos, Capacidad hasta de 150 Kg. Sensibilidad mínima de 50 gramos. Dimensión plataforma: mínima de 30 cm x 40 cm Certificado de calibración por laboratorio acreditado por la ONAC, cada año, incluyendo pilas o cargador para su funcionamiento. | D28: Desgaste y uso mensual por unidad | E28: I2023004856 | F28: =IFERROR((VLOOKUP(E28,'MEMORANDOS E IPC 2023 Y 2024'!$A$1:$C$20,3,0)),"0") -> 44974 | G28: 359859 | H28: =IF(($F28="0"),$F28,(ROUNDDOWN((G28*(1+(H$4/100))),0))) -> 363637 | I28: =IF(($F28="0"),$F28,(ROUNDDOWN((H28*(1+(I$4/100))),0))) -> 366473 | J28: =IF(($F28="0"),$F28,(ROUNDDOWN((I28*(1+(J$4/100))),0))) -> 368048 | K28: =IF(($F28="0"),$F28,(ROUNDDOWN((J28*(1+(K$4/100))),0))) -> 369152 | L28: =IF(($F28="0"),$F28,(ROUNDDOWN((K28*(1+(L$4/100))),0))) -> 370997 | M28: =IF(($F28="0"),$F28,(ROUNDDOWN((L28*(1+(M$4/100))),0))) -> 373593 | N28: =IF(($F28="0"),$F28,(ROUNDDOWN((M28*(1+(N$4/100))),0))) -> 375610 | O28: =IF(($F28="0"),$F28,(ROUNDDOWN((N28*(1+(O$4/100))),0))) -> 376549 | ... U28: =IF(($F28="0"),$F28,(ROUNDDOWN((T28*(1+(U$4/100))),0))) -> 392712 | V28: =U28-G28 -> 32853 | W28: =V28/G28 -> 0.09129409
A29: BIENES NO CONSUMIBLES | B29: BÁSCULA ELECTRÓNICA INDUSTRIAL | C29: Bascula electrónica industrial diseñada para trabajo continuo, con plataforma robusta. Plataforma en acero inoxidable, Indicador: electrónico con función de TARA/HOLD, Capacidad mínima: 150 kg División/ precisión mínima: 50 g., Precisión máxima: 100g., Dimensión plataforma: (lxaxh) 70 cm x 70 cm.x15cm (+/- 30%), Peso de bascula: máximo de 40kg., Batería: recargable con autonomía mínima de 24 horas de uso Accesorios: adaptador / cargador de batería. La báscula debe ser entregada con certificado de aprobación de modelo acorde con OIML R 76-1 o la norma correspondiente según el país o región de origen, informe de verificación inicial acorde con OIML R 76-1 o la NTC 2031:2002. Debe tener identificación metrológica de origen (etiqueta o placa) con información relacionada con clase, capacidad máxima, capacidad mínima, escalón de verificación (e) y división de escala (d)). Cada equipo deberá tener un empaque que facilite su almacenamiento y transporte y que garanticen las condiciones necesarias para mantener la calibración. Los equipos antropométricos deben comprarse con certificado de calibración, acreditado ante la ONAC (Organismo Nacional de Acreditación de Colombia) en Masa. Garantía mínima de 3 años de conformidad con lo estipulado en el capítulo 1 del título 3 de la ley 1480 de 2011 (estatuto de protección al consumidor). Deberá ser entregado con los manuales de calibración y manejo del equipo | D29: Desgaste y uso mensual por unidad | E29: I2023031991 | F29: =IFERROR((VLOOKUP(E29,'MEMORANDOS E IPC 2023 Y 2024'!$A$1:$C$20,3,0)),"0") -> 45219 | G29: 1160000 | H29: =G29 -> 1160000 | I29: =H29 -> 1160000 | J29: =I29 -> 1160000 | K29: =J29 -> 1160000 | L29: =K29 -> 1160000 | M29: =L29 -> 1160000 | N29: =M29 -> 1160000 | O29: =N29 -> 1160000 | P29: =IF(($F29="0"),$F29,(ROUNDDOWN((O29*(1+(P$4/100))),0))) -> 1165452 | Q29: =IF(($F29="0"),$F29,(ROUNDDOWN((P29*(1+(Q$4/100))),0))) -> 1170696 | R29: =IF(($F29="0"),$F29,(ROUNDDOWN((Q29*(1+(R$4/100))),0))) -> 1181466 | S29: =IF(($F29="0"),$F29,(ROUNDDOWN((R29*(1+(S$4/100))),0))) -> 1194343 | T29: =IF(($F29="0"),$F29,(ROUNDDOWN((S29*(1+(T$4/100))),0))) -> 1202703 | U29: =IF(($F29="0"),$F29,(ROUNDDOWN((T29*(1+(U$4/100))),0))) -> 1209798 | V29: =U29-G29 -> 49798 | W29: =V29/G29 -> 0.04292931
A30: BIENES NO CONSUMIBLES | B30: BASCULA ELECTRÓNICA PESA PERSONAS | C30: Báscula grado médico para paciente adulto con certificado de conformidad expedido por el país de origen.Funcionamiento digital con pantalla de visualización LCD.Capacidad de carga ≥ 180KG. Con funciones: Desconexión automática, 2 en 1 o madre bebe, auto HOLD y conmutación de kgs/lbs. Plataforma antideslizante. Alimentación eléctrica suministrada por pilas y con opción de alimentación eléctrica por cargador a pared.Escala de división de 100 gr o menos.Soportes con sistema de nivelación de altura para garantizar una medición correcta. Con opción para ajuste del factor gravitacional del lugar de instalación.Material de fabricación: ABS grado médico. | D30: Unidad | E30: I2023031433 | F30: =IFERROR((VLOOKUP(E30,'MEMORANDOS E IPC 2023 Y 2024'!$A$1:$C$20,3,0)),"0") -> 45212 | G30: 279950 | H30: =G30 -> 279950 | I30: =H30 -> 279950 | J30: =I30 -> 279950 | K30: =J30 -> 279950 | L30: =K30 -> 279950 | M30: =L30 -> 279950 | N30: =M30 -> 279950 | O30: =N30 -> 279950 | P30: =IF(($F30="0"),$F30,(ROUNDDOWN((O30*(1+(P$4/100))),0))) -> 281265 | Q30: =IF(($F30="0"),$F30,(ROUNDDOWN((P30*(1+(Q$4/100))),0))) -> 282530 | R30: =IF(($F30="0"),$F30,(ROUNDDOWN((Q30*(1+(R$4/100))),0))) -> 285129 | S30: =IF(($F30="0"),$F30,(ROUNDDOWN((R30*(1+(S$4/100))),0))) -> 288236 | T30: =IF(($F30="0"),$F30,(ROUNDDOWN((S30*(1+(T$4/100))),0))) -> 290253 | U30: =IF(($F30="0"),$F30,(ROUNDDOWN((T30*(1+(U$4/100))),0))) -> 291965 | V30: =U30-G30 -> 12015 | W30: =V30/G30 -> 0.042918378
A31: BIENES NO CONSUMIBLES | B31: BATA BLANCA | C31: Bata blanca | D31: Desgaste y uso mensual por unidad | E31: I2023004856 | F31: =IFERROR((VLOOKUP(E31,'MEMORANDOS E IPC 2023 Y 2024'!$A$1:$C$20,3,0)),"0") -> 44974 | G31: 49609 | H31: =IF(($F31="0"),$F31,(ROUNDDOWN((G31*(1+(H$4/100))),0))) -> 50129 | I31: =IF(($F31="0"),$F31,(ROUNDDOWN((H31*(1+(I$4/100))),0))) -> 50520 | J31: =IF(($F31="0"),$F31,(ROUNDDOWN((I31*(1+(J$4/100))),0))) -> 50737 | K31: =IF(($F31="0"),$F31,(ROUNDDOWN((J31*(1+(K$4/100))),0))) -> 50889 | L31: =IF(($F31="0"),$F31,(ROUNDDOWN((K31*(1+(L$4/100))),0))) -> 51143 | M31: =IF(($F31="0"),$F31,(ROUNDDOWN((L31*(1+(M$4/100))),0))) -> 51501 | N31: =IF(($F31="0"),$F31,(ROUNDDOWN((M31*(1+(N$4/100))),0))) -> 51779 | O31: =IF(($F31="0"),$F31,(ROUNDDOWN((N31*(1+(O$4/100))),0))) -> 51908 | ... U31: =IF(($F31="0"),$F31,(ROUNDDOWN((T31*(1+(U$4/100))),0))) -> 54133 | V31: =U31-G31 -> 4524 | W31: =V31/G31 -> 0.09119313
A32: BIENES NO CONSUMIBLES | B32: BOTIQUIN TIPO A | C32: Botiquín tipo A - fijo botiquín de primeros auxilios fabricado en lámina. Fijo con dos entrepaños y cavidad para variedad de frascos. Puerta de vidrio enmarcada con cerradura. Terminado en pintura electrostática, el cual debe contener todos los elementos mencionados en la resolución 0705 DE 2007. | D32: Desgaste y uso mensual por unidad | E32: I2023008278 | F32: =IFERROR((VLOOKUP(E32,'MEMORANDOS E IPC 2023 Y 2024'!$A$1:$C$20,3,0)),"0") -> 45002 | G32: 159628 | H32: =G32 -> 159628 | I32: =IF(($F32="0"),$F32,(ROUNDDOWN((H32*(1+(I$4/100))),0))) -> 160873 | J32: =IF(($F32="0"),$F32,(ROUNDDOWN((I32*(1+(J$4/100))),0))) -> 161564 | K32: =IF(($F32="0"),$F32,(ROUNDDOWN((J32*(1+(K$4/100))),0))) -> 162048 | L32: =IF(($F32="0"),$F32,(ROUNDDOWN((K32*(1+(L$4/100))),0))) -> 162858 | M32: =IF(($F32="0"),$F32,(ROUNDDOWN((L32*(1+(M$4/100))),0))) -> 163998 | N32: =IF(($F32="0"),$F32,(ROUNDDOWN((M32*(1+(N$4/100))),0))) -> 164883 | O32: =IF(($F32="0"),$F32,(ROUNDDOWN((N32*(1+(O$4/100))),0))) -> 165295 | P32: =IF(($F32="0"),$F32,(ROUNDDOWN((O32*(1+(P$4/100))),0))) -> 166071 | ... U32: =IF(($F32="0"),$F32,(ROUNDDOWN((T32*(1+(U$4/100))),0))) -> 172389 | V32: =U32-G32 -> 12761 | W32: =V32/G32 -> 0.079942115
A33: BIENES NO CONSUMIBLES | B33: BOTIQUIN TIPO A - PORTATIL | C33: MALETÍN ELABORADO EN LONA COLOR ROJO, TOTALMENTE IMPERMEABLE ABULLONADO Y FORRADO CON EL LOGO DE CRUZ Y LEYENDA INFORMATIVA “BOTIQUIN PRIMEROS AUXILIOS”, MEDIDAS APROXIMADAS DEL MALETIN 40 X 30 X 15 CM, CORREA Y CREMALLERA .1 COMPARTIMIENTOS + 4 BOLSILLOS INTERNOS. ESTE BOTIQUÍN DEBE CONTENER CADA UNO DE LOS ELEMENTOS ESTABLECIDOS POR LA RESOLUCION 705 DE 2007 EXPEDIDO POR LA SECRETARÍA DISTRITAL DE SALUD: GASA ESTÉRIL: *GASA DE 3" X 3" 10 SOBRES CON 2 UNIDADES CADA UNO. *ESPARADRAPO DE TELA: 1 ROLLO DE 4" X 5 YD *BAJA LENGUAS EN MADERA: 1 PAQUETE X 20 UNIDADES *GUANTES E LÁTEX: 1 CAJA X 100 UNIDADES *VENDA ELÁSTICA: 1 UNIDAD DE 2" X 5 YD *VENDA ELÁSTICA: 1 UNIDAD DE 3" X 5 YD *VENDA ELÁSTICA: 1 UNIDAD DE 5" X 5 YD *VENDA DE ALGODÓN LAMINADO: 1 UNIDAD DE 3” X 5 YD *VENDA DE ALGODÓN LAMINADO: 1 UNIDAD DE 5” X 5 YD *YODOPOVIDONA (JABÓN QUIRÚRGICO): 1 FRASCO X 120 ML *SUERO FISIOLÓGICO: 5 BOLSAS X 100 ML O 2 BOLSAS X 250 ML *TERMÓMETRO CLÍNICO DIGITAL (ORAL): 1 NIDAD *ALCOHOL ANTISÉPTICO: 1 FRASCO X 350 ML NOTA: FECHAS DE VENCIMIENTO MÍNIMO 18 MESES | D33: Desgaste y uso mensual por unidad | E33: I2023024745 | F33: =IFERROR((VLOOKUP(E33,'MEMORANDOS E IPC 2023 Y 2024'!$A$1:$C$20,3,0)),"0") -> 45161 | G33: 111050 | H33: =G33 -> 111050 | I33: =H33 -> 111050 | J33: =I33 -> 111050 | K33: =J33 -> 111050 | L33: =K33 -> 111050 | M33: =L33 -> 111050 | N33: =IF(($F33="0"),$F33,(ROUNDDOWN((M33*(1+(N$4/100))),0))) -> 111649 | O33: =IF(($F33="0"),$F33,(ROUNDDOWN((N33*(1+(O$4/100))),0))) -> 111928 | P33: =IF(($F33="0"),$F33,(ROUNDDOWN((O33*(1+(P$4/100))),0))) -> 112454 | Q33: =IF(($F33="0"),$F33,(ROUNDDOWN((P33*(1+(Q$4/100))),0))) -> 112960 | R33: =IF(($F33="0"),$F33,(ROUNDDOWN((Q33*(1+(R$4/100))),0))) -> 113999 | S33: =IF(($F33="0"),$F33,(ROUNDDOWN((R33*(1+(S$4/100))),0))) -> 115241 | T33: =IF(($F33="0"),$F33,(ROUNDDOWN((S33*(1+(T$4/100))),0))) -> 116047 | U33: =IF(($F33="0"),$F33,(ROUNDDOWN((T33*(1+(U$4/100))),0))) -> 116731 | V33: =U33-G33 -> 5681 | W33: =V33/G33 -> 0.051157136
A34: BIENES NO CONSUMIBLES | B34: BOTIQUÍN TIPO B | C34: (1) Botiquín tipo B de fácil traslado, teniendo en cuenta lo establecido en la Resolución 705 de 2007 de la Secretaría Distrital de Salud (Anexo tecnico Componentes ambientes adecuados y seguros Tabla 15. Relación de elementos Botiquín tipo B) | D34: Desgaste y uso mensual por unidad | E34: I2023004856 | F34: =IFERROR((VLOOKUP(E34,'MEMORANDOS E IPC 2023 Y 2024'!$A$1:$C$20,3,0)),"0") -> 44974 | G34: 571791 | H34: =IF(($F34="0"),$F34,(ROUNDDOWN((G34*(1+(H$4/100))),0))) -> 577794 | I34: =IF(($F34="0"),$F34,(ROUNDDOWN((H34*(1+(I$4/100))),0))) -> 582300 | J34: =IF(($F34="0"),$F34,(ROUNDDOWN((I34*(1+(J$4/100))),0))) -> 584803 | K34: =IF(($F34="0"),$F34,(ROUNDDOWN((J34*(1+(K$4/100))),0))) -> 586557 | L34: =IF(($F34="0"),$F34,(ROUNDDOWN((K34*(1+(L$4/100))),0))) -> 589489 | M34: =IF(($F34="0"),$F34,(ROUNDDOWN((L34*(1+(M$4/100))),0))) -> 593615 | N34: =IF(($F34="0"),$F34,(ROUNDDOWN((M34*(1+(N$4/100))),0))) -> 596820 | O34: =IF(($F34="0"),$F34,(ROUNDDOWN((N34*(1+(O$4/100))),0))) -> 598312 | ... U34: =IF(($F34="0"),$F34,(ROUNDDOWN((T34*(1+(U$4/100))),0))) -> 623997 | V34: =U34-G34 -> 52206 | W34: =V34/G34 -> 0.091302591
A35: BIENES NO CONSUMIBLES | B35: CABINA DE SONIDO | C35: torre de sonido con entrada de audio analógico aux, lector usb – bluetooth – fm – sd, reproductor de música mp3 y mp4, control remoto, potencia de salida 200 w, energía 110v/60hz, 3 canales de potencia y altura aproximada de 56 cm. batería recargable y micrófono incluido. | D35: Desgaste y uso mensual por unidad | E35: I2024004413 | F35: =IFERROR((VLOOKUP(E35,'MEMORANDOS E IPC 2023 Y 2024'!$A$1:$C$20,3,0)),"0") -> 0 | G35: 943857 | H35: =IF(($F35="0"),$G35,(ROUNDDOWN((G35*(1+(H$4/100))),0))) -> 943857 | I35: =IF(($F35="0"),$G35,(ROUNDDOWN((H35*(1+(I$4/100))),0))) -> 943857 | J35: =IF(($F35="0"),$G35,(ROUNDDOWN((I35*(1+(J$4/100))),0))) -> 943857 | K35: =IF(($F35="0"),$G35,(ROUNDDOWN((J35*(1+(K$4/100))),0))) -> 943857 | L35: =IF(($F35="0"),$G35,(ROUNDDOWN((K35*(1+(L$4/100))),0))) -> 943857 | M35: =IF(($F35="0"),$G35,(ROUNDDOWN((L35*(1+(M$4/100))),0))) -> 943857 | N35: =IF(($F35="0"),$G35,(ROUNDDOWN((M35*(1+(N$4/100))),0))) -> 943857 | O35: =IF(($F35="0"),$G35,(ROUNDDOWN((N35*(1+(O$4/100))),0))) -> 943857 | ... U35: =IF(($F35="0"),$G35,(ROUNDDOWN((T35*(1+(U$4/100))),0))) -> 943857 | V35: =U35-G35 -> 0 | W35: =V35/G35 -> 0
A36: BIENES NO CONSUMIBLES | B36: CALDERO | C36: Caldero hondo de aluminio de alta pureza, fundido con capacidad de 75 litros extrafuerte con tapa. Dimensiones: Alto 53,5 cm y diámetro 54 cm. Color: Gris | D36: Desgaste y uso mensual por unidad | E36: I2023031084 | F36: =IFERROR((VLOOKUP(E36,'MEMORANDOS E IPC 2023 Y 2024'!$A$1:$C$20,3,0)),"0") -> 45210 | G36: 168130 | H36: =G36 -> 168130 | I36: =H36 -> 168130 | J36: =I36 -> 168130 | K36: =J36 -> 168130 | L36: =K36 -> 168130 | M36: =L36 -> 168130 | N36: =M36 -> 168130 | O36: =N36 -> 168130 | P36: =IF(($F36="0"),$F36,(ROUNDDOWN((O36*(1+(P$4/100))),0))) -> 168920 | Q36: =IF(($F36="0"),$F36,(ROUNDDOWN((P36*(1+(Q$4/100))),0))) -> 169680 | R36: =IF(($F36="0"),$F36,(ROUNDDOWN((Q36*(1+(R$4/100))),0))) -> 171241 | S36: =IF(($F36="0"),$F36,(ROUNDDOWN((R36*(1+(S$4/100))),0))) -> 173107 | T36: =IF(($F36="0"),$F36,(ROUNDDOWN((S36*(1+(T$4/100))),0))) -> 174318 | U36: =IF(($F36="0"),$F36,(ROUNDDOWN((T36*(1+(U$4/100))),0))) -> 175346 | V36: =U36-G36 -> 7216 | W36: =V36/G36 -> 0.04291917
A37: BIENES NO CONSUMIBLES | B37: CAMAROTE | C37: Camarote sencillo en tubo metálico redondo de 2” calibre 18. Largueros en ángulo de hierro perfil en L de 1 ½” x 3/16”. Escalera fija en el piecero. Soldadura MIG. Tablado en madera cepillada firmemente unidos por listones de 3cm x 1cm x 190cm. Acabados en pintura electrostática. imensiones: alto 140cm x ancho 100cm x largo 190 cm. | D37: Desgaste y uso mensual por unidad | E37: I2023031801 | F37: =IFERROR((VLOOKUP(E37,'MEMORANDOS E IPC 2023 Y 2024'!$A$1:$C$20,3,0)),"0") -> 45212 | G37: 1309250 | H37: =G37 -> 1309250 | I37: =H37 -> 1309250 | J37: =I37 -> 1309250 | K37: =J37 -> 1309250 | L37: =K37 -> 1309250 | M37: =L37 -> 1309250 | N37: =M37 -> 1309250 | O37: =N37 -> 1309250 | P37: =IF(($F37="0"),$F37,(ROUNDDOWN((O37*(1+(P$4/100))),0))) -> 1315403 | Q37: =IF(($F37="0"),$F37,(ROUNDDOWN((P37*(1+(Q$4/100))),0))) -> 1321322 | R37: =IF(($F37="0"),$F37,(ROUNDDOWN((Q37*(1+(R$4/100))),0))) -> 1333478 | S37: =IF(($F37="0"),$F37,(ROUNDDOWN((R37*(1+(S$4/100))),0))) -> 1348012 | T37: =IF(($F37="0"),$F37,(ROUNDDOWN((S37*(1+(T$4/100))),0))) -> 1357448 | U37: =IF(($F37="0"),$F37,(ROUNDDOWN((T37*(1+(U$4/100))),0))) -> 1365456 | V37: =U37-G37 -> 56206 | W37: =V37/G37 -> 0.042929922
A38: BIENES NO CONSUMIBLES | B38: CAMILLA FIJA ADULTO | C38: Camilla fija sencilla, Fabricado en tubo cuadrado de 1 1/4" Cold Rolled Cal. 18, Tapizado en cordobán lavable y espuma de 5cm color Negro, con refuerzo en tablex de alta resistencia, Refuerzo en tubo redondo de 7/8" cold rolled Cal 18, 4 tapones plásticos de 1 ¼ externos, Dimensiones: argo 1.80 m, Ancho 0.55 m, Altura 0.80 m, Capacidad de carga: 120kg - 150kg, Terminado en pintura electrostática color Blanco. | D38: Desgaste y uso mensual por unidad | E38: I2023031433 | F38: =IFERROR((VLOOKUP(E38,'MEMORANDOS E IPC 2023 Y 2024'!$A$1:$C$20,3,0)),"0") -> 45212 | G38: 378340 | H38: =G38 -> 378340 | I38: =H38 -> 378340 | J38: =I38 -> 378340 | K38: =J38 -> 378340 | L38: =K38 -> 378340 | M38: =L38 -> 378340 | N38: =M38 -> 378340 | O38: =N38 -> 378340 | P38: =IF(($F38="0"),$F38,(ROUNDDOWN((O38*(1+(P$4/100))),0))) -> 380118 | Q38: =IF(($F38="0"),$F38,(ROUNDDOWN((P38*(1+(Q$4/100))),0))) -> 381828 | R38: =IF(($F38="0"),$F38,(ROUNDDOWN((Q38*(1+(R$4/100))),0))) -> 385340 | S38: =IF(($F38="0"),$F38,(ROUNDDOWN((R38*(1+(S$4/100))),0))) -> 389540 | T38: =IF(($F38="0"),$F38,(ROUNDDOWN((S38*(1+(T$4/100))),0))) -> 392266 | U38: =IF(($F38="0"),$F38,(ROUNDDOWN((T38*(1+(U$4/100))),0))) -> 394580 | V38: =U38-G38 -> 16240 | W38: =V38/G38 -> 0.042924354
A39: BIENES NO CONSUMIBLES | B39: CAMINADOR ADULTO/A | C39: Caminador plegable: con función de paso a paso y fijo, estructura liviana en aluminio cromado, regatones de goma antideslizantes y manillares de espuma ergonómicos, ajustable y plegable para facilitar su almacenamiento, cuenta con sistema de activación reciproco mediante la presión de un pin y agarraderas de espuma, plegable con doble soporte frontal, en aluminio, plegable con un solo botón, con asas acolchadas y puntales de goma antideslizante, estructura de 4 patas construido en aluminio anodizado, regulable en altura cada 2,5 cm desde los 82 a los 92 cm, peso máximo soportado 100 kg, color plateado. | D39: Desgaste y uso mensual por unidad | E39: I2023031433 | F39: =IFERROR((VLOOKUP(E39,'MEMORANDOS E IPC 2023 Y 2024'!$A$1:$C$20,3,0)),"0") -> 45212 | G39: 171325 | H39: =G39 -> 171325 | I39: =H39 -> 171325 | J39: =I39 -> 171325 | K39: =J39 -> 171325 | L39: =K39 -> 171325 | M39: =L39 -> 171325 | N39: =M39 -> 171325 | O39: =N39 -> 171325 | P39: =IF(($F39="0"),$F39,(ROUNDDOWN((O39*(1+(P$4/100))),0))) -> 172130 | Q39: =IF(($F39="0"),$F39,(ROUNDDOWN((P39*(1+(Q$4/100))),0))) -> 172904 | R39: =IF(($F39="0"),$F39,(ROUNDDOWN((Q39*(1+(R$4/100))),0))) -> 174494 | S39: =IF(($F39="0"),$F39,(ROUNDDOWN((R39*(1+(S$4/100))),0))) -> 176395 | T39: =IF(($F39="0"),$F39,(ROUNDDOWN((S39*(1+(T$4/100))),0))) -> 177629 | U39: =IF(($F39="0"),$F39,(ROUNDDOWN((T39*(1+(U$4/100))),0))) -> 178677 | V39: =U39-G39 -> 7352 | W39: =V39/G39 -> 0.042912593
A40: BIENES NO CONSUMIBLES | B40: CANASTILLAS | C40: Canastillas plásticas para frutas y verduras, de 50 / 55 cms de largo x 30 /38 cm de ancho. | D40: Desgaste y uso mensual por unidad | E40: I2023004856 | F40: =IFERROR((VLOOKUP(E40,'MEMORANDOS E IPC 2023 Y 2024'!$A$1:$C$20,3,0)),"0") -> 44974 | G40: 35207 | H40: =IF(($F40="0"),$F40,(ROUNDDOWN((G40*(1+(H$4/100))),0))) -> 35576 | I40: =IF(($F40="0"),$F40,(ROUNDDOWN((H40*(1+(I$4/100))),0))) -> 35853 | J40: =IF(($F40="0"),$F40,(ROUNDDOWN((I40*(1+(J$4/100))),0))) -> 36007 | K40: =IF(($F40="0"),$F40,(ROUNDDOWN((J40*(1+(K$4/100))),0))) -> 36115 | L40: =IF(($F40="0"),$F40,(ROUNDDOWN((K40*(1+(L$4/100))),0))) -> 36295 | M40: =IF(($F40="0"),$F40,(ROUNDDOWN((L40*(1+(M$4/100))),0))) -> 36549 | N40: =IF(($F40="0"),$F40,(ROUNDDOWN((M40*(1+(N$4/100))),0))) -> 36746 | O40: =IF(($F40="0"),$F40,(ROUNDDOWN((N40*(1+(O$4/100))),0))) -> 36837 | ... U40: =IF(($F40="0"),$F40,(ROUNDDOWN((T40*(1+(U$4/100))),0))) -> 38416 | V40: =U40-G40 -> 3209 | W40: =V40/G40 -> 0.091146647
...

Sheet Est. de costos Lote 1 cupos 130
B1: ESTRUCTURA DE COSTOS | P1: In IPC TH | Q1: 0.0704
B2: 7948 Desarrollo del abordaje integral del fenómeno de habitabilidad en calle para contribuir a la reducción de las formas extremas de exclusión en Bogotá D.C. | P2: Proy IPC SDIS | Q2: 0.03
B3: SERVICIO DE ATENCIÓN COMUNIDAD DE VIDA PARA PERSONAS HABITANTES DE CALLE
B4: Objeto: Brindar procesos de atención integral orientados a la población habitante de calle de 29 años de edad en adelante, a través de un servicio de comunidad de vida dirigido a la superación de las formas extremas de exclusión asociadas a las dinámicas de vida en la calle. | D4: Objeto: Brindar procesos de atención integral orientados a la población habitante de calle de 29 años de edad en adelante, a través de un servicio de comunidad de vida dirigido a la superación de las formas extremas de exclusión asociadas a las dinámicas de vida en la calle.
B5: PLAZO: 15 MESES
B9: COBERTURA (# DE CUPOS): | C9: 130 | J9: CUPO 130 | O9: TOTAL ESTRUCTURA
B10: PLAZO: | C10: 3 MESES | J10: PLAZ0 12 MESES | O10: PLAZO TOTAL 15 MESES
K11: 0.03
B12: ITEM | C12: CANTIDAD | D12: FORMULA | E12: VALOR UNITARIO MES 2024 | F12: VALOR MENSUAL 2024 | G12: PERIODO MESES 30 DIAS (CF) DIAS CALENDARIO (CV) | H12: VALOR VIGENCIA 1 DE OCTUBRE DE 2024 AL 31 DE DICIEMBRE DE 2024 | J12: VALOR UNITARIO MES 2025 | K12: VALOR MENSUAL 2025 | L12: PERIODO MESES 30 DIAS (CF) DIAS CALENDARIO (CV) | M12: VIGENCIA 01 ENERO A DICIEBRE 31 DE 2025 | O12: VIGENCIA 2024 | P12: VIGENCIA FUTURAS (2025) | Q12: TOTAL
B13: COSTOS FIJOS | J13: COSTOS FIJOS | O13: COSTOS FIJOS
B14: TALENTO HUMANO | C14: =SUM(C15:C33) -> 72 | E14: =SUM(E15:E33) -> 62130707 | F14: =SUM(F15:F33) -> 220835356 | H14: =SUM(H15:H33) -> 662506068 | J14: =SUM(J15:J33) -> 66504713 | K14: =SUM(K15:K33) -> 236382185 | M14: =SUM(M15:M33) -> 2836586220 | O14: =SUM(O15:O33) -> 662506068 | P14: =SUM(P15:P33) -> 2836586220 | Q14: =SUM(Q15:Q33) -> 3499092288
A15: 1 | B15: COORDINADOR/A O RESPONSABLE | C15: =IFERROR(VLOOKUP($B15,'REQUISTO MIN TH'!$A$2:$H$27,7,0),0) -> 1 | D15: Valor mensual x periodo | E15: =IFERROR((VLOOKUP($B15,'1. TABLA COSTOS REC HUMANO'!$B$7:$M$31,3,0)),0) -> 5133210 | F15: =ROUND(E15*$C15,0) -> 5133210 | G15: 3 | H15: =ROUND(F15*G15,0) -> 15399630 | J15: =ROUND(E15*(1+$Q$1),0) -> 5494588 | K15: =ROUND(J15*$C15,0) -> 5494588 | L15: 12 | M15: =ROUND(K15*L15,0) -> 65935056 | O15: =H15 -> 15399630 | P15: =M15 -> 65935056 | Q15: =O15+P15 -> 81334686
A16: 2 | B16: NUTRICIONISTA DIETISTA | C16: =IFERROR(VLOOKUP($B16,'REQUISTO MIN TH'!$A$2:$H$27,7,0),0) -> 2 | D16: Valor mensual x periodo | E16: =IFERROR((VLOOKUP($B16,'1. TABLA COSTOS REC HUMANO'!$B$7:$M$31,3,0)),0) -> 4399725 | F16: =ROUND(E16*$C16,0) -> 8799450 | G16: 3 | H16: =ROUND(F16*G16,0) -> 26398350 | J16: =ROUND(E16*(1+$Q$1),0) -> 4709466 | K16: =ROUND(J16*$C16,0) -> 9418932 | L16: 12 | M16: =ROUND(K16*L16,0) -> 113027184 | O16: =H16 -> 26398350 | P16: =M16 -> 113027184 | Q16: =O16+P16 -> 139425534
A17: 4 | B17: PROFESIONAL EN PEDAGOGÍA REEDUCADOR O LICENCIADO EN PEDAGOGIA | C17: =IFERROR(VLOOKUP($B17,'REQUISTO MIN TH'!$A$2:$H$27,7,0),0) -> 2 | D17: Valor mensual x periodo | E17: =IFERROR((VLOOKUP($B17,'1. TABLA COSTOS REC HUMANO'!$B$7:$M$31,3,0)),0) -> 4399725 | F17: =ROUND(E17*$C17,0) -> 8799450 | G17: 3 | H17: =ROUND(F17*G17,0) -> 26398350 | J17: =ROUND(E17*(1+$Q$1),0) -> 4709466 | K17: =ROUND(J17*$C17,0) -> 9418932 | L17: 12 | M17: =ROUND(K17*L17,0) -> 113027184 | O17: =H17 -> 26398350 | P17: =M17 -> 113027184 | Q17: =O17+P17 -> 139425534
A18: 5 | B18: PROFESIONAL EN PSICOLOGÍA | C18: =IFERROR(VLOOKUP($B18,'REQUISTO MIN TH'!$A$2:$H$27,7,0),0) -> 5 | D18: Valor mensual x periodo | E18: =IFERROR((VLOOKUP($B18,'1. TABLA COSTOS REC HUMANO'!$B$7:$M$31,3,0)),0) -> 4399725 | F18: =ROUND(E18*$C18,0) -> 21998625 | G18: 3 | H18: =ROUND(F18*G18,0) -> 65995875 | J18: =ROUND(E18*(1+$Q$1),0) -> 4709466 | K18: =ROUND(J18*$C18,0) -> 23547330 | L18: 12 | M18: =ROUND(K18*L18,0) -> 282567960 | O18: =H18 -> 65995875 | P18: =M18 -> 282567960 | Q18: =O18+P18 -> 348563835
A19: 6 | B19: TERAPEUTA OCUPACIONAL | C19: =IFERROR(VLOOKUP($B19,'REQUISTO MIN TH'!$A$2:$H$27,7,0),0) -> 5 | D19: Valor mensual x periodo | E19: =IFERROR((VLOOKUP($B19,'1. TABLA COSTOS REC HUMANO'!$B$7:$M$31,3,0)),0) -> 4399725 | F19: =ROUND(E19*$C19,0) -> 21998625 | G19: 3 | H19: =ROUND(F19*G19,0) -> 65995875 | J19: =ROUND(E19*(1+$Q$1),0) -> 4709466 | K19: =ROUND(J19*$C19,0) -> 23547330 | L19: 12 | M19: =ROUND(K19*L19,0) -> 282567960 | O19: =H19 -> 65995875 | P19: =M19 -> 282567960 | Q19: =O19+P19 -> 348563835
A20: 8 | B20: TRABAJADOR (A) SOCIAL | C20: =IFERROR(VLOOKUP($B20,'REQUISTO MIN TH'!$A$2:$H$27,7,0),0) -> 5 | D20: Valor mensual x periodo | E20: =IFERROR((VLOOKUP($B20,'1. TABLA COSTOS REC HUMANO'!$B$7:$M$31,3,0)),0) -> 4399725 | F20: =ROUND(E20*$C20,0) -> 21998625 | G20: 3 | H20: =ROUND(F20*G20,0) -> 65995875 | J20: =ROUND(E20*(1+$Q$1),0) -> 4709466 | K20: =ROUND(J20*$C20,0) -> 23547330 | L20: 12 | M20: =ROUND(K20*L20,0) -> 282567960 | O20: =H20 -> 65995875 | P20: =M20 -> 282567960 | Q20: =O20+P20 -> 348563835
A21: 9 | B21: EDUCADOR FÍSICO | C21: =IFERROR(VLOOKUP($B21,'REQUISTO MIN TH'!$A$2:$H$27,7,0),0) -> 2 | D21: Valor mensual x periodo | E21: =IFERROR((VLOOKUP($B21,'1. TABLA COSTOS REC HUMANO'!$B$7:$M$31,3,0)),0) -> 3666240 | F21: =ROUND(E21*$C21,0) -> 7332480 | G21: 3 | H21: =ROUND(F21*G21,0) -> 21997440 | J21: =ROUND(E21*(1+$Q$1),0) -> 3924343 | K21: =ROUND(J21*$C21,0) -> 7848686 | L21: 12 | M21: =ROUND(K21*L21,0) -> 94184232 | O21: =H21 -> 21997440 | P21: =M21 -> 94184232 | Q21: =O21+P21 -> 116181672
A22: 10 | B22: PROMOTORES (AS) SOCIAL | C22: =IFERROR(VLOOKUP($B22,'REQUISTO MIN TH'!$A$2:$H$27,7,0),0) -> 20 | D22: Valor mensual x periodo | E22: =IFERROR((VLOOKUP($B22,'1. TABLA COSTOS REC HUMANO'!$B$7:$M$31,3,0)),0) -> 2445690 | F22: =ROUND(E22*$C22,0) -> 48913800 | G22: 3 | H22: =ROUND(F22*G22,0) -> 146741400 | J22: =ROUND(E22*(1+$Q$1),0) -> 2617867 | K22: =ROUND(J22*$C22,0) -> 52357340 | L22: 12 | M22: =ROUND(K22*L22,0) -> 628288080 | O22: =H22 -> 146741400 | P22: =M22 -> 628288080 | Q22: =O22+P22 -> 775029480
A23: 3 | B23: TECNICO OPERATIVO | C23: =IFERROR(VLOOKUP($B23,'REQUISTO MIN TH'!$A$2:$H$27,7,0),0) -> 1 | D23: Valor mensual x periodo | E23: =IFERROR((VLOOKUP($B23,'1. TABLA COSTOS REC HUMANO'!$B$7:$M$31,3,0)),0) -> 2885920 | F23: =ROUND(E23*$C23,0) -> 2885920 | G23: 3 | H23: =ROUND(F23*G23,0) -> 8657760 | J23: =ROUND(E23*(1+$Q$1),0) -> 3089089 | K23: =ROUND(J23*$C23,0) -> 3089089 | L23: 12 | M23: =ROUND(K23*L23,0) -> 37069068 | O23: =H23 -> 8657760 | P23: =M23 -> 37069068 | Q23: =O23+P23 -> 45726828
A24: 11 | B24: TÉCNICO ADMINISTRATIVO | C24: =IFERROR(VLOOKUP($B24,'REQUISTO MIN TH'!$A$2:$H$27,7,0),0) -> 1 | D24: Valor mensual x periodo | E24: =IFERROR((VLOOKUP($B24,'1. TABLA COSTOS REC HUMANO'!$B$7:$M$31,3,0)),0) -> 2885920 | F24: =ROUND(E24*$C24,0) -> 2885920 | G24: 3 | H24: =ROUND(F24*G24,0) -> 8657760 | J24: =ROUND(E24*(1+$Q$1),0) -> 3089089 | K24: =ROUND(J24*$C24,0) -> 3089089 | L24: 12 | M24: =ROUND(K24*L24,0) -> 37069068 | O24: =H24 -> 8657760 | P24: =M24 -> 37069068 | Q24: =O24+P24 -> 45726828
A25: 12 | B25: TÉCNICO(A) O TECNÓLOGO(A) AMBIENTAL | C25: =IFERROR(VLOOKUP($B25,'REQUISTO MIN TH'!$A$2:$H$27,7,0),0) -> 1 | D25: Valor mensual x periodo | E25: =IFERROR((VLOOKUP($B25,'1. TABLA COSTOS REC HUMANO'!$B$7:$M$31,3,0)),0) -> 2885920 | F25: =ROUND(E25*$C25,0) -> 2885920 | G25: 3 | H25: =ROUND(F25*G25,0) -> 8657760 | J25: =ROUND(E25*(1+$Q$1),0) -> 3089089 | K25: =ROUND(J25*$C25,0) -> 3089089 | L25: 12 | M25: =ROUND(K25*L25,0) -> 37069068 | O25: =H25 -> 8657760 | P25: =M25 -> 37069068 | Q25: =O25+P25 -> 45726828
A26: 13 | B26: TÉCNICO(A) O TECNÓLOGO(A) EN ALIMENTOS | C26: =IFERROR(VLOOKUP($B26,'REQUISTO MIN TH'!$A$2:$H$27,7,0),0) -> 1 | D26: Valor mensual x periodo | E26: =IFERROR((VLOOKUP($B26,'1. TABLA COSTOS REC HUMANO'!$B$7:$M$31,3,0)),0) -> 2885920 | F26: =ROUND(E26*$C26,0) -> 2885920 | G26: 3 | H26: =ROUND(F26*G26,0) -> 8657760 | J26: =ROUND(E26*(1+$Q$1),0) -> 3089089 | K26: =ROUND(J26*$C26,0) -> 3089089 | L26: 12 | M26: =ROUND(K26*L26,0) -> 37069068 | O26: =H26 -> 8657760 | P26: =M26 -> 37069068 | Q26: =O26+P26 -> 45726828
... A33: 19 | B33: SERVICIOS GENERALES | C33: =IFERROR(VLOOKUP($B33,'REQUISTO MIN TH'!$A$2:$H$27,7,0),0) -> 6 | D33: Valor mensual x periodo | E33: =IFERROR((VLOOKUP($B33,'1. TABLA COSTOS REC HUMANO'!$B$7:$M$31,3,0)),0) -> 2281433 | F33: =ROUND(E33*$C33,0) -> 13688598 | G33: 3 | H33: =ROUND(F33*G33,0) -> 41065794 | J33: =ROUND(E33*(1+$Q$1),0) -> 2442046 | K33: =ROUND(J33*$C33,0) -> 14652276 | L33: 12 | M33: =ROUND(K33*L33,0) -> 175827312 | O33: =H33 -> 41065794 | P33: =M33 -> 175827312 | Q33: =O33+P33 -> 216893106
B34: DOTACION DE TALENTO HUMANO | C34: 1 | D34: Valor mensual x periodo | E34: ='2. DOTACION PARA TALENTO HUMANO'!O19 -> 4126120 | F34: =ROUND(E34*$C34,0) -> 4126120 | G34: 3 | H34: =ROUND(F34*G34,0) -> 12378360 | J34: =ROUND(E34*(1+$Q$2),0) -> 4249904 | K34: =ROUND(J34*$C34,0) -> 4249904 | L34: 12 | M34: =ROUND(K34*L34,0) -> 50998848 | O34: =H34 -> 12378360 | P34: =M34 -> 50998848 | Q34: =O34+P34 -> 63377208
