Workbook

Sheet CONSOLIDADO HABILITADOS 
A1: CONSOLIDADO TÉCNICO | B1: 2. U COPERATIVA DE COLOMBIA | D1: 3. CONSORCIO BI COLOMBIA | F1: 4. UMERANI | H1: 5. CIDOR | J1: 6. UT SUPERSALUD POLCOLAN | L1: 7. U EAN | N1: 8. U CHICAMOCHA | P1: 9. U POLITECNICO | R1: 10. U SANTIAGO DE CALI | T1: 11. ESUMER | V1: 12. REMINGTON | X1: 13. U COMPENSAR | Z1: 14. CUN | AB1: 15. UT PIC 2024 | AD1: 16. SOCOLDES
B4: ESTADO | C4: OBSERVACIÓN | D4: ESTADO | E4: OBSERVACIÓN | F4: ESTADO | G4: OBSERVACIÓN | H4: ESTADO | I4: OBSERVACIÓN | J4: ESTADO | K4: OBSERVACIÓN | L4: ESTADO | M4: OBSERVACIÓN | N4: ESTADO | O4: OBSERVACIÓN | P4: ESTADO | Q4: OBSERVACIÓN | R4: ESTADO | S4: OBSERVACIÓN | T4: ESTADO | U4: OBSERVACIÓN | V4: ESTADO | W4: OBSERVACIÓN | X4: ESTADO | Y4: OBSERVACIÓN | Z4: ESTADO | AA4: OBSERVACIÓN | AB4: ESTADO | AC4: OBSERVACIÓN | AD4: ESTADO | AE4: OBSERVACIÓN
A5: EXPERIENCIA DEL PROPONENTE | B5: =+'2. COOPERATIVA'!BG21 -> NO CUMPLE | C5: NO HABILITADO | D5: =+'3. CONSORCIO BI'!BG23 -> SI CUMPLE | E5: HABILITADO | F5: =+'4. UMERANI'!BG20 -> SI CUMPLE | G5: HABILITADO | H5: =+'5. CIDOR'!BG22 -> NO CUMPLE | I5: NO HABILITADO | J5: =+'6. UT POLCOLAN'!BJ23 -> NO CUMPLE | K5: NO HABILITADO | L5: =+'7. EAN'!BG21 -> NO CUMPLE | M5: NO HABILITADO | N5: =+'8. CHICAMOCHA'!BG21 -> NO CUMPLE | O5: NO HABILITADO | P5: =+'9. POLITECNICO'!BG21 -> NO CUMPLE | Q5: NO HABILITADO | R5: =+'10. SANTIAGO CALI'!BG21 -> NO CUMPLE | S5: NO HABILITADO | T5: =+'11. ESUMER'!BG20 -> NO CUMPLE | U5: NO HABILITADO | V5: =+'12. REMINGTON'!BG20 -> NO CUMPLE | W5: NO HABILITADO | X5: =+'13. COMPENSAR'!BG19 -> SI CUMPLE | Y5: NO HABILITADO | Z5: =+'14. CUN'!BG21 -> NO CUMPLE | AA5: NO HABILITADO | AB5: =+'15. UTP PIC'!BJ22 -> NO CUMPLE | AC5: NO HABILITADO | AD5: =+'16. SOCOLDES'!BG19 -> NO CUMPLE | AE5: NO HABILITADO
A6: PERSONAL MÍMIMO REQUERIDO | B6: =+'2. COOPERATIVA'!BO31 -> NO CUMPLE | D6: =+'3. CONSORCIO BI'!BO37 -> SI CUMPLE | F6: =+'4. UMERANI'!BO28 -> SI CUMPLE | H6: =+'5. CIDOR'!BO29 -> SI CUMPLE | J6: =+'6. UT POLCOLAN'!BO41 -> SI CUMPLE | L6: =+'7. EAN'!BO39 -> NO CUMPLE | N6: =+'8. CHICAMOCHA'!BO28 -> NO CUMPLE | P6: =+'9. POLITECNICO'!BO30 -> SI CUMPLE | R6: =+'10. SANTIAGO CALI'!BO28 -> SI CUMPLE | T6: =+'11. ESUMER'!BL38 -> NO CUMPLE | V6: =+'12. REMINGTON'!BL28 -> NO CUMPLE | X6: =+'13. COMPENSAR'!BL27 -> NO CUMPLE | Z6: =+'14. CUN'!BL31 -> NO CUMPLE | AB6: =+'15. UTP PIC'!BO30 -> SI CUMPLE | AD6: =+'16. SOCOLDES'!BO29 -> NO CUMPLE
A7: SEDE | B7: =+'2. COOPERATIVA'!AE43 -> SI CUMPLE | D7: =+'3. CONSORCIO BI'!AE45 -> SI CUMPLE | F7: =+'4. UMERANI'!AE39 -> SI CUMPLE | H7: =+'5. CIDOR'!AE36 -> SI CUMPLE | J7: =+'6. UT POLCOLAN'!AE49 -> SI CUMPLE | L7: =+'7. EAN'!AE46 -> SI CUMPLE | N7: =+'8. CHICAMOCHA'!AE35 -> SI CUMPLE | P7: =+'9. POLITECNICO'!AE37 -> SI CUMPLE | R7: =+'10. SANTIAGO CALI'!AE35 -> NO CUMPLE | T7: =+'11. ESUMER'!AE46 -> NO CUMPLE | V7: =+'12. REMINGTON'!AE35 -> SI CUMPLE | X7: =+'13. COMPENSAR'!AE34 -> SI CUMPLE | Z7: =+'14. CUN'!AE38 -> NO CUMPLE | AB7: =+'15. UTP PIC'!AE34 -> NO CUMPLE | AD7: =+'16. SOCOLDES'!AE36 -> NO CUMPLE
A8: PROPUESTA TÉCNICA | B8: =+'2. COOPERATIVA'!J50 -> SI CUMPLE | D8: =+'3. CONSORCIO BI'!J52 -> SI CUMPLE | F8: =+'4. UMERANI'!J45 -> SI CUMPLE | H8: =+'5. CIDOR'!J43 -> SI CUMPLE | J8: =+'6. UT POLCOLAN'!J56 -> SI CUMPLE | L8: =+'7. EAN'!J53 -> SI CUMPLE | N8: =+'8. CHICAMOCHA'!J42 -> SI CUMPLE | P8: =+'9. POLITECNICO'!J44 -> SI CUMPLE | R8: =+'10. SANTIAGO CALI'!J42 -> SI CUMPLE | T8: =+'11. ESUMER'!J53 -> SI CUMPLE | V8: =+'12. REMINGTON'!J42 -> SI CUMPLE | X8: =+'13. COMPENSAR'!J41 -> SI CUMPLE | Z8: =+'14. CUN'!J45 -> SI CUMPLE | AB8: =+'15. UTP PIC'!J41 -> SI CUMPLE | AD8: =+'16. SOCOLDES'!J43 -> SI CUMPLE
A13: Nota.
A15: La presente evaluación se suscribe por el comité técnico designado por el ordenador del gasto
A27: Lorena Velasquez Grajales | C27: Camila Andrea Jaime de la Rosa
A28: Directora Talento Humano | C28: Coordinadora Grupo Desarrollo
A35: Yina Pattricia Mejia Rodriguez | C35: Alejandro Bojaca Barreto
A36: Profesional Especializado | C36: Profesional Especializado

Sheet GRUPO 1
A2: OBJETO | C2: Prestar los servicios de formación y capacitación a los funcionarios de la Superintendencia Nacional de Salud para fortalecer sus competencias, de acuerdo con lo identificado en el Plan Institucional de Capacitación para la vigencia 2024.
A3: GRUPO 1 | C3: Capacitaciones que son de carácter normativo:
A4: TEMATICAS | C4: 1. Actualización en Seguridad Social en salud. | L4: 4. Normatividad sobre gestores farmacéuticos. | W4: 7. Diplomado auditoria forense.
C5: 2. Gestión Financiera en el sector público. | L5: 5. Actualización normativa cobros persuasivos y coactivos. | W5: 8. Sistema Obligatorio de Garantía de la Calidad en Salud.
C6: 3. Actualización Normativa en la función Pública. | L6: 6. Derecho fundamental al debido proceso. | W6: 9. Manejo de recursos en el sector salud.
A8: NOMBRE DEL PROPONENTE
A9: NOMBRE DEL REPRESENTANTE LEGAL
A10: NIT
A11: MIPYME | G11: NO
A12: PRESUPUESTO OFICIAL | G12: 226.89
A14: 4.3.1. EXPERIENCIA DEL PROPONENTE
A16: E X P E R I E N C I A
A17: NUMERO CONTRATO | D17: CODIGO UNSPC | G17: ENTIDAD CONTRATANTE | Q17: FECHA INICIO | T17: FECHA FIN | W17: OBJETO CONTRACTUAL ("Prestar los servicios de formación y/o capacitación en cualquiera de las tematicas del grupo 1.") | AI17: CAPACITACION RELACIONADA | AL17: APORTA CERTIFICACION | AO17: EJECUTADA EN CONSORCIO O UNION TEMPORAL | AR17: PORCENTAJE DE PARTICIPACION | AU17: VALOR DEL CONTRATO (ser igual o superior a 226,89 SMMLV) | AX17: FOLIO INSCRIPCIÓN DEL CONTRATO EN EL RUP | BA17: RUP VIGENTE Y EN FIRME | BD17: FORMATO RELACIONES DE CERTIFICACIONES SI/ NO | BG17: CUMPLE SI/ NO | BJ17: OBSERVACIONES
D18: 80111500 86101600 86101700 86101800 86111500 86111600 86132000 86141500 86141700 | AU18: 0 | BG18: =+IF(AU21>=G12,"SI CUMPLE","NO CUMPLE") -> NO CUMPLE
D19: 80111500 86101600 86101700 86101800 86111500 86111600 86132000 86141500 86141700 | AU19: 0
D20: 80111500 86101600 86101700 86101800 86111500 86111600 86132000 86141500 86141700 | AU20: 0
AR21: SUMATORIA | AU21: =SUM(AU18:AW20) -> 0
A23: 4.3.2. PERSONAL MÍNIMO REQUERIDO:
A25: P E R S O N A L M I N I M O R E Q U R I D O .
A26: NOMBRES Y APELLIDOS | G26: HOJA DE VIDA SI /NO | J26: CEDULA CIUDADANIA | M26: TITULO PROFESIONAL | Q26: FECHA GRADO | T26: Copia de la Tarjeta o matricula profesional vigente | Y26: Certificado de vigencia de la tarjeta profesional | AD26: APORTA TITULO PROFESIONAL | AI26: NOMBRE O RAZON SOCIAL DEL CONTRATANTE | AN26: CERTIFICADO CUMPLE (cargo y/o rol específico y/o objeto, funciones y/o obligaciones y/o actividades desempeñadas relacionadas con el perfil, y el tiempo laborado y/o de ejecución | AS26: CERTIFICA MISMO PROPONENTE | AV26: APORTA CONTRATO | AY26: APORTA FORMATO EQUIPO DE TRABAJO | BA26: FECHA INICIO | BD26: FECHA FIN | BG26: AÑO | BH26: MES | BI26: DIA | BJ26: TOTAL TIEMPO EXPERIENCIA | BL26: CUMPLE SI/ NO | BO26: OBSERVACIONES
G27: NO | J27: NO | Y27: SI | AD27: SI | BA27: 44927 | BD27: 45366 | BG27: =DATEDIF(BA27,BD27,"Y") -> 1 | BH27: =DATEDIF(BA27,BD27,"YM") -> 2 | BI27: =DATEDIF(BA27,BD27,"MD") -> 14 | BL27: =+IF(BH31>=24,"SI CUMPLE","NO CUMPLE") -> SI CUMPLE
BE31: TOTAL MESES | BH31: 24
A33: 4.3.3. SEDES
A35: S E D E S
A36: SEDE | G36: DOCUMENTO SOPORTE | M36: EXPEDIDO | Q36: FECHA EXPEDICION | U36: ÚBICACIÓN DEL INMUEBLE | Y36: BOGOTA | AB36: CUMPLE | AE36: CUMPLE SI/ NO | AH36: OBSERVACIONES
A37: PROPIA | Y37: SI | AB37: SI | AE37: =+IF(AB37="SI","SI CUMPLE","NO CUMPLE") -> SI CUMPLE
A40: 4.3.4. PROPUESTA TÉCNICA
A42: P R O P U E S T A T E C N I C A
A43: ANEXO TÉCNICO – FICHA DE ESPECIFICACIONES TÉCNICAS MÍNIMAS. | G43: CUMPLE | J43: CUMPLE SI/ NO | M43: OBSERVACIONES
A44: El proponente con la suscripción de la Carta de Presentación manifiesta que ha leído entiende, acepta y cumplirá todos los requerimientos establecidos en el Anexo No. 1 Especificaciones Técnicas Mínimas, para realizar todas las actividades y entregables descritos en el citado documento. | G44: NO | J44: =+IF(G44="SI","SI CUMPLE","NO CUMPLE") -> NO CUMPLE | M44: El proponente aporta FORMATO N° 1 DE CARTA DE PRESENTACION DE LA OFERTA en el cual en el literal D "Manifiesta que he leído entiendo, acepto y cumpliré todos los requerimientos establecidos en el ANEXO 1 - FICHA TÉCNICA, para realizar todas las actividades y entregables descritos en el citado documento"

Sheet 2. COOPERATIVA
A1: CONSOLIDADO
A2: OBJETO | C2: Prestar los servicios de formación y capacitación a los funcionarios de la Superintendencia Nacional de Salud para fortalecer sus competencias, de acuerdo con lo identificado en el Plan Institucional de Capacitación para la vigencia 2024.
A3: GRUPO 1 | C3: Capacitaciones que son de carácter normativo:
A4: TEMATICAS | C4: 1. Actualización en Seguridad Social en salud. | L4: 4. Normatividad sobre gestores farmacéuticos. | W4: 7. Diplomado auditoria forense.
C5: 2. Gestión Financiera en el sector público. | L5: 5. Actualización normativa cobros persuasivos y coactivos. | W5: 8. Sistema Obligatorio de Garantía de la Calidad en Salud.
C6: 3. Actualización Normativa en la función Pública. | L6: 6. Derecho fundamental al debido proceso. | W6: 9. Manejo de recursos en el sector salud.
A8: NOMBRE DEL PROPONENTE | G8: UNIVERSIDAD COOPERATIVA DE COLOMBIA
A9: NOMBRE DEL REPRESENTANTE LEGAL | G9: MARITZA RONDON
A10: NIT | G10: 860.029.924-7
A11: MIPYME | G11: NO APLICA
A12: PRESUPUESTO OFICIAL | G12: 226.89
A14: 4.3.1. EXPERIENCIA DEL PROPONENTE
A16: E X P E R I E N C I A
A17: NUMERO CONTRATO | D17: CODIGO UNSPC | G17: ENTIDAD CONTRATANTE | Q17: FECHA INICIO | T17: FECHA FIN | W17: OBJETO CONTRACTUAL ("Prestar los servicios de formación y/o capacitación en cualquiera de las tematicas del grupo 1.") | AI17: CAPACITACION RELACIONADA | AL17: APORTA CERTIFICACION | AO17: EJECUTADA EN CONSORCIO O UNION TEMPORAL | AR17: PORCENTAJE DE PARTICIPACION | AU17: VALOR DEL CONTRATO (ser igual o superior a 226,89 SMMLV) | AX17: FOLIO INSCRIPCIÓN DEL CONTRATO EN EL RUP | BA17: RUP VIGENTE Y EN FIRME | BD17: FORMATO RELACIONES DE CERTIFICACIONES SI/ NO | BG17: CUMPLE SI/ NO | BJ17: OBSERVACIONES
A18: 209 | D18: 80111500 86101600 86101700 86101800 86111500 86111600 86132000 86141500 86141700 | G18: ASOCIACION COLOMBIANA DE COOPERATIVAS SIGLAS ASCOOP | Q18: 43665 | T18: 43798 | W18: El Contratista, Se Obliga Para Con El Contratante A Ejecutar Un Programa De Formación Continua Especializada, Identificada Para El Personal Vinculado A Las Organizaciones Asociadas A Ascoop, Y Su Cadena Productiva En Los Niveles Alta Dirección, Medio Y Operativo En La Siguiente Acción De Formación: • Diplomado Virtual: Herramientas Pedagógicas Para El Aprovechamiento De Las Tic En El Aula. • Diplomado Virtual: Fortalecimiento De Organizaciones De Economía Social Y Solidaria En Colombia Entorno A Las Tic. • Curso Presencial: Gestión De Proyectos De Impacto Local, Regional Y Nacional Con Énfasis En Los Focos CTE”. | AI18: NO CUMPLE | AL18: SI | AO18: NO | AR18: NO APLICA | AU18: 1031.96 | AX18: 129 | BA18: SI | BD18: SI | BG18: =+IF(AU21>=G12,"SI CUMPLE","NO CUMPLE") -> NO CUMPLE | BJ18: El proponente aportó Certificado de experiencia que NO Cumple con las temáticas del Grupo. SUBSANANCIÓN: Deberá aportar el Certificado de Experiencia y acreditar la experiencia conforme a lo establecido en el pliego de condiciones, numeral 4.3.1 EXPERIENCIA.
A19: 903-2023 | D19: 80111500 86101600 86101700 86101800 86111500 86111600 86132000 86141500 86141700 | G19: SECRETARIA DE SALUD DE CUNDINAMARCA DEPARTAMENTO DE CUNDINAMARCA | Q19: 45152 | T19: 45275 | W19: “Realizar Un Diplomado En Verificación De Condiciones De Habilitación, Como Componente Del Sistema Obligatorio De Garantías De La Calidad En Salud Para Los Funcionarios De La Secretaria De Salud | AI19: SI CUMPLE | AL19: NO | AO19: NO | AR19: NO APLICA | AU19: 81.46 | AX19: 226 | BA19: SI | BD19: SI | BG19: NO CUMPLE | BJ19: El proponente no aportó Certificado de experiencia y por el contrario aportó un contrato con un acta de liquidación de la Secretaría de Salud de Cundinamarca, con la cual NO CUMPLE con el requisito, toda vez que se debe aportar es el Certificado de Experiencia donde se evidencie la información de la Nota 2, del numeral 4.3.1 Experiencia. SUBSANANCIÓN: Deberá aportar el Certificado de Experiencia conforme a lo establecido en el pliego de condiciones, numeral 4.3.1 EXPERIENCIA. NOTA: Así mismo debe tener en cuenta que para el presente caso, se está acreditando la misma experiencia para los dos grupos. Por lo tanto, la suma de las certificaciones aportadas debe ser el valor total de presupuesto oficial en Salarios Mínimos Legales Mensuales Vigentes, es decir 479,60. Lo anterior, en cumplimiento a la NOTA 3: Para acreditar la experiencia el proponente podrá aportar mínimo uno (1) y máximo tres (3) contratos para cada uno de los grupos o lotes, o podrá aportar los mismos para todos los grupos o lotes siempre y cuando cumplan con todas las condiciones establecidas para cada grupo. En la verificación del número de contratos frente al presupuesto oficial, el valor a certificar debe ser con relación al valor del presupuesto oficial del respectivo grupo o lote expresado en SMMLV, si se presenta para los dos grupos, será la sumatoria de los dos grupos a presentarse.
A20: 418 DE 2022 | D20: 80111500 86101600 86101700 86101800 86111500 86111600 86132000 86141500 86141700 | G20: ESCUELA DE FORMACION DEL INPEC | Q20: NO SE EVIDENCIA PORQUE ES UN ACTA DE RECIBO PARCIAL | T20: NO SE EVIDENCIA PORQUE ES UN ACTA DE RECIBO PARCIAL | W20: Contratar La Capacitación Para Los Servidores Públicos Penitenciarios Del INPEC, Mediante La Modalidad De Diplomado, Conforme La Necesidad Presentada En El Plan Institucional De Capacitación Para La Vigencia 2022 | AI20: SI CUMPLE | AL20: NO | AO20: NO | AR20: NO APLICA | AU20: 285 | AX20: 195 | BA20: SI | BD20: SI | BG20: NO CUMPLE | BJ20: El proponente no aportó Certificado de experiencia y por el contrario aportó el contrato con un acta de recibo parcial de la Escuela de Formación del INPEC, con la cual NO CUMPLE con el requisito, toda vez que se debe aportar es el Certificado de Experiencia donde se evidencie la información de la Nota 2, del numeral 4.3.1 Experiencia. Por lo tanto, no se puede tener en cuenta esta experiencia. SUBSANANCIÓN: Deberá aportar el Certificado de Experiencia conforme a lo establecido en el pliego de condiciones, numeral 4.3.1 EXPERIENCIA. NOTA: Así mismo debe tener en cuenta que para el presente caso, se está acreditando la misma experiencia para los dos grupos. Por lo tanto, la suma de las certificaciones aportadas debe ser el valor total de presupuesto oficial en Salarios Mínimos Legales Mensuales Vigentes, es decir 479,60. Lo anterior, en cumplimiento a la NOTA 3: Para acreditar la experiencia el proponente podrá aportar mínimo uno (1) y máximo tres (3) contratos para cada uno de los grupos o lotes, o podrá aportar los mismos para todos los grupos o lotes siempre y cuando cumplan con todas las condiciones establecidas para cada grupo. En la verificación del número de contratos frente al presupuesto oficial, el valor a certificar debe ser con relación al valor del presupuesto oficial del respectivo grupo o lote expresado en SMMLV, si se presenta para los dos grupos, será la sumatoria de los dos grupos a presentarse.
AR21: SUMATORIA | AU21: 0 | BG21: NO CUMPLE
A23: 4.3.2. PERSONAL MÍNIMO REQUERIDO:
A25: P E R S O N A L M I N I M O R E Q U R I D O .
A26: NOMBRES Y APELLIDOS | G26: HOJA DE VIDA SI /NO | J26: CEDULA CIUDADANIA | M26: TITULO PROFESIONAL | Q26: FECHA GRADO | T26: Copia de la Tarjeta o matricula profesional vigente | Y26: Certificado de vigencia de la tarjeta profesional | AD26: APORTA TITULO PROFESIONAL | AI26: NOMBRE O RAZON SOCIAL DEL CONTRATANTE | AN26: CERTIFICADO CUMPLE (cargo y/o rol específico y/o objeto, funciones y/o obligaciones y/o actividades desempeñadas relacionadas con el perfil, y el tiempo laborado y/o de ejecución | AS26: EXPERIENCIA RELACIONADA COMO COORDINADOR | AV26: CERTIFICA MISMO PROPONENTE | AY26: APORTA CONTRATO | BB26: APORTA FORMATO EQUIPO DE TRABAJO | BD26: FECHA INICIO | BG26: FECHA FIN | BJ26: AÑO | BK26: MES | BL26: DIA | BM26: TOTAL TIEMPO EXPERIENCIA | BO26: CUMPLE SI/ NO | BR26: OBSERVACIONES
A27: RUBEN DARIO GIRALDO GOMEZ | G27: SI | J27: SI | M27: Ingeniero Industrial | Q27: 38693 | T27: SI | Y27: NO | AD27: SI | AI27: Universidad Autonóma Latinoamericana | AN27: NO | AS27: NO | AV27: NO | AY27: NO APLICA | BB27: SI | BD27: 43252 | BG27: 43982 | BJ27: =DATEDIF(BD27,BG27,"Y") -> 1 | BK27: =DATEDIF(BD27,BG27,"YM") -> 11 | BL27: =DATEDIF(BD27,BG27,"MD") -> 30 | BO27: =+IF(BH29>=24,"SI CUMPLE","NO CUMPLE") -> NO CUMPLE | BR27: Para el coordinador propuesto: No se aportó el certificado de vigencia de la tarjeta profesional, El certificado de experiencia de Universidad Autónoma Latinoamericana, no tiene funciones, obligaciones o actividades, que puedan permitir verificar experiencia relacionada exigida. SUBSANACIÓN: Deberá aportar: Certificado de vigencia de la tarjeta profesional. Acreditar la experiencia del coordinador de acuerdo con lo establecido en la observación anterior y cumpliendo con 4.3.2 EQUIPO DE TRABAJO MÍNIMO HABILITANTE.
AI28: Universidad Cooperativa de Colombia | AN28: NO | AS28: NO | AV28: SI | AY28: NO | BB28: SI | BD28: 44823 | BG28: 45449 | BJ28: =DATEDIF(BD28,BG28,"Y") -> 1 | BK28: =DATEDIF(BD28,BG28,"YM") -> 8 | BL28: =DATEDIF(BD28,BG28,"MD") -> 18 | BO28: =+IF(BH30>=24,"SI CUMPLE","NO CUMPLE") -> NO CUMPLE | BR28: Para el coordinador propuesto: No se aportó el certificado de vigencia de la tarjeta profesional, El certificado de experiencia de la Universidad Cooperativa de Colombia, no tiene funciones, obligaciones o actividades, que puedan permitir verificar experiencia relacionada exigida. Así mismo, al ser certificado por el mismo proponente deberá adjuntarse adicionalmente copia del respectivo contrato celebrado con el profesional propuesto y/o el contrato del proyecto en el cual el profesional ejecutó su actividad. SUBSANACIÓN: Deberá aportar: Certificado de vigencia de la tarjeta profesional Acreditar la experiencia del coordinador de acuerdo con lo establecido en la observación anterior y cumpliendo con 4.3.2 EQUIPO DE TRABAJO MÍNIMO HABILITANTE.
BJ29: =SUM(BJ23:BJ28) -> 2 | BK29: =SUM(BK23:BK28) -> 19 | BL29: =SUM(BL23:BL28) -> 48
BJ30: =+BJ29*12 -> 24 | BK30: =+BK29 -> 19 | BL30: =+BL29/30 -> 1.6
A31: 4.3.3. SEDES | BH31: TOTAL | BJ31: =+BJ30+BK30+BL30 -> 44.6 | BK31: MESES | BO31: NO CUMPLE
A33: S E D E S
A34: SEDE | G34: DOCUMENTO SOPORTE | M34: EXPEDIDO | Q34: FECHA EXPEDICION | U34: ÚBICACIÓN DEL INMUEBLE | Y34: BOGOTA | AB34: CUMPLE | AE34: CUMPLE SI/ NO | AH34: OBSERVACIONES
A35: PROPIA | G35: CERTIFICADO DE TRADICION Y LIBERTAD | M35: OFICINA DE REGISTRO E INTRUMENTOS PUBLICOS ZONA CENTRO | Q35: 45497 | U35: BOGOTA | Y35: SI | AB35: SI | AE35: =+IF(AB35="SI","SI CUMPLE","NO CUMPLE") -> SI CUMPLE | AH35: 50 C - 1470770
A36: PROPIA | G36: CERTIFICADO DE TRADICION Y LIBERTAD | M36: OFICINA DE REGISTRO E INTRUMENTOS PUBLICOS ZONA CENTRO | Q36: 45497 | U36: BOGOTA | Y36: SI | AB36: SI | AE36: =+IF(AB36="SI","SI CUMPLE","NO CUMPLE") -> SI CUMPLE | AH36: 50 C - 37952
A37: PROPIA | G37: CERTIFICADO DE TRADICION Y LIBERTAD | M37: OFICINA DE REGISTRO E INTRUMENTOS PUBLICOS ZONA CENTRO | Q37: 45497 | U37: BOGOTA | Y37: SI | AB37: SI | AE37: =+IF(AB37="SI","SI CUMPLE","NO CUMPLE") -> SI CUMPLE | AH37: 50 C - 37954
A38: PROPIA | G38: CERTIFICADO DE TRADICION Y LIBERTAD | M38: OFICINA DE REGISTRO E INTRUMENTOS PUBLICOS ZONA CENTRO | Q38: 45497 | U38: BOGOTA | Y38: SI | AB38: SI | AE38: =+IF(AB38="SI","SI CUMPLE","NO CUMPLE") -> SI CUMPLE | AH38: 50 C - 37956
A39: PROPIA | G39: CERTIFICADO DE TRADICION Y LIBERTAD | M39: OFICINA DE REGISTRO E INTRUMENTOS PUBLICOS ZONA CENTRO | Q39: 45497 | U39: BOGOTA | Y39: SI | AB39: SI | AE39: =+IF(AB39="SI","SI CUMPLE","NO CUMPLE") -> SI CUMPLE | AH39: 50 C - 37958
A40: PROPIA | G40: CERTIFICADO DE TRADICION Y LIBERTAD | M40: OFICINA DE REGISTRO E INTRUMENTOS PUBLICOS ZONA CENTRO | Q40: 45497 | U40: BOGOTA | Y40: SI | AB40: SI | AE40: =+IF(AB40="SI","SI CUMPLE","NO CUMPLE") -> SI CUMPLE | AH40: 50 C - 151554
A41: PROPIA | G41: CERTIFICADO DE TRADICION Y LIBERTAD | M41: OFICINA DE REGISTRO E INTRUMENTOS PUBLICOS ZONA CENTRO | Q41: 45497 | U41: BOGOTA | Y41: SI | AB41: SI | AE41: =+IF(AB41="SI","SI CUMPLE","NO CUMPLE") -> SI CUMPLE | AH41: 50 C - 1526522
A42: PROPIA | G42: CERTIFICADO DE TRADICION Y LIBERTAD | M42: OFICINA DE REGISTRO E INTRUMENTOS PUBLICOS ZONA CENTRO | Q42: 45497 | U42: BOGOTA | Y42: SI | AB42: SI | AE42: =+IF(AB42="SI","SI CUMPLE","NO CUMPLE") -> SI CUMPLE | AH42: 50 C - 1526521
AE43: SI CUMPLE
A45: 4.3.4. PROPUESTA TÉCNICA
A47: P R O P U E S T A T E C N I C A
A48: ANEXO TÉCNICO – FICHA DE ESPECIFICACIONES TÉCNICAS MÍNIMAS. | G48: CUMPLE | J48: CUMPLE SI/ NO | M48: OBSERVACIONES
...

Sheet 3. CONSORCIO BI
A1: CONSOLIDADO
A2: OBJETO | C2: Prestar los servicios de formación y capacitación a los funcionarios de la Superintendencia Nacional de Salud para fortalecer sus competencias, de acuerdo con lo identificado en el Plan Institucional de Capacitación para la vigencia 2024.
A3: GRUPO 1 | C3: Capacitaciones que son de carácter normativo:
A4: TEMATICAS | C4: 1. Actualización en Seguridad Social en salud. | L4: 4. Normatividad sobre gestores farmacéuticos. | W4: 7. Diplomado auditoria forense.
C5: 2. Gestión Financiera en el sector público. | L5: 5. Actualización normativa cobros persuasivos y coactivos. | W5: 8. Sistema Obligatorio de Garantía de la Calidad en Salud.
C6: 3. Actualización Normativa en la función Pública. | L6: 6. Derecho fundamental al debido proceso. | W6: 9. Manejo de recursos en el sector salud.
A8: NOMBRE DEL PROPONENTE | G8: CONSORCIO BI COLOMBIA
A9: NOMBRE DEL REPRESENTANTE LEGAL | G9: ROBERTO GARCIA BETANCUR | U9: BETA GROUP COLOMBIA SAS (50%) | AF9: INSTITUTO COLOMBIANO DE APRENDIZAJE INCAP SAS (50%)
A10: NIT | U10: 901.660.147-3 | AF10: 800.216.673-7
A11: MIPYME | U11: PEQUEÑA EMPRESA | AF11: MEDIANA EMPRESA
A12: PRESUPUESTO OFICIAL | G12: 226.89
A14: 4.3.1. EXPERIENCIA DEL PROPONENTE
A16: E X P E R I E N C I A
A17: NUMERO CONTRATO | D17: CODIGO UNSPC | G17: ENTIDAD CONTRATANTE | Q17: FECHA INICIO | T17: FECHA FIN | W17: OBJETO CONTRACTUAL ("Prestar los servicios de formación y/o capacitación en cualquiera de las tematicas del grupo 1.") | AI17: CAPACITACION RELACIONADA | AL17: APORTA CERTIFICACION | AO17: EJECUTADA EN CONSORCIO O UNION TEMPORAL | AR17: PORCENTAJE DE PARTICIPACION | AU17: VALOR DEL CONTRATO EJECUTADO | AX17: VALOR DEL CONTRATO (ser igual o superior a 226,89 SMMLV) | BA17: NUMERO DE INSCRIPCION EN EL RUP | BD17: RUP VIGENTE Y EN FIRME | BG17: FORMATO RELACIONES DE CERTIFICACIONES SI/ NO | BJ17: CUMPLE SI/ NO | BM17: OBSERVACIONES
A18: EXPERIENCIA APORTADA POR: BETA GROUP COLOMBIA SAS (50%)
A19: SC 0349-18 | D19: 80111500 86101600 86101700 86101800 86111500 86111600 86132000 86141500 86141700 | G19: AGENCIA DE RENOVACIÓN DEL TERRITORIO ART | Q19: 43241 | T19: 43465 | W19: Diseñar, implementar y validar la metodología y herramientas para fortalecer las capacidades de instituciones públicas y organizaciones sociales, comunitarias y productivas rurales con enfoque territorial que sean estratégicas para el desarrollo del PDET. | AI19: SI CUMPLE | AL19: SI | AO19: NO | AR19: NO APLICA | AU19: 2466.82 | AX19: =AU19*50/100 -> 1233.41 | BA19: 7 | BD19: SI | BG19: SI CUMPLE | BJ19: SI
A20: EXPERIENCIA APORTADA POR: INSTITUTO COLOMBIANO DE APRENDIZAJE INCAP SAS (50%)
A21: 098-2015 | D21: 80111500 86101600 86101700 86101800 86111500 86111600 86132000 86141500 86141700 | G21: SERVICIO NACIONAL DE APRENDIZAJE SENA | Q21: 42171 | T21: 42536 | W21: Realizar acciones de formación aunando esfuerzos, capacidades y conocimientos para el desarrollo de programas de formación profesional integral, en el marco del Programa Ampliación de Cobertura, con el fin de formar un mayor número de colombianos. | AI21: SI CUMPLE | AL21: SI | AO21: NO | AR21: NO APLICA | AU21: 1747.66 | AX21: =AU21*50/100 -> 873.83 | BA21: 4 | BD21: SI | BG21: SI CUMPLE | BJ21: NO
A22: 034-2009 | D22: 80111500 86101600 86101700 86101800 86111500 86111600 86132000 86141500 86141700 | G22: SERVICIO NACIONAL DE APRENDIZAJE SENA | Q22: 40168 | T22: 40502 | W22: Articulación de acciones, esfuerzos, capacidades y conocimientos para el desarrollo conjunto de programas de formación en los niveles de técnico y tecnólogo con programas innovadores en torno a la formación de jóvenes desempleados en la ciudad de Manizales, de tal forma que se actualicen y refuercen las competencias laborales de los beneficiarios, anticipándose a las necesidades del sector productivo y del país para su desarrollo competitivo. | AI22: SI CUMPLE | AL22: SI | AO22: NO | AR22: NO APLICA | AU22: 137.46 | AX22: =AU22*50/100 -> 68.73 | BA22: 6 | BD22: SI | BG22: SI CUMPLE | BJ22: NO
AR23: SUMATORIA | AU23: =SUM(AX19:AZ22) -> 2175.97 | BG23: SI CUMPLE
A25: 4.3.2. PERSONAL MÍNIMO REQUERIDO:
A27: P E R S O N A L M I N I M O R E Q U R I D O .
A28: NOMBRES Y APELLIDOS | G28: HOJA DE VIDA SI /NO | J28: CEDULA CIUDADANIA | M28: TITULO PROFESIONAL | Q28: FECHA GRADO | T28: Copia de la Tarjeta o matricula profesional vigente | Y28: Certificado de vigencia de la tarjeta profesional | AD28: APORTA TITULO PROFESIONAL | AI28: NOMBRE O RAZON SOCIAL DEL CONTRATANTE | AN28: CERTIFICADO CUMPLE (cargo y/o rol específico y/o objeto, funciones y/o obligaciones y/o actividades desempeñadas relacionadas con el perfil, y el tiempo laborado y/o de ejecución | AS28: EXPERIENCIA RELACIONADA COMO COORDINADOR | AV28: CERTIFICA MISMO PROPONENTE | AY28: APORTA CONTRATO | BB28: APORTA FORMATO EQUIPO DE TRABAJO | BD28: FECHA INICIO | BG28: FECHA FIN | BJ28: AÑO | BK28: MES | BL28: DIA | BM28: TOTAL TIEMPO EXPERIENCIA | BO28: CUMPLE SI/ NO | BR28: OBSERVACIONES
A29: María Lourdes Martínez Sarmiento | G29: SI | J29: SI | M29: Licenciada en comercio y contaduria | Q29: 35860 | T29: N/A | Y29: NO APLICA | AD29: SI | AI29: Centro Comercial de Educación Media Margarita Bosco | AN29: SI | AS29: SI | AV29: NO | AY29: NO APLICA | BB29: SI | BD29: 34366 | BG29: 34668 | BJ29: =DATEDIF(BD29,BG29,"Y") -> 0 | BK29: =DATEDIF(BD29,BG29,"YM") -> 9 | BL29: =DATEDIF(BD29,BG29,"MD") -> 29 | BO29: SI CUMPLE
BD30: 34731 | BG30: 35033 | BJ30: =DATEDIF(BD30,BG30,"Y") -> 0 | BK30: =DATEDIF(BD30,BG30,"YM") -> 9 | BL30: =DATEDIF(BD30,BG30,"MD") -> 29 | BO30: SI CUMPLE
BD31: 35827 | BG31: 36129 | BJ31: =DATEDIF(BD31,BG31,"Y") -> 0 | BK31: =DATEDIF(BD31,BG31,"YM") -> 9 | BL31: =DATEDIF(BD31,BG31,"MD") -> 29 | BO31: SI CUMPLE
BD32: 36192 | BG32: 36494 | BJ32: =DATEDIF(BD32,BG32,"Y") -> 0 | BK32: =DATEDIF(BD32,BG32,"YM") -> 9 | BL32: =DATEDIF(BD32,BG32,"MD") -> 29 | BO32: SI CUMPLE
BD33: 36557 | BG33: 36860 | BJ33: =DATEDIF(BD33,BG33,"Y") -> 0 | BK33: =DATEDIF(BD33,BG33,"YM") -> 9 | BL33: =DATEDIF(BD33,BG33,"MD") -> 29 | BO33: SI CUMPLE
BD34: 36923 | BG34: 37225 | BJ34: =DATEDIF(BD34,BG34,"Y") -> 0 | BK34: =DATEDIF(BD34,BG34,"YM") -> 9 | BL34: =DATEDIF(BD34,BG34,"MD") -> 29 | BO34: SI CUMPLE
BD35: 37288 | BG35: 37590 | BJ35: =DATEDIF(BD35,BG35,"Y") -> 0 | BK35: =DATEDIF(BD35,BG35,"YM") -> 9 | BL35: =DATEDIF(BD35,BG35,"MD") -> 29 | BO35: SI CUMPLE
BD36: 37653 | BG36: 37955 | BJ36: =DATEDIF(BD36,BG36,"Y") -> 0 | BK36: =DATEDIF(BD36,BG36,"YM") -> 9 | BL36: =DATEDIF(BD36,BG36,"MD") -> 29 | BO36: SI CUMPLE
BO37: SI CUMPLE
A39: 4.3.3. SEDES
A41: S E D E S
A42: SEDE | G42: DOCUMENTO SOPORTE | M42: EXPEDIDO | Q42: FECHA EXPEDICION | U42: ÚBICACIÓN DEL INMUEBLE | Y42: BOGOTA | AB42: CUMPLE | AE42: CUMPLE SI/ NO | AH42: OBSERVACIONES
A43: PROPIA | G43: CERTIFICADO DE TRADICION Y LIBERTAD | M43: BOGOTA | Q43: 45490 | U43: BOGOTA | Y43: SI | AB43: SI | AE43: SI CUMPLE
A44: PROPIA | G44: CERTIFICADO DE TRADICION Y LIBERTAD | M44: BOGOTA | Y44: SI | AB44: SI | AE44: =+IF(AB44="SI","SI CUMPLE","NO CUMPLE") -> SI CUMPLE
AE45: SI CUMPLE
A47: 4.3.4. PROPUESTA TÉCNICA
A49: P R O P U E S T A T E C N I C A
...

Sheet 4. UMERANI
A1: CONSOLIDADO
A2: OBJETO | C2: Prestar los servicios de formación y capacitación a los funcionarios de la Superintendencia Nacional de Salud para fortalecer sus competencias, de acuerdo con lo identificado en el Plan Institucional de Capacitación para la vigencia 2024.
A3: GRUPO 1 | C3: Capacitaciones que son de carácter normativo:
A4: TEMATICAS | C4: 1. Actualización en Seguridad Social en salud. | L4: 4. Normatividad sobre gestores farmacéuticos. | W4: 7. Diplomado auditoria forense.
C5: 2. Gestión Financiera en el sector público. | L5: 5. Actualización normativa cobros persuasivos y coactivos. | W5: 8. Sistema Obligatorio de Garantía de la Calidad en Salud.
C6: 3. Actualización Normativa en la función Pública. | L6: 6. Derecho fundamental al debido proceso. | W6: 9. Manejo de recursos en el sector salud.
A8: NOMBRE DEL PROPONENTE | G8: FUNDACIÓN DE EDUCACIÓN SUPERIOR ALBERTO MERANI
A9: NOMBRE DEL REPRESENTANTE LEGAL | G9: JUAN SEBASTIAN DE ZUBIRIA RAGO
A10: NIT | G10: 900.019.885-1
A11: MIPYME | G11: NO APLICA
A12: PRESUPUESTO OFICIAL | G12: 226.89
A14: 4.3.1. EXPERIENCIA DEL PROPONENTE
A16: E X P E R I E N C I A
A17: NUMERO CONTRATO | D17: CODIGO UNSPC | G17: ENTIDAD CONTRATANTE | Q17: FECHA INICIO | T17: FECHA FIN | W17: OBJETO CONTRACTUAL ("Prestar los servicios de formación y/o capacitación en cualquiera de las tematicas del grupo 1.") | AI17: CAPACITACION RELACIONADA | AL17: APORTA CERTIFICACION | AO17: EJECUTADA EN CONSORCIO O UNION TEMPORAL | AR17: PORCENTAJE DE PARTICIPACION | AU17: VALOR DEL CONTRATO (ser igual o superior a 226,89 SMMLV) | AX17: NÚMERO DE CONSECUTIVO EN EL RUP | BA17: RUP VIGENTE Y EN FIRME | BD17: FORMATO RELACIONES DE CERTIFICACIONES SI/ NO | BG17: CUMPLE SI/ NO | BJ17: OBSERVACIONES
A18: 2021-10980 | D18: 80111500 86101600 86101700 86101800 86111500 86111600 86132000 86141500 86141700 | G18: SECRETARIA DISTRITAL DE INTEGRACIÓN SOCIAL | Q18: 44239 | T18: 44772 | W18: Prestación de servicios de capacitación a los servidores de la Secretaria Distrital de Integración Social, en pro del fortalecimiento institucional. | AI18: SI CUMPLE | AL18: SI | AO18: NO | AR18: NO APLICA | AU18: 378.15 | AX18: 30 | BA18: SI | BD18: SI | BG18: =+IF(AU20>=G12,"SI CUMPLE","NO CUMPLE") -> SI CUMPLE
A19: 2019-8342 | D19: 80111500 86101600 86101700 86101800 86111500 86111600 86132000 86141500 86141700 | G19: SECRETARÍA DISTRITAL DE INTEGRACIÓN SOCIAL | Q19: 43668 | T19: 43851 | W19: PRESTACIÓN DE SERVICIOS DE CAPACITACIÓN A LOS SERVIDORES DE LA SECRETARÍA DISTRITAL DE INTEGRACIÓN SOCIAL, A TRAVÉS DE DIPLOMADOS DE ACTUALIZACIÓN VIRTUALES Y PRESENCIALES EN PRO DEL FORTALECIMIENTO INSTITUCIONAL | AI19: SI CUMPLE | AL19: SI | AO19: NO | AR19: NO APLICA | AU19: 284.31 | AX19: 25 | BA19: SI | BD19: SI | BG19: =+IF(AU21>=G13,"SI CUMPLE","NO CUMPLE") -> SI CUMPLE
AR20: SUMATORIA | AU20: =SUM(AU18:AW19) -> 662.46 | BG20: SI CUMPLE
A22: 4.3.2. PERSONAL MÍNIMO REQUERIDO:
A24: P E R S O N A L M I N I M O R E Q U R I D O .
A25: NOMBRES Y APELLIDOS | G25: HOJA DE VIDA SI /NO | J25: CEDULA CIUDADANIA | M25: TITULO PROFESIONAL | Q25: FECHA GRADO | T25: Copia de la Tarjeta o matricula profesional vigente | Y25: Certificado de vigencia de la tarjeta profesional | AD25: APORTA TITULO PROFESIONAL | AI25: NOMBRE O RAZON SOCIAL DEL CONTRATANTE | AN25: CERTIFICADO CUMPLE (cargo y/o rol específico y/o objeto, funciones y/o obligaciones y/o actividades desempeñadas relacionadas con el perfil, y el tiempo laborado y/o de ejecución | AS25: EXPERIENCIA RELACIONADA COMO COORDINADOR | AV25: CERTIFICA MISMO PROPONENTE | AY25: APORTA CONTRATO | BB25: APORTA FORMATO EQUIPO DE TRABAJO | BD25: FECHA INICIO | BG25: FECHA FIN | BJ25: AÑO | BK25: MES | BL25: DIA | BM25: TOTAL TIEMPO EXPERIENCIA | BO25: CUMPLE SI/ NO | BR25: OBSERVACIONES
A26: ROMULO PINZON GAMA | G26: SI | J26: SI | M26: LICENCIATURA EN DANZA Y TEATRO | Q26: 39038 | T26: NO APLICA | Y26: NO APLICA | AD26: SI | AI26: INCAP | AN26: SI | AS26: SI | AV26: NO | AY26: NO APLICA | BB26: SI | BD26: 41165 | BG26: 43146 | BJ26: =DATEDIF(BD26,BG26,"Y") -> 5 | BK26: =DATEDIF(BD26,BG26,"YM") -> 5 | BL26: =DATEDIF(BD26,BG26,"MD") -> 2 | BO26: SI CUMPLE
AI27: INCAP | AN27: SI | AS27: SI | AV27: NO | AY27: NO APLICA | BB27: SI | BD27: 43147 | BG27: 45168 | BJ27: =DATEDIF(BD27,BG27,"Y") -> 5 | BK27: =DATEDIF(BD27,BG27,"YM") -> 6 | BL27: =DATEDIF(BD27,BG27,"MD") -> 14 | BO27: SI CUMPLE
BH28: TOTAL MESES | BJ28: =SUM(BJ20:BJ27) -> 10 | BK28: =SUM(BK20:BK27) -> 11 | BL28: =SUM(BL20:BL27) -> 16 | BO28: SI CUMPLE
BJ29: =+BJ28*12 -> 120 | BK29: =+BK28 -> 11 | BL29: =+BL28/30 -> 0.53333333
A30: 4.3.3. SEDES | BI30: TOTAL | BJ30: =+BJ29+BK29+BL29 -> 131.53333 | BK30: MESES
A32: S E D E S
A33: SEDE | G33: DOCUMENTO SOPORTE | M33: EXPEDIDO | Q33: FECHA EXPEDICION | U33: ÚBICACIÓN DEL INMUEBLE | Y33: BOGOTA | AB33: CUMPLE | AE33: CUMPLE SI/ NO | AH33: OBSERVACIONES
A34: PROPIA | G34: CERTIFICADO DE TRADICION Y LIBERTAD | M34: OFICINA DE REGISTRO E INSTRUMENTOS PUBLICOS ZONA CENTRO | Q34: 45497 | U34: BOGOTA | Y34: SI | AB34: SI | AE34: =+IF(AB34="SI","SI CUMPLE","NO CUMPLE") -> SI CUMPLE | AH34: 50C-80672
A35: PROPIA | G35: CERTIFICADO DE TRADICION Y LIBERTAD | M35: OFICINA DE REGISTRO E INSTRUMENTOS PUBLICOS ZONA CENTRO | Q35: 45497 | U35: BOGOTA | Y35: SI | AB35: SI | AE35: =+IF(AB35="SI","SI CUMPLE","NO CUMPLE") -> SI CUMPLE | AH35: 50C-106788
A36: PROPIA | G36: CERTIFICADO DE TRADICION Y LIBERTAD | M36: OFICINA DE REGISTRO E INSTRUMENTOS PUBLICOS ZONA CENTRO | Q36: 45497 | U36: BOGOTA | Y36: SI | AB36: SI | AE36: =+IF(AB36="SI","SI CUMPLE","NO CUMPLE") -> SI CUMPLE | AH36: 50C-136206
A37: PROPIA | G37: CERTIFICADO DE TRADICION Y LIBERTAD | M37: OFICINA DE REGISTRO E INSTRUMENTOS PUBLICOS ZONA CENTRO | Q37: 45497 | U37: BOGOTA | Y37: SI | AB37: SI | AE37: =+IF(AB37="SI","SI CUMPLE","NO CUMPLE") -> SI CUMPLE | AH37: 50C-312486
A38: PROPIA | G38: CERTIFICADO DE TRADICION Y LIBERTAD | M38: OFICINA DE REGISTRO E INSTRUMENTOS PUBLICOS ZONA CENTRO | Q38: 45497 | U38: BOGOTA | Y38: SI | AB38: SI | AE38: =+IF(AB38="SI","SI CUMPLE","NO CUMPLE") -> SI CUMPLE | AH38: 50C-499292
AE39: SI CUMPLE
A40: 4.3.4. PROPUESTA TÉCNICA
A42: P R O P U E S T A T E C N I C A
A43: ANEXO TÉCNICO – FICHA DE ESPECIFICACIONES TÉCNICAS MÍNIMAS. | G43: CUMPLE | J43: CUMPLE SI/ NO | M43: OBSERVACIONES
A44: El proponente con la suscripción de la Carta de Presentación manifiesta que ha leído entiende, acepta y cumplirá todos los requerimientos establecidos en el Anexo No. 1 Especificaciones Técnicas Mínimas, para realizar todas las actividades y entregables descritos en el citado documento. | G44: SI | J44: =+IF(G44="SI","SI CUMPLE","NO CUMPLE") -> SI CUMPLE | M44: El proponente aporta FORMATO N° 1 DE CARTA DE PRESENTACION DE LA OFERTA en el cual en el literal D "Manifiesta que he leído entiendo, acepto y cumpliré todos los requerimientos establecidos en el ANEXO 1 - FICHA TÉCNICA, para realizar todas las actividades y entregables descritos en el citado documento"
J45: SI CUMPLE

Sheet 5. CIDOR
A1: CONSOLIDADO
A2: OBJETO | C2: Prestar los servicios de formación y capacitación a los funcionarios de la Superintendencia Nacional de Salud para fortalecer sus competencias, de acuerdo con lo identificado en el Plan Institucional de Capacitación para la vigencia 2024.
A3: GRUPO 1 | C3: Capacitaciones que son de carácter normativo:
A4: TEMATICAS | C4: 1. Actualización en Seguridad Social en salud. | L4: 4. Normatividad sobre gestores farmacéuticos. | W4: 7. Diplomado auditoria forense.
C5: 2. Gestión Financiera en el sector público. | L5: 5. Actualización normativa cobros persuasivos y coactivos. | W5: 8. Sistema Obligatorio de Garantía de la Calidad en Salud.
C6: 3. Actualización Normativa en la función Pública. | L6: 6. Derecho fundamental al debido proceso. | W6: 9. Manejo de recursos en el sector salud.
A8: NOMBRE DEL PROPONENTE | G8: CIDOR CONSULTING ALLIANCE SAS
A9: NOMBRE DEL REPRESENTANTE LEGAL | G9: ANA PAOLA CORREA GONZALEZ
A10: NIT | G10: 830.144.794-9
A11: MIPYME | G11: SI
A12: PRESUPUESTO OFICIAL | G12: 226.89
A14: 4.3.1. EXPERIENCIA DEL PROPONENTE
A16: E X P E R I E N C I A
A17: NUMERO CONTRATO | D17: CODIGO UNSPC | G17: ENTIDAD CONTRATANTE | Q17: FECHA INICIO | T17: FECHA FIN | W17: OBJETO CONTRACTUAL ("Prestar los servicios de formación y/o capacitación en cualquiera de las tematicas del grupo 1.") | AI17: CAPACITACION RELACIONADA | AL17: APORTA CERTIFICACION | AO17: EJECUTADA EN CONSORCIO O UNION TEMPORAL | AR17: PORCENTAJE DE PARTICIPACION | AU17: VALOR DEL CONTRATO (ser igual o superior a 226,89 SMMLV) | AX17: NUMERO DE INSCRIPCIÓN EN EL RUP | BA17: RUP VIGENTE Y EN FIRME | BD17: FORMATO RELACIONES DE CERTIFICACIONES SI/ NO | BG17: CUMPLE SI/ NO | BJ17: OBSERVACIONES
A18: 418-2023 | D18: NO SE PUEDE VERIFICAR | G18: COMISIÓN NACIONAL DEL SERVICIO CIVIL | Q18: NO SE PUEDE EVIDENCIAR | T18: NO SE PUEDE EVIDENCIAR | W18: Prestar el servicio de capacitación a los servidores de la entidad, para apoyar la ejecución del plan institucional de capacitación de la Comisión, vigencia 2023 | AI18: NO CUMPLE | AL18: NO | AO18: NO APLICA | AR18: NO APLICA | AU18: NO SE PUEDE EVIDENCIAR | AX18: NO SE PUEDE EVIDENCIAR | BA18: NO | BD18: NO | BG18: =+IF(AU22>=G12,"SI CUMPLE","NO CUMPLE") -> NO CUMPLE | BJ18: El proponente no aportó Certificado de Experiencia y por el contrario aportó un contrato de la Comisión Nacional del Servicio Civil, con la cual NO CUMPLE con el requisito, toda vez que se debe aportar es el Certificado de Experiencia donde se evidencie la información de la Nota 2, del numeral 4.3.1 Experiencia. Por lo tanto, no se puede tener en cuenta esta experiencia porque no permite verificar toda la información requerida. SUBSANACIÓN: Deberá aportar el Certificado de Experiencia conforme a lo establecido en el pliego de condiciones, numeral 4.3.1 EXPERIENCIA.
A19: 1104333-2019 | D19: 80111500 86101600 86101700 86101800 86111500 86111600 86132000 86141500 86141700 | G19: FONDO FINANCIERO DISTRITAL DE SALUD | Q19: NO SE PUEDE EVIDENCIAR POQUE ES UN INFORME DE SUPERVISIÓN | T19: NO SE PUEDE EVIDENCIAR POQUE ES UN INFORME DE SUPERVISIÓN | W19: NO SE PUEDE EVIDENCIAR PORQUE EL INFORME TIENE UN OBJETO DIFERENTE AL DEL FORMATO N°3 | AI19: NO CUMPLE | AL19: NO | AO19: NO APLICA | AR19: NO APLICA | AU19: 267.74 | AX19: 54 | BA19: SI | BD19: SI | BG19: NO CUMPLE | BJ19: El proponente no aportó Certificado de Experiencia y por el contrario aportó un contrato con un informe final de supervisión del Fondo Financiero Distrital de Salud, con la cual NO CUMPLE con el requisito, toda vez que se debe aportar es el Certificado de Experiencia donde se evidencie la información de la Nota 2, del numeral 4.3.1 Experiencia. Por lo tanto, no se puede tener en cuenta esta experiencia porque no permite verificar toda la información requerida y cumplida. SUBSANACIÓN: Deberá aportar el Certificado de Experiencia conforme a lo establecido en el pliego de condiciones, numeral 4.3.1 EXPERIENCIA.
A20: 792 - 2018 | D20: 80111500 86101600 86101700 86101800 86111500 86111600 86132000 86141500 86141700 | G20: FONDO ÚNICO DE LAS TECNOLOGIAS DE LA INFORMACION Y LAS COMUNICACIONES | Q20: 43346 | T20: 43449 | W20: Capacitar a un grupo de servidores del Ministerio de Técnologias de la información y las Comunicaciones en temáticas aprobadas en el plan institucional de capacitación 2018 , para el fortalecimiento de sus competencias. | AI20: NO CUMPLE | AL20: NO | AO20: NO APLICA | AR20: NO APLICA | AU20: 413.3 | AX20: 35 | BA20: SI | BD20: SI | BG20: NO CUMPLE | BJ20: El proponente no aportó Certificado de Experiencia y por el contrario aportó un contrato con un informe final de supervisión del FONDO ÚNICO DE LAS TENOLOGIAS DE LA INFORMACIÓN Y LAS COMUNICACIONES, con la cual NO CUMPLE con el requisito. Adicional, que las temáticas del Grupo 1, no son cumplidas con este certificado y por lo tanto no cumple con la experiencia del numeral 4.3.1 Experiencia. Por lo tanto, no se puede tener en cuenta esta experiencia porque no cumple con las temáticas propuestas. SUBSANACIÓN: Deberá aportar el Certificado de Experiencia conforme a lo establecido en el pliego de condiciones, numeral 4.3.1 EXPERIENCIA
A21: 2017-1872 | D21: 80111500 86101600 86101700 86101800 86111500 86111600 86132000 86141500 86141700 | G21: SECRETARIA DISTRITAL DE MOVILIDAD | Q21: NO SE PUEDE EVIDENCIAR | T21: NO SE PUEDE EVIDENCIAR | W21: Desarrollar actividades de capacitación dirigidas a los servidores públicos de la Secretaria Distrital de Movilidad y SETRAB-PONAL | AI21: NO CUMPLE | AL21: NO | AO21: NO APLICA | AR21: NO APLICA | AU21: 341.01 | AX21: 39 | BA21: SI | BD21: SI | BG21: NO CUMPLE | BJ21: El proponente no aportó Certificado de Experiencia y por el contrario aportó un contrato con acta sin las firmas completas con la Secretaría de Movilidad, con la cual NO CUMPLE con el requisito, toda vez que se debe aportar es el Certificado de Experiencia donde se evidencie la información de la Nota 2, del numeral 4.3.1 Experiencia. Por lo tanto, no se puede tener en cuenta esta experiencia porque no permite verificar toda la información requerida y cumplida. SUBSANACIÓN: Deberá aportar el Certificado de Experiencia conforme a lo establecido en el pliego de condiciones, numeral 4.3.1 EXPERIENCIA.
AR22: SUMATORIA | AU22: 0 | BG22: NO CUMPLE
A24: 4.3.2. PERSONAL MÍNIMO REQUERIDO:
A26: P E R S O N A L M I N I M O R E Q U R I D O .
A27: NOMBRES Y APELLIDOS | G27: HOJA DE VIDA SI /NO | J27: CEDULA CIUDADANIA | M27: TITULO PROFESIONAL | Q27: FECHA GRADO | T27: Copia de la Tarjeta o matricula profesional vigente | Y27: Certificado de vigencia de la tarjeta profesional | AD27: APORTA TITULO PROFESIONAL | AI27: NOMBRE O RAZON SOCIAL DEL CONTRATANTE | AN27: CERTIFICADO CUMPLE (cargo y/o rol específico y/o objeto, funciones y/o obligaciones y/o actividades desempeñadas relacionadas con el perfil, y el tiempo laborado y/o de ejecución | AS27: EXPERIENCIA RELACIONADA COMO COORDINADOR | AV27: CERTIFICA MISMO PROPONENTE | AY27: APORTA CONTRATO | BB27: APORTA FORMATO EQUIPO DE TRABAJO | BD27: FECHA INICIO | BG27: FECHA FIN | BJ27: AÑO | BK27: MES | BL27: DIA | BM27: TOTAL TIEMPO EXPERIENCIA | BO27: CUMPLE SI/ NO | BR27: OBSERVACIONES
A28: ALEJANDRO RAMIREZ AYALA | G28: SI | J28: SI | M28: INGENIERO INDUSTRIAL | Q28: 35643 | T28: SI | Y28: SI | AD28: SI | AI28: GEOSIGMA LTDA. | AN28: SI | AS28: SI | AV28: NO | AY28: NO APLICA | BB28: SI | BD28: 42781 | BG28: 43889 | BJ28: =DATEDIF(BD28,BG28,"Y") -> 3 | BK28: =DATEDIF(BD28,BG28,"YM") -> 0 | BL28: =DATEDIF(BD28,BG28,"MD") -> 13 | BO28: SI CUMPLE
BO29: SI CUMPLE
A31: 4.3.3. SEDES
A33: S E D E S
A34: SEDE | G34: DOCUMENTO SOPORTE | M34: EXPEDIDO | Q34: FECHA EXPEDICION | U34: ÚBICACIÓN DEL INMUEBLE | Y34: BOGOTA | AB34: CUMPLE | AE34: CUMPLE SI/ NO | AH34: OBSERVACIONES
A35: ARRENDADA | G35: CONTRATO DE ARRIENDO | M35: CENTRO DE EVENTOS Y EXPOSICIONES LAS AMERICAS | Q35: 45124 | U35: BOGOTA | Y35: SI | AB35: SI | AE35: =+IF(AB35="SI","SI CUMPLE","NO CUMPLE") -> SI CUMPLE
AE36: SI CUMPLE
A38: 4.3.4. PROPUESTA TÉCNICA
A40: P R O P U E S T A T E C N I C A
A41: ANEXO TÉCNICO – FICHA DE ESPECIFICACIONES TÉCNICAS MÍNIMAS. | G41: CUMPLE | J41: CUMPLE SI/ NO | M41: OBSERVACIONES
A42: El proponente con la suscripción de la Carta de Presentación manifiesta que ha leído entiende, acepta y cumplirá todos los requerimientos establecidos en el Anexo No. 1 Especificaciones Técnicas Mínimas, para realizar todas las actividades y entregables descritos en el citado documento. | G42: SI | J42: =+IF(G42="SI","SI CUMPLE","NO CUMPLE") -> SI CUMPLE | M42: El proponente aporta FORMATO N° 1 DE CARTA DE PRESENTACION DE LA OFERTA en el cual en el literal D "Manifiesta que he leído entiendo, acepto y cumpliré todos los requerimientos establecidos en el ANEXO 1 - FICHA TÉCNICA, para realizar todas las actividades y entregables descritos en el citado documento"
J43: SI CUMPLE

Sheet 6. UT POLCOLAN
A1: CONSOLIDADO
A2: OBJETO | C2: Prestar los servicios de formación y capacitación a los funcionarios de la Superintendencia Nacional de Salud para fortalecer sus competencias, de acuerdo con lo identificado en el Plan Institucional de Capacitación para la vigencia 2024.
A3: GRUPO 1 | C3: Capacitaciones que son de carácter normativo:
A4: TEMATICAS | C4: 1. Actualización en Seguridad Social en salud. | L4: 4. Normatividad sobre gestores farmacéuticos. | W4: 7. Diplomado auditoria forense.
C5: 2. Gestión Financiera en el sector público. | L5: 5. Actualización normativa cobros persuasivos y coactivos. | W5: 8. Sistema Obligatorio de Garantía de la Calidad en Salud.
C6: 3. Actualización Normativa en la función Pública. | L6: 6. Derecho fundamental al debido proceso. | W6: 9. Manejo de recursos en el sector salud.
A8: NOMBRE DEL PROPONENTE | G8: UNIÓN TEMPORAL SUPERSALUD 24-018 BS-POLCOLAN | U8: BUSINESS SUPPORT S.A.S (90%) | AI8: CORPORACIÓN POLITÉCNICO COLOMBO ANDINO-POLCOLAN (10%)
A9: NOMBRE DEL REPRESENTANTE LEGAL | G9: DIONISIA ELIZABETH HERNÁNDEZ AGUILERA
A10: NIT | U10: 900.006.572-3 | AI10: 860.508.517-8
A11: MIPYME | U11: MEDIANA EMPRESA | AI11: NO APLICA
A12: PRESUPUESTO OFICIAL | G12: 226.89
A14: 4.3.1. EXPERIENCIA DEL PROPONENTE
A16: E X P E R I E N C I A
A17: NUMERO CONTRATO | D17: CODIGO UNSPC | G17: ENTIDAD CONTRATANTE | Q17: FECHA INICIO | T17: FECHA FIN | W17: OBJETO CONTRACTUAL ("Prestar los servicios de formación y/o capacitación en cualquiera de las tematicas del grupo 1.") | AI17: CAPACITACION RELACIONADA | AL17: APORTA CERTIFICACION | AO17: EJECUTADA EN CONSORCIO O UNION TEMPORAL | AR17: PORCENTAJE DE PARTICIPACION | AU17: VALOR DEL CONTRATO EJECUTADO | AX17: VALOR DEL CONTRATO (ser igual o superior a 226,89 SMMLV) | BA17: NUMERO DE INSCRIPCIÓN EN EL RUP | BD17: RUP VIGENTE Y EN FIRME | BG17: FORMATO RELACIONES DE CERTIFICACIONES SI/ NO | BJ17: CUMPLE SI/ NO | BM17: OBSERVACIONES
A18: EXPERIENCIA ACREDITADA POR: BUSINESS SUPPORT S.A.S (90%)
A19: 4150985 | D19: 80111500 86101600 86101700 86101800 86111500 86111600 86132000 86141500 86141700 | G19: FONDO FINANCIERO DISTRITAL DE SALUD | Q19: 44875 | T19: 45116 | W19: Prestar servicios en el fortalecimiento de las competencias laborales de los servidores públicos de la secretaría distrital de salud mediante la implementación del plan institucional de capacitación | AI19: SI CUMPLE | AL19: SI | AO19: NO | AR19: NO APLICA | AU19: 177.98 | AX19: =AU19*90/100 -> 160.182 | BA19: 133 | BD19: SI | BG19: SI | BJ19: SI CUMPLE | BM19: El proponente aportó certificado de experiencia con el cual cumple, sin embargo, de acuerdo con lo establecido en el pliego de condiciones, en el numeral 4.3.1 EXPERIENCIA - Nota 1: La experiencia del oferente plural (unión temporal-consorcio) corresponde a la suma de la experiencia que acredite cada uno de sus integrantes de conformidad con su porcentaje de participación. En todo caso, cada uno de sus integrantes deberá allegar el correspondiente Certificado del Registro Único de Proponentes (RUP) VIGENTE y EN FIRME. De la misma manera, en respuesta a la observación presentada durante el proyecto de pliego de condiciones a uno de los integrantes de la presente Unión Temporal (BUSINESS SUPPORT) se indicó que: OBSERVACIÓN No 31: “Confirmar si el valor de la experiencia aportada por cada integrante del oferente plural será considerado en proporción al porcentaje de participación de dicho integrante en la estructura plural, o si el valor de la experiencia que aporte será considerado al 100% independientemente de su porcentaje de participación en la estructura plural.” RESPUESTA No 31 (SUPERINTENDENCIA NACIONAL DE SALUD): Se le aclara al observante lo siguiente: “En primera medida la experiencia del oferente plural (unión temporal-consorcio) corresponde a la suma de la experiencia que acredite cada uno de sus integrantes de conformidad con su porcentaje de participación. En todo caso, cada uno de sus integrantes deberá allegar el correspondiente Certificado del Registro Único de Proponentes (RUP) VIGENTE y EN FIRME. Sin embargo, en segunda medida puede darse el caso que con una (1) sola certificación aportada se cumpla con el 100% del presupuesto oficial por parte de uno de los proponentes plurales, en este caso se da aplicación a lo establecido en la nota 3 de la experiencia, donde el proponente podrá aportar mínimo uno (1) y máximo tres (3) contratos.” Igualmente, en las mismas respuestas a las observaciones se aclaró que: OBSERVACIÓN No 12: En caso de presentarse en consorcio, entendemos que la experiencia habilitante del proponente pueda ser aportada por uno de los miembros que integran el proponente plural. ¿Es correcto nuestro entendimiento? RESPUESTA No 12 (SUPERINTENDENCIA NACIONAL DE SALUD): Su entendimiento es correcto únicamente en el caso que con una (1) sola certificación aportada se cumpla con el 100% del presupuesto oficial. Así las cosas, la Entidad fue clara al establecer que ÚNICAMENTE en el caso que con una (1) sola certificación aportada por uno de los integrantes de la figura asociativa se cumpla con el 100% del presupuesto oficial, es válida para demostrar la experiencia, sin que el otro integrante deba hacerlo. En razón a lo anterior, y toda vez ninguno de los dos contratos aportados y ejecutados por Business Support SAS supera el 100% del presupuesto en salarios mínimos para el grupo 1, deberá aportarse la experiencia por parte del otro integrante de la Unión Temporal, es decir de CORPORACIÓN POLITÉCNICO COLOMBO ANDINO-POLCOLAN (10%), de acuerdo a su porcentaje de participación. SUBSANACIÓN: Deberá acreditar la Experiencia conforme a lo establecido en el pliego de condiciones, numeral 4.3.1 EXPERIENCIA.
A20: 407 DE 2019 | D20: 80111500 86101600 86101700 86101800 86111500 86111600 86132000 86141500 86141700 | G20: SECRETARIA DISTRITAL DE LA MUJER | Q20: 43703 | T20: 43830 | W20: FORTALECER LAS COMPETENCIAS DE LAS SERVIDORAS Y SERVIDORES PÚBLICOS DE LA SECRETARÍA DISTRITAL DE LA MUJER, A TRAVÉS DE PROCESOS DE FORMACIÓN, ENTRENAMIENTO Y CAPACITACIÓN, DE ACUERDO CON EL PLAN INSTITUCIONAL DE FORMACIÓN Y CAPACITACIÓN 2019 | AI20: SI CUMPLE | AL20: SI | AO20: NO | AR20: NO APLICA | AU20: 104.11 | AX20: =AU20*90/100 -> 93.699 | BA20: 84 | BD20: SI | BG20: SI | BJ20: =+IF(AU24>=G13,"SI CUMPLE","NO CUMPLE") -> SI CUMPLE
A21: 4600015568 | D21: 80111500 86101600 86101700 86101800 86111500 86111600 86132000 86141500 86141700 | G21: COMUNICACION CELULAR S A COMCEL S A | Q21: 44304 | T21: 45340 | W21: Prestar servicios de formación a través de un programa integral, estructurado y modular que permita fortalecer y apalancar habilidades blandas y los conocimientos técnicos necesarios para la operación de TMK. Generar un plan de trabajo que incluya etapas de diagnóstico, diseño, ejecución, puesta en marcha, evaluación y presentación de resultados que apalanquen el uso de metodologías innovadoras de educación virtual y presencial con los estándares de oportunidad y calidad que se fijen en los acuerdos de niveles de servicio, en respuesta a la contribución y movilización de las metas estratégicas de la compañía | AI21: NO CUMPLE | AL21: SI | AO21: NO | AR21: NO APLICA | AU21: 3583.03 | AX21: 0 | BA21: 134 | BD21: SI | BG21: SI | BJ21: NO CUMPLE | BM21: El proponente aportó certificado de experiencia, pero NO CUMPLE con las temáticas del Grupo 1. Por lo tanto, no se puede tener en cuenta esta experiencia porque no cumple con las temáticas propuestas. SUBSANACIÓN: Deberá acreditar la Experiencia conforme a lo establecido en el pliego de condiciones, numeral 4.3.1 EXPERIENCIA.
A22: 855 | D22: 80111500 86101600 86101700 86101800 86111500 86111600 86132000 86141500 86141701 | G22: FONDO ÚNICO DE TECNOLOGÍAS DE LA INFORMACIÓN Y LAS COMUNICACIONES-FONTIC | Q22: 44371 | T22: 44561 | W22: PRESTAR SERVICIOS PARA APOYAR EN EL FORTALECIMIENTO DE GESTIÓN MEDIANTE LA EVOLUCIÓN DE LAS ESTRATEGIAS DE GESTIÓN DEL CONOCIMIENTO, QUE PROMUEVAN EL APRENDIZAJE INSTITUCIONAL Y LA TRANSFORMACIÓN DE LAS PRÁCTICAS INSTITUCIONALES AL INTERIOR DE LA ENTIDAD (...) REALIZAR, DESARROLLAR Y PRODUCIR LA ADAPTACIÓN VIRTUAL DE LOS CONTENIDOS Y EL EMPAQUETAMIENTO PARA MONTAJE EN UN SISTEMA DE APRENDIZAJE LMS-GNU DE 11 MÓDULOS EDUCATIVOS VIRTUALES U OBJETOS VIRTUALES DE APRENDIZAJE (OVA) EN FORMATO SCORM DE 48 HORAS DE ESTUDIO, ASÍ COMO LA ADAPTACIÓN VIRTUAL DE LOS CONTENIDOS Y EL EMPAQUETAMIENTO PARA SER IMPLEMENTADOS EN EL SISTEMA DE APRENDIZAJE LMS MOODLE CON LA QUE CUENTA EL MINISTERIO TIC, CON UN BANCO DE CIENTO CINCUENTA (150) PREGUNTAS PARA SER INCLUIDAS EN LA EVALUACIÓN FINAL DEL MÓDULO | AI22: NO CUMPLE | AL22: SI | AO22: NO | AR22: NO APLICA | AU22: 822.56 | AX22: 0 | BA22: 100 | BD22: SI | BG22: SI | BJ22: NO CUMPLE | BM22: El proponente aportó certificado de experiencia, pero NO CUMPLE con las temáticas del Grupo 1. Por lo tanto, no se puede tener en cuenta esta experiencia porque no cumple con las temáticas propuestas. SUBSANACIÓN: Deberá acreditar la Experiencia conforme a lo establecido en el pliego de condiciones, numeral 4.3.1 EXPERIENCIA.
AR23: SUMATORIA | AU23: =AX19+AX20+AX21+AX22 -> 253.881 | BJ23: NO CUMPLE
A25: 4.3.2. PERSONAL MÍNIMO REQUERIDO:
A27: P E R S O N A L M I N I M O R E Q U ER I D O .
A28: NOMBRES Y APELLIDOS | G28: HOJA DE VIDA SI /NO | J28: CEDULA CIUDADANIA | M28: TITULO PROFESIONAL | Q28: FECHA GRADO | T28: Copia de la Tarjeta o matricula profesional vigente | Y28: Certificado de vigencia de la tarjeta profesional | AD28: APORTA TITULO PROFESIONAL | AI28: NOMBRE O RAZON SOCIAL DEL CONTRATANTE | AN28: CERTIFICADO CUMPLE (cargo y/o rol específico y/o objeto, funciones y/o obligaciones y/o actividades desempeñadas relacionadas con el perfil, y el tiempo laborado y/o de ejecución | AS28: EXPERIENCIA RELACIONADA COMO COORDINADOR | AV28: CERTIFICA MISMO PROPONENTE | AY28: APORTA CONTRATO | BB28: APORTA FORMATO EQUIPO DE TRABAJO | BD28: FECHA INICIO | BG28: FECHA FIN | BJ28: AÑO | BK28: MES | BL28: DIA | BM28: TOTAL TIEMPO EXPERIENCIA | BO28: CUMPLE SI/ NO | BR28: OBSERVACIONES
A29: DIANA PAOLA HERRERA GONZALEZ | G29: SI | J29: SI | M29: PSICOLOGA | Q29: 38076 | T29: SI | Y29: NO APLICA No aplica vigencia de la tarjeta profesional de acuerdo con la Ley 1090 de 2006 | AD29: SI | AI29: RENOVAR FINANCIERA SAS | AN29: SI | AS29: NO | AV29: NO | AY29: NO APLICA | BB29: SI | BD29: 44459 | BG29: 44514 | BJ29: =DATEDIF(BD29,BG29,"Y") -> 0 | BK29: 0 | BL29: 0 | BO29: NO CUMPLE | BR29: No se tiene en cuenta esta experiencia, toda vez que no se ajusta a lo requerido en el perfil
AI30: HOLDING CONSULTANTS DE COLOMBIA | AN30: NO | AS30: NO | AV30: NO | AY30: NO APLICA | BB30: SI | BD30: NO TIENE | BG30: NO TIENE | BJ30: =DATEDIF(BD30,BG30,"Y") -> #VALUE! | BK30: =DATEDIF(BD30,BG30,"YM") -> #VALUE! | BL30: =DATEDIF(BD30,BG30,"MD") -> #VALUE! | BO30: =+IF(BH40>=24,"SI CUMPLE","NO CUMPLE") -> NO CUMPLE | BR30: No se tiene en cuenta esta experiencia, toda vez que no se ajusta a lo requerido en el perfil
AI31: SU TEMPORAL SA | AN31: SI | AS31: NO | AV31: NO | AY31: NO APLICA | BB31: SI | BD31: 38761 | BG31: 39293 | BJ31: 0 | BK31: 0 | BL31: 0 | BO31: =+IF(BH43>=24,"SI CUMPLE","NO CUMPLE") -> NO CUMPLE | BR31: No se tiene en cuenta esta experiencia, toda vez que no se ajusta a lo requerido en el perfil
AI32: MINISTERIO DE SALUD Y PROTECCIÓN SOCIAL (CONTRATOS 758 - 2105, 446 - 2015, 854 - 2014, 279 - 2014) | AN32: SI | AS32: NO | AV32: NO | AY32: NO APLICA | BB32: SI | BJ32: =DATEDIF(BD32,BG32,"Y") -> 0 | BK32: =DATEDIF(BD32,BG32,"YM") -> 0 | BL32: =DATEDIF(BD32,BG32,"MD") -> 0 | BO32: =+IF(BH44>=24,"SI CUMPLE","NO CUMPLE") -> NO CUMPLE | BR32: No se tiene en cuenta esta experiencia, toda vez que no se ajusta a lo requerido en el perfil
AI33: MINISTERIO DE SALUD Y PROTECCIÓN SOCIAL (CONTRATOS 663 - 2013) | AN33: SI | AS33: SI | AV33: NO | AY33: NO APLICA | BB33: SI | BD33: 41583 | BG33: 41851 | BJ33: =DATEDIF(BD33,BG33,"Y") -> 0 | BK33: =DATEDIF(BD33,BG33,"YM") -> 8 | BL33: =DATEDIF(BD33,BG33,"MD") -> 26 | BO33: SI CUMPLE
AI34: MINISTERIO DE SALUD Y PROTECCIÓN SOCIAL (CONTRATOS 394 - 2013) | AN34: SI | AS34: SI | AV34: NO | AY34: NO APLICA | BB34: SI | BD34: 41458 | BG34: 41578 | BJ34: =DATEDIF(BD34,BG34,"Y") -> 0 | BK34: =DATEDIF(BD34,BG34,"YM") -> 3 | BL34: =DATEDIF(BD34,BG34,"MD") -> 28 | BO34: SI CUMPLE
AI35: MINISTERIO DE SALUD Y PROTECCIÓN SOCIAL (CONTRATOS 815-2012) | AN35: SI | AS35: SI | AV35: NO | AY35: NO APLICA | BB35: SI | BD35: 41262 | BG35: 41455 | BJ35: =DATEDIF(BD35,BG35,"Y") -> 0 | BK35: =DATEDIF(BD35,BG35,"YM") -> 6 | BL35: =DATEDIF(BD35,BG35,"MD") -> 11 | BO35: SI CUMPLE
AI36: MINISTERIO DE SALUD Y PROTECCIÓN SOCIAL (CONTRATOS 667-2012) | AN36: SI | AS36: SI | AV36: NO | AY36: NO APLICA | BB36: SI | BD36: 41194 | BG36: 41258 | BJ36: =DATEDIF(BD36,BG36,"Y") -> 0 | BK36: =DATEDIF(BD36,BG36,"YM") -> 2 | BL36: =DATEDIF(BD36,BG36,"MD") -> 3 | BO36: SI CUMPLE
AI37: MINISTERIO DE SALUD Y PROTECCIÓN SOCIAL (CONTRATOS 277-2012) | AN37: SI | AS37: SI | AV37: NO | AY37: NO APLICA | BB37: SI | BD37: 41040 | BG37: 41192 | BJ37: =DATEDIF(BD37,BG37,"Y") -> 0 | BK37: =DATEDIF(BD37,BG37,"YM") -> 4 | BL37: =DATEDIF(BD37,BG37,"MD") -> 29 | BO37: SI CUMPLE
AI38: AQM SAS | AN38: SI | AS38: SI | AV38: NO | AY38: NO APLICA | BB38: SI | BD38: 39786 | BG38: 40710 | BJ38: =DATEDIF(BD38,BG38,"Y") -> 2 | BK38: =DATEDIF(BD38,BG38,"YM") -> 6 | BL38: =DATEDIF(BD38,BG38,"MD") -> 12 | BO38: SI CUMPLE
BD39: TOTAL MESES | BJ39: =SUM(BJ31:BJ38) -> 2 | BK39: =SUM(BK31:BK38) -> 29 | BL39: =SUM(BL31:BL38) -> 109
BJ40: =+BJ39*12 -> 24 | BK40: =+BK39 -> 29 | BL40: =+BL39/30 -> 3.6333333
BD41: TOTAL | BJ41: =+BJ40+BK40+BL40 -> 56.633333 | BK41: MESES | BO41: SI CUMPLE
A43: 4.3.3. SEDES
A45: S E D E S
A46: SEDE | G46: DOCUMENTO SOPORTE | M46: EXPEDIDO | Q46: FECHA EXPEDICION | U46: ÚBICACIÓN DEL INMUEBLE | Y46: BOGOTA | AB46: CUMPLE | AE46: CUMPLE SI/ NO | AH46: OBSERVACIONES
A47: ARRENDADA | G47: CONTRATO DE ARRIENDO | M47: BYH BARON HERNANDEZ Y CIA EN C.S *LIGIA YAZMIN ROBAYO *HENRY PEREZ CARVAJAL GLOBAL TECHNOLOGY SERVICES DTS SA *ROGELIO VELEZ TOBON | Q47: 39797 | U47: BOGOTÁ | Y47: SI | AB47: SI | AE47: =+IF(AB47="SI","SI CUMPLE","NO CUMPLE") -> SI CUMPLE
...

Sheet 7. EAN
A1: CONSOLIDADO
A2: OBJETO | C2: Prestar los servicios de formación y capacitación a los funcionarios de la Superintendencia Nacional de Salud para fortalecer sus competencias, de acuerdo con lo identificado en el Plan Institucional de Capacitación para la vigencia 2024.
A3: GRUPO 1 | C3: Capacitaciones que son de carácter normativo:
A4: TEMATICAS | C4: 1. Actualización en Seguridad Social en salud. | L4: 4. Normatividad sobre gestores farmacéuticos. | W4: 7. Diplomado auditoria forense.
C5: 2. Gestión Financiera en el sector público. | L5: 5. Actualización normativa cobros persuasivos y coactivos. | W5: 8. Sistema Obligatorio de Garantía de la Calidad en Salud.
C6: 3. Actualización Normativa en la función Pública. | L6: 6. Derecho fundamental al debido proceso. | W6: 9. Manejo de recursos en el sector salud.
A8: NOMBRE DEL PROPONENTE | G8: UNIVERSIDAD EAN
A9: NOMBRE DEL REPRESENTANTE LEGAL | G9: BRIGITTTE LUIS GUILLERMO BAPTISTE BALLERA
A10: NIT | G10: 860.026.058-1
A11: MIPYME | G11: NO APLICA
A12: PRESUPUESTO OFICIAL | G12: 226.89
A14: 4.3.1. EXPERIENCIA DEL PROPONENTE
A16: E X P E R I E N C I A
A17: NUMERO CONTRATO | D17: CODIGO UNSPC | G17: ENTIDAD CONTRATANTE | Q17: FECHA INICIO | T17: FECHA FIN | W17: OBJETO CONTRACTUAL ("Prestar los servicios de formación y/o capacitación en cualquiera de las tematicas del grupo 1.") | AI17: CAPACITACION RELACIONADA | AL17: APORTA CERTIFICACION | AO17: EJECUTADA EN CONSORCIO O UNION TEMPORAL | AR17: PORCENTAJE DE PARTICIPACION | AU17: VALOR DEL CONTRATO (ser igual o superior a 226,89 SMMLV) | AX17: N° INSCRIPCIÓN DEL CONTRATO EN EL RUP | BA17: RUP VIGENTE Y EN FIRME | BD17: FORMATO RELACIONES DE CERTIFICACIONES SI/ NO | BG17: CUMPLE SI/ NO | BJ17: OBSERVACIONES
